Workbook
Name _____CHD445: #REF!
Name _____TP10: #REF!
Name _REC1: "Rectángulo 31"
Name acpm: 5000
Name ConseqCat: 0
Name ConseqForMitRisk: 3
Name Estimate_Factor: 1
Name GKJDGDIJZ: "Imagen 3"
Name Last_Row: #N/A
Name OnceThru: 0
Name Payment_Needed: "Pago necesario"
Name PRINT_TITLES_MI: #N/A
Name ProbRange: 0
Name ProbRangeMit: 0
Name Reimbursement: "Reembolso"
Name TotalGastosMensuales: SUM([1]!tblGastos[Cantidad])
Name TotalGastosMensuales_1: SUM([1]!tblGastos[Cantidad])
Name TotalGastosMensuales_2: SUM([1]!tblGastos[Cantidad])
Name TotalGastosMensuales_3: SUM([1]!tblGastos[Cantidad])
Name TotalIngresosMensuales: SUM([1]!tblIngresos[Cantidad])
Name TotalIngresosMensuales_1: SUM([1]!tblIngresos[Cantidad])
Name TotalIngresosMensuales_2: SUM([1]!tblIngresos[Cantidad])
Name TotalIngresosMensuales_3: SUM([1]!tblIngresos[Cantidad])
Name UFrm2InUse: 1
Name uv: 375000

Sheet Cap. 3 acta modi. n. 01
B3: ADECUACION DE LA UNIDAD SANITARIA SEDE GUAYAQUIL A TRAVES DE RECURSOS DE PRIMERA INFANCIA DE LA INSTITUCION EDUCATIVA JUAN LOZANO SANCHEZ DEL MUNICIPIO DE COYAIMA - TOLIMA.
C4: item | D4: descripción | E4: unidad | F4: cantidad | G4: valor unitario | H4: valor total
B5: CAP. 3 | C5: 3 | D5: ADECUACION DE LA UNIDAD SANITARIA SEDE GUAYAQUIL
D6: INICIALES
B7: 3 | C7: 3.1 | D7: Demolición placa en concreto e=0,10 | E7: m2 | F7: ='Memoria Can. cap 3'!K15 -> 12.2591 | G7: 25962.855 | H7: =F7*G7 -> 318281.24
B8: 3 | C8: INP 3,2 | D8: Demolición muro | E8: m2 | F8: ='Memoria Can. cap 3'!K21 -> 10.144 | G8: 22859.233 | H8: =F8*G8 -> 231884.06
B9: 3 | C9: INP 3,3 | D9: picada de baldosa | E9: m2 | F9: ='Memoria Can. cap 3'!K35 -> 27.4977 | G9: 6000 | H9: =F9*G9 -> 164986.2
B10: 3 | C10: 3.4 | D10: Placa de contrapiso E=0,07 m en concreto f'c=210 Kg/cm2 | E10: m2 | F10: ='Memoria Can. cap 3'!K44 -> 9.2837 | G10: 71892.799 | H10: =F10*G10 -> 667431.18
B11: 3 | C11: 3.5 | D11: Excavación manual en material común h=0.0-2.0 m | E11: m3 | F11: ='Memoria Can. cap 3'!K48 -> 0.48 | G11: 59300.343 | H11: =F11*G11 -> 28464.165
D12: PINTURAS
B13: 3 | C13: 3.6 | D13: Suministro e Instalación de Vinilo tipo I a 3 manos | E13: m2 | F13: ='Memoria Can. cap 3'!K84 -> 38.3997 | G13: 13475.409 | H13: =F13*G13 -> 517451.66
B14: 3 | C14: INP 3,7 | D14: Esmalte sobre lamina llena incluye anticorrosivo | E14: m2 | F14: ='Memoria Can. cap 3'!K87 -> 10.8 | G14: 17240.107 | H14: =F14*G14 -> 186193.16
D15: ALISTADOS, ENCHAPE
B16: 3 | C16: 3.8 | D16: Alistado de piso con mortero 1:4 afinado e= 0,02 m | E16: m2 | F16: ='Memoria Can. cap 3'!K100 -> 12.2591 | G16: 31289.94 | H16: =F16*G16 -> 383586.5
B17: 3 | C17: 3.9 | D17: Suministro e instalación de piso cerámica | E17: m2 | F17: ='Memoria Can. cap 3'!K109 -> 12.2591 | G17: 77174.977 | H17: =F17*G17 -> 946095.76
B18: 3 | C18: 3.1 | D18: Suministro e instalación ceramica pared para baño | E18: m2 | F18: ='Memoria Can. cap 3'!K120 -> 18.1923 | G18: 76574.227 | H18: =F18*G18 -> 1393061.3
B19: 3 | C19: INP 3,11 | D19: Mortero 1:3 impermeabilizado para piso placa aerea | E19: m3 | F19: ='Memoria Can. cap 3'!K123 -> 0.483708 | G19: 722953 | H19: =F19*G19 -> 349698.15
D20: INSTALACIÓN DE TUBERIA PRESIÓN
B21: 3 | C21: 3.12 | D21: Puntos de agua fría PVC-P D=1/2" | E21: und | F21: ='Memoria Can. cap 3'!K128 -> 4 | G21: 107780.41 | H21: =F21*G21 -> 431121.64
B22: 3 | C22: 3.13 | D22: Suministro e Instalación de tubería PVC-P D=1/2" RDE 13.5 US | E22: m | F22: ='Memoria Can. cap 3'!K131 -> 12 | G22: 8846.3773 | H22: =F22*G22 -> 106156.53
D23: INSTALACIÓN SANITARIA
B24: 3 | C24: INP 3,14 | D24: Suministro e instalación de ducha, incluye: acoples para ducha, grifería, accesorios y todo lo necesario para su funcionamiento. | E24: und | F24: ='Memoria Can. cap 3'!K137 -> 1 | G24: 170000 | H24: =F24*G24 -> 170000
B25: 3 | C25: 3.15 | D25: Suministro e instalación Punto sanitario de PVC-S D=2" | E25: und | F25: ='Memoria Can. cap 3'!K141 -> 2 | G25: 123002.8 | H25: =F25*G25 -> 246005.6
B26: 3 | C26: 3.16 | D26: Suministro e instalación de tuberías PVC-SNT D=4" y 2", Incluye accesorios. | E26: m | F26: ='Memoria Can. cap 3'!K143 -> 5 | G26: 59762.798 | H26: =F26*G26 -> 298813.99
B27: 3 | C27: 3.17 | D27: Suministro e instalación de sanitario a escala, incluye: acoples para sanitario, grifería, accesorios y todo lo necesario para su funcionamiento. | E27: und | F27: ='Memoria Can. cap 3'!K149 -> 2 | G27: 344409.93 | H27: =F27*G27 -> 688819.87
B28: 3 | C28: INP 3,18 | D28: Arreglo lavamanos | E28: und | F28: ='Memoria Can. cap 3'!K151 -> 1 | G28: 99822.77 | H28: =F28*G28 -> 99822.77
B29: 3 | C29: INP 3,19 | D29: Arreglo puertas | E29: und | F29: ='Memoria Can. cap 3'!K154 -> 5 | G29: 50000 | H29: =F29*G29 -> 250000
D30: Sub total capitulo 3= | H30: =SUM(H7:H29) -> 7477873.8
D33: COSTOS DIRECTOS = | H33: =H30 -> 7477873.8

Sheet Memoria Can. cap 3
B2: ADECUACION DE LA UNIDAD SANITARIA SEDE GUAYAQUIL A TRAVES DE RECURSOS DE PRIMERA INFANCIA DE LA INSTITUCION EDUCATIVA JUAN LOZANO SANCHEZ DEL MUNICIPIO DE COYAIMA - TOLIMA.
B3: Memoria de cantidades
C4: item | D4: descripción | E4: unidad | F4: cantidad | G4: valor unitario | H4: valor total
B5: CAP. 1 | C5: 3 | D5: ADECUACION DE LA UNIDAD SANITARIA SEDE GUAYAQUIL
D6: INICIALES
B7: 1 | C7: 3.1 | D7: Demolición placa en concreto e=0,10 | E7: m2
G9: Largo | H9: Ancho | I9: Alto | J9: Cantidad | K9: Total
G10: =(0.9+5.8+0.69+0.63) -> 8.02 | H10: 0.61 | K10: =G10*H10 -> 4.8922
G11: 1.24 | H11: 0.49 | K11: =G11*H11 -> 0.6076
G12: 1.24 | H12: 0.9 | K12: =(G12*H12) -> 1.116
G13: 0.87 | H13: 1.14 | J13: 4 | K13: =G13*H13*J13 -> 3.9672
G14: 1.51 | H14: 1.11 | K14: =G14*H14 -> 1.6761
K15: =SUM(K10:K14) -> 12.2591
B17: 1 | C17: 3.2 | D17: Demolición muro | E17: m2
G19: 5.1 | I19: 0.8 | J19: 2 | K19: =G19*I19*J19 -> 8.16
H20: 1.24 | I20: 0.8 | J20: 2 | K20: =H20*I20*J20 -> 1.984
K21: =SUM(K19:K20) -> 10.144
B23: 1 | C23: 3.3 | D23: Picada de valdosa | E23: m2
G25: 0.87 | I25: 1.18 | K25: =G25*I25 -> 1.0266 | L25: muro
G26: 1.14 | I26: 1.18 | J26: 2 | K26: =G26*I26*J26 -> 2.6904 | L26: muro
G27: =(0.27+0.06) -> 0.33 | I27: 1.18 | K27: =G27*I27 -> 0.3894 | L27: muro
G28: 0.87 | H28: 1.14 | K28: =G28*H28 -> 0.9918 | L28: piso
K29: =SUM(K25:K28) -> 5.0982 | L29: =K29*4 -> 20.3928
G30: 1.51 | I30: 1.17 | K30: =G30*I30 -> 1.7667 | L30: muro
G31: 1.11 | I31: 1.17 | J31: 2 | K31: =G31*I31*J31 -> 2.5974 | L31: muro
G32: =1.51-0.6 -> 0.91 | I32: 1.17 | K32: =G32*I32 -> 1.0647 | L32: muro
G33: 1.51 | H33: 1.11 | K33: =G33*H33 -> 1.6761 | L33: piso
K34: =SUM(K30:K33) -> 7.1049
K35: =L29+K34 -> 27.4977
B37: 1 | C37: 3.4 | D37: Placa de contrapiso E=0,07 m en concreto f'c=210 Kg/cm2 | E37: m2
G39: =(0.9+5.8+0.69+0.63) -> 8.02 | H39: 0.61 | K39: =G39*H39 -> 4.8922
G40: 1.24 | H40: 0.49 | K40: =G40*H40 -> 0.6076
G41: 1.24 | H41: 0.9 | K41: =(G41*H41) -> 1.116
G42: 0.87 | H42: 1.14 | K42: =G42*H42 -> 0.9918
G43: 1.51 | H43: 1.11 | K43: =G43*H43 -> 1.6761
K44: =SUM(K39:K43) -> 9.2837
B46: 1 | C46: 3.5 | D46: Excavación manual en material común h=0.0-2.0 m | E46: m3
G48: 2 | H48: 0.4 | I48: 0.6 | K48: =G48*H48*I48 -> 0.48
D50: PINTURAS
B53: 1 | C53: 3.6 | D53: Suministro e Instalación de Vinilo tipo I a 3 manos | E53: m2
...
