Workbook

Sheet para present
B2: # INSTRUCTORES | C2: PRESUPUESTO TOTAL | D2: PRESUPUESTO APROBADO
A3: LOGISTICA | B3: 101 | C3: 2.1008699e+09
A4: SERV ADMINISTRA Y SERV FINANCIE | B4: =+'ADICIONES COORDINACIONES'!#REF! -> #REF! | C4: =+'ADICIONES COORDINACIONES'!#REF! -> #REF!
A5: FIN DE SEMANA | B5: =+#REF! -> #REF! | C5: =+#REF! -> #REF!
A6: SALUD | B6: =+#REF! -> #REF! | C6: =+#REF! -> #REF!
A7: HOTELERIA | B7: =+#REF! -> #REF! | C7: =+#REF! -> #REF!
A8: VULNERABLE | B8: =+#REF! -> #REF! | C8: =+#REF! -> #REF! | D8: SOLICITADO POR FALTA DE RECESO | E8: 690751990 | F8: =+E11+E8 -> #REF!
A9: BILINGUISMO | B9: =+BILINGUISMO!I12 -> 2 | C9: =+BILINGUISMO!Q12 -> 43044249
D10: ACTUAL EN BOLSA | E10: FALTANTE
A11: TOTAL | B11: =SUM(B3:B8) -> #REF! | C11: =SUM(C3:C10) -> #REF! | D11: 3626767225 | E11: =+D11-C11 -> #REF! | G11: =+D11/10.5 -> 3.454064e+08 | H11: =+E11/10.5 -> #REF! | I11: 140614197
G12: =+G11/#REF! -> #REF! | I12: =+I11/#REF! -> #REF!
E13: SALDO
A14: DESPLAZADOS | B14: =+#REF! -> #REF! | C14: =+#REF! -> #REF! | D14: 721750000 | E14: =+D14-C14 -> #REF! | H14: =+B11-G12 -> #REF!
A15: ARTICULACIÓN | B15: =+#REF! -> #REF! | C15: =+#REF! -> #REF! | D15: 3292743000 | E15: =+D15-C15 -> #REF!
A16: TOTAL | B16: =SUM(B14:B15) -> #REF!
C17: =+C15+C14+C11 -> #REF! | D17: =+D15+D14+D11 -> 7641260225
D18: =+C17-D17 -> #REF!

Sheet Hoja8
A1: DEPENDENCIA | B1: DESCRIPCION DEP | C1: RUBRO LEY | D1: USO PRESUPUESTAL | E1: DESCRIPCION USO | F1: VALOR
A2: 930210 | B2: desplazados | C2: C-3602-1300-7-0-3602031-02 | D2: 20201003 | E2: OTROS BIENES TRANSPORTABLES (EXCEPTO PRODUCTOS METÁLICOS, MAQUINARIA Y EQUIPO) | F2: 68262500
A3: 930210 | B3: desplazados | C3: C-3602-1300-7-0-3602031-02 | D3: 20201002 | E3: PRODUCTOS ALIMENTICIOS, BEBIDAS Y TABACO; TEXTILES, PRENDAS DE VESTIR Y PRODUCTOS DE CUERO | F3: 40000000
A4: 930223 | B4: Sennova | C4: C-3605-1300-2-0-3605007-02 | D4: 20201003 | E4: OTROS BIENES TRANSPORTABLES (EXCEPTO PRODUCTOS METÁLICOS, MAQUINARIA Y EQUIPO) | F4: 55110000
A5: 930268 | B5: Sennova | C5: C-3605-1300-2-0-3605007-02 | D5: 20201003 | E5: OTROS BIENES TRANSPORTABLES (EXCEPTO PRODUCTOS METÁLICOS, MAQUINARIA Y EQUIPO) | F5: 73804000
A6: 930282 | B6: Sennova | C6: C-3605-1300-2-0-3605007-02 | D6: 20201003 | E6: OTROS BIENES TRANSPORTABLES (EXCEPTO PRODUCTOS METÁLICOS, MAQUINARIA Y EQUIPO) | F6: 2500000
A7: 930211 | B7: Articulación | C7: C-3603-1300-14-0-3603025-02 | D7: 20201002 | E7: PRODUCTOS ALIMENTICIOS, BEBIDAS Y TABACO; TEXTILES, PRENDAS DE VESTIR Y PRODUCTOS DE CUERO | F7: 35338824
A8: 930211 | B8: Articulación | C8: C-3603-1300-14-0-3603025-02 | D8: 20201003 | E8: OTROS BIENES TRANSPORTABLES (EXCEPTO PRODUCTOS METÁLICOS, MAQUINARIA Y EQUIPO) | F8: 24737176
A9: 930245 | B9: Regular | C9: C-3603-1300-14-0-3603025-02 | D9: 20201002 | E9: PRODUCTOS ALIMENTICIOS, BEBIDAS Y TABACO; TEXTILES, PRENDAS DE VESTIR Y PRODUCTOS DE CUERO | F9: 37916667
A10: 930245 | B10: Regular | C10: C-3603-1300-14-0-3603025-02 | D10: 20201003 | E10: OTROS BIENES TRANSPORTABLES (EXCEPTO PRODUCTOS METÁLICOS, MAQUINARIA Y EQUIPO) | F10: 53083333
A11: 930234 | B11: Producción de centros | C11: C-3603-1300-14-0-3603025-02 | D11: 20201002 | E11: PRODUCTOS ALIMENTICIOS, BEBIDAS Y TABACO; TEXTILES, PRENDAS DE VESTIR Y PRODUCTOS DE CUERO | F11: 150000000

Sheet Hoja9
A3: Etiquetas de fila | B3: Suma de VALOR
A4: Articulación | B4: 60076000
A5: desplazados | B5: 108262500
A6: Producción de centros | B6: 150000000
A7: Regular | B7: 91000000
A8: Sennova | B8: 131414000
A9: Total general | B9: 540752500

Sheet EV PRESUPU
B2: # INSTRUCTORES | C2: PRESUPUESTO TOTAL | D2: PRESUPUESTO APROBADO
A3: LOGISTICA | B3: =+' LOGISTIC '!I82 -> 67 | C3: =+' LOGISTIC '!Q82 -> 1.4130633e+09
A4: COMERCIALIZACION | B4: =+#REF! -> #REF! | C4: =+#REF! -> #REF!
A5: SERV ADMINISTRA Y SERV FINANCIE | B5: =+'ADICIONES COORDINACIONES'!#REF! -> #REF! | C5: =+'ADICIONES COORDINACIONES'!#REF! -> #REF!
A6: FIN DE SEMANA | B6: =+#REF! -> #REF! | C6: =+#REF! -> #REF!
A7: SALUD | B7: =+#REF! -> #REF! | C7: =+#REF! -> #REF!
A8: HOTELERIA | B8: =+#REF! -> #REF! | C8: =+#REF! -> #REF!
A9: VULNERABLE | B9: =+#REF! -> #REF! | C9: =+#REF! -> #REF! | E9: 690751990 | F9: =+E12+E9 -> #REF!
A10: BILINGUISMO | B10: =+BILINGUISMO!I12 -> 2 | C10: =+BILINGUISMO!Q12 -> 43044249
E11: FALTANTE
A12: TOTAL | B12: =SUM(B3:B9) -> #REF! | C12: =SUM(C3:C11) -> #REF! | D12: 3626767225 | E12: =+D12-C12 -> #REF! | G12: =+D12/10.5 -> 3.454064e+08 | H12: =+E12/10.5 -> #REF! | I12: 140614197
G13: =+G12/#REF! -> #REF! | I13: =+I12/#REF! -> #REF!
E14: SALDO
A15: DESPLAZADOS | B15: =+#REF! -> #REF! | C15: =+#REF! -> #REF! | D15: 721750000 | E15: =+D15-C15 -> #REF! | H15: =+B12-G13 -> #REF!
A16: ARTICULACIÓN | B16: =+#REF! -> #REF! | C16: =+#REF! -> #REF! | D16: 3292743000 | E16: =+D16-C16 -> #REF!
A17: TOTAL | B17: =SUM(B15:B16) -> #REF!
C18: =+C16+C15+C12 -> #REF! | D18: =+D16+D15+D12 -> 7641260225
D19: =+C18-D18 -> #REF!

Sheet BILINGUISMO
B7: No. ITEM | C7: OBJETO CONTRACTUAL | D7: CONTRATISTA | I7: No. CONTRATISTAS | J7: CONTRATO | Q7: VALOR TOTAL DEL CONTRATO (Valor X Plazo )
D8: OBLIGACIONES PRINCIPALES (Incluir 3) | E8: NIVEL DE FORMACION | F8: FORMACION | G8: MESES EXPERIENCIA LABORAL | H8: MESES EXPERIENCIA DOCENTE | J8: JUSTIFICACIÓN OBJETOS IGUALES | K8: FECHA DE INICIO | L8: FECHA FINAL | M8: PLAZO EN MESES | N8: PLAZO EN DIAS | O8: DIAS RECESO | P8: VALOR MENSUAL/HORA
B9: FAMILIA DE BILINGÜISMO
B10: 1 | C10: PRESTAR SERVICIOS PERSONALES DE CARÁCTER TEMPORAL PARA PLANEAR, EJECUTAR Y ORIENTAR LA FORMACIÓN PROFESIONAL INTEGRAL EN LA FAMILIA IDIOMAS (BILINGÜISMO) QUE PROGRAME EL CENTRO DE FORMACIÓN EN SUS DIFERENTES NIVELES EN MODALIDAD VIRTUAL Y A DISTANCIA, ATENDIENDO LAS POLÍTICAS INSTITUCIONALES Y LA NORMATIVIDAD VIGENTE | D10: • PARTICIPAR EN LA PLANEACIÓN DE LOS PROCESOS FORMATIVOS EN MODALIDAD VIRTUAL Y A DISTANCIA, DE ACUERDO CON LOS LINEAMIENTOS INSTITUCIONALES, PARA EL ÁREA TEMÁTICA DEL OBJETO CONTRACTUAL. • PARTICIPAR CUANDO EL CENTRO DE FORMACIÓN LO REQUIERA, EN JORNADAS DE DISEÑO Y DESARROLLO CURRICULAR DE PROGRAMAS DE FORMACIÓN PROFESIONAL INTEGRAL EN MODALIDAD VIRTUAL Y A DISTANCIA, CONFORME A LAS NECESIDADES NACIONALES Y A LOS LINEAMIENTOS INSTITUCIONALES REQUERIDOS. • EVALUAR LOS APRENDIZAJES PREVIOS CORRESPONDIENTES A LAS FICHAS ASIGNADAS, DE ACUERDO CON LOS PROCEDIMIENTOS, PLAZOS Y HERRAMIENTAS TECNOLÓGICAS QUE LA ENTIDAD DEFINA. • PARTICIPAR CUANDO EL CENTRO DE FORMACIÓN LO REQUIERA, EN PROYECTOS DE INVESTIGACIÓN TÉCNICA Y/O PEDAGÓGICA PARA FORTALECER EL PROCESO DE FORMACIÓN EN MODALIDAD VIRTUAL Y A DISTANCIA. • EJECUTAR LA FORMACIÓN PROFESIONAL INTEGRAL DE ACUERDO CON EL DISEÑO CURRICULAR, DESARROLLO CURRICULAR Y PROYECTO FORMATIVO DE LOS PROGRAMAS VIRTUALES DEL ÁREA TEMÁTICA EN EL OBJETO DEL CONTRATO. • APLICAR ESTRATEGIAS DE ENSEÑANZA, APRENDIZAJE, SEGUIMIENTO Y EVALUACIÓN EN MODALIDAD VIRTUAL Y A DISTANCIA, DE ACUERDO A LOS LINEAMIENTOS PEDAGÓGICOS Y METODOLÓGICOS DE LA ENTIDAD. • EMITIR JUICIO VALORATIVO SOBRE EL NIVEL DE CUMPLIMIENTO DE LOS RESULTADOS DE APRENDIZAJES DE LAS COMPETENCIAS DEL PROGRAMA EN MODALIDAD VIRTUAL Y A DISTANCIA, ADQUIRIDOS POR LOS APRENDICES EN EL DESARROLLO DE SU FORMACIÓN, APLICANDO LOS PROCEDIMIENTOS, PLAZOS Y HERRAMIENTAS TECNOLÓGICAS QUE LA ENTIDAD DEFINA. • REGISTRAR, VERIFICAR Y HACER SEGUIMIENTO OPORTUNO EN EL SISTEMA DE INFORMACIÓN QUE LA ENTIDAD DEFINA PARA LA GESTIÓN DE LA FORMACIÓN PROFESIONAL INTEGRAL EN MODALIDAD VIRTUAL Y A DISTANCIA, MEDIANTE LAS SIGUIENTES ACTIVIDADES: A). VERIFICAR QUE LA TOTALIDAD DE LOS APRENDICES SELECCIONADOS ESTÉN ASOCIADOS A UNA RUTA DE APRENDIZAJE Y SU ESTADO SEA MATRICULADO. B). REGISTRAR JUICIOS EVALUATIVOS, REALIZAR RECONOCIMIENTO DE APRENDIZAJES PREVIOS, PARA LOS APRENDICES NUEVOS, REINTEGRADOS O TRASLADADOS. E). COMUNICAR AL COORDINADOR ACADÉMICO OPORTUNAMENTE ANOMALÍAS, INCONSISTENCIAS, NOVEDADES DE APRENDICES Y HALLAZGOS EN EL REGISTRO DE LA INFORMACIÓN. • APLICAR Y HACER CUMPLIR EL REGLAMENTO DEL APRENDIZ Y EL MANUAL DE CONVIVENCIA INSTAURADO EN LA INSTITUCIÓN. • APOYAR PROCESOS DE REGISTRO CALIFICADO PARA LOS PROGRAMAS DE EDUCACIÓN SUPERIOR DEL ÁREA TEMÁTICA OBJETO DEL PRESENTE CONTRATO, CUANDO EL CENTRO LO REQUIERA. • REALIZAR SEGUIMIENTO A LOS APRENDICES QUE INGRESAN A LA ETAPA PRODUCTIVA EN MODALIDAD VIRTUAL Y A DISTANCIA SEGÚN LA ASIGNACIÓN Y REQUERIMIENTOS DEL CENTRO DE FORMACIÓN. • PARTICIPAR EN LOS PROCESOS DE AUTOEVALUACIÓN DE PROGRAMAS DE FORMACIÓN VIRTUAL Y A DISTANCIA EN EL CENTRO DE FORMACIÓN. • LAS DEMÁS NECESARIAS PARA EL CABAL CUMPLIMIENTO DEL OBJETO CONTRACTUAL. | E10: PROFESIONAL / TECNOLOGO / TECNICO | F10: Todos los instructores de lenguas SENA deben cumplir con las especificaciones de las opciones enunciadas a continuación. Alternativa 1: Tìtulo Profesional univeritario en cualquier nùcleo bàsico de conocimiento. Nivel de Lengua certificado de Mínimo nivel B2 de acuerdo con el MCER en cada una de las 4 habilidades de dominio de lengua (Comprensiòn Lectora, Comprensiòn Escrita, Producciòn Oral, Producciòn Escrita), Los examenes de lengua admitidos deben tener vigencia de 2 años y son aquellos enlistados en la Resolucion 12730 del 28 de junio de 2017 del Ministerio de Educación Nacional. No se aceptan aquellos examenes catalogados en esta resolucion como "Clasificacion (Placement)", "Niños de 7 a 12 años (Young Learners)", "Jovenes (Teenagers)". Alternativa 2: Tìtulo Tecnòlogo en cualquier nùcleo bàsico de conocimiento. Nivel de Lengua certificado de Mínimo nivel B2 de acuerdo con el MCER en cada una de las 4 habilidades de dominio de lengua (Comprensiòn Lectora, Comprensiòn Escrita, Producciòn Oral, Producciòn Escrita), Los examenes de lengua admitidos deben tener vigencia de 2 años y son aquellos enlistados en la Resolucion 12730 del 28 de junio de 2017 del Ministerio de Educación Nacional. No se aceptan aquellos examenes catalogados en esta resolucion como "Clasificacion (Placement)", "Niños de 7 a 12 años (Young Learners)", "Jovenes (Teenagers)". NUCLEO BASICO DE CONOCIMIENTO: Diseño Grafico, Licenciatura en Ciencias de la Educación Especialidad Lenguas Modernas Español - Inglés Licenciatura en Pedagogía Infantil, Licenciatura en idiomas extranjeros, Matemático, Administración de Empresas, Ingeniería de Sistemas, Licenciatura en Ciencias básicas con énfasis en idiomas extranjeros, Licenciatura de Idiomas Extranjeros Especialidad Ingles, Licenciatura en Lengua Extranjera Inglés, Tecnólogo en gestión financiera, Odontologia, Ingenieria electrónica, Licenciatura en Lenguas Modernas Español-Ingles, Licenciatura en Educación Infantil, Derecho, Licenciatura en lenguas modernas, Licenciatura en lengua castellana y comunicación, Ingeniera Industrial, Relaciones Internacionales. Nota 1: Es importante precisar que los instructores contratados sòlo podràn orientar procesos de formaciòn en la lengua extranjera que dominan y de la cual han presentado su certificaciòn de suficiencia en el nivel requerido. Nota 2: Los tutores virtuales que orientaràn formaciòn complementaria virtual o la competencia de inglès en los programas de titulada virtual, adicional a los anteriores criterios deben acreditar capacitaciòn relacionada con tutorìa virtual, no inferior a 40 horas y tener experiencia adicional comprobada de mìnimo 6 meses com tutor virtual. Nota 3: Todos los tìtulos acadèmicos expedidos en un paìs diferente a Colombia deben cumplir con los requisitos y regulaciones de las normas que expida el Ministerio de Educaciòn Nacional y de contrataciòn pùblica. Nota 4: Algunos Centros de Formación realizaron en el pasado contratación de instructores que no cumplían a cabalidad con los perfiles dispuestos en las orientaciones para el Programa de Bilingüismo. Por tal razón los encargados de bilingüismo (e.g. Profesional de bilingüismo del Centro de Formación ) están prestos para apoyar a los Coordinadores del Centro en la verificación del cumplimento de los perfiles de los aspirantes a ser instructores de bilingüismo (hojas de vida, soportes y referencias profesionales) | G10: Alternativa 1 - Título Profesional:. Experiencia laboral: Mínimo 24 meses de experiencia en la instruccion/docencia de la lengua extranjera a impartir. Alternativa 2 - Título Tecnólogo: Experiencia laboral: Mínimo 30 meses de experiencia en la instruccion/docencia de la lengua extranjera a impartir. . | H10: Alternativa 1 - Título Profesional:. Experiencia laboral: Mínimo 24 meses de experiencia relacionados con la docencia de lengua extranjera a impartir. Minimo 6 meses de experiencia como instructor virtual. Alternativa 2 - Título Tecnólogo: Experiencia laboral: Mínimo 30 meses de experiencia relacionados con la docencia de lengua extranjera a impartir. Minimo 6 meses de experiencia como instructor virtual. | I10: 1 | J10: NECESIDADES DE LA FORMACIÓN: Programación por 8 horas (Tiempo Completo) y 6 periodos de asignación | K10: 44013 | L10: 44195 | M10: =+DATEDIF(K10,L10,"M") -> 5 | N10: =+DATEDIF(K10,L10,"MD") -> 29 | P10: 3607060 | Q10: =+(P10*M10+(P10/30*(N10-O10)))*I10 -> 21522125
B11: 2 | C11: PRESTAR SERVICIOS PERSONALES DE CARÁCTER TEMPORAL PARA PLANEAR, EJECUTAR Y ORIENTAR LA FORMACIÓN PROFESIONAL INTEGRAL EN LA FAMILIA IDIOMAS (BILINGÜISMO) QUE PROGRAME EL CENTRO DE FORMACIÓN EN SUS DIFERENTES NIVELES EN MODALIDAD VIRTUAL Y A DISTANCIA, ATENDIENDO LAS POLÍTICAS INSTITUCIONALES Y LA NORMATIVIDAD VIGENTE | D11: • PARTICIPAR EN LA PLANEACIÓN DE LOS PROCESOS FORMATIVOS EN MODALIDAD VIRTUAL Y A DISTANCIA, DE ACUERDO CON LOS LINEAMIENTOS INSTITUCIONALES, PARA EL ÁREA TEMÁTICA DEL OBJETO CONTRACTUAL. • PARTICIPAR CUANDO EL CENTRO DE FORMACIÓN LO REQUIERA, EN JORNADAS DE DISEÑO Y DESARROLLO CURRICULAR DE PROGRAMAS DE FORMACIÓN PROFESIONAL INTEGRAL EN MODALIDAD VIRTUAL Y A DISTANCIA, CONFORME A LAS NECESIDADES NACIONALES Y A LOS LINEAMIENTOS INSTITUCIONALES REQUERIDOS. • EVALUAR LOS APRENDIZAJES PREVIOS CORRESPONDIENTES A LAS FICHAS ASIGNADAS, DE ACUERDO CON LOS PROCEDIMIENTOS, PLAZOS Y HERRAMIENTAS TECNOLÓGICAS QUE LA ENTIDAD DEFINA. • PARTICIPAR CUANDO EL CENTRO DE FORMACIÓN LO REQUIERA, EN PROYECTOS DE INVESTIGACIÓN TÉCNICA Y/O PEDAGÓGICA PARA FORTALECER EL PROCESO DE FORMACIÓN EN MODALIDAD VIRTUAL Y A DISTANCIA. • EJECUTAR LA FORMACIÓN PROFESIONAL INTEGRAL DE ACUERDO CON EL DISEÑO CURRICULAR, DESARROLLO CURRICULAR Y PROYECTO FORMATIVO DE LOS PROGRAMAS VIRTUALES DEL ÁREA TEMÁTICA EN EL OBJETO DEL CONTRATO. • APLICAR ESTRATEGIAS DE ENSEÑANZA, APRENDIZAJE, SEGUIMIENTO Y EVALUACIÓN EN MODALIDAD VIRTUAL Y A DISTANCIA, DE ACUERDO A LOS LINEAMIENTOS PEDAGÓGICOS Y METODOLÓGICOS DE LA ENTIDAD. • EMITIR JUICIO VALORATIVO SOBRE EL NIVEL DE CUMPLIMIENTO DE LOS RESULTADOS DE APRENDIZAJES DE LAS COMPETENCIAS DEL PROGRAMA EN MODALIDAD VIRTUAL Y A DISTANCIA, ADQUIRIDOS POR LOS APRENDICES EN EL DESARROLLO DE SU FORMACIÓN, APLICANDO LOS PROCEDIMIENTOS, PLAZOS Y HERRAMIENTAS TECNOLÓGICAS QUE LA ENTIDAD DEFINA. • REGISTRAR, VERIFICAR Y HACER SEGUIMIENTO OPORTUNO EN EL SISTEMA DE INFORMACIÓN QUE LA ENTIDAD DEFINA PARA LA GESTIÓN DE LA FORMACIÓN PROFESIONAL INTEGRAL EN MODALIDAD VIRTUAL Y A DISTANCIA, MEDIANTE LAS SIGUIENTES ACTIVIDADES: A). VERIFICAR QUE LA TOTALIDAD DE LOS APRENDICES SELECCIONADOS ESTÉN ASOCIADOS A UNA RUTA DE APRENDIZAJE Y SU ESTADO SEA MATRICULADO. B). REGISTRAR JUICIOS EVALUATIVOS, REALIZAR RECONOCIMIENTO DE APRENDIZAJES PREVIOS, PARA LOS APRENDICES NUEVOS, REINTEGRADOS O TRASLADADOS. E). COMUNICAR AL COORDINADOR ACADÉMICO OPORTUNAMENTE ANOMALÍAS, INCONSISTENCIAS, NOVEDADES DE APRENDICES Y HALLAZGOS EN EL REGISTRO DE LA INFORMACIÓN. • APLICAR Y HACER CUMPLIR EL REGLAMENTO DEL APRENDIZ Y EL MANUAL DE CONVIVENCIA INSTAURADO EN LA INSTITUCIÓN. • APOYAR PROCESOS DE REGISTRO CALIFICADO PARA LOS PROGRAMAS DE EDUCACIÓN SUPERIOR DEL ÁREA TEMÁTICA OBJETO DEL PRESENTE CONTRATO, CUANDO EL CENTRO LO REQUIERA. • REALIZAR SEGUIMIENTO A LOS APRENDICES QUE INGRESAN A LA ETAPA PRODUCTIVA EN MODALIDAD VIRTUAL Y A DISTANCIA SEGÚN LA ASIGNACIÓN Y REQUERIMIENTOS DEL CENTRO DE FORMACIÓN. • PARTICIPAR EN LOS PROCESOS DE AUTOEVALUACIÓN DE PROGRAMAS DE FORMACIÓN VIRTUAL Y A DISTANCIA EN EL CENTRO DE FORMACIÓN. • LAS DEMÁS NECESARIAS PARA EL CABAL CUMPLIMIENTO DEL OBJETO CONTRACTUAL. | E11: PROFESIONAL / TECNOLOGO / TECNICO | F11: Todos los instructores de lenguas SENA deben cumplir con las especificaciones de las opciones enunciadas a continuación. Alternativa 1: Tìtulo Profesional univeritario en cualquier nùcleo bàsico de conocimiento. Nivel de Lengua certificado de Mínimo nivel B2 de acuerdo con el MCER en cada una de las 4 habilidades de dominio de lengua (Comprensiòn Lectora, Comprensiòn Escrita, Producciòn Oral, Producciòn Escrita), Los examenes de lengua admitidos deben tener vigencia de 2 años y son aquellos enlistados en la Resolucion 12730 del 28 de junio de 2017 del Ministerio de Educación Nacional. No se aceptan aquellos examenes catalogados en esta resolucion como "Clasificacion (Placement)", "Niños de 7 a 12 años (Young Learners)", "Jovenes (Teenagers)". Alternativa 2: Tìtulo Tecnòlogo en cualquier nùcleo bàsico de conocimiento. Nivel de Lengua certificado de Mínimo nivel B2 de acuerdo con el MCER en cada una de las 4 habilidades de dominio de lengua (Comprensiòn Lectora, Comprensiòn Escrita, Producciòn Oral, Producciòn Escrita), Los examenes de lengua admitidos deben tener vigencia de 2 años y son aquellos enlistados en la Resolucion 12730 del 28 de junio de 2017 del Ministerio de Educación Nacional. No se aceptan aquellos examenes catalogados en esta resolucion como "Clasificacion (Placement)", "Niños de 7 a 12 años (Young Learners)", "Jovenes (Teenagers)". NUCLEO BASICO DE CONOCIMIENTO: Diseño Grafico, Licenciatura en Ciencias de la Educación Especialidad Lenguas Modernas Español - Inglés Licenciatura en Pedagogía Infantil, Licenciatura en idiomas extranjeros, Matemático, Administración de Empresas, Ingeniería de Sistemas, Licenciatura en Ciencias básicas con énfasis en idiomas extranjeros, Licenciatura de Idiomas Extranjeros Especialidad Ingles, Licenciatura en Lengua Extranjera Inglés, Tecnólogo en gestión financiera, Odontologia, Ingenieria electrónica, Licenciatura en Lenguas Modernas Español-Ingles, Licenciatura en Educación Infantil, Derecho, Licenciatura en lenguas modernas, Licenciatura en lengua castellana y comunicación, Ingeniera Industrial, Relaciones Internacionales. Nota 1: Es importante precisar que los instructores contratados sòlo podràn orientar procesos de formaciòn en la lengua extranjera que dominan y de la cual han presentado su certificaciòn de suficiencia en el nivel requerido. Nota 2: Los tutores virtuales que orientaràn formaciòn complementaria virtual o la competencia de inglès en los programas de titulada virtual, adicional a los anteriores criterios deben acreditar capacitaciòn relacionada con tutorìa virtual, no inferior a 40 horas y tener experiencia adicional comprobada de mìnimo 6 meses com tutor virtual. Nota 3: Todos los tìtulos acadèmicos expedidos en un paìs diferente a Colombia deben cumplir con los requisitos y regulaciones de las normas que expida el Ministerio de Educaciòn Nacional y de contrataciòn pùblica. Nota 4: Algunos Centros de Formación realizaron en el pasado contratación de instructores que no cumplían a cabalidad con los perfiles dispuestos en las orientaciones para el Programa de Bilingüismo. Por tal razón los encargados de bilingüismo (e.g. Profesional de bilingüismo del Centro de Formación ) están prestos para apoyar a los Coordinadores del Centro en la verificación del cumplimento de los perfiles de los aspirantes a ser instructores de bilingüismo (hojas de vida, soportes y referencias profesionales) | G11: Alternativa 1 - Título Profesional:. Experiencia laboral: Mínimo 24 meses de experiencia en la instruccion/docencia de la lengua extranjera a impartir. Alternativa 2 - Título Tecnólogo: Experiencia laboral: Mínimo 30 meses de experiencia en la instruccion/docencia de la lengua extranjera a impartir. . | H11: Alternativa 1 - Título Profesional:. Experiencia laboral: Mínimo 24 meses de experiencia relacionados con la docencia de lengua extranjera a impartir. Minimo 6 meses de experiencia como instructor virtual. Alternativa 2 - Título Tecnólogo: Experiencia laboral: Mínimo 30 meses de experiencia relacionados con la docencia de lengua extranjera a impartir. Minimo 6 meses de experiencia como instructor virtual. | I11: 1 | J11: NECESIDADES DE LA FORMACIÓN: Programación por 8 horas (Tiempo Completo) y 6 periodos de asignación | K11: 44013 | L11: 44195 | M11: =+DATEDIF(K11,L11,"M") -> 5 | N11: =+DATEDIF(K11,L11,"MD") -> 29 | P11: 3607060 | Q11: =+(P11*M11+(P11/30*(N11-O11)))*I11 -> 21522125
B12: TOTAL | I12: =SUM(I10:I11) -> 2 | Q12: =SUM(Q10:Q11) -> 43044249
C14: YIZY YELINE CORTES PADILLA SUBDIRECTOR CENTRO DE COMERCIO Y SERVICIOS (E)
P16: 744497184
P18: 899600764
P21: =+P18-P16 -> 155103580

Sheet  LOGISTIC 
B10: No. ITEM | C10: OBJETO CONTRACTUAL | D10: CONTRATISTA | I10: No. CONTRATISTAS | J10: CONTRATO | Q10: VALOR TOTAL DEL CONTRATO (Valor X Plazo )
D11: OBLIGACIONES PRINCIPALES (Incluir 3) | E11: NIVEL DE FORMACION | F11: FORMACION | G11: MESES EXPERIENCIA LABORAL | H11: MESES EXPERIENCIA DOCENTE | J11: JUSTIFICACIÓN OBJETOS IGUALES | K11: FECHA DE INICIO | L11: FECHA FINAL | M11: PLAZO EN MESES | N11: PLAZO EN DIAS | O11: DIAS RECESO | P11: VALOR MENSUAL/HORA
C12: LOGISTICA
B13: 3 | C13: PRESTAR SERVICIOS PERSONALES DE CARÁCTER TEMPORAL PARA PLANEAR Y ORIENTAR LA FORMACIÓN PROFESIONAL INTEGRAL, EN EL AREA DE GESTIÓN LOGÍSTICA QUE PROGRAME EL CENTRO DE COMERCIO Y SERVICIOS DEL SENA REGIONAL ATLANTICO EN SUS DIFERENTES NIVELES Y MODALIDADES, ATENDIENDO LAS POLÍTICAS INSTITUCIONALES Y LA NORMATIVIDAD VIGENTE | D13: 1. Desarrollar actividades de formación profesional en los programas definidos por el centro. 2. Entregar al equipo de SOFIA PLUS, la información requerida para la asignación de rol y disponibilidad en el aplicativo 3. Hacer la evaluación correspondiente a los cursos asignados. | E13: PROFESIONAL O TECNOLOGO | F13: "El programa requiere de un equipo de instructores Técnicos, conformado por: Profesional en áreas relacionadas con los procesos de Compras y suministros, tales como: Ingeniero industrial, ingenieros agroindustrial, ingeneria quimica, ingenieros de alimentos, administradores de empresa y ciencias afines con educación en logística. (Opción 2). Tecnólogo en Logística o Mercadeo, Seis semestres o su equivalente en Ingeniería industrial o profesiones afines, Certificación laboral en normas de competencia laboral relacionadas con la titulación de Dirección de compras." Formación Pedagogica Básica Formación por proyectos Formación Ambientes Virtuales de Aprendizaje | G13: "Mínimo 24 meses de experiencia laboral en el área de formación motivo de la contratación. (Opción 2). Mínimo 36 meses de los cuales certifique experiencia laboral o especialización relacionada con el objeto de la formación." | H13: Mínimo 12 meses de experiencia docente en el SENA o en instituciones de educación reconocidas por el MEN | I13: 1 | J13: necesidades de la formación | K13: 44013 | L13: 44183 | M13: =+DATEDIF(K13,L13,"M") -> 5 | N13: =+DATEDIF(K13,L13,"MD") -> 17 | P13: 3607060 | Q13: =+P13*M13+(P13/30*N13)*I13 -> 20079301
B14: 4 | C14: PRESTAR SERVICIOS PERSONALES DE CARÁCTER TEMPORAL PARA PLANEAR Y ORIENTAR LA FORMACIÓN PROFESIONAL INTEGRAL, EN EL AREA DE GESTIÓN LOGÍSTICA QUE PROGRAME EL CENTRO DE COMERCIO Y SERVICIOS DEL SENA REGIONAL ATLANTICO EN SUS DIFERENTES NIVELES Y MODALIDADES, ATENDIENDO LAS POLÍTICAS INSTITUCIONALES Y LA NORMATIVIDAD VIGENTE | D14: 1. Desarrollar actividades de formación profesional en los programas definidos por el centro. 2. Entregar al equipo de SOFIA PLUS, la información requerida para la asignación de rol y disponibilidad en el aplicativo 3. Hacer la evaluación correspondiente a los cursos asignados. | E14: PROFESIONAL O TECNOLOGO | F14: "El programa requiere de un equipo de instructores Técnicos, conformado por: Profesional en áreas relacionadas con los procesos de Compras y suministros, tales como: Ingeniero industrial, ingenieros agroindustrial, ingeneria quimica, ingenieros de alimentos, administradores de empresa y ciencias afines con educación en logística. (Opción 2). Tecnólogo en Logística o Mercadeo, Seis semestres o su equivalente en Ingeniería industrial o profesiones afines, Certificación laboral en normas de competencia laboral relacionadas con la titulación de Dirección de compras." Formación Pedagogica Básica Formación por proyectos Formación Ambientes Virtuales de Aprendizaje | G14: "Mínimo 24 meses de experiencia laboral en el área de formación motivo de la contratación. (Opción 2). Mínimo 36 meses de los cuales certifique experiencia laboral o especialización relacionada con el objeto de la formación." | H14: Mínimo 12 meses de experiencia docente en el SENA o en instituciones de educación reconocidas por el MEN | I14: 1 | J14: necesidades de la formación | K14: 44013 | L14: 44183 | M14: =+DATEDIF(K14,L14,"M") -> 5 | N14: =+DATEDIF(K14,L14,"MD") -> 17 | P14: 3607060 | Q14: =+(P14*M14+(P14/30*N14))*I14 -> 20079301
B15: 5 | C15: PRESTAR SERVICIOS PERSONALES DE CARÁCTER TEMPORAL PARA PLANEAR Y ORIENTAR LA FORMACIÓN PROFESIONAL INTEGRAL, EN EL AREA DE GESTIÓN LOGÍSTICA QUE PROGRAME EL CENTRO DE COMERCIO Y SERVICIOS DEL SENA REGIONAL ATLANTICO EN SUS DIFERENTES NIVELES Y MODALIDADES, ATENDIENDO LAS POLÍTICAS INSTITUCIONALES Y LA NORMATIVIDAD VIGENTE | D15: 1. Desarrollar actividades de formación profesional en los programas definidos por el centro. 2. Entregar al equipo de SOFIA PLUS, la información requerida para la asignación de rol y disponibilidad en el aplicativo 3. Hacer la evaluación correspondiente a los cursos asignados. | E15: PROFESIONAL O TECNOLOGO | F15: "El programa requiere de un equipo de instructores Técnicos, conformado por: Profesional en áreas relacionadas con los procesos de Compras y suministros, tales como: Ingeniero industrial, ingenieros agroindustrial, ingeneria quimica, ingenieros de alimentos, administradores de empresa y ciencias afines con educación en logística. (Opción 2). Tecnólogo en Logística o Mercadeo, Seis semestres o su equivalente en Ingeniería industrial o profesiones afines, Certificación laboral en normas de competencia laboral relacionadas con la titulación de Dirección de compras." Formación Pedagogica Básica Formación por proyectos Formación Ambientes Virtuales de Aprendizaje | G15: "Mínimo 24 meses de experiencia laboral en el área de formación motivo de la contratación. (Opción 2). Mínimo 36 meses de los cuales certifique experiencia laboral o especialización relacionada con el objeto de la formación." | H15: Mínimo 12 meses de experiencia docente en el SENA o en instituciones de educación reconocidas por el MEN | I15: 1 | J15: necesidades de la formación | K15: 44013 | L15: 44183 | M15: =+DATEDIF(K15,L15,"M") -> 5 | N15: =+DATEDIF(K15,L15,"MD") -> 17 | P15: 3607060 | Q15: =+(P15*M15+(P15/30*N15))*I15 -> 20079301
B16: 6 | C16: PRESTAR SERVICIOS PERSONALES DE CARÁCTER TEMPORAL PARA PLANEAR Y ORIENTAR LA FORMACIÓN PROFESIONAL INTEGRAL, EN EL AREA DE GESTIÓN LOGÍSTICA QUE PROGRAME EL CENTRO DE COMERCIO Y SERVICIOS DEL SENA REGIONAL ATLANTICO EN SUS DIFERENTES NIVELES Y MODALIDADES, ATENDIENDO LAS POLÍTICAS INSTITUCIONALES Y LA NORMATIVIDAD VIGENTE | D16: 1. Desarrollar actividades de formación profesional en los programas definidos por el centro. 2. Entregar al equipo de SOFIA PLUS, la información requerida para la asignación de rol y disponibilidad en el aplicativo 3. Hacer la evaluación correspondiente a los cursos asignados. | E16: PROFESIONAL O TECNOLOGO | F16: "El programa requiere de un equipo de instructores Técnicos, conformado por: Profesional en áreas relacionadas con los procesos de Compras y suministros, tales como: Ingeniero industrial, ingenieros agroindustrial, ingeneria quimica, ingenieros de alimentos, administradores de empresa y ciencias afines con educación en logística. (Opción 2). Tecnólogo en Logística o Mercadeo, Seis semestres o su equivalente en Ingeniería industrial o profesiones afines, Certificación laboral en normas de competencia laboral relacionadas con la titulación de Dirección de compras." Formación Pedagogica Básica Formación por proyectos Formación Ambientes Virtuales de Aprendizaje | G16: "Mínimo 24 meses de experiencia laboral en el área de formación motivo de la contratación. (Opción 2). Mínimo 36 meses de los cuales certifique experiencia laboral o especialización relacionada con el objeto de la formación." | H16: Mínimo 12 meses de experiencia docente en el SENA o en instituciones de educación reconocidas por el MEN | I16: 1 | J16: necesidades de la formación | K16: 44013 | L16: 44183 | M16: =+DATEDIF(K16,L16,"M") -> 5 | N16: =+DATEDIF(K16,L16,"MD") -> 17 | P16: 3607060 | Q16: =+(P16*M16+(P16/30*N16))*I16 -> 20079301
B17: 7 | C17: PRESTAR SERVICIOS PERSONALES DE CARÁCTER TEMPORAL PARA PLANEAR Y ORIENTAR LA FORMACIÓN PROFESIONAL INTEGRAL, EN EL AREA DE GESTIÓN LOGÍSTICA QUE PROGRAME EL CENTRO DE COMERCIO Y SERVICIOS DEL SENA REGIONAL ATLANTICO EN SUS DIFERENTES NIVELES Y MODALIDADES, ATENDIENDO LAS POLÍTICAS INSTITUCIONALES Y LA NORMATIVIDAD VIGENTE | D17: 1. Desarrollar actividades de formación profesional en los programas definidos por el centro. 2. Entregar al equipo de SOFIA PLUS, la información requerida para la asignación de rol y disponibilidad en el aplicativo 3. Hacer la evaluación correspondiente a los cursos asignados. | E17: PROFESIONAL O TECNOLOGO | F17: "El programa requiere de un equipo de instructores Técnicos, conformado por: Profesional en áreas relacionadas con los procesos de Compras y suministros, tales como: Ingeniero industrial, ingenieros agroindustrial, ingeneria quimica, ingenieros de alimentos, administradores de empresa y ciencias afines con educación en logística. (Opción 2). Tecnólogo en Logística o Mercadeo, Seis semestres o su equivalente en Ingeniería industrial o profesiones afines, Certificación laboral en normas de competencia laboral relacionadas con la titulación de Dirección de compras." Formación Pedagogica Básica Formación por proyectos Formación Ambientes Virtuales de Aprendizaje | G17: "Mínimo 24 meses de experiencia laboral en el área de formación motivo de la contratación. (Opción 2). Mínimo 36 meses de los cuales certifique experiencia laboral o especialización relacionada con el objeto de la formación." | H17: Mínimo 12 meses de experiencia docente en el SENA o en instituciones de educación reconocidas por el MEN | I17: 1 | J17: necesidades de la formación | K17: 44013 | L17: 44183 | M17: =+DATEDIF(K17,L17,"M") -> 5 | N17: =+DATEDIF(K17,L17,"MD") -> 17 | P17: 3607060 | Q17: =+(P17*M17+(P17/30*N17))*I17 -> 20079301
B18: 8 | C18: PRESTAR SERVICIOS PERSONALES DE CARÁCTER TEMPORAL PARA PLANEAR Y ORIENTAR LA FORMACIÓN PROFESIONAL INTEGRAL, EN EL AREA DE GESTIÓN LOGÍSTICA QUE PROGRAME EL CENTRO DE COMERCIO Y SERVICIOS DEL SENA REGIONAL ATLANTICO EN SUS DIFERENTES NIVELES Y MODALIDADES, ATENDIENDO LAS POLÍTICAS INSTITUCIONALES Y LA NORMATIVIDAD VIGENTE | D18: 1. Desarrollar actividades de formación profesional en los programas definidos por el centro. 2. Entregar al equipo de SOFIA PLUS, la información requerida para la asignación de rol y disponibilidad en el aplicativo 3. Hacer la evaluación correspondiente a los cursos asignados. | E18: PROFESIONAL O TECNOLOGO | F18: "El programa requiere de un equipo de instructores Técnicos, conformado por: Profesional en áreas relacionadas con los procesos de Compras y suministros, tales como: Ingeniero industrial, ingenieros agroindustrial, ingeneria quimica, ingenieros de alimentos, administradores de empresa y ciencias afines con educación en logística. (Opción 2). Tecnólogo en Logística o Mercadeo, Seis semestres o su equivalente en Ingeniería industrial o profesiones afines, Certificación laboral en normas de competencia laboral relacionadas con la titulación de Dirección de compras." Formación Pedagogica Básica Formación por proyectos Formación Ambientes Virtuales de Aprendizaje | G18: "Mínimo 24 meses de experiencia laboral en el área de formación motivo de la contratación. (Opción 2). Mínimo 36 meses de los cuales certifique experiencia laboral o especialización relacionada con el objeto de la formación." | H18: Mínimo 12 meses de experiencia docente en el SENA o en instituciones de educación reconocidas por el MEN | I18: 1 | J18: necesidades de la formación | K18: 44013 | L18: 44183 | M18: =+DATEDIF(K18,L18,"M") -> 5 | N18: =+DATEDIF(K18,L18,"MD") -> 17 | P18: 3607060 | Q18: =+(P18*M18+(P18/30*N18))*I18 -> 20079301
B19: 9 | C19: PRESTAR SERVICIOS PERSONALES DE CARÁCTER TEMPORAL PARA PLANEAR Y ORIENTAR LA FORMACIÓN PROFESIONAL INTEGRAL, EN EL AREA DE GESTIÓN LOGÍSTICA QUE PROGRAME EL CENTRO DE COMERCIO Y SERVICIOS DEL SENA REGIONAL ATLANTICO EN SUS DIFERENTES NIVELES Y MODALIDADES, ATENDIENDO LAS POLÍTICAS INSTITUCIONALES Y LA NORMATIVIDAD VIGENTE | D19: 1. Desarrollar actividades de formación profesional en los programas definidos por el centro. 2. Entregar al equipo de SOFIA PLUS, la información requerida para la asignación de rol y disponibilidad en el aplicativo 3. Hacer la evaluación correspondiente a los cursos asignados. | E19: PROFESIONAL O TECNOLOGO | F19: "El programa requiere de un equipo de instructores Técnicos, conformado por: Profesional en áreas relacionadas con los procesos de Compras y suministros, tales como: Ingeniero industrial, ingenieros agroindustrial, ingeneria quimica, ingenieros de alimentos, administradores de empresa y ciencias afines con educación en logística. (Opción 2). Tecnólogo en Logística o Mercadeo, Seis semestres o su equivalente en Ingeniería industrial o profesiones afines, Certificación laboral en normas de competencia laboral relacionadas con la titulación de Dirección de compras." Formación Pedagogica Básica Formación por proyectos Formación Ambientes Virtuales de Aprendizaje | G19: "Mínimo 24 meses de experiencia laboral en el área de formación motivo de la contratación. (Opción 2). Mínimo 36 meses de los cuales certifique experiencia laboral o especialización relacionada con el objeto de la formación." | H19: Mínimo 12 meses de experiencia docente en el SENA o en instituciones de educación reconocidas por el MEN | I19: 1 | J19: necesidades de la formación | K19: 44013 | L19: 44183 | M19: =+DATEDIF(K19,L19,"M") -> 5 | N19: =+DATEDIF(K19,L19,"MD") -> 17 | P19: 3607060 | Q19: =+(P19*M19+(P19/30*N19))*I19 -> 20079301
B20: 10 | C20: PRESTAR SERVICIOS PERSONALES DE CARÁCTER TEMPORAL PARA PLANEAR Y ORIENTAR LA FORMACIÓN PROFESIONAL INTEGRAL, EN EL AREA DE GESTIÓN LOGÍSTICA QUE PROGRAME EL CENTRO DE COMERCIO Y SERVICIOS DEL SENA REGIONAL ATLANTICO EN SUS DIFERENTES NIVELES Y MODALIDADES, ATENDIENDO LAS POLÍTICAS INSTITUCIONALES Y LA NORMATIVIDAD VIGENTE | D20: 1. Desarrollar actividades de formación profesional en los programas definidos por el centro. 2. Entregar al equipo de SOFIA PLUS, la información requerida para la asignación de rol y disponibilidad en el aplicativo 3. Hacer la evaluación correspondiente a los cursos asignados. | E20: PROFESIONAL O TECNOLOGO | F20: "El programa requiere de un equipo de instructores Técnicos, conformado por: Profesional en áreas relacionadas con los procesos de Compras y suministros, tales como: Ingeniero industrial, ingenieros agroindustrial, ingeneria quimica, ingenieros de alimentos, administradores de empresa y ciencias afines con educación en logística. (Opción 2). Tecnólogo en Logística o Mercadeo, Seis semestres o su equivalente en Ingeniería industrial o profesiones afines, Certificación laboral en normas de competencia laboral relacionadas con la titulación de Dirección de compras." Formación Pedagogica Básica Formación por proyectos Formación Ambientes Virtuales de Aprendizaje | G20: "Mínimo 24 meses de experiencia laboral en el área de formación motivo de la contratación. (Opción 2). Mínimo 36 meses de los cuales certifique experiencia laboral o especialización relacionada con el objeto de la formación." | H20: Mínimo 12 meses de experiencia docente en el SENA o en instituciones de educación reconocidas por el MEN | I20: 1 | J20: necesidades de la formación | K20: 44013 | L20: 44183 | M20: =+DATEDIF(K20,L20,"M") -> 5 | N20: =+DATEDIF(K20,L20,"MD") -> 17 | P20: 3607060 | Q20: =+(P20*M20+(P20/30*N20))*I20 -> 20079301
B21: 11 | C21: PRESTAR SERVICIOS PERSONALES DE CARÁCTER TEMPORAL PARA PLANEAR Y ORIENTAR LA FORMACIÓN PROFESIONAL INTEGRAL, EN EL AREA DE GESTIÓN LOGÍSTICA QUE PROGRAME EL CENTRO DE COMERCIO Y SERVICIOS DEL SENA REGIONAL ATLANTICO EN SUS DIFERENTES NIVELES Y MODALIDADES, ATENDIENDO LAS POLÍTICAS INSTITUCIONALES Y LA NORMATIVIDAD VIGENTE | D21: 1. Desarrollar actividades de formación profesional en los programas definidos por el centro. 2. Entregar al equipo de SOFIA PLUS, la información requerida para la asignación de rol y disponibilidad en el aplicativo 3. Hacer la evaluación correspondiente a los cursos asignados. | E21: PROFESIONAL O TECNOLOGO | F21: "El programa requiere de un equipo de instructores Técnicos, conformado por: Profesional en áreas relacionadas con los procesos de Compras y suministros, tales como: Ingeniero industrial, ingenieros agroindustrial, ingeneria quimica, ingenieros de alimentos, administradores de empresa y ciencias afines con educación en logística. (Opción 2). Tecnólogo en Logística o Mercadeo, Seis semestres o su equivalente en Ingeniería industrial o profesiones afines, Certificación laboral en normas de competencia laboral relacionadas con la titulación de Dirección de compras." Formación Pedagogica Básica Formación por proyectos Formación Ambientes Virtuales de Aprendizaje | G21: "Mínimo 24 meses de experiencia laboral en el área de formación motivo de la contratación. (Opción 2). Mínimo 36 meses de los cuales certifique experiencia laboral o especialización relacionada con el objeto de la formación." | H21: Mínimo 12 meses de experiencia docente en el SENA o en instituciones de educación reconocidas por el MEN | I21: 1 | J21: necesidades de la formación | K21: 44013 | L21: 44183 | M21: =+DATEDIF(K21,L21,"M") -> 5 | N21: =+DATEDIF(K21,L21,"MD") -> 17 | P21: 3607060 | Q21: =+(P21*M21+(P21/30*N21))*I21 -> 20079301
B22: 12 | C22: PRESTAR SERVICIOS PERSONALES DE CARÁCTER TEMPORAL PARA PLANEAR Y ORIENTAR LA FORMACIÓN PROFESIONAL INTEGRAL, EN EL AREA DE GESTIÓN LOGÍSTICA QUE PROGRAME EL CENTRO DE COMERCIO Y SERVICIOS DEL SENA REGIONAL ATLANTICO EN SUS DIFERENTES NIVELES Y MODALIDADES, ATENDIENDO LAS POLÍTICAS INSTITUCIONALES Y LA NORMATIVIDAD VIGENTE | D22: 1. Desarrollar actividades de formación profesional en los programas definidos por el centro. 2. Entregar al equipo de SOFIA PLUS, la información requerida para la asignación de rol y disponibilidad en el aplicativo 3. Hacer la evaluación correspondiente a los cursos asignados. | E22: PROFESIONAL O TECNOLOGO | F22: "El programa requiere de un equipo de instructores Técnicos, conformado por: Profesional en áreas relacionadas con los procesos de Compras y suministros, tales como: Ingeniero industrial, ingenieros agroindustrial, ingeneria quimica, ingenieros de alimentos, administradores de empresa y ciencias afines con educación en logística. (Opción 2). Tecnólogo en Logística o Mercadeo, Seis semestres o su equivalente en Ingeniería industrial o profesiones afines, Certificación laboral en normas de competencia laboral relacionadas con la titulación de Dirección de compras." Formación Pedagogica Básica Formación por proyectos Formación Ambientes Virtuales de Aprendizaje | G22: "Mínimo 24 meses de experiencia laboral en el área de formación motivo de la contratación. (Opción 2). Mínimo 36 meses de los cuales certifique experiencia laboral o especialización relacionada con el objeto de la formación." | H22: Mínimo 12 meses de experiencia docente en el SENA o en instituciones de educación reconocidas por el MEN | I22: 1 | J22: necesidades de la formación | K22: 44013 | L22: 44183 | M22: =+DATEDIF(K22,L22,"M") -> 5 | N22: =+DATEDIF(K22,L22,"MD") -> 17 | P22: 3607060 | Q22: =+(P22*M22+(P22/30*N22))*I22 -> 20079301
B23: 13 | C23: PRESTAR SERVICIOS PERSONALES DE CARÁCTER TEMPORAL PARA PLANEAR Y ORIENTAR LA FORMACIÓN PROFESIONAL INTEGRAL, EN EL AREA DE GESTIÓN LOGÍSTICA QUE PROGRAME EL CENTRO DE COMERCIO Y SERVICIOS DEL SENA REGIONAL ATLANTICO EN SUS DIFERENTES NIVELES Y MODALIDADES, ATENDIENDO LAS POLÍTICAS INSTITUCIONALES Y LA NORMATIVIDAD VIGENTE | D23: 1. Desarrollar actividades de formación profesional en los programas definidos por el centro. 2. Entregar al equipo de SOFIA PLUS, la información requerida para la asignación de rol y disponibilidad en el aplicativo 3. Hacer la evaluación correspondiente a los cursos asignados. | E23: PROFESIONAL O TECNOLOGO | F23: "El programa requiere de un equipo de instructores Técnicos, conformado por: Profesional en áreas relacionadas con los procesos de Compras y suministros, tales como: Ingeniero industrial, ingenieros agroindustrial, ingeneria quimica, ingenieros de alimentos, administradores de empresa y ciencias afines con educación en logística. (Opción 2). Tecnólogo en Logística o Mercadeo, Seis semestres o su equivalente en Ingeniería industrial o profesiones afines, Certificación laboral en normas de competencia laboral relacionadas con la titulación de Dirección de compras." Formación Pedagogica Básica Formación por proyectos Formación Ambientes Virtuales de Aprendizaje | G23: "Mínimo 24 meses de experiencia laboral en el área de formación motivo de la contratación. (Opción 2). Mínimo 36 meses de los cuales certifique experiencia laboral o especialización relacionada con el objeto de la formación." | H23: Mínimo 12 meses de experiencia docente en el SENA o en instituciones de educación reconocidas por el MEN | I23: 1 | J23: necesidades de la formación | K23: 44013 | L23: 44183 | M23: 10 | N23: 22 | P23: 3607060 | Q23: =+(P23*M23+(P23/30*N23))*I23 -> 38715777
B24: 14 | C24: PRESTAR SERVICIOS PERSONALES DE CARÁCTER TEMPORAL PARA PLANEAR Y ORIENTAR LA FORMACIÓN PROFESIONAL INTEGRAL, EN EL AREA DE GESTIÓN LOGÍSTICA QUE PROGRAME EL CENTRO DE COMERCIO Y SERVICIOS DEL SENA REGIONAL ATLANTICO EN SUS DIFERENTES NIVELES Y MODALIDADES, ATENDIENDO LAS POLÍTICAS INSTITUCIONALES Y LA NORMATIVIDAD VIGENTE | D24: 1. Desarrollar actividades de formación profesional en los programas definidos por el centro. 2. Entregar al equipo de SOFIA PLUS, la información requerida para la asignación de rol y disponibilidad en el aplicativo 3. Hacer la evaluación correspondiente a los cursos asignados. | E24: PROFESIONAL O TECNOLOGO | F24: "El programa requiere de un equipo de instructores Técnicos, conformado por: Profesional en áreas relacionadas con los procesos de Compras y suministros, tales como: Ingeniero industrial, ingenieros agroindustrial, ingeneria quimica, ingenieros de alimentos, administradores de empresa y ciencias afines con educación en logística. (Opción 2). Tecnólogo en Logística o Mercadeo, Seis semestres o su equivalente en Ingeniería industrial o profesiones afines, Certificación laboral en normas de competencia laboral relacionadas con la titulación de Dirección de compras." Formación Pedagogica Básica Formación por proyectos Formación Ambientes Virtuales de Aprendizaje | G24: "Mínimo 24 meses de experiencia laboral en el área de formación motivo de la contratación. (Opción 2). Mínimo 36 meses de los cuales certifique experiencia laboral o especialización relacionada con el objeto de la formación." | H24: Mínimo 12 meses de experiencia docente en el SENA o en instituciones de educación reconocidas por el MEN | I24: 1 | J24: necesidades de la formación | K24: 44013 | L24: 44183 | M24: =+DATEDIF(K24,L24,"M") -> 5 | N24: =+DATEDIF(K24,L24,"MD") -> 17 | P24: 3607060 | Q24: =+(P24*M24+(P24/30*N24))*I24 -> 20079301
B25: 15 | C25: PRESTAR SERVICIOS PERSONALES DE CARÁCTER TEMPORAL PARA PLANEAR Y ORIENTAR LA FORMACIÓN PROFESIONAL INTEGRAL, EN EL AREA DE GESTIÓN LOGÍSTICA QUE PROGRAME EL CENTRO DE COMERCIO Y SERVICIOS DEL SENA REGIONAL ATLANTICO EN SUS DIFERENTES NIVELES Y MODALIDADES, ATENDIENDO LAS POLÍTICAS INSTITUCIONALES Y LA NORMATIVIDAD VIGENTE | D25: 1. Desarrollar actividades de formación profesional en los programas definidos por el centro. 2. Entregar al equipo de SOFIA PLUS, la información requerida para la asignación de rol y disponibilidad en el aplicativo 3. Hacer la evaluación correspondiente a los cursos asignados. | E25: PROFESIONAL O TECNOLOGO | F25: "El programa requiere de un equipo de instructores Técnicos, conformado por: Profesional en áreas relacionadas con los procesos de Compras y suministros, tales como: Ingeniero industrial, ingenieros agroindustrial, ingeneria quimica, ingenieros de alimentos, administradores de empresa y ciencias afines con educación en logística. (Opción 2). Tecnólogo en Logística o Mercadeo, Seis semestres o su equivalente en Ingeniería industrial o profesiones afines, Certificación laboral en normas de competencia laboral relacionadas con la titulación de Dirección de compras." Formación Pedagogica Básica Formación por proyectos Formación Ambientes Virtuales de Aprendizaje | G25: "Mínimo 24 meses de experiencia laboral en el área de formación motivo de la contratación. (Opción 2). Mínimo 36 meses de los cuales certifique experiencia laboral o especialización relacionada con el objeto de la formación." | H25: Mínimo 12 meses de experiencia docente en el SENA o en instituciones de educación reconocidas por el MEN | I25: 1 | J25: necesidades de la formación | K25: 44013 | L25: 44183 | M25: =+DATEDIF(K25,L25,"M") -> 5 | N25: =+DATEDIF(K25,L25,"MD") -> 17 | P25: 3607060 | Q25: =+(P25*M25+(P25/30*N25))*I25 -> 20079301
B26: 16 | C26: PRESTAR SERVICIOS PERSONALES DE CARÁCTER TEMPORAL PARA PLANEAR Y ORIENTAR LA FORMACIÓN PROFESIONAL INTEGRAL, EN EL AREA DE GESTIÓN LOGÍSTICA QUE PROGRAME EL CENTRO DE COMERCIO Y SERVICIOS DEL SENA REGIONAL ATLANTICO EN SUS DIFERENTES NIVELES Y MODALIDADES, ATENDIENDO LAS POLÍTICAS INSTITUCIONALES Y LA NORMATIVIDAD VIGENTE | D26: 1. Desarrollar actividades de formación profesional en los programas definidos por el centro. 2. Entregar al equipo de SOFIA PLUS, la información requerida para la asignación de rol y disponibilidad en el aplicativo 3. Hacer la evaluación correspondiente a los cursos asignados. | E26: PROFESIONAL O TECNOLOGO | F26: "El programa requiere de un equipo de instructores Técnicos, conformado por: Profesional en áreas relacionadas con los procesos de Compras y suministros, tales como: Ingeniero industrial, ingenieros agroindustrial, ingeneria quimica, ingenieros de alimentos, administradores de empresa y ciencias afines con educación en logística. (Opción 2). Tecnólogo en Logística o Mercadeo, Seis semestres o su equivalente en Ingeniería industrial o profesiones afines, Certificación laboral en normas de competencia laboral relacionadas con la titulación de Dirección de compras." Formación Pedagogica Básica Formación por proyectos Formación Ambientes Virtuales de Aprendizaje | G26: "Mínimo 24 meses de experiencia laboral en el área de formación motivo de la contratación. (Opción 2). Mínimo 36 meses de los cuales certifique experiencia laboral o especialización relacionada con el objeto de la formación." | H26: Mínimo 12 meses de experiencia docente en el SENA o en instituciones de educación reconocidas por el MEN | I26: 1 | J26: necesidades de la formación | K26: 44013 | L26: 44183 | M26: 10 | N26: 22 | P26: 3607060 | Q26: =+(P26*M26+(P26/30*N26))*I26 -> 38715777 | R26: SEGUIMIENTO
B27: 17 | C27: PRESTAR SERVICIOS PERSONALES DE CARÁCTER TEMPORAL PARA PLANEAR Y ORIENTAR LA FORMACIÓN PROFESIONAL INTEGRAL, EN EL AREA DE GESTIÓN LOGÍSTICA QUE PROGRAME EL CENTRO DE COMERCIO Y SERVICIOS DEL SENA REGIONAL ATLANTICO EN SUS DIFERENTES NIVELES Y MODALIDADES, ATENDIENDO LAS POLÍTICAS INSTITUCIONALES Y LA NORMATIVIDAD VIGENTE | D27: 1. Desarrollar actividades de formación profesional en los programas definidos por el centro. 2. Entregar al equipo de SOFIA PLUS, la información requerida para la asignación de rol y disponibilidad en el aplicativo 3. Hacer la evaluación correspondiente a los cursos asignados. | E27: PROFESIONAL O TECNOLOGO | F27: "El programa requiere de un equipo de instructores Técnicos, conformado por: Profesional en áreas relacionadas con los procesos de Compras y suministros, tales como: Ingeniero industrial, ingenieros agroindustrial, ingeneria quimica, ingenieros de alimentos, administradores de empresa y ciencias afines con educación en logística. (Opción 2). Tecnólogo en Logística o Mercadeo, Seis semestres o su equivalente en Ingeniería industrial o profesiones afines, Certificación laboral en normas de competencia laboral relacionadas con la titulación de Dirección de compras." Formación Pedagogica Básica Formación por proyectos Formación Ambientes Virtuales de Aprendizaje | G27: "Mínimo 24 meses de experiencia laboral en el área de formación motivo de la contratación. (Opción 2). Mínimo 36 meses de los cuales certifique experiencia laboral o especialización relacionada con el objeto de la formación." | H27: Mínimo 12 meses de experiencia docente en el SENA o en instituciones de educación reconocidas por el MEN | I27: 1 | J27: necesidades de la formación | K27: 44013 | L27: 44183 | M27: =+DATEDIF(K27,L27,"M") -> 5 | N27: =+DATEDIF(K27,L27,"MD") -> 17 | P27: 3607060 | Q27: =+(P27*M27+(P27/30*N27))*I27 -> 20079301 | R27: SEGUIMIENTO
B28: 18 | C28: PRESTAR SERVICIOS PERSONALES DE CARÁCTER TEMPORAL PARA PLANEAR Y ORIENTAR LA FORMACIÓN PROFESIONAL INTEGRAL, EN EL AREA DE GESTIÓN LOGÍSTICA QUE PROGRAME EL CENTRO DE COMERCIO Y SERVICIOS DEL SENA REGIONAL ATLANTICO EN SUS DIFERENTES NIVELES Y MODALIDADES, ATENDIENDO LAS POLÍTICAS INSTITUCIONALES Y LA NORMATIVIDAD VIGENTE | D28: 1. Desarrollar actividades de formación profesional en los programas definidos por el centro. 2. Entregar al equipo de SOFIA PLUS, la información requerida para la asignación de rol y disponibilidad en el aplicativo 3. Hacer la evaluación correspondiente a los cursos asignados. | E28: PROFESIONAL O TECNOLOGO | F28: "El programa requiere de un equipo de instructores Técnicos, conformado por: Profesional en áreas relacionadas con los procesos de Compras y suministros, tales como: Ingeniero industrial, ingenieros agroindustrial, ingeneria quimica, ingenieros de alimentos, administradores de empresa y ciencias afines con educación en logística. (Opción 2). Tecnólogo en Logística o Mercadeo, Seis semestres o su equivalente en Ingeniería industrial o profesiones afines, Certificación laboral en normas de competencia laboral relacionadas con la titulación de Dirección de compras." Formación Pedagogica Básica Formación por proyectos Formación Ambientes Virtuales de Aprendizaje | G28: "Mínimo 24 meses de experiencia laboral en el área de formación motivo de la contratación. (Opción 2). Mínimo 36 meses de los cuales certifique experiencia laboral o especialización relacionada con el objeto de la formación." | H28: Mínimo 12 meses de experiencia docente en el SENA o en instituciones de educación reconocidas por el MEN | I28: 1 | J28: necesidades de la formación | K28: 44013 | L28: 44183 | M28: =+DATEDIF(K28,L28,"M") -> 5 | N28: =+DATEDIF(K28,L28,"MD") -> 17 | P28: 3607060 | Q28: =+(P28*M28+(P28/30*N28))*I28 -> 20079301 | R28: SEGUIMIENTO
B29: 19 | C29: PRESTAR SERVICIOS PERSONALES DE CARÁCTER TEMPORAL PARA PLANEAR Y ORIENTAR LA FORMACIÓN PROFESIONAL INTEGRAL, EN EL AREA DE GESTIÓN LOGÍSTICA QUE PROGRAME EL CENTRO DE COMERCIO Y SERVICIOS DEL SENA REGIONAL ATLANTICO EN SUS DIFERENTES NIVELES Y MODALIDADES, ATENDIENDO LAS POLÍTICAS INSTITUCIONALES Y LA NORMATIVIDAD VIGENTE | D29: 1. Desarrollar actividades de formación profesional en los programas definidos por el centro. 2. Entregar al equipo de SOFIA PLUS, la información requerida para la asignación de rol y disponibilidad en el aplicativo 3. Hacer la evaluación correspondiente a los cursos asignados. | E29: PROFESIONAL O TECNOLOGO | F29: "El programa requiere de un equipo de instructores Técnicos, conformado por: Profesional en áreas relacionadas con los procesos de Compras y suministros, tales como: Ingeniero industrial, ingenieros agroindustrial, ingeneria quimica, ingenieros de alimentos, administradores de empresa y ciencias afines con educación en logística. (Opción 2). Tecnólogo en Logística o Mercadeo, Seis semestres o su equivalente en Ingeniería industrial o profesiones afines, Certificación laboral en normas de competencia laboral relacionadas con la titulación de Dirección de compras." Formación Pedagogica Básica Formación por proyectos Formación Ambientes Virtuales de Aprendizaje | G29: "Mínimo 24 meses de experiencia laboral en el área de formación motivo de la contratación. (Opción 2). Mínimo 36 meses de los cuales certifique experiencia laboral o especialización relacionada con el objeto de la formación." | H29: Mínimo 12 meses de experiencia docente en el SENA o en instituciones de educación reconocidas por el MEN | I29: 1 | J29: necesidades de la formación | K29: 44013 | L29: 44183 | M29: 10 | N29: 22 | P29: 3607060 | Q29: =+(P29*M29+(P29/30*N29))*I29 -> 38715777 | R29: SEGUIMIENTO
I30: =+SUM(I12:I29) -> 17 | O30: 16 | Q30: =+SUM(Q13:Q29) -> 3.9725754e+08
B31: NEGOCIACION INTERNACIONAL
B32: 1 | C32: PRESTAR SERVICIOS PERSONALES DE CARÁCTER TEMPORAL PARA PLANEAR Y ORIENTAR LA FORMACIÓN PROFESIONAL INTEGRAL, EN EL AREA DE NEGOCIACION INTERNACIONAL QUE PROGRAME EL CENTRO DE COMERCIO Y SERVICIOS DEL SENA REGIONAL ATLANTICO EN SUS DIFERENTES NIVELES Y MODALIDADES, ATENDIENDO LAS POLÍTICAS INSTITUCIONALES Y LA NORMATIVIDAD VIGENTE | D32: 1. Desarrollar actividades de formación profesional en los programas definidos por el centro. 2. Entregar al equipo de SOFIA PLUS, la información requerida para la asignación de rol y disponibilidad en el aplicativo 3. Hacer la evaluación correspondiente a los cursos asignados. | E32: PROFESIONAL O TECNOLOGO | F32: OPCION 1 Título de tecnólogo en los núcleos deconocimiento de Artes plásticas, visuales yafines, o Economía, o Publicidad y afines, oAdministración, Certificado A2 de Ingles OPCION 2 Título profesional en los núcleos de conocimiento de Artes plásticas, visuales y afines, o Economía, o Publicidad y afines, o Administración, Certificado A2 de Ingles, Tarjeta Profesional en los Casos Exigidos por la Ley | G32: "Mínimo 24 meses de experiencia laboral en el área de formación motivo de la contratación. (Opción 2). Mínimo 36 meses de los cuales certifique experiencia laboral o especialización relacionada con el objeto de la formación." | H32: Mínimo 12 meses de experiencia docente en el SENA o en instituciones de educación reconocidas por el MEN | I32: 1 | J32: necesidades de la formación | K32: 44013 | L32: 44183 | M32: =+DATEDIF(K32,L32,"M") -> 5 | N32: =+DATEDIF(K32,L32,"MD") -> 17 | O32: 16 | P32: 3607060 | Q32: =+(P32*M32+(P32/30*N32))*I32 -> 20079301
B33: 1 | C33: PRESTAR SERVICIOS PERSONALES DE CARÁCTER TEMPORAL PARA PLANEAR Y ORIENTAR LA FORMACIÓN PROFESIONAL INTEGRAL, EN EL AREA DE NEGOCIACION INTERNACIONAL QUE PROGRAME EL CENTRO DE COMERCIO Y SERVICIOS DEL SENA REGIONAL ATLANTICO EN SUS DIFERENTES NIVELES Y MODALIDADES, ATENDIENDO LAS POLÍTICAS INSTITUCIONALES Y LA NORMATIVIDAD VIGENTE | D33: 1. Desarrollar actividades de formación profesional en los programas definidos por el centro. 2. Entregar al equipo de SOFIA PLUS, la información requerida para la asignación de rol y disponibilidad en el aplicativo 3. Hacer la evaluación correspondiente a los cursos asignados. | E33: PROFESIONAL O TECNOLOGO | F33: OPCION 1 Título de tecnólogo en los núcleos deconocimiento de Artes plásticas, visuales yafines, o Economía, o Publicidad y afines, oAdministración, Certificado A2 de Ingles OPCION 2 Título profesional en los núcleos de conocimiento de Artes plásticas, visuales y afines, o Economía, o Publicidad y afines, o Administración, Certificado A2 de Ingles, Tarjeta Profesional en los Casos Exigidos por la Ley | G33: "Mínimo 24 meses de experiencia laboral en el área de formación motivo de la contratación. (Opción 2). Mínimo 36 meses de los cuales certifique experiencia laboral o especialización relacionada con el objeto de la formación." | H33: Mínimo 12 meses de experiencia docente en el SENA o en instituciones de educación reconocidas por el MEN | I33: 1 | J33: necesidades de la formación | K33: 44013 | L33: 44183 | M33: =+DATEDIF(K33,L33,"M") -> 5 | N33: =+DATEDIF(K33,L33,"MD") -> 17 | O33: 16 | P33: 3607060 | Q33: =+(P33*M33+(P33/30*N33))*I33 -> 20079301
B34: 1 | C34: PRESTAR SERVICIOS PERSONALES DE CARÁCTER TEMPORAL PARA PLANEAR Y ORIENTAR LA FORMACIÓN PROFESIONAL INTEGRAL, EN EL AREA DE NEGOCIACION INTERNACIONAL QUE PROGRAME EL CENTRO DE COMERCIO Y SERVICIOS DEL SENA REGIONAL ATLANTICO EN SUS DIFERENTES NIVELES Y MODALIDADES, ATENDIENDO LAS POLÍTICAS INSTITUCIONALES Y LA NORMATIVIDAD VIGENTE | D34: 1. Desarrollar actividades de formación profesional en los programas definidos por el centro. 2. Entregar al equipo de SOFIA PLUS, la información requerida para la asignación de rol y disponibilidad en el aplicativo 3. Hacer la evaluación correspondiente a los cursos asignados. | E34: PROFESIONAL O TECNOLOGO | F34: OPCION 1 Título de tecnólogo en los núcleos deconocimiento de Artes plásticas, visuales yafines, o Economía, o Publicidad y afines, oAdministración, Certificado A2 de Ingles OPCION 2 Título profesional en los núcleos de conocimiento de Artes plásticas, visuales y afines, o Economía, o Publicidad y afines, o Administración, Certificado A2 de Ingles, Tarjeta Profesional en los Casos Exigidos por la Ley | G34: "Mínimo 24 meses de experiencia laboral en el área de formación motivo de la contratación. (Opción 2). Mínimo 36 meses de los cuales certifique experiencia laboral o especialización relacionada con el objeto de la formación." | H34: Mínimo 12 meses de experiencia docente en el SENA o en instituciones de educación reconocidas por el MEN | I34: 1 | J34: necesidades de la formación | K34: 44013 | L34: 44183 | M34: =+DATEDIF(K34,L34,"M") -> 5 | N34: =+DATEDIF(K34,L34,"MD") -> 17 | O34: 16 | P34: 3607060 | Q34: =+(P34*M34+(P34/30*N34))*I34 -> 20079301
I35: =+SUM(I32:I34) -> 3 | O35: 16 | Q35: =+SUM(Q33:Q34) -> 40158601
B36: CONTENIDOS DIGITALES
B37: 1 | C37: PRESTAR SERVICIOS PERSONALES DE CARÁCTER TEMPORAL PARA PLANEAR Y ORIENTAR LA FORMACIÓN PROFESIONAL INTEGRAL, EN EL AREA DE CONTENIDOS DIGITALES QUE PROGRAME EL CENTRO DE COMERCIO Y SERVICIOS DEL SENA REGIONAL ATLANTICO EN SUS DIFERENTES NIVELES Y MODALIDADES, ATENDIENDO LAS POLÍTICAS INSTITUCIONALES Y LA NORMATIVIDAD VIGENTE | D37: 1. Desarrollar actividades de formación profesional en los programas definidos por el centro. 2. Entregar al equipo de SOFIA PLUS, la información requerida para la asignación de rol y disponibilidad en el aplicativo 3. Hacer la evaluación correspondiente a los cursos asignados. | E37: PROFESIONAL O TECNOLOGO | F37: OPCION 1 Título de tecnólogo en los núcleos de conocimiento de Otros programas asociados a bellas artes, o Publicidad y afines, o Artes plásticas, visuales y afines, o Diseño, o Ingeniería de sistemas, telemática y afines. OPCION 2 Título profesional en los núcleos de conocimiento de Otros programas asociados a bellas artes, o Publicidad y afines, o Artes plásticas, visuales y afines, o Diseño, o Ingeniería de sistemas, telemática y afines, o Artes representativas. Tarjeta Profesional en los Casos Exigidos por la Ley | G37: Mínimo 24 meses de experiencia laboral en el área de formación motivo de la contratación. (Opción 2). Mínimo 36 meses de los cuales certifique experiencia laboral o especialización relacionada con el objeto de la formación. | H37: Mínimo 12 meses de experiencia docente en el SENA o en instituciones de educación reconocidas por el MEN | I37: 1 | J37: necesidades de la formación | K37: 44013 | L37: 44183 | M37: =+DATEDIF(K37,L37,"M") -> 5 | N37: =+DATEDIF(K37,L37,"MD") -> 17 | O37: 16 | P37: 3607060 | Q37: =+(P37*M37+(P37/30*N37))*I37 -> 20079301
I38: =+SUM(I37:I37) -> 1 | O38: 16 | Q38: =+SUM(Q37) -> 20079301
B39: OPERACIÓN DE MAQUINARIA PESADA PARA EXCAVACIÓN Y MOVIMIENTO DE TIERRA.
B40: 1 | C40: PRESTAR SERVICIOS PERSONALES DE CARÁCTER TEMPORAL PARA PLANEAR Y ORIENTAR LA FORMACIÓN PROFESIONAL INTEGRAL, EN EL AREA DE OPERACIÓN DE MAQUINARIA PESADA PARA EXCAVACIÓN Y MOVIMIENTO DE TIERRA. QUE PROGRAME EL CENTRO DE COMERCIO Y SERVICIOS DEL SENA REGIONAL ATLANTICO EN SUS DIFERENTES NIVELES Y MODALIDADES, ATENDIENDO LAS POLÍTICAS INSTITUCIONALES Y LA NORMATIVIDAD VIGENTE | D40: 1. Desarrollar actividades de formación profesional en los programas definidos por el centro. 2. Entregar al equipo de SOFIA PLUS, la información requerida para la asignación de rol y disponibilidad en el aplicativo 3. Hacer la evaluación correspondiente a los cursos asignados. | E40: TECNICO | F40: tecnico en maquinas pesadas | G40: Mínimo 24 meses de experiencia laboral en el área de formación motivo de la contratación. (Opción 2). Mínimo 36 meses de los cuales certifique experiencia laboral o especialización relacionada con el objeto de la formación. | H40: Mínimo 12 meses de experiencia docente en el SENA o en instituciones de educación reconocidas por el MEN | I40: 1 | J40: necesidades de la formación | K40: 43857 | L40: 44177 | M40: =+DATEDIF(K40,L40,"M") -> 10 | N40: =+DATEDIF(K40,L40,"MD") -> 15 | O40: 16 | P40: 3234673.8 | Q40: =+(P40*M40+(P40/30*N40))*I40 -> 33964075
B41: 1 | C41: PRESTAR SERVICIOS PERSONALES DE CARÁCTER TEMPORAL PARA PLANEAR Y ORIENTAR LA FORMACIÓN PROFESIONAL INTEGRAL, EN EL AREA DE OPERACIÓN DE MAQUINARIA PESADA PARA EXCAVACIÓN Y MOVIMIENTO DE TIERRA. QUE PROGRAME EL CENTRO DE COMERCIO Y SERVICIOS DEL SENA REGIONAL ATLANTICO EN SUS DIFERENTES NIVELES Y MODALIDADES, ATENDIENDO LAS POLÍTICAS INSTITUCIONALES Y LA NORMATIVIDAD VIGENTE | D41: 1. Desarrollar actividades de formación profesional en los programas definidos por el centro. 2. Entregar al equipo de SOFIA PLUS, la información requerida para la asignación de rol y disponibilidad en el aplicativo 3. Hacer la evaluación correspondiente a los cursos asignados. | E41: TECNICO | F41: tecnico en maquinas pesadas | G41: Mínimo 24 meses de experiencia laboral en el área de formación motivo de la contratación. (Opción 2). Mínimo 36 meses de los cuales certifique experiencia laboral o especialización relacionada con el objeto de la formación. | H41: Mínimo 12 meses de experiencia docente en el SENA o en instituciones de educación reconocidas por el MEN | I41: 1 | J41: necesidades de la formación | K41: 43857 | L41: 44179 | M41: =+DATEDIF(K41,L41,"M") -> 10 | N41: =+DATEDIF(K41,L41,"MD") -> 17 | O41: 16 | P41: 3607060 | Q41: =+(P41*M41+(P41/30*N41))*I41 -> 38114601
I42: =+SUM(I40:I41) -> 2 | O42: 16 | Q42: =+SUM(Q40:Q41) -> 72078676
B44: TRANSVERSALES
B45: 1 | C45: PRESTAR SERVICIOS PERSONALES DE CARÁCTER TEMPORAL PARA PLANEAR Y ORIENTAR LA FORMACIÓN PROFESIONAL INTEGRAL, EN EL AREA DE IDIOMAS QUE PROGRAME EL CENTRO DE COMERCIO Y SERVICIOS DEL SENA REGIONAL ATLANTICO EN SUS DIFERENTES NIVELES Y MODALIDADES, ATENDIENDO LAS POLÍTICAS INSTITUCIONALES Y LA NORMATIVIDAD VIGENTE | D45: 1. Desarrollar actividades de formación profesional en los programas definidos por el centro. 2. Entregar al equipo de SOFIA PLUS, la información requerida para la asignación de rol y disponibilidad en el aplicativo 3. Hacer la evaluación correspondiente a los cursos asignados. | E45: PROFESIONAL O TECNOLOGO | F45: "Todos los instructores de lenguas SENA deben cumplir con las especificaciones de las opciones enunciadas a continuación. Alternativa 1: Tìtulo Técnico en cualquier nùcleo bàsico de conocimiento. Nivel de Lengua: Mínimo nivel B2 de dominio de la lengua de acuerdo al MCER. Los exàmenes admitidos deben corresponder con la lista de exàmenes aprobados por la NTC5580-2011 (Icontec MEN) (Tabla 1 segùn requerimiento de lengua), tener una vigencia de 2 años, corresponder a las 4 habilidades de dominio de la lengua (Comprensiòn Lectora, Comprensiòn Escrita, Producciòn Oral, Producciòn Escrita). Experiencia laboral: Mínimo 36 meses de experiencia relacionados con la docencia de lengua extranjera. Alternativa 2: Tìtulo Tecnòlogo en cualquier nùcleo bàsico de conocimiento. Nivel de Lengua: Mínimo nivel B2 de dominio de la lengua de acuerdo al MCER. Los exàmenes admitidos deben corresponder con la lista de exàmenes aprobados por la NTC5580-2011 (Icontec MEN) (Tabla 1 segùn requerimiento de lengua), tener una vigencia de 2 años, corresponder a las 4 habilidades de dominio de la lengua (Comprensiòn Lectora, Comprensiòn Escrita, Producciòn Oral, Producciòn Escrita). Experiencia laboral: Mínimo 30 meses de experiencia relacionados con la docencia de lengua extranjera. Alternativa 3: Tìtulo Profesional univeritario en cualquier nùcleo bàsico de conocimiento. Nivel de Lengua: Mínimo nivel B2 de dominio de la lengua de acuerdo al MCER. Los exàmenes admitidos deben corresponder con la lista de exàmenes aprobados por la NTC5580-2011 (Icontec MEN) (Tabla 1 segùn requerimiento de lengua), tener una vigencia de 2 años, corresponder a las 4 habilidades de dominio de la lengua (Comprensiòn Lectora, Comprensiòn Escrita, Producciòn Oral, Producciòn Escrita). Experiencia laboral: Mínimo 24 meses de experiencia relacionados con la docencia de lengua extranjera. Nota 1: Es importante precisar que los instructores contratados sòlo podràn orientar procesos de formaciòn en la lengua extranjera que dominan y de la cual han presentado su certificaciòn de suficiencia en el nivel requerido. Nota 2: Los tutores virtuales que orientaràn formaciòn complementaria virtual o la competencia de inglès en los programas de titulada virtual, adicional a los anteriores criterios deben acreditar capacitaciòn relacionada con tutorìa virtual, no inferior a 40 horas y tener experiencia adicional comprobada de mìnimo 6 meses com tutor virtual. Nota 3: Todos los tìtulos acadèmicos expedidos en un paìs diferente a Colombia deben cumplir con los requisitos y regulaciones de las normas que expida el Ministerio de Educaciòn Nacional y de contrataciòn pùblica." | G45: Mínimo 24 meses de experiencia laboral en el área de formación motivo de la contratación. (Opción 2). Mínimo 36 meses de los cuales certifique experiencia laboral o especialización relacionada con el objeto de la formación. | H45: Mínimo 12 meses de experiencia docente en el SENA o en instituciones de educación reconocidas por el MEN | I45: 4 | J45: necesidades de la formación | K45: 44013 | L45: 44183 | M45: =+DATEDIF(K45,L45,"M") -> 5 | N45: =+DATEDIF(K45,L45,"MD") -> 17 | O45: 16 | P45: 3607060 | Q45: =+(P45*M45+(P45/30*N45))*I45 -> 80317203 | R45: VIRTUAL BILINGUISMO TI
B46: 2 | C46: PRESTAR SERVICIOS PERSONALES DE CARÁCTER TEMPORAL PARA PLANEAR Y ORIENTAR LA FORMACIÓN PROFESIONAL INTEGRAL, EN EL AREA DE IDIOMAS QUE PROGRAME EL CENTRO DE COMERCIO Y SERVICIOS DEL SENA REGIONAL ATLANTICO EN SUS DIFERENTES NIVELES Y MODALIDADES, ATENDIENDO LAS POLÍTICAS INSTITUCIONALES Y LA NORMATIVIDAD VIGENTE | D46: 1. Desarrollar actividades de formación profesional en los programas definidos por el centro. 2. Entregar al equipo de SOFIA PLUS, la información requerida para la asignación de rol y disponibilidad en el aplicativo 3. Hacer la evaluación correspondiente a los cursos asignados. | E46: PROFESIONAL O TECNOLOGO | F46: "Todos los instructores de lenguas SENA deben cumplir con las especificaciones de las opciones enunciadas a continuación. Alternativa 1: Tìtulo Técnico en cualquier nùcleo bàsico de conocimiento. Nivel de Lengua: Mínimo nivel B2 de dominio de la lengua de acuerdo al MCER. Los exàmenes admitidos deben corresponder con la lista de exàmenes aprobados por la NTC5580-2011 (Icontec MEN) (Tabla 1 segùn requerimiento de lengua), tener una vigencia de 2 años, corresponder a las 4 habilidades de dominio de la lengua (Comprensiòn Lectora, Comprensiòn Escrita, Producciòn Oral, Producciòn Escrita). Experiencia laboral: Mínimo 36 meses de experiencia relacionados con la docencia de lengua extranjera. Alternativa 2: Tìtulo Tecnòlogo en cualquier nùcleo bàsico de conocimiento. Nivel de Lengua: Mínimo nivel B2 de dominio de la lengua de acuerdo al MCER. Los exàmenes admitidos deben corresponder con la lista de exàmenes aprobados por la NTC5580-2011 (Icontec MEN) (Tabla 1 segùn requerimiento de lengua), tener una vigencia de 2 años, corresponder a las 4 habilidades de dominio de la lengua (Comprensiòn Lectora, Comprensiòn Escrita, Producciòn Oral, Producciòn Escrita). Experiencia laboral: Mínimo 30 meses de experiencia relacionados con la docencia de lengua extranjera. Alternativa 3: Tìtulo Profesional univeritario en cualquier nùcleo bàsico de conocimiento. Nivel de Lengua: Mínimo nivel B2 de dominio de la lengua de acuerdo al MCER. Los exàmenes admitidos deben corresponder con la lista de exàmenes aprobados por la NTC5580-2011 (Icontec MEN) (Tabla 1 segùn requerimiento de lengua), tener una vigencia de 2 años, corresponder a las 4 habilidades de dominio de la lengua (Comprensiòn Lectora, Comprensiòn Escrita, Producciòn Oral, Producciòn Escrita). Experiencia laboral: Mínimo 24 meses de experiencia relacionados con la docencia de lengua extranjera. Nota 1: Es importante precisar que los instructores contratados sòlo podràn orientar procesos de formaciòn en la lengua extranjera que dominan y de la cual han presentado su certificaciòn de suficiencia en el nivel requerido. Nota 2: Los tutores virtuales que orientaràn formaciòn complementaria virtual o la competencia de inglès en los programas de titulada virtual, adicional a los anteriores criterios deben acreditar capacitaciòn relacionada con tutorìa virtual, no inferior a 40 horas y tener experiencia adicional comprobada de mìnimo 6 meses com tutor virtual. Nota 3: Todos los tìtulos acadèmicos expedidos en un paìs diferente a Colombia deben cumplir con los requisitos y regulaciones de las normas que expida el Ministerio de Educaciòn Nacional y de contrataciòn pùblica." | G46: Mínimo 24 meses de experiencia laboral en el área de formación motivo de la contratación. (Opción 2). Mínimo 36 meses de los cuales certifique experiencia laboral o especialización relacionada con el objeto de la formación. | H46: Mínimo 12 meses de experiencia docente en el SENA o en instituciones de educación reconocidas por el MEN | I46: 5 | J46: necesidades de la formación | K46: 44013 | L46: 44183 | M46: =+DATEDIF(K46,L46,"M") -> 5 | N46: =+DATEDIF(K46,L46,"MD") -> 17 | O46: 16 | P46: 3607060 | Q46: =+(P46*M46+(P46/30*N46))*I46 -> 1.003965e+08 | R46: VIRTUAL BILINGUISMO TI
B47: 3 | C47: PRESTAR SERVICIOS PERSONALES DE CARÁCTER TEMPORAL PARA PLANEAR Y ORIENTAR LA FORMACIÓN PROFESIONAL INTEGRAL, EN EL AREA DE IDIOMAS QUE PROGRAME EL CENTRO DE COMERCIO Y SERVICIOS DEL SENA REGIONAL ATLANTICO EN SUS DIFERENTES NIVELES Y MODALIDADES, ATENDIENDO LAS POLÍTICAS INSTITUCIONALES Y LA NORMATIVIDAD VIGENTE | D47: 1. Desarrollar actividades de formación profesional en los programas definidos por el centro. 2. Entregar al equipo de SOFIA PLUS, la información requerida para la asignación de rol y disponibilidad en el aplicativo 3. Hacer la evaluación correspondiente a los cursos asignados. | E47: PROFESIONAL O TECNOLOGO | F47: "Todos los instructores de lenguas SENA deben cumplir con las especificaciones de las opciones enunciadas a continuación. Alternativa 1: Tìtulo Técnico en cualquier nùcleo bàsico de conocimiento. Nivel de Lengua: Mínimo nivel B2 de dominio de la lengua de acuerdo al MCER. Los exàmenes admitidos deben corresponder con la lista de exàmenes aprobados por la NTC5580-2011 (Icontec MEN) (Tabla 1 segùn requerimiento de lengua), tener una vigencia de 2 años, corresponder a las 4 habilidades de dominio de la lengua (Comprensiòn Lectora, Comprensiòn Escrita, Producciòn Oral, Producciòn Escrita). Experiencia laboral: Mínimo 36 meses de experiencia relacionados con la docencia de lengua extranjera. Alternativa 2: Tìtulo Tecnòlogo en cualquier nùcleo bàsico de conocimiento. Nivel de Lengua: Mínimo nivel B2 de dominio de la lengua de acuerdo al MCER. Los exàmenes admitidos deben corresponder con la lista de exàmenes aprobados por la NTC5580-2011 (Icontec MEN) (Tabla 1 segùn requerimiento de lengua), tener una vigencia de 2 años, corresponder a las 4 habilidades de dominio de la lengua (Comprensiòn Lectora, Comprensiòn Escrita, Producciòn Oral, Producciòn Escrita). Experiencia laboral: Mínimo 30 meses de experiencia relacionados con la docencia de lengua extranjera. Alternativa 3: Tìtulo Profesional univeritario en cualquier nùcleo bàsico de conocimiento. Nivel de Lengua: Mínimo nivel B2 de dominio de la lengua de acuerdo al MCER. Los exàmenes admitidos deben corresponder con la lista de exàmenes aprobados por la NTC5580-2011 (Icontec MEN) (Tabla 1 segùn requerimiento de lengua), tener una vigencia de 2 años, corresponder a las 4 habilidades de dominio de la lengua (Comprensiòn Lectora, Comprensiòn Escrita, Producciòn Oral, Producciòn Escrita). Experiencia laboral: Mínimo 24 meses de experiencia relacionados con la docencia de lengua extranjera. Nota 1: Es importante precisar que los instructores contratados sòlo podràn orientar procesos de formaciòn en la lengua extranjera que dominan y de la cual han presentado su certificaciòn de suficiencia en el nivel requerido. Nota 2: Los tutores virtuales que orientaràn formaciòn complementaria virtual o la competencia de inglès en los programas de titulada virtual, adicional a los anteriores criterios deben acreditar capacitaciòn relacionada con tutorìa virtual, no inferior a 40 horas y tener experiencia adicional comprobada de mìnimo 6 meses com tutor virtual. Nota 3: Todos los tìtulos acadèmicos expedidos en un paìs diferente a Colombia deben cumplir con los requisitos y regulaciones de las normas que expida el Ministerio de Educaciòn Nacional y de contrataciòn pùblica." | G47: Mínimo 24 meses de experiencia laboral en el área de formación motivo de la contratación. (Opción 2). Mínimo 36 meses de los cuales certifique experiencia laboral o especialización relacionada con el objeto de la formación. | H47: Mínimo 12 meses de experiencia docente en el SENA o en instituciones de educación reconocidas por el MEN | I47: 1 | J47: necesidades de la formación | K47: 44013 | L47: 44183 | M47: =+DATEDIF(K47,L47,"M") -> 5 | N47: =+DATEDIF(K47,L47,"MD") -> 17 | O47: 16 | P47: 3607060 | Q47: =+(P47*M47+(P47/30*N47))*I47 -> 20079301
B48: 4 | C48: PRESTAR SERVICIOS PERSONALES DE CARÁCTER TEMPORAL PARA PLANEAR Y ORIENTAR LA FORMACIÓN PROFESIONAL INTEGRAL, EN EL AREA DE IDIOMAS QUE PROGRAME EL CENTRO DE COMERCIO Y SERVICIOS DEL SENA REGIONAL ATLANTICO EN SUS DIFERENTES NIVELES Y MODALIDADES, ATENDIENDO LAS POLÍTICAS INSTITUCIONALES Y LA NORMATIVIDAD VIGENTE | D48: 1. Desarrollar actividades de formación profesional en los programas definidos por el centro. 2. Entregar al equipo de SOFIA PLUS, la información requerida para la asignación de rol y disponibilidad en el aplicativo 3. Hacer la evaluación correspondiente a los cursos asignados. | E48: PROFESIONAL O TECNOLOGO | F48: "Todos los instructores de lenguas SENA deben cumplir con las especificaciones de las opciones enunciadas a continuación. Alternativa 1: Tìtulo Técnico en cualquier nùcleo bàsico de conocimiento. Nivel de Lengua: Mínimo nivel B2 de dominio de la lengua de acuerdo al MCER. Los exàmenes admitidos deben corresponder con la lista de exàmenes aprobados por la NTC5580-2011 (Icontec MEN) (Tabla 1 segùn requerimiento de lengua), tener una vigencia de 2 años, corresponder a las 4 habilidades de dominio de la lengua (Comprensiòn Lectora, Comprensiòn Escrita, Producciòn Oral, Producciòn Escrita). Experiencia laboral: Mínimo 36 meses de experiencia relacionados con la docencia de lengua extranjera. Alternativa 2: Tìtulo Tecnòlogo en cualquier nùcleo bàsico de conocimiento. Nivel de Lengua: Mínimo nivel B2 de dominio de la lengua de acuerdo al MCER. Los exàmenes admitidos deben corresponder con la lista de exàmenes aprobados por la NTC5580-2011 (Icontec MEN) (Tabla 1 segùn requerimiento de lengua), tener una vigencia de 2 años, corresponder a las 4 habilidades de dominio de la lengua (Comprensiòn Lectora, Comprensiòn Escrita, Producciòn Oral, Producciòn Escrita). Experiencia laboral: Mínimo 30 meses de experiencia relacionados con la docencia de lengua extranjera. Alternativa 3: Tìtulo Profesional univeritario en cualquier nùcleo bàsico de conocimiento. Nivel de Lengua: Mínimo nivel B2 de dominio de la lengua de acuerdo al MCER. Los exàmenes admitidos deben corresponder con la lista de exàmenes aprobados por la NTC5580-2011 (Icontec MEN) (Tabla 1 segùn requerimiento de lengua), tener una vigencia de 2 años, corresponder a las 4 habilidades de dominio de la lengua (Comprensiòn Lectora, Comprensiòn Escrita, Producciòn Oral, Producciòn Escrita). Experiencia laboral: Mínimo 24 meses de experiencia relacionados con la docencia de lengua extranjera. Nota 1: Es importante precisar que los instructores contratados sòlo podràn orientar procesos de formaciòn en la lengua extranjera que dominan y de la cual han presentado su certificaciòn de suficiencia en el nivel requerido. Nota 2: Los tutores virtuales que orientaràn formaciòn complementaria virtual o la competencia de inglès en los programas de titulada virtual, adicional a los anteriores criterios deben acreditar capacitaciòn relacionada con tutorìa virtual, no inferior a 40 horas y tener experiencia adicional comprobada de mìnimo 6 meses com tutor virtual. Nota 3: Todos los tìtulos acadèmicos expedidos en un paìs diferente a Colombia deben cumplir con los requisitos y regulaciones de las normas que expida el Ministerio de Educaciòn Nacional y de contrataciòn pùblica." | G48: Mínimo 24 meses de experiencia laboral en el área de formación motivo de la contratación. (Opción 2). Mínimo 36 meses de los cuales certifique experiencia laboral o especialización relacionada con el objeto de la formación. | H48: Mínimo 12 meses de experiencia docente en el SENA o en instituciones de educación reconocidas por el MEN | I48: 1 | J48: necesidades de la formación | K48: 44013 | L48: 44183 | M48: =+DATEDIF(K48,L48,"M") -> 5 | N48: =+DATEDIF(K48,L48,"MD") -> 17 | O48: 16 | P48: 3607060 | Q48: =+(P48*M48+(P48/30*N48))*I48 -> 20079301
B49: 5 | C49: PRESTAR SERVICIOS PERSONALES DE CARÁCTER TEMPORAL PARA PLANEAR Y ORIENTAR LA FORMACIÓN PROFESIONAL INTEGRAL, EN EL AREA DE IDIOMAS QUE PROGRAME EL CENTRO DE COMERCIO Y SERVICIOS DEL SENA REGIONAL ATLANTICO EN SUS DIFERENTES NIVELES Y MODALIDADES, ATENDIENDO LAS POLÍTICAS INSTITUCIONALES Y LA NORMATIVIDAD VIGENTE | D49: 1. Desarrollar actividades de formación profesional en los programas definidos por el centro. 2. Entregar al equipo de SOFIA PLUS, la información requerida para la asignación de rol y disponibilidad en el aplicativo 3. Hacer la evaluación correspondiente a los cursos asignados. | E49: PROFESIONAL O TECNOLOGO | F49: "Todos los instructores de lenguas SENA deben cumplir con las especificaciones de las opciones enunciadas a continuación. Alternativa 1: Tìtulo Técnico en cualquier nùcleo bàsico de conocimiento. Nivel de Lengua: Mínimo nivel B2 de dominio de la lengua de acuerdo al MCER. Los exàmenes admitidos deben corresponder con la lista de exàmenes aprobados por la NTC5580-2011 (Icontec MEN) (Tabla 1 segùn requerimiento de lengua), tener una vigencia de 2 años, corresponder a las 4 habilidades de dominio de la lengua (Comprensiòn Lectora, Comprensiòn Escrita, Producciòn Oral, Producciòn Escrita). Experiencia laboral: Mínimo 36 meses de experiencia relacionados con la docencia de lengua extranjera. Alternativa 2: Tìtulo Tecnòlogo en cualquier nùcleo bàsico de conocimiento. Nivel de Lengua: Mínimo nivel B2 de dominio de la lengua de acuerdo al MCER. Los exàmenes admitidos deben corresponder con la lista de exàmenes aprobados por la NTC5580-2011 (Icontec MEN) (Tabla 1 segùn requerimiento de lengua), tener una vigencia de 2 años, corresponder a las 4 habilidades de dominio de la lengua (Comprensiòn Lectora, Comprensiòn Escrita, Producciòn Oral, Producciòn Escrita). Experiencia laboral: Mínimo 30 meses de experiencia relacionados con la docencia de lengua extranjera. Alternativa 3: Tìtulo Profesional univeritario en cualquier nùcleo bàsico de conocimiento. Nivel de Lengua: Mínimo nivel B2 de dominio de la lengua de acuerdo al MCER. Los exàmenes admitidos deben corresponder con la lista de exàmenes aprobados por la NTC5580-2011 (Icontec MEN) (Tabla 1 segùn requerimiento de lengua), tener una vigencia de 2 años, corresponder a las 4 habilidades de dominio de la lengua (Comprensiòn Lectora, Comprensiòn Escrita, Producciòn Oral, Producciòn Escrita). Experiencia laboral: Mínimo 24 meses de experiencia relacionados con la docencia de lengua extranjera. Nota 1: Es importante precisar que los instructores contratados sòlo podràn orientar procesos de formaciòn en la lengua extranjera que dominan y de la cual han presentado su certificaciòn de suficiencia en el nivel requerido. Nota 2: Los tutores virtuales que orientaràn formaciòn complementaria virtual o la competencia de inglès en los programas de titulada virtual, adicional a los anteriores criterios deben acreditar capacitaciòn relacionada con tutorìa virtual, no inferior a 40 horas y tener experiencia adicional comprobada de mìnimo 6 meses com tutor virtual. Nota 3: Todos los tìtulos acadèmicos expedidos en un paìs diferente a Colombia deben cumplir con los requisitos y regulaciones de las normas que expida el Ministerio de Educaciòn Nacional y de contrataciòn pùblica." | G49: Mínimo 24 meses de experiencia laboral en el área de formación motivo de la contratación. (Opción 2). Mínimo 36 meses de los cuales certifique experiencia laboral o especialización relacionada con el objeto de la formación. | H49: Mínimo 12 meses de experiencia docente en el SENA o en instituciones de educación reconocidas por el MEN | I49: 1 | J49: necesidades de la formación | K49: 44013 | L49: 44183 | M49: =+DATEDIF(K49,L49,"M") -> 5 | N49: =+DATEDIF(K49,L49,"MD") -> 17 | O49: 16 | P49: 3607060 | Q49: =+(P49*M49+(P49/30*N49))*I49 -> 20079301
B50: 6 | C50: PRESTAR SERVICIOS PERSONALES DE CARÁCTER TEMPORAL PARA PLANEAR Y ORIENTAR LA FORMACIÓN PROFESIONAL INTEGRAL, EN EL AREA DE IDIOMAS QUE PROGRAME EL CENTRO DE COMERCIO Y SERVICIOS DEL SENA REGIONAL ATLANTICO EN SUS DIFERENTES NIVELES Y MODALIDADES, ATENDIENDO LAS POLÍTICAS INSTITUCIONALES Y LA NORMATIVIDAD VIGENTE | D50: 1. Desarrollar actividades de formación profesional en los programas definidos por el centro. 2. Entregar al equipo de SOFIA PLUS, la información requerida para la asignación de rol y disponibilidad en el aplicativo 3. Hacer la evaluación correspondiente a los cursos asignados. | E50: PROFESIONAL O TECNOLOGO | F50: "Todos los instructores de lenguas SENA deben cumplir con las especificaciones de las opciones enunciadas a continuación. Alternativa 1: Tìtulo Técnico en cualquier nùcleo bàsico de conocimiento. Nivel de Lengua: Mínimo nivel B2 de dominio de la lengua de acuerdo al MCER. Los exàmenes admitidos deben corresponder con la lista de exàmenes aprobados por la NTC5580-2011 (Icontec MEN) (Tabla 1 segùn requerimiento de lengua), tener una vigencia de 2 años, corresponder a las 4 habilidades de dominio de la lengua (Comprensiòn Lectora, Comprensiòn Escrita, Producciòn Oral, Producciòn Escrita). Experiencia laboral: Mínimo 36 meses de experiencia relacionados con la docencia de lengua extranjera. Alternativa 2: Tìtulo Tecnòlogo en cualquier nùcleo bàsico de conocimiento. Nivel de Lengua: Mínimo nivel B2 de dominio de la lengua de acuerdo al MCER. Los exàmenes admitidos deben corresponder con la lista de exàmenes aprobados por la NTC5580-2011 (Icontec MEN) (Tabla 1 segùn requerimiento de lengua), tener una vigencia de 2 años, corresponder a las 4 habilidades de dominio de la lengua (Comprensiòn Lectora, Comprensiòn Escrita, Producciòn Oral, Producciòn Escrita). Experiencia laboral: Mínimo 30 meses de experiencia relacionados con la docencia de lengua extranjera. Alternativa 3: Tìtulo Profesional univeritario en cualquier nùcleo bàsico de conocimiento. Nivel de Lengua: Mínimo nivel B2 de dominio de la lengua de acuerdo al MCER. Los exàmenes admitidos deben corresponder con la lista de exàmenes aprobados por la NTC5580-2011 (Icontec MEN) (Tabla 1 segùn requerimiento de lengua), tener una vigencia de 2 años, corresponder a las 4 habilidades de dominio de la lengua (Comprensiòn Lectora, Comprensiòn Escrita, Producciòn Oral, Producciòn Escrita). Experiencia laboral: Mínimo 24 meses de experiencia relacionados con la docencia de lengua extranjera. Nota 1: Es importante precisar que los instructores contratados sòlo podràn orientar procesos de formaciòn en la lengua extranjera que dominan y de la cual han presentado su certificaciòn de suficiencia en el nivel requerido. Nota 2: Los tutores virtuales que orientaràn formaciòn complementaria virtual o la competencia de inglès en los programas de titulada virtual, adicional a los anteriores criterios deben acreditar capacitaciòn relacionada con tutorìa virtual, no inferior a 40 horas y tener experiencia adicional comprobada de mìnimo 6 meses com tutor virtual. Nota 3: Todos los tìtulos acadèmicos expedidos en un paìs diferente a Colombia deben cumplir con los requisitos y regulaciones de las normas que expida el Ministerio de Educaciòn Nacional y de contrataciòn pùblica." | G50: Mínimo 24 meses de experiencia laboral en el área de formación motivo de la contratación. (Opción 2). Mínimo 36 meses de los cuales certifique experiencia laboral o especialización relacionada con el objeto de la formación. | H50: Mínimo 12 meses de experiencia docente en el SENA o en instituciones de educación reconocidas por el MEN | I50: 1 | J50: necesidades de la formación | K50: 44013 | L50: 44183 | M50: =+DATEDIF(K50,L50,"M") -> 5 | N50: =+DATEDIF(K50,L50,"MD") -> 17 | O50: 16 | P50: 3607060 | Q50: =+(P50*M50+(P50/30*N50))*I50 -> 20079301
B51: 7 | C51: PRESTAR SERVICIOS PERSONALES DE CARÁCTER TEMPORAL PARA PLANEAR Y ORIENTAR LA FORMACIÓN PROFESIONAL INTEGRAL, EN EL AREA DE IDIOMAS QUE PROGRAME EL CENTRO DE COMERCIO Y SERVICIOS DEL SENA REGIONAL ATLANTICO EN SUS DIFERENTES NIVELES Y MODALIDADES, ATENDIENDO LAS POLÍTICAS INSTITUCIONALES Y LA NORMATIVIDAD VIGENTE | D51: 1. Desarrollar actividades de formación profesional en los programas definidos por el centro. 2. Entregar al equipo de SOFIA PLUS, la información requerida para la asignación de rol y disponibilidad en el aplicativo 3. Hacer la evaluación correspondiente a los cursos asignados. | E51: PROFESIONAL O TECNOLOGO | F51: "Todos los instructores de lenguas SENA deben cumplir con las especificaciones de las opciones enunciadas a continuación. Alternativa 1: Tìtulo Técnico en cualquier nùcleo bàsico de conocimiento. Nivel de Lengua: Mínimo nivel B2 de dominio de la lengua de acuerdo al MCER. Los exàmenes admitidos deben corresponder con la lista de exàmenes aprobados por la NTC5580-2011 (Icontec MEN) (Tabla 1 segùn requerimiento de lengua), tener una vigencia de 2 años, corresponder a las 4 habilidades de dominio de la lengua (Comprensiòn Lectora, Comprensiòn Escrita, Producciòn Oral, Producciòn Escrita). Experiencia laboral: Mínimo 36 meses de experiencia relacionados con la docencia de lengua extranjera. Alternativa 2: Tìtulo Tecnòlogo en cualquier nùcleo bàsico de conocimiento. Nivel de Lengua: Mínimo nivel B2 de dominio de la lengua de acuerdo al MCER. Los exàmenes admitidos deben corresponder con la lista de exàmenes aprobados por la NTC5580-2011 (Icontec MEN) (Tabla 1 segùn requerimiento de lengua), tener una vigencia de 2 años, corresponder a las 4 habilidades de dominio de la lengua (Comprensiòn Lectora, Comprensiòn Escrita, Producciòn Oral, Producciòn Escrita). Experiencia laboral: Mínimo 30 meses de experiencia relacionados con la docencia de lengua extranjera. Alternativa 3: Tìtulo Profesional univeritario en cualquier nùcleo bàsico de conocimiento. Nivel de Lengua: Mínimo nivel B2 de dominio de la lengua de acuerdo al MCER. Los exàmenes admitidos deben corresponder con la lista de exàmenes aprobados por la NTC5580-2011 (Icontec MEN) (Tabla 1 segùn requerimiento de lengua), tener una vigencia de 2 años, corresponder a las 4 habilidades de dominio de la lengua (Comprensiòn Lectora, Comprensiòn Escrita, Producciòn Oral, Producciòn Escrita). Experiencia laboral: Mínimo 24 meses de experiencia relacionados con la docencia de lengua extranjera. Nota 1: Es importante precisar que los instructores contratados sòlo podràn orientar procesos de formaciòn en la lengua extranjera que dominan y de la cual han presentado su certificaciòn de suficiencia en el nivel requerido. Nota 2: Los tutores virtuales que orientaràn formaciòn complementaria virtual o la competencia de inglès en los programas de titulada virtual, adicional a los anteriores criterios deben acreditar capacitaciòn relacionada con tutorìa virtual, no inferior a 40 horas y tener experiencia adicional comprobada de mìnimo 6 meses com tutor virtual. Nota 3: Todos los tìtulos acadèmicos expedidos en un paìs diferente a Colombia deben cumplir con los requisitos y regulaciones de las normas que expida el Ministerio de Educaciòn Nacional y de contrataciòn pùblica." | G51: Mínimo 24 meses de experiencia laboral en el área de formación motivo de la contratación. (Opción 2). Mínimo 36 meses de los cuales certifique experiencia laboral o especialización relacionada con el objeto de la formación. | H51: Mínimo 12 meses de experiencia docente en el SENA o en instituciones de educación reconocidas por el MEN | I51: 2 | J51: necesidades de la formación | K51: 44013 | L51: 44183 | M51: =+DATEDIF(K51,L51,"M") -> 5 | N51: =+DATEDIF(K51,L51,"MD") -> 17 | O51: 16 | P51: 3607060 | Q51: =+(P51*M51+(P51/30*N51))*I51 -> 40158601
B52: 8 | C52: PRESTAR SERVICIOS PERSONALES DE CARÁCTER TEMPORAL PARA PLANEAR Y ORIENTAR LA FORMACIÓN PROFESIONAL INTEGRAL, EN EL AREA DE IDIOMAS QUE PROGRAME EL CENTRO DE COMERCIO Y SERVICIOS DEL SENA REGIONAL ATLANTICO EN SUS DIFERENTES NIVELES Y MODALIDADES, ATENDIENDO LAS POLÍTICAS INSTITUCIONALES Y LA NORMATIVIDAD VIGENTE | D52: 1. Desarrollar actividades de formación profesional en los programas definidos por el centro. 2. Entregar al equipo de SOFIA PLUS, la información requerida para la asignación de rol y disponibilidad en el aplicativo 3. Hacer la evaluación correspondiente a los cursos asignados. | E52: PROFESIONAL O TECNOLOGO | F52: "Todos los instructores de lenguas SENA deben cumplir con las especificaciones de las opciones enunciadas a continuación. Alternativa 1: Tìtulo Técnico en cualquier nùcleo bàsico de conocimiento. Nivel de Lengua: Mínimo nivel B2 de dominio de la lengua de acuerdo al MCER. Los exàmenes admitidos deben corresponder con la lista de exàmenes aprobados por la NTC5580-2011 (Icontec MEN) (Tabla 1 segùn requerimiento de lengua), tener una vigencia de 2 años, corresponder a las 4 habilidades de dominio de la lengua (Comprensiòn Lectora, Comprensiòn Escrita, Producciòn Oral, Producciòn Escrita). Experiencia laboral: Mínimo 36 meses de experiencia relacionados con la docencia de lengua extranjera. Alternativa 2: Tìtulo Tecnòlogo en cualquier nùcleo bàsico de conocimiento. Nivel de Lengua: Mínimo nivel B2 de dominio de la lengua de acuerdo al MCER. Los exàmenes admitidos deben corresponder con la lista de exàmenes aprobados por la NTC5580-2011 (Icontec MEN) (Tabla 1 segùn requerimiento de lengua), tener una vigencia de 2 años, corresponder a las 4 habilidades de dominio de la lengua (Comprensiòn Lectora, Comprensiòn Escrita, Producciòn Oral, Producciòn Escrita). Experiencia laboral: Mínimo 30 meses de experiencia relacionados con la docencia de lengua extranjera. Alternativa 3: Tìtulo Profesional univeritario en cualquier nùcleo bàsico de conocimiento. Nivel de Lengua: Mínimo nivel B2 de dominio de la lengua de acuerdo al MCER. Los exàmenes admitidos deben corresponder con la lista de exàmenes aprobados por la NTC5580-2011 (Icontec MEN) (Tabla 1 segùn requerimiento de lengua), tener una vigencia de 2 años, corresponder a las 4 habilidades de dominio de la lengua (Comprensiòn Lectora, Comprensiòn Escrita, Producciòn Oral, Producciòn Escrita). Experiencia laboral: Mínimo 24 meses de experiencia relacionados con la docencia de lengua extranjera. Nota 1: Es importante precisar que los instructores contratados sòlo podràn orientar procesos de formaciòn en la lengua extranjera que dominan y de la cual han presentado su certificaciòn de suficiencia en el nivel requerido. Nota 2: Los tutores virtuales que orientaràn formaciòn complementaria virtual o la competencia de inglès en los programas de titulada virtual, adicional a los anteriores criterios deben acreditar capacitaciòn relacionada con tutorìa virtual, no inferior a 40 horas y tener experiencia adicional comprobada de mìnimo 6 meses com tutor virtual. Nota 3: Todos los tìtulos acadèmicos expedidos en un paìs diferente a Colombia deben cumplir con los requisitos y regulaciones de las normas que expida el Ministerio de Educaciòn Nacional y de contrataciòn pùblica." | G52: Mínimo 24 meses de experiencia laboral en el área de formación motivo de la contratación. (Opción 2). Mínimo 36 meses de los cuales certifique experiencia laboral o especialización relacionada con el objeto de la formación. | H52: Mínimo 12 meses de experiencia docente en el SENA o en instituciones de educación reconocidas por el MEN | I52: 1 | J52: necesidades de la formación | K52: 44013 | L52: 44183 | M52: =+DATEDIF(K52,L52,"M") -> 5 | N52: =+DATEDIF(K52,L52,"MD") -> 17 | O52: 16 | P52: 3607060 | Q52: =+(P52*M52+(P52/30*N52))*I52 -> 20079301
B53: 9 | C53: PRESTAR SERVICIOS PERSONALES DE CARÁCTER TEMPORAL PARA PLANEAR Y ORIENTAR LA FORMACIÓN PROFESIONAL INTEGRAL, EN EL AREA DE IDIOMAS QUE PROGRAME EL CENTRO DE COMERCIO Y SERVICIOS DEL SENA REGIONAL ATLANTICO EN SUS DIFERENTES NIVELES Y MODALIDADES, ATENDIENDO LAS POLÍTICAS INSTITUCIONALES Y LA NORMATIVIDAD VIGENTE | D53: 1. Desarrollar actividades de formación profesional en los programas definidos por el centro. 2. Entregar al equipo de SOFIA PLUS, la información requerida para la asignación de rol y disponibilidad en el aplicativo 3. Hacer la evaluación correspondiente a los cursos asignados. | E53: PROFESIONAL O TECNOLOGO | F53: "Todos los instructores de lenguas SENA deben cumplir con las especificaciones de las opciones enunciadas a continuación. Alternativa 1: Tìtulo Técnico en cualquier nùcleo bàsico de conocimiento. Nivel de Lengua: Mínimo nivel B2 de dominio de la lengua de acuerdo al MCER. Los exàmenes admitidos deben corresponder con la lista de exàmenes aprobados por la NTC5580-2011 (Icontec MEN) (Tabla 1 segùn requerimiento de lengua), tener una vigencia de 2 años, corresponder a las 4 habilidades de dominio de la lengua (Comprensiòn Lectora, Comprensiòn Escrita, Producciòn Oral, Producciòn Escrita). Experiencia laboral: Mínimo 36 meses de experiencia relacionados con la docencia de lengua extranjera. Alternativa 2: Tìtulo Tecnòlogo en cualquier nùcleo bàsico de conocimiento. Nivel de Lengua: Mínimo nivel B2 de dominio de la lengua de acuerdo al MCER. Los exàmenes admitidos deben corresponder con la lista de exàmenes aprobados por la NTC5580-2011 (Icontec MEN) (Tabla 1 segùn requerimiento de lengua), tener una vigencia de 2 años, corresponder a las 4 habilidades de dominio de la lengua (Comprensiòn Lectora, Comprensiòn Escrita, Producciòn Oral, Producciòn Escrita). Experiencia laboral: Mínimo 30 meses de experiencia relacionados con la docencia de lengua extranjera. Alternativa 3: Tìtulo Profesional univeritario en cualquier nùcleo bàsico de conocimiento. Nivel de Lengua: Mínimo nivel B2 de dominio de la lengua de acuerdo al MCER. Los exàmenes admitidos deben corresponder con la lista de exàmenes aprobados por la NTC5580-2011 (Icontec MEN) (Tabla 1 segùn requerimiento de lengua), tener una vigencia de 2 años, corresponder a las 4 habilidades de dominio de la lengua (Comprensiòn Lectora, Comprensiòn Escrita, Producciòn Oral, Producciòn Escrita). Experiencia laboral: Mínimo 24 meses de experiencia relacionados con la docencia de lengua extranjera. Nota 1: Es importante precisar que los instructores contratados sòlo podràn orientar procesos de formaciòn en la lengua extranjera que dominan y de la cual han presentado su certificaciòn de suficiencia en el nivel requerido. Nota 2: Los tutores virtuales que orientaràn formaciòn complementaria virtual o la competencia de inglès en los programas de titulada virtual, adicional a los anteriores criterios deben acreditar capacitaciòn relacionada con tutorìa virtual, no inferior a 40 horas y tener experiencia adicional comprobada de mìnimo 6 meses com tutor virtual. Nota 3: Todos los tìtulos acadèmicos expedidos en un paìs diferente a Colombia deben cumplir con los requisitos y regulaciones de las normas que expida el Ministerio de Educaciòn Nacional y de contrataciòn pùblica." | G53: Mínimo 24 meses de experiencia laboral en el área de formación motivo de la contratación. (Opción 2). Mínimo 36 meses de los cuales certifique experiencia laboral o especialización relacionada con el objeto de la formación. | H53: Mínimo 12 meses de experiencia docente en el SENA o en instituciones de educación reconocidas por el MEN | I53: 1 | J53: necesidades de la formación | K53: 44013 | L53: 44183 | M53: =+DATEDIF(K53,L53,"M") -> 5 | N53: =+DATEDIF(K53,L53,"MD") -> 17 | O53: 16 | P53: 3607060 | Q53: =+(P53*M53+(P53/30*N53))*I53 -> 20079301
B54: 10 | C54: PRESTAR SERVICIOS PERSONALES DE CARÁCTER TEMPORAL PARA PLANEAR Y ORIENTAR LA FORMACIÓN PROFESIONAL INTEGRAL, EN EL AREA DE IDIOMAS QUE PROGRAME EL CENTRO DE COMERCIO Y SERVICIOS DEL SENA REGIONAL ATLANTICO EN SUS DIFERENTES NIVELES Y MODALIDADES, ATENDIENDO LAS POLÍTICAS INSTITUCIONALES Y LA NORMATIVIDAD VIGENTE | D54: 1. Desarrollar actividades de formación profesional en los programas definidos por el centro. 2. Entregar al equipo de SOFIA PLUS, la información requerida para la asignación de rol y disponibilidad en el aplicativo 3. Hacer la evaluación correspondiente a los cursos asignados. | E54: PROFESIONAL O TECNOLOGO | F54: "Todos los instructores de lenguas SENA deben cumplir con las especificaciones de las opciones enunciadas a continuación. Alternativa 1: Tìtulo Técnico en cualquier nùcleo bàsico de conocimiento. Nivel de Lengua: Mínimo nivel B2 de dominio de la lengua de acuerdo al MCER. Los exàmenes admitidos deben corresponder con la lista de exàmenes aprobados por la NTC5580-2011 (Icontec MEN) (Tabla 1 segùn requerimiento de lengua), tener una vigencia de 2 años, corresponder a las 4 habilidades de dominio de la lengua (Comprensiòn Lectora, Comprensiòn Escrita, Producciòn Oral, Producciòn Escrita). Experiencia laboral: Mínimo 36 meses de experiencia relacionados con la docencia de lengua extranjera. Alternativa 2: Tìtulo Tecnòlogo en cualquier nùcleo bàsico de conocimiento. Nivel de Lengua: Mínimo nivel B2 de dominio de la lengua de acuerdo al MCER. Los exàmenes admitidos deben corresponder con la lista de exàmenes aprobados por la NTC5580-2011 (Icontec MEN) (Tabla 1 segùn requerimiento de lengua), tener una vigencia de 2 años, corresponder a las 4 habilidades de dominio de la lengua (Comprensiòn Lectora, Comprensiòn Escrita, Producciòn Oral, Producciòn Escrita). Experiencia laboral: Mínimo 30 meses de experiencia relacionados con la docencia de lengua extranjera. Alternativa 3: Tìtulo Profesional univeritario en cualquier nùcleo bàsico de conocimiento. Nivel de Lengua: Mínimo nivel B2 de dominio de la lengua de acuerdo al MCER. Los exàmenes admitidos deben corresponder con la lista de exàmenes aprobados por la NTC5580-2011 (Icontec MEN) (Tabla 1 segùn requerimiento de lengua), tener una vigencia de 2 años, corresponder a las 4 habilidades de dominio de la lengua (Comprensiòn Lectora, Comprensiòn Escrita, Producciòn Oral, Producciòn Escrita). Experiencia laboral: Mínimo 24 meses de experiencia relacionados con la docencia de lengua extranjera. Nota 1: Es importante precisar que los instructores contratados sòlo podràn orientar procesos de formaciòn en la lengua extranjera que dominan y de la cual han presentado su certificaciòn de suficiencia en el nivel requerido. Nota 2: Los tutores virtuales que orientaràn formaciòn complementaria virtual o la competencia de inglès en los programas de titulada virtual, adicional a los anteriores criterios deben acreditar capacitaciòn relacionada con tutorìa virtual, no inferior a 40 horas y tener experiencia adicional comprobada de mìnimo 6 meses com tutor virtual. Nota 3: Todos los tìtulos acadèmicos expedidos en un paìs diferente a Colombia deben cumplir con los requisitos y regulaciones de las normas que expida el Ministerio de Educaciòn Nacional y de contrataciòn pùblica." | G54: Mínimo 24 meses de experiencia laboral en el área de formación motivo de la contratación. (Opción 2). Mínimo 36 meses de los cuales certifique experiencia laboral o especialización relacionada con el objeto de la formación. | H54: Mínimo 12 meses de experiencia docente en el SENA o en instituciones de educación reconocidas por el MEN | I54: 1 | J54: necesidades de la formación | K54: 44013 | L54: 44183 | M54: =+DATEDIF(K54,L54,"M") -> 5 | N54: =+DATEDIF(K54,L54,"MD") -> 17 | O54: 16 | P54: 3607060 | Q54: =+(P54*M54+(P54/30*N54))*I54 -> 20079301
B55: 11 | C55: PRESTAR SERVICIOS PERSONALES DE CARÁCTER TEMPORAL PARA PLANEAR Y ORIENTAR LA FORMACIÓN PROFESIONAL INTEGRAL, EN EL AREA DE IDIOMAS QUE PROGRAME EL CENTRO DE COMERCIO Y SERVICIOS DEL SENA REGIONAL ATLANTICO EN SUS DIFERENTES NIVELES Y MODALIDADES, ATENDIENDO LAS POLÍTICAS INSTITUCIONALES Y LA NORMATIVIDAD VIGENTE | D55: 1. Desarrollar actividades de formación profesional en los programas definidos por el centro. 2. Entregar al equipo de SOFIA PLUS, la información requerida para la asignación de rol y disponibilidad en el aplicativo 3. Hacer la evaluación correspondiente a los cursos asignados. | E55: PROFESIONAL O TECNOLOGO | F55: "Todos los instructores de lenguas SENA deben cumplir con las especificaciones de las opciones enunciadas a continuación. Alternativa 1: Tìtulo Técnico en cualquier nùcleo bàsico de conocimiento. Nivel de Lengua: Mínimo nivel B2 de dominio de la lengua de acuerdo al MCER. Los exàmenes admitidos deben corresponder con la lista de exàmenes aprobados por la NTC5580-2011 (Icontec MEN) (Tabla 1 segùn requerimiento de lengua), tener una vigencia de 2 años, corresponder a las 4 habilidades de dominio de la lengua (Comprensiòn Lectora, Comprensiòn Escrita, Producciòn Oral, Producciòn Escrita). Experiencia laboral: Mínimo 36 meses de experiencia relacionados con la docencia de lengua extranjera. Alternativa 2: Tìtulo Tecnòlogo en cualquier nùcleo bàsico de conocimiento. Nivel de Lengua: Mínimo nivel B2 de dominio de la lengua de acuerdo al MCER. Los exàmenes admitidos deben corresponder con la lista de exàmenes aprobados por la NTC5580-2011 (Icontec MEN) (Tabla 1 segùn requerimiento de lengua), tener una vigencia de 2 años, corresponder a las 4 habilidades de dominio de la lengua (Comprensiòn Lectora, Comprensiòn Escrita, Producciòn Oral, Producciòn Escrita). Experiencia laboral: Mínimo 30 meses de experiencia relacionados con la docencia de lengua extranjera. Alternativa 3: Tìtulo Profesional univeritario en cualquier nùcleo bàsico de conocimiento. Nivel de Lengua: Mínimo nivel B2 de dominio de la lengua de acuerdo al MCER. Los exàmenes admitidos deben corresponder con la lista de exàmenes aprobados por la NTC5580-2011 (Icontec MEN) (Tabla 1 segùn requerimiento de lengua), tener una vigencia de 2 años, corresponder a las 4 habilidades de dominio de la lengua (Comprensiòn Lectora, Comprensiòn Escrita, Producciòn Oral, Producciòn Escrita). Experiencia laboral: Mínimo 24 meses de experiencia relacionados con la docencia de lengua extranjera. Nota 1: Es importante precisar que los instructores contratados sòlo podràn orientar procesos de formaciòn en la lengua extranjera que dominan y de la cual han presentado su certificaciòn de suficiencia en el nivel requerido. Nota 2: Los tutores virtuales que orientaràn formaciòn complementaria virtual o la competencia de inglès en los programas de titulada virtual, adicional a los anteriores criterios deben acreditar capacitaciòn relacionada con tutorìa virtual, no inferior a 40 horas y tener experiencia adicional comprobada de mìnimo 6 meses com tutor virtual. Nota 3: Todos los tìtulos acadèmicos expedidos en un paìs diferente a Colombia deben cumplir con los requisitos y regulaciones de las normas que expida el Ministerio de Educaciòn Nacional y de contrataciòn pùblica." | G55: Mínimo 24 meses de experiencia laboral en el área de formación motivo de la contratación. (Opción 2). Mínimo 36 meses de los cuales certifique experiencia laboral o especialización relacionada con el objeto de la formación. | H55: Mínimo 12 meses de experiencia docente en el SENA o en instituciones de educación reconocidas por el MEN | I55: 1 | J55: necesidades de la formación | K55: 44013 | L55: 44183 | M55: =+DATEDIF(K55,L55,"M") -> 5 | N55: =+DATEDIF(K55,L55,"MD") -> 17 | O55: 16 | P55: 3607060 | Q55: =+(P55*M55+(P55/30*N55))*I55 -> 20079301
B56: 10 | C56: PRESTAR SERVICIOS PERSONALES DE CARÁCTER TEMPORAL PARA PLANEAR Y ORIENTAR LA FORMACIÓN PROFESIONAL INTEGRAL, EN EL AREA DE SOFTWARE QUE PROGRAME EL CENTRO DE COMERCIO Y SERVICIOS DEL SENA REGIONAL ATLANTICO EN SUS DIFERENTES NIVELES Y MODALIDADES, ATENDIENDO LAS POLÍTICAS INSTITUCIONALES Y LA NORMATIVIDAD VIGENTE | D56: 1. Desarrollar actividades de formación profesional en los programas definidos por el centro. 2. Entregar al equipo de SOFIA PLUS, la información requerida para la asignación de rol y disponibilidad en el aplicativo 3. Hacer la evaluación correspondiente a los cursos asignados. | E56: PROFESIONAL O TECNOLOGO | F56: OPCION 1 Título de Técnico en Programación de software, o Sistemas OPCION 2 Título de tecnólogo en los núcleos de conocimiento de Ingeniería de sistemas, telemática y afines OPCION 3 Título profesional en los núcleos de Ingeniería de sistemas, telemática y afines. Tarjeta Profesional en los Casos Exigidos por la Ley | G56: Mínimo 24 meses de experiencia laboral en el área de formación motivo de la contratación. (Opción 2). Mínimo 36 meses de los cuales certifique experiencia laboral o especialización relacionada con el objeto de la formación. | H56: Mínimo 12 meses de experiencia docente en el SENA o en instituciones de educación reconocidas por el MEN | I56: 1 | J56: necesidades de la formación | K56: 44013 | L56: 44183 | M56: =+DATEDIF(K56,L56,"M") -> 5 | N56: =+DATEDIF(K56,L56,"MD") -> 17 | O56: 16 | P56: 3607060 | Q56: =+(P56*M56+(P56/30*N56))*I56 -> 20079301
B57: 10 | C57: PRESTAR SERVICIOS PERSONALES DE CARÁCTER TEMPORAL PARA PLANEAR Y ORIENTAR LA FORMACIÓN PROFESIONAL INTEGRAL, EN EL AREA DE SOFTWARE QUE PROGRAME EL CENTRO DE COMERCIO Y SERVICIOS DEL SENA REGIONAL ATLANTICO EN SUS DIFERENTES NIVELES Y MODALIDADES, ATENDIENDO LAS POLÍTICAS INSTITUCIONALES Y LA NORMATIVIDAD VIGENTE | D57: 1. Desarrollar actividades de formación profesional en los programas definidos por el centro. 2. Entregar al equipo de SOFIA PLUS, la información requerida para la asignación de rol y disponibilidad en el aplicativo 3. Hacer la evaluación correspondiente a los cursos asignados. | E57: PROFESIONAL O TECNOLOGO | F57: OPCION 1 Título de Técnico en Programación de software, o Sistemas OPCION 2 Título de tecnólogo en los núcleos de conocimiento de Ingeniería de sistemas, telemática y afines OPCION 3 Título profesional en los núcleos de Ingeniería de sistemas, telemática y afines. Tarjeta Profesional en los Casos Exigidos por la Ley | G57: Mínimo 24 meses de experiencia laboral en el área de formación motivo de la contratación. (Opción 2). Mínimo 36 meses de los cuales certifique experiencia laboral o especialización relacionada con el objeto de la formación. | H57: Mínimo 12 meses de experiencia docente en el SENA o en instituciones de educación reconocidas por el MEN | I57: 1 | J57: necesidades de la formación | K57: 44013 | L57: 44183 | M57: =+DATEDIF(K57,L57,"M") -> 5 | N57: =+DATEDIF(K57,L57,"MD") -> 17 | O57: 16 | P57: 3607060 | Q57: =+(P57*M57+(P57/30*N57))*I57 -> 20079301
B58: 10 | C58: PRESTAR SERVICIOS PERSONALES DE CARÁCTER TEMPORAL PARA PLANEAR Y ORIENTAR LA FORMACIÓN PROFESIONAL INTEGRAL, EN EL AREA DE SOFTWARE QUE PROGRAME EL CENTRO DE COMERCIO Y SERVICIOS DEL SENA REGIONAL ATLANTICO EN SUS DIFERENTES NIVELES Y MODALIDADES, ATENDIENDO LAS POLÍTICAS INSTITUCIONALES Y LA NORMATIVIDAD VIGENTE | D58: 1. Desarrollar actividades de formación profesional en los programas definidos por el centro. 2. Entregar al equipo de SOFIA PLUS, la información requerida para la asignación de rol y disponibilidad en el aplicativo 3. Hacer la evaluación correspondiente a los cursos asignados. | E58: PROFESIONAL O TECNOLOGO | F58: OPCION 1 Título de Técnico en Programación de software, o Sistemas OPCION 2 Título de tecnólogo en los núcleos de conocimiento de Ingeniería de sistemas, telemática y afines OPCION 3 Título profesional en los núcleos de Ingeniería de sistemas, telemática y afines. Tarjeta Profesional en los Casos Exigidos por la Ley | G58: Mínimo 24 meses de experiencia laboral en el área de formación motivo de la contratación. (Opción 2). Mínimo 36 meses de los cuales certifique experiencia laboral o especialización relacionada con el objeto de la formación. | H58: Mínimo 12 meses de experiencia docente en el SENA o en instituciones de educación reconocidas por el MEN | I58: 1 | J58: necesidades de la formación | K58: 44013 | L58: 44183 | M58: =+DATEDIF(K58,L58,"M") -> 5 | N58: =+DATEDIF(K58,L58,"MD") -> 17 | O58: 16 | P58: 3607060 | Q58: =+(P58*M58+(P58/30*N58))*I58 -> 20079301
... B77: 34 | C77: "PRESTAR SERVICIOS PERSONALES DE CARÁCTER TEMPORAL PARA PLANEAR Y ORIENTAR LA FORMACIÓN PROFESIONAL INTEGRAL, EN EL AREA DE MATEMÁTICAS QUE PROGRAME EL CENTRO DE COMERCIO Y SERVICIOS DEL SENA REGIONAL ATLANTICO EN SUS DIFERENTES NIVELES Y MODALIDADES, ATENDIENDO LAS POLÍTICAS INSTITUCIONALES Y LA NORMATIVIDAD VIGENTE" | D77: 1. Desarrollar actividades de formación profesional en los programas definidos por el centro. 2. Entregar al equipo de SOFIA PLUS, la información requerida para la asignación de rol y disponibilidad en el aplicativo 3. Hacer la evaluación correspondiente a los cursos asignados. | E77: PROFESIONAL O TECNOLOGO | F77: "OPCION 1 Título de Tecnólogo en núcleos básicos de conocimiento de: Educación OPCION 2 Título Profesional universitario en núcleos básicos de conocimiento de: Educación; o Matemáticas, Estadística y Afines; o Física" | G77: Mínimo 12 meses de experiencia docente en el SENA o en instituciones de educación reconocidas por el MEN | H77: Mínimo 12 meses de experiencia docente en el SENA o en instituciones de educación reconocidas por el MEN | I77: 1 | J77: necesidades de la formación | K77: 44013 | L77: 44183 | M77: =+DATEDIF(K77,L77,"M") -> 5 | N77: =+DATEDIF(K77,L77,"MD") -> 17 | O77: 16 | P77: 3607060 | Q77: =+(P77*M77+(P77/30*N77))*I77 -> 20079301
C78: PRESTAR SERVICIOS PERSONALES DE CARÁCTER TEMPORAL PARA PLANEAR Y ORIENTAR LA FORMACIÓN PROFESIONAL INTEGRAL, EN EL AREA DE CONTABILIDAD QUE PROGRAME EL CENTRO DE COMERCIO Y SERVICIOS DEL SENA REGIONAL ATLANTICO EN SUS DIFERENTES NIVELES Y MODALIDADES, ATENDIENDO LAS POLÍTICAS INSTITUCIONALES Y LA NORMATIVIDAD VIGENTE | D78: 1. Desarrollar actividades de formación profesional en los programas definidos por el centro. 2. Entregar al equipo de SOFIA PLUS, la información requerida para la asignación de rol y disponibilidad en el aplicativo 3. Hacer la evaluación correspondiente a los cursos asignados. | E78: Profesional | F78: OPCION 1 Título de Técnico en: Contabilización deoperaciones comerciales y financieras OPCION 2 Título profesional en los núcleos deconocimiento de: Contaduría pública. Tarjeta Profesional en los Casos Exigidos por la Ley | G78: Dieciocho (18) meses estarán relacionados con el ejercicio de la profesión u oficio objeto de la formación profesional | H78: Mínimo 6 meses de experiencia docente en el SENA o en instituciones de educación reconocidas por el MEN | I78: 1 | J78: necesidades de la formación | K78: 44013 | L78: 44183 | M78: =+DATEDIF(K78,L78,"M") -> 5 | N78: =+DATEDIF(K78,L78,"MD") -> 17 | O78: 16 | P78: 3607060 | Q78: =+(P78*M78+(P78/30*N78))*I78 -> 20079301
C79: PRESTAR SERVICIOS PERSONALES DE CARÁCTER TEMPORAL PARA PLANEAR Y ORIENTAR LA FORMACIÓN PROFESIONAL INTEGRAL, EN EL AREA DE CONTABILIDAD QUE PROGRAME EL CENTRO DE COMERCIO Y SERVICIOS DEL SENA REGIONAL ATLANTICO EN SUS DIFERENTES NIVELES Y MODALIDADES, ATENDIENDO LAS POLÍTICAS INSTITUCIONALES Y LA NORMATIVIDAD VIGENTE | D79: 1. Desarrollar actividades de formación profesional en los programas definidos por el centro. 2. Entregar al equipo de SOFIA PLUS, la información requerida para la asignación de rol y disponibilidad en el aplicativo 3. Hacer la evaluación correspondiente a los cursos asignados. | E79: Profesional | F79: OPCION 1 Título de Técnico en: Contabilización deoperaciones comerciales y financieras OPCION 2 Título profesional en los núcleos deconocimiento de: Contaduría pública. Tarjeta Profesional en los Casos Exigidos por la Ley | G79: Dieciocho (18) meses estarán relacionados con el ejercicio de la profesión u oficio objeto de la formación profesional | H79: Mínimo 6 meses de experiencia docente en el SENA o en instituciones de educación reconocidas por el MEN | I79: 1 | J79: necesidades de la formación | K79: 44013 | L79: 44183 | M79: =+DATEDIF(K79,L79,"M") -> 5 | N79: =+DATEDIF(K79,L79,"MD") -> 17 | O79: 16 | P79: 3607060 | Q79: =+(P79*M79+(P79/30*N79))*I79 -> 20079301
C80: PRESTAR SERVICIOS PERSONALES DE CARÁCTER TEMPORAL PARA PLANEAR Y ORIENTAR LA FORMACIÓN PROFESIONAL INTEGRAL, EN EL AREA DE TRANSPORTE FLUVIAL QUE PROGRAME EL CENTRO DE COMERCIO Y SERVICIOS DEL SENA REGIONAL ATLANTICO EN SUS DIFERENTES NIVELES Y MODALIDADES, ATENDIENDO LAS POLÍTICAS INSTITUCIONALES Y LA NORMATIVIDAD VIGENTE | D80: 1. Desarrollar actividades de formación profesional en los programas definidos por el centro. 2. Entregar al equipo de SOFIA PLUS, la información requerida para la asignación de rol y disponibilidad en el aplicativo 3. Hacer la evaluación correspondiente a los cursos asignados. | E80: Profesional | F80: Título profesional en los núcleos deconocimiento de Administración Tarjeta Profesional en los Casos Exigidos por la Ley Licencia y Certificado por autoridad competente en el área de operación de transporte fluvial | G80: Dieciocho (18) meses estarán relacionados con el ejercicio de la profesión u oficio objeto de la formación profesional | H80: Mínimo 6 meses de experiencia docente en el SENA o en instituciones de educación reconocidas por el MEN | I80: 1 | J80: necesidades de la formación | K80: 44013 | L80: 44183 | M80: =+DATEDIF(K80,L80,"M") -> 5 | N80: =+DATEDIF(K80,L80,"MD") -> 17 | O80: 16 | P80: 3607060 | Q80: =+(P80*M80+(P80/30*N80))*I80 -> 20079301
I81: =+SUM(I45:I80) -> 44 | Q81: =+SUM(Q45:Q80) -> 8.8348923e+08
I82: =+I81+I38+I42+I35+I30 -> 67 | Q82: =+Q81+Q38+Q35+Q42+Q30 -> 1.4130633e+09
Q83: =+Q82 -> 1.4130633e+09
C85: SUBDIRECTOR CENTRO DE COMERCIO Y SERVICIOS

Sheet Hoja1

Sheet Hoja2

Sheet Hoja3

Sheet Hoja4

Sheet Hoja5

Sheet ADICIONES COORDINACIONES
A10: No. ITEM | B10: OBJETO CONTRACTUAL | C10: CONTRATISTA | H10: No. CONTRATISTAS | I10: CONTRATO | P10: VALOR TOTAL DEL CONTRATO (Valor X Plazo ) | Q10: NOMBRE | R10: OBSERVACIONES
C11: OBLIGACIONES PRINCIPALES (Incluir 3) | D11: NIVEL DE FORMACION | E11: FORMACION | F11: MESES EXPERIENCIA LABORAL | G11: MESES EXPERIENCIA DOCENTE | I11: JUSTIFICACIÓN OBJETOS IGUALES | J11: FECHA DE INICIO DE ADICION | K11: FECHA FINAL DEL CONTRATO CON LA ADICION | L11: PLAZO EN MESES | M11: PLAZO EN DIAS | N11: DIAS RECESO | O11: VALOR MENSUAL/HORA
B12: FAMILIA CALIDAD
A13: 1 | B13: PRESTAR SERVICIOS PERSONALES DE CARÁCTER TEMPORAL PARA PLANEAR, EJECUTAR Y ORIENTAR LA FORMACIÓN PROFESIONAL INTEGRAL EN LA FAMILIA CALIDAD QUE PROGRAME EL CENTRO DE FORMACIÓN EN SUS DIFERENTES NIVELES EN MODALIDAD VIRTUAL Y A DISTANCIA, ATENDIENDO LAS POLÍTICAS INSTITUCIONALES Y LA NORMATIVIDAD VIGENTE | C13: 1. Desarrollar actividades de formación profesional en los programas definidos por el centro. 2. Entregar al equipo de SOFIA PLUS, la información requerida para la asignación de rol y disponibilidad en el aplicativo 3. Hacer la evaluación correspondiente a los cursos asignados. | D13: Tecnólogo o Profesional | E13: PROFESIONAL O TECNÓLOGO EN ÁREAS ADMINISTRATIVAS, COMERCIALES Y/O EMPRESARIALES (INGENIERÍA INDUSTRIAL, COMERCIO INTERNACIONAL, ADMINISTRACIÓN DE EMPRESAS Y AFINES) | F13: Mínimo (24) meses de experiencia laboral en el área de formación motivo de la contratación. (Opción 2): Mínimo (36) meses de experiencia laboral en el área de formación motivo de la contratación. | G13: Mínimo 12 meses de experiencia docente en instituciones de educación reconocidas por el MEN | H13: 1 | I13: necesidades de la formación | J13: 44170 | K13: 44181 | L13: =+DATEDIF(J13,K13,"M") -> 0 | M13: =+DATEDIF(J13,K13,"MD") -> 11 | N13: 0 | O13: =3502000*1.03 -> 3607060 | P13: =+(O13*L13+(O13/30*(M13-N13)))*H13 -> 1322588.7 | Q13: NUEVO | R13: EDGARD TINOCO | S13: CDP 12520
B14: FAMILIA DE BILINGÜISMO
A15: 1 | B15: PRESTAR SERVICIOS PERSONALES DE CARÁCTER TEMPORAL PARA PLANEAR, EJECUTAR Y ORIENTAR LA FORMACIÓN PROFESIONAL INTEGRAL EN LA FAMILIA IDIOMAS (BILINGÜISMO) QUE PROGRAME EL CENTRO DE FORMACIÓN EN SUS DIFERENTES NIVELES EN MODALIDAD VIRTUAL Y A DISTANCIA, ATENDIENDO LAS POLÍTICAS INSTITUCIONALES Y LA NORMATIVIDAD VIGENTE | C15: • PARTICIPAR EN LA PLANEACIÓN DE LOS PROCESOS FORMATIVOS EN MODALIDAD VIRTUAL Y A DISTANCIA, DE ACUERDO CON LOS LINEAMIENTOS INSTITUCIONALES, PARA EL ÁREA TEMÁTICA DEL OBJETO CONTRACTUAL. • PARTICIPAR CUANDO EL CENTRO DE FORMACIÓN LO REQUIERA, EN JORNADAS DE DISEÑO Y DESARROLLO CURRICULAR DE PROGRAMAS DE FORMACIÓN PROFESIONAL INTEGRAL EN MODALIDAD VIRTUAL Y A DISTANCIA, CONFORME A LAS NECESIDADES NACIONALES Y A LOS LINEAMIENTOS INSTITUCIONALES REQUERIDOS. • EVALUAR LOS APRENDIZAJES PREVIOS CORRESPONDIENTES A LAS FICHAS ASIGNADAS, DE ACUERDO CON LOS PROCEDIMIENTOS, PLAZOS Y HERRAMIENTAS TECNOLÓGICAS QUE LA ENTIDAD DEFINA. • PARTICIPAR CUANDO EL CENTRO DE FORMACIÓN LO REQUIERA, EN PROYECTOS DE INVESTIGACIÓN TÉCNICA Y/O PEDAGÓGICA PARA FORTALECER EL PROCESO DE FORMACIÓN EN MODALIDAD VIRTUAL Y A DISTANCIA. • EJECUTAR LA FORMACIÓN PROFESIONAL INTEGRAL DE ACUERDO CON EL DISEÑO CURRICULAR, DESARROLLO CURRICULAR Y PROYECTO FORMATIVO DE LOS PROGRAMAS VIRTUALES DEL ÁREA TEMÁTICA EN EL OBJETO DEL CONTRATO. • APLICAR ESTRATEGIAS DE ENSEÑANZA, APRENDIZAJE, SEGUIMIENTO Y EVALUACIÓN EN MODALIDAD VIRTUAL Y A DISTANCIA, DE ACUERDO A LOS LINEAMIENTOS PEDAGÓGICOS Y METODOLÓGICOS DE LA ENTIDAD. • EMITIR JUICIO VALORATIVO SOBRE EL NIVEL DE CUMPLIMIENTO DE LOS RESULTADOS DE APRENDIZAJES DE LAS COMPETENCIAS DEL PROGRAMA EN MODALIDAD VIRTUAL Y A DISTANCIA, ADQUIRIDOS POR LOS APRENDICES EN EL DESARROLLO DE SU FORMACIÓN, APLICANDO LOS PROCEDIMIENTOS, PLAZOS Y HERRAMIENTAS TECNOLÓGICAS QUE LA ENTIDAD DEFINA. • REGISTRAR, VERIFICAR Y HACER SEGUIMIENTO OPORTUNO EN EL SISTEMA DE INFORMACIÓN QUE LA ENTIDAD DEFINA PARA LA GESTIÓN DE LA FORMACIÓN PROFESIONAL INTEGRAL EN MODALIDAD VIRTUAL Y A DISTANCIA, MEDIANTE LAS SIGUIENTES ACTIVIDADES: A). VERIFICAR QUE LA TOTALIDAD DE LOS APRENDICES SELECCIONADOS ESTÉN ASOCIADOS A UNA RUTA DE APRENDIZAJE Y SU ESTADO SEA MATRICULADO. B). REGISTRAR JUICIOS EVALUATIVOS, REALIZAR RECONOCIMIENTO DE APRENDIZAJES PREVIOS, PARA LOS APRENDICES NUEVOS, REINTEGRADOS O TRASLADADOS. E). COMUNICAR AL COORDINADOR ACADÉMICO OPORTUNAMENTE ANOMALÍAS, INCONSISTENCIAS, NOVEDADES DE APRENDICES Y HALLAZGOS EN EL REGISTRO DE LA INFORMACIÓN. • APLICAR Y HACER CUMPLIR EL REGLAMENTO DEL APRENDIZ Y EL MANUAL DE CONVIVENCIA INSTAURADO EN LA INSTITUCIÓN. • APOYAR PROCESOS DE REGISTRO CALIFICADO PARA LOS PROGRAMAS DE EDUCACIÓN SUPERIOR DEL ÁREA TEMÁTICA OBJETO DEL PRESENTE CONTRATO, CUANDO EL CENTRO LO REQUIERA. • REALIZAR SEGUIMIENTO A LOS APRENDICES QUE INGRESAN A LA ETAPA PRODUCTIVA EN MODALIDAD VIRTUAL Y A DISTANCIA SEGÚN LA ASIGNACIÓN Y REQUERIMIENTOS DEL CENTRO DE FORMACIÓN. • PARTICIPAR EN LOS PROCESOS DE AUTOEVALUACIÓN DE PROGRAMAS DE FORMACIÓN VIRTUAL Y A DISTANCIA EN EL CENTRO DE FORMACIÓN. • LAS DEMÁS NECESARIAS PARA EL CABAL CUMPLIMIENTO DEL OBJETO CONTRACTUAL. | D15: PROFESIONAL / TECNOLOGO | E15: Todos los instructores de lenguas SENA deben cumplir con las especificaciones de las opciones enunciadas a continuación. Alternativa 1: Tìtulo Profesional univeritario en cualquier nùcleo bàsico de conocimiento. Nivel de Lengua certificado de Mínimo nivel B2 de acuerdo con el MCER en cada una de las 4 habilidades de dominio de lengua (Comprensiòn Lectora, Comprensiòn Escrita, Producciòn Oral, Producciòn Escrita), Los examenes de lengua admitidos deben tener vigencia de 2 años y son aquellos enlistados en la Resolucion 12730 del 28 de junio de 2017 del Ministerio de Educación Nacional. No se aceptan aquellos examenes catalogados en esta resolucion como "Clasificacion (Placement)", "Niños de 7 a 12 años (Young Learners)", "Jovenes (Teenagers)". Alternativa 2: Tìtulo Tecnòlogo en cualquier nùcleo bàsico de conocimiento. Nivel de Lengua certificado de Mínimo nivel B2 de acuerdo con el MCER en cada una de las 4 habilidades de dominio de lengua (Comprensiòn Lectora, Comprensiòn Escrita, Producciòn Oral, Producciòn Escrita), Los examenes de lengua admitidos deben tener vigencia de 2 años y son aquellos enlistados en la Resolucion 12730 del 28 de junio de 2017 del Ministerio de Educación Nacional. No se aceptan aquellos examenes catalogados en esta resolucion como "Clasificacion (Placement)", "Niños de 7 a 12 años (Young Learners)", "Jovenes (Teenagers)". NUCLEO BASICO DE CONOCIMIENTO: Diseño Grafico, Licenciatura en Ciencias de la Educación Especialidad Lenguas Modernas Español - Inglés Licenciatura en Pedagogía Infantil, Licenciatura en idiomas extranjeros, Matemático, Administración de Empresas, Ingeniería de Sistemas, Licenciatura en Ciencias básicas con énfasis en idiomas extranjeros, Licenciatura de Idiomas Extranjeros Especialidad Ingles, Licenciatura en Lengua Extranjera Inglés, Tecnólogo en gestión financiera, Odontologia, Ingenieria electrónica, Licenciatura en Lenguas Modernas Español-Ingles, Licenciatura en Educación Infantil, Derecho, Licenciatura en lenguas modernas, Licenciatura en lengua castellana y comunicación, Ingeniera Industrial, Relaciones Internacionales. Nota 1: Es importante precisar que los instructores contratados sòlo podràn orientar procesos de formaciòn en la lengua extranjera que dominan y de la cual han presentado su certificaciòn de suficiencia en el nivel requerido. Nota 2: Los tutores virtuales que orientaràn formaciòn complementaria virtual o la competencia de inglès en los programas de titulada virtual, adicional a los anteriores criterios deben acreditar capacitaciòn relacionada con tutorìa virtual, no inferior a 40 horas y tener experiencia adicional comprobada de mìnimo 6 meses com tutor virtual. Nota 3: Todos los tìtulos acadèmicos expedidos en un paìs diferente a Colombia deben cumplir con los requisitos y regulaciones de las normas que expida el Ministerio de Educaciòn Nacional y de contrataciòn pùblica. Nota 4: Algunos Centros de Formación realizaron en el pasado contratación de instructores que no cumplían a cabalidad con los perfiles dispuestos en las orientaciones para el Programa de Bilingüismo. Por tal razón los encargados de bilingüismo (e.g. Profesional de bilingüismo del Centro de Formación ) están prestos para apoyar a los Coordinadores del Centro en la verificación del cumplimento de los perfiles de los aspirantes a ser instructores de bilingüismo (hojas de vida, soportes y referencias profesionales) | F15: Alternativa 1 - Título Profesional:. Experiencia laboral: Mínimo 24 meses de experiencia en la instruccion/docencia de la lengua extranjera a impartir. Alternativa 2 - Título Tecnólogo: Experiencia laboral: Mínimo 30 meses de experiencia en la instruccion/docencia de la lengua extranjera a impartir. . | G15: Alternativa 1 - Título Profesional:. Experiencia laboral: Mínimo 24 meses de experiencia relacionados con la docencia de lengua extranjera a impartir. Minimo 6 meses de experiencia como instructor virtual. Alternativa 2 - Título Tecnólogo: Experiencia laboral: Mínimo 30 meses de experiencia relacionados con la docencia de lengua extranjera a impartir. Minimo 6 meses de experiencia como instructor virtual. | H15: 1 | I15: necesidades de la formación | J15: 44142 | K15: 44146 | L15: =+DATEDIF(J15,K15,"M") -> 0 | M15: =+DATEDIF(J15,K15,"MD") -> 4 | N15: 0 | O15: =3502000*1.03 -> 3607060 | P15: =+(O15*L15+(O15/30*(M15-N15)))*H15 -> 480941.33 | Q15: NUEVO | R15: CARLOS BERNAL | S15: CDP 12320
A16: 2 | B16: PRESTAR SERVICIOS PERSONALES DE CARÁCTER TEMPORAL PARA PLANEAR, EJECUTAR Y ORIENTAR LA FORMACIÓN PROFESIONAL INTEGRAL EN LA FAMILIA IDIOMAS (BILINGÜISMO) QUE PROGRAME EL CENTRO DE FORMACIÓN EN SUS DIFERENTES NIVELES EN MODALIDAD VIRTUAL Y A DISTANCIA, ATENDIENDO LAS POLÍTICAS INSTITUCIONALES Y LA NORMATIVIDAD VIGENTE | C16: • PARTICIPAR EN LA PLANEACIÓN DE LOS PROCESOS FORMATIVOS EN MODALIDAD VIRTUAL Y A DISTANCIA, DE ACUERDO CON LOS LINEAMIENTOS INSTITUCIONALES, PARA EL ÁREA TEMÁTICA DEL OBJETO CONTRACTUAL. • PARTICIPAR CUANDO EL CENTRO DE FORMACIÓN LO REQUIERA, EN JORNADAS DE DISEÑO Y DESARROLLO CURRICULAR DE PROGRAMAS DE FORMACIÓN PROFESIONAL INTEGRAL EN MODALIDAD VIRTUAL Y A DISTANCIA, CONFORME A LAS NECESIDADES NACIONALES Y A LOS LINEAMIENTOS INSTITUCIONALES REQUERIDOS. • EVALUAR LOS APRENDIZAJES PREVIOS CORRESPONDIENTES A LAS FICHAS ASIGNADAS, DE ACUERDO CON LOS PROCEDIMIENTOS, PLAZOS Y HERRAMIENTAS TECNOLÓGICAS QUE LA ENTIDAD DEFINA. • PARTICIPAR CUANDO EL CENTRO DE FORMACIÓN LO REQUIERA, EN PROYECTOS DE INVESTIGACIÓN TÉCNICA Y/O PEDAGÓGICA PARA FORTALECER EL PROCESO DE FORMACIÓN EN MODALIDAD VIRTUAL Y A DISTANCIA. • EJECUTAR LA FORMACIÓN PROFESIONAL INTEGRAL DE ACUERDO CON EL DISEÑO CURRICULAR, DESARROLLO CURRICULAR Y PROYECTO FORMATIVO DE LOS PROGRAMAS VIRTUALES DEL ÁREA TEMÁTICA EN EL OBJETO DEL CONTRATO. • APLICAR ESTRATEGIAS DE ENSEÑANZA, APRENDIZAJE, SEGUIMIENTO Y EVALUACIÓN EN MODALIDAD VIRTUAL Y A DISTANCIA, DE ACUERDO A LOS LINEAMIENTOS PEDAGÓGICOS Y METODOLÓGICOS DE LA ENTIDAD. • EMITIR JUICIO VALORATIVO SOBRE EL NIVEL DE CUMPLIMIENTO DE LOS RESULTADOS DE APRENDIZAJES DE LAS COMPETENCIAS DEL PROGRAMA EN MODALIDAD VIRTUAL Y A DISTANCIA, ADQUIRIDOS POR LOS APRENDICES EN EL DESARROLLO DE SU FORMACIÓN, APLICANDO LOS PROCEDIMIENTOS, PLAZOS Y HERRAMIENTAS TECNOLÓGICAS QUE LA ENTIDAD DEFINA. • REGISTRAR, VERIFICAR Y HACER SEGUIMIENTO OPORTUNO EN EL SISTEMA DE INFORMACIÓN QUE LA ENTIDAD DEFINA PARA LA GESTIÓN DE LA FORMACIÓN PROFESIONAL INTEGRAL EN MODALIDAD VIRTUAL Y A DISTANCIA, MEDIANTE LAS SIGUIENTES ACTIVIDADES: A). VERIFICAR QUE LA TOTALIDAD DE LOS APRENDICES SELECCIONADOS ESTÉN ASOCIADOS A UNA RUTA DE APRENDIZAJE Y SU ESTADO SEA MATRICULADO. B). REGISTRAR JUICIOS EVALUATIVOS, REALIZAR RECONOCIMIENTO DE APRENDIZAJES PREVIOS, PARA LOS APRENDICES NUEVOS, REINTEGRADOS O TRASLADADOS. E). COMUNICAR AL COORDINADOR ACADÉMICO OPORTUNAMENTE ANOMALÍAS, INCONSISTENCIAS, NOVEDADES DE APRENDICES Y HALLAZGOS EN EL REGISTRO DE LA INFORMACIÓN. • APLICAR Y HACER CUMPLIR EL REGLAMENTO DEL APRENDIZ Y EL MANUAL DE CONVIVENCIA INSTAURADO EN LA INSTITUCIÓN. • APOYAR PROCESOS DE REGISTRO CALIFICADO PARA LOS PROGRAMAS DE EDUCACIÓN SUPERIOR DEL ÁREA TEMÁTICA OBJETO DEL PRESENTE CONTRATO, CUANDO EL CENTRO LO REQUIERA. • REALIZAR SEGUIMIENTO A LOS APRENDICES QUE INGRESAN A LA ETAPA PRODUCTIVA EN MODALIDAD VIRTUAL Y A DISTANCIA SEGÚN LA ASIGNACIÓN Y REQUERIMIENTOS DEL CENTRO DE FORMACIÓN. • PARTICIPAR EN LOS PROCESOS DE AUTOEVALUACIÓN DE PROGRAMAS DE FORMACIÓN VIRTUAL Y A DISTANCIA EN EL CENTRO DE FORMACIÓN. • LAS DEMÁS NECESARIAS PARA EL CABAL CUMPLIMIENTO DEL OBJETO CONTRACTUAL. | D16: PROFESIONAL / TECNOLOGO | E16: Todos los instructores de lenguas SENA deben cumplir con las especificaciones de las opciones enunciadas a continuación. Alternativa 1: Tìtulo Profesional univeritario en cualquier nùcleo bàsico de conocimiento. Nivel de Lengua certificado de Mínimo nivel B2 de acuerdo con el MCER en cada una de las 4 habilidades de dominio de lengua (Comprensiòn Lectora, Comprensiòn Escrita, Producciòn Oral, Producciòn Escrita), Los examenes de lengua admitidos deben tener vigencia de 2 años y son aquellos enlistados en la Resolucion 12730 del 28 de junio de 2017 del Ministerio de Educación Nacional. No se aceptan aquellos examenes catalogados en esta resolucion como "Clasificacion (Placement)", "Niños de 7 a 12 años (Young Learners)", "Jovenes (Teenagers)". Alternativa 2: Tìtulo Tecnòlogo en cualquier nùcleo bàsico de conocimiento. Nivel de Lengua certificado de Mínimo nivel B2 de acuerdo con el MCER en cada una de las 4 habilidades de dominio de lengua (Comprensiòn Lectora, Comprensiòn Escrita, Producciòn Oral, Producciòn Escrita), Los examenes de lengua admitidos deben tener vigencia de 2 años y son aquellos enlistados en la Resolucion 12730 del 28 de junio de 2017 del Ministerio de Educación Nacional. No se aceptan aquellos examenes catalogados en esta resolucion como "Clasificacion (Placement)", "Niños de 7 a 12 años (Young Learners)", "Jovenes (Teenagers)". NUCLEO BASICO DE CONOCIMIENTO: Diseño Grafico, Licenciatura en Ciencias de la Educación Especialidad Lenguas Modernas Español - Inglés Licenciatura en Pedagogía Infantil, Licenciatura en idiomas extranjeros, Matemático, Administración de Empresas, Ingeniería de Sistemas, Licenciatura en Ciencias básicas con énfasis en idiomas extranjeros, Licenciatura de Idiomas Extranjeros Especialidad Ingles, Licenciatura en Lengua Extranjera Inglés, Tecnólogo en gestión financiera, Odontologia, Ingenieria electrónica, Licenciatura en Lenguas Modernas Español-Ingles, Licenciatura en Educación Infantil, Derecho, Licenciatura en lenguas modernas, Licenciatura en lengua castellana y comunicación, Ingeniera Industrial, Relaciones Internacionales. Nota 1: Es importante precisar que los instructores contratados sòlo podràn orientar procesos de formaciòn en la lengua extranjera que dominan y de la cual han presentado su certificaciòn de suficiencia en el nivel requerido. Nota 2: Los tutores virtuales que orientaràn formaciòn complementaria virtual o la competencia de inglès en los programas de titulada virtual, adicional a los anteriores criterios deben acreditar capacitaciòn relacionada con tutorìa virtual, no inferior a 40 horas y tener experiencia adicional comprobada de mìnimo 6 meses com tutor virtual. Nota 3: Todos los tìtulos acadèmicos expedidos en un paìs diferente a Colombia deben cumplir con los requisitos y regulaciones de las normas que expida el Ministerio de Educaciòn Nacional y de contrataciòn pùblica. Nota 4: Algunos Centros de Formación realizaron en el pasado contratación de instructores que no cumplían a cabalidad con los perfiles dispuestos en las orientaciones para el Programa de Bilingüismo. Por tal razón los encargados de bilingüismo (e.g. Profesional de bilingüismo del Centro de Formación ) están prestos para apoyar a los Coordinadores del Centro en la verificación del cumplimento de los perfiles de los aspirantes a ser instructores de bilingüismo (hojas de vida, soportes y referencias profesionales) | F16: Alternativa 1 - Título Profesional:. Experiencia laboral: Mínimo 24 meses de experiencia en la instruccion/docencia de la lengua extranjera a impartir. Alternativa 2 - Título Tecnólogo: Experiencia laboral: Mínimo 30 meses de experiencia en la instruccion/docencia de la lengua extranjera a impartir. . | G16: Alternativa 1 - Título Profesional:. Experiencia laboral: Mínimo 24 meses de experiencia relacionados con la docencia de lengua extranjera a impartir. Minimo 6 meses de experiencia como instructor virtual. Alternativa 2 - Título Tecnólogo: Experiencia laboral: Mínimo 30 meses de experiencia relacionados con la docencia de lengua extranjera a impartir. Minimo 6 meses de experiencia como instructor virtual. | H16: 1 | I16: necesidades de la formación | J16: 44141 | K16: 44145 | L16: =+DATEDIF(J16,K16,"M") -> 0 | M16: =+DATEDIF(J16,K16,"MD") -> 4 | N16: 0 | O16: =3502000*1.03 -> 3607060 | P16: =+(O16*L16+(O16/30*(M16-N16)))*H16 -> 480941.33 | Q16: NUEVO | R16: VLADIMIR LLANOS | S16: CDP 12320
A17: 3 | B17: PRESTAR SERVICIOS PERSONALES DE CARÁCTER TEMPORAL PARA PLANEAR, EJECUTAR Y ORIENTAR LA FORMACIÓN PROFESIONAL INTEGRAL EN LA FAMILIA IDIOMAS (BILINGÜISMO) QUE PROGRAME EL CENTRO DE FORMACIÓN EN SUS DIFERENTES NIVELES EN MODALIDAD VIRTUAL Y A DISTANCIA, ATENDIENDO LAS POLÍTICAS INSTITUCIONALES Y LA NORMATIVIDAD VIGENTE | C17: • PARTICIPAR EN LA PLANEACIÓN DE LOS PROCESOS FORMATIVOS EN MODALIDAD VIRTUAL Y A DISTANCIA, DE ACUERDO CON LOS LINEAMIENTOS INSTITUCIONALES, PARA EL ÁREA TEMÁTICA DEL OBJETO CONTRACTUAL. • PARTICIPAR CUANDO EL CENTRO DE FORMACIÓN LO REQUIERA, EN JORNADAS DE DISEÑO Y DESARROLLO CURRICULAR DE PROGRAMAS DE FORMACIÓN PROFESIONAL INTEGRAL EN MODALIDAD VIRTUAL Y A DISTANCIA, CONFORME A LAS NECESIDADES NACIONALES Y A LOS LINEAMIENTOS INSTITUCIONALES REQUERIDOS. • EVALUAR LOS APRENDIZAJES PREVIOS CORRESPONDIENTES A LAS FICHAS ASIGNADAS, DE ACUERDO CON LOS PROCEDIMIENTOS, PLAZOS Y HERRAMIENTAS TECNOLÓGICAS QUE LA ENTIDAD DEFINA. • PARTICIPAR CUANDO EL CENTRO DE FORMACIÓN LO REQUIERA, EN PROYECTOS DE INVESTIGACIÓN TÉCNICA Y/O PEDAGÓGICA PARA FORTALECER EL PROCESO DE FORMACIÓN EN MODALIDAD VIRTUAL Y A DISTANCIA. • EJECUTAR LA FORMACIÓN PROFESIONAL INTEGRAL DE ACUERDO CON EL DISEÑO CURRICULAR, DESARROLLO CURRICULAR Y PROYECTO FORMATIVO DE LOS PROGRAMAS VIRTUALES DEL ÁREA TEMÁTICA EN EL OBJETO DEL CONTRATO. • APLICAR ESTRATEGIAS DE ENSEÑANZA, APRENDIZAJE, SEGUIMIENTO Y EVALUACIÓN EN MODALIDAD VIRTUAL Y A DISTANCIA, DE ACUERDO A LOS LINEAMIENTOS PEDAGÓGICOS Y METODOLÓGICOS DE LA ENTIDAD. • EMITIR JUICIO VALORATIVO SOBRE EL NIVEL DE CUMPLIMIENTO DE LOS RESULTADOS DE APRENDIZAJES DE LAS COMPETENCIAS DEL PROGRAMA EN MODALIDAD VIRTUAL Y A DISTANCIA, ADQUIRIDOS POR LOS APRENDICES EN EL DESARROLLO DE SU FORMACIÓN, APLICANDO LOS PROCEDIMIENTOS, PLAZOS Y HERRAMIENTAS TECNOLÓGICAS QUE LA ENTIDAD DEFINA. • REGISTRAR, VERIFICAR Y HACER SEGUIMIENTO OPORTUNO EN EL SISTEMA DE INFORMACIÓN QUE LA ENTIDAD DEFINA PARA LA GESTIÓN DE LA FORMACIÓN PROFESIONAL INTEGRAL EN MODALIDAD VIRTUAL Y A DISTANCIA, MEDIANTE LAS SIGUIENTES ACTIVIDADES: A). VERIFICAR QUE LA TOTALIDAD DE LOS APRENDICES SELECCIONADOS ESTÉN ASOCIADOS A UNA RUTA DE APRENDIZAJE Y SU ESTADO SEA MATRICULADO. B). REGISTRAR JUICIOS EVALUATIVOS, REALIZAR RECONOCIMIENTO DE APRENDIZAJES PREVIOS, PARA LOS APRENDICES NUEVOS, REINTEGRADOS O TRASLADADOS. E). COMUNICAR AL COORDINADOR ACADÉMICO OPORTUNAMENTE ANOMALÍAS, INCONSISTENCIAS, NOVEDADES DE APRENDICES Y HALLAZGOS EN EL REGISTRO DE LA INFORMACIÓN. • APLICAR Y HACER CUMPLIR EL REGLAMENTO DEL APRENDIZ Y EL MANUAL DE CONVIVENCIA INSTAURADO EN LA INSTITUCIÓN. • APOYAR PROCESOS DE REGISTRO CALIFICADO PARA LOS PROGRAMAS DE EDUCACIÓN SUPERIOR DEL ÁREA TEMÁTICA OBJETO DEL PRESENTE CONTRATO, CUANDO EL CENTRO LO REQUIERA. • REALIZAR SEGUIMIENTO A LOS APRENDICES QUE INGRESAN A LA ETAPA PRODUCTIVA EN MODALIDAD VIRTUAL Y A DISTANCIA SEGÚN LA ASIGNACIÓN Y REQUERIMIENTOS DEL CENTRO DE FORMACIÓN. • PARTICIPAR EN LOS PROCESOS DE AUTOEVALUACIÓN DE PROGRAMAS DE FORMACIÓN VIRTUAL Y A DISTANCIA EN EL CENTRO DE FORMACIÓN. • LAS DEMÁS NECESARIAS PARA EL CABAL CUMPLIMIENTO DEL OBJETO CONTRACTUAL. | D17: PROFESIONAL / TECNOLOGO | E17: Todos los instructores de lenguas SENA deben cumplir con las especificaciones de las opciones enunciadas a continuación. Alternativa 1: Tìtulo Profesional univeritario en cualquier nùcleo bàsico de conocimiento. Nivel de Lengua certificado de Mínimo nivel B2 de acuerdo con el MCER en cada una de las 4 habilidades de dominio de lengua (Comprensiòn Lectora, Comprensiòn Escrita, Producciòn Oral, Producciòn Escrita), Los examenes de lengua admitidos deben tener vigencia de 2 años y son aquellos enlistados en la Resolucion 12730 del 28 de junio de 2017 del Ministerio de Educación Nacional. No se aceptan aquellos examenes catalogados en esta resolucion como "Clasificacion (Placement)", "Niños de 7 a 12 años (Young Learners)", "Jovenes (Teenagers)". Alternativa 2: Tìtulo Tecnòlogo en cualquier nùcleo bàsico de conocimiento. Nivel de Lengua certificado de Mínimo nivel B2 de acuerdo con el MCER en cada una de las 4 habilidades de dominio de lengua (Comprensiòn Lectora, Comprensiòn Escrita, Producciòn Oral, Producciòn Escrita), Los examenes de lengua admitidos deben tener vigencia de 2 años y son aquellos enlistados en la Resolucion 12730 del 28 de junio de 2017 del Ministerio de Educación Nacional. No se aceptan aquellos examenes catalogados en esta resolucion como "Clasificacion (Placement)", "Niños de 7 a 12 años (Young Learners)", "Jovenes (Teenagers)". NUCLEO BASICO DE CONOCIMIENTO: Diseño Grafico, Licenciatura en Ciencias de la Educación Especialidad Lenguas Modernas Español - Inglés Licenciatura en Pedagogía Infantil, Licenciatura en idiomas extranjeros, Matemático, Administración de Empresas, Ingeniería de Sistemas, Licenciatura en Ciencias básicas con énfasis en idiomas extranjeros, Licenciatura de Idiomas Extranjeros Especialidad Ingles, Licenciatura en Lengua Extranjera Inglés, Tecnólogo en gestión financiera, Odontologia, Ingenieria electrónica, Licenciatura en Lenguas Modernas Español-Ingles, Licenciatura en Educación Infantil, Derecho, Licenciatura en lenguas modernas, Licenciatura en lengua castellana y comunicación, Ingeniera Industrial, Relaciones Internacionales. Nota 1: Es importante precisar que los instructores contratados sòlo podràn orientar procesos de formaciòn en la lengua extranjera que dominan y de la cual han presentado su certificaciòn de suficiencia en el nivel requerido. Nota 2: Los tutores virtuales que orientaràn formaciòn complementaria virtual o la competencia de inglès en los programas de titulada virtual, adicional a los anteriores criterios deben acreditar capacitaciòn relacionada con tutorìa virtual, no inferior a 40 horas y tener experiencia adicional comprobada de mìnimo 6 meses com tutor virtual. Nota 3: Todos los tìtulos acadèmicos expedidos en un paìs diferente a Colombia deben cumplir con los requisitos y regulaciones de las normas que expida el Ministerio de Educaciòn Nacional y de contrataciòn pùblica. Nota 4: Algunos Centros de Formación realizaron en el pasado contratación de instructores que no cumplían a cabalidad con los perfiles dispuestos en las orientaciones para el Programa de Bilingüismo. Por tal razón los encargados de bilingüismo (e.g. Profesional de bilingüismo del Centro de Formación ) están prestos para apoyar a los Coordinadores del Centro en la verificación del cumplimento de los perfiles de los aspirantes a ser instructores de bilingüismo (hojas de vida, soportes y referencias profesionales) | F17: Alternativa 1 - Título Profesional:. Experiencia laboral: Mínimo 24 meses de experiencia en la instruccion/docencia de la lengua extranjera a impartir. Alternativa 2 - Título Tecnólogo: Experiencia laboral: Mínimo 30 meses de experiencia en la instruccion/docencia de la lengua extranjera a impartir. . | G17: Alternativa 1 - Título Profesional:. Experiencia laboral: Mínimo 24 meses de experiencia relacionados con la docencia de lengua extranjera a impartir. Minimo 6 meses de experiencia como instructor virtual. Alternativa 2 - Título Tecnólogo: Experiencia laboral: Mínimo 30 meses de experiencia relacionados con la docencia de lengua extranjera a impartir. Minimo 6 meses de experiencia como instructor virtual. | H17: 1 | I17: necesidades de la formación | J17: 44140 | K17: 44144 | L17: =+DATEDIF(J17,K17,"M") -> 0 | M17: 4 | N17: 0 | O17: =3502000*1.03 -> 3607060 | P17: =+(O17*L17+(O17/30*(M17-N17)))*H17 -> 480941.33 | Q17: NUEVO | R17: IVONE MOLINA | S17: CDP 12320
A18: 4 | B18: PRESTAR SERVICIOS PERSONALES DE CARÁCTER TEMPORAL PARA PLANEAR, EJECUTAR Y ORIENTAR LA FORMACIÓN PROFESIONAL INTEGRAL EN LA FAMILIA IDIOMAS (BILINGÜISMO) QUE PROGRAME EL CENTRO DE FORMACIÓN EN SUS DIFERENTES NIVELES EN MODALIDAD VIRTUAL Y A DISTANCIA, ATENDIENDO LAS POLÍTICAS INSTITUCIONALES Y LA NORMATIVIDAD VIGENTE | C18: • PARTICIPAR EN LA PLANEACIÓN DE LOS PROCESOS FORMATIVOS EN MODALIDAD VIRTUAL Y A DISTANCIA, DE ACUERDO CON LOS LINEAMIENTOS INSTITUCIONALES, PARA EL ÁREA TEMÁTICA DEL OBJETO CONTRACTUAL. • PARTICIPAR CUANDO EL CENTRO DE FORMACIÓN LO REQUIERA, EN JORNADAS DE DISEÑO Y DESARROLLO CURRICULAR DE PROGRAMAS DE FORMACIÓN PROFESIONAL INTEGRAL EN MODALIDAD VIRTUAL Y A DISTANCIA, CONFORME A LAS NECESIDADES NACIONALES Y A LOS LINEAMIENTOS INSTITUCIONALES REQUERIDOS. • EVALUAR LOS APRENDIZAJES PREVIOS CORRESPONDIENTES A LAS FICHAS ASIGNADAS, DE ACUERDO CON LOS PROCEDIMIENTOS, PLAZOS Y HERRAMIENTAS TECNOLÓGICAS QUE LA ENTIDAD DEFINA. • PARTICIPAR CUANDO EL CENTRO DE FORMACIÓN LO REQUIERA, EN PROYECTOS DE INVESTIGACIÓN TÉCNICA Y/O PEDAGÓGICA PARA FORTALECER EL PROCESO DE FORMACIÓN EN MODALIDAD VIRTUAL Y A DISTANCIA. • EJECUTAR LA FORMACIÓN PROFESIONAL INTEGRAL DE ACUERDO CON EL DISEÑO CURRICULAR, DESARROLLO CURRICULAR Y PROYECTO FORMATIVO DE LOS PROGRAMAS VIRTUALES DEL ÁREA TEMÁTICA EN EL OBJETO DEL CONTRATO. • APLICAR ESTRATEGIAS DE ENSEÑANZA, APRENDIZAJE, SEGUIMIENTO Y EVALUACIÓN EN MODALIDAD VIRTUAL Y A DISTANCIA, DE ACUERDO A LOS LINEAMIENTOS PEDAGÓGICOS Y METODOLÓGICOS DE LA ENTIDAD. • EMITIR JUICIO VALORATIVO SOBRE EL NIVEL DE CUMPLIMIENTO DE LOS RESULTADOS DE APRENDIZAJES DE LAS COMPETENCIAS DEL PROGRAMA EN MODALIDAD VIRTUAL Y A DISTANCIA, ADQUIRIDOS POR LOS APRENDICES EN EL DESARROLLO DE SU FORMACIÓN, APLICANDO LOS PROCEDIMIENTOS, PLAZOS Y HERRAMIENTAS TECNOLÓGICAS QUE LA ENTIDAD DEFINA. • REGISTRAR, VERIFICAR Y HACER SEGUIMIENTO OPORTUNO EN EL SISTEMA DE INFORMACIÓN QUE LA ENTIDAD DEFINA PARA LA GESTIÓN DE LA FORMACIÓN PROFESIONAL INTEGRAL EN MODALIDAD VIRTUAL Y A DISTANCIA, MEDIANTE LAS SIGUIENTES ACTIVIDADES: A). VERIFICAR QUE LA TOTALIDAD DE LOS APRENDICES SELECCIONADOS ESTÉN ASOCIADOS A UNA RUTA DE APRENDIZAJE Y SU ESTADO SEA MATRICULADO. B). REGISTRAR JUICIOS EVALUATIVOS, REALIZAR RECONOCIMIENTO DE APRENDIZAJES PREVIOS, PARA LOS APRENDICES NUEVOS, REINTEGRADOS O TRASLADADOS. E). COMUNICAR AL COORDINADOR ACADÉMICO OPORTUNAMENTE ANOMALÍAS, INCONSISTENCIAS, NOVEDADES DE APRENDICES Y HALLAZGOS EN EL REGISTRO DE LA INFORMACIÓN. • APLICAR Y HACER CUMPLIR EL REGLAMENTO DEL APRENDIZ Y EL MANUAL DE CONVIVENCIA INSTAURADO EN LA INSTITUCIÓN. • APOYAR PROCESOS DE REGISTRO CALIFICADO PARA LOS PROGRAMAS DE EDUCACIÓN SUPERIOR DEL ÁREA TEMÁTICA OBJETO DEL PRESENTE CONTRATO, CUANDO EL CENTRO LO REQUIERA. • REALIZAR SEGUIMIENTO A LOS APRENDICES QUE INGRESAN A LA ETAPA PRODUCTIVA EN MODALIDAD VIRTUAL Y A DISTANCIA SEGÚN LA ASIGNACIÓN Y REQUERIMIENTOS DEL CENTRO DE FORMACIÓN. • PARTICIPAR EN LOS PROCESOS DE AUTOEVALUACIÓN DE PROGRAMAS DE FORMACIÓN VIRTUAL Y A DISTANCIA EN EL CENTRO DE FORMACIÓN. • LAS DEMÁS NECESARIAS PARA EL CABAL CUMPLIMIENTO DEL OBJETO CONTRACTUAL. | D18: PROFESIONAL / TECNOLOGO | E18: Todos los instructores de lenguas SENA deben cumplir con las especificaciones de las opciones enunciadas a continuación. Alternativa 1: Tìtulo Profesional univeritario en cualquier nùcleo bàsico de conocimiento. Nivel de Lengua certificado de Mínimo nivel B2 de acuerdo con el MCER en cada una de las 4 habilidades de dominio de lengua (Comprensiòn Lectora, Comprensiòn Escrita, Producciòn Oral, Producciòn Escrita), Los examenes de lengua admitidos deben tener vigencia de 2 años y son aquellos enlistados en la Resolucion 12730 del 28 de junio de 2017 del Ministerio de Educación Nacional. No se aceptan aquellos examenes catalogados en esta resolucion como "Clasificacion (Placement)", "Niños de 7 a 12 años (Young Learners)", "Jovenes (Teenagers)". Alternativa 2: Tìtulo Tecnòlogo en cualquier nùcleo bàsico de conocimiento. Nivel de Lengua certificado de Mínimo nivel B2 de acuerdo con el MCER en cada una de las 4 habilidades de dominio de lengua (Comprensiòn Lectora, Comprensiòn Escrita, Producciòn Oral, Producciòn Escrita), Los examenes de lengua admitidos deben tener vigencia de 2 años y son aquellos enlistados en la Resolucion 12730 del 28 de junio de 2017 del Ministerio de Educación Nacional. No se aceptan aquellos examenes catalogados en esta resolucion como "Clasificacion (Placement)", "Niños de 7 a 12 años (Young Learners)", "Jovenes (Teenagers)". NUCLEO BASICO DE CONOCIMIENTO: Diseño Grafico, Licenciatura en Ciencias de la Educación Especialidad Lenguas Modernas Español - Inglés Licenciatura en Pedagogía Infantil, Licenciatura en idiomas extranjeros, Matemático, Administración de Empresas, Ingeniería de Sistemas, Licenciatura en Ciencias básicas con énfasis en idiomas extranjeros, Licenciatura de Idiomas Extranjeros Especialidad Ingles, Licenciatura en Lengua Extranjera Inglés, Tecnólogo en gestión financiera, Odontologia, Ingenieria electrónica, Licenciatura en Lenguas Modernas Español-Ingles, Licenciatura en Educación Infantil, Derecho, Licenciatura en lenguas modernas, Licenciatura en lengua castellana y comunicación, Ingeniera Industrial, Relaciones Internacionales. Nota 1: Es importante precisar que los instructores contratados sòlo podràn orientar procesos de formaciòn en la lengua extranjera que dominan y de la cual han presentado su certificaciòn de suficiencia en el nivel requerido. Nota 2: Los tutores virtuales que orientaràn formaciòn complementaria virtual o la competencia de inglès en los programas de titulada virtual, adicional a los anteriores criterios deben acreditar capacitaciòn relacionada con tutorìa virtual, no inferior a 40 horas y tener experiencia adicional comprobada de mìnimo 6 meses com tutor virtual. Nota 3: Todos los tìtulos acadèmicos expedidos en un paìs diferente a Colombia deben cumplir con los requisitos y regulaciones de las normas que expida el Ministerio de Educaciòn Nacional y de contrataciòn pùblica. Nota 4: Algunos Centros de Formación realizaron en el pasado contratación de instructores que no cumplían a cabalidad con los perfiles dispuestos en las orientaciones para el Programa de Bilingüismo. Por tal razón los encargados de bilingüismo (e.g. Profesional de bilingüismo del Centro de Formación ) están prestos para apoyar a los Coordinadores del Centro en la verificación del cumplimento de los perfiles de los aspirantes a ser instructores de bilingüismo (hojas de vida, soportes y referencias profesionales) | F18: Alternativa 1 - Título Profesional:. Experiencia laboral: Mínimo 24 meses de experiencia en la instruccion/docencia de la lengua extranjera a impartir. Alternativa 2 - Título Tecnólogo: Experiencia laboral: Mínimo 30 meses de experiencia en la instruccion/docencia de la lengua extranjera a impartir. . | G18: Alternativa 1 - Título Profesional:. Experiencia laboral: Mínimo 24 meses de experiencia relacionados con la docencia de lengua extranjera a impartir. Minimo 6 meses de experiencia como instructor virtual. Alternativa 2 - Título Tecnólogo: Experiencia laboral: Mínimo 30 meses de experiencia relacionados con la docencia de lengua extranjera a impartir. Minimo 6 meses de experiencia como instructor virtual. | H18: 1 | I18: necesidades de la formación | J18: 44141 | K18: 44145 | L18: =+DATEDIF(J18,K18,"M") -> 0 | M18: =+DATEDIF(J18,K18,"MD") -> 4 | N18: 0 | O18: =3502000*1.03 -> 3607060 | P18: =+(O18*L18+(O18/30*(M18-N18)))*H18 -> 480941.33 | Q18: NUEVO | R18: MAGALIS RODRIGUEZ | S18: CDP 12320
A19: 5 | B19: PRESTAR SERVICIOS PERSONALES DE CARÁCTER TEMPORAL PARA PLANEAR, EJECUTAR Y ORIENTAR LA FORMACIÓN PROFESIONAL INTEGRAL EN LA FAMILIA IDIOMAS (BILINGÜISMO) QUE PROGRAME EL CENTRO DE FORMACIÓN EN SUS DIFERENTES NIVELES EN MODALIDAD VIRTUAL Y A DISTANCIA, ATENDIENDO LAS POLÍTICAS INSTITUCIONALES Y LA NORMATIVIDAD VIGENTE | C19: • PARTICIPAR EN LA PLANEACIÓN DE LOS PROCESOS FORMATIVOS EN MODALIDAD VIRTUAL Y A DISTANCIA, DE ACUERDO CON LOS LINEAMIENTOS INSTITUCIONALES, PARA EL ÁREA TEMÁTICA DEL OBJETO CONTRACTUAL. • PARTICIPAR CUANDO EL CENTRO DE FORMACIÓN LO REQUIERA, EN JORNADAS DE DISEÑO Y DESARROLLO CURRICULAR DE PROGRAMAS DE FORMACIÓN PROFESIONAL INTEGRAL EN MODALIDAD VIRTUAL Y A DISTANCIA, CONFORME A LAS NECESIDADES NACIONALES Y A LOS LINEAMIENTOS INSTITUCIONALES REQUERIDOS. • EVALUAR LOS APRENDIZAJES PREVIOS CORRESPONDIENTES A LAS FICHAS ASIGNADAS, DE ACUERDO CON LOS PROCEDIMIENTOS, PLAZOS Y HERRAMIENTAS TECNOLÓGICAS QUE LA ENTIDAD DEFINA. • PARTICIPAR CUANDO EL CENTRO DE FORMACIÓN LO REQUIERA, EN PROYECTOS DE INVESTIGACIÓN TÉCNICA Y/O PEDAGÓGICA PARA FORTALECER EL PROCESO DE FORMACIÓN EN MODALIDAD VIRTUAL Y A DISTANCIA. • EJECUTAR LA FORMACIÓN PROFESIONAL INTEGRAL DE ACUERDO CON EL DISEÑO CURRICULAR, DESARROLLO CURRICULAR Y PROYECTO FORMATIVO DE LOS PROGRAMAS VIRTUALES DEL ÁREA TEMÁTICA EN EL OBJETO DEL CONTRATO. • APLICAR ESTRATEGIAS DE ENSEÑANZA, APRENDIZAJE, SEGUIMIENTO Y EVALUACIÓN EN MODALIDAD VIRTUAL Y A DISTANCIA, DE ACUERDO A LOS LINEAMIENTOS PEDAGÓGICOS Y METODOLÓGICOS DE LA ENTIDAD. • EMITIR JUICIO VALORATIVO SOBRE EL NIVEL DE CUMPLIMIENTO DE LOS RESULTADOS DE APRENDIZAJES DE LAS COMPETENCIAS DEL PROGRAMA EN MODALIDAD VIRTUAL Y A DISTANCIA, ADQUIRIDOS POR LOS APRENDICES EN EL DESARROLLO DE SU FORMACIÓN, APLICANDO LOS PROCEDIMIENTOS, PLAZOS Y HERRAMIENTAS TECNOLÓGICAS QUE LA ENTIDAD DEFINA. • REGISTRAR, VERIFICAR Y HACER SEGUIMIENTO OPORTUNO EN EL SISTEMA DE INFORMACIÓN QUE LA ENTIDAD DEFINA PARA LA GESTIÓN DE LA FORMACIÓN PROFESIONAL INTEGRAL EN MODALIDAD VIRTUAL Y A DISTANCIA, MEDIANTE LAS SIGUIENTES ACTIVIDADES: A). VERIFICAR QUE LA TOTALIDAD DE LOS APRENDICES SELECCIONADOS ESTÉN ASOCIADOS A UNA RUTA DE APRENDIZAJE Y SU ESTADO SEA MATRICULADO. B). REGISTRAR JUICIOS EVALUATIVOS, REALIZAR RECONOCIMIENTO DE APRENDIZAJES PREVIOS, PARA LOS APRENDICES NUEVOS, REINTEGRADOS O TRASLADADOS. E). COMUNICAR AL COORDINADOR ACADÉMICO OPORTUNAMENTE ANOMALÍAS, INCONSISTENCIAS, NOVEDADES DE APRENDICES Y HALLAZGOS EN EL REGISTRO DE LA INFORMACIÓN. • APLICAR Y HACER CUMPLIR EL REGLAMENTO DEL APRENDIZ Y EL MANUAL DE CONVIVENCIA INSTAURADO EN LA INSTITUCIÓN. • APOYAR PROCESOS DE REGISTRO CALIFICADO PARA LOS PROGRAMAS DE EDUCACIÓN SUPERIOR DEL ÁREA TEMÁTICA OBJETO DEL PRESENTE CONTRATO, CUANDO EL CENTRO LO REQUIERA. • REALIZAR SEGUIMIENTO A LOS APRENDICES QUE INGRESAN A LA ETAPA PRODUCTIVA EN MODALIDAD VIRTUAL Y A DISTANCIA SEGÚN LA ASIGNACIÓN Y REQUERIMIENTOS DEL CENTRO DE FORMACIÓN. • PARTICIPAR EN LOS PROCESOS DE AUTOEVALUACIÓN DE PROGRAMAS DE FORMACIÓN VIRTUAL Y A DISTANCIA EN EL CENTRO DE FORMACIÓN. • LAS DEMÁS NECESARIAS PARA EL CABAL CUMPLIMIENTO DEL OBJETO CONTRACTUAL. | D19: PROFESIONAL / TECNOLOGO | E19: Todos los instructores de lenguas SENA deben cumplir con las especificaciones de las opciones enunciadas a continuación. Alternativa 1: Tìtulo Profesional univeritario en cualquier nùcleo bàsico de conocimiento. Nivel de Lengua certificado de Mínimo nivel B2 de acuerdo con el MCER en cada una de las 4 habilidades de dominio de lengua (Comprensiòn Lectora, Comprensiòn Escrita, Producciòn Oral, Producciòn Escrita), Los examenes de lengua admitidos deben tener vigencia de 2 años y son aquellos enlistados en la Resolucion 12730 del 28 de junio de 2017 del Ministerio de Educación Nacional. No se aceptan aquellos examenes catalogados en esta resolucion como "Clasificacion (Placement)", "Niños de 7 a 12 años (Young Learners)", "Jovenes (Teenagers)". Alternativa 2: Tìtulo Tecnòlogo en cualquier nùcleo bàsico de conocimiento. Nivel de Lengua certificado de Mínimo nivel B2 de acuerdo con el MCER en cada una de las 4 habilidades de dominio de lengua (Comprensiòn Lectora, Comprensiòn Escrita, Producciòn Oral, Producciòn Escrita), Los examenes de lengua admitidos deben tener vigencia de 2 años y son aquellos enlistados en la Resolucion 12730 del 28 de junio de 2017 del Ministerio de Educación Nacional. No se aceptan aquellos examenes catalogados en esta resolucion como "Clasificacion (Placement)", "Niños de 7 a 12 años (Young Learners)", "Jovenes (Teenagers)". NUCLEO BASICO DE CONOCIMIENTO: Diseño Grafico, Licenciatura en Ciencias de la Educación Especialidad Lenguas Modernas Español - Inglés Licenciatura en Pedagogía Infantil, Licenciatura en idiomas extranjeros, Matemático, Administración de Empresas, Ingeniería de Sistemas, Licenciatura en Ciencias básicas con énfasis en idiomas extranjeros, Licenciatura de Idiomas Extranjeros Especialidad Ingles, Licenciatura en Lengua Extranjera Inglés, Tecnólogo en gestión financiera, Odontologia, Ingenieria electrónica, Licenciatura en Lenguas Modernas Español-Ingles, Licenciatura en Educación Infantil, Derecho, Licenciatura en lenguas modernas, Licenciatura en lengua castellana y comunicación, Ingeniera Industrial, Relaciones Internacionales. Nota 1: Es importante precisar que los instructores contratados sòlo podràn orientar procesos de formaciòn en la lengua extranjera que dominan y de la cual han presentado su certificaciòn de suficiencia en el nivel requerido. Nota 2: Los tutores virtuales que orientaràn formaciòn complementaria virtual o la competencia de inglès en los programas de titulada virtual, adicional a los anteriores criterios deben acreditar capacitaciòn relacionada con tutorìa virtual, no inferior a 40 horas y tener experiencia adicional comprobada de mìnimo 6 meses com tutor virtual. Nota 3: Todos los tìtulos acadèmicos expedidos en un paìs diferente a Colombia deben cumplir con los requisitos y regulaciones de las normas que expida el Ministerio de Educaciòn Nacional y de contrataciòn pùblica. Nota 4: Algunos Centros de Formación realizaron en el pasado contratación de instructores que no cumplían a cabalidad con los perfiles dispuestos en las orientaciones para el Programa de Bilingüismo. Por tal razón los encargados de bilingüismo (e.g. Profesional de bilingüismo del Centro de Formación ) están prestos para apoyar a los Coordinadores del Centro en la verificación del cumplimento de los perfiles de los aspirantes a ser instructores de bilingüismo (hojas de vida, soportes y referencias profesionales) | F19: Alternativa 1 - Título Profesional:. Experiencia laboral: Mínimo 24 meses de experiencia en la instruccion/docencia de la lengua extranjera a impartir. Alternativa 2 - Título Tecnólogo: Experiencia laboral: Mínimo 30 meses de experiencia en la instruccion/docencia de la lengua extranjera a impartir. . | G19: Alternativa 1 - Título Profesional:. Experiencia laboral: Mínimo 24 meses de experiencia relacionados con la docencia de lengua extranjera a impartir. Minimo 6 meses de experiencia como instructor virtual. Alternativa 2 - Título Tecnólogo: Experiencia laboral: Mínimo 30 meses de experiencia relacionados con la docencia de lengua extranjera a impartir. Minimo 6 meses de experiencia como instructor virtual. | H19: 1 | I19: necesidades de la formación | J19: 44140 | K19: 44153 | L19: =+DATEDIF(J19,K19,"M") -> 0 | M19: =+DATEDIF(J19,K19,"MD") -> 13 | N19: 0 | O19: =3502000*1.03 -> 3607060 | P19: =+(O19*L19+(O19/30*(M19-N19)))*H19 -> 1563059.3 | Q19: NUEVO | R19: JHON CORENA | S19: CDP 12320
A20: 6 | B20: PRESTAR SERVICIOS PERSONALES DE CARÁCTER TEMPORAL PARA PLANEAR, EJECUTAR Y ORIENTAR LA FORMACIÓN PROFESIONAL INTEGRAL EN LA FAMILIA IDIOMAS (BILINGÜISMO) QUE PROGRAME EL CENTRO DE FORMACIÓN EN SUS DIFERENTES NIVELES EN MODALIDAD VIRTUAL Y A DISTANCIA, ATENDIENDO LAS POLÍTICAS INSTITUCIONALES Y LA NORMATIVIDAD VIGENTE | C20: • PARTICIPAR EN LA PLANEACIÓN DE LOS PROCESOS FORMATIVOS EN MODALIDAD VIRTUAL Y A DISTANCIA, DE ACUERDO CON LOS LINEAMIENTOS INSTITUCIONALES, PARA EL ÁREA TEMÁTICA DEL OBJETO CONTRACTUAL. • PARTICIPAR CUANDO EL CENTRO DE FORMACIÓN LO REQUIERA, EN JORNADAS DE DISEÑO Y DESARROLLO CURRICULAR DE PROGRAMAS DE FORMACIÓN PROFESIONAL INTEGRAL EN MODALIDAD VIRTUAL Y A DISTANCIA, CONFORME A LAS NECESIDADES NACIONALES Y A LOS LINEAMIENTOS INSTITUCIONALES REQUERIDOS. • EVALUAR LOS APRENDIZAJES PREVIOS CORRESPONDIENTES A LAS FICHAS ASIGNADAS, DE ACUERDO CON LOS PROCEDIMIENTOS, PLAZOS Y HERRAMIENTAS TECNOLÓGICAS QUE LA ENTIDAD DEFINA. • PARTICIPAR CUANDO EL CENTRO DE FORMACIÓN LO REQUIERA, EN PROYECTOS DE INVESTIGACIÓN TÉCNICA Y/O PEDAGÓGICA PARA FORTALECER EL PROCESO DE FORMACIÓN EN MODALIDAD VIRTUAL Y A DISTANCIA. • EJECUTAR LA FORMACIÓN PROFESIONAL INTEGRAL DE ACUERDO CON EL DISEÑO CURRICULAR, DESARROLLO CURRICULAR Y PROYECTO FORMATIVO DE LOS PROGRAMAS VIRTUALES DEL ÁREA TEMÁTICA EN EL OBJETO DEL CONTRATO. • APLICAR ESTRATEGIAS DE ENSEÑANZA, APRENDIZAJE, SEGUIMIENTO Y EVALUACIÓN EN MODALIDAD VIRTUAL Y A DISTANCIA, DE ACUERDO A LOS LINEAMIENTOS PEDAGÓGICOS Y METODOLÓGICOS DE LA ENTIDAD. • EMITIR JUICIO VALORATIVO SOBRE EL NIVEL DE CUMPLIMIENTO DE LOS RESULTADOS DE APRENDIZAJES DE LAS COMPETENCIAS DEL PROGRAMA EN MODALIDAD VIRTUAL Y A DISTANCIA, ADQUIRIDOS POR LOS APRENDICES EN EL DESARROLLO DE SU FORMACIÓN, APLICANDO LOS PROCEDIMIENTOS, PLAZOS Y HERRAMIENTAS TECNOLÓGICAS QUE LA ENTIDAD DEFINA. • REGISTRAR, VERIFICAR Y HACER SEGUIMIENTO OPORTUNO EN EL SISTEMA DE INFORMACIÓN QUE LA ENTIDAD DEFINA PARA LA GESTIÓN DE LA FORMACIÓN PROFESIONAL INTEGRAL EN MODALIDAD VIRTUAL Y A DISTANCIA, MEDIANTE LAS SIGUIENTES ACTIVIDADES: A). VERIFICAR QUE LA TOTALIDAD DE LOS APRENDICES SELECCIONADOS ESTÉN ASOCIADOS A UNA RUTA DE APRENDIZAJE Y SU ESTADO SEA MATRICULADO. B). REGISTRAR JUICIOS EVALUATIVOS, REALIZAR RECONOCIMIENTO DE APRENDIZAJES PREVIOS, PARA LOS APRENDICES NUEVOS, REINTEGRADOS O TRASLADADOS. E). COMUNICAR AL COORDINADOR ACADÉMICO OPORTUNAMENTE ANOMALÍAS, INCONSISTENCIAS, NOVEDADES DE APRENDICES Y HALLAZGOS EN EL REGISTRO DE LA INFORMACIÓN. • APLICAR Y HACER CUMPLIR EL REGLAMENTO DEL APRENDIZ Y EL MANUAL DE CONVIVENCIA INSTAURADO EN LA INSTITUCIÓN. • APOYAR PROCESOS DE REGISTRO CALIFICADO PARA LOS PROGRAMAS DE EDUCACIÓN SUPERIOR DEL ÁREA TEMÁTICA OBJETO DEL PRESENTE CONTRATO, CUANDO EL CENTRO LO REQUIERA. • REALIZAR SEGUIMIENTO A LOS APRENDICES QUE INGRESAN A LA ETAPA PRODUCTIVA EN MODALIDAD VIRTUAL Y A DISTANCIA SEGÚN LA ASIGNACIÓN Y REQUERIMIENTOS DEL CENTRO DE FORMACIÓN. • PARTICIPAR EN LOS PROCESOS DE AUTOEVALUACIÓN DE PROGRAMAS DE FORMACIÓN VIRTUAL Y A DISTANCIA EN EL CENTRO DE FORMACIÓN. • LAS DEMÁS NECESARIAS PARA EL CABAL CUMPLIMIENTO DEL OBJETO CONTRACTUAL. | D20: PROFESIONAL / TECNOLOGO | E20: Todos los instructores de lenguas SENA deben cumplir con las especificaciones de las opciones enunciadas a continuación. Alternativa 1: Tìtulo Profesional univeritario en cualquier nùcleo bàsico de conocimiento. Nivel de Lengua certificado de Mínimo nivel B2 de acuerdo con el MCER en cada una de las 4 habilidades de dominio de lengua (Comprensiòn Lectora, Comprensiòn Escrita, Producciòn Oral, Producciòn Escrita), Los examenes de lengua admitidos deben tener vigencia de 2 años y son aquellos enlistados en la Resolucion 12730 del 28 de junio de 2017 del Ministerio de Educación Nacional. No se aceptan aquellos examenes catalogados en esta resolucion como "Clasificacion (Placement)", "Niños de 7 a 12 años (Young Learners)", "Jovenes (Teenagers)". Alternativa 2: Tìtulo Tecnòlogo en cualquier nùcleo bàsico de conocimiento. Nivel de Lengua certificado de Mínimo nivel B2 de acuerdo con el MCER en cada una de las 4 habilidades de dominio de lengua (Comprensiòn Lectora, Comprensiòn Escrita, Producciòn Oral, Producciòn Escrita), Los examenes de lengua admitidos deben tener vigencia de 2 años y son aquellos enlistados en la Resolucion 12730 del 28 de junio de 2017 del Ministerio de Educación Nacional. No se aceptan aquellos examenes catalogados en esta resolucion como "Clasificacion (Placement)", "Niños de 7 a 12 años (Young Learners)", "Jovenes (Teenagers)". NUCLEO BASICO DE CONOCIMIENTO: Diseño Grafico, Licenciatura en Ciencias de la Educación Especialidad Lenguas Modernas Español - Inglés Licenciatura en Pedagogía Infantil, Licenciatura en idiomas extranjeros, Matemático, Administración de Empresas, Ingeniería de Sistemas, Licenciatura en Ciencias básicas con énfasis en idiomas extranjeros, Licenciatura de Idiomas Extranjeros Especialidad Ingles, Licenciatura en Lengua Extranjera Inglés, Tecnólogo en gestión financiera, Odontologia, Ingenieria electrónica, Licenciatura en Lenguas Modernas Español-Ingles, Licenciatura en Educación Infantil, Derecho, Licenciatura en lenguas modernas, Licenciatura en lengua castellana y comunicación, Ingeniera Industrial, Relaciones Internacionales. Nota 1: Es importante precisar que los instructores contratados sòlo podràn orientar procesos de formaciòn en la lengua extranjera que dominan y de la cual han presentado su certificaciòn de suficiencia en el nivel requerido. Nota 2: Los tutores virtuales que orientaràn formaciòn complementaria virtual o la competencia de inglès en los programas de titulada virtual, adicional a los anteriores criterios deben acreditar capacitaciòn relacionada con tutorìa virtual, no inferior a 40 horas y tener experiencia adicional comprobada de mìnimo 6 meses com tutor virtual. Nota 3: Todos los tìtulos acadèmicos expedidos en un paìs diferente a Colombia deben cumplir con los requisitos y regulaciones de las normas que expida el Ministerio de Educaciòn Nacional y de contrataciòn pùblica. Nota 4: Algunos Centros de Formación realizaron en el pasado contratación de instructores que no cumplían a cabalidad con los perfiles dispuestos en las orientaciones para el Programa de Bilingüismo. Por tal razón los encargados de bilingüismo (e.g. Profesional de bilingüismo del Centro de Formación ) están prestos para apoyar a los Coordinadores del Centro en la verificación del cumplimento de los perfiles de los aspirantes a ser instructores de bilingüismo (hojas de vida, soportes y referencias profesionales) | F20: Alternativa 1 - Título Profesional:. Experiencia laboral: Mínimo 24 meses de experiencia en la instruccion/docencia de la lengua extranjera a impartir. Alternativa 2 - Título Tecnólogo: Experiencia laboral: Mínimo 30 meses de experiencia en la instruccion/docencia de la lengua extranjera a impartir. . | G20: Alternativa 1 - Título Profesional:. Experiencia laboral: Mínimo 24 meses de experiencia relacionados con la docencia de lengua extranjera a impartir. Minimo 6 meses de experiencia como instructor virtual. Alternativa 2 - Título Tecnólogo: Experiencia laboral: Mínimo 30 meses de experiencia relacionados con la docencia de lengua extranjera a impartir. Minimo 6 meses de experiencia como instructor virtual. | H20: 1 | I20: necesidades de la formación | J20: 44141 | K20: 44158 | L20: =+DATEDIF(J20,K20,"M") -> 0 | M20: =+DATEDIF(J20,K20,"MD") -> 17 | N20: 0 | O20: =3502000*1.03 -> 3607060 | P20: =+(O20*L20+(O20/30*(M20-N20)))*H20 -> 2044000.7 | Q20: NUEVO | R20: BRAYAN FLOREZ | S20: CDP 12320
A21: 7 | B21: PRESTAR SERVICIOS PERSONALES DE CARÁCTER TEMPORAL PARA PLANEAR, EJECUTAR Y ORIENTAR LA FORMACIÓN PROFESIONAL INTEGRAL EN LA FAMILIA IDIOMAS (BILINGÜISMO) QUE PROGRAME EL CENTRO DE FORMACIÓN EN SUS DIFERENTES NIVELES EN MODALIDAD VIRTUAL Y A DISTANCIA, ATENDIENDO LAS POLÍTICAS INSTITUCIONALES Y LA NORMATIVIDAD VIGENTE | C21: • PARTICIPAR EN LA PLANEACIÓN DE LOS PROCESOS FORMATIVOS EN MODALIDAD VIRTUAL Y A DISTANCIA, DE ACUERDO CON LOS LINEAMIENTOS INSTITUCIONALES, PARA EL ÁREA TEMÁTICA DEL OBJETO CONTRACTUAL. • PARTICIPAR CUANDO EL CENTRO DE FORMACIÓN LO REQUIERA, EN JORNADAS DE DISEÑO Y DESARROLLO CURRICULAR DE PROGRAMAS DE FORMACIÓN PROFESIONAL INTEGRAL EN MODALIDAD VIRTUAL Y A DISTANCIA, CONFORME A LAS NECESIDADES NACIONALES Y A LOS LINEAMIENTOS INSTITUCIONALES REQUERIDOS. • EVALUAR LOS APRENDIZAJES PREVIOS CORRESPONDIENTES A LAS FICHAS ASIGNADAS, DE ACUERDO CON LOS PROCEDIMIENTOS, PLAZOS Y HERRAMIENTAS TECNOLÓGICAS QUE LA ENTIDAD DEFINA. • PARTICIPAR CUANDO EL CENTRO DE FORMACIÓN LO REQUIERA, EN PROYECTOS DE INVESTIGACIÓN TÉCNICA Y/O PEDAGÓGICA PARA FORTALECER EL PROCESO DE FORMACIÓN EN MODALIDAD VIRTUAL Y A DISTANCIA. • EJECUTAR LA FORMACIÓN PROFESIONAL INTEGRAL DE ACUERDO CON EL DISEÑO CURRICULAR, DESARROLLO CURRICULAR Y PROYECTO FORMATIVO DE LOS PROGRAMAS VIRTUALES DEL ÁREA TEMÁTICA EN EL OBJETO DEL CONTRATO. • APLICAR ESTRATEGIAS DE ENSEÑANZA, APRENDIZAJE, SEGUIMIENTO Y EVALUACIÓN EN MODALIDAD VIRTUAL Y A DISTANCIA, DE ACUERDO A LOS LINEAMIENTOS PEDAGÓGICOS Y METODOLÓGICOS DE LA ENTIDAD. • EMITIR JUICIO VALORATIVO SOBRE EL NIVEL DE CUMPLIMIENTO DE LOS RESULTADOS DE APRENDIZAJES DE LAS COMPETENCIAS DEL PROGRAMA EN MODALIDAD VIRTUAL Y A DISTANCIA, ADQUIRIDOS POR LOS APRENDICES EN EL DESARROLLO DE SU FORMACIÓN, APLICANDO LOS PROCEDIMIENTOS, PLAZOS Y HERRAMIENTAS TECNOLÓGICAS QUE LA ENTIDAD DEFINA. • REGISTRAR, VERIFICAR Y HACER SEGUIMIENTO OPORTUNO EN EL SISTEMA DE INFORMACIÓN QUE LA ENTIDAD DEFINA PARA LA GESTIÓN DE LA FORMACIÓN PROFESIONAL INTEGRAL EN MODALIDAD VIRTUAL Y A DISTANCIA, MEDIANTE LAS SIGUIENTES ACTIVIDADES: A). VERIFICAR QUE LA TOTALIDAD DE LOS APRENDICES SELECCIONADOS ESTÉN ASOCIADOS A UNA RUTA DE APRENDIZAJE Y SU ESTADO SEA MATRICULADO. B). REGISTRAR JUICIOS EVALUATIVOS, REALIZAR RECONOCIMIENTO DE APRENDIZAJES PREVIOS, PARA LOS APRENDICES NUEVOS, REINTEGRADOS O TRASLADADOS. E). COMUNICAR AL COORDINADOR ACADÉMICO OPORTUNAMENTE ANOMALÍAS, INCONSISTENCIAS, NOVEDADES DE APRENDICES Y HALLAZGOS EN EL REGISTRO DE LA INFORMACIÓN. • APLICAR Y HACER CUMPLIR EL REGLAMENTO DEL APRENDIZ Y EL MANUAL DE CONVIVENCIA INSTAURADO EN LA INSTITUCIÓN. • APOYAR PROCESOS DE REGISTRO CALIFICADO PARA LOS PROGRAMAS DE EDUCACIÓN SUPERIOR DEL ÁREA TEMÁTICA OBJETO DEL PRESENTE CONTRATO, CUANDO EL CENTRO LO REQUIERA. • REALIZAR SEGUIMIENTO A LOS APRENDICES QUE INGRESAN A LA ETAPA PRODUCTIVA EN MODALIDAD VIRTUAL Y A DISTANCIA SEGÚN LA ASIGNACIÓN Y REQUERIMIENTOS DEL CENTRO DE FORMACIÓN. • PARTICIPAR EN LOS PROCESOS DE AUTOEVALUACIÓN DE PROGRAMAS DE FORMACIÓN VIRTUAL Y A DISTANCIA EN EL CENTRO DE FORMACIÓN. • LAS DEMÁS NECESARIAS PARA EL CABAL CUMPLIMIENTO DEL OBJETO CONTRACTUAL. | D21: PROFESIONAL / TECNOLOGO | E21: Todos los instructores de lenguas SENA deben cumplir con las especificaciones de las opciones enunciadas a continuación. Alternativa 1: Tìtulo Profesional univeritario en cualquier nùcleo bàsico de conocimiento. Nivel de Lengua certificado de Mínimo nivel B2 de acuerdo con el MCER en cada una de las 4 habilidades de dominio de lengua (Comprensiòn Lectora, Comprensiòn Escrita, Producciòn Oral, Producciòn Escrita), Los examenes de lengua admitidos deben tener vigencia de 2 años y son aquellos enlistados en la Resolucion 12730 del 28 de junio de 2017 del Ministerio de Educación Nacional. No se aceptan aquellos examenes catalogados en esta resolucion como "Clasificacion (Placement)", "Niños de 7 a 12 años (Young Learners)", "Jovenes (Teenagers)". Alternativa 2: Tìtulo Tecnòlogo en cualquier nùcleo bàsico de conocimiento. Nivel de Lengua certificado de Mínimo nivel B2 de acuerdo con el MCER en cada una de las 4 habilidades de dominio de lengua (Comprensiòn Lectora, Comprensiòn Escrita, Producciòn Oral, Producciòn Escrita), Los examenes de lengua admitidos deben tener vigencia de 2 años y son aquellos enlistados en la Resolucion 12730 del 28 de junio de 2017 del Ministerio de Educación Nacional. No se aceptan aquellos examenes catalogados en esta resolucion como "Clasificacion (Placement)", "Niños de 7 a 12 años (Young Learners)", "Jovenes (Teenagers)". NUCLEO BASICO DE CONOCIMIENTO: Diseño Grafico, Licenciatura en Ciencias de la Educación Especialidad Lenguas Modernas Español - Inglés Licenciatura en Pedagogía Infantil, Licenciatura en idiomas extranjeros, Matemático, Administración de Empresas, Ingeniería de Sistemas, Licenciatura en Ciencias básicas con énfasis en idiomas extranjeros, Licenciatura de Idiomas Extranjeros Especialidad Ingles, Licenciatura en Lengua Extranjera Inglés, Tecnólogo en gestión financiera, Odontologia, Ingenieria electrónica, Licenciatura en Lenguas Modernas Español-Ingles, Licenciatura en Educación Infantil, Derecho, Licenciatura en lenguas modernas, Licenciatura en lengua castellana y comunicación, Ingeniera Industrial, Relaciones Internacionales. Nota 1: Es importante precisar que los instructores contratados sòlo podràn orientar procesos de formaciòn en la lengua extranjera que dominan y de la cual han presentado su certificaciòn de suficiencia en el nivel requerido. Nota 2: Los tutores virtuales que orientaràn formaciòn complementaria virtual o la competencia de inglès en los programas de titulada virtual, adicional a los anteriores criterios deben acreditar capacitaciòn relacionada con tutorìa virtual, no inferior a 40 horas y tener experiencia adicional comprobada de mìnimo 6 meses com tutor virtual. Nota 3: Todos los tìtulos acadèmicos expedidos en un paìs diferente a Colombia deben cumplir con los requisitos y regulaciones de las normas que expida el Ministerio de Educaciòn Nacional y de contrataciòn pùblica. Nota 4: Algunos Centros de Formación realizaron en el pasado contratación de instructores que no cumplían a cabalidad con los perfiles dispuestos en las orientaciones para el Programa de Bilingüismo. Por tal razón los encargados de bilingüismo (e.g. Profesional de bilingüismo del Centro de Formación ) están prestos para apoyar a los Coordinadores del Centro en la verificación del cumplimento de los perfiles de los aspirantes a ser instructores de bilingüismo (hojas de vida, soportes y referencias profesionales) | F21: Alternativa 1 - Título Profesional:. Experiencia laboral: Mínimo 24 meses de experiencia en la instruccion/docencia de la lengua extranjera a impartir. Alternativa 2 - Título Tecnólogo: Experiencia laboral: Mínimo 30 meses de experiencia en la instruccion/docencia de la lengua extranjera a impartir. . | G21: Alternativa 1 - Título Profesional:. Experiencia laboral: Mínimo 24 meses de experiencia relacionados con la docencia de lengua extranjera a impartir. Minimo 6 meses de experiencia como instructor virtual. Alternativa 2 - Título Tecnólogo: Experiencia laboral: Mínimo 30 meses de experiencia relacionados con la docencia de lengua extranjera a impartir. Minimo 6 meses de experiencia como instructor virtual. | H21: 1 | I21: necesidades de la formación | J21: 44141 | K21: 44153 | L21: =+DATEDIF(J21,K21,"M") -> 0 | M21: =+DATEDIF(J21,K21,"MD") -> 12 | N21: 0 | O21: =3502000*1.03 -> 3607060 | P21: =+(O21*L21+(O21/30*(M21-N21)))*H21 -> 1442824 | Q21: NUEVO | R21: JAIME FUENTES | S21: CDP 12320
A22: 8 | B22: PRESTAR SERVICIOS PERSONALES DE CARÁCTER TEMPORAL PARA PLANEAR, EJECUTAR Y ORIENTAR LA FORMACIÓN PROFESIONAL INTEGRAL EN LA FAMILIA IDIOMAS (BILINGÜISMO) QUE PROGRAME EL CENTRO DE FORMACIÓN EN SUS DIFERENTES NIVELES EN MODALIDAD VIRTUAL Y A DISTANCIA, ATENDIENDO LAS POLÍTICAS INSTITUCIONALES Y LA NORMATIVIDAD VIGENTE | C22: • PARTICIPAR EN LA PLANEACIÓN DE LOS PROCESOS FORMATIVOS EN MODALIDAD VIRTUAL Y A DISTANCIA, DE ACUERDO CON LOS LINEAMIENTOS INSTITUCIONALES, PARA EL ÁREA TEMÁTICA DEL OBJETO CONTRACTUAL. • PARTICIPAR CUANDO EL CENTRO DE FORMACIÓN LO REQUIERA, EN JORNADAS DE DISEÑO Y DESARROLLO CURRICULAR DE PROGRAMAS DE FORMACIÓN PROFESIONAL INTEGRAL EN MODALIDAD VIRTUAL Y A DISTANCIA, CONFORME A LAS NECESIDADES NACIONALES Y A LOS LINEAMIENTOS INSTITUCIONALES REQUERIDOS. • EVALUAR LOS APRENDIZAJES PREVIOS CORRESPONDIENTES A LAS FICHAS ASIGNADAS, DE ACUERDO CON LOS PROCEDIMIENTOS, PLAZOS Y HERRAMIENTAS TECNOLÓGICAS QUE LA ENTIDAD DEFINA. • PARTICIPAR CUANDO EL CENTRO DE FORMACIÓN LO REQUIERA, EN PROYECTOS DE INVESTIGACIÓN TÉCNICA Y/O PEDAGÓGICA PARA FORTALECER EL PROCESO DE FORMACIÓN EN MODALIDAD VIRTUAL Y A DISTANCIA. • EJECUTAR LA FORMACIÓN PROFESIONAL INTEGRAL DE ACUERDO CON EL DISEÑO CURRICULAR, DESARROLLO CURRICULAR Y PROYECTO FORMATIVO DE LOS PROGRAMAS VIRTUALES DEL ÁREA TEMÁTICA EN EL OBJETO DEL CONTRATO. • APLICAR ESTRATEGIAS DE ENSEÑANZA, APRENDIZAJE, SEGUIMIENTO Y EVALUACIÓN EN MODALIDAD VIRTUAL Y A DISTANCIA, DE ACUERDO A LOS LINEAMIENTOS PEDAGÓGICOS Y METODOLÓGICOS DE LA ENTIDAD. • EMITIR JUICIO VALORATIVO SOBRE EL NIVEL DE CUMPLIMIENTO DE LOS RESULTADOS DE APRENDIZAJES DE LAS COMPETENCIAS DEL PROGRAMA EN MODALIDAD VIRTUAL Y A DISTANCIA, ADQUIRIDOS POR LOS APRENDICES EN EL DESARROLLO DE SU FORMACIÓN, APLICANDO LOS PROCEDIMIENTOS, PLAZOS Y HERRAMIENTAS TECNOLÓGICAS QUE LA ENTIDAD DEFINA. • REGISTRAR, VERIFICAR Y HACER SEGUIMIENTO OPORTUNO EN EL SISTEMA DE INFORMACIÓN QUE LA ENTIDAD DEFINA PARA LA GESTIÓN DE LA FORMACIÓN PROFESIONAL INTEGRAL EN MODALIDAD VIRTUAL Y A DISTANCIA, MEDIANTE LAS SIGUIENTES ACTIVIDADES: A). VERIFICAR QUE LA TOTALIDAD DE LOS APRENDICES SELECCIONADOS ESTÉN ASOCIADOS A UNA RUTA DE APRENDIZAJE Y SU ESTADO SEA MATRICULADO. B). REGISTRAR JUICIOS EVALUATIVOS, REALIZAR RECONOCIMIENTO DE APRENDIZAJES PREVIOS, PARA LOS APRENDICES NUEVOS, REINTEGRADOS O TRASLADADOS. E). COMUNICAR AL COORDINADOR ACADÉMICO OPORTUNAMENTE ANOMALÍAS, INCONSISTENCIAS, NOVEDADES DE APRENDICES Y HALLAZGOS EN EL REGISTRO DE LA INFORMACIÓN. • APLICAR Y HACER CUMPLIR EL REGLAMENTO DEL APRENDIZ Y EL MANUAL DE CONVIVENCIA INSTAURADO EN LA INSTITUCIÓN. • APOYAR PROCESOS DE REGISTRO CALIFICADO PARA LOS PROGRAMAS DE EDUCACIÓN SUPERIOR DEL ÁREA TEMÁTICA OBJETO DEL PRESENTE CONTRATO, CUANDO EL CENTRO LO REQUIERA. • REALIZAR SEGUIMIENTO A LOS APRENDICES QUE INGRESAN A LA ETAPA PRODUCTIVA EN MODALIDAD VIRTUAL Y A DISTANCIA SEGÚN LA ASIGNACIÓN Y REQUERIMIENTOS DEL CENTRO DE FORMACIÓN. • PARTICIPAR EN LOS PROCESOS DE AUTOEVALUACIÓN DE PROGRAMAS DE FORMACIÓN VIRTUAL Y A DISTANCIA EN EL CENTRO DE FORMACIÓN. • LAS DEMÁS NECESARIAS PARA EL CABAL CUMPLIMIENTO DEL OBJETO CONTRACTUAL. | D22: PROFESIONAL / TECNOLOGO | E22: Todos los instructores de lenguas SENA deben cumplir con las especificaciones de las opciones enunciadas a continuación. Alternativa 1: Tìtulo Profesional univeritario en cualquier nùcleo bàsico de conocimiento. Nivel de Lengua certificado de Mínimo nivel B2 de acuerdo con el MCER en cada una de las 4 habilidades de dominio de lengua (Comprensiòn Lectora, Comprensiòn Escrita, Producciòn Oral, Producciòn Escrita), Los examenes de lengua admitidos deben tener vigencia de 2 años y son aquellos enlistados en la Resolucion 12730 del 28 de junio de 2017 del Ministerio de Educación Nacional. No se aceptan aquellos examenes catalogados en esta resolucion como "Clasificacion (Placement)", "Niños de 7 a 12 años (Young Learners)", "Jovenes (Teenagers)". Alternativa 2: Tìtulo Tecnòlogo en cualquier nùcleo bàsico de conocimiento. Nivel de Lengua certificado de Mínimo nivel B2 de acuerdo con el MCER en cada una de las 4 habilidades de dominio de lengua (Comprensiòn Lectora, Comprensiòn Escrita, Producciòn Oral, Producciòn Escrita), Los examenes de lengua admitidos deben tener vigencia de 2 años y son aquellos enlistados en la Resolucion 12730 del 28 de junio de 2017 del Ministerio de Educación Nacional. No se aceptan aquellos examenes catalogados en esta resolucion como "Clasificacion (Placement)", "Niños de 7 a 12 años (Young Learners)", "Jovenes (Teenagers)". NUCLEO BASICO DE CONOCIMIENTO: Diseño Grafico, Licenciatura en Ciencias de la Educación Especialidad Lenguas Modernas Español - Inglés Licenciatura en Pedagogía Infantil, Licenciatura en idiomas extranjeros, Matemático, Administración de Empresas, Ingeniería de Sistemas, Licenciatura en Ciencias básicas con énfasis en idiomas extranjeros, Licenciatura de Idiomas Extranjeros Especialidad Ingles, Licenciatura en Lengua Extranjera Inglés, Tecnólogo en gestión financiera, Odontologia, Ingenieria electrónica, Licenciatura en Lenguas Modernas Español-Ingles, Licenciatura en Educación Infantil, Derecho, Licenciatura en lenguas modernas, Licenciatura en lengua castellana y comunicación, Ingeniera Industrial, Relaciones Internacionales. Nota 1: Es importante precisar que los instructores contratados sòlo podràn orientar procesos de formaciòn en la lengua extranjera que dominan y de la cual han presentado su certificaciòn de suficiencia en el nivel requerido. Nota 2: Los tutores virtuales que orientaràn formaciòn complementaria virtual o la competencia de inglès en los programas de titulada virtual, adicional a los anteriores criterios deben acreditar capacitaciòn relacionada con tutorìa virtual, no inferior a 40 horas y tener experiencia adicional comprobada de mìnimo 6 meses com tutor virtual. Nota 3: Todos los tìtulos acadèmicos expedidos en un paìs diferente a Colombia deben cumplir con los requisitos y regulaciones de las normas que expida el Ministerio de Educaciòn Nacional y de contrataciòn pùblica. Nota 4: Algunos Centros de Formación realizaron en el pasado contratación de instructores que no cumplían a cabalidad con los perfiles dispuestos en las orientaciones para el Programa de Bilingüismo. Por tal razón los encargados de bilingüismo (e.g. Profesional de bilingüismo del Centro de Formación ) están prestos para apoyar a los Coordinadores del Centro en la verificación del cumplimento de los perfiles de los aspirantes a ser instructores de bilingüismo (hojas de vida, soportes y referencias profesionales) | F22: Alternativa 1 - Título Profesional:. Experiencia laboral: Mínimo 24 meses de experiencia en la instruccion/docencia de la lengua extranjera a impartir. Alternativa 2 - Título Tecnólogo: Experiencia laboral: Mínimo 30 meses de experiencia en la instruccion/docencia de la lengua extranjera a impartir. . | G22: Alternativa 1 - Título Profesional:. Experiencia laboral: Mínimo 24 meses de experiencia relacionados con la docencia de lengua extranjera a impartir. Minimo 6 meses de experiencia como instructor virtual. Alternativa 2 - Título Tecnólogo: Experiencia laboral: Mínimo 30 meses de experiencia relacionados con la docencia de lengua extranjera a impartir. Minimo 6 meses de experiencia como instructor virtual. | H22: 1 | I22: necesidades de la formación | J22: 44141 | K22: 44147 | L22: =+DATEDIF(J22,K22,"M") -> 0 | M22: =+DATEDIF(J22,K22,"MD") -> 6 | N22: 0 | O22: =3502000*1.03 -> 3607060 | P22: =+(O22*L22+(O22/30*(M22-N22)))*H22 -> 721412 | Q22: NUEVO | R22: LAURA ALCOCER | S22: CDP 12320
A23: 9 | B23: PRESTAR SERVICIOS PERSONALES DE CARÁCTER TEMPORAL PARA PLANEAR, EJECUTAR Y ORIENTAR LA FORMACIÓN PROFESIONAL INTEGRAL EN LA FAMILIA IDIOMAS (BILINGÜISMO) QUE PROGRAME EL CENTRO DE FORMACIÓN EN SUS DIFERENTES NIVELES EN MODALIDAD VIRTUAL Y A DISTANCIA, ATENDIENDO LAS POLÍTICAS INSTITUCIONALES Y LA NORMATIVIDAD VIGENTE | C23: • PARTICIPAR EN LA PLANEACIÓN DE LOS PROCESOS FORMATIVOS EN MODALIDAD VIRTUAL Y A DISTANCIA, DE ACUERDO CON LOS LINEAMIENTOS INSTITUCIONALES, PARA EL ÁREA TEMÁTICA DEL OBJETO CONTRACTUAL. • PARTICIPAR CUANDO EL CENTRO DE FORMACIÓN LO REQUIERA, EN JORNADAS DE DISEÑO Y DESARROLLO CURRICULAR DE PROGRAMAS DE FORMACIÓN PROFESIONAL INTEGRAL EN MODALIDAD VIRTUAL Y A DISTANCIA, CONFORME A LAS NECESIDADES NACIONALES Y A LOS LINEAMIENTOS INSTITUCIONALES REQUERIDOS. • EVALUAR LOS APRENDIZAJES PREVIOS CORRESPONDIENTES A LAS FICHAS ASIGNADAS, DE ACUERDO CON LOS PROCEDIMIENTOS, PLAZOS Y HERRAMIENTAS TECNOLÓGICAS QUE LA ENTIDAD DEFINA. • PARTICIPAR CUANDO EL CENTRO DE FORMACIÓN LO REQUIERA, EN PROYECTOS DE INVESTIGACIÓN TÉCNICA Y/O PEDAGÓGICA PARA FORTALECER EL PROCESO DE FORMACIÓN EN MODALIDAD VIRTUAL Y A DISTANCIA. • EJECUTAR LA FORMACIÓN PROFESIONAL INTEGRAL DE ACUERDO CON EL DISEÑO CURRICULAR, DESARROLLO CURRICULAR Y PROYECTO FORMATIVO DE LOS PROGRAMAS VIRTUALES DEL ÁREA TEMÁTICA EN EL OBJETO DEL CONTRATO. • APLICAR ESTRATEGIAS DE ENSEÑANZA, APRENDIZAJE, SEGUIMIENTO Y EVALUACIÓN EN MODALIDAD VIRTUAL Y A DISTANCIA, DE ACUERDO A LOS LINEAMIENTOS PEDAGÓGICOS Y METODOLÓGICOS DE LA ENTIDAD. • EMITIR JUICIO VALORATIVO SOBRE EL NIVEL DE CUMPLIMIENTO DE LOS RESULTADOS DE APRENDIZAJES DE LAS COMPETENCIAS DEL PROGRAMA EN MODALIDAD VIRTUAL Y A DISTANCIA, ADQUIRIDOS POR LOS APRENDICES EN EL DESARROLLO DE SU FORMACIÓN, APLICANDO LOS PROCEDIMIENTOS, PLAZOS Y HERRAMIENTAS TECNOLÓGICAS QUE LA ENTIDAD DEFINA. • REGISTRAR, VERIFICAR Y HACER SEGUIMIENTO OPORTUNO EN EL SISTEMA DE INFORMACIÓN QUE LA ENTIDAD DEFINA PARA LA GESTIÓN DE LA FORMACIÓN PROFESIONAL INTEGRAL EN MODALIDAD VIRTUAL Y A DISTANCIA, MEDIANTE LAS SIGUIENTES ACTIVIDADES: A). VERIFICAR QUE LA TOTALIDAD DE LOS APRENDICES SELECCIONADOS ESTÉN ASOCIADOS A UNA RUTA DE APRENDIZAJE Y SU ESTADO SEA MATRICULADO. B). REGISTRAR JUICIOS EVALUATIVOS, REALIZAR RECONOCIMIENTO DE APRENDIZAJES PREVIOS, PARA LOS APRENDICES NUEVOS, REINTEGRADOS O TRASLADADOS. E). COMUNICAR AL COORDINADOR ACADÉMICO OPORTUNAMENTE ANOMALÍAS, INCONSISTENCIAS, NOVEDADES DE APRENDICES Y HALLAZGOS EN EL REGISTRO DE LA INFORMACIÓN. • APLICAR Y HACER CUMPLIR EL REGLAMENTO DEL APRENDIZ Y EL MANUAL DE CONVIVENCIA INSTAURADO EN LA INSTITUCIÓN. • APOYAR PROCESOS DE REGISTRO CALIFICADO PARA LOS PROGRAMAS DE EDUCACIÓN SUPERIOR DEL ÁREA TEMÁTICA OBJETO DEL PRESENTE CONTRATO, CUANDO EL CENTRO LO REQUIERA. • REALIZAR SEGUIMIENTO A LOS APRENDICES QUE INGRESAN A LA ETAPA PRODUCTIVA EN MODALIDAD VIRTUAL Y A DISTANCIA SEGÚN LA ASIGNACIÓN Y REQUERIMIENTOS DEL CENTRO DE FORMACIÓN. • PARTICIPAR EN LOS PROCESOS DE AUTOEVALUACIÓN DE PROGRAMAS DE FORMACIÓN VIRTUAL Y A DISTANCIA EN EL CENTRO DE FORMACIÓN. • LAS DEMÁS NECESARIAS PARA EL CABAL CUMPLIMIENTO DEL OBJETO CONTRACTUAL. | D23: PROFESIONAL / TECNOLOGO | E23: Todos los instructores de lenguas SENA deben cumplir con las especificaciones de las opciones enunciadas a continuación. Alternativa 1: Tìtulo Profesional univeritario en cualquier nùcleo bàsico de conocimiento. Nivel de Lengua certificado de Mínimo nivel B2 de acuerdo con el MCER en cada una de las 4 habilidades de dominio de lengua (Comprensiòn Lectora, Comprensiòn Escrita, Producciòn Oral, Producciòn Escrita), Los examenes de lengua admitidos deben tener vigencia de 2 años y son aquellos enlistados en la Resolucion 12730 del 28 de junio de 2017 del Ministerio de Educación Nacional. No se aceptan aquellos examenes catalogados en esta resolucion como "Clasificacion (Placement)", "Niños de 7 a 12 años (Young Learners)", "Jovenes (Teenagers)". Alternativa 2: Tìtulo Tecnòlogo en cualquier nùcleo bàsico de conocimiento. Nivel de Lengua certificado de Mínimo nivel B2 de acuerdo con el MCER en cada una de las 4 habilidades de dominio de lengua (Comprensiòn Lectora, Comprensiòn Escrita, Producciòn Oral, Producciòn Escrita), Los examenes de lengua admitidos deben tener vigencia de 2 años y son aquellos enlistados en la Resolucion 12730 del 28 de junio de 2017 del Ministerio de Educación Nacional. No se aceptan aquellos examenes catalogados en esta resolucion como "Clasificacion (Placement)", "Niños de 7 a 12 años (Young Learners)", "Jovenes (Teenagers)". NUCLEO BASICO DE CONOCIMIENTO: Diseño Grafico, Licenciatura en Ciencias de la Educación Especialidad Lenguas Modernas Español - Inglés Licenciatura en Pedagogía Infantil, Licenciatura en idiomas extranjeros, Matemático, Administración de Empresas, Ingeniería de Sistemas, Licenciatura en Ciencias básicas con énfasis en idiomas extranjeros, Licenciatura de Idiomas Extranjeros Especialidad Ingles, Licenciatura en Lengua Extranjera Inglés, Tecnólogo en gestión financiera, Odontologia, Ingenieria electrónica, Licenciatura en Lenguas Modernas Español-Ingles, Licenciatura en Educación Infantil, Derecho, Licenciatura en lenguas modernas, Licenciatura en lengua castellana y comunicación, Ingeniera Industrial, Relaciones Internacionales. Nota 1: Es importante precisar que los instructores contratados sòlo podràn orientar procesos de formaciòn en la lengua extranjera que dominan y de la cual han presentado su certificaciòn de suficiencia en el nivel requerido. Nota 2: Los tutores virtuales que orientaràn formaciòn complementaria virtual o la competencia de inglès en los programas de titulada virtual, adicional a los anteriores criterios deben acreditar capacitaciòn relacionada con tutorìa virtual, no inferior a 40 horas y tener experiencia adicional comprobada de mìnimo 6 meses com tutor virtual. Nota 3: Todos los tìtulos acadèmicos expedidos en un paìs diferente a Colombia deben cumplir con los requisitos y regulaciones de las normas que expida el Ministerio de Educaciòn Nacional y de contrataciòn pùblica. Nota 4: Algunos Centros de Formación realizaron en el pasado contratación de instructores que no cumplían a cabalidad con los perfiles dispuestos en las orientaciones para el Programa de Bilingüismo. Por tal razón los encargados de bilingüismo (e.g. Profesional de bilingüismo del Centro de Formación ) están prestos para apoyar a los Coordinadores del Centro en la verificación del cumplimento de los perfiles de los aspirantes a ser instructores de bilingüismo (hojas de vida, soportes y referencias profesionales) | F23: Alternativa 1 - Título Profesional:. Experiencia laboral: Mínimo 24 meses de experiencia en la instruccion/docencia de la lengua extranjera a impartir. Alternativa 2 - Título Tecnólogo: Experiencia laboral: Mínimo 30 meses de experiencia en la instruccion/docencia de la lengua extranjera a impartir. . | G23: Alternativa 1 - Título Profesional:. Experiencia laboral: Mínimo 24 meses de experiencia relacionados con la docencia de lengua extranjera a impartir. Minimo 6 meses de experiencia como instructor virtual. Alternativa 2 - Título Tecnólogo: Experiencia laboral: Mínimo 30 meses de experiencia relacionados con la docencia de lengua extranjera a impartir. Minimo 6 meses de experiencia como instructor virtual. | H23: 1 | I23: necesidades de la formación | J23: 44141 | K23: 44159 | L23: =+DATEDIF(J23,K23,"M") -> 0 | M23: =+DATEDIF(J23,K23,"MD") -> 18 | N23: 0 | O23: =3502000*1.03 -> 3607060 | P23: =+(O23*L23+(O23/30*(M23-N23)))*H23 -> 2164236 | Q23: NUEVO | R23: GLORIA TOBO | S23: CDP 12320
A24: 10 | B24: PRESTAR SERVICIOS PERSONALES DE CARÁCTER TEMPORAL PARA PLANEAR, EJECUTAR Y ORIENTAR LA FORMACIÓN PROFESIONAL INTEGRAL EN LA FAMILIA IDIOMAS (BILINGÜISMO) QUE PROGRAME EL CENTRO DE FORMACIÓN EN SUS DIFERENTES NIVELES EN MODALIDAD VIRTUAL Y A DISTANCIA, ATENDIENDO LAS POLÍTICAS INSTITUCIONALES Y LA NORMATIVIDAD VIGENTE | C24: • PARTICIPAR EN LA PLANEACIÓN DE LOS PROCESOS FORMATIVOS EN MODALIDAD VIRTUAL Y A DISTANCIA, DE ACUERDO CON LOS LINEAMIENTOS INSTITUCIONALES, PARA EL ÁREA TEMÁTICA DEL OBJETO CONTRACTUAL. • PARTICIPAR CUANDO EL CENTRO DE FORMACIÓN LO REQUIERA, EN JORNADAS DE DISEÑO Y DESARROLLO CURRICULAR DE PROGRAMAS DE FORMACIÓN PROFESIONAL INTEGRAL EN MODALIDAD VIRTUAL Y A DISTANCIA, CONFORME A LAS NECESIDADES NACIONALES Y A LOS LINEAMIENTOS INSTITUCIONALES REQUERIDOS. • EVALUAR LOS APRENDIZAJES PREVIOS CORRESPONDIENTES A LAS FICHAS ASIGNADAS, DE ACUERDO CON LOS PROCEDIMIENTOS, PLAZOS Y HERRAMIENTAS TECNOLÓGICAS QUE LA ENTIDAD DEFINA. • PARTICIPAR CUANDO EL CENTRO DE FORMACIÓN LO REQUIERA, EN PROYECTOS DE INVESTIGACIÓN TÉCNICA Y/O PEDAGÓGICA PARA FORTALECER EL PROCESO DE FORMACIÓN EN MODALIDAD VIRTUAL Y A DISTANCIA. • EJECUTAR LA FORMACIÓN PROFESIONAL INTEGRAL DE ACUERDO CON EL DISEÑO CURRICULAR, DESARROLLO CURRICULAR Y PROYECTO FORMATIVO DE LOS PROGRAMAS VIRTUALES DEL ÁREA TEMÁTICA EN EL OBJETO DEL CONTRATO. • APLICAR ESTRATEGIAS DE ENSEÑANZA, APRENDIZAJE, SEGUIMIENTO Y EVALUACIÓN EN MODALIDAD VIRTUAL Y A DISTANCIA, DE ACUERDO A LOS LINEAMIENTOS PEDAGÓGICOS Y METODOLÓGICOS DE LA ENTIDAD. • EMITIR JUICIO VALORATIVO SOBRE EL NIVEL DE CUMPLIMIENTO DE LOS RESULTADOS DE APRENDIZAJES DE LAS COMPETENCIAS DEL PROGRAMA EN MODALIDAD VIRTUAL Y A DISTANCIA, ADQUIRIDOS POR LOS APRENDICES EN EL DESARROLLO DE SU FORMACIÓN, APLICANDO LOS PROCEDIMIENTOS, PLAZOS Y HERRAMIENTAS TECNOLÓGICAS QUE LA ENTIDAD DEFINA. • REGISTRAR, VERIFICAR Y HACER SEGUIMIENTO OPORTUNO EN EL SISTEMA DE INFORMACIÓN QUE LA ENTIDAD DEFINA PARA LA GESTIÓN DE LA FORMACIÓN PROFESIONAL INTEGRAL EN MODALIDAD VIRTUAL Y A DISTANCIA, MEDIANTE LAS SIGUIENTES ACTIVIDADES: A). VERIFICAR QUE LA TOTALIDAD DE LOS APRENDICES SELECCIONADOS ESTÉN ASOCIADOS A UNA RUTA DE APRENDIZAJE Y SU ESTADO SEA MATRICULADO. B). REGISTRAR JUICIOS EVALUATIVOS, REALIZAR RECONOCIMIENTO DE APRENDIZAJES PREVIOS, PARA LOS APRENDICES NUEVOS, REINTEGRADOS O TRASLADADOS. E). COMUNICAR AL COORDINADOR ACADÉMICO OPORTUNAMENTE ANOMALÍAS, INCONSISTENCIAS, NOVEDADES DE APRENDICES Y HALLAZGOS EN EL REGISTRO DE LA INFORMACIÓN. • APLICAR Y HACER CUMPLIR EL REGLAMENTO DEL APRENDIZ Y EL MANUAL DE CONVIVENCIA INSTAURADO EN LA INSTITUCIÓN. • APOYAR PROCESOS DE REGISTRO CALIFICADO PARA LOS PROGRAMAS DE EDUCACIÓN SUPERIOR DEL ÁREA TEMÁTICA OBJETO DEL PRESENTE CONTRATO, CUANDO EL CENTRO LO REQUIERA. • REALIZAR SEGUIMIENTO A LOS APRENDICES QUE INGRESAN A LA ETAPA PRODUCTIVA EN MODALIDAD VIRTUAL Y A DISTANCIA SEGÚN LA ASIGNACIÓN Y REQUERIMIENTOS DEL CENTRO DE FORMACIÓN. • PARTICIPAR EN LOS PROCESOS DE AUTOEVALUACIÓN DE PROGRAMAS DE FORMACIÓN VIRTUAL Y A DISTANCIA EN EL CENTRO DE FORMACIÓN. • LAS DEMÁS NECESARIAS PARA EL CABAL CUMPLIMIENTO DEL OBJETO CONTRACTUAL. | D24: PROFESIONAL / TECNOLOGO | E24: Todos los instructores de lenguas SENA deben cumplir con las especificaciones de las opciones enunciadas a continuación. Alternativa 1: Tìtulo Profesional univeritario en cualquier nùcleo bàsico de conocimiento. Nivel de Lengua certificado de Mínimo nivel B2 de acuerdo con el MCER en cada una de las 4 habilidades de dominio de lengua (Comprensiòn Lectora, Comprensiòn Escrita, Producciòn Oral, Producciòn Escrita), Los examenes de lengua admitidos deben tener vigencia de 2 años y son aquellos enlistados en la Resolucion 12730 del 28 de junio de 2017 del Ministerio de Educación Nacional. No se aceptan aquellos examenes catalogados en esta resolucion como "Clasificacion (Placement)", "Niños de 7 a 12 años (Young Learners)", "Jovenes (Teenagers)". Alternativa 2: Tìtulo Tecnòlogo en cualquier nùcleo bàsico de conocimiento. Nivel de Lengua certificado de Mínimo nivel B2 de acuerdo con el MCER en cada una de las 4 habilidades de dominio de lengua (Comprensiòn Lectora, Comprensiòn Escrita, Producciòn Oral, Producciòn Escrita), Los examenes de lengua admitidos deben tener vigencia de 2 años y son aquellos enlistados en la Resolucion 12730 del 28 de junio de 2017 del Ministerio de Educación Nacional. No se aceptan aquellos examenes catalogados en esta resolucion como "Clasificacion (Placement)", "Niños de 7 a 12 años (Young Learners)", "Jovenes (Teenagers)". NUCLEO BASICO DE CONOCIMIENTO: Diseño Grafico, Licenciatura en Ciencias de la Educación Especialidad Lenguas Modernas Español - Inglés Licenciatura en Pedagogía Infantil, Licenciatura en idiomas extranjeros, Matemático, Administración de Empresas, Ingeniería de Sistemas, Licenciatura en Ciencias básicas con énfasis en idiomas extranjeros, Licenciatura de Idiomas Extranjeros Especialidad Ingles, Licenciatura en Lengua Extranjera Inglés, Tecnólogo en gestión financiera, Odontologia, Ingenieria electrónica, Licenciatura en Lenguas Modernas Español-Ingles, Licenciatura en Educación Infantil, Derecho, Licenciatura en lenguas modernas, Licenciatura en lengua castellana y comunicación, Ingeniera Industrial, Relaciones Internacionales. Nota 1: Es importante precisar que los instructores contratados sòlo podràn orientar procesos de formaciòn en la lengua extranjera que dominan y de la cual han presentado su certificaciòn de suficiencia en el nivel requerido. Nota 2: Los tutores virtuales que orientaràn formaciòn complementaria virtual o la competencia de inglès en los programas de titulada virtual, adicional a los anteriores criterios deben acreditar capacitaciòn relacionada con tutorìa virtual, no inferior a 40 horas y tener experiencia adicional comprobada de mìnimo 6 meses com tutor virtual. Nota 3: Todos los tìtulos acadèmicos expedidos en un paìs diferente a Colombia deben cumplir con los requisitos y regulaciones de las normas que expida el Ministerio de Educaciòn Nacional y de contrataciòn pùblica. Nota 4: Algunos Centros de Formación realizaron en el pasado contratación de instructores que no cumplían a cabalidad con los perfiles dispuestos en las orientaciones para el Programa de Bilingüismo. Por tal razón los encargados de bilingüismo (e.g. Profesional de bilingüismo del Centro de Formación ) están prestos para apoyar a los Coordinadores del Centro en la verificación del cumplimento de los perfiles de los aspirantes a ser instructores de bilingüismo (hojas de vida, soportes y referencias profesionales) | F24: Alternativa 1 - Título Profesional:. Experiencia laboral: Mínimo 24 meses de experiencia en la instruccion/docencia de la lengua extranjera a impartir. Alternativa 2 - Título Tecnólogo: Experiencia laboral: Mínimo 30 meses de experiencia en la instruccion/docencia de la lengua extranjera a impartir. . | G24: Alternativa 1 - Título Profesional:. Experiencia laboral: Mínimo 24 meses de experiencia relacionados con la docencia de lengua extranjera a impartir. Minimo 6 meses de experiencia como instructor virtual. Alternativa 2 - Título Tecnólogo: Experiencia laboral: Mínimo 30 meses de experiencia relacionados con la docencia de lengua extranjera a impartir. Minimo 6 meses de experiencia como instructor virtual. | H24: 1 | I24: necesidades de la formación | J24: 44140 | K24: 44146 | L24: =+DATEDIF(J24,K24,"M") -> 0 | M24: =+DATEDIF(J24,K24,"MD") -> 6 | O24: =3502000*1.03 -> 3607060 | P24: =+(O24*L24+(O24/30*(M24-N24)))*H24 -> 721412 | R24: JOHANA VILLA | S24: CDP 12320
