Workbook

Sheet PRESUPUESTO 
A1: PRESUPUESTO
C4: FUENTES DE RECURSOS
C5: ENTIDAD APORTANTE | F5: PRE INVERSION - INVERSION
F6: 2026
C7: DEPARTAMENTO
C8: SGP MUNICIPIOS - ALIMENTACIÓN ESCOLAR | F8: 10241795267 | H8: 57628337414
C9: NACION (GIRO DE RECURSOS UAPA) | F9: 97109511768 | H9: =G16-H8 -> 49722969621
C10: OTROS
C11: TOTAL | F11: =SUM(F8:F10) -> 107351307035
A14: DISTRIBUCIÓN DE RECURSOS POR ACTIVIDAD.
A15: FUENTE | B15: ACTIVIDADES | F15: Subtotal | G15: Total
A16: SGP-ALIMENTACIÓN ESCOLAR - PGN/UAPA | B16: 1. Suministrar complementos alimentarios en los EE oficiales priorizados de los 41 municipios no certificados | F16: ='1,1COMPLPORZONA'!W137 -> 100730477535 | G16: =SUM(F16:F19) -> 107351307035
A17: PGN/UAPA | B17: 2. Suministra canastas de alimentos en receso escolar | F17: =E49 -> 4785706400
A18: PGN/UAPA | B18: 3. Seguimiento, Monitoreo y control a la ejecución | D18: Mano de obra calificada | F18: =F194 -> 1489152000
A19: PGN/UAPA | D19: Gastos de transporte y Hospedaje | F19: ='1.3 SEGUMIENTO MyC'!L65 -> 345971100 | I19: =SUM(F18:F19) -> 1835123100 | J19: =I19/12 -> 152926925
A21: PRESUPUESTO DE RECURSOS POR ZONA
A22: ZONA | B22: POBLACIÓN | C22: MODALIDAD | D22: Cupos | E22: Plazo en días | F22: TOTAL | G22: No de complemento
A23: CENTRO | B23: MAYORITARIA | C23: CAJM-TPS, CAJM-T RI, CCT | D23: 17963 | E23: ='1,1COMPLPORZONA'!Q137 -> 129 | F23: ='1,1COMPLPORZONA'!W21+'1,1COMPLPORZONA'!W35+'1,1COMPLPORZONA'!W36+'1,1COMPLPORZONA'!W67+'1,1COMPLPORZONA'!W68+'1,1COMPLPORZONA'!W84+'1,1COMPLPORZONA'!W109+'1,1COMPLPORZONA'!W115 -> 9467200608 | G23: =D23*E23 -> 2317227
B24: MAYORITARIA | C24: CAA | D24: 2600 | E24: =$E$23 -> 129 | F24: ='1,1COMPLPORZONA'!W22+'1,1COMPLPORZONA'!W37+'1,1COMPLPORZONA'!W69+'1,1COMPLPORZONA'!W85+'1,1COMPLPORZONA'!W110+'1,1COMPLPORZONA'!W116 -> 2029090020 | G24: =D24*E24 -> 335400
B25: INDIGENA | C25: CAJM-TPS. | D25: 9351 | E25: =$E$23 -> 129 | F25: ='1,1COMPLPORZONA'!W38+'1,1COMPLPORZONA'!W70+'1,1COMPLPORZONA'!W71+'1,1COMPLPORZONA'!W72+'1,1COMPLPORZONA'!W73+'1,1COMPLPORZONA'!W77+'1,1COMPLPORZONA'!W86+'1,1COMPLPORZONA'!W111+'1,1COMPLPORZONA'!W112+'1,1COMPLPORZONA'!W113+'1,1COMPLPORZONA'!W117 -> 7561326099 | G25: =D25*E25 -> 1206279
B26: INDIGENA | C26: CAA | D26: 426 | E26: =$E$23 -> 129 | F26: ='1,1COMPLPORZONA'!W114 -> 319227786 | G26: =D26*E26 -> 54954
A27: COSTA | B27: MAYORITARIA | C27: CAJM-TPS, CAJM-T RI, CCT | D27: 6158 | E27: =$E$23 -> 129 | F27: ='1,1COMPLPORZONA'!W41+'1,1COMPLPORZONA'!W42+'1,1COMPLPORZONA'!W56+'1,1COMPLPORZONA'!W57+'1,1COMPLPORZONA'!W126 -> 3780413886 | G27: =D27*E27 -> 794382
B28: MAYORITARIA | C28: CAA | D28: 2924 | E28: =$E$23 -> 129 | F28: ='1,1COMPLPORZONA'!W43+'1,1COMPLPORZONA'!W127 -> 2294792481 | G28: =D28*E28 -> 377196
B29: INDIGENA | C29: CAJM-TPS. | D29: 2210 | E29: =$E$23 -> 129 | F29: ='1,1COMPLPORZONA'!W58+'1,1COMPLPORZONA'!W128+'1,1COMPLPORZONA'!W129 -> 1637271870 | G29: =D29*E29 -> 285090
A30: MACIZO | B30: MAYORITARIA | C30: CAJM-TPS, CAJM-T RI, CCT | D30: 9805 | E30: =$E$23 -> 129 | F30: ='1,1COMPLPORZONA'!W4+'1,1COMPLPORZONA'!W47+'1,1COMPLPORZONA'!W50+'1,1COMPLPORZONA'!W51+'1,1COMPLPORZONA'!W81+'1,1COMPLPORZONA'!W93+'1,1COMPLPORZONA'!W95+'1,1COMPLPORZONA'!W99+'1,1COMPLPORZONA'!W123 -> 5818461150 | G30: =D30*E30 -> 1264845
B31: MAYORITARIA | C31: CAA | D31: 2305 | E31: =$E$23 -> 129 | F31: ='1,1COMPLPORZONA'!W5+'1,1COMPLPORZONA'!W48+'1,1COMPLPORZONA'!W52+'1,1COMPLPORZONA'!W82+'1,1COMPLPORZONA'!W94+'1,1COMPLPORZONA'!W96+'1,1COMPLPORZONA'!W100+'1,1COMPLPORZONA'!W124 -> 1790600109 | G31: =D31*E31 -> 297345
B32: INDIGENA | C32: CAJM-TPS. | D32: 1625 | E32: =$E$23 -> 129 | F32: ='1,1COMPLPORZONA'!W6+'1,1COMPLPORZONA'!W49+'1,1COMPLPORZONA'!W53+'1,1COMPLPORZONA'!W83+'1,1COMPLPORZONA'!W97+'1,1COMPLPORZONA'!W101+'1,1COMPLPORZONA'!W125 -> 1139230347 | G32: =D32*E32 -> 209625
B33: INDIGENA | C33: CAA | D33: 544 | E33: =$E$23 -> 129 | F33: ='1,1COMPLPORZONA'!W54+'1,1COMPLPORZONA'!W55+'1,1COMPLPORZONA'!W98 -> 513343245 | G33: =D33*E33 -> 70176
A34: NORTE | B34: MAYORITARIA | C34: CAJM-TPS, CAJM-T RI, CCT | D34: 21590 | E34: =$E$23 -> 129 | F34: ='1,1COMPLPORZONA'!W16+'1,1COMPLPORZONA'!W23+'1,1COMPLPORZONA'!W28+'1,1COMPLPORZONA'!W31+'1,1COMPLPORZONA'!W32+'1,1COMPLPORZONA'!W61+'1,1COMPLPORZONA'!W102+'1,1COMPLPORZONA'!W103+'1,1COMPLPORZONA'!W118 -> 10362482796 | G34: =D34*E34 -> 2785110
B35: MAYORITARIA | C35: CAA | D35: 3749 | E35: =$E$23 -> 129 | F35: ='1,1COMPLPORZONA'!W17+'1,1COMPLPORZONA'!W24+'1,1COMPLPORZONA'!W29+'1,1COMPLPORZONA'!W33+'1,1COMPLPORZONA'!W62+'1,1COMPLPORZONA'!W104+'1,1COMPLPORZONA'!W119 -> 2708269473 | G35: =D35*E35 -> 483621
B36: CON. COMUNITARIOS | C36: CAJM-TPS. | D36: 11244 | E36: =$E$23 -> 129 | F36: ='1,1COMPLPORZONA'!W40+'1,1COMPLPORZONA'!W63+'1,1COMPLPORZONA'!W74+'1,1COMPLPORZONA'!W88+'1,1COMPLPORZONA'!W135 -> 5505718968 | G36: =D36*E36 -> 1450476
B37: CON. COMUNITARIOS | C37: CAA | D37: 969 | E37: =$E$23 -> 129 | F37: ='1,1COMPLPORZONA'!W64+'1,1COMPLPORZONA'!W75+'1,1COMPLPORZONA'!W89+'1,1COMPLPORZONA'!W136 -> 740744445 | G37: =D37*E37 -> 125001
B38: INDIGENA | C38: CAJM-TPS. | D38: 22174 | E38: =$E$23 -> 129 | F38: ='1,1COMPLPORZONA'!W18+'1,1COMPLPORZONA'!W19+'1,1COMPLPORZONA'!W20+'1,1COMPLPORZONA'!W25+'1,1COMPLPORZONA'!W26+'1,1COMPLPORZONA'!W27+'1,1COMPLPORZONA'!W30+'1,1COMPLPORZONA'!W34+'1,1COMPLPORZONA'!W65+'1,1COMPLPORZONA'!W87+'1,1COMPLPORZONA'!W105+'1,1COMPLPORZONA'!W106+'1,1COMPLPORZONA'!W107+'1,1COMPLPORZONA'!W108+'1,1COMPLPORZONA'!W120+'1,1COMPLPORZONA'!W130 -> 15898059201 | G38: =D38*E38 -> 2860446
B39: INDIGENA | C39: CAA | D39: 66 | E39: =$E$23 -> 129 | F39: ='1,1COMPLPORZONA'!W66 -> 49738788 | G39: =D39*E39 -> 8514
A40: ORIENTE | B40: INDIGENA | C40: CAJM-TPS. | D40: 23587 | E40: =$E$23 -> 129 | F40: ='1,1COMPLPORZONA'!W44+'1,1COMPLPORZONA'!W46+'1,1COMPLPORZONA'!W76+'1,1COMPLPORZONA'!W90+'1,1COMPLPORZONA'!W92+'1,1COMPLPORZONA'!W131+'1,1COMPLPORZONA'!W132+'1,1COMPLPORZONA'!W134 -> 15029725371 | G40: =D40*E40 -> 3042723
B41: INDIGENA | C41: CAA | D41: 2077 | E41: =$E$23 -> 129 | F41: ='1,1COMPLPORZONA'!W45+'1,1COMPLPORZONA'!W78+'1,1COMPLPORZONA'!W91+'1,1COMPLPORZONA'!W133 -> 1565912037 | G41: =D41*E41 -> 267933
A42: SUR | B42: MAYORITARIA | C42: CAJM-TPS, CAJM-T RI, CCT | D42: 17228 | E42: =$E$23 -> 129 | F42: ='1,1COMPLPORZONA'!W7+'1,1COMPLPORZONA'!W9+'1,1COMPLPORZONA'!W10+'1,1COMPLPORZONA'!W12+'1,1COMPLPORZONA'!W14+'1,1COMPLPORZONA'!W39+'1,1COMPLPORZONA'!W59+'1,1COMPLPORZONA'!W79+'1,1COMPLPORZONA'!W121 -> 9916953303 | G42: =D42*E42 -> 2222412
B43: MAYORITARIA | C43: CAA | D43: 3191 | E43: =$E$23 -> 129 | F43: ='1,1COMPLPORZONA'!W8+'1,1COMPLPORZONA'!W11+'1,1COMPLPORZONA'!W13+'1,1COMPLPORZONA'!W60+'1,1COMPLPORZONA'!W80+'1,1COMPLPORZONA'!W122 -> 2375059377 | G43: =D43*E43 -> 411639
B44: INDIGENA | C44: CAJM-TPS. | D44: 325 | E44: =$E$23 -> 129 | F44: ='1,1COMPLPORZONA'!W15 -> 226856175 | G44: =D44*E44 -> 41925
D45: =SUM(D23:D44) -> 162111 | E45: =E23 -> 129 | F45: =SUM(F23:F44) -> 100730477535 | G45: =SUM(G23:G44) -> 20912319
...

Sheet 1,1 SUMINISTRAR COM. PRE UNI. 
B1: COSTO UNITARIO COMPLEMENTOS POR ZONA DE OPERACIÓN
B3: COMPLEMENTO 2026 | L3: ALMUERZO 2025
B4: CENTRO | L4: ALMUERZO-CENTRO
B5: COMPONENTES | D5: % | E5: PRE ESCOLAR | F5: GRADO 1,2,3 | G5: GRADO 4, 5 | H5: SECUN. | I5: MEDIA Y COMPLEM. | J5: PROMEDIO | L5: COMPONENTES | N5: % | O5: PRE ESCOLAR | P5: GRADO 1,2,3 | Q5: GRADO 4, 5 | R5: SECUN. | S5: MEDIA Y COMPLEM. | T5: PROMEDIO
B7: ALIMENTOS | D7: =J7/J13 -> 0.54929234 | E7: 1755 | F7: 1937 | G7: 2196 | H7: 2529 | I7: 2838 | J7: =AVERAGE(E7:I7) -> 2251 | L7: ALIMENTOS | N7: =T7/T13 -> 0.56286413 | O7: 2286 | P7: 2670 | Q7: 3016 | R7: 3597 | S7: 4082 | T7: =AVERAGE(O7:S7) -> 3130.2
B8: RECURSO HUMANO | D8: =J8/J13 -> 0.215959 | E8: 885 | F8: 885 | G8: 885 | H8: 885 | I8: 885 | J8: =AVERAGE(E8:I8) -> 885 | L8: RECURSO HUMANO | N8: =T8/T13 -> 0.25623966 | O8: 1425 | P8: 1425 | Q8: 1425 | R8: 1425 | S8: 1425 | T8: =AVERAGE(O8:S8) -> 1425
B9: COMBUSTIBLE/ SERVICIOS PÚBLICOS | D9: =J9/J13 -> 0.047584187 | E9: 195 | F9: 195 | G9: 195 | H9: 195 | I9: 195 | J9: =AVERAGE(E9:I9) -> 195 | K9: =186*1.05 -> 195.3 | L9: COMBUSTIBLE/ SERVICIOS PÚBLICOS | N9: =T9/T13 -> 0.037402 | O9: 208 | P9: 208 | Q9: 208 | R9: 208 | S9: 208 | T9: =AVERAGE(O9:S9) -> 208 | U9: =199*1.05 -> 208.95
B10: TRANSPORTE | D10: =J10/J13 -> 0.05636896 | E10: 231 | F10: 231 | G10: 231 | H10: 231 | I10: 231 | J10: =AVERAGE(E10:I10) -> 231 | K10: =J10*1.05 -> 242.55 | L10: TRANSPORTE | N10: =T10/T13 -> 0.042436884 | O10: 236 | P10: 236 | Q10: 236 | R10: 236 | S10: 236 | T10: =AVERAGE(O10:S10) -> 236 | U10: =225*1.05 -> 236.25
B11: SANEAMIENTO | D11: =J11/J13 -> 0.021961933 | E11: 90 | F11: 90 | G11: 90 | H11: 90 | I11: 90 | J11: =AVERAGE(E11:I11) -> 90 | K11: =85*1.05 -> 89.25 | L11: SANEAMIENTO | N11: =T11/T13 -> 0.017801913 | O11: 99 | P11: 99 | Q11: 99 | R11: 99 | S11: 99 | T11: =AVERAGE(O11:S11) -> 99 | U11: =95*1.05 -> 99.75
B12: GASTOS ADMINISTRATIVOS Recurso Humano (personal administrativo, supervisores, coordinador, auxiliares), papeleria,, Capacitación, certificación de aptitud, dotación.etc. | D12: =J12/J13 -> 0.10883358 | E12: 446 | F12: 446 | G12: 446 | H12: 446 | I12: 446 | J12: =AVERAGE(E12:I12) -> 446 | K12: =410*1.09 -> 446.9 | L12: GASTOS ADMINISTRATIVOS Recurso Humano (personal administrativo, supervisores, coordinador, auxiliares), papeleria, polizas, Capacitación, certificación de aptitud, dotación de personal, etc. | N12: =T12/T13 -> 0.083255413 | O12: 463 | P12: 463 | Q12: 463 | R12: 463 | S12: 463 | T12: =AVERAGE(O12:S12) -> 463 | U12: =425*1.09 -> 463.25
B13: SUBTOTAL | D13: 1 | E13: =SUM(E7:E12) -> 3602 | F13: =SUM(F7:F12) -> 3784 | G13: =SUM(G7:G12) -> 4043 | H13: =SUM(H7:H12) -> 4376 | I13: =SUM(I7:I12) -> 4685 | J13: =AVERAGE(E13:I13) -> 4098 | L13: SUBTOTAL | N13: 1 | O13: =SUM(O6:O12) -> 4717 | P13: =SUM(P6:P12) -> 5101 | Q13: =SUM(Q6:Q12) -> 5447 | R13: =SUM(R6:R12) -> 6028 | S13: =SUM(S6:S12) -> 6513 | T13: =AVERAGE(O13:S13) -> 5561.2
B15: COSTA | L15: ALMUERZO-COSTA
B16: COMPONENTES | D16: % | E16: PRE ESCOLAR | F16: GRADO 1,2,3 | G16: GRADO 4, 5 | H16: SECUN. | I16: MEDIA Y COMPLEM. | J16: PROMEDIO | L16: COMPONENTES | N16: % | O16: PRE ESCOLAR | P16: GRADO 1,2,3 | Q16: GRADO 4, 5 | R16: SECUN. | S16: MEDIA Y COMPLEM. | T16: PROMEDIO
B18: ALIMENTOS | D18: =J18/J24 -> 0.5565609 | E18: 1970 | F18: 2355 | G18: 2608 | H18: 3060 | I18: 3355 | J18: =AVERAGE(E18:I18) -> 2669.6 | L18: ALIMENTOS | N18: =T18/T24 -> 0.60872025 | O18: 2478 | P18: 2962 | Q18: 3343 | R18: 3963 | S18: 4468 | T18: =AVERAGE(O18:S18) -> 3442.8
B19: RECURSO HUMANO | D19: =J19/J24 -> 0.15073177 | E19: 723 | F19: 723 | G19: 723 | H19: 723 | I19: 723 | J19: =AVERAGE(E19:I19) -> 723 | L19: RECURSO HUMANO | N19: =T19/T24 -> 0.10803069 | O19: 611 | P19: 611 | Q19: 611 | R19: 611 | S19: 611 | T19: =AVERAGE(O19:S19) -> 611
B20: COMBUSTIBLE/ SERVICIOS PÚBLICOS | D20: =J20/J24 -> 0.046491265 | E20: 223 | F20: 223 | G20: 223 | H20: 223 | I20: 223 | J20: =AVERAGE(E20:I20) -> 223 | K20: =186*1.05 -> 195.3 | L20: COMBUSTIBLE/ SERVICIOS PÚBLICOS | N20: =T20/T24 -> 0.05003713 | O20: 283 | P20: 283 | Q20: 283 | R20: 283 | S20: 283 | T20: =AVERAGE(O20:S20) -> 283 | U20: =270*1.05 -> 283.5
B21: TRANSPORTE | D21: =J21/J24 -> 0.12091898 | E21: 580 | F21: 580 | G21: 580 | H21: 580 | I21: 580 | J21: =AVERAGE(E21:I21) -> 580 | K21: =240*1.05 -> 252 | L21: TRANSPORTE | N21: =T21/T24 -> 0.10856112 | O21: 614 | P21: 614 | Q21: 614 | R21: 614 | S21: 614 | T21: =AVERAGE(O21:S21) -> 614 | U21: =585*1.05 -> 614.25
B22: SANEAMIENTO (Plan de saneamiento, muestreo microbiologíco) | D22: =J22/J24 -> 0.025643164 | E22: 123 | F22: 123 | G22: 123 | H22: 123 | I22: 123 | J22: =AVERAGE(E22:I22) -> 123 | K22: =123*1.0316 -> 126.8868 | L22: SANEAMIENTO | N22: =T22/T24 -> 0.018741823 | O22: 106 | P22: 106 | Q22: 106 | R22: 106 | S22: 106 | T22: =AVERAGE(O22:S22) -> 106 | U22: =101*1.05 -> 106.05
B23: GASTOS ADMINISTRATIVOS Recurso Humano (personal administrativo, supervisores, coordinador, auxiliares), papeleria,, Capacitación, certificación de aptitud, dotación.etc. | D23: =J23/J24 -> 0.099653922 | E23: 478 | F23: 478 | G23: 478 | H23: 478 | I23: 478 | J23: =AVERAGE(E23:I23) -> 478 | K23: =439*1.09 -> 478.51 | L23: GASTOS ADMINISTRATIVOS Recurso Humano (personal administrativo, supervisores, coordinador, auxiliares), papeleria,, Capacitación, certificación de aptitud, dotación.etc. | N23: =T23/T24 -> 0.10590898 | O23: 599 | P23: 599 | Q23: 599 | R23: 599 | S23: 599 | T23: =AVERAGE(O23:S23) -> 599 | U23: =T23*1.09 -> 652.91
B24: SUBTOTAL | D24: 1 | E24: =SUM(E18:E23) -> 4097 | F24: =SUM(F18:F23) -> 4482 | G24: =SUM(G18:G23) -> 4735 | H24: =SUM(H18:H23) -> 5187 | I24: =SUM(I18:I23) -> 5482 | J24: =AVERAGE(E24:I24) -> 4796.6 | L24: SUBTOTAL | N24: 1 | O24: =SUM(O18:O23) -> 4691 | P24: =SUM(P18:P23) -> 5175 | Q24: =SUM(Q18:Q23) -> 5556 | R24: =SUM(R18:R23) -> 6176 | S24: =SUM(S18:S23) -> 6681 | T24: =AVERAGE(O24:S24) -> 5655.8
B26: MACIZO | L26: ALMUERZO-MACIZO
B27: COMPONENTES | D27: % | E27: PRE ESCOLAR | F27: GRADO 1,2,3 | G27: GRADO 4, 5 | H27: SECUN. | I27: MEDIA Y COMPLEM. | J27: PROMEDIO | L27: SUR | N27: % | O27: PRE ESCOLAR | P27: GRADO 1,2,3 | Q27: GRADO 4, 5 | R27: SECUN. | S27: MEDIA Y COMPLEM. | T27: PROMEDIO
B29: ALIMENTOS | D29: =J29/J35 -> 0.48502478 | E29: 1755 | F29: 1937 | G29: 2196 | H29: 2529 | I29: 2838 | J29: =AVERAGE(E29:I29) -> 2251 | L29: ALIMENTOS | N29: =T29/T35 -> 0.5729609 | O29: 2286 | P29: 2670 | Q29: 3016 | R29: 3597 | S29: 4082 | T29: =AVERAGE(O29:S29) -> 3130.2
B30: RECURSO HUMANO | D30: =J30/J35 -> 0.28851541 | E30: 1339 | F30: 1339 | G30: 1339 | H30: 1339 | I30: 1339 | J30: =AVERAGE(E30:I30) -> 1339 | L30: RECURSO HUMANO | N30: =T30/T35 -> 0.23118319 | O30: 1263 | P30: 1263 | Q30: 1263 | R30: 1263 | S30: 1263 | T30: =AVERAGE(O30:S30) -> 1263
B31: COMBUSTIBLE/ SERVICIOS PÚBLICOS | D31: =J31/J35 -> 0.042016807 | E31: 195 | F31: 195 | G31: 195 | H31: 195 | I31: 195 | J31: =AVERAGE(E31:I31) -> 195 | K31: =186*1.05 -> 195.3 | L31: COMBUSTIBLE/ SERVICIOS PÚBLICOS | N31: =T31/T35 -> 0.038255967 | O31: 209 | P31: 209 | Q31: 209 | R31: 209 | S31: 209 | T31: =AVERAGE(O31:S31) -> 209 | U31: =199*1.05 -> 208.95
B32: TRANSPORTE | D32: =J32/J35 -> 0.054298643 | E32: 252 | F32: 252 | G32: 252 | H32: 252 | I32: 252 | J32: =AVERAGE(E32:I32) -> 252 | K32: =240*1.05 -> 252 | L32: TRANSPORTE | N32: =T32/T35 -> 0.047042027 | O32: 257 | P32: 257 | Q32: 257 | R32: 257 | S32: 257 | T32: =AVERAGE(O32:S32) -> 257 | U32: =245*1.05 -> 257.25
B33: SANEAMIENTO | D33: =J33/J35 -> 0.027149321 | E33: 126 | F33: 126 | G33: 126 | H33: 126 | I33: 126 | J33: =AVERAGE(E33:I33) -> 126 | L33: SANEAMIENTO | N33: =T33/T35 -> 0.026907307 | O33: 147 | P33: 147 | Q33: 147 | R33: 147 | S33: 147 | T33: =AVERAGE(O33:S33) -> 147 | U33: =140*1.05 -> 147
B34: GASTOS ADMINISTRATIVOS Recurso Humano (personal administrativo, supervisores, coordinador, auxiliares), papeleria,, Capacitación, certificación de aptitud, dotación.etc. | D34: =J34/J35 -> 0.10299504 | E34: 478 | F34: 478 | G34: 478 | H34: 478 | I34: 478 | J34: =AVERAGE(E34:I34) -> 478 | K34: =439*1.09 -> 478.51 | L34: GASTOS ADMINISTRATIVOS Recurso Humano (personal administrativo, supervisores, coordinador, auxiliares), papeleria,, Capacitación, certificación de aptitud, dotación.etc. | N34: =T34/T35 -> 0.083650608 | O34: 457 | P34: 457 | Q34: 457 | R34: 457 | S34: 457 | T34: =AVERAGE(O34:S34) -> 457 | U34: =420*1.09 -> 457.8
B35: SUBTOTAL | D35: 1 | E35: =SUM(E29:E34) -> 4145 | F35: =SUM(F29:F34) -> 4327 | G35: =SUM(G29:G34) -> 4586 | H35: =SUM(H29:H34) -> 4919 | I35: =SUM(I29:I34) -> 5228 | J35: =AVERAGE(E35:I35) -> 4641 | L35: SUBTOTAL | N35: 1 | O35: =SUM(O29:O34) -> 4619 | P35: =SUM(P29:P34) -> 5003 | Q35: =SUM(Q29:Q34) -> 5349 | R35: =SUM(R29:R34) -> 5930 | S35: =SUM(S29:S34) -> 6415 | T35: =AVERAGE(O35:S35) -> 5463.2
B37: NORTE | L37: ALMUERZO-NORTE
B38: COMPONENTES | D38: % | E38: PRE ESCOLAR | F38: GRADO 1,2,3 | G38: GRADO 4, 5 | H38: SECUN. | I38: MEDIA Y COMPLEM. | J38: PROMEDIO | L38: COMPONENTES | N38: % | O38: PRE ESCOLAR | P38: GRADO 1,2,3 | Q38: GRADO 4, 5 | R38: SECUN. | S38: MEDIA Y COMPLEM. | T38: PROMEDIO
B40: ALIMENTOS | D40: =J40/J46 -> 0.59851103 | E40: 1755 | F40: 1937 | G40: 2196 | H40: 2529 | I40: 2838 | J40: =AVERAGE(E40:I40) -> 2251 | L40: ALIMENTOS | N40: =T40/T46 -> 0.60955756 | O40: 2286 | P40: 2670 | Q40: 3016 | R40: 3597 | S40: 4082 | T40: =AVERAGE(O40:S40) -> 3130.2
B41: RECURSO HUMANO | D41: =J41/J46 -> 0.15793672 | E41: 594 | F41: 594 | G41: 594 | H41: 594 | I41: 594 | J41: =AVERAGE(E41:I41) -> 594 | L41: RECURSO HUMANO | N41: =T41/T46 -> 0.20271849 | O41: 1041 | P41: 1041 | Q41: 1041 | R41: 1041 | S41: 1041 | T41: =AVERAGE(O41:S41) -> 1041
B42: COMBUSTIBLE | D42: =J42/J46 -> 0.051847913 | E42: 195 | F42: 195 | G42: 195 | H42: 195 | I42: 195 | J42: =AVERAGE(E42:I42) -> 195 | K42: =186*1.05 -> 195.3 | L42: COMBUSTIBLE/ SERVICIOS PÚBLICOS | N42: =T42/T46 -> 0.040504752 | O42: 208 | P42: 208 | Q42: 208 | R42: 208 | S42: 208 | T42: =AVERAGE(O42:S42) -> 208 | U42: =199*1.05 -> 208.95
B43: TRANSPORTE | D43: =J43/J46 -> 0.059824515 | E43: 225 | F43: 225 | G43: 225 | H43: 225 | I43: 225 | J43: =AVERAGE(E43:I43) -> 225 | K43: =215*1.05 -> 225.75 | L43: TRANSPORTE | N43: =T43/T46 -> 0.042452095 | O43: 231 | P43: 231 | Q43: 231 | R43: 231 | S43: 166 | T43: =AVERAGE(O43:S43) -> 218 | U43: =220*1.05 -> 231
B44: SANEAMIENTO | D44: =J44/J46 -> 0.022334486 | E44: 84 | F44: 84 | G44: 84 | H44: 84 | I44: 84 | J44: =AVERAGE(E44:I44) -> 84 | K44: =80*1.05 -> 84 | L44: SANEAMIENTO | N44: =T44/T46 -> 0.017915563 | O44: 92 | P44: 92 | Q44: 92 | R44: 92 | S44: 92 | T44: =AVERAGE(O44:S44) -> 92 | U44: =88*1.05 -> 92.4
B45: GASTOS ADMINISTRATIVOS Recurso Humano (personal administrativo, supervisores, coordinador, auxiliares), papeleria,, Capacitación, certificación de aptitud, dotación.etc. | D45: =J45/J46 -> 0.10954533 | E45: 412 | F45: 412 | G45: 412 | H45: 412 | I45: 412 | J45: =AVERAGE(E45:I45) -> 412 | K45: =378*1.09 -> 412.02 | L45: GASTOS ADMINISTRATIVOS Recurso Humano (personal administrativo, supervisores, coordinador, auxiliares), papeleria,, Capacitación, certificación de aptitud, dotación.etc. | N45: =T45/T46 -> 0.086851535 | O45: 446 | P45: 446 | Q45: 446 | R45: 446 | S45: 446 | T45: =AVERAGE(O45:S45) -> 446 | U45: =410*1.09 -> 446.9
B46: SUBTOTAL | D46: 1 | E46: =SUM(E40:E45) -> 3265 | F46: =SUM(F40:F45) -> 3447 | G46: =SUM(G40:G45) -> 3706 | H46: =SUM(H40:H45) -> 4039 | I46: =SUM(I40:I45) -> 4348 | J46: =AVERAGE(E46:I46) -> 3761 | L46: SUBTOTAL | N46: 1 | O46: =SUM(O40:O45) -> 4304 | P46: =SUM(P40:P45) -> 4688 | Q46: =SUM(Q40:Q45) -> 5034 | R46: =SUM(R40:R45) -> 5615 | S46: =SUM(S40:S45) -> 6035 | T46: =AVERAGE(O46:S46) -> 5135.2
B48: SUR | L48: ALMUERZO-SUR
B49: COMPONENTES | D49: % | E49: PRE ESCOLAR | F49: GRADO 1,2,3 | G49: GRADO 4, 5 | H49: SECUN. | I49: MEDIA Y COMPLEM. | J49: PROMEDIO | L49: COMPONENTES | N49: % | O49: PRE ESCOLAR | P49: GRADO 1,2,3 | Q49: GRADO 4, 5 | R49: SECUN. | S49: MEDIA Y COMPLEM. | T49: PROMEDIO
...

Sheet 1,1COMPLPORZONA
A1: PRESUPUESTO COSTO UNITARO DE COMPLEMENTO POR ZONA, MUNIICIPIO, POBLACIÓN A ATENDER Y DIAS DE EJECUCIÓN
A2: ZONA | B2: MUNICIPIO | C2: POBLACIÓN | D2: TIPO/MODALIDAD DE COMPLEMENTO | E2: GRADOS | J2: BENEF./ CUPOS | K2: No COMPL. A ENTREGAR | L2: GRADO 0 | M2: GRADO 1,2,3 | N2: GRADO 4, 5 | O2: GRADO 6, 7, 8, 9 9 A 13 AÑOS | P2: GRADO 10, 11 | Q2: DIAS DE EJECUCUÓN | R2: GRADO 0 | S2: GRADO 1,2,3 | T2: GRADO 4, 5 | U2: GRADO 6, 7, 8, 9 9 A 13 AÑOS | V2: GRADO 10, 11 | W2: SUBTOTALES
E3: GRADO 0 | F3: GRADO 1-2-3 | G3: GRADO 4-5 | H3: GRADO 6-7-8-9 | I3: GRADO 10-11
A4: MACIZO | B4: ALMAGUER | C4: MAYORITARIA | D4: CAJM-T PS, CAJM-T RI, CCT | E4: 69 | F4: 310 | G4: 200 | H4: 182 | I4: 82 | J4: =SUM(E4:I4) -> 843 | K4: =J4*Q4 -> 108747 | L4: ='1,1 SUMINISTRAR COM. PRE UNI. '!E35 -> 4145 | M4: ='1,1 SUMINISTRAR COM. PRE UNI. '!F35 -> 4327 | N4: ='1,1 SUMINISTRAR COM. PRE UNI. '!G35 -> 4586 | O4: ='1,1 SUMINISTRAR COM. PRE UNI. '!H35 -> 4919 | P4: ='1,1 SUMINISTRAR COM. PRE UNI. '!I35 -> 5228 | Q4: 129 | R4: =E4*L4*Q4 -> 36894645 | S4: =F4*M4*Q4 -> 173036730 | T4: =G4*N4*Q4 -> 118318800 | U4: =H4*O4*Q4 -> 115488282 | V4: =I4*P4*Q4 -> 55301784 | W4: =SUM(R4:V4) -> 499040241
A5: MACIZO | B5: ALMAGUER | C5: MAYORITARIA | D5: CAA | E5: 47 | F5: 140 | G5: 104 | H5: 228 | I5: 165 | J5: =SUM(E5:I5) -> 684 | K5: =J5*Q5 -> 88236 | L5: ='1,1 SUMINISTRAR COM. PRE UNI. '!O35 -> 4619 | M5: ='1,1 SUMINISTRAR COM. PRE UNI. '!P35 -> 5003 | N5: ='1,1 SUMINISTRAR COM. PRE UNI. '!Q35 -> 5349 | O5: ='1,1 SUMINISTRAR COM. PRE UNI. '!R35 -> 5930 | P5: ='1,1 SUMINISTRAR COM. PRE UNI. '!S35 -> 6415 | Q5: =$Q$4 -> 129 | R5: =E5*L5*Q5 -> 28004997 | S5: =F5*M5*Q5 -> 90354180 | T5: =G5*N5*Q5 -> 71762184 | U5: =H5*O5*Q5 -> 174413160 | V5: =I5*P5*Q5 -> 136543275 | W5: =SUM(R5:V5) -> 501077796
A6: MACIZO | B6: ALMAGUER | C6: IND.-CAQUIONA-CRIC | D6: CAJM-TPS. | E6: 30 | F6: 107 | G6: 76 | H6: 84 | I6: 51 | J6: =SUM(E6:I6) -> 348 | K6: =J6*Q6 -> 44892 | L6: ='1,1 SUMINISTRAR COM. PRE UNI. '!E80 -> 5411 | M6: =L$6 -> 5411 | N6: =M$6 -> 5411 | O6: =N$6 -> 5411 | P6: =O$6 -> 5411 | Q6: =$Q$4 -> 129 | R6: =E6*L6*Q6 -> 20940570 | S6: =F6*M6*Q6 -> 74688033 | T6: =G6*N6*Q6 -> 53049444 | U6: =H6*O6*Q6 -> 58633596 | V6: =I6*P6*Q6 -> 35598969 | W6: =SUM(R6:V6) -> 242910612
A7: SUR | B7: ARGELIA | C7: MAYORITARIA | D7: CAJM-T PS, CAJM-T RI, CCT | E7: 419 | F7: 1355 | G7: 1072 | H7: 1396 | I7: 268 | J7: =SUM(E7:I7) -> 4510 | K7: =J7*Q7 -> 581790 | L7: ='1,1 SUMINISTRAR COM. PRE UNI. '!E57 -> 3981 | M7: ='1,1 SUMINISTRAR COM. PRE UNI. '!F57 -> 4163 | N7: ='1,1 SUMINISTRAR COM. PRE UNI. '!G57 -> 4422 | O7: ='1,1 SUMINISTRAR COM. PRE UNI. '!H57 -> 4755 | P7: ='1,1 SUMINISTRAR COM. PRE UNI. '!I57 -> 5064 | Q7: =$Q$4 -> 129 | R7: =E7*L7*Q7 -> 215177031 | S7: =F7*M7*Q7 -> 727671585 | T7: =G7*N7*Q7 -> 611509536 | U7: =H7*O7*Q7 -> 856299420 | V7: =I7*P7*Q7 -> 175072608 | W7: =SUM(R7:V7) -> 2585730180
A8: SUR | B8: ARGELIA | C8: MAYORITARIA | D8: CAA | E8: 0 | F8: 0 | G8: 0 | H8: 0 | I8: 267 | J8: =SUM(E8:I8) -> 267 | K8: =J8*Q8 -> 34443 | L8: ='1,1 SUMINISTRAR COM. PRE UNI. '!O57 -> 4588 | M8: ='1,1 SUMINISTRAR COM. PRE UNI. '!P57 -> 4972 | N8: ='1,1 SUMINISTRAR COM. PRE UNI. '!Q57 -> 5318 | O8: ='1,1 SUMINISTRAR COM. PRE UNI. '!R57 -> 5899 | P8: ='1,1 SUMINISTRAR COM. PRE UNI. '!S57 -> 6384 | Q8: =$Q$4 -> 129 | R8: =E8*L8*Q8 -> 0 | S8: =F8*M8*Q8 -> 0 | T8: =G8*N8*Q8 -> 0 | U8: =H8*O8*Q8 -> 0 | V8: =I8*P8*Q8 -> 219884112 | W8: =SUM(R8:V8) -> 219884112
A9: SUR | B9: BALBOA | C9: MAYORITARIA | D9: CAJM-T PS, CAJM-T, CCT | E9: 247 | F9: 721 | G9: 564 | H9: 997 | I9: 348 | J9: =SUM(E9:I9) -> 2877 | K9: =J9*Q9 -> 371133 | L9: =$L$7 -> 3981 | M9: =$M$7 -> 4163 | N9: =$N$7 -> 4422 | O9: =$O$7 -> 4755 | P9: =$P$7 -> 5064 | Q9: =$Q$4 -> 129 | R9: =E9*L9*Q9 -> 126846603 | S9: =F9*M9*Q9 -> 387196467 | T9: =G9*N9*Q9 -> 321727032 | U9: =H9*O9*Q9 -> 611554815 | V9: =I9*P9*Q9 -> 227333088 | W9: =SUM(R9:V9) -> 1674658005
A10: SUR | B10: BALBOA | C10: MAYORITARIA | D10: RI | E10: 7 | F10: 0 | G10: 0 | H10: 0 | I10: 0 | J10: =SUM(E10:I10) -> 7 | K10: =J10*Q10 -> 903 | L10: =$L$7 -> 3981 | M10: =$M$7 -> 4163 | N10: =$N$7 -> 4422 | O10: =$O$7 -> 4755 | P10: =$P$7 -> 5064 | Q10: =$Q$4 -> 129 | R10: =E10*L10*Q10 -> 3594843 | S10: =F10*M10*Q10 -> 0 | T10: =G10*N10*Q10 -> 0 | U10: =H10*O10*Q10 -> 0 | V10: =I10*P10*Q10 -> 0 | W10: =SUM(R10:V10) -> 3594843
A11: SUR | B11: BALBOA | C11: MAYORITARIA | D11: CAA | E11: 0 | F11: 0 | G11: 0 | H11: 0 | I11: 56 | J11: =SUM(E11:I11) -> 56 | K11: =J11*Q11 -> 7224 | L11: =$L$8 -> 4588 | M11: =$M$8 -> 4972 | N11: =$N$8 -> 5318 | O11: =$O$8 -> 5899 | P11: =$P$8 -> 6384 | Q11: =$Q$4 -> 129 | R11: =E11*L11*Q11 -> 0 | S11: =F11*M11*Q11 -> 0 | T11: =G11*N11*Q11 -> 0 | U11: =H11*O11*Q11 -> 0 | V11: =I11*P11*Q11 -> 46118016 | W11: =SUM(R11:V11) -> 46118016
A12: SUR | B12: BOLIVAR | C12: MAYORITARIA | D12: CAJM-T PS, CAJM-T RI, CCT | E12: 265 | F12: 930 | G12: 760 | H12: 654 | I12: 158 | J12: =SUM(E12:I12) -> 2767 | K12: =J12*Q12 -> 356943 | L12: =$L$7 -> 3981 | M12: =$M$7 -> 4163 | N12: =$N$7 -> 4422 | O12: =$O$7 -> 4755 | P12: =$P$7 -> 5064 | Q12: =$Q$4 -> 129 | R12: =E12*L12*Q12 -> 136090485 | S12: =F12*M12*Q12 -> 499435110 | T12: =G12*N12*Q12 -> 433532880 | U12: =H12*O12*Q12 -> 401160330 | V12: =I12*P12*Q12 -> 103214448 | W12: =SUM(R12:V12) -> 1573433253
A13: SUR | B13: BOLIVAR | C13: MAYORITARIA | D13: CAA | E13: 38 | F13: 138 | G13: 117 | H13: 526 | I13: 325 | J13: =SUM(E13:I13) -> 1144 | K13: =J13*Q13 -> 147576 | L13: =$L$8 -> 4588 | M13: =$M$8 -> 4972 | N13: =$N$8 -> 5318 | O13: =$O$8 -> 5899 | P13: =$P$8 -> 6384 | Q13: =$Q$4 -> 129 | R13: =E13*L13*Q13 -> 22490376 | S13: =F13*M13*Q13 -> 88511544 | T13: =G13*N13*Q13 -> 80264574 | U13: =H13*O13*Q13 -> 400270746 | V13: =I13*P13*Q13 -> 267649200 | W13: =SUM(R13:V13) -> 859186440
A14: SUR | B14: BOLIVAR | C14: MAYORITARIA | D14: RI | E14: 12 | F14: 0 | G14: 0 | H14: 0 | I14: 0 | J14: =SUM(E14:I14) -> 12 | K14: =J14*Q14 -> 1548 | L14: =$L$7 -> 3981 | M14: =$M$7 -> 4163 | N14: =$N$7 -> 4422 | O14: =$O$7 -> 4755 | P14: =$P$7 -> 5064 | Q14: =$Q$4 -> 129 | R14: =E14*L14*Q14 -> 6162588 | S14: =F14*M14*Q14 -> 0 | T14: =G14*N14*Q14 -> 0 | U14: =H14*O14*Q14 -> 0 | V14: =I14*P14*Q14 -> 0 | W14: =SUM(R14:V14) -> 6162588
A15: SUR | B15: BOLIVAR | C15: IND.-GUACHICONO-CRIC | D15: CAJM-TPS. | E15: 22 | F15: 62 | G15: 55 | H15: 136 | I15: 50 | J15: =SUM(E15:I15) -> 325 | K15: =J15*Q15 -> 41925 | L15: ='1,1 SUMINISTRAR COM. PRE UNI. '!O80 -> 5411 | M15: =L$15 -> 5411 | N15: =M$15 -> 5411 | O15: =N$15 -> 5411 | P15: =O$15 -> 5411 | Q15: =$Q$4 -> 129 | R15: =E15*L15*Q15 -> 15356418 | S15: =F15*M15*Q15 -> 43277178 | T15: =G15*N15*Q15 -> 38391045 | U15: =H15*O15*Q15 -> 94930584 | V15: =I15*P15*Q15 -> 34900950 | W15: =SUM(R15:V15) -> 226856175
A16: NORTE | B16: BUENOS AIRES | C16: MAYORITARIA | D16: CAJM-T PS, CAJM-T RI, CCT | E16: 254 | F16: 913 | G16: 650 | H16: 661 | I16: 84 | J16: =SUM(E16:I16) -> 2562 | K16: =J16*Q16 -> 330498 | L16: ='1,1 SUMINISTRAR COM. PRE UNI. '!E46 -> 3265 | M16: ='1,1 SUMINISTRAR COM. PRE UNI. '!F46 -> 3447 | N16: ='1,1 SUMINISTRAR COM. PRE UNI. '!G46 -> 3706 | O16: ='1,1 SUMINISTRAR COM. PRE UNI. '!H46 -> 4039 | P16: ='1,1 SUMINISTRAR COM. PRE UNI. '!I46 -> 4348 | Q16: =$Q$4 -> 129 | R16: =E16*L16*Q16 -> 106980990 | S16: =F16*M16*Q16 -> 405977319 | T16: =G16*N16*Q16 -> 310748100 | U16: =H16*O16*Q16 -> 344401491 | V16: =I16*P16*Q16 -> 47114928 | W16: =SUM(R16:V16) -> 1215222828
A17: NORTE | B17: BUENOS AIRES | C17: MAYORITARIA | D17: CAA | E17: 0 | F17: 22 | G17: 13 | H17: 39 | I17: 228 | J17: =SUM(E17:I17) -> 302 | K17: =J17*Q17 -> 38958 | L17: ='1,1 SUMINISTRAR COM. PRE UNI. '!O46 -> 4304 | M17: ='1,1 SUMINISTRAR COM. PRE UNI. '!P46 -> 4688 | N17: ='1,1 SUMINISTRAR COM. PRE UNI. '!Q46 -> 5034 | O17: ='1,1 SUMINISTRAR COM. PRE UNI. '!R46 -> 5615 | P17: ='1,1 SUMINISTRAR COM. PRE UNI. '!S46 -> 6035 | Q17: =$Q$4 -> 129 | R17: =E17*L17*Q17 -> 0 | S17: =F17*M17*Q17 -> 13304544 | T17: =G17*N17*Q17 -> 8442018 | U17: =H17*O17*Q17 -> 28249065 | V17: =I17*P17*Q17 -> 177501420 | W17: =SUM(R17:V17) -> 227497047
A18: NORTE | B18: BUENOS AIRES | C18: IND.-DELICIAS-CRC | D18: CAJM-TPS. | E18: 61 | F18: 212 | G18: 189 | H18: 202 | I18: 32 | J18: =SUM(E18:I18) -> 696 | K18: =J18*Q18 -> 89784 | L18: ='1,1 SUMINISTRAR COM. PRE UNI. '!O117 -> 5411 | M18: =$L$18 -> 5411 | N18: =$L$18 -> 5411 | O18: =$L$18 -> 5411 | P18: =$L$18 -> 5411 | Q18: =$Q$4 -> 129 | R18: =E18*L18*Q18 -> 42579159 | S18: =F18*M18*Q18 -> 147980028 | T18: =G18*N18*Q18 -> 131925591 | U18: =H18*O18*Q18 -> 140999838 | V18: =I18*P18*Q18 -> 22336608 | W18: =SUM(R18:V18) -> 485821224
A19: NORTE | B19: BUENOS AIRES | C19: IND.-GUADUALITO-CRIC | D19: CAJM-TPS. | E19: 46 | F19: 106 | G19: 82 | H19: 85 | I19: 39 | J19: =SUM(E19:I19) -> 358 | K19: =J19*Q19 -> 46182 | L19: ='1,1 SUMINISTRAR COM. PRE UNI. '!J105 -> 5411 | M19: =$L$19 -> 5411 | N19: =$L$19 -> 5411 | O19: =$L$19 -> 5411 | P19: =$L$19 -> 5411 | Q19: =$Q$4 -> 129 | R19: =E19*L19*Q19 -> 32108874 | S19: =F19*M19*Q19 -> 73990014 | T19: =G19*N19*Q19 -> 57237558 | U19: =H19*O19*Q19 -> 59331615 | V19: =I19*P19*Q19 -> 27222741 | W19: =SUM(R19:V19) -> 249890802
A20: NORTE | B20: BUENOS AIRES | C20: IND.-GUAMBIA | D20: CAJM-TPS. | E20: 10 | F20: 38 | G20: 36 | H20: 90 | I20: 33 | J20: =SUM(E20:I20) -> 207 | K20: =J20*Q20 -> 26703 | L20: 5385 | M20: 5385 | N20: 5385 | O20: 5385 | P20: 5385 | Q20: =$Q$4 -> 129 | R20: =E20*L20*Q20 -> 6946650 | S20: =F20*M20*Q20 -> 26397270 | T20: =G20*N20*Q20 -> 25007940 | U20: =H20*O20*Q20 -> 62519850 | V20: =I20*P20*Q20 -> 22923945 | W20: =SUM(R20:V20) -> 143795655
A21: CENTRO | B21: CAJIBIO | C21: MAYORITARIA | D21: CAJM-T PS, CAJM-T RI, CCT | E21: 412 | F21: 1410 | G21: 1045 | H21: 1507 | I21: 402 | J21: =SUM(E21:I21) -> 4776 | K21: =J21*Q21 -> 616104 | L21: ='1,1 SUMINISTRAR COM. PRE UNI. '!E13 -> 3602 | M21: ='1,1 SUMINISTRAR COM. PRE UNI. '!F13 -> 3784 | N21: ='1,1 SUMINISTRAR COM. PRE UNI. '!G13 -> 4043 | O21: ='1,1 SUMINISTRAR COM. PRE UNI. '!H13 -> 4376 | P21: ='1,1 SUMINISTRAR COM. PRE UNI. '!I13 -> 4685 | Q21: =$Q$4 -> 129 | R21: =E21*L21*Q21 -> 191439096 | S21: =F21*M21*Q21 -> 688271760 | T21: =G21*N21*Q21 -> 545016615 | U21: =H21*O21*Q21 -> 850707528 | V21: =I21*P21*Q21 -> 242954730 | W21: =SUM(R21:V21) -> 2518389729
A22: CENTRO | B22: CAJIBIO | C22: MAYORITARIA | D22: CAA | E22: 40 | F22: 131 | G22: 94 | H22: 289 | I22: 373 | J22: =SUM(E22:I22) -> 927 | K22: =J22*Q22 -> 119583 | L22: ='1,1 SUMINISTRAR COM. PRE UNI. '!O13 -> 4717 | M22: ='1,1 SUMINISTRAR COM. PRE UNI. '!P13 -> 5101 | N22: ='1,1 SUMINISTRAR COM. PRE UNI. '!Q13 -> 5447 | O22: ='1,1 SUMINISTRAR COM. PRE UNI. '!R13 -> 6028 | P22: ='1,1 SUMINISTRAR COM. PRE UNI. '!S13 -> 6513 | Q22: =$Q$4 -> 129 | R22: =E22*L22*Q22 -> 24339720 | S22: =F22*M22*Q22 -> 86201799 | T22: =G22*N22*Q22 -> 66050322 | U22: =H22*O22*Q22 -> 224729868 | V22: =I22*P22*Q22 -> 313386021 | W22: =SUM(R22:V22) -> 714707730
A23: NORTE | B23: CALDONO | C23: MAYORITARIA | D23: CAJM-T PS, CAJM-T RI, CCT | E23: 12 | F23: 88 | G23: 65 | H23: 241 | I23: 0 | J23: =SUM(E23:I23) -> 406 | K23: =J23*Q23 -> 52374 | L23: =$L$16 -> 3265 | M23: =$M$16 -> 3447 | N23: =$N$16 -> 3706 | O23: =$O$16 -> 4039 | P23: =$P$16 -> 4348 | Q23: =$Q$4 -> 129 | R23: =E23*L23*Q23 -> 5054220 | S23: =F23*M23*Q23 -> 39130344 | T23: =G23*N23*Q23 -> 31074810 | U23: =H23*O23*Q23 -> 125568471 | V23: =I23*P23*Q23 -> 0 | W23: =SUM(R23:V23) -> 200827845
A24: NORTE | B24: CALDONO | C24: MAYORITARIA | D24: CAA | E24: 37 | F24: 133 | G24: 127 | H24: 593 | I24: 378 | J24: =SUM(E24:I24) -> 1268 | K24: =J24*Q24 -> 163572 | L24: =$L$17 -> 4304 | M24: =$M$17 -> 4688 | N24: =$N$17 -> 5034 | O24: =$O$17 -> 5615 | P24: =$P$17 -> 6035 | Q24: =$Q$4 -> 129 | R24: =E24*L24*Q24 -> 20542992 | S24: =F24*M24*Q24 -> 80432016 | T24: =G24*N24*Q24 -> 82472022 | U24: =H24*O24*Q24 -> 429530655 | V24: =I24*P24*Q24 -> 294278670 | W24: =SUM(R24:V24) -> 907256355
A25: NORTE | B25: CALDONO | C25: IND.-UKAWE-CRIC | D25: CAJM-TPS. | E25: 571 | F25: 1948 | G25: 1366 | H25: 1845 | I25: 670 | J25: =SUM(E25:I25) -> 6400 | K25: =J25*Q25 -> 825600 | L25: ='1,1 SUMINISTRAR COM. PRE UNI. '!AO80 -> 5411 | M25: =$L$25 -> 5411 | N25: =$L$25 -> 5411 | O25: =$L$25 -> 5411 | P25: =$L$25 -> 5411 | Q25: =$Q$4 -> 129 | R25: =E25*L25*Q25 -> 398568849 | S25: =F25*M25*Q25 -> 1359741012 | T25: =G25*N25*Q25 -> 953493954 | U25: =H25*O25*Q25 -> 1287845055 | V25: =I25*P25*Q25 -> 467672730 | W25: =SUM(R25:V25) -> 4467321600
A26: NORTE | B26: CALDONO | C26: IND.-UKAWE-CRIC | D26: RI | E26: 6 | F26: 0 | G26: 0 | H26: 0 | I26: 0 | J26: =SUM(E26:I26) -> 6 | K26: =J26*Q26 -> 774 | L26: =$L$25 -> 5411 | M26: =$L$25 -> 5411 | N26: =$L$25 -> 5411 | O26: =$L$25 -> 5411 | P26: =$L$25 -> 5411 | Q26: =$Q$4 -> 129 | R26: =E26*L26*Q26 -> 4188114 | S26: =F26*M26*Q26 -> 0 | T26: =G26*N26*Q26 -> 0 | U26: =H26*O26*Q26 -> 0 | V26: =I26*P26*Q26 -> 0 | W26: =SUM(R26:V26) -> 4188114
A27: NORTE | B27: CALDONO | C27: IND.-GUAMBIA | D27: CAJM-TPS. | E27: 16 | F27: 68 | G27: 55 | H27: 62 | I27: 32 | J27: =SUM(E27:I27) -> 233 | K27: =J27*Q27 -> 30057 | L27: 5385 | M27: 5385 | N27: 5385 | O27: 5385 | P27: 5385 | Q27: =$Q$4 -> 129 | R27: =E27*L27*Q27 -> 11114640 | S27: =F27*M27*Q27 -> 47237220 | T27: =G27*N27*Q27 -> 38206575 | U27: =H27*O27*Q27 -> 43069230 | V27: =I27*P27*Q27 -> 22229280 | W27: =SUM(R27:V27) -> 161856945
A28: NORTE | B28: CALOTO | C28: MAYORITARIA | D28: CAJM-T PS, CAJM-T RI, CCT | E28: 147 | F28: 637 | G28: 453 | H28: 736 | I28: 0 | J28: =SUM(E28:I28) -> 1973 | K28: =J28*Q28 -> 254517 | L28: =$L$16 -> 3265 | M28: =$M$16 -> 3447 | N28: =$N$16 -> 3706 | O28: =$O$16 -> 4039 | P28: =$P$16 -> 4348 | Q28: =$Q$4 -> 129 | R28: =E28*L28*Q28 -> 61914195 | S28: =F28*M28*Q28 -> 283250331 | T28: =G28*N28*Q28 -> 216567522 | U28: =H28*O28*Q28 -> 383478816 | V28: =I28*P28*Q28 -> 0 | W28: =SUM(R28:V28) -> 945210864
A29: NORTE | B29: CALOTO | C29: MAYORITARIA | D29: CAA | E29: 0 | F29: 0 | G29: 0 | H29: 0 | I29: 255 | J29: =SUM(E29:I29) -> 255 | K29: =J29*Q29 -> 32895 | L29: =$L$17 -> 4304 | M29: =$M$17 -> 4688 | N29: =$N$17 -> 5034 | O29: =$O$17 -> 5615 | P29: =$P$17 -> 6035 | Q29: =$Q$4 -> 129 | R29: =E29*L29*Q29 -> 0 | S29: =F29*M29*Q29 -> 0 | T29: =G29*N29*Q29 -> 0 | U29: =H29*O29*Q29 -> 0 | V29: =I29*P29*Q29 -> 198521325 | W29: =SUM(R29:V29) -> 198521325
A30: NORTE | B30: CALOTO | C30: IND.-HUELLAS-CRIC | D30: CAJM-TPS. | E30: 144 | F30: 532 | G30: 352 | H30: 463 | I30: 206 | J30: =SUM(E30:I30) -> 1697 | K30: =J30*Q30 -> 218913 | L30: ='1,1 SUMINISTRAR COM. PRE UNI. '!O105 -> 5411 | M30: =$L$30 -> 5411 | N30: =$L$30 -> 5411 | O30: =$L$30 -> 5411 | P30: =$L$30 -> 5411 | Q30: =$Q$4 -> 129 | R30: =E30*L30*Q30 -> 100514736 | S30: =F30*M30*Q30 -> 371346108 | T30: =G30*N30*Q30 -> 245702688 | U30: =H30*O30*Q30 -> 323182797 | V30: =I30*P30*Q30 -> 143791914 | W30: =SUM(R30:V30) -> 1184538243
A31: NORTE | B31: CORINTO | C31: MAYORITARIA | D31: CAJM-T PS, CAJM-T, CCT | E31: 182 | F31: 732 | G31: 562 | H31: 84 | I31: 0 | J31: =SUM(E31:I31) -> 1560 | K31: =J31*Q31 -> 201240 | L31: =$L$16 -> 3265 | M31: =$M$16 -> 3447 | N31: =$N$16 -> 3706 | O31: =$O$16 -> 4039 | P31: =$P$16 -> 4348 | Q31: =$Q$4 -> 129 | R31: =E31*L31*Q31 -> 76655670 | S31: =F31*M31*Q31 -> 325493316 | T31: =G31*N31*Q31 -> 268677588 | U31: =H31*O31*Q31 -> 43766604 | V31: =I31*P31*Q31 -> 0 | W31: =SUM(R31:V31) -> 714593178
A32: NORTE | B32: CORINTO | C32: MAYORITARIA | D32: RI | E32: 0 | F32: 0 | G32: 0 | H32: 322 | I32: 0 | J32: =SUM(E32:I32) -> 322 | K32: =J32*Q32 -> 41538 | L32: =$L$16 -> 3265 | M32: =$M$16 -> 3447 | N32: =$N$16 -> 3706 | O32: =$O$16 -> 4039 | P32: =$P$16 -> 4348 | Q32: =$Q$4 -> 129 | R32: =E32*L32*Q32 -> 0 | S32: =F32*M32*Q32 -> 0 | T32: =G32*N32*Q32 -> 0 | U32: =H32*O32*Q32 -> 167771982 | V32: =I32*P32*Q32 -> 0 | W32: =SUM(R32:V32) -> 167771982
A33: NORTE | B33: CORINTO | C33: MAYORITARIA | D33: CAA | E33: 0 | F33: 0 | G33: 0 | H33: 366 | I33: 194 | J33: =SUM(E33:I33) -> 560 | K33: =J33*Q33 -> 72240 | L33: =$L$17 -> 4304 | M33: =$M$17 -> 4688 | N33: =$N$17 -> 5034 | O33: =$O$17 -> 5615 | P33: =$P$17 -> 6035 | Q33: =$Q$4 -> 129 | R33: =E33*L33*Q33 -> 0 | S33: =F33*M33*Q33 -> 0 | T33: =G33*N33*Q33 -> 0 | U33: =H33*O33*Q33 -> 265106610 | V33: =I33*P33*Q33 -> 151031910 | W33: =SUM(R33:V33) -> 416138520
A34: NORTE | B34: CORINTO | C34: IND.- PAEZ DE CORINTO-CRIC | D34: CAJM-TPS. | E34: 101 | F34: 363 | G34: 239 | H34: 342 | I34: 146 | J34: =SUM(E34:I34) -> 1191 | K34: =J34*Q34 -> 153639 | L34: ='1,1 SUMINISTRAR COM. PRE UNI. '!E105 -> 5411 | M34: =$L$34 -> 5411 | N34: =$L$34 -> 5411 | O34: =$L$34 -> 5411 | P34: =$L$34 -> 5411 | Q34: =$Q$4 -> 129 | R34: =E34*L34*Q34 -> 70499919 | S34: =F34*M34*Q34 -> 253380897 | T34: =G34*N34*Q34 -> 166826541 | U34: =H34*O34*Q34 -> 238722498 | V34: =I34*P34*Q34 -> 101910774 | W34: =SUM(R34:V34) -> 831340629
A35: CENTRO | B35: EL TAMBO | C35: MAYORITARIA | D35: CAJM-T PS, CAJM-T RI, CCT | E35: 324 | F35: 1048 | G35: 752 | H35: 1447 | I35: 339 | J35: =SUM(E35:I35) -> 3910 | K35: =J35*Q35 -> 504390 | L35: =$L$21 -> 3602 | M35: =$M$21 -> 3784 | N35: =$N$21 -> 4043 | O35: =$O$21 -> 4376 | P35: =$P$21 -> 4685 | Q35: =$Q$4 -> 129 | R35: =E35*L35*Q35 -> 150549192 | S35: =F35*M35*Q35 -> 511566528 | T35: =G35*N35*Q35 -> 392203344 | U35: =H35*O35*Q35 -> 816837288 | V35: =I35*P35*Q35 -> 204879735 | W35: =SUM(R35:V35) -> 2076036087
A36: CENTRO | B36: EL TAMBO | C36: MAYORITARIA | D36: RI | E36: 10 | F36: 0 | G36: 0 | H36: 0 | I36: 0 | J36: =SUM(E36:I36) -> 10 | K36: =J36*Q36 -> 1290 | L36: =$L$21 -> 3602 | M36: =$M$21 -> 3784 | N36: =$N$21 -> 4043 | O36: =$O$21 -> 4376 | P36: =$P$21 -> 4685 | Q36: =$Q$4 -> 129 | R36: =E36*L36*Q36 -> 4646580 | S36: =F36*M36*Q36 -> 0 | T36: =G36*N36*Q36 -> 0 | U36: =H36*O36*Q36 -> 0 | V36: =I36*P36*Q36 -> 0 | W36: =SUM(R36:V36) -> 4646580
A37: CENTRO | B37: EL TAMBO | C37: MAYORITARIA | D37: CAA | E37: 0 | F37: 0 | G37: 0 | H37: 76 | I37: 255 | J37: =SUM(E37:I37) -> 331 | K37: =J37*Q37 -> 42699 | L37: =$L$22 -> 4717 | M37: =$M$22 -> 5101 | N37: =$N$22 -> 5447 | O37: =$O$22 -> 6028 | P37: =$P$22 -> 6513 | Q37: =$Q$4 -> 129 | R37: =E37*L37*Q37 -> 0 | S37: =F37*M37*Q37 -> 0 | T37: =G37*N37*Q37 -> 0 | U37: =H37*O37*Q37 -> 59098512 | V37: =I37*P37*Q37 -> 214245135 | W37: =SUM(R37:V37) -> 273343647
A38: CENTRO | B38: EL TAMBO | C38: IND.-UT-CRIC | D38: CAJM-TPS. | E38: 31 | F38: 62 | G38: 47 | H38: 131 | I38: 67 | J38: =SUM(E38:I38) -> 338 | K38: =J38*Q38 -> 43602 | L38: ='1,1 SUMINISTRAR COM. PRE UNI. '!O129 -> 5411 | M38: =$L$38 -> 5411 | N38: =$L$38 -> 5411 | O38: =$L$38 -> 5411 | P38: =$L$38 -> 5411 | Q38: =$Q$4 -> 129 | R38: =E38*L38*Q38 -> 21638589 | S38: =F38*M38*Q38 -> 43277178 | T38: =G38*N38*Q38 -> 32806893 | U38: =H38*O38*Q38 -> 91440489 | V38: =I38*P38*Q38 -> 46767273 | W38: =SUM(R38:V38) -> 235930422
A39: SUR | B39: FLORENCIA | C39: MAYORITARIA | D39: CAJM-T PS, CAJM-T RI, CCT | E39: 52 | F39: 254 | G39: 143 | H39: 237 | I39: 140 | J39: =SUM(E39:I39) -> 826 | K39: =J39*Q39 -> 106554 | L39: =$L$7 -> 3981 | M39: =$M$7 -> 4163 | N39: =$N$7 -> 4422 | O39: =$O$7 -> 4755 | P39: =$P$7 -> 5064 | Q39: =$Q$4 -> 129 | R39: =E39*L39*Q39 -> 26704548 | S39: =F39*M39*Q39 -> 136404858 | T39: =G39*N39*Q39 -> 81572634 | U39: =H39*O39*Q39 -> 145374615 | V39: =I39*P39*Q39 -> 91455840 | W39: =SUM(R39:V39) -> 481512495
A40: NORTE | B40: GUACHENE | C40: CON.COM-NORTE | D40: CAJM-T PS, CAJM-T, CCT | E40: 168 | F40: 749 | G40: 450 | H40: 333 | I40: 171 | J40: =SUM(E40:I40) -> 1871 | K40: =J40*Q40 -> 241359 | L40: ='1,1 SUMINISTRAR COM. PRE UNI. '!E68 -> 3304 | M40: ='1,1 SUMINISTRAR COM. PRE UNI. '!F68 -> 3486 | N40: ='1,1 SUMINISTRAR COM. PRE UNI. '!G68 -> 3745 | O40: ='1,1 SUMINISTRAR COM. PRE UNI. '!H68 -> 4078 | P40: ='1,1 SUMINISTRAR COM. PRE UNI. '!I68 -> 4387 | Q40: =$Q$4 -> 129 | R40: =E40*L40*Q40 -> 71604288 | S40: =F40*M40*Q40 -> 336820806 | T40: =G40*N40*Q40 -> 217397250 | U40: =H40*O40*Q40 -> 175178646 | V40: =I40*P40*Q40 -> 96772833 | W40: =SUM(R40:V40) -> 897773823
...

Sheet 1,2 SUMINISTRAR CANASTA R.E 
B2: SUMINISTRAR CANASTAS DE ALIMENTOS EN RECESO ESCOLAR
D3: BENEFICIARIOS | E3: VALOR CANASTA | F3: VALOS ASIGNADO
D4: 36644 | E4: 130600 | F4: 4785706400

Sheet 1.3 SEGUMIENTO MyC
C2: PRESUPUESTO MANO DE OBRA CALIFICADA (PROFESIONALES EQUIPO PAE Y PROFESIONALE DE APOYO A LA SUPERVISIÓN)
C3: AREA | D3: PERFIL/CARGOS | E3: Cantidad | F3: Valor individual | G3: Plazo en meses | H3: SubTotal
C4: EQUIPO PAE | D4: Tecnólogo en áreas administrativas, gestión documental, gestión empresarial, archivo o afines. | E4: 1 | F4: 3136000 | G4: 12 | H4: =E4*F4*G4 -> 37632000
D5: Técnico en áreas administrativas, gestión documental, gestión empresarial, archivo o afines. | E5: 2 | F5: 2800000 | G5: 12 | H5: =E5*F5*G5 -> 67200000
D6: Apoyo a la Coordinación del Programa de Alimentación Escolar-PAE. | E6: 1 | F6: 4704000 | G6: 12 | H6: =E6*F6*G6 -> 56448000
D7: Ingeniero de Alimentos y/o Agroindutrial Equipo PAE Eje de Calidad e Inocuidad Programa de Alimentación Escolar. | E7: 1 | F7: 4256000 | G7: 12 | H7: =E7*F7*G7 -> 51072000
D8: Nutricionista Equipo PAE Eje Alimentación Saludable y Sostenible Programa de Alimentación Escolar. | E8: 1 | F8: 4256000 | G8: 12 | H8: =E8*F8*G8 -> 51072000
D9: Contador Equipo PAE Eje Financiero Programa de Alimentación Escolar. | E9: 1 | F9: 4256000 | G9: 12 | H9: =E9*F9*G9 -> 51072000
D10: Abogado Equipo PAE Eje de Transparencia Programa de Alimentación Escolar. | E10: 1 | F10: 4256000 | G10: 12 | H10: =E10*F10*G10 -> 51072000
C11: APOYO A LA SUPERVISION | D11: Abogado Apoyo a la Supervisión Eje de Transparencia Programa de Alimentación Escolar. | E11: 1 | F11: 4256000 | G11: 12 | H11: =E11*F11*G11 -> 51072000
D12: Profesional de Apoyo a la Supervisión Componente Cobertura-Eje de Cobertura programa de Alimentación Escolar. | E12: 3 | F12: 4256000 | G12: 12 | H12: =E12*F12*G12 -> 153216000
D13: Profesional de Apoyo a la supervisión Componente Técnico de Campo-Eje de Calidad e Inocuidad Programa de Alimentación Escolar. | E13: 10 | F13: 4256000 | G13: 12 | H13: =E13*F13*G13 -> 510720000
D14: Profesional de Apoyo a la Supervisión Componente Técnico -Eje de Calidad e Inocuidad Programa de Alimentación Escolar. | E14: 3 | F14: 4256000 | G14: 12 | H14: =E14*F14*G14 -> 153216000
D15: Profesional de Apoyo a la Supervisión componente Financiero Programa de Alimentación Escolar. | E15: 3 | F15: 4256000 | G15: 12 | H15: =E15*F15*G15 -> 153216000
C16: TOTALES | E16: =SUM(E4:E15) -> 28 | H16: =SUM(H4:H15) -> 1387008000
C19: PRESUPUESTO GASTOS DE DESPLAZAMIENTO – HOSPEDAJE VISITAS DE SEGUIMIENTO EN CAMPO
C20: Para la elaboración del presupuesto para gastos de desplazamiento se tuvieron en cuenta los rubros de manutención para cada visita y se pondero el gasto de desplazamiento teniendo en cuenta que esta se debe realizar a diferentes sedes educativas que se ubican en la zona urbana y rural de los 41 municipios no certificados, el recurso presupuestado se tiene proyectado agotarlo en un 100% y de ser necesario por disponiblidad de recursos se apropiaran para incrementar el presupuesto el rubro en el proyecto.
C21: GASTOS DE PERMANENCIA ACTIVIDAD
C22: SMLMV 2025 | D22: 1423500
C23: SUBREGIÓN | D23: MUNICIPIOS | E23: TRANSPORTE | F23: NUMERO DE DIAS SIN PERNOCTAR | G23: NUMERO DE DIAS PERNOCTADOS | H23: NO PERNOCTADO | I23: PERNOCTADO | J23: VALOR SIN PERNOCTAR | K23: VALOR PERNOCTADO | L23: VALOR TOTAL
C24: CENTRO | D24: CAJIBIO | E24: 4500000 | F24: 30 | G24: 0 | H24: 0.05 | I24: 0 | J24: =(D$22*H24)*F24 -> 2135250 | K24: =(D$22*I24)*G24 -> 0 | L24: =+E24+J24+K24 -> 6635250
C25: CENTRO | D25: EL TAMBO | E25: 4800000 | F25: 26 | G25: 4 | H25: 0.05 | I25: 0.1 | J25: =(D$22*H25)*F25 -> 1850550 | K25: =(D$22*I25)*G25 -> 569400 | L25: =+E25+J25+K25 -> 7219950
C26: CENTRO | D26: MORALES | E26: 6400000 | F26: 30 | G26: 10 | H26: 0.05 | I26: 0.1 | J26: =(D$22*H26)*F26 -> 2135250 | K26: =(D$22*I26)*G26 -> 1423500 | L26: =+E26+J26+K26 -> 9958750
C27: CENTRO | D27: PIENDAMO | E27: 2800000 | F27: 28 | G27: 0 | H27: 0.05 | I27: 0 | J27: =(D$22*H27)*F27 -> 1992900 | K27: =(D$22*I27)*G27 -> 0 | L27: =+E27+J27+K27 -> 4792900
C28: CENTRO | D28: PURACÉ | E28: 2334150 | F28: 20 | G28: 0 | H28: 0.05 | I28: 0 | J28: =(D$22*H28)*F28 -> 1423500 | K28: =(D$22*I28)*G28 -> 0 | L28: =+E28+J28+K28 -> 3757650
C29: CENTRO | D29: SILVIA | E29: 4900000 | F29: 30 | G29: 0 | H29: 0.05 | I29: 0 | J29: =(D$22*H29)*F29 -> 2135250 | K29: =(D$22*I29)*G29 -> 0 | L29: =+E29+J29+K29 -> 7035250
C30: CENTRO | D30: SOTARÁ | E30: 1900000 | F30: 16 | G30: 0 | H30: 0.05 | I30: 0 | J30: =(D$22*H30)*F30 -> 1138800 | K30: =(D$22*I30)*G30 -> 0 | L30: =+E30+J30+K30 -> 3038800
C31: CENTRO | D31: TIMBIO | E31: 2000000 | F31: 20 | G31: 0 | H31: 0.05 | I31: 0 | J31: =(D$22*H31)*F31 -> 1423500 | K31: =(D$22*I31)*G31 -> 0 | L31: =+E31+J31+K31 -> 3423500
C32: COSTA PACIFICA | D32: GUAPI | E32: 11000000 | F32: 2 | G32: 10 | H32: 0.08 | I32: 0.15 | J32: =(D$22*H32)*F32 -> 227760 | K32: =(D$22*I32)*G32 -> 2135250 | L32: =(J32*F32)+(K32*G32)+E32 -> 32808020
C33: COSTA PACIFICA | D33: LOPEZ DE MICAY | E33: 10000000 | F33: 2 | G33: 10 | H33: 0.08 | I33: 0.15 | J33: =(D$22*H33)*F33 -> 227760 | K33: =(D$22*I33)*G33 -> 2135250 | L33: =(J33*F33)+(K33*G33)+E33 -> 31808020
C34: COSTA PACIFICA | D34: TIMBIQUÍ | E34: 9000000 | F34: 2 | G34: 10 | H34: 0.08 | I34: 0.15 | J34: =(D$22*H34)*F34 -> 227760 | K34: =(D$22*I34)*G34 -> 2135250 | L34: =(J34*F34)+(K34*G34)+E34 -> 30808020
C35: MACIZO | D35: ALMAGUER | E35: 4800000 | F35: 8 | G35: 16 | H35: 0.05 | I35: 0.1 | J35: =(D$22*H35)*F35 -> 569400 | K35: =(D$22*I35)*G35 -> 2277600 | L35: =+E35+J35+K35 -> 7647000
C36: MACIZO | D36: LA SIERRA | E36: 2251800 | F36: 18 | G36: 0 | H36: 0.05 | I36: 0 | J36: =(D$22*H36)*F36 -> 1281150 | K36: =(D$22*I36)*G36 -> 0 | L36: =+E36+J36+K36 -> 3532950
C37: MACIZO | D37: LA VEGA | E37: 2700000 | F37: 9 | G37: 9 | H37: 0.05 | I37: 0.1 | J37: =(D$22*H37)*F37 -> 640575 | K37: =(D$22*I37)*G37 -> 1281150 | L37: =+E37+J37+K37 -> 4621725
C38: MACIZO | D38: PIAMONTE | E38: 2880000 | G38: 10 | H38: 0.08 | I38: 0.15 | J38: =(D$22*H38)*F38 -> 0 | K38: =(D$22*I38)*G38 -> 2135250 | L38: =(J38*F38)+(K38*G38)+E38 -> 24232500
C39: MACIZO | D39: ROSAS | E39: 1900000 | F39: 16 | G39: 0 | H39: 0.05 | I39: 0 | J39: =(D$22*H39)*F39 -> 1138800 | K39: =(D$22*I39)*G39 -> 0 | L39: =+E39+J39+K39 -> 3038800
C40: MACIZO | D40: SAN SEBASTIÁN | E40: 2700000 | F40: 7 | G40: 14 | H40: 0.05 | I40: 0.1 | J40: =(D$22*H40)*F40 -> 498225 | K40: =(D$22*I40)*G40 -> 1992900 | L40: =+E40+J40+K40 -> 5191125
C41: MACIZO | D41: SANTA ROSA | E41: 5000000 | F41: 7 | G41: 14 | H41: 0.05 | I41: 0.15 | J41: =(D$22*H41)*F41 -> 498225 | K41: =(D$22*I41)*G41 -> 2989350 | L41: =+E41+J41+K41 -> 8487575
C42: NORTE | D42: BUENOS AIRES | E42: 2600000 | F42: 10 | G42: 10 | H42: 0.05 | I42: 0.1 | J42: =(D$22*H42)*F42 -> 711750 | K42: =(D$22*I42)*G42 -> 1423500 | L42: =+E42+J42+K42 -> 4735250
C43: NORTE | D43: CALDONO | E43: 4403000 | F43: 30 | G43: 0 | H43: 0.05 | I43: 0 | J43: =(D$22*H43)*F43 -> 2135250 | K43: =(D$22*I43)*G43 -> 0 | L43: =+E43+J43+K43 -> 6538250
...
