Workbook

Sheet Instrucciones
A1: Advertencias
B2: 1 | C2: SÓLO HAGA CAMBIOS O DIGITE INFORMACIÓN EN LA PESTAÑA DE SUPUESTOS.
B3: 2 | C3: NO HAGA NINGÚN CAMBIO EN LAS DEMÁS PESTAÑAS NI DIGITE INFORMACIÓN EN LAS CASILLAS DEL MODELO.
B4: 3 | C4: NO ELIMINE COLUMNAS O FILAS DEL MODELO.
A5: Instrucciones
B6: 4 | C6: Lea atentamente las ADVERTENCIAS y las INSTRUCCIONES completas.
B7: 5 | C7: Los resultados del modelo están unificados en la pestaña FLUJO DE CAJA. Se presentan los flujos anuales y los supuestos sobre las variables principales.
B8: 6 | C8: Se pueden evaluar 6 ESCENARIOS y hasta 4 CASOS de manera independiente: pestaña FLUJO DE CAJA /casillas B31 y B36. Escoger en el 'Drop-down menu' la opción deseada.
B9: 7 | C9: Los supuestos BASE están en la pestaña SUPUESTOS/columna I
A10: Modificaciones
B11: 8 | C11: Las modificaciones se deben hacer SOLAMENTE en las casillas con fondo azul claro, en las pestañas FLUJO DE CAJA y SUPUESTOS.
B12: 9 | C12: Puede modificar los supuestos en la pestaña SUPUESTOS/columna I
B13: 10 | C13: Puede modificar las variables de los escenarios en la tabla ubicada en la pestaña FLUJO DE CAJA/casilla D30.
B14: 11 | C14: Para modificar los CASOS, vaya al tabla ubicada en la pestaña SUPUESTOS/casilla M23. y casilla M102
A15: Casos adicionales
B16: 12 | C16: Se pueden adicionar dos (2) CASOS nuevos. Ir a la tabla y
A17: Flujo de Caja
B18: 13 | C18: Tiene los resultados acumulados por año de todos los ingresos y egresos.
B19: 14 | C19: TIR: se incluye al valor de la inversión incluyendo lo ejecutado de los convenios 346 de 2019 y 326 de 2020, más el contrato para el desarrollo del Modelo de Sostenibilidad (2020).
A20: Supuestos
B21: Lista de supuestos del modelo:
B22: 15 | C22: IPC anual.
B23: 16 | C23: Carga prestacional de 0% para todos los contratos laborales.
B24: 17 | C24: Cálculo de gastos administrativos sobre la base de los egresos.
B25: 18 | C25: Cantidades, frecuencia y duración de las CONSULTORÍAS de Innovación abierta y Solución de Problemas
B26: 19 | C26: Cantidades, tasas de crecimiento y de desaceleración de los Servicios de Plataforma.
B27: 20 | C27: Precios de LICENCIAS, SERVICIOS DE VALOR y CONSULTORÍAS.
B28: 21 | C28: Salarios mensuales de los diferentes cargos.
B29: 22 | C29: Tiempo de ingreso de los diferentes cargos.
B30: 23 | C30: Coeficiente por consultor: la capacidad de trabajo de los consultores que se traduce en la cantidad de proyectos que un/a CONSULTOR/A puede trabajar en simultáneo.
B31: 24 | C31: Time-to-market: el tiempo que se toma para vender el primer producto/servicio. Dependerá de la capacidad comercial y de desarrollo.
B32: 25 | C32: Costos de plataforma: incluye los costos de desarrollo, de capacidades analíticas, infraestructura.
B33: 26 | C33: Mercadeo: valor mensual del presupuesto para inversión en mercadeo digital.

Sheet Flujo de Caja
A1: valores $ en COP '000,000
A2: Precios | B2: Flujo de caja anual | D2: Año | E2: Año | F2: Año | G2: Año | H2: Año | M2: Escenario: | N2: =B24 -> Mínimo | O2: Año | P2: Año | Q2: Año | R2: Año | S2: Año
A3: =HLOOKUP($B$24,$D$23:$J$27,2,0) -> 1.08 | B3: Escenario: | C3: =B24 -> Mínimo | D3: 1 | E3: 2 | F3: 3 | G3: 4 | H3: 5 | M3: Caso: | N3: =B29 -> Caso 1 | O3: 1 | P3: 2 | Q3: 3 | R3: 4 | S3: 5
A4: Cantidades | B4: Caso: | C4: =B29 -> Caso 1 | M4: Cantidades x línea
A5: =HLOOKUP($B$24,$D$23:$J$27,3,0) -> 1.3 | B5: Ingresos | D5: =SUM(D6:D8) -> 45.36 | E5: =SUM(E6:E8) -> 1030.078 | F5: =SUM(F6:F8) -> 1552.6495 | G5: =SUM(G6:G8) -> 2019.8298 | H5: =SUM(H6:H8) -> 2679.5397 | N5: Lic. Básicas x año | O5: =SUMIF('Ingresos detallado'!$F$2:$BM$2,'Flujo de Caja'!D$3,'Ingresos detallado'!$F$20:$BM$20) -> 6 | P5: =SUMIF('Ingresos detallado'!$F$2:$BM$2,'Flujo de Caja'!E$3,'Ingresos detallado'!$F$20:$BM$20) -> 12 | Q5: =SUMIF('Ingresos detallado'!$F$2:$BM$2,'Flujo de Caja'!F$3,'Ingresos detallado'!$F$20:$BM$20) -> 20 | R5: =SUMIF('Ingresos detallado'!$F$2:$BM$2,'Flujo de Caja'!G$3,'Ingresos detallado'!$F$20:$BM$20) -> 28 | S5: =SUMIF('Ingresos detallado'!$F$2:$BM$2,'Flujo de Caja'!H$3,'Ingresos detallado'!$F$20:$BM$20) -> 36
A6: Time-2-market | C6: Saas | D6: =SUMIF('Ingresos detallado'!$F$2:$BM$2,D$3,'Ingresos detallado'!$F$12:$BM$12) -> 45.36 | E6: =SUMIF('Ingresos detallado'!$F$2:$BM$2,E$3,'Ingresos detallado'!$F$12:$BM$12) -> 479.44 | F6: =SUMIF('Ingresos detallado'!$F$2:$BM$2,F$3,'Ingresos detallado'!$F$12:$BM$12) -> 796.44 | G6: =SUMIF('Ingresos detallado'!$F$2:$BM$2,G$3,'Ingresos detallado'!$F$12:$BM$12) -> 1046.21 | H6: =SUMIF('Ingresos detallado'!$F$2:$BM$2,H$3,'Ingresos detallado'!$F$12:$BM$12) -> 1275.58 | N6: Lic. Premium x año | O6: =SUMIF('Ingresos detallado'!$F$2:$BM$2,'Flujo de Caja'!D$3,'Ingresos detallado'!$F$34:$BM$34) -> 3 | P6: =SUMIF('Ingresos detallado'!$F$2:$BM$2,'Flujo de Caja'!E$3,'Ingresos detallado'!$F$34:$BM$34) -> 12 | Q6: =SUMIF('Ingresos detallado'!$F$2:$BM$2,'Flujo de Caja'!F$3,'Ingresos detallado'!$F$34:$BM$34) -> 20 | R6: =SUMIF('Ingresos detallado'!$F$2:$BM$2,'Flujo de Caja'!G$3,'Ingresos detallado'!$F$34:$BM$34) -> 28 | S6: =SUMIF('Ingresos detallado'!$F$2:$BM$2,'Flujo de Caja'!H$3,'Ingresos detallado'!$F$34:$BM$34) -> 36
A7: =HLOOKUP($B$24,$D$23:$J$27,4,0) -> 1 | C7: Consultoria Bogotech | D7: =SUMIF('Ingresos detallado'!$F$2:$BM$2,D$3,'Ingresos detallado'!$F$75:$BM$75) -> 0 | E7: =SUMIF('Ingresos detallado'!$F$2:$BM$2,E$3,'Ingresos detallado'!$F$75:$BM$75) -> 550.638 | F7: =SUMIF('Ingresos detallado'!$F$2:$BM$2,F$3,'Ingresos detallado'!$F$75:$BM$75) -> 756.20952 | G7: =SUMIF('Ingresos detallado'!$F$2:$BM$2,G$3,'Ingresos detallado'!$F$75:$BM$75) -> 973.61976 | H7: =SUMIF('Ingresos detallado'!$F$2:$BM$2,H$3,'Ingresos detallado'!$F$75:$BM$75) -> 1403.9597 | N7: Segmentación Avanzada x año | O7: =SUMIF('Ingresos detallado'!$F$2:$BM$2,'Flujo de Caja'!D$3,'Ingresos detallado'!$F$47:$BM$47) -> 1 | P7: =SUMIF('Ingresos detallado'!$F$2:$BM$2,'Flujo de Caja'!E$3,'Ingresos detallado'!$F$47:$BM$47) -> 4 | Q7: =SUMIF('Ingresos detallado'!$F$2:$BM$2,'Flujo de Caja'!F$3,'Ingresos detallado'!$F$47:$BM$47) -> 4 | R7: =SUMIF('Ingresos detallado'!$F$2:$BM$2,'Flujo de Caja'!G$3,'Ingresos detallado'!$F$47:$BM$47) -> 6 | S7: =SUMIF('Ingresos detallado'!$F$2:$BM$2,'Flujo de Caja'!H$3,'Ingresos detallado'!$F$47:$BM$47) -> 8
A8: Crecim. Lic | N8: Com. Target nuevas x año | O8: =SUMIF('Ingresos detallado'!$F$2:$BM$2,'Flujo de Caja'!D$3,'Ingresos detallado'!$F$55:$BM$55) -> 0 | P8: =SUMIF('Ingresos detallado'!$F$2:$BM$2,'Flujo de Caja'!E$3,'Ingresos detallado'!$F$55:$BM$55) -> 12 | Q8: =SUMIF('Ingresos detallado'!$F$2:$BM$2,'Flujo de Caja'!F$3,'Ingresos detallado'!$F$55:$BM$55) -> 16 | R8: =SUMIF('Ingresos detallado'!$F$2:$BM$2,'Flujo de Caja'!G$3,'Ingresos detallado'!$F$55:$BM$55) -> 22 | S8: =SUMIF('Ingresos detallado'!$F$2:$BM$2,'Flujo de Caja'!H$3,'Ingresos detallado'!$F$55:$BM$55) -> 26
A9: =B29 -> Caso 1 | B9: Egresos | D9: =SUM(D10:D13) -> 198.64 | E9: =SUM(E10:E13) -> 1001.572 | F9: =SUM(F10:F13) -> 1399.03 | G9: =SUM(G10:G13) -> 1679.6525 | H9: =SUM(H10:H13) -> 1961.8069 | N9: Reportes x año | O9: =SUMIF('Ingresos detallado'!$F$2:$BM$2,'Flujo de Caja'!D$3,'Ingresos detallado'!$F$66:$BM$66) -> 0 | P9: =SUMIF('Ingresos detallado'!$F$2:$BM$2,'Flujo de Caja'!E$3,'Ingresos detallado'!$F$66:$BM$66) -> 468 | Q9: =SUMIF('Ingresos detallado'!$F$2:$BM$2,'Flujo de Caja'!F$3,'Ingresos detallado'!$F$66:$BM$66) -> 1053 | R9: =SUMIF('Ingresos detallado'!$F$2:$BM$2,'Flujo de Caja'!G$3,'Ingresos detallado'!$F$66:$BM$66) -> 1053 | S9: =SUMIF('Ingresos detallado'!$F$2:$BM$2,'Flujo de Caja'!H$3,'Ingresos detallado'!$F$66:$BM$66) -> 1053
A10: =HLOOKUP($B$24,$D$23:$J$27,5,0) -> 1 | C10: Equipo | D10: =SUMIF('Equipo Núcleo'!$F$2:$BM$2,'Flujo de Caja'!D$3,'Equipo Núcleo'!$F$6:$BM$6) -> 136 | E10: =SUMIF('Equipo Núcleo'!$F$2:$BM$2,'Flujo de Caja'!E$3,'Equipo Núcleo'!$F$6:$BM$6) -> 284.28 | F10: =SUMIF('Equipo Núcleo'!$F$2:$BM$2,'Flujo de Caja'!F$3,'Equipo Núcleo'!$F$6:$BM$6) -> 407.3856 | G10: =SUMIF('Equipo Núcleo'!$F$2:$BM$2,'Flujo de Caja'!G$3,'Equipo Núcleo'!$F$6:$BM$6) -> 485.17079 | H10: =SUMIF('Equipo Núcleo'!$F$2:$BM$2,'Flujo de Caja'!H$3,'Equipo Núcleo'!$F$6:$BM$6) -> 567.25644
A11: Mes 1era venta | C11: Plataforma | D11: =SUMIF(Plataforma!$F$2:$BM$2,'Flujo de Caja'!D$3,Plataforma!$F$6:$BM$6) -> 55 | E11: =SUMIF(Plataforma!$F$2:$BM$2,'Flujo de Caja'!E$3,Plataforma!$F$6:$BM$6) -> 310.03 | F11: =SUMIF(Plataforma!$F$2:$BM$2,'Flujo de Caja'!F$3,Plataforma!$F$6:$BM$6) -> 440.2735 | G11: =SUMIF(Plataforma!$F$2:$BM$2,'Flujo de Caja'!G$3,Plataforma!$F$6:$BM$6) -> 453.4817 | H11: =SUMIF(Plataforma!$F$2:$BM$2,'Flujo de Caja'!H$3,Plataforma!$F$6:$BM$6) -> 467.08616 | N11: Proyectos Solución expertos | O11: =SUMIF('Ingresos detallado'!$F$2:$BM$2,'Flujo de Caja'!D$3,'Ingresos detallado'!$F$134:$BM$134) -> 0 | P11: =SUMIF('Ingresos detallado'!$F$2:$BM$2,'Flujo de Caja'!E$3,'Ingresos detallado'!$F$134:$BM$134) -> 6 | Q11: =SUMIF('Ingresos detallado'!$F$2:$BM$2,'Flujo de Caja'!F$3,'Ingresos detallado'!$F$134:$BM$134) -> 8 | R11: =SUMIF('Ingresos detallado'!$F$2:$BM$2,'Flujo de Caja'!G$3,'Ingresos detallado'!$F$134:$BM$134) -> 10 | S11: =SUMIF('Ingresos detallado'!$F$2:$BM$2,'Flujo de Caja'!H$3,'Ingresos detallado'!$F$134:$BM$134) -> 14
A12: =Supuestos!D80 -> 4 | C12: Consultoría Bogotech | D12: =SUMIF(Consult_Bogotech!$F$2:$BM$2,'Flujo de Caja'!D$3,Consult_Bogotech!$F$6:$BM$6) -> 0 | E12: =SUMIF(Consult_Bogotech!$F$2:$BM$2,'Flujo de Caja'!E$3,Consult_Bogotech!$F$6:$BM$6) -> 368.74 | F12: =SUMIF(Consult_Bogotech!$F$2:$BM$2,'Flujo de Caja'!F$3,Consult_Bogotech!$F$6:$BM$6) -> 497.5621 | G12: =SUMIF(Consult_Bogotech!$F$2:$BM$2,'Flujo de Caja'!G$3,Consult_Bogotech!$F$6:$BM$6) -> 676.39801 | H12: =SUMIF(Consult_Bogotech!$F$2:$BM$2,'Flujo de Caja'!H$3,Consult_Bogotech!$F$6:$BM$6) -> 852.01017 | N12: Consultorías solución univ | O12: =SUMIF('Ingresos detallado'!$F$2:$BM$2,'Flujo de Caja'!D$3,'Ingresos detallado'!$F$146:$BM$146) -> 0 | P12: =SUMIF('Ingresos detallado'!$F$2:$BM$2,'Flujo de Caja'!E$3,'Ingresos detallado'!$F$146:$BM$146) -> 9 | Q12: =SUMIF('Ingresos detallado'!$F$2:$BM$2,'Flujo de Caja'!F$3,'Ingresos detallado'!$F$146:$BM$146) -> 12 | R12: =SUMIF('Ingresos detallado'!$F$2:$BM$2,'Flujo de Caja'!G$3,'Ingresos detallado'!$F$146:$BM$146) -> 15 | S12: =SUMIF('Ingresos detallado'!$F$2:$BM$2,'Flujo de Caja'!H$3,'Ingresos detallado'!$F$146:$BM$146) -> 21
C13: Gastos admin | D13: =SUMIF(Consult_Bogotech!$F$2:$BM$2,'Flujo de Caja'!D$3,Consult_Bogotech!$F$7:$BM$7)+SUMIF(Plataforma!$F$2:$BM$2,'Flujo de Caja'!D$3,Plataforma!$F$7:$BM$7)+SUMIF('Equipo Núcleo'!$F$2:$BM$2,'Flujo de Caja'!D$3,'Equipo Núcleo'!$F$7:$BM$7) -> 7.64 | E13: =SUMIF(Consult_Bogotech!$F$2:$BM$2,'Flujo de Caja'!E$3,Consult_Bogotech!$F$7:$BM$7)+SUMIF(Plataforma!$F$2:$BM$2,'Flujo de Caja'!E$3,Plataforma!$F$7:$BM$7)+SUMIF('Equipo Núcleo'!$F$2:$BM$2,'Flujo de Caja'!E$3,'Equipo Núcleo'!$F$7:$BM$7) -> 38.522 | F13: =SUMIF(Consult_Bogotech!$F$2:$BM$2,'Flujo de Caja'!F$3,Consult_Bogotech!$F$7:$BM$7)+SUMIF(Plataforma!$F$2:$BM$2,'Flujo de Caja'!F$3,Plataforma!$F$7:$BM$7)+SUMIF('Equipo Núcleo'!$F$2:$BM$2,'Flujo de Caja'!F$3,'Equipo Núcleo'!$F$7:$BM$7) -> 53.808848 | G13: =SUMIF(Consult_Bogotech!$F$2:$BM$2,'Flujo de Caja'!G$3,Consult_Bogotech!$F$7:$BM$7)+SUMIF(Plataforma!$F$2:$BM$2,'Flujo de Caja'!G$3,Plataforma!$F$7:$BM$7)+SUMIF('Equipo Núcleo'!$F$2:$BM$2,'Flujo de Caja'!G$3,'Equipo Núcleo'!$F$7:$BM$7) -> 64.60202 | H13: =SUMIF(Consult_Bogotech!$F$2:$BM$2,'Flujo de Caja'!H$3,Consult_Bogotech!$F$7:$BM$7)+SUMIF(Plataforma!$F$2:$BM$2,'Flujo de Caja'!H$3,Plataforma!$F$7:$BM$7)+SUMIF('Equipo Núcleo'!$F$2:$BM$2,'Flujo de Caja'!H$3,'Equipo Núcleo'!$F$7:$BM$7) -> 75.454111
A14: IPC
A15: 0.03 | B15: Utilidad Bogotech Abierta | D15: =D5-D9 -> -153.28 | E15: =E5-E9 -> 28.506 | F15: =F5-F9 -> 153.61947 | G15: =G5-G9 -> 340.17723 | H15: =H5-H9 -> 717.73281 | M15: Ventas $$
K16: ='Flujo Mensual'!F12 -> 3 | N16: Lic. Básicas x año | O16: =SUMIF('Ingresos detallado'!$F$2:$BM$2,'Flujo de Caja'!D$3,'Ingresos detallado'!$F$14:$BM$14) -> 22.68 | P16: =SUMIF('Ingresos detallado'!$F$2:$BM$2,'Flujo de Caja'!E$3,'Ingresos detallado'!$F$14:$BM$14) -> 46.8 | Q16: =SUMIF('Ingresos detallado'!$F$2:$BM$2,'Flujo de Caja'!F$3,'Ingresos detallado'!$F$14:$BM$14) -> 80.4 | R16: =SUMIF('Ingresos detallado'!$F$2:$BM$2,'Flujo de Caja'!G$3,'Ingresos detallado'!$F$14:$BM$14) -> 116.2 | S16: =SUMIF('Ingresos detallado'!$F$2:$BM$2,'Flujo de Caja'!H$3,'Ingresos detallado'!$F$14:$BM$14) -> 154.08
N17: Lic. Premium x año | O17: =SUMIF('Ingresos detallado'!$F$2:$BM$2,'Flujo de Caja'!D$3,'Ingresos detallado'!$F$28:$BM$28) -> 22.68 | P17: =SUMIF('Ingresos detallado'!$F$2:$BM$2,'Flujo de Caja'!E$3,'Ingresos detallado'!$F$28:$BM$28) -> 93.48 | Q17: =SUMIF('Ingresos detallado'!$F$2:$BM$2,'Flujo de Caja'!F$3,'Ingresos detallado'!$F$28:$BM$28) -> 160.6 | R17: =SUMIF('Ingresos detallado'!$F$2:$BM$2,'Flujo de Caja'!G$3,'Ingresos detallado'!$F$28:$BM$28) -> 231.84 | S17: =SUMIF('Ingresos detallado'!$F$2:$BM$2,'Flujo de Caja'!H$3,'Ingresos detallado'!$F$28:$BM$28) -> 307.08
A18: TIR | C18: =C3 -> Mínimo | D18: =D3 -> 1 | E18: =E3 -> 2 | F18: =F3 -> 3 | G18: =G3 -> 4 | H18: =H3 -> 5 | N18: Segmentación Avanzada x año | O18: =SUMIF('Ingresos detallado'!$F$2:$BM$2,'Flujo de Caja'!D$3,'Ingresos detallado'!$F$42:$BM$42) -> 0 | P18: =SUMIF('Ingresos detallado'!$F$2:$BM$2,'Flujo de Caja'!E$3,'Ingresos detallado'!$F$42:$BM$42) -> 44.56 | Q18: =SUMIF('Ingresos detallado'!$F$2:$BM$2,'Flujo de Caja'!F$3,'Ingresos detallado'!$F$42:$BM$42) -> 45.92 | R18: =SUMIF('Ingresos detallado'!$F$2:$BM$2,'Flujo de Caja'!G$3,'Ingresos detallado'!$F$42:$BM$42) -> 71.04 | S18: =SUMIF('Ingresos detallado'!$F$2:$BM$2,'Flujo de Caja'!H$3,'Ingresos detallado'!$F$42:$BM$42) -> 97.6
A19: Saldo flujo caja anual | C19: =-300.419988-60.516 -> -360.93599 | D19: =D15 -> -153.28 | E19: =E15 -> 28.506 | F19: =F15 -> 153.61947 | G19: =G15 -> 340.17723 | H19: =H15 -> 717.73281 | N19: Com. Target nuevas x año | O19: =SUMIF('Ingresos detallado'!$F$2:$BM$2,'Flujo de Caja'!D$3,'Ingresos detallado'!$F$52:$BM$52) -> 0 | P19: =SUMIF('Ingresos detallado'!$F$2:$BM$2,'Flujo de Caja'!E$3,'Ingresos detallado'!$F$52:$BM$52) -> 186.96 | Q19: =SUMIF('Ingresos detallado'!$F$2:$BM$2,'Flujo de Caja'!F$3,'Ingresos detallado'!$F$52:$BM$52) -> 256.8 | R19: =SUMIF('Ingresos detallado'!$F$2:$BM$2,'Flujo de Caja'!G$3,'Ingresos detallado'!$F$52:$BM$52) -> 363.88 | S19: =SUMIF('Ingresos detallado'!$F$2:$BM$2,'Flujo de Caja'!H$3,'Ingresos detallado'!$F$52:$BM$52) -> 443.04
B20: TIR Bogotech Abierta | C20: =IRR(C19:H19,25%) -> 0.24208541 | N20: Reportes x año | O20: =SUMIF('Ingresos detallado'!$F$2:$BM$2,'Flujo de Caja'!D$3,'Ingresos detallado'!$F$64:$BM$64) -> 0 | P20: =SUMIF('Ingresos detallado'!$F$2:$BM$2,'Flujo de Caja'!E$3,'Ingresos detallado'!$F$64:$BM$64) -> 107.64 | Q20: =SUMIF('Ingresos detallado'!$F$2:$BM$2,'Flujo de Caja'!F$3,'Ingresos detallado'!$F$64:$BM$64) -> 252.72 | R20: =SUMIF('Ingresos detallado'!$F$2:$BM$2,'Flujo de Caja'!G$3,'Ingresos detallado'!$F$64:$BM$64) -> 263.25 | S20: =SUMIF('Ingresos detallado'!$F$2:$BM$2,'Flujo de Caja'!H$3,'Ingresos detallado'!$F$64:$BM$64) -> 273.78
A21: valores $ en COP '000,000 | O21: =SUM(O16:O20) -> 45.36 | P21: =SUM(P16:P20) -> 479.44 | Q21: =SUM(Q16:Q20) -> 796.44 | R21: =SUM(R16:R20) -> 1046.21 | S21: =SUM(S16:S20) -> 1275.58
P22: =P21/O21-1 -> 9.5696649 | Q22: =Q21/P21-1 -> 0.66118805 | R22: =R21/Q21-1 -> 0.31360806 | S22: =S21/R21-1 -> 0.21923897
A23: Escenario | D23: Base | E23: Mínimo | F23: Pesimista | G23: Optimista | H23: Lím. Precios | I23: Lím. Cantidades | J23: Lím. Time2Market | N23: Solución expertos | O23: =SUMIF('Ingresos detallado'!$F$2:$BM$2,'Flujo de Caja'!D$3,'Ingresos detallado'!$F$131:$BM$131) -> 0 | P23: =SUMIF('Ingresos detallado'!$F$2:$BM$2,'Flujo de Caja'!E$3,'Ingresos detallado'!$F$131:$BM$131) -> 300.348 | Q23: =SUMIF('Ingresos detallado'!$F$2:$BM$2,'Flujo de Caja'!F$3,'Ingresos detallado'!$F$131:$BM$131) -> 412.47792 | R23: =SUMIF('Ingresos detallado'!$F$2:$BM$2,'Flujo de Caja'!G$3,'Ingresos detallado'!$F$131:$BM$131) -> 531.06532 | S23: =SUMIF('Ingresos detallado'!$F$2:$BM$2,'Flujo de Caja'!H$3,'Ingresos detallado'!$F$131:$BM$131) -> 765.79619
A24: Elija la opción " | B24: Mínimo | C24: Precios | D24: 1.1 | E24: 1.08 | F24: 1.08 | G24: 1.1 | H24: 1.1 | I24: 1.1 | J24: 1.1 | N24: Solución universidades | O24: =SUMIF('Ingresos detallado'!$F$2:$BM$2,'Flujo de Caja'!D$3,'Ingresos detallado'!$F$143:$BM$143) -> 0 | P24: =SUMIF('Ingresos detallado'!$F$2:$BM$2,'Flujo de Caja'!E$3,'Ingresos detallado'!$F$143:$BM$143) -> 250.29 | Q24: =SUMIF('Ingresos detallado'!$F$2:$BM$2,'Flujo de Caja'!F$3,'Ingresos detallado'!$F$143:$BM$143) -> 343.7316 | R24: =SUMIF('Ingresos detallado'!$F$2:$BM$2,'Flujo de Caja'!G$3,'Ingresos detallado'!$F$143:$BM$143) -> 442.55444 | S24: =SUMIF('Ingresos detallado'!$F$2:$BM$2,'Flujo de Caja'!H$3,'Ingresos detallado'!$F$143:$BM$143) -> 638.1635
C25: Cantidades | D25: 1.1 | E25: 1.3 | F25: 0.9 | G25: 1.5 | H25: 1.1 | I25: 1.1 | J25: 1.1 | O25: =SUM(O23:O24) -> 0 | P25: =SUM(P23:P24) -> 550.638 | Q25: =SUM(Q23:Q24) -> 756.20952 | R25: =SUM(R23:R24) -> 973.61976 | S25: =SUM(S23:S24) -> 1403.9597
C26: Time-2-Market | D26: 1 | E26: 1 | F26: 1.8 | G26: 1 | H26: 1 | I26: 1 | J26: 3 | Q26: =Q25/P25-1 -> 0.37333333 | R26: =R25/Q25-1 -> 0.2875 | S26: =S25/R25-1 -> 0.442
C27: Crecim. Lic | D27: 2 | E27: 1 | F27: 1 | G27: 1 | H27: =G27 -> 1 | I27: 2 | J27: 2
A28: Caso
A29: Elija la opción " | B29: Caso 1 | C29: ver casos

Sheet Supuestos
A1: ='Flujo de Caja'!$A$1 -> valores $ en COP '000,000
D2: Año | E2: Año | F2: Año | G2: Año | H2: Año | I2: Base
A3: 1 | D3: 1 | E3: 2 | F3: 3 | G3: 4 | H3: 5
A4: 2 | B4: Ipc | D4: =I4 -> 0.03 | E4: =D4 -> 0.03 | F4: =E4 -> 0.03 | G4: =F4 -> 0.03 | H4: =G4 -> 0.03 | I4: 0.03
A5: 3 | B5: Carga prestacional | D5: =I5 -> 0 | E5: =D5 -> 0 | F5: =E5 -> 0 | G5: =F5 -> 0 | H5: =G5 -> 0 | I5: 0
A6: 4 | B6: Costos administrativos | D6: =I6 -> 0.04 | E6: =D6 -> 0.04 | F6: =E6 -> 0.04 | G6: =F6 -> 0.04 | H6: =G6 -> 0.04 | I6: 0.04
A7: 5
A8: 6 | B8: Consultorías | D8: Año 1 | E8: Año 2 | F8: Año 3 | G8: Año 4 | H8: Año 5 | I8: Base | J8: ='Flujo de Caja'!$A$5 -> 1.3
A9: 7 | B9: Alcance Primario x frecuencia | D9: =I9 -> 2 | E9: 2 | F9: 4 | G9: 6 | H9: 8 | I9: 2
A10: 8 | B10: Duración Alcance Primario (meses) | D10: =$I10 -> 6 | E10: =$I10 -> 6 | F10: =$I10 -> 6 | G10: =$I10 -> 6 | H10: =$I10 -> 6 | I10: 6
A11: 9 | B11: Frecuencia Alcance Primario (meses) | D11: =$I11 -> 6 | E11: =$I11 -> 6 | F11: =$I11 -> 6 | G11: =$I11 -> 6 | H11: =$I11 -> 6 | I11: 6
A12: 10 | B12: Alcance Medio x frecuencia | D12: =I12 -> 2 | E12: 2 | F12: 4 | G12: 6 | H12: 8 | I12: 2
A13: 11 | B13: Duración Alcance Medio (meses) | D13: =$I13 -> 8 | E13: =$I13 -> 8 | F13: =$I13 -> 8 | G13: =$I13 -> 8 | H13: =$I13 -> 8 | I13: 8
A14: 12 | B14: Frecuencia Alcance Medio (meses) | D14: =$I14 -> 6 | E14: =$I14 -> 6 | F14: =$I14 -> 6 | G14: =$I14 -> 6 | H14: =$I14 -> 6 | I14: 6
A15: 13 | B15: Alcance Profundo x frecuencia | D15: =I15 -> 1 | E15: 2 | F15: 4 | G15: 6 | H15: 8 | I15: 1
A16: 14 | B16: Duración Alcance Profundo (meses) | D16: =$I16 -> 12 | E16: =$I16 -> 12 | F16: =$I16 -> 12 | G16: =$I16 -> 12 | H16: =$I16 -> 12 | I16: 12
A17: 15 | B17: Frecuencia Alcance Profundo (meses) | D17: =$I17 -> 6 | E17: =$I17 -> 6 | F17: =$I17 -> 6 | G17: =$I17 -> 6 | H17: =$I17 -> 6 | I17: 6
A18: 16 | B18: Grandes proyectos x frecuencia | D18: =ROUND(I18*$J$116,0) -> 1 | E18: =ROUND(1*$J$116,0) -> 1 | F18: =ROUND(1*$J$116,0) -> 1 | G18: =ROUND(1*$J$116,0) -> 1 | H18: =ROUND(1*$J$116,0) -> 1 | I18: 1
A19: 17 | B19: Duración Grandes proyectos (meses) | D19: =I19 -> 12 | E19: =D19 -> 12 | F19: =E19 -> 12 | G19: =F19 -> 12 | H19: =G19 -> 12 | I19: 12
A20: 18 | B20: Frecuencia Grandes proyectos (meses) | D20: =I20 -> 6 | E20: =D20 -> 6 | F20: =E20 -> 6 | G20: =F20 -> 6 | H20: =G20 -> 6 | I20: 6
A21: 19
A22: 20 | B22: Solución Expertos x frecuencia | D22: =ROUND(D23*$J$8,0) -> 1 | E22: =ROUND(E23*$J$8,0) -> 3 | F22: =ROUND(F23*$J$8,0) -> 4 | G22: =ROUND(G23*$J$8,0) -> 5 | H22: =ROUND(H23*$J$8,0) -> 7
A23: 21 | B23: base Solución Expertos. x frecuencia | D23: =ROUND((0+I23),1) -> 1 | E23: =ROUND(D23*(1+E24),1) -> 2 | F23: =ROUND(E23*(1+F24),1) -> 3 | G23: =ROUND(F23*(1+G24),1) -> 4 | H23: =ROUND(G23*(1+H24),1) -> 5 | I23: 1
A24: 22 | B24: Crecim. Solución Expertos | E24: =I24 -> 1 | F24: =E24*1/2 -> 0.5 | G24: =F24*2/3 -> 0.33333333 | H24: =G24*3/4 -> 0.25 | I24: 1
A26: 23 | B26: Duración Solución Expertos (meses) | D26: =$I26 -> 3 | E26: =$I26 -> 3 | F26: =$I26 -> 3 | G26: =$I26 -> 3 | H26: =$I26 -> 3 | I26: 3
A27: 24 | B27: Frecuencia Solución Expertos (meses) | D27: =$I27 -> 6 | E27: =$I27 -> 6 | F27: =$I27 -> 6 | G27: =$I27 -> 6 | H27: =$I27 -> 6 | I27: 6
A28: 25 | B28: Solución Univ. x frecuencia | D28: =ROUND(D29*$J$8,0) -> 1 | E28: =ROUND(E29*$J$8,0) -> 3 | F28: =ROUND(F29*$J$8,0) -> 4 | G28: =ROUND(G29*$J$8,0) -> 5 | H28: =ROUND(H29*$J$8,0) -> 7
A29: 26 | B29: base Solución Univ. x frecuencia | D29: =ROUND((0+I29),1) -> 1 | E29: =ROUND(D29*(1+E30),1) -> 2 | F29: =ROUND(E29*(1+F30),1) -> 3 | G29: =ROUND(F29*(1+G30),1) -> 4 | H29: =ROUND(G29*(1+H30),1) -> 5 | I29: 1
A30: 27 | B30: Crecim. Solución Univ. | E30: =I30 -> 1 | F30: =E30*1/2 -> 0.5 | G30: =F30*2/3 -> 0.33333333 | H30: =G30*3/4 -> 0.25 | I30: =I24 -> 1
A31: 28 | B31: Duración Solución Univ. (meses) | D31: =$I31 -> 3 | E31: =$I31 -> 3 | F31: =$I31 -> 3 | G31: =$I31 -> 3 | H31: =$I31 -> 3 | I31: 3
A32: 29 | B32: Frecuencia Solución Univ. (meses) | D32: =$I32 -> 4 | E32: =$I32 -> 4 | F32: =$I32 -> 4 | G32: =$I32 -> 4 | H32: =$I32 -> 4 | I32: 4
A33: 30
A34: 31
A35: 32 | D35: Año 1 | E35: Año 2 | F35: Año 3 | G35: Año 4 | H35: Año 5 | I35: Base | J35: ='Flujo de Caja'!$A$5 -> 1.3
A36: 33 | B36: Base Lic. Básicas nuevas x frecuencia | D36: =ROUND((0+I36),1) -> 2 | E36: =ROUND(D36*(1+E37),1) -> 4 | F36: =ROUND(E36*(1+F37),1) -> 7 | G36: =ROUND(F36*(1+G37),1) -> 10.5 | H36: =ROUND(G36*(1+H37),1) -> 13.1 | I36: 2 | J36: =SUM(D36:H36) -> 36.6
A37: 34 | B37: Crecimiento Lic. Básicas | E37: =I37 -> 1 | F37: =E37*(1-$I$38) -> 0.75 | G37: =E37*(1-$I38*2) -> 0.5 | H37: =E37*(1-I$38*3) -> 0.25 | I37: ='Flujo de Caja'!A10 -> 1 | K37: 0.2
I38: 0.25
A39: 35 | B39: Duración Lic. Básica (meses) | D39: =$I$39 -> 6 | E39: =$I$39 -> 6 | F39: =$I$39 -> 6 | G39: =$I$39 -> 6 | H39: =$I$39 -> 6 | I39: 6
A40: 36 | B40: Licencias Básicas nuevas x frecuencia | D40: =ROUNDUP(D36*$J$35,0) -> 3 | E40: =ROUNDUP(E36*$J$35,0) -> 6 | F40: =ROUNDUP(F36*$J$35,0) -> 10 | G40: =ROUNDUP(G36*$J$35,0) -> 14 | H40: =ROUNDUP(H36*$J$35,0) -> 18 | J40: =SUM(D40:H40) -> 51
A41: 37 | B41: Base Lic. Premium nuevas x semestre | D41: =ROUND((0+I41),1) -> 2 | E41: =ROUND(D41*(1+E42),1) -> 4 | F41: =ROUND(E41*(1+F42),1) -> 7 | G41: =ROUND(F41*(1+G42),1) -> 10.5 | H41: =ROUND(G41*(1+H42),1) -> 13.1 | I41: 2 | J41: =SUM(D41:H41) -> 36.6
...

Sheet Ingresos detallado
A1: ='Flujo de Caja'!$A$1 -> valores $ en COP '000,000 | F1: Año | G1: Año | H1: Año | I1: Año | J1: Año | K1: Año | L1: Año | M1: Año | N1: Año | O1: Año | P1: Año | Q1: Año | R1: Año | S1: Año | T1: Año | U1: Año | V1: Año | W1: Año | X1: Año | Y1: Año | Z1: Año | AA1: Año | AB1: Año | AC1: Año | AD1: Año | AE1: Año | AF1: Año | AG1: Año | AH1: Año | AI1: Año | AJ1: Año | AK1: Año | AL1: Año | AM1: Año | AN1: Año | AO1: Año | AP1: Año | AQ1: Año | AR1: Año | AS1: Año | AT1: Año | AU1: Año | AV1: Año | AW1: Año | AX1: Año | AY1: Año | AZ1: Año | BA1: Año | BB1: Año | BC1: Año | BD1: Año | BE1: Año | BF1: Año | BG1: Año | BH1: Año | BI1: Año | BJ1: Año | BK1: Año | BL1: Año | BM1: Año
F2: =ROUNDUP(F4/12,0) -> 1 | G2: =ROUNDUP(G4/12,0) -> 1 | H2: =ROUNDUP(H4/12,0) -> 1 | I2: =ROUNDUP(I4/12,0) -> 1 | J2: =ROUNDUP(J4/12,0) -> 1 | K2: =ROUNDUP(K4/12,0) -> 1 | L2: =ROUNDUP(L4/12,0) -> 1 | M2: =ROUNDUP(M4/12,0) -> 1 | ... BM2: =ROUNDUP(BM4/12,0) -> 5
F3: Mes | G3: Mes | H3: Mes | I3: Mes | J3: Mes | K3: Mes | L3: Mes | M3: Mes | N3: Mes | O3: Mes | P3: Mes | Q3: Mes | R3: Mes | S3: Mes | T3: Mes | U3: Mes | V3: Mes | W3: Mes | X3: Mes | Y3: Mes | Z3: Mes | AA3: Mes | AB3: Mes | AC3: Mes | AD3: Mes | AE3: Mes | AF3: Mes | AG3: Mes | AH3: Mes | AI3: Mes | AJ3: Mes | AK3: Mes | AL3: Mes | AM3: Mes | AN3: Mes | AO3: Mes | AP3: Mes | AQ3: Mes | AR3: Mes | AS3: Mes | AT3: Mes | AU3: Mes | AV3: Mes | AW3: Mes | AX3: Mes | AY3: Mes | AZ3: Mes | BA3: Mes | BB3: Mes | BC3: Mes | BD3: Mes | BE3: Mes | BF3: Mes | BG3: Mes | BH3: Mes | BI3: Mes | BJ3: Mes | BK3: Mes | BL3: Mes | BM3: Mes
F4: 1 | G4: =F4+1 -> 2 | H4: =G4+1 -> 3 | I4: =H4+1 -> 4 | J4: =I4+1 -> 5 | K4: =J4+1 -> 6 | L4: =K4+1 -> 7 | M4: =L4+1 -> 8 | N4: =M4+1 -> 9 | ... BM4: =BL4+1 -> 60
B6: Ingresos totales | F6: =F12+F73+F155 -> 0 | G6: =G12+G73+G155 -> 0 | H6: =H12+H73+H155 -> 0 | I6: =I12+I73+I155 -> 119.34 | J6: =J12+J73+J155 -> 0 | K6: =K12+K73+K155 -> 0 | L6: =L12+L73+L155 -> 184.68 | M6: =M12+M73+M155 -> 0 | ... BM6: =BM12+BM73+BM155 -> 22.815
E7: SaaS | F7: =F12 -> 0 | G7: =F7+G12 -> 0 | H7: =G7+H12 -> 0 | I7: =H7+I12 -> 11.34 | J7: =I7+J12 -> 11.34 | K7: =J7+K12 -> 11.34 | L7: =K7+L12 -> 34.02 | M7: =L7+M12 -> 34.02 | N7: =M7+N12 -> 34.02 | ... BM7: =BL7+BM12 -> 3643.03
E8: Consultoría | F8: =F73 -> 0 | G8: =F8+G73 -> 0 | H8: =G8+H73 -> 0 | I8: =H8+I73 -> 108 | J8: =I8+J73 -> 108 | K8: =J8+K73 -> 108 | L8: =K8+L73 -> 270 | M8: =L8+M73 -> 270 | N8: =M8+N73 -> 270 | ... BM8: =BL8+BM73 -> 11684.407
E9: Patrocinios | F9: =F155 -> 0 | G9: =F9+F155 -> 0 | H9: =G9+G155 -> 0 | I9: =H9+H155 -> 0 | J9: =I9+I155 -> 0 | K9: =J9+J155 -> 0 | L9: =K9+K155 -> 0 | M9: =L9+L155 -> 0 | N9: =M9+M155 -> 0 | ... BM9: =BL9+BL155 -> 0
E10: Acumulado | F10: =SUM(F7:F9) -> 0 | G10: =SUM(G7:G9) -> 0 | H10: =SUM(H7:H9) -> 0 | I10: =SUM(I7:I9) -> 119.34 | J10: =SUM(J7:J9) -> 119.34 | K10: =SUM(K7:K9) -> 119.34 | L10: =SUM(L7:L9) -> 304.02 | M10: =SUM(M7:M9) -> 304.02 | ... BM10: =SUM(BM7:BM9) -> 15327.437
B12: Ingresos SaaS | F12: =F14+F28+F42+F52+F64 -> 0 | G12: =G14+G28+G42+G52+G64 -> 0 | H12: =H14+H28+H42+H52+H64 -> 0 | I12: =I14+I28+I42+I52+I64 -> 11.34 | J12: =J14+J28+J42+J52+J64 -> 0 | K12: =K14+K28+K42+K52+K64 -> 0 | L12: =L14+L28+L42+L52+L64 -> 22.68 | M12: =M14+M28+M42+M52+M64 -> 0 | ... BM12: =BM14+BM28+BM42+BM52+BM64 -> 22.815
B13: SaaS
C14: Licencias Básicas | F14: =(F15*F20) -> 0 | G14: =(G15*G20) -> 0 | H14: =(H15*H20) -> 0 | I14: =(I15*I20) -> 11.34 | J14: =(J15*J20) -> 0 | K14: =(K15*K20) -> 0 | L14: =(L15*L20) -> 0 | M14: =(M15*M20) -> 0 | ... BM14: =(BM15*BM20) -> 0
B15: =MATCH(C15,Supuestos!$B$3:$B$149,0) -> 52 | C15: Precio Licencia Básica x proyecto | E15: =Supuestos!D54 -> 3.78 | F15: =HLOOKUP(F$2,Supuestos!$D$3:$H$59,$B$15,0) -> 3.78 | G15: =HLOOKUP(G$2,Supuestos!$D$3:$H$59,$B$15,0) -> 3.78 | H15: =HLOOKUP(H$2,Supuestos!$D$3:$H$59,$B$15,0) -> 3.78 | I15: =HLOOKUP(I$2,Supuestos!$D$3:$H$59,$B$15,0) -> 3.78 | J15: =HLOOKUP(J$2,Supuestos!$D$3:$H$59,$B$15,0) -> 3.78 | K15: =HLOOKUP(K$2,Supuestos!$D$3:$H$59,$B$15,0) -> 3.78 | L15: =HLOOKUP(L$2,Supuestos!$D$3:$H$59,$B$15,0) -> 3.78 | M15: =HLOOKUP(M$2,Supuestos!$D$3:$H$59,$B$15,0) -> 3.78 | ... BM15: =HLOOKUP(BM$2,Supuestos!$D$3:$H$59,$B$15,0) -> 4.28
B16: =MATCH(C16,Supuestos!$B$3:$B$149,0) -> 103 | C16: =Supuestos!B105 -> Conversión de Primario a Básicas | F16: =HLOOKUP(F$2,Supuestos!$D$3:$H$186,$B16,0) -> 1 | G16: =HLOOKUP(G$2,Supuestos!$D$3:$H$186,$B16,0) -> 1 | H16: =HLOOKUP(H$2,Supuestos!$D$3:$H$186,$B16,0) -> 1 | I16: =HLOOKUP(I$2,Supuestos!$D$3:$H$186,$B16,0) -> 1 | J16: =HLOOKUP(J$2,Supuestos!$D$3:$H$186,$B16,0) -> 1 | K16: =HLOOKUP(K$2,Supuestos!$D$3:$H$186,$B16,0) -> 1 | L16: =HLOOKUP(L$2,Supuestos!$D$3:$H$186,$B16,0) -> 1 | M16: =HLOOKUP(M$2,Supuestos!$D$3:$H$186,$B16,0) -> 1 | ... BM16: =HLOOKUP(BM$2,Supuestos!$D$3:$H$186,$B16,0) -> 1
B17: =MATCH(C17,Supuestos!$B$3:$B$149,0) -> 104 | C17: =Supuestos!B106 -> Conversión de Medio a Básicas | F17: =HLOOKUP(F$2,Supuestos!$D$3:$H$186,$B17,0) -> 0 | G17: =HLOOKUP(G$2,Supuestos!$D$3:$H$186,$B17,0) -> 0 | H17: =HLOOKUP(H$2,Supuestos!$D$3:$H$186,$B17,0) -> 0 | I17: =HLOOKUP(I$2,Supuestos!$D$3:$H$186,$B17,0) -> 0 | J17: =HLOOKUP(J$2,Supuestos!$D$3:$H$186,$B17,0) -> 0 | K17: =HLOOKUP(K$2,Supuestos!$D$3:$H$186,$B17,0) -> 0 | L17: =HLOOKUP(L$2,Supuestos!$D$3:$H$186,$B17,0) -> 0 | M17: =HLOOKUP(M$2,Supuestos!$D$3:$H$186,$B17,0) -> 0 | ... BM17: =HLOOKUP(BM$2,Supuestos!$D$3:$H$186,$B17,0) -> 0
B18: =MATCH(C18,Supuestos!$B$3:$B$149,0) -> 105 | C18: =Supuestos!B107 -> Conversión de Profundo a Básicas | F18: =HLOOKUP(F$2,Supuestos!$D$3:$H$186,$B18,0) -> 0 | G18: =HLOOKUP(G$2,Supuestos!$D$3:$H$186,$B18,0) -> 0 | H18: =HLOOKUP(H$2,Supuestos!$D$3:$H$186,$B18,0) -> 0 | I18: =HLOOKUP(I$2,Supuestos!$D$3:$H$186,$B18,0) -> 0 | J18: =HLOOKUP(J$2,Supuestos!$D$3:$H$186,$B18,0) -> 0 | K18: =HLOOKUP(K$2,Supuestos!$D$3:$H$186,$B18,0) -> 0 | L18: =HLOOKUP(L$2,Supuestos!$D$3:$H$186,$B18,0) -> 0 | M18: =HLOOKUP(M$2,Supuestos!$D$3:$H$186,$B18,0) -> 0 | ... BM18: =HLOOKUP(BM$2,Supuestos!$D$3:$H$186,$B18,0) -> 0
C19: Mes de vencicmiento | F19: =IF(F20>0,F$4+F24,0) -> 0 | G19: =IF(G20>0,G4+G24,0) -> 0 | H19: =IF(H20>0,H4+H24,0) -> 0 | I19: =IF(I20>0,I4+I24,0) -> 10 | J19: =IF(J20>0,J4+J24,0) -> 0 | K19: =IF(K20>0,K4+K24,0) -> 0 | L19: =IF(L20>0,L4+L24,0) -> 0 | M19: =IF(M20>0,M4+M24,0) -> 0 | N19: =IF(N20>0,N4+N24,0) -> 0 | ... BM19: =IF(BM20>0,BM4+BM24,0) -> 0
B20: =MATCH(C20,Supuestos!$B$3:$B$149,0) -> 38 | C20: Licencias Básicas nuevas x frecuencia | F20: =HLOOKUP(F$2,Supuestos!$D$3:$H$59,$B20,0)*E21 -> 0 | G20: =HLOOKUP(G$2,Supuestos!$D$3:$H$59,$B20,0)*F21 -> 0 | H20: =HLOOKUP(H$2,Supuestos!$D$3:$H$59,$B20,0)*G21 -> 0 | I20: =HLOOKUP(I$2,Supuestos!$D$3:$H$59,$B20,0)*H21 -> 3 | J20: =HLOOKUP(J$2,Supuestos!$D$3:$H$59,$B20,0)*I21 -> 0 | K20: =HLOOKUP(K$2,Supuestos!$D$3:$H$59,$B20,0)*J21 -> 0 | L20: =HLOOKUP(L$2,Supuestos!$D$3:$H$59,$B20,0)*K21 -> 0 | M20: =HLOOKUP(M$2,Supuestos!$D$3:$H$59,$B20,0)*L21 -> 0 | ... BM20: =HLOOKUP(BM$2,Supuestos!$D$3:$H$59,$B20,0)*BL21 -> 0
C21: ¿Ciclo completo? | E21: =IF(F$4=$E$25,1,IF(SUM(E26:$F26)<E24,0,IF(MOD(SUM(E$26:$F26)/E24,INT(SUM(E$26:$F26)/E24))=0,1,0))) -> 0 | F21: =IF(G$4=$E$25,1,IF(SUM($F26:F26)<F24,0,IF(MOD(SUM($F$26:F26)/F24,INT(SUM($F$26:F26)/F24))=0,1,0))) -> 0 | G21: =IF(H$4=$E$25,1,IF(SUM($F26:G26)<G24,0,IF(MOD(SUM($F$26:G26)/G24,INT(SUM($F$26:G26)/G24))=0,1,0))) -> 0 | H21: =IF(I$4=$E$25,1,IF(SUM($F26:H26)<H24,0,IF(MOD(SUM($F$26:H26)/H24,INT(SUM($F$26:H26)/H24))=0,1,0))) -> 1 | I21: =IF(J$4=$E$25,1,IF(SUM($F26:I26)<I24,0,IF(MOD(SUM($F$26:I26)/I24,INT(SUM($F$26:I26)/I24))=0,1,0))) -> 0 | J21: =IF(K$4=$E$25,1,IF(SUM($F26:J26)<J24,0,IF(MOD(SUM($F$26:J26)/J24,INT(SUM($F$26:J26)/J24))=0,1,0))) -> 0 | K21: =IF(L$4=$E$25,1,IF(SUM($F26:K26)<K24,0,IF(MOD(SUM($F$26:K26)/K24,INT(SUM($F$26:K26)/K24))=0,1,0))) -> 0 | L21: =IF(M$4=$E$25,1,IF(SUM($F26:L26)<L24,0,IF(MOD(SUM($F$26:L26)/L24,INT(SUM($F$26:L26)/L24))=0,1,0))) -> 0 | M21: =IF(N$4=$E$25,1,IF(SUM($F26:M26)<M24,0,IF(MOD(SUM($F$26:M26)/M24,INT(SUM($F$26:M26)/M24))=0,1,0))) -> 0 | ... BM21: =IF(BN$4=$E$25,1,IF(SUM($F26:BM26)<BM24,0,IF(MOD(SUM($F$26:BM26)/BM24,INT(SUM($F$26:BM26)/BM24))=0,1,0))) -> 0
C22: Licencias a dar de baja | F22: =IF(ISERROR(HLOOKUP(F$4,$F19:$BM23,2,0))=TRUE,0,HLOOKUP(F$4,$F19:$BM23,2,0)) -> 0 | G22: =IF(ISERROR(HLOOKUP(G$4,$F19:$BM23,2,0))=TRUE,0,HLOOKUP(G$4,$F19:$BM23,2,0)) -> 0 | H22: =IF(ISERROR(HLOOKUP(H$4,$F19:$BM23,2,0))=TRUE,0,HLOOKUP(H$4,$F19:$BM23,2,0)) -> 0 | I22: =IF(ISERROR(HLOOKUP(I$4,$F19:$BM23,2,0))=TRUE,0,HLOOKUP(I$4,$F19:$BM23,2,0)) -> 0 | J22: =IF(ISERROR(HLOOKUP(J$4,$F19:$BM23,2,0))=TRUE,0,HLOOKUP(J$4,$F19:$BM23,2,0)) -> 0 | K22: =IF(ISERROR(HLOOKUP(K$4,$F19:$BM23,2,0))=TRUE,0,HLOOKUP(K$4,$F19:$BM23,2,0)) -> 0 | L22: =IF(ISERROR(HLOOKUP(L$4,$F19:$BM23,2,0))=TRUE,0,HLOOKUP(L$4,$F19:$BM23,2,0)) -> 0 | M22: =IF(ISERROR(HLOOKUP(M$4,$F19:$BM23,2,0))=TRUE,0,HLOOKUP(M$4,$F19:$BM23,2,0)) -> 0 | ... BM22: =IF(ISERROR(HLOOKUP(BM$4,$F19:$BM23,2,0))=TRUE,0,HLOOKUP(BM$4,$F19:$BM23,2,0)) -> 0
C23: Licencias corrientes | F23: =F20-F22 -> 0 | G23: =F23+G20-G22 -> 0 | H23: =G23+H20-H22 -> 0 | I23: =H23+I20-I22 -> 3 | J23: =I23+J20-J22 -> 3 | K23: =J23+K20-K22 -> 3 | L23: =K23+L20-L22 -> 3 | M23: =L23+M20-M22 -> 3 | N23: =M23+N20-N22 -> 3 | ... BM23: =BL23+BM20-BM22 -> 18
C24: Duración (meses) | E24: =Supuestos!$I$39 -> 6 | F24: =E24 -> 6 | G24: =F24 -> 6 | H24: =G24 -> 6 | I24: =H24 -> 6 | J24: =I24 -> 6 | K24: =J24 -> 6 | L24: =K24 -> 6 | M24: =L24 -> 6 | ... BM24: =BL24 -> 6
C25: Inicio (mes) | E25: =Supuestos!D80 -> 4
C26: Activo | E26: 0 | F26: =IF(E26=1,E26,IF($E25=F$4,1,0)) -> 0 | G26: =IF(F26=1,F26,IF($E25=G$4,1,0)) -> 0 | H26: =IF(G26=1,G26,IF($E25=H$4,1,0)) -> 0 | I26: =IF(H26=1,H26,IF($E25=I$4,1,0)) -> 1 | J26: =IF(I26=1,I26,IF($E25=J$4,1,0)) -> 1 | K26: =IF(J26=1,J26,IF($E25=K$4,1,0)) -> 1 | L26: =IF(K26=1,K26,IF($E25=L$4,1,0)) -> 1 | M26: =IF(L26=1,L26,IF($E25=M$4,1,0)) -> 1 | ... BM26: =IF(BL26=1,BL26,IF($E25=BM$4,1,0)) -> 1
C28: Licencias Premium | F28: =(F29*F34) -> 0 | G28: =(G29*G34) -> 0 | H28: =(H29*H34) -> 0 | I28: =(I29*I34) -> 0 | J28: =(J29*J34) -> 0 | K28: =(K29*K34) -> 0 | L28: =(L29*L34) -> 22.68 | M28: =(M29*M34) -> 0 | ... BM28: =(BM29*BM34) -> 0
B29: =MATCH(C29,Supuestos!$B$3:$B$149,0) -> 53 | C29: Precio Licencia Premium x proyecto | E29: =Supuestos!D55 -> 7.56 | F29: =HLOOKUP(F$2,Supuestos!$D$3:$H$59,$B$29,0) -> 7.56 | G29: =HLOOKUP(G$2,Supuestos!$D$3:$H$59,$B$29,0) -> 7.56 | H29: =HLOOKUP(H$2,Supuestos!$D$3:$H$59,$B$29,0) -> 7.56 | I29: =HLOOKUP(I$2,Supuestos!$D$3:$H$59,$B$29,0) -> 7.56 | J29: =HLOOKUP(J$2,Supuestos!$D$3:$H$59,$B$29,0) -> 7.56 | K29: =HLOOKUP(K$2,Supuestos!$D$3:$H$59,$B$29,0) -> 7.56 | L29: =HLOOKUP(L$2,Supuestos!$D$3:$H$59,$B$29,0) -> 7.56 | M29: =HLOOKUP(M$2,Supuestos!$D$3:$H$59,$B$29,0) -> 7.56 | ... BM29: =HLOOKUP(BM$2,Supuestos!$D$3:$H$59,$B$29,0) -> 8.53
B30: =MATCH(C30,Supuestos!$B$3:$B$149,0) -> 108 | C30: =Supuestos!B110 -> Conversión de Primario a Premium | F30: =HLOOKUP(F$2,Supuestos!$D$3:$H$186,$B30,0) -> 0 | G30: =HLOOKUP(G$2,Supuestos!$D$3:$H$186,$B30,0) -> 0 | H30: =HLOOKUP(H$2,Supuestos!$D$3:$H$186,$B30,0) -> 0 | I30: =HLOOKUP(I$2,Supuestos!$D$3:$H$186,$B30,0) -> 0 | J30: =HLOOKUP(J$2,Supuestos!$D$3:$H$186,$B30,0) -> 0 | K30: =HLOOKUP(K$2,Supuestos!$D$3:$H$186,$B30,0) -> 0 | L30: =HLOOKUP(L$2,Supuestos!$D$3:$H$186,$B30,0) -> 0 | M30: =HLOOKUP(M$2,Supuestos!$D$3:$H$186,$B30,0) -> 0 | ... BM30: =HLOOKUP(BM$2,Supuestos!$D$3:$H$186,$B30,0) -> 0
B31: =MATCH(C31,Supuestos!$B$3:$B$149,0) -> 109 | C31: =Supuestos!B111 -> Conversión de Medio a Premium | F31: =HLOOKUP(F$2,Supuestos!$D$3:$H$186,$B31,0) -> 1 | G31: =HLOOKUP(G$2,Supuestos!$D$3:$H$186,$B31,0) -> 1 | H31: =HLOOKUP(H$2,Supuestos!$D$3:$H$186,$B31,0) -> 1 | I31: =HLOOKUP(I$2,Supuestos!$D$3:$H$186,$B31,0) -> 1 | J31: =HLOOKUP(J$2,Supuestos!$D$3:$H$186,$B31,0) -> 1 | K31: =HLOOKUP(K$2,Supuestos!$D$3:$H$186,$B31,0) -> 1 | L31: =HLOOKUP(L$2,Supuestos!$D$3:$H$186,$B31,0) -> 1 | M31: =HLOOKUP(M$2,Supuestos!$D$3:$H$186,$B31,0) -> 1 | ... BM31: =HLOOKUP(BM$2,Supuestos!$D$3:$H$186,$B31,0) -> 1
B32: =MATCH(C32,Supuestos!$B$3:$B$149,0) -> 110 | C32: =Supuestos!B112 -> Conversión de Profundo a Premium | F32: =HLOOKUP(F$2,Supuestos!$D$3:$H$186,$B32,0) -> 1 | G32: =HLOOKUP(G$2,Supuestos!$D$3:$H$186,$B32,0) -> 1 | H32: =HLOOKUP(H$2,Supuestos!$D$3:$H$186,$B32,0) -> 1 | I32: =HLOOKUP(I$2,Supuestos!$D$3:$H$186,$B32,0) -> 1 | J32: =HLOOKUP(J$2,Supuestos!$D$3:$H$186,$B32,0) -> 1 | K32: =HLOOKUP(K$2,Supuestos!$D$3:$H$186,$B32,0) -> 1 | L32: =HLOOKUP(L$2,Supuestos!$D$3:$H$186,$B32,0) -> 1 | M32: =HLOOKUP(M$2,Supuestos!$D$3:$H$186,$B32,0) -> 1 | ... BM32: =HLOOKUP(BM$2,Supuestos!$D$3:$H$186,$B32,0) -> 1
C33: Mes de vencimiento | F33: =IF(F34>0,F$4+F38,0) -> 0 | G33: =IF(G34>0,G$4+G38,0) -> 0 | H33: =IF(H34>0,H$4+H38,0) -> 0 | I33: =IF(I34>0,I$4+I38,0) -> 0 | J33: =IF(J34>0,J$4+J38,0) -> 0 | K33: =IF(K34>0,K$4+K38,0) -> 0 | L33: =IF(L34>0,L$4+L38,0) -> 13 | M33: =IF(M34>0,M$4+M38,0) -> 0 | ... BM33: =IF(BM34>0,BM$4+BM38,0) -> 0
B34: =MATCH(C34,Supuestos!$B$3:$B$149,0) -> 43 | C34: Licencias Premium nuevas x frecuencia | F34: =HLOOKUP(F$2,Supuestos!$D$3:$H$59,$B34,0)*E35 -> 0 | G34: =HLOOKUP(G$2,Supuestos!$D$3:$H$59,$B34,0)*F35 -> 0 | H34: =HLOOKUP(H$2,Supuestos!$D$3:$H$59,$B34,0)*G35 -> 0 | I34: =HLOOKUP(I$2,Supuestos!$D$3:$H$59,$B34,0)*H35 -> 0 | J34: =HLOOKUP(J$2,Supuestos!$D$3:$H$59,$B34,0)*I35 -> 0 | K34: =HLOOKUP(K$2,Supuestos!$D$3:$H$59,$B34,0)*J35 -> 0 | L34: =HLOOKUP(L$2,Supuestos!$D$3:$H$59,$B34,0)*K35 -> 3 | M34: =HLOOKUP(M$2,Supuestos!$D$3:$H$59,$B34,0)*L35 -> 0 | ... BM34: =HLOOKUP(BM$2,Supuestos!$D$3:$H$59,$B34,0)*BL35 -> 0
C35: ¿Ciclo completo? | E35: =IF(F$4=$E$25,1,IF(SUM(E40:$F40)<E38,0,IF(MOD(SUM(E$26:$F40)/E38,INT(SUM(E$26:$F40)/E38))=0,1,0))) -> 0 | F35: =IF(G$4=$E$39,1,IF(SUM($F40:F40)<F38,0,IF(MOD(SUM($F40:F40)/F38,INT(SUM($F40:F40)/F38))=0,1,0))) -> 0 | G35: =IF(H$4=$E$39,1,IF(SUM($F40:G40)<G38,0,IF(MOD(SUM($F40:G40)/G38,INT(SUM($F40:G40)/G38))=0,1,0))) -> 0 | H35: =IF(I$4=$E$39,1,IF(SUM($F40:H40)<H38,0,IF(MOD(SUM($F40:H40)/H38,INT(SUM($F40:H40)/H38))=0,1,0))) -> 0 | I35: =IF(J$4=$E$39,1,IF(SUM($F40:I40)<I38,0,IF(MOD(SUM($F40:I40)/I38,INT(SUM($F40:I40)/I38))=0,1,0))) -> 0 | J35: =IF(K$4=$E$39,1,IF(SUM($F40:J40)<J38,0,IF(MOD(SUM($F40:J40)/J38,INT(SUM($F40:J40)/J38))=0,1,0))) -> 0 | K35: =IF(L$4=$E$39,1,IF(SUM($F40:K40)<K38,0,IF(MOD(SUM($F40:K40)/K38,INT(SUM($F40:K40)/K38))=0,1,0))) -> 1 | L35: =IF(M$4=$E$39,1,IF(SUM($F40:L40)<L38,0,IF(MOD(SUM($F40:L40)/L38,INT(SUM($F40:L40)/L38))=0,1,0))) -> 0 | M35: =IF(N$4=$E$39,1,IF(SUM($F40:M40)<M38,0,IF(MOD(SUM($F40:M40)/M38,INT(SUM($F40:M40)/M38))=0,1,0))) -> 0 | ... BM35: =IF(BN$4=$E$39,1,IF(SUM($F40:BM40)<BM38,0,IF(MOD(SUM($F40:BM40)/BM38,INT(SUM($F40:BM40)/BM38))=0,1,0))) -> 1
C36: Licencias a dar de baja | F36: =IF(ISERROR(HLOOKUP(F$4,$F$33:R$37,2,0))=TRUE,0,HLOOKUP(F$4,$F$33:R$37,2,0)) -> 0 | G36: =IF(ISERROR(HLOOKUP(G$4,$F$33:S$37,2,0))=TRUE,0,HLOOKUP(G$4,$F$33:S$37,2,0)) -> 0 | H36: =IF(ISERROR(HLOOKUP(H$4,$F$33:T$37,2,0))=TRUE,0,HLOOKUP(H$4,$F$33:T$37,2,0)) -> 0 | I36: =IF(ISERROR(HLOOKUP(I$4,$F$33:U$37,2,0))=TRUE,0,HLOOKUP(I$4,$F$33:U$37,2,0)) -> 0 | J36: =IF(ISERROR(HLOOKUP(J$4,$F$33:V$37,2,0))=TRUE,0,HLOOKUP(J$4,$F$33:V$37,2,0)) -> 0 | K36: =IF(ISERROR(HLOOKUP(K$4,$F$33:W$37,2,0))=TRUE,0,HLOOKUP(K$4,$F$33:W$37,2,0)) -> 0 | L36: =IF(ISERROR(HLOOKUP(L$4,$F$33:X$37,2,0))=TRUE,0,HLOOKUP(L$4,$F$33:X$37,2,0)) -> 0 | M36: =IF(ISERROR(HLOOKUP(M$4,$F$33:Y$37,2,0))=TRUE,0,HLOOKUP(M$4,$F$33:Y$37,2,0)) -> 0 | ... BM36: =IF(ISERROR(HLOOKUP(BM$4,$F$33:BY$37,2,0))=TRUE,0,HLOOKUP(BM$4,$F$33:BY$37,2,0)) -> 0
C37: Licencias corrientes | E37: =E34 -> 0 | F37: =F34-F36 -> 0 | G37: =F37+G34-G36 -> 0 | H37: =G37+H34-H36 -> 0 | I37: =H37+I34-I36 -> 0 | J37: =I37+J34-J36 -> 0 | K37: =J37+K34-K36 -> 0 | L37: =K37+L34-L36 -> 3 | M37: =L37+M34-M36 -> 3 | N37: =M37+N34-N36 -> 3 | ... BM37: =BL37+BM34-BM36 -> 18
C38: Duración promedio (meses) | E38: 6 | F38: =E38 -> 6 | G38: =F38 -> 6 | H38: =G38 -> 6 | I38: =H38 -> 6 | J38: =I38 -> 6 | K38: =J38 -> 6 | L38: =K38 -> 6 | M38: =L38 -> 6 | ... BM38: =BL38 -> 6
C39: Inicio (mes) | E39: =Supuestos!D81 -> 7
C40: Activo | E40: 0 | F40: =IF(E40=1,E40,IF($E39=F$4,1,0)) -> 0 | G40: =IF(F40=1,F40,IF($E39=G$4,1,0)) -> 0 | H40: =IF(G40=1,G40,IF($E39=H$4,1,0)) -> 0 | I40: =IF(H40=1,H40,IF($E39=I$4,1,0)) -> 0 | J40: =IF(I40=1,I40,IF($E39=J$4,1,0)) -> 0 | K40: =IF(J40=1,J40,IF($E39=K$4,1,0)) -> 0 | L40: =IF(K40=1,K40,IF($E39=L$4,1,0)) -> 1 | M40: =IF(L40=1,L40,IF($E39=M$4,1,0)) -> 1 | ... BM40: =IF(BL40=1,BL40,IF($E39=BM$4,1,0)) -> 1
C42: Segmentación avanzada | F42: =(F43*F48) -> 0 | G42: =(G43*G48) -> 0 | H42: =(H43*H48) -> 0 | I42: =(I43*I48) -> 0 | J42: =(J43*J48) -> 0 | K42: =(K43*K48) -> 0 | L42: =(L43*L48) -> 0 | M42: =(M43*M48) -> 0 | ... BM42: =(BM43*BM48) -> 0
B43: =MATCH(C43,Supuestos!$B$3:$B$149,0) -> 54 | C43: =Supuestos!B56 -> Precio segmentación avanzada | E43: =Supuestos!D56 -> 5.4 | F43: =HLOOKUP(F$2,Supuestos!$D$3:$H$59,$B$43,0) -> 5.4 | G43: =HLOOKUP(G$2,Supuestos!$D$3:$H$59,$B$43,0) -> 5.4 | H43: =HLOOKUP(H$2,Supuestos!$D$3:$H$59,$B$43,0) -> 5.4 | I43: =HLOOKUP(I$2,Supuestos!$D$3:$H$59,$B$43,0) -> 5.4 | J43: =HLOOKUP(J$2,Supuestos!$D$3:$H$59,$B$43,0) -> 5.4 | K43: =HLOOKUP(K$2,Supuestos!$D$3:$H$59,$B$43,0) -> 5.4 | L43: =HLOOKUP(L$2,Supuestos!$D$3:$H$59,$B$43,0) -> 5.4 | M43: =HLOOKUP(M$2,Supuestos!$D$3:$H$59,$B$43,0) -> 5.4 | ... BM43: =HLOOKUP(BM$2,Supuestos!$D$3:$H$59,$B$43,0) -> 6.1
B44: =MATCH(C44,Supuestos!$B$3:$B$149,0) -> 45 | C44: Conversión Básicas | E44: =Supuestos!I47 -> 0.2 | F44: =HLOOKUP(F$2,Supuestos!$D$3:$H$59,$B44,0) -> 0.2 | G44: =HLOOKUP(G$2,Supuestos!$D$3:$H$59,$B44,0) -> 0.2 | H44: =HLOOKUP(H$2,Supuestos!$D$3:$H$59,$B44,0) -> 0.2 | I44: =HLOOKUP(I$2,Supuestos!$D$3:$H$59,$B44,0) -> 0.2 | J44: =HLOOKUP(J$2,Supuestos!$D$3:$H$59,$B44,0) -> 0.2 | K44: =HLOOKUP(K$2,Supuestos!$D$3:$H$59,$B44,0) -> 0.2 | L44: =HLOOKUP(L$2,Supuestos!$D$3:$H$59,$B44,0) -> 0.2 | M44: =HLOOKUP(M$2,Supuestos!$D$3:$H$59,$B44,0) -> 0.2 | ... BM44: =HLOOKUP(BM$2,Supuestos!$D$3:$H$59,$B44,0) -> 0.2
...

Sheet Equipo Núcleo
A1: ='Flujo de Caja'!$A$1 -> valores $ en COP '000,000 | F1: ='Ingresos detallado'!F1 -> Año | G1: ='Ingresos detallado'!G1 -> Año | H1: ='Ingresos detallado'!H1 -> Año | I1: ='Ingresos detallado'!I1 -> Año | J1: ='Ingresos detallado'!J1 -> Año | K1: ='Ingresos detallado'!K1 -> Año | L1: ='Ingresos detallado'!L1 -> Año | M1: ='Ingresos detallado'!M1 -> Año | ... BM1: ='Ingresos detallado'!BM1 -> Año
F2: ='Ingresos detallado'!F2 -> 1 | G2: ='Ingresos detallado'!G2 -> 1 | H2: ='Ingresos detallado'!H2 -> 1 | I2: ='Ingresos detallado'!I2 -> 1 | J2: ='Ingresos detallado'!J2 -> 1 | K2: ='Ingresos detallado'!K2 -> 1 | L2: ='Ingresos detallado'!L2 -> 1 | M2: ='Ingresos detallado'!M2 -> 1 | ... BM2: ='Ingresos detallado'!BM2 -> 5
F3: ='Ingresos detallado'!F3 -> Mes | G3: ='Ingresos detallado'!G3 -> Mes | H3: ='Ingresos detallado'!H3 -> Mes | I3: ='Ingresos detallado'!I3 -> Mes | J3: ='Ingresos detallado'!J3 -> Mes | K3: ='Ingresos detallado'!K3 -> Mes | L3: ='Ingresos detallado'!L3 -> Mes | M3: ='Ingresos detallado'!M3 -> Mes | ... BM3: ='Ingresos detallado'!BM3 -> Mes
F4: ='Ingresos detallado'!F4 -> 1 | G4: ='Ingresos detallado'!G4 -> 2 | H4: ='Ingresos detallado'!H4 -> 3 | I4: ='Ingresos detallado'!I4 -> 4 | J4: ='Ingresos detallado'!J4 -> 5 | K4: ='Ingresos detallado'!K4 -> 6 | L4: ='Ingresos detallado'!L4 -> 7 | M4: ='Ingresos detallado'!M4 -> 8 | ... BM4: ='Ingresos detallado'!BM4 -> 60
B6: Total Equipo Núcleo | F6: =F9+F17+F26+F34 -> 8 | G6: =G9+G17+G26+G34 -> 8 | H6: =H9+H17+H26+H34 -> 8 | I6: =I9+I17+I26+I34 -> 8 | J6: =J9+J17+J26+J34 -> 13 | K6: =K9+K17+K26+K34 -> 13 | L6: =L9+L17+L26+L34 -> 13 | M6: =M9+M17+M26+M34 -> 13 | ... BM6: =BM9+BM17+BM26+BM34 -> 47.27137
B7: =MATCH(C7,Supuestos!$B$3:$B$154,0) -> 4 | C7: =Supuestos!B6 -> Costos administrativos | D7: Administrativos | F7: =HLOOKUP(F$2,Supuestos!$D$3:$H$75,$B$7,0)*F6 -> 0.32 | G7: =HLOOKUP(G$2,Supuestos!$D$3:$H$75,$B$7,0)*G6 -> 0.32 | H7: =HLOOKUP(H$2,Supuestos!$D$3:$H$75,$B$7,0)*H6 -> 0.32 | I7: =HLOOKUP(I$2,Supuestos!$D$3:$H$75,$B$7,0)*I6 -> 0.32 | J7: =HLOOKUP(J$2,Supuestos!$D$3:$H$75,$B$7,0)*J6 -> 0.52 | K7: =HLOOKUP(K$2,Supuestos!$D$3:$H$75,$B$7,0)*K6 -> 0.52 | L7: =HLOOKUP(L$2,Supuestos!$D$3:$H$75,$B$7,0)*L6 -> 0.52 | M7: =HLOOKUP(M$2,Supuestos!$D$3:$H$75,$B$7,0)*M6 -> 0.52 | ... BM7: =HLOOKUP(BM$2,Supuestos!$D$3:$H$75,$B$7,0)*BM6 -> 1.8908548
C9: Dirección | F9: =(F10*(1+F11))*F14*F15 -> 8 | G9: =(G10*(1+G11))*G14*G15 -> 8 | H9: =(H10*(1+H11))*H14*H15 -> 8 | I9: =(I10*(1+I11))*I14*I15 -> 8 | J9: =(J10*(1+J11))*J14*J15 -> 8 | K9: =(K10*(1+K11))*K14*K15 -> 8 | L9: =(L10*(1+L11))*L14*L15 -> 8 | M9: =(M10*(1+M11))*M14*M15 -> 8 | ... BM9: =(BM10*(1+BM11))*BM14*BM15 -> 9.0040705
B10: =MATCH(C10,Supuestos!$B$3:$B$154,0) -> 61 | C10: Salario Dirección | E10: =Supuestos!D63 -> 8 | F10: =HLOOKUP(F$2,Supuestos!$D$3:$H$75,$B$10,0) -> 8 | G10: =HLOOKUP(G$2,Supuestos!$D$3:$H$75,$B$10,0) -> 8 | H10: =HLOOKUP(H$2,Supuestos!$D$3:$H$75,$B$10,0) -> 8 | I10: =HLOOKUP(I$2,Supuestos!$D$3:$H$75,$B$10,0) -> 8 | J10: =HLOOKUP(J$2,Supuestos!$D$3:$H$75,$B$10,0) -> 8 | K10: =HLOOKUP(K$2,Supuestos!$D$3:$H$75,$B$10,0) -> 8 | L10: =HLOOKUP(L$2,Supuestos!$D$3:$H$75,$B$10,0) -> 8 | M10: =HLOOKUP(M$2,Supuestos!$D$3:$H$75,$B$10,0) -> 8 | ... BM10: =HLOOKUP(BM$2,Supuestos!$D$3:$H$75,$B$10,0) -> 9.0040705
B11: =MATCH(C11,Supuestos!$B$3:$B$154,0) -> 3 | C11: Carga prestacional | F11: =HLOOKUP(F$2,Supuestos!$D$3:$H$181,$B11,0) -> 0 | G11: =HLOOKUP(G$2,Supuestos!$D$3:$H$181,$B$11,0) -> 0 | H11: =HLOOKUP(H$2,Supuestos!$D$3:$H$181,$B$11,0) -> 0 | I11: =HLOOKUP(I$2,Supuestos!$D$3:$H$181,$B$11,0) -> 0 | J11: =HLOOKUP(J$2,Supuestos!$D$3:$H$181,$B$11,0) -> 0 | K11: =HLOOKUP(K$2,Supuestos!$D$3:$H$181,$B$11,0) -> 0 | L11: =HLOOKUP(L$2,Supuestos!$D$3:$H$181,$B$11,0) -> 0 | M11: =HLOOKUP(M$2,Supuestos!$D$3:$H$181,$B$11,0) -> 0 | N11: =HLOOKUP(N$2,Supuestos!$D$3:$H$181,$B$11,0) -> 0 | ... BM11: =HLOOKUP(BM$2,Supuestos!$D$3:$H$181,$B$11,0) -> 0
C12: Renovación (meses) | E12: 12
C13: Inicio (mes) | E13: =Supuestos!D64 -> 1
B14: =MATCH(C14,Supuestos!$B$3:$B$154,0) -> 63 | C14: Cantidad Direccion plataforma | E14: =Supuestos!D65 -> 1 | F14: =HLOOKUP(F$2,Supuestos!$D$3:$H$155,$B$14,0) -> 1 | G14: =HLOOKUP(G$2,Supuestos!$D$3:$H$155,$B$14,0) -> 1 | H14: =HLOOKUP(H$2,Supuestos!$D$3:$H$155,$B$14,0) -> 1 | I14: =HLOOKUP(I$2,Supuestos!$D$3:$H$155,$B$14,0) -> 1 | J14: =HLOOKUP(J$2,Supuestos!$D$3:$H$155,$B$14,0) -> 1 | K14: =HLOOKUP(K$2,Supuestos!$D$3:$H$155,$B$14,0) -> 1 | L14: =HLOOKUP(L$2,Supuestos!$D$3:$H$155,$B$14,0) -> 1 | M14: =HLOOKUP(M$2,Supuestos!$D$3:$H$155,$B$14,0) -> 1 | ... BM14: =HLOOKUP(BM$2,Supuestos!$D$3:$H$155,$B$14,0) -> 1
C15: Activo | E15: 0 | F15: =IF(E15=1,E15,IF($E13=F$4,1,0)) -> 1 | G15: =IF(F15=1,F15,IF($E13=G$4,1,0)) -> 1 | H15: =IF(G15=1,G15,IF($E13=H$4,1,0)) -> 1 | I15: =IF(H15=1,H15,IF($E13=I$4,1,0)) -> 1 | J15: =IF(I15=1,I15,IF($E13=J$4,1,0)) -> 1 | K15: =IF(J15=1,J15,IF($E13=K$4,1,0)) -> 1 | L15: =IF(K15=1,K15,IF($E13=L$4,1,0)) -> 1 | M15: =IF(L15=1,L15,IF($E13=M$4,1,0)) -> 1 | ... BM15: =IF(BL15=1,BL15,IF($E13=BM$4,1,0)) -> 1
C17: Product Owner | F17: =(F18*(1+F19))*F22*F23 -> 0 | G17: =(G18*(1+G19))*G22*G23 -> 0 | H17: =(H18*(1+H19))*H22*H23 -> 0 | I17: =(I18*(1+I19))*I22*I23 -> 0 | J17: =(J18*(1+J19))*J22*J23 -> 5 | K17: =(K18*(1+K19))*K22*K23 -> 5 | L17: =(L18*(1+L19))*L22*L23 -> 5 | M17: =(M18*(1+M19))*M22*M23 -> 5 | ... BM17: =(BM18*(1+BM19))*BM22*BM23 -> 11.255088
B18: =MATCH(C18,Supuestos!$B$3:$B$154,0) -> 64 | C18: Salario Product Owner | E18: =Supuestos!D66 -> 5 | F18: =HLOOKUP(F$2,Supuestos!$D$3:$H$75,$B$18,0) -> 5 | G18: =HLOOKUP(G$2,Supuestos!$D$3:$H$75,$B$18,0) -> 5 | H18: =HLOOKUP(H$2,Supuestos!$D$3:$H$75,$B$18,0) -> 5 | I18: =HLOOKUP(I$2,Supuestos!$D$3:$H$75,$B$18,0) -> 5 | J18: =HLOOKUP(J$2,Supuestos!$D$3:$H$75,$B$18,0) -> 5 | K18: =HLOOKUP(K$2,Supuestos!$D$3:$H$75,$B$18,0) -> 5 | L18: =HLOOKUP(L$2,Supuestos!$D$3:$H$75,$B$18,0) -> 5 | M18: =HLOOKUP(M$2,Supuestos!$D$3:$H$75,$B$18,0) -> 5 | ... BM18: =HLOOKUP(BM$2,Supuestos!$D$3:$H$75,$B$18,0) -> 5.6275441
B19: =MATCH(C19,Supuestos!$B$3:$B$154,0) -> 3 | C19: Carga prestacional | F19: =HLOOKUP(F$2,Supuestos!$D$3:$H$181,$B19,0) -> 0 | G19: =HLOOKUP(G$2,Supuestos!$D$3:$H$181,$B19,0) -> 0 | H19: =HLOOKUP(H$2,Supuestos!$D$3:$H$181,$B19,0) -> 0 | I19: =HLOOKUP(I$2,Supuestos!$D$3:$H$181,$B19,0) -> 0 | J19: =HLOOKUP(J$2,Supuestos!$D$3:$H$181,$B19,0) -> 0 | K19: =HLOOKUP(K$2,Supuestos!$D$3:$H$181,$B19,0) -> 0 | L19: =HLOOKUP(L$2,Supuestos!$D$3:$H$181,$B19,0) -> 0 | M19: =HLOOKUP(M$2,Supuestos!$D$3:$H$181,$B19,0) -> 0 | ... BM19: =HLOOKUP(BM$2,Supuestos!$D$3:$H$181,$B19,0) -> 0
C20: Renovación (meses) | E20: 60
C21: Inicio (mes) | E21: =Supuestos!D67 -> 5
B22: =MATCH(C22,Supuestos!$B$3:$B$154,0) -> 66 | C22: Cantidad Product Owner | E22: =Supuestos!D68 -> 1 | F22: =HLOOKUP(F$2,Supuestos!$D$3:$H$155,$B$22,0) -> 1 | G22: =HLOOKUP(G$2,Supuestos!$D$3:$H$155,$B$22,0) -> 1 | H22: =HLOOKUP(H$2,Supuestos!$D$3:$H$155,$B$22,0) -> 1 | I22: =HLOOKUP(I$2,Supuestos!$D$3:$H$155,$B$22,0) -> 1 | J22: =HLOOKUP(J$2,Supuestos!$D$3:$H$155,$B$22,0) -> 1 | K22: =HLOOKUP(K$2,Supuestos!$D$3:$H$155,$B$22,0) -> 1 | L22: =HLOOKUP(L$2,Supuestos!$D$3:$H$155,$B$22,0) -> 1 | M22: =HLOOKUP(M$2,Supuestos!$D$3:$H$155,$B$22,0) -> 1 | ... BM22: =HLOOKUP(BM$2,Supuestos!$D$3:$H$155,$B$22,0) -> 2
C23: Activo | E23: 0 | F23: =IF(E23=1,E23,IF($E21=F$4,1,0)) -> 0 | G23: =IF(F23=1,F23,IF($E21=G$4,1,0)) -> 0 | H23: =IF(G23=1,G23,IF($E21=H$4,1,0)) -> 0 | I23: =IF(H23=1,H23,IF($E21=I$4,1,0)) -> 0 | J23: =IF(I23=1,I23,IF($E21=J$4,1,0)) -> 1 | K23: =IF(J23=1,J23,IF($E21=K$4,1,0)) -> 1 | L23: =IF(K23=1,K23,IF($E21=L$4,1,0)) -> 1 | M23: =IF(L23=1,L23,IF($E21=M$4,1,0)) -> 1 | ... BM23: =IF(BL23=1,BL23,IF($E21=BM$4,1,0)) -> 1
C26: Apoyo administrativo | F26: =(F27*(1+F28))*F31*F32 -> 0 | G26: =(G27*(1+G28))*G31*G32 -> 0 | H26: =(H27*(1+H28))*H31*H32 -> 0 | I26: =(I27*(1+I28))*I31*I32 -> 0 | J26: =(J27*(1+J28))*J31*J32 -> 0 | K26: =(K27*(1+K28))*K31*K32 -> 0 | L26: =(L27*(1+L28))*L31*L32 -> 0 | M26: =(M27*(1+M28))*M31*M32 -> 0 | ... BM26: =(BM27*(1+BM28))*BM31*BM32 -> 22.510176
B27: =MATCH(C27,Supuestos!$B$3:$B$154,0) -> 67 | C27: Salario apoyo plataforma | E27: =Supuestos!D69 -> 2.5 | F27: =HLOOKUP(F$2,Supuestos!$D$3:$H$75,$B$27,0) -> 2.5 | G27: =HLOOKUP(G$2,Supuestos!$D$3:$H$75,$B$27,0) -> 2.5 | H27: =HLOOKUP(H$2,Supuestos!$D$3:$H$75,$B$27,0) -> 2.5 | I27: =HLOOKUP(I$2,Supuestos!$D$3:$H$75,$B$27,0) -> 2.5 | J27: =HLOOKUP(J$2,Supuestos!$D$3:$H$75,$B$27,0) -> 2.5 | K27: =HLOOKUP(K$2,Supuestos!$D$3:$H$75,$B$27,0) -> 2.5 | L27: =HLOOKUP(L$2,Supuestos!$D$3:$H$75,$B$27,0) -> 2.5 | M27: =HLOOKUP(M$2,Supuestos!$D$3:$H$75,$B$27,0) -> 2.5 | ... BM27: =HLOOKUP(BM$2,Supuestos!$D$3:$H$75,$B$27,0) -> 2.813772
B28: =MATCH(C28,Supuestos!$B$3:$B$154,0) -> 3 | C28: Carga prestacional | F28: =HLOOKUP(F$2,Supuestos!$D$3:$H$181,$B28,0) -> 0 | G28: =HLOOKUP(G$2,Supuestos!$D$3:$H$181,$B28,0) -> 0 | H28: =HLOOKUP(H$2,Supuestos!$D$3:$H$181,$B28,0) -> 0 | I28: =HLOOKUP(I$2,Supuestos!$D$3:$H$181,$B28,0) -> 0 | J28: =HLOOKUP(J$2,Supuestos!$D$3:$H$181,$B28,0) -> 0 | K28: =HLOOKUP(K$2,Supuestos!$D$3:$H$181,$B28,0) -> 0 | L28: =HLOOKUP(L$2,Supuestos!$D$3:$H$181,$B28,0) -> 0 | M28: =HLOOKUP(M$2,Supuestos!$D$3:$H$181,$B28,0) -> 0 | ... BM28: =HLOOKUP(BM$2,Supuestos!$D$3:$H$181,$B28,0) -> 0
C29: Renovación (meses) | E29: 60
C30: Inicio (mes) | E30: =Supuestos!D70 -> 13
B31: =MATCH(C31,Supuestos!$B$3:$B$154,0) -> 69 | C31: Cantidad apoyo plataforma | E31: =Supuestos!D71 -> 1 | F31: =HLOOKUP(F$2,Supuestos!$D$3:$H$171,$B$31,0) -> 1 | G31: =HLOOKUP(G$2,Supuestos!$D$3:$H$171,$B$31,0) -> 1 | H31: =HLOOKUP(H$2,Supuestos!$D$3:$H$171,$B$31,0) -> 1 | I31: =HLOOKUP(I$2,Supuestos!$D$3:$H$171,$B$31,0) -> 1 | J31: =HLOOKUP(J$2,Supuestos!$D$3:$H$171,$B$31,0) -> 1 | K31: =HLOOKUP(K$2,Supuestos!$D$3:$H$171,$B$31,0) -> 1 | L31: =HLOOKUP(L$2,Supuestos!$D$3:$H$171,$B$31,0) -> 1 | M31: =HLOOKUP(M$2,Supuestos!$D$3:$H$171,$B$31,0) -> 1 | ... BM31: =HLOOKUP(BM$2,Supuestos!$D$3:$H$171,$B$31,0) -> 8
C32: Activo | E32: 0 | F32: =IF(E32=1,E32,IF($E30=F$4,1,0)) -> 0 | G32: =IF(F32=1,F32,IF($E30=G$4,1,0)) -> 0 | H32: =IF(G32=1,G32,IF($E30=H$4,1,0)) -> 0 | I32: =IF(H32=1,H32,IF($E30=I$4,1,0)) -> 0 | J32: =IF(I32=1,I32,IF($E30=J$4,1,0)) -> 0 | K32: =IF(J32=1,J32,IF($E30=K$4,1,0)) -> 0 | L32: =IF(K32=1,K32,IF($E30=L$4,1,0)) -> 0 | M32: =IF(L32=1,L32,IF($E30=M$4,1,0)) -> 0 | ... BM32: =IF(BL32=1,BL32,IF($E30=BM$4,1,0)) -> 1
C34: Gestión Comercial | F34: =(F35*(1+F36))*F39*F40 -> 0 | G34: =(G35*(1+G36))*G39*G40 -> 0 | H34: =(H35*(1+H36))*H39*H40 -> 0 | I34: =(I35*(1+I36))*I39*I40 -> 0 | J34: =(J35*(1+J36))*J39*J40 -> 0 | K34: =(K35*(1+K36))*K39*K40 -> 0 | L34: =(L35*(1+L36))*L39*L40 -> 0 | M34: =(M35*(1+M36))*M39*M40 -> 0 | ... BM34: =(BM35*(1+BM36))*BM39*BM40 -> 4.5020352
B35: =MATCH(C35,Supuestos!$B$3:$B$154,0) -> 70 | C35: Salario Gestión Comercial | E35: =Supuestos!D72 -> 4 | F35: =HLOOKUP(F$2,Supuestos!$D$3:$H$75,$B$35,0) -> 4 | G35: =HLOOKUP(G$2,Supuestos!$D$3:$H$75,$B$35,0) -> 4 | H35: =HLOOKUP(H$2,Supuestos!$D$3:$H$75,$B$35,0) -> 4 | I35: =HLOOKUP(I$2,Supuestos!$D$3:$H$75,$B$35,0) -> 4 | J35: =HLOOKUP(J$2,Supuestos!$D$3:$H$75,$B$35,0) -> 4 | K35: =HLOOKUP(K$2,Supuestos!$D$3:$H$75,$B$35,0) -> 4 | L35: =HLOOKUP(L$2,Supuestos!$D$3:$H$75,$B$35,0) -> 4 | M35: =HLOOKUP(M$2,Supuestos!$D$3:$H$75,$B$35,0) -> 4 | ... BM35: =HLOOKUP(BM$2,Supuestos!$D$3:$H$75,$B$35,0) -> 4.5020352
B36: =MATCH(C36,Supuestos!$B$3:$B$154,0) -> 3 | C36: Carga prestacional | F36: =HLOOKUP(F$2,Supuestos!$D$3:$H$181,$B36,0) -> 0 | G36: =HLOOKUP(G$2,Supuestos!$D$3:$H$181,$B36,0) -> 0 | H36: =HLOOKUP(H$2,Supuestos!$D$3:$H$181,$B36,0) -> 0 | I36: =HLOOKUP(I$2,Supuestos!$D$3:$H$181,$B36,0) -> 0 | J36: =HLOOKUP(J$2,Supuestos!$D$3:$H$181,$B36,0) -> 0 | K36: =HLOOKUP(K$2,Supuestos!$D$3:$H$181,$B36,0) -> 0 | L36: =HLOOKUP(L$2,Supuestos!$D$3:$H$181,$B36,0) -> 0 | M36: =HLOOKUP(M$2,Supuestos!$D$3:$H$181,$B36,0) -> 0 | ... BM36: =HLOOKUP(BM$2,Supuestos!$D$3:$H$181,$B36,0) -> 0
C37: Renovación (meses) | E37: 60
C38: Inicio (mes) | E38: =Supuestos!D73 -> 25
B39: =MATCH(C39,Supuestos!$B$3:$B$154,0) -> 72 | C39: Cantidad Comercial plataforma | E39: =Supuestos!D74 -> 1 | F39: =HLOOKUP(F$2,Supuestos!$D$3:$H$155,$B$39,0) -> 1 | G39: =HLOOKUP(G$2,Supuestos!$D$3:$H$155,$B$39,0) -> 1 | H39: =HLOOKUP(H$2,Supuestos!$D$3:$H$155,$B$39,0) -> 1 | I39: =HLOOKUP(I$2,Supuestos!$D$3:$H$155,$B$39,0) -> 1 | J39: =HLOOKUP(J$2,Supuestos!$D$3:$H$155,$B$39,0) -> 1 | K39: =HLOOKUP(K$2,Supuestos!$D$3:$H$155,$B$39,0) -> 1 | L39: =HLOOKUP(L$2,Supuestos!$D$3:$H$155,$B$39,0) -> 1 | M39: =HLOOKUP(M$2,Supuestos!$D$3:$H$155,$B$39,0) -> 1 | ... BM39: =HLOOKUP(BM$2,Supuestos!$D$3:$H$155,$B$39,0) -> 1
C40: Activo | E40: 0 | F40: =IF(E40=1,E40,IF($E38=F$4,1,0)) -> 0 | G40: =IF(F40=1,F40,IF($E38=G$4,1,0)) -> 0 | H40: =IF(G40=1,G40,IF($E38=H$4,1,0)) -> 0 | I40: =IF(H40=1,H40,IF($E38=I$4,1,0)) -> 0 | J40: =IF(I40=1,I40,IF($E38=J$4,1,0)) -> 0 | K40: =IF(J40=1,J40,IF($E38=K$4,1,0)) -> 0 | L40: =IF(K40=1,K40,IF($E38=L$4,1,0)) -> 0 | M40: =IF(L40=1,L40,IF($E38=M$4,1,0)) -> 0 | ... BM40: =IF(BL40=1,BL40,IF($E38=BM$4,1,0)) -> 1

Sheet Plataforma
A1: ='Flujo de Caja'!$A$1 -> valores $ en COP '000,000 | F1: ='Ingresos detallado'!F1 -> Año | G1: ='Ingresos detallado'!G1 -> Año | H1: ='Ingresos detallado'!H1 -> Año | I1: ='Ingresos detallado'!I1 -> Año | J1: ='Ingresos detallado'!J1 -> Año | K1: ='Ingresos detallado'!K1 -> Año | L1: ='Ingresos detallado'!L1 -> Año | M1: ='Ingresos detallado'!M1 -> Año | ... BM1: ='Ingresos detallado'!BM1 -> Año
F2: ='Ingresos detallado'!F2 -> 1 | G2: ='Ingresos detallado'!G2 -> 1 | H2: ='Ingresos detallado'!H2 -> 1 | I2: ='Ingresos detallado'!I2 -> 1 | J2: ='Ingresos detallado'!J2 -> 1 | K2: ='Ingresos detallado'!K2 -> 1 | L2: ='Ingresos detallado'!L2 -> 1 | M2: ='Ingresos detallado'!M2 -> 1 | ... BM2: ='Ingresos detallado'!BM2 -> 5
F3: ='Ingresos detallado'!F3 -> Mes | G3: ='Ingresos detallado'!G3 -> Mes | H3: ='Ingresos detallado'!H3 -> Mes | I3: ='Ingresos detallado'!I3 -> Mes | J3: ='Ingresos detallado'!J3 -> Mes | K3: ='Ingresos detallado'!K3 -> Mes | L3: ='Ingresos detallado'!L3 -> Mes | M3: ='Ingresos detallado'!M3 -> Mes | ... BM3: ='Ingresos detallado'!BM3 -> Mes
F4: ='Ingresos detallado'!F4 -> 1 | G4: ='Ingresos detallado'!G4 -> 2 | H4: ='Ingresos detallado'!H4 -> 3 | I4: ='Ingresos detallado'!I4 -> 4 | J4: ='Ingresos detallado'!J4 -> 5 | K4: ='Ingresos detallado'!K4 -> 6 | L4: ='Ingresos detallado'!L4 -> 7 | M4: ='Ingresos detallado'!M4 -> 8 | ... BM4: ='Ingresos detallado'!BM4 -> 60
B6: Total Costos Plataforma | F6: =F9+F23+F28+F40 -> 0.58333333 | G6: =G9+G23+G28+G40 -> 0.58333333 | H6: =H9+H23+H28+H40 -> 0.58333333 | I6: =I9+I23+I28+I40 -> 0.58333333 | J6: =J9+J23+J28+J40 -> 0.58333333 | K6: =K9+K23+K28+K40 -> 0.58333333 | L6: =L9+L23+L28+L40 -> 8.5833333 | M6: =M9+M23+M28+M40 -> 8.5833333 | ... BM6: =BM9+BM23+BM28+BM40 -> 38.923846
B7: =MATCH(C7,Supuestos!$B$3:$B$154,0) -> 4 | C7: =Supuestos!B6 -> Costos administrativos | D7: Administrativos | F7: =HLOOKUP(F$2,Supuestos!$D$3:$H$75,$B$7,0)*F6 -> 0.023333333 | G7: =HLOOKUP(G$2,Supuestos!$D$3:$H$75,$B$7,0)*G6 -> 0.023333333 | H7: =HLOOKUP(H$2,Supuestos!$D$3:$H$75,$B$7,0)*H6 -> 0.023333333 | I7: =HLOOKUP(I$2,Supuestos!$D$3:$H$75,$B$7,0)*I6 -> 0.023333333 | J7: =HLOOKUP(J$2,Supuestos!$D$3:$H$75,$B$7,0)*J6 -> 0.023333333 | K7: =HLOOKUP(K$2,Supuestos!$D$3:$H$75,$B$7,0)*K6 -> 0.023333333 | L7: =HLOOKUP(L$2,Supuestos!$D$3:$H$75,$B$7,0)*L6 -> 0.34333333 | M7: =HLOOKUP(M$2,Supuestos!$D$3:$H$75,$B$7,0)*M6 -> 0.34333333 | ... BM7: =HLOOKUP(BM$2,Supuestos!$D$3:$H$75,$B$7,0)*BM6 -> 1.5569539
C9: Desarrollo de SW | F9: =(F10*F12)+(F13*F15)+(F16*F18)+(F19*F21) -> 0 | G9: =(G10*G12)+(G13*G15)+(G16*G18)+(G19*G21) -> 0 | H9: =(H10*H12)+(H13*H15)+(H16*H18)+(H19*H21) -> 0 | I9: =(I10*I12)+(I13*I15)+(I16*I18)+(I19*I21) -> 0 | J9: =(J10*J12)+(J13*J15)+(J16*J18)+(J19*J21) -> 0 | K9: =(K10*K12)+(K13*K15)+(K16*K18)+(K19*K21) -> 0 | L9: =(L10*L12)+(L13*L15)+(L16*L18)+(L19*L21) -> 8 | M9: =(M10*M12)+(M13*M15)+(M16*M18)+(M19*M21) -> 8 | ... BM9: =(BM10*BM12)+(BM13*BM15)+(BM16*BM18)+(BM19*BM21) -> 15.757123
B10: =MATCH(C10,Supuestos!$B$3:$B$181,0) -> 152 | C10: Desarrollo | E10: 8 | F10: =HLOOKUP(F$2,Supuestos!$D$3:$H$181,$B$10,0) -> 8 | G10: =HLOOKUP(G$2,Supuestos!$D$3:$H$181,$B$10,0) -> 8 | H10: =HLOOKUP(H$2,Supuestos!$D$3:$H$181,$B$10,0) -> 8 | I10: =HLOOKUP(I$2,Supuestos!$D$3:$H$181,$B$10,0) -> 8 | J10: =HLOOKUP(J$2,Supuestos!$D$3:$H$181,$B$10,0) -> 8 | K10: =HLOOKUP(K$2,Supuestos!$D$3:$H$181,$B$10,0) -> 8 | L10: =HLOOKUP(L$2,Supuestos!$D$3:$H$181,$B$10,0) -> 8 | M10: =HLOOKUP(M$2,Supuestos!$D$3:$H$181,$B$10,0) -> 8 | ... BM10: =HLOOKUP(BM$2,Supuestos!$D$3:$H$181,$B$10,0) -> 9.0040705
C11: Inicio (mes) | E11: =Supuestos!D155 -> 7
C12: Activo | E12: 0 | F12: =IF(E12=1,E12,IF($E11=F$4,1,0)) -> 0 | G12: =IF(F12=1,F12,IF($E11=G$4,1,0)) -> 0 | H12: =IF(G12=1,G12,IF($E11=H$4,1,0)) -> 0 | I12: =IF(H12=1,H12,IF($E11=I$4,1,0)) -> 0 | J12: =IF(I12=1,I12,IF($E11=J$4,1,0)) -> 0 | K12: =IF(J12=1,J12,IF($E11=K$4,1,0)) -> 0 | L12: =IF(K12=1,K12,IF($E11=L$4,1,0)) -> 1 | M12: =IF(L12=1,L12,IF($E11=M$4,1,0)) -> 1 | ... BM12: =IF(BL12=1,BL12,IF($E11=BM$4,1,0)) -> 1
B13: =MATCH(C13,Supuestos!$B$3:$B$181,0) -> 154 | C13: UX y UI | E13: 2 | F13: =HLOOKUP(F$2,Supuestos!$D$3:$H$181,$B13,0) -> 2 | G13: =HLOOKUP(G$2,Supuestos!$D$3:$H$181,$B13,0) -> 2 | H13: =HLOOKUP(H$2,Supuestos!$D$3:$H$181,$B13,0) -> 2 | I13: =HLOOKUP(I$2,Supuestos!$D$3:$H$181,$B13,0) -> 2 | J13: =HLOOKUP(J$2,Supuestos!$D$3:$H$181,$B13,0) -> 2 | K13: =HLOOKUP(K$2,Supuestos!$D$3:$H$181,$B13,0) -> 2 | L13: =HLOOKUP(L$2,Supuestos!$D$3:$H$181,$B13,0) -> 2 | M13: =HLOOKUP(M$2,Supuestos!$D$3:$H$181,$B13,0) -> 2 | ... BM13: =HLOOKUP(BM$2,Supuestos!$D$3:$H$181,$B13,0) -> 2.2510176
C14: Inicio (mes) | E14: =Supuestos!D157 -> 13
C15: Activo | E15: 0 | F15: =IF(E15=1,E15,IF($E14=F$4,1,0)) -> 0 | G15: =IF(F15=1,F15,IF($E14=G$4,1,0)) -> 0 | H15: =IF(G15=1,G15,IF($E14=H$4,1,0)) -> 0 | I15: =IF(H15=1,H15,IF($E14=I$4,1,0)) -> 0 | J15: =IF(I15=1,I15,IF($E14=J$4,1,0)) -> 0 | K15: =IF(J15=1,J15,IF($E14=K$4,1,0)) -> 0 | L15: =IF(K15=1,K15,IF($E14=L$4,1,0)) -> 0 | M15: =IF(L15=1,L15,IF($E14=M$4,1,0)) -> 0 | ... BM15: =IF(BL15=1,BL15,IF($E14=BM$4,1,0)) -> 1
B16: =MATCH(C16,Supuestos!$B$3:$B$181,0) -> 156 | C16: QA | E16: 2 | F16: =HLOOKUP(F$2,Supuestos!$D$3:$H$181,$B16,0) -> 2 | G16: =HLOOKUP(G$2,Supuestos!$D$3:$H$181,$B16,0) -> 2 | H16: =HLOOKUP(H$2,Supuestos!$D$3:$H$181,$B16,0) -> 2 | I16: =HLOOKUP(I$2,Supuestos!$D$3:$H$181,$B16,0) -> 2 | J16: =HLOOKUP(J$2,Supuestos!$D$3:$H$181,$B16,0) -> 2 | K16: =HLOOKUP(K$2,Supuestos!$D$3:$H$181,$B16,0) -> 2 | L16: =HLOOKUP(L$2,Supuestos!$D$3:$H$181,$B16,0) -> 2 | M16: =HLOOKUP(M$2,Supuestos!$D$3:$H$181,$B16,0) -> 2 | ... BM16: =HLOOKUP(BM$2,Supuestos!$D$3:$H$181,$B16,0) -> 2.2510176
C17: Inicio (mes) | E17: =Supuestos!D159 -> 13
