Workbook
Name \a: #REF!
Name \a: #REF!
Name \b: [1]INSUMOS!#REF!
Name \b: [1]INSUMOS!#REF!
Name \eliminar: [2]RESUM96!#REF!
Name \eliminar: [2]RESUM96!#REF!
Name \eliminar1: [2]RESUM96!#REF!
Name \eliminar1: [2]RESUM96!#REF!
Name \i: [1]INSUMOS!#REF!
Name \i: [1]INSUMOS!#REF!
Name \m: [1]INSUMOS!#REF!
Name \m: [1]INSUMOS!#REF!
Name \q: #REF!
Name \q: #REF!
Name \r: [1]INSUMOS!#REF!
Name \r: [1]INSUMOS!#REF!
Name \t: [1]INSUMOS!#REF!
Name \t: [1]INSUMOS!#REF!
Name \x: [1]INSUMOS!#REF!
Name \x: [1]INSUMOS!#REF!
Name \z: #REF!
Name _______________EST1: #REF!
Name _______________EST1: #REF!
Name _______________EST10: #REF!
Name _______________EST10: #REF!
Name _______________EST11: #REF!
Name _______________EST11: #REF!
Name _______________EST12: #REF!
Name _______________EST12: #REF!
Name _______________EST13: #REF!
Name _______________EST13: #REF!
Name _______________EST14: #REF!
Name _______________EST14: #REF!
Name _______________EST15: #REF!
Name _______________EST15: #REF!
Name _______________EST16: #REF!
Name _______________EST16: #REF!
Name _______________EST17: #REF!
Name _______________EST17: #REF!
Name _______________EST18: #REF!
Name _______________EST18: #REF!
Name _______________EST19: #REF!
Name _______________EST19: #REF!
Name _______________EST2: #REF!
Name _______________EST2: #REF!
Name _______________EST3: #REF!
Name _______________EST3: #REF!
Name _______________EST4: #REF!
Name _______________EST4: #REF!
Name _______________EST5: #REF!
Name _______________EST5: #REF!
Name _______________EST6: #REF!
Name _______________EST6: #REF!
Name _______________EST7: #REF!
Name _______________EST7: #REF!
Name _______________EST8: #REF!
Name _______________EST8: #REF!
Name _______________EST9: #REF!
Name _______________EST9: #REF!
Name _______________EXC1: #REF!

Sheet CRONOGRAMA
B1: PROGRAMACIÓN DE OBRAPARA LA EJECUCIÓN DE OBRAS DE MANTENIMIENTO DE LA PLANTA DE BENEFICIO ANIMAL DEL MUNICIPIO DE PALESTINA-CALDAS-
B2: Objeto: CONTRATAR A TODO COSTO OBRAS PARA LA ADECUACIÓN, MANTENIMIENTO Y SUMINISTRO E INSTALACIÓN DE EQUIPOS EN LA LÍNEA DE SACRIFICIO DE BOVINOS DE LA PLANTA DE BENEFICIO DE AUTOCONSUMO DEL MUNICIPIO DE PALESTINA."
A3: ITEM | B3: COD INT | C3: DESCRIPCIÓN | D3: INVERSIÓN | F3: PROGRANMACIÓN | G3: MES 1 | K3: MES 2 | O3: MES 3
A4: 1 | B4: 1 | C4: ADECUACIONES LOCATIVAS | G4: SEMANA 1 | H4: SEMANA 2 | I4: SEMANA 3 | J4: SEMANA 4 | K4: SEMANA 5 | L4: SEMANA 6 | M4: SEMANA 7 | N4: SEMANA 8 | O4: SEMANA 9 | P4: SEMANA 10 | Q4: SEMANA 11 | R4: SEMANA 12
A5: 1.2 | B5: 41.2 | C5: =VLOOKUP($B5,PRESUPUESTO!$C$3:$H$256,2,FALSE) -> DEMOLICIÓN PLACA DE CONTRAPISO EN CONCRETO SIMPLE. | D5: =VLOOKUP($B5,PRESUPUESTO!$C$3:$H$256,6,FALSE) -> 1519299 | F5: AVANCE | G5: 1
C6: =VLOOKUP($C6,PRESUPUESTO!$C$3:$H$256,2,FALSE) -> INSTALACIONES ELECTRICAS | D6: =VLOOKUP($C6,PRESUPUESTO!$C$3:$H$256,2,FALSE) -> INSTALACIONES ELECTRICAS | E6: =SUM(G6:R6) -> 1519299 | F6: INVERSIÓN | G6: =(D5*G5) -> 1519299
A7: 1.3 | B7: 41.3 | C7: =VLOOKUP($B7,PRESUPUESTO!$C$3:$H$256,2,FALSE) -> DEMOLICIÓN DE MUROS EN BLOQUE DE CEMENTO O LADRILLO | D7: =VLOOKUP($B7,PRESUPUESTO!$C$3:$H$256,6,FALSE) -> 5382207 | E7: =SUM(G7:R7) -> 1 | F7: AVANCE | G7: 1
C8: =VLOOKUP($C8,PRESUPUESTO!$C$3:$H$256,2,FALSE) -> INSTALACIONES ELECTRICAS | D8: =VLOOKUP($C8,PRESUPUESTO!$C$3:$H$256,2,FALSE) -> INSTALACIONES ELECTRICAS | E8: =SUM(G8:R8) -> 5382207 | F8: INVERSIÓN | G8: =(G7*D7) -> 5382207
A9: 1.6 | B9: 41.6 | C9: =VLOOKUP($B9,PRESUPUESTO!$C$3:$H$256,2,FALSE) -> DESMONTE DE ESTRUCTURA METALICA | D9: =VLOOKUP($B9,PRESUPUESTO!$C$3:$H$256,6,FALSE) -> 129504 | E9: =SUM(G9:R9) -> 1 | F9: AVANCE | G9: 0.7 | H9: 0.3
C10: =VLOOKUP($C10,PRESUPUESTO!$C$3:$H$256,2,FALSE) -> INSTALACIONES ELECTRICAS | D10: =VLOOKUP($C10,PRESUPUESTO!$C$3:$H$256,2,FALSE) -> INSTALACIONES ELECTRICAS | E10: =SUM(G10:R10) -> 129504 | F10: INVERSIÓN | G10: =($D9*G9) -> 90652.8 | H10: =($D9*H9) -> 38851.2
A11: 4.2 | B11: 43.2 | C11: =VLOOKUP($B11,PRESUPUESTO!$C$3:$H$256,2,FALSE) -> SUMINISTRO, TRASPORTE E INSTALACIÓN PUNTO SANITARIO EN DIAMETRO 4" | D11: =VLOOKUP($B11,PRESUPUESTO!$C$3:$H$256,6,FALSE) -> 373053 | E11: =SUM(G11:R11) -> 1 | F11: AVANCE | H11: 1
C12: =VLOOKUP($C12,PRESUPUESTO!$C$3:$H$256,2,FALSE) -> INSTALACIONES ELECTRICAS | D12: =VLOOKUP($C12,PRESUPUESTO!$C$3:$H$256,2,FALSE) -> INSTALACIONES ELECTRICAS | E12: =SUM(G12:R12) -> 373053 | F12: INVERSIÓN | H12: =($D11*H11) -> 373053
A13: 4.7 | B13: 43.3 | C13: =VLOOKUP($B13,PRESUPUESTO!$C$3:$H$256,2,FALSE) -> SUMINISTRO, TRASPORTE E INSTALACIÓN PUNTO SANITARIO EN DIAMETRO 2" | D13: =VLOOKUP($B13,PRESUPUESTO!$C$3:$H$256,6,FALSE) -> 804738 | E13: =SUM(G13:R13) -> 1 | F13: AVANCE | I13: 1
C14: =VLOOKUP($C14,PRESUPUESTO!$C$3:$H$256,2,FALSE) -> INSTALACIONES ELECTRICAS | D14: =VLOOKUP($C14,PRESUPUESTO!$C$3:$H$256,2,FALSE) -> INSTALACIONES ELECTRICAS | E14: =SUM(G14:R14) -> 804738 | F14: INVERSIÓN | I14: =($D13*I13) -> 804738
A15: 4.13 | B15: 43.4 | C15: =VLOOKUP($B15,PRESUPUESTO!$C$3:$H$256,2,FALSE) -> TRASLADO DE TANQUES DE AGUA | D15: =VLOOKUP($B15,PRESUPUESTO!$C$3:$H$256,6,FALSE) -> 328694 | E15: =SUM(G15:R15) -> 1 | F15: AVANCE | I15: 1
C16: =VLOOKUP($C16,PRESUPUESTO!$C$3:$H$256,2,FALSE) -> INSTALACIONES ELECTRICAS | D16: =VLOOKUP($C16,PRESUPUESTO!$C$3:$H$256,2,FALSE) -> INSTALACIONES ELECTRICAS | E16: =SUM(G16:R16) -> 328694 | F16: INVERSIÓN | I16: =($D15*I15) -> 328694
A17: 4.14 | B17: 43.5 | C17: =VLOOKUP($B17,PRESUPUESTO!$C$3:$H$256,2,FALSE) -> BORDILLO EN CONCRETO DE 3000 PSI DE 0.10 DE ALTURA Y 0.10 DE ESPESOR PARA SEPARAR SECCIÓN INTERMEDIA DE SECCIÓN LIMPIA | D17: =VLOOKUP($B17,PRESUPUESTO!$C$3:$H$256,6,FALSE) -> 1128914 | E17: =SUM(G17:R17) -> 1 | F17: AVANCE | J17: 1
C18: =VLOOKUP($C18,PRESUPUESTO!$C$3:$H$256,2,FALSE) -> INSTALACIONES ELECTRICAS | D18: =VLOOKUP($C18,PRESUPUESTO!$C$3:$H$256,2,FALSE) -> #N/A | E18: =SUM(G18:R18) -> 1128914 | F18: INVERSIÓN | J18: =($D17*J17) -> 1128914
A19: 4.15 | B19: 43.6 | C19: =VLOOKUP($B19,PRESUPUESTO!$C$3:$H$256,2,FALSE) -> CONSTRUCCIÓN CANAL RECOLECTORA CENTRAL SEMICIRCULAR D=8" EN TUBERIA NOVAFORT | D19: =VLOOKUP($B19,PRESUPUESTO!$C$3:$H$256,6,FALSE) -> 3042562 | E19: =SUM(G19:R19) -> 1 | F19: AVANCE | J19: 1
C20: =VLOOKUP($C20,PRESUPUESTO!$C$3:$H$256,2,FALSE) -> INSTALACIONES ELECTRICAS | D20: =VLOOKUP($C20,PRESUPUESTO!$C$3:$H$256,2,FALSE) -> #N/A | E20: =SUM(G20:R20) -> 3042562 | F20: INVERSIÓN | J20: =($D19*J19) -> 3042562
A21: 5.1 | B21: 44.1 | C21: =VLOOKUP($B21,PRESUPUESTO!$C$3:$H$256,2,FALSE) -> SUMINISTRO, TRASNPORTE E INSTALACIÓN DE LOSA DE CONCRETO REFORZADO DE 12 CM DE ESPESOR (INLCLUYE ACERO DE REFUERZO MALLA ELECTROSOLDADA) | D21: =VLOOKUP($B21,PRESUPUESTO!$C$3:$H$256,6,FALSE) -> 4131639 | E21: =SUM(G21:R21) -> 1 | F21: AVANCE | N21: 1
C22: =VLOOKUP($C22,PRESUPUESTO!$C$3:$H$256,2,FALSE) -> INSTALACIONES ELECTRICAS | D22: =VLOOKUP($C22,PRESUPUESTO!$C$3:$H$256,2,FALSE) -> #N/A | E22: =SUM(G22:R22) -> 4131639 | F22: INVERSIÓN | N22: =($D21*N21) -> 4131639
A23: 5.2 | B23: 44.2 | C23: =VLOOKUP($B23,PRESUPUESTO!$C$3:$H$256,2,FALSE) -> SUMINISTRO TRANSPORTE E INSTALACIÓN VIGA CINTA DE AMARRE CULATA DE 0,13 * 0,10 M EN CONCRETO DE 3000 PSI, INCLUYE ACERO DE REFUERZO | D23: =VLOOKUP($B23,PRESUPUESTO!$C$3:$H$256,6,FALSE) -> 1325526 | E23: =SUM(G23:R23) -> 1 | F23: AVANCE | J23: 1
C24: =VLOOKUP($C24,PRESUPUESTO!$C$3:$H$256,2,FALSE) -> INSTALACIONES ELECTRICAS | D24: =VLOOKUP($C24,PRESUPUESTO!$C$3:$H$256,2,FALSE) -> #N/A | E24: =SUM(G24:R24) -> 1325526 | F24: INVERSIÓN | J24: =($D23*J23) -> 1325526
A25: 5.3 | B25: 44.3 | C25: =VLOOKUP($B25,PRESUPUESTO!$C$3:$H$256,2,FALSE) -> SUMINISTRO TRANSPORTE E INSTALACIÓN COLUMNETA DE CONFINAMIENTO PARA MURO DE 0,13 * 0,20 M EN CONCRETO DE 3000 PSI, INCLUYE ACERO DE REFUERZO | D25: =VLOOKUP($B25,PRESUPUESTO!$C$3:$H$256,6,FALSE) -> 4608106 | E25: =SUM(G25:R25) -> 1 | F25: AVANCE | J25: 1
C26: =VLOOKUP($C26,PRESUPUESTO!$C$3:$H$256,2,FALSE) -> INSTALACIONES ELECTRICAS | D26: =VLOOKUP($C26,PRESUPUESTO!$C$3:$H$256,2,FALSE) -> #N/A | E26: =SUM(G26:R26) -> 4608106 | F26: INVERSIÓN | J26: =($D25*J25) -> 4608106
A27: 5.4 | B27: 44.4 | C27: =VLOOKUP($B27,PRESUPUESTO!$C$3:$H$256,2,FALSE) -> ESTRUCTURA METÁLICA PARA SOPORTE DE CUBIERTA EN PERFILERÍA TIPO C 120X60 3MM. (INCLUYE TEJA DE FIBROCEMENTO PERFIL 7 Y ACCESORIOS PARA INSTALACIÓN) | D27: =VLOOKUP($B27,PRESUPUESTO!$C$3:$H$256,6,FALSE) -> 1602342 | E27: =SUM(G27:R27) -> 1 | F27: AVANCE | J27: 0.5 | K27: 0.5
C28: =VLOOKUP($C28,PRESUPUESTO!$C$3:$H$256,2,FALSE) -> INSTALACIONES ELECTRICAS | D28: =VLOOKUP($C28,PRESUPUESTO!$C$3:$H$256,2,FALSE) -> #N/A | E28: =SUM(G28:R28) -> 1602342 | F28: INVERSIÓN | J28: =($D27*J27) -> 801171 | K28: =($D27*K27) -> 801171
A29: 6.1 | B29: 45.1 | C29: =VLOOKUP($B29,PRESUPUESTO!$C$3:$H$256,2,FALSE) -> SUMINISTRO, TRANSPORTE E INSTALACIÓN DE MUROS DIVISORIOS EN LADRILLO FAROL DE 0,13*0,20*0,30, incluye mortero 1:3 | D29: =VLOOKUP($B29,PRESUPUESTO!$C$3:$H$256,6,FALSE) -> 6854024 | E29: =SUM(G29:R29) -> 1 | F29: AVANCE | I29: 0.5 | J29: 0.5
C30: =VLOOKUP($C30,PRESUPUESTO!$C$3:$H$256,2,FALSE) -> INSTALACIONES ELECTRICAS | D30: =VLOOKUP($C30,PRESUPUESTO!$C$3:$H$256,2,FALSE) -> #N/A | E30: =SUM(G30:R30) -> 6854024 | F30: INVERSIÓN | I30: =($D29*I29) -> 3427012 | J30: =($D29*J29) -> 3427012
A31: 6.2 | B31: 45.2 | C31: =VLOOKUP($B31,PRESUPUESTO!$C$3:$H$256,2,FALSE) -> SUMINISTRO TRANPORTE E INSTALACIÓN REVOQUE CON MORTERO 1:3 IMPERMEABILIZADO INTEGRALMENTE, E=0,02 M | D31: =VLOOKUP($B31,PRESUPUESTO!$C$3:$H$256,6,FALSE) -> 2958701 | E31: =SUM(G31:R31) -> 1 | F31: AVANCE | K31: 0.5 | L31: 0.5
C32: =VLOOKUP($C32,PRESUPUESTO!$C$3:$H$256,2,FALSE) -> INSTALACIONES ELECTRICAS | D32: =VLOOKUP($C32,PRESUPUESTO!$C$3:$H$256,2,FALSE) -> #N/A | E32: =SUM(G32:R32) -> 2958701 | F32: INVERSIÓN | K32: =($D31*K31) -> 1479350.5 | L32: =($D31*L31) -> 1479350.5
A33: 6.3 | B33: 45.3 | C33: =VLOOKUP($B33,PRESUPUESTO!$C$3:$H$256,2,FALSE) -> RESANE CON MORTERO 1:3 PARA CONFORMACIÓN DE CARTERA PARA VANO DE VENTANA | D33: =VLOOKUP($B33,PRESUPUESTO!$C$3:$H$256,6,FALSE) -> 172837 | E33: =SUM(G33:R33) -> 1 | F33: AVANCE | I33: 0.5 | J33: 0.5
C34: =VLOOKUP($C34,PRESUPUESTO!$C$3:$H$256,2,FALSE) -> INSTALACIONES ELECTRICAS | D34: =VLOOKUP($C34,PRESUPUESTO!$C$3:$H$256,2,FALSE) -> #N/A | E34: =SUM(G34:R34) -> 172837 | F34: INVERSIÓN | I34: =($D33*I33) -> 86418.5 | J34: =($D33*J33) -> 86418.5
A35: 6.4 | B35: 45.4 | C35: =VLOOKUP($B35,PRESUPUESTO!$C$3:$H$256,2,FALSE) -> SUMINISTRO, TRANSPORTE E INSTALACIÓN A TODO COSTO DE MURO EN SUPERBOARD 6 MM ENCINTADO Y MACILLADO (DOS CARAS). INCLUYE PERFILERÍA Y TODO LO NECESARIO PARA SU CORRECTA INSTALACIÓN | D35: =VLOOKUP($B35,PRESUPUESTO!$C$3:$H$256,6,FALSE) -> 4793265 | E35: =SUM(G35:R35) -> 1 | F35: AVANCE | K35: 0.5 | L35: 0.5
C36: =VLOOKUP($C36,PRESUPUESTO!$C$3:$H$256,2,FALSE) -> INSTALACIONES ELECTRICAS | D36: =VLOOKUP($C36,PRESUPUESTO!$C$3:$H$256,2,FALSE) -> #N/A | E36: =SUM(G36:R36) -> 4793265 | F36: INVERSIÓN | K36: =($D35*K35) -> 2396632.5 | L36: =($D35*L35) -> 2396632.5
A37: 7.2 | B37: 46.1 | C37: =VLOOKUP($B37,PRESUPUESTO!$C$3:$H$256,2,FALSE) -> SUMINISTRO E INSTALACIÓN TUBERÍA PVC PRESIÓN 1/2" RDE 9. | D37: =VLOOKUP($B37,PRESUPUESTO!$C$3:$H$256,6,FALSE) -> 2473373 | E37: =SUM(G37:R37) -> 1 | F37: AVANCE | K37: 1
C38: =VLOOKUP($C38,PRESUPUESTO!$C$3:$H$256,2,FALSE) -> INSTALACIONES ELECTRICAS | D38: =VLOOKUP($C38,PRESUPUESTO!$C$3:$H$256,2,FALSE) -> #N/A | E38: =SUM(G38:R38) -> 2473373 | F38: INVERSIÓN | K38: =($D37*K37) -> 2473373
A39: 8.1 | B39: 47.1 | C39: =VLOOKUP($B39,PRESUPUESTO!$C$3:$H$256,2,FALSE) -> DILIGENCIAR CADA UNO DE LOS FORMATOS PARA LA CERTIFICACIÓN DE LA OBRA POR EL ENTE CERTIFICADOR EN RETIE Y RETILAP, PRESESENTACIÓN DE LA DOCUMENTACIÓN EXIGIDA Y PLANOS RECORDS Y TODOS LOS TRÁMITES Y CANCELACIÓN DEL SERVICIO DE CERTIFICACIÓN. | D39: =VLOOKUP($B39,PRESUPUESTO!$C$3:$H$256,6,FALSE) -> 5372250 | E39: =SUM(G39:R39) -> 1 | F39: AVANCE | L39: 0.5 | M39: 0.5
C40: =VLOOKUP($C40,PRESUPUESTO!$C$3:$H$256,2,FALSE) -> INSTALACIONES ELECTRICAS | D40: =VLOOKUP($C40,PRESUPUESTO!$C$3:$H$256,2,FALSE) -> #N/A | E40: =SUM(G40:R40) -> 5372250 | F40: INVERSIÓN | L40: =($D39*L39) -> 2686125 | M40: =($D39*M39) -> 2686125
...

Sheet PRESUPUESTO
B1: PRESUPUESTO GENERAL DE OBRA Y SUMINISTRO DE EQUIPOS PARA ADECUACIÓN DE LA PLANTA DE BENEFICIO ANIMAL DE PALESTINA
B4: PRESUPUESTO GENERAL DE OBRA Y SUMINISTRO DE EQUIPOS PARA ADECUACIÓN DE LA PLANTA DE BENEFICIO ANIMAL DEL MUNICIPIO DE PALESTINA -CALDAS-
D5: OBRAS INTERIORES
B7: ITEM | C7: COD INTER | D7: DESCRIPCIÓN | E7: UNIDAD | F7: CANTIDAD | G7: V/UNITARIO | H7: V/PARCIAL
D8: OBRAS DE ADECUCIÓN
B9: 1.0 | C9: 41.0 | D9: PRELIMINARES | H9: =SUM(H10:H12) -> 7031010 | I9: =+H9*(1+G$116) -> 9140313 | K9: =SUM(K10:K13) -> 433074.28 | M9: =SUM(M10:M13) -> 5293060.6 | O9: =SUM(O10:O13) -> 15188.481 | Q9: =SUM(Q10:Q13) -> 1289686.4 | R9: =SUM(R10:R13) -> 7031010 | T9: =Q9+M9+K9+O9 -> 7031009.8 | V9: =ROUND((H9-T9),0) -> 0 | W9: =ROUND((Q9+M9+K9+O9)*(#REF!+#REF!),0) -> #REF! | X9: =ROUND((T9)*(#REF!+#REF!),0) -> #REF! | Y9: =+W9-X9 -> #REF! | Z9: =ROUND(SUM(K9:Q9),0) -> 7031010
B10: 1.2 | C10: 41.2 | D10: =+VLOOKUP($B10,APU!$B$5:$J$1835,3,0) -> DEMOLICIÓN PLACA DE CONTRAPISO EN CONCRETO SIMPLE. | E10: =+VLOOKUP($B10,APU!$B$5:$I$1835,4,0) -> M² | F10: =+ITEM1.2!G9 -> 20.92 | G10: =+VLOOKUP($B10,APU!$B$5:$I$1835,6,0) -> 72624.225 | H10: =ROUND((F10*G10),0) -> 1519299 | J10: =VLOOKUP($B10,APU!$K$6:$P$1687,2,FALSE) -> 3157.575 | K10: =J10*F10 -> 66056.469 | L10: =VLOOKUP($B10,APU!$K$6:$P$1690,3,FALSE) -> 66309.075 | M10: =L10*F10 -> 1387185.8 | N10: =VLOOKUP($B10,APU!$K$6:$P$1680,4,FALSE) -> 0 | O10: =N10*F10 -> 0 | P10: =VLOOKUP($B10,APU!$K$6:$P$1680,5,FALSE) -> 3157.575 | Q10: =P10*F10 -> 66056.469 | R10: =ROUND((Q10+O10+M10+K10),0) -> 1519299 | T10: =+H10 -> 1519299 | U10: =+T10-R10 -> 0 | V10: =ROUND((H10-T10),0) -> 0 | W10: =ROUND((Q10+M10+K10+O10)*(#REF!+#REF!),0) -> #REF! | X10: =ROUND((T10)*(#REF!+#REF!),0) -> #REF! | Y10: =+W10-X10 -> #REF!
B11: 1.3 | C11: 41.3 | D11: =+VLOOKUP($B11,APU!$B$5:$J$1835,3,0) -> DEMOLICIÓN DE MUROS EN BLOQUE DE CEMENTO O LADRILLO | E11: =+VLOOKUP($B11,APU!$B$5:$I$1835,4,0) -> M² | F11: =+ITEM1.3!E7 -> 204.75 | G11: =+VLOOKUP($B11,APU!$B$5:$I$1835,6,0) -> 26286.723 | H11: =ROUND((F11*G11),0) -> 5382207 | J11: =VLOOKUP($B11,APU!$K$6:$P$1687,2,FALSE) -> 1768.242 | K11: =J11*F11 -> 362047.55 | L11: =VLOOKUP($B11,APU!$K$6:$P$1690,3,FALSE) -> 18566.541 | M11: =L11*F11 -> 3801499.3 | N11: =VLOOKUP($B11,APU!$K$6:$P$1680,4,FALSE) -> 0 | O11: =N11*F11 -> 0 | P11: =VLOOKUP($B11,APU!$K$6:$P$1680,5,FALSE) -> 5951.94 | Q11: =P11*F11 -> 1218659.7 | R11: =ROUND((Q11+O11+M11+K11),0) -> 5382207 | T11: =+H11 -> 5382207 | U11: =+T11-R11 -> 0 | V11: =ROUND((H11-T11),0) -> 0 | W11: =ROUND((Q11+M11+K11+O11)*(#REF!+#REF!),0) -> #REF! | X11: =ROUND((T11)*(#REF!+#REF!),0) -> #REF! | Y11: =+W11-X11 -> #REF!
B12: 1.4 | C12: 41.6 | D12: =+APU!D617 -> DESMONTE DE ESTRUCTURA METALICA | E12: =+VLOOKUP($B12,APU!$B$5:$I$1835,4,0) -> M² | F12: =+ITEM1.4!E7 -> 6.06 | G12: =+VLOOKUP($B12,APU!$B$5:$I$1835,6,0) -> 21370.375 | H12: =ROUND((F12*G12),0) -> 129504 | J12: =VLOOKUP($B12,APU!$K$6:$P$1687,2,FALSE) -> 820.175 | K12: =J12*F12 -> 4970.2605 | L12: =VLOOKUP($B12,APU!$K$6:$P$1690,3,FALSE) -> 17223.675 | M12: =L12*F12 -> 104375.47 | N12: =VLOOKUP($B12,APU!$K$6:$P$1680,4,FALSE) -> 2506.35 | O12: =N12*F12 -> 15188.481 | P12: =VLOOKUP($B12,APU!$K$6:$P$1680,5,FALSE) -> 820.175 | Q12: =P12*F12 -> 4970.2605 | R12: =ROUND((Q12+O12+M12+K12),0) -> 129504 | T12: =+H12 -> 129504 | U12: =+T12-R12 -> 0 | V12: =ROUND((H12-T12),0) -> 0 | W12: =ROUND((Q12+M12+K12+O12)*(#REF!+#REF!),0) -> #REF! | X12: =ROUND((T12)*(#REF!+#REF!),0) -> #REF! | Y12: =+W12-X12 -> #REF!
U13: =+T13-R13 -> 0 | W13: =ROUND((Q13+M13+K13+O13)*(#REF!+#REF!),0) -> #REF! | X13: =ROUND((T13)*(#REF!+#REF!),0) -> #REF!
B14: 2A.0 | C14: 42.0 | D14: CIMIENTOS | H14: =SUM(H15:H15) -> 0 | K14: =(SUM(K15)) -> 0 | M14: =(SUM(M15)) -> 0 | O14: =(SUM(O15)) -> 0 | Q14: =(SUM(Q15)) -> 0 | R14: =(SUM(R15)) -> 0 | T14: =Q14+M14+K14+O14 -> 0 | U14: =+T14-R14 -> 0 | V14: =ROUND((H14-T14),0) -> 0 | W14: =ROUND((Q14+M14+K14+O14)*(#REF!+#REF!),0) -> #REF! | X14: =ROUND((T14)*(#REF!+#REF!),0) -> #REF! | Y14: =+W14-X14 -> #REF! | Z14: =ROUND(SUM(K14:Q14),0) -> 0
B16: 4.0 | C16: 43.0 | D16: DESAGUES E INSTALACIONES SANITARIAS | H16: =SUM(H17:H21) -> 5677961 | I16: =+H16*(1+G$116) -> 7381349.3 | K16: =SUM(K17:K21) -> 163414.19 | M16: =SUM(M17:M21) -> 2308511.6 | O16: =SUM(O17:O21) -> 3187337.2 | Q16: =SUM(Q17:Q21) -> 18699.6 | R16: =SUM(R17:R21) -> 5677961 | T16: =ROUND(Q16+M16+K16+O16,0) -> 5677963 | U16: =+T16-R16 -> 2 | V16: =ROUND((H16-T16),0) -> -2 | W16: =ROUND((Q16+M16+K16+O16)*(#REF!+#REF!),0) -> #REF! | X16: =ROUND((T16)*(#REF!+#REF!),0) -> #REF! | Y16: =+W16-X16 -> #REF! | Z16: =ROUND(SUM(K16:Q16),0) -> 5677963
B17: 4.2 | C17: 43.2 | D17: =+VLOOKUP($B17,APU!$B$5:$J$1835,3,0) -> SUMINISTRO, TRASPORTE E INSTALACIÓN PUNTO SANITARIO EN DIAMETRO 4" | E17: =+VLOOKUP($B17,APU!$B$5:$I$1835,4,0) -> UN | F17: =+ITEM4.2!E7 -> 2 | G17: =+VLOOKUP($B17,APU!$B$5:$I$1835,6,0) -> 186526.58 | H17: =ROUND((F17*G17),0) -> 373053 | J17: =VLOOKUP($B17,APU!$K$6:$P$1687,2,FALSE) -> 2337.45 | K17: =J17*F17 -> 4674.9 | L17: =VLOOKUP($B17,APU!$K$6:$P$1690,3,FALSE) -> 49086.45 | M17: =L17*F17 -> 98172.9 | N17: =VLOOKUP($B17,APU!$K$6:$P$1680,4,FALSE) -> 132765.23 | O17: =N17*F17 -> 265530.47 | P17: =VLOOKUP($B17,APU!$K$6:$P$1680,5,FALSE) -> 2337.45 | Q17: =P17*F17 -> 4674.9 | R17: =ROUND((Q17+O17+M17+K17),0) -> 373053 | T17: =+H17 -> 373053 | U17: =+T17-R17 -> 0 | V17: =ROUND((H17-T17),0) -> 0 | W17: =ROUND((Q17+M17+K17+O17)*(#REF!+#REF!),0) -> #REF! | X17: =ROUND((T17)*(#REF!+#REF!),0) -> #REF! | Y17: =+W17-X17 -> #REF!
B18: 4.7 | C18: 43.3 | D18: =+VLOOKUP($B18,APU!$B$5:$J$1835,3,0) -> SUMINISTRO, TRASPORTE E INSTALACIÓN PUNTO SANITARIO EN DIAMETRO 2" | E18: =+VLOOKUP($B18,APU!$B$5:$I$1835,4,0) -> UN | F18: =+ITEM4.7!G9 -> 9 | G18: =+VLOOKUP($B18,APU!$B$5:$I$1835,6,0) -> 89415.365 | H18: =ROUND((F18*G18),0) -> 804738 | J18: =VLOOKUP($B18,APU!$K$6:$P$1687,2,FALSE) -> 1558.3 | K18: =J18*F18 -> 14024.7 | L18: =VLOOKUP($B18,APU!$K$6:$P$1690,3,FALSE) -> 32724.3 | M18: =L18*F18 -> 294518.7 | N18: =VLOOKUP($B18,APU!$K$6:$P$1680,4,FALSE) -> 53574.465 | O18: =N18*F18 -> 482170.19 | P18: =VLOOKUP($B18,APU!$K$6:$P$1680,5,FALSE) -> 1558.3 | Q18: =P18*F18 -> 14024.7 | R18: =ROUND((Q18+O18+M18+K18),0) -> 804738 | T18: =+H18 -> 804738 | U18: =+T18-R18 -> 0 | V18: =ROUND((H18-T18),0) -> 0 | W18: =ROUND((Q18+M18+K18+O18)*(#REF!+#REF!),0) -> #REF! | X18: =ROUND((T18)*(#REF!+#REF!),0) -> #REF! | Y18: =+W18-X18 -> #REF!
B19: 4.13 | C19: 43.4 | D19: TRASLADO DE TANQUES DE AGUA | E19: =+VLOOKUP($B19,APU!$B$5:$I$1835,4,0) -> GL | F19: =+'ITEM 4,13'!G9 -> 1 | G19: =+VLOOKUP($B19,APU!$B$5:$I$1835,6,0) -> 328694 | H19: =ROUND((F19*G19),0) -> 328694 | J19: =VLOOKUP($B19,APU!$K$6:$P$1687,2,FALSE) -> 1215 | K19: =J19*F19 -> 1215 | L19: =VLOOKUP($B19,APU!$K$6:$P$1690,3,FALSE) -> 310023 | M19: =L19*F19 -> 310023 | N19: =VLOOKUP($B19,APU!$K$6:$P$1680,4,FALSE) -> 17456.42 | O19: =N19*F19 -> 17456.42 | P19: =VLOOKUP($B19,APU!$K$6:$P$1680,5,FALSE) -> 0 | Q19: =P19*F19 -> 0 | R19: =ROUND((Q19+O19+M19+K19),0) -> 328694 | T19: =+H19 -> 328694 | U19: =+T19-R19 -> 0 | V19: =ROUND((H19-T19),0) -> 0 | W19: =ROUND((Q19+M19+K19+O19)*(#REF!+#REF!),0) -> #REF! | X19: =ROUND((T19)*(#REF!+#REF!),0) -> #REF! | Y19: =+W19-X19 -> #REF!
B20: 4.14 | C20: 43.5 | D20: BORDILLO EN CONCRETO DE 3000 PSI DE 0.10 DE ALTURA Y 0.10 DE ESPESOR PARA SEPARAR SECCIÓN INTERMEDIA DE SECCIÓN LIMPIA | E20: =+VLOOKUP($B20,APU!$B$5:$I$1835,4,0) -> ML | F20: =+'ITEM 4,15'!G8 -> 23.42 | G20: =+VLOOKUP($B20,APU!$B$5:$I$1835,6,0) -> 48203 | H20: =ROUND((F20*G20),0) -> 1128914 | J20: =VLOOKUP($B20,APU!$K$6:$P$1687,2,FALSE) -> 5519.34 | K20: =J20*F20+9 -> 129271.94 | L20: =VLOOKUP($B20,APU!$K$6:$P$1690,3,FALSE) -> 34282.6 | M20: =L20*F20 -> 802898.49 | N20: =VLOOKUP($B20,APU!$K$6:$P$1680,4,FALSE) -> 8400.6764 | O20: =N20*F20 -> 196743.84 | P20: =VLOOKUP($B20,APU!$K$6:$P$1680,5,FALSE) -> 0 | Q20: =P20*F20 -> 0 | R20: =ROUND((Q20+O20+M20+K20),0) -> 1128914 | T20: =+H20 -> 1128914 | U20: =+T20-R20 -> 0 | V20: =ROUND((H20-T20),0) -> 0 | W20: =ROUND((Q20+M20+K20+O20)*(#REF!+#REF!),0) -> #REF! | X20: =ROUND((T20)*(#REF!+#REF!),0) -> #REF! | Y20: =+W20-X20 -> #REF!
B21: 4.15 | C21: 43.6 | D21: CONSTRUCCIÓN CANAL RECOLECTORA CENTRAL SEMICIRCULAR D=8" EN TUBERIA NOVAFORT | E21: =+VLOOKUP($B21,APU!$B$5:$I$1835,4,0) -> ML | F21: =+'ITEM 4,15'!G8 -> 23.42 | G21: =+VLOOKUP($B21,APU!$B$5:$I$1835,6,0) -> 129913 | H21: =ROUND((F21*G21),0) -> 3042562 | J21: =VLOOKUP($B21,APU!$K$6:$P$1687,2,FALSE) -> 607.5 | K21: =J21*F21 -> 14227.65 | L21: =VLOOKUP($B21,APU!$K$6:$P$1690,3,FALSE) -> 34282.6 | M21: =L21*F21 -> 802898.49 | N21: =VLOOKUP($B21,APU!$K$6:$P$1680,4,FALSE) -> 95022.6 | O21: =N21*F21+7 -> 2225436.3 | P21: =VLOOKUP($B21,APU!$K$6:$P$1680,5,FALSE) -> 0 | Q21: =P21*F21 -> 0 | R21: =ROUND((Q21+O21+M21+K21),0) -> 3042562 | T21: =+H21 -> 3042562 | U21: =+T21-R21 -> 0 | V21: =ROUND((H21-T21),0) -> 0 | W21: =ROUND((Q21+M21+K21+O21)*(#REF!+#REF!),0) -> #REF! | X21: =ROUND((T21)*(#REF!+#REF!),0) -> #REF! | Y21: =+W21-X21 -> #REF!
U22: =+T22-R22 -> 0 | W22: =ROUND((Q22+M22+K22+O22)*(#REF!+#REF!),0) -> #REF! | X22: =ROUND((T22)*(#REF!+#REF!),0) -> #REF!
B23: 5.0 | C23: 44.0 | D23: ESTRUCTURAS EN CONCRETO, METALICAS Y DE MADERA | H23: =SUM(H24:H27) -> 11667613 | I23: =+H23*(1+G$116) -> 15167897 | K23: =SUM(K24:K27) -> 3097874.2 | M23: =SUM(M24:M27) -> 2480034.3 | O23: =SUM(O24:O27) -> 5974902.9 | Q23: =SUM(Q24:Q27) -> 114801.38 | R23: =SUM(R24:R27) -> 11667613 | T23: =ROUND(Q23+M23+K23+O23,0) -> 11667613 | U23: =+T23-R23 -> 0 | V23: =ROUND((H23-T23),0) -> 0 | W23: =ROUND((Q23+M23+K23+O23)*(#REF!+#REF!),0) -> #REF! | X23: =ROUND((T23)*(#REF!+#REF!),0) -> #REF! | Y23: =+W23-X23 -> #REF! | Z23: =ROUND(SUM(K23:Q23),0) -> 11667613
B24: 5.1 | C24: 44.1 | D24: SUMINISTRO, TRASNPORTE E INSTALACIÓN DE LOSA DE CONCRETO REFORZADO DE 12 CM DE ESPESOR (INLCLUYE ACERO DE REFUERZO MALLA ELECTROSOLDADA) | E24: M2 | F24: =+ITEM5.1!G2 -> 29.462 | G24: =+VLOOKUP($B24,APU!$B$5:$I$1835,6,0) -> 140236.2 | H24: =ROUND((F24*G24),0) -> 4131639 | J24: =VLOOKUP($B24,APU!$K$6:$P$1687,2,FALSE) -> 165.5 | K24: =J24*F24 -> 4875.961 | L24: =VLOOKUP($B24,APU!$K$6:$P$1690,3,FALSE) -> 54079.83 | M24: =L24*F24 -> 1593300 | N24: =VLOOKUP($B24,APU!$K$6:$P$1680,4,FALSE) -> 83415.64 | O24: =N24*F24 -> 2457591.6 | P24: =VLOOKUP($B24,APU!$K$6:$P$1680,5,FALSE) -> 2575.23 | Q24: =P24*F24 -> 75871.426 | R24: =ROUND((Q24+O24+M24+K24),0) -> 4131639 | T24: =+H24 -> 4131639 | U24: =+T24-R24 -> 0 | V24: =ROUND((H24-T24),0) -> 0 | W24: =ROUND((Q24+M24+K24+O24)*(#REF!+#REF!),0) -> #REF! | X24: =ROUND((T24)*(#REF!+#REF!),0) -> #REF! | Y24: =+W24-X24 -> #REF!
B25: 5.2 | C25: 44.2 | D25: =+VLOOKUP($B25,APU!$B$5:$J$1835,3,0) -> SUMINISTRO TRANSPORTE E INSTALACIÓN VIGA CINTA DE AMARRE CULATA DE 0,13 * 0,10 M EN CONCRETO DE 3000 PSI, INCLUYE ACERO DE REFUERZO | E25: =+VLOOKUP($B25,APU!$B$5:$I$1835,4,0) -> M | F25: =+ITEM5.2!G2 -> 7.31 | G25: =+VLOOKUP($B25,APU!$B$5:$I$1835,6,0) -> 181330.52 | H25: =ROUND((F25*G25),0) -> 1325526 | J25: =VLOOKUP($B25,APU!$K$6:$P$1687,2,FALSE) -> 73203.828 | K25: =J25*F25 -> 535119.98 | L25: =VLOOKUP($B25,APU!$K$6:$P$1690,3,FALSE) -> 24755.388 | M25: =L25*F25 -> 180961.89 | N25: =VLOOKUP($B25,APU!$K$6:$P$1680,4,FALSE) -> 82192.478 | O25: =N25*F25 -> 600827.01 | P25: =VLOOKUP($B25,APU!$K$6:$P$1680,5,FALSE) -> 1178.828 | Q25: =P25*F25 -> 8617.2327 | R25: =ROUND((Q25+O25+M25+K25),0) -> 1325526 | T25: =+H25 -> 1325526 | U25: =+T25-R25 -> 0 | V25: =ROUND((H25-T25),0) -> 0 | W25: =ROUND((Q25+M25+K25+O25)*(#REF!+#REF!),0) -> #REF! | X25: =ROUND((T25)*(#REF!+#REF!),0) -> #REF! | Y25: =+W25-X25 -> #REF!
B26: 5.3 | C26: 44.3 | D26: =+VLOOKUP($B26,APU!$B$5:$J$1835,3,0) -> SUMINISTRO TRANSPORTE E INSTALACIÓN COLUMNETA DE CONFINAMIENTO PARA MURO DE 0,13 * 0,20 M EN CONCRETO DE 3000 PSI, INCLUYE ACERO DE REFUERZO | E26: =+VLOOKUP($B26,APU!$B$5:$I$1835,4,0) -> M | F26: =+ITEM5.3!G2 -> 22.5 | G26: =+VLOOKUP($B26,APU!$B$5:$I$1835,6,0) -> 204804.71 | H26: =ROUND((F26*G26),0) -> 4608106 | J26: =VLOOKUP($B26,APU!$K$6:$P$1687,2,FALSE) -> 82828.132 | K26: =J26*F26 -> 1863633 | L26: =VLOOKUP($B26,APU!$K$6:$P$1690,3,FALSE) -> 28291.872 | M26: =L26*F26 -> 636567.12 | N26: =VLOOKUP($B26,APU!$K$6:$P$1680,4,FALSE) -> 92337.47 | O26: =N26*F26 -> 2077593.1 | P26: =VLOOKUP($B26,APU!$K$6:$P$1680,5,FALSE) -> 1347.232 | Q26: =P26*F26 -> 30312.72 | R26: =ROUND((Q26+O26+M26+K26),0) -> 4608106 | T26: =+H26 -> 4608106 | U26: =+T26-R26 -> 0 | V26: =ROUND((H26-T26),0) -> 0 | W26: =ROUND((Q26+M26+K26+O26)*(#REF!+#REF!),0) -> #REF! | X26: =ROUND((T26)*(#REF!+#REF!),0) -> #REF! | Y26: =+W26-X26 -> #REF!
B27: 5.4 | C27: 44.4 | D27: ESTRUCTURA METÁLICA PARA SOPORTE DE CUBIERTA EN PERFILERÍA TIPO C 120X60 3MM. (INCLUYE TEJA DE FIBROCEMENTO PERFIL 7 Y ACCESORIOS PARA INSTALACIÓN) | E27: =+VLOOKUP($B27,APU!$B$5:$I$1835,4,0) -> M2 | F27: =+ITEM5.4!G2 -> 13.062 | G27: =+VLOOKUP($B27,APU!$B$5:$I$1835,6,0) -> 122672 | H27: =ROUND((F27*G27),0) -> 1602342 | J27: =VLOOKUP($B27,APU!$K$6:$P$1687,2,FALSE) -> 53150 | K27: =J27*F27 -> 694245.3 | L27: =VLOOKUP($B27,APU!$K$6:$P$1690,3,FALSE) -> 5298.22 | M27: =L27*F27 -> 69205.35 | N27: =VLOOKUP($B27,APU!$K$6:$P$1680,4,FALSE) -> 64223.564 | O27: =N27*F27+3 -> 838891.19 | P27: =VLOOKUP($B27,APU!$K$6:$P$1680,5,FALSE) -> 0 | Q27: =P27*F27 -> 0 | R27: =ROUND((Q27+O27+M27+K27),0) -> 1602342 | T27: =+H27 -> 1602342 | U27: =+T27-R27 -> 0 | V27: =ROUND((H27-T27),0) -> 0 | W27: =ROUND((Q27+M27+K27+O27)*(#REF!+#REF!),0) -> #REF! | X27: =ROUND((T27)*(#REF!+#REF!),0) -> #REF! | Y27: =+W27-X27 -> #REF!
U28: =+T28-R28 -> 0 | W28: =ROUND((Q28+M28+K28+O28)*(#REF!+#REF!),0) -> #REF! | X28: =ROUND((T28)*(#REF!+#REF!),0) -> #REF!
B29: 6.0 | C29: 45.0 | D29: MAMPOSTERIA | H29: =ROUND(SUM(H30:H33),0) -> 14778827 | I29: =+H29*(1+G$116) -> 19212475 | K29: =ROUND(SUM(K30:K33),0) -> 221619 | M29: =ROUND(SUM(M30:M33),0) -> 5956347 | O29: =ROUND(SUM(O30:O33),0) -> 7840155 | Q29: =ROUND(SUM(Q30:Q33),0) -> 760705 | R29: =ROUND((Q29+O29+M29+K29),0) -> 14778826 | T29: =ROUND(Q29+M29+K29+O29,0) -> 14778826 | U29: =+T29-R29 -> 0 | V29: =ROUND((H29-T29),0) -> 1 | W29: =ROUND((Q29+M29+K29+O29)*(#REF!+#REF!),0) -> #REF! | X29: =ROUND((T29)*(#REF!+#REF!),0) -> #REF! | Y29: =+W29-X29 -> #REF! | Z29: =ROUND(SUM(K29:Q29),0) -> 14778826
B30: 6.1 | C30: 45.1 | D30: SUMINISTRO, TRANSPORTE E INSTALACIÓN DE MUROS DIVISORIOS EN LADRILLO FAROL DE 0,13*0,20*0,30, incluye mortero 1:3 | E30: =+VLOOKUP($B30,APU!$B$5:$I$1835,4,0) -> M² | F30: =+ITEM6.1!G7 -> 94.451 | G30: =+VLOOKUP($B30,APU!$B$5:$I$1835,6,0) -> 72566.977 | H30: =ROUND((F30*G30),0) -> 6854024 | J30: =VLOOKUP($B30,APU!$K$6:$P$1687,2,FALSE) -> 1035.75 | K30: =J30*F30 -> 97827.623 | L30: =VLOOKUP($B30,APU!$K$6:$P$1690,3,FALSE) -> 24275.94 | M30: =L30*F30 -> 2292886.8 | N30: =VLOOKUP($B30,APU!$K$6:$P$1680,4,FALSE) -> 45028.283 | O30: =N30*F30 -> 4252966.4 | P30: =VLOOKUP($B30,APU!$K$6:$P$1680,5,FALSE) -> 2227.004 | Q30: =P30*F30 -> 210342.75 | R30: =ROUND((Q30+O30+M30+K30),0) -> 6854024 | T30: =+H30 -> 6854024 | U30: =+T30-R30 -> 0 | V30: =ROUND((H30-T30),0) -> 0 | W30: =ROUND((Q30+M30+K30+O30)*(#REF!+#REF!),0) -> #REF! | X30: =ROUND((T30)*(#REF!+#REF!),0) -> #REF! | Y30: =+W30-X30 -> #REF!
B31: 6.2 | C31: 45.2 | D31: =+VLOOKUP($B31,APU!$B$5:$J$1835,3,0) -> SUMINISTRO TRANPORTE E INSTALACIÓN REVOQUE CON MORTERO 1:3 IMPERMEABILIZADO INTEGRALMENTE, E=0,02 M | E31: =+VLOOKUP($B31,APU!$B$5:$I$1835,4,0) -> M² | F31: =+ITEM6.3!G7 -> 91.851 | G31: =+VLOOKUP($B31,APU!$B$5:$I$1835,6,0) -> 32211.958 | H31: =ROUND((F31*G31),0) -> 2958701 | J31: =VLOOKUP($B31,APU!$K$6:$P$1687,2,FALSE) -> 1038.8667 | K31: =J31*F31 -> 95420.942 | L31: =VLOOKUP($B31,APU!$K$6:$P$1690,3,FALSE) -> 21816.2 | M31: =L31*F31 -> 2003839.8 | N31: =VLOOKUP($B31,APU!$K$6:$P$1680,4,FALSE) -> 8318.0242 | O31: =N31*F31 -> 764018.84 | P31: =VLOOKUP($B31,APU!$K$6:$P$1680,5,FALSE) -> 1038.8667 | Q31: =P31*F31 -> 95420.942 | R31: =ROUND((Q31+O31+M31+K31),0) -> 2958701 | T31: =+H31 -> 2958701 | U31: =+T31-R31 -> 0 | V31: =ROUND((H31-T31),0) -> 0 | W31: =ROUND((Q31+M31+K31+O31)*(#REF!+#REF!),0) -> #REF! | X31: =ROUND((T31)*(#REF!+#REF!),0) -> #REF! | Y31: =+W31-X31 -> #REF!
B32: 6.3 | C32: 45.3 | D32: =+VLOOKUP($B32,APU!$B$5:$J$1835,3,0) -> RESANE CON MORTERO 1:3 PARA CONFORMACIÓN DE CARTERA PARA VANO DE VENTANA | E32: =+VLOOKUP($B32,APU!$B$5:$I$1835,4,0) -> M2 | F32: 2.94 | G32: =+VLOOKUP($B32,APU!$B$5:$I$1835,6,0) -> 58788 | H32: =ROUND((F32*G32),0) -> 172837 | J32: =VLOOKUP($B32,APU!$K$6:$P$1687,2,FALSE) -> 1012.5 | K32: =J32*F32 -> 2976.75 | L32: =VLOOKUP($B32,APU!$K$6:$P$1690,3,FALSE) -> 46749 | M32: =L32*F32 -> 137442.06 | N32: =VLOOKUP($B32,APU!$K$6:$P$1680,4,FALSE) -> 11026.32 | O32: =N32*F32 -> 32417.381 | P32: =VLOOKUP($B32,APU!$K$6:$P$1680,5,FALSE) -> 0 | Q32: =P32*F32 -> 0 | R32: =ROUND((Q32+O32+M32+K32),0) -> 172836 | T32: =+H32 -> 172837 | U32: =+T32-R32 -> 1 | V32: =ROUND((H32-T32),0) -> 0 | W32: =ROUND((Q32+M32+K32+O32)*(#REF!+#REF!),0) -> #REF! | X32: =ROUND((T32)*(#REF!+#REF!),0) -> #REF! | Y32: =+W32-X32 -> #REF!
B33: 6.4 | C33: 45.4 | D33: =+VLOOKUP($B33,APU!$B$5:$J$1835,3,0) -> SUMINISTRO, TRANSPORTE E INSTALACIÓN A TODO COSTO DE MURO EN SUPERBOARD 6 MM ENCINTADO Y MACILLADO (DOS CARAS). INCLUYE PERFILERÍA Y TODO LO NECESARIO PARA SU CORRECTA INSTALACIÓN | E33: =+VLOOKUP($B33,APU!$B$5:$I$1835,4,0) -> M2 | F33: 25.08 | G33: =+VLOOKUP($B33,APU!$B$5:$I$1835,6,0) -> 191119 | H33: =ROUND((F33*G33),0) -> 4793265 | J33: =VLOOKUP($B33,APU!$K$6:$P$1687,2,FALSE) -> 1012.5 | K33: =J33*F33 -> 25393.5 | L33: =VLOOKUP($B33,APU!$K$6:$P$1690,3,FALSE) -> 60692.95 | M33: =L33*F33-1 -> 1522178.2 | N33: =VLOOKUP($B33,APU!$K$6:$P$1680,4,FALSE) -> 111274 | O33: =N33*F33 -> 2790751.9 | P33: =VLOOKUP($B33,APU!$K$6:$P$1680,5,FALSE) -> 18139.6 | Q33: =P33*F33 -> 454941.17 | R33: =ROUND((Q33+O33+M33+K33),0) -> 4793265 | T33: =+H33 -> 4793265 | U33: =+T33-R33 -> 0 | V33: =ROUND((H33-T33),0) -> 0 | W33: =ROUND((Q33+M33+K33+O33)*(#REF!+#REF!),0) -> #REF! | X33: =ROUND((T33)*(#REF!+#REF!),0) -> #REF! | Y33: =+W33-X33 -> #REF!
U34: =+T34-R34 -> 0 | W34: =ROUND((Q34+M34+K34+O34)*(#REF!+#REF!),0) -> #REF! | X34: =ROUND((T34)*(#REF!+#REF!),0) -> #REF!
B35: 7.0 | C35: 46.0 | D35: INSTALACIONES HIDRÁULICAS | H35: =SUM(H36:H36) -> 2473373 | I35: =+H35*(1+G$116) -> 3215384.9 | K35: =SUM(K36) -> 93498 | M35: =SUM(M36) -> 1963458 | O35: =SUM(O36) -> 322919.24 | Q35: =SUM(Q36) -> 93498 | R35: =ROUND((Q35+O35+M35+K35),0) -> 2473373 | T35: =ROUND(Q35+M35+K35+O35,0) -> 2473373 | U35: =+T35-R35 -> 0 | V35: =ROUND((H35-T35),0) -> 0 | W35: =ROUND((Q35+M35+K35+O35)*(#REF!+#REF!),0) -> #REF! | X35: =ROUND((T35)*(#REF!+#REF!),0) -> #REF! | Y35: =+W35-X35 -> #REF! | Z35: =ROUND(SUM(K35:Q35),0) -> 2473373
B36: 7.2 | C36: 46.1 | D36: =+VLOOKUP($B36,APU!$B$5:$J$1835,3,0) -> SUMINISTRO E INSTALACIÓN TUBERÍA PVC PRESIÓN 1/2" RDE 9. | E36: =+VLOOKUP($B36,APU!$B$5:$I$1835,4,0) -> M | F36: =+'ITEM 8,2'!G8 -> 30 | G36: =+VLOOKUP($B36,APU!$B$5:$I$1835,6,0) -> 82445.775 | H36: =ROUND((F36*G36),0) -> 2473373 | J36: =VLOOKUP($B36,APU!$K$6:$P$1687,2,FALSE) -> 3116.6 | K36: =J36*F36 -> 93498 | L36: =VLOOKUP($B36,APU!$K$6:$P$1690,3,FALSE) -> 65448.6 | M36: =L36*F36 -> 1963458 | N36: =VLOOKUP($B36,APU!$K$6:$P$1680,4,FALSE) -> 10763.975 | O36: =N36*F36 -> 322919.24 | P36: =VLOOKUP($B36,APU!$K$6:$P$1680,5,FALSE) -> 3116.6 | Q36: =P36*F36 -> 93498 | R36: =ROUND((Q36+O36+M36+K36),0) -> 2473373 | T36: =+H36 -> 2473373 | U36: =+T36-R36 -> 0 | V36: =ROUND((H36-T36),0) -> 0 | W36: =ROUND((Q36+M36+K36+O36)*(#REF!+#REF!),0) -> #REF! | X36: =ROUND((T36)*(#REF!+#REF!),0) -> #REF! | Y36: =+W36-X36 -> #REF!
U37: =+T37-R37 -> 0 | W37: =ROUND((Q37+M37+K37+O37)*(#REF!+#REF!),0) -> #REF! | X37: =ROUND((T37)*(#REF!+#REF!),0) -> #REF!
B38: 8.0 | C38: 47.0 | D38: INSTALACIONES ELECTRICAS | H38: =SUM(H39:H42) -> 11729171 | I38: =+H38*(1+G$116) -> 15247922 | K38: =ROUND(SUM(K39:K42),0) -> 77999 | M38: =ROUND(SUM(M39:M42),0) -> 1644157 | O38: =ROUND(SUM(O39:O42),0) -> 9929015 | Q38: =SUM(Q39:Q42) -> 77999.367 | R38: =ROUND((Q38+O38+M38+K38),0) -> 11729170 | T38: =ROUND(Q38+M38+K38+O38,0) -> 11729170 | U38: =+T38-R38 -> 0 | V38: =ROUND((H38-T38),0) -> 1 | W38: =ROUND((Q38+M38+K38+O38)*(#REF!+#REF!),0) -> #REF! | X38: =ROUND((T38)*(#REF!+#REF!),0) -> #REF! | Y38: =+W38-X38 -> #REF! | Z38: =ROUND(SUM(K38:Q38),0) -> 11729170
B39: 8.1 | C39: 47.1 | D39: =+VLOOKUP($B39,APU!$B$5:$J$1835,3,0) -> DILIGENCIAR CADA UNO DE LOS FORMATOS PARA LA CERTIFICACIÓN DE LA OBRA POR EL ENTE CERTIFICADOR EN RETIE Y RETILAP, PRESESENTACIÓN DE LA DOCUMENTACIÓN EXIGIDA Y PLANOS RECORDS Y TODOS LOS TRÁMITES Y CANCELACIÓN DEL SERVICIO DE CERTIFICACIÓN. | E39: =+VLOOKUP($B39,APU!$B$5:$I$1835,4,0) -> M2 | F39: 950 | G39: =+VLOOKUP($B39,APU!$B$5:$I$1835,6,0) -> 5655 | H39: =ROUND((F39*G39),0) -> 5372250 | J39: =VLOOKUP($B39,APU!$K$6:$P$1687,2,FALSE) -> 0 | K39: =J39*F39 -> 0 | L39: =VLOOKUP($B39,APU!$K$6:$P$1690,3,FALSE) -> 0 | M39: =L39*F39 -> 0 | N39: =VLOOKUP($B39,APU!$K$6:$P$1680,4,FALSE) -> 5655 | O39: =N39*F39 -> 5372250 | P39: =VLOOKUP($B39,APU!$K$6:$P$1680,5,FALSE) -> 0 | Q39: =P39*F39 -> 0 | R39: =ROUND((Q39+O39+M39+K39),0) -> 5372250 | T39: =+H39 -> 5372250 | U39: =+T39-R39 -> 0 | V39: =ROUND((H39-T39),0) -> 0 | W39: =ROUND((Q39+M39+K39+O39)*(#REF!+#REF!),0) -> #REF! | X39: =ROUND((T39)*(#REF!+#REF!),0) -> #REF! | Y39: =+W39-X39 -> #REF!
B40: 8.2 | C40: 47.2 | D40: =+VLOOKUP($B40,APU!$B$5:$J$1835,3,0) -> SUMINISTRO, TRANSPORTE E INSTALACION SALIDA TOMACORRIENTE GFCI DOBLE EN TUBERIA CONDUIT EMT 3/4", ALAMBRE No 12 AWG INCLUYE TAPA DE PROTECCIÓN INTEMPERIE Y CAJA DE PASO SENCILLA | E40: =+VLOOKUP($B40,APU!$B$5:$I$1835,4,0) -> UN | F40: 10 | G40: =+VLOOKUP($B40,APU!$B$5:$I$1835,6,0) -> 215170.79 | H40: =ROUND((F40*G40),0) -> 2151708 | J40: =VLOOKUP($B40,APU!$K$6:$P$1687,2,FALSE) -> 1967.6475 | K40: =J40*F40 -> 19676.475 | L40: =VLOOKUP($B40,APU!$K$6:$P$1690,3,FALSE) -> 41937.647 | M40: =L40*F40 -> 419376.47 | N40: =VLOOKUP($B40,APU!$K$6:$P$1680,4,FALSE) -> 169297.85 | O40: =N40*F40 -> 1692978.5 | P40: =VLOOKUP($B40,APU!$K$6:$P$1680,5,FALSE) -> 1967.6475 | Q40: =P40*F40 -> 19676.475 | R40: =ROUND((Q40+O40+M40+K40),0) -> 2151708 | T40: =+H40 -> 2151708 | U40: =+T40-R40 -> 0 | V40: =ROUND((H40-T40),0) -> 0 | W40: =ROUND((Q40+M40+K40+O40)*(#REF!+#REF!),0) -> #REF! | X40: =ROUND((T40)*(#REF!+#REF!),0) -> #REF! | Y40: =+W40-X40 -> #REF!
B41: 8.3 | C41: 47.3 | D41: =+VLOOKUP($B41,APU!$B$5:$J$1835,3,0) -> SUMINISTRO E INSTALACIÓN SALIDA PUNTO ELÉCTRICO PARA LUMINARIA, INCLUYE LAMPARA HERMETICA | E41: =+VLOOKUP($B41,APU!$B$5:$I$1835,4,0) -> UN | F41: 13 | G41: =+VLOOKUP($B41,APU!$B$5:$I$1835,6,0) -> 313477 | H41: =ROUND((F41*G41),0) -> 4075201 | J41: =VLOOKUP($B41,APU!$K$6:$P$1687,2,FALSE) -> 4163.5417 | K41: =J41*F41 -> 54126.042 | L41: =VLOOKUP($B41,APU!$K$6:$P$1690,3,FALSE) -> 87434.375 | M41: =L41*F41 -> 1136646.9 | N41: =VLOOKUP($B41,APU!$K$6:$P$1680,4,FALSE) -> 217715.05 | O41: =N41*F41+6 -> 2830301.7 | P41: =VLOOKUP($B41,APU!$K$6:$P$1680,5,FALSE) -> 4163.5417 | Q41: =P41*F41 -> 54126.042 | R41: =ROUND((Q41+O41+M41+K41),0) -> 4075201 | T41: =+H41 -> 4075201 | U41: =+T41-R41 -> 0 | V41: =ROUND((H41-T41),0) -> 0 | W41: =ROUND((Q41+M41+K41+O41)*(#REF!+#REF!),0) -> #REF! | X41: =ROUND((T41)*(#REF!+#REF!),0) -> #REF! | Y41: =+W41-X41 -> #REF!
B42: 8.4 | C42: 47.4 | D42: =+VLOOKUP($B42,APU!$B$5:$J$1835,3,0) -> SUMINISTRO E INSTALACIÓN SALIDA PUNTO ELÉCTRICO PARA INTERRUPTOR SENCILLO (INCLUYE INTERRUPTOR) | E42: =+VLOOKUP($B42,APU!$B$5:$I$1835,4,0) -> UN | F42: 1 | G42: =+VLOOKUP($B42,APU!$B$5:$I$1835,6,0) -> 130012 | H42: =ROUND((F42*G42),0) -> 130012 | J42: =VLOOKUP($B42,APU!$K$6:$P$1687,2,FALSE) -> 4196.85 | K42: =J42*F42 -> 4196.85 | L42: =VLOOKUP($B42,APU!$K$6:$P$1690,3,FALSE) -> 88133.85 | M42: =L42*F42 -> 88133.85 | N42: =VLOOKUP($B42,APU!$K$6:$P$1680,4,FALSE) -> 33484.65 | O42: =N42*F42 -> 33484.65 | P42: =VLOOKUP($B42,APU!$K$6:$P$1680,5,FALSE) -> 4196.85 | Q42: =P42*F42 -> 4196.85 | R42: =ROUND((Q42+O42+M42+K42),0) -> 130012 | T42: =+H42 -> 130012 | U42: =+T42-R42 -> 0 | V42: =ROUND((H42-T42),0) -> 0 | W42: =ROUND((Q42+M42+K42+O42)*(#REF!+#REF!),0) -> #REF! | X42: =ROUND((T42)*(#REF!+#REF!),0) -> #REF! | Y42: =+W42-X42 -> #REF!
U43: =+T43-R43 -> 0 | W43: =ROUND((Q43+M43+K43+O43)*(#REF!+#REF!),0) -> #REF! | X43: =ROUND((T43)*(#REF!+#REF!),0) -> #REF!
B44: 9.0 | C44: 48.0 | D44: PINTURA | H44: =SUM(H45:H46) -> 4542657 | I44: =+H44*(1+G$116) -> 5905454.1 | K44: =SUM(K45:K47) -> 290415.01 | M44: =SUM(M45:M47) -> 1974720.5 | O44: =SUM(O45:O47) -> 2183104.5 | Q44: =SUM(Q45:Q47) -> 94417.338 | R44: =ROUND((Q44+O44+M44+K44),0) -> 4542657 | T44: =ROUND(Q44+M44+K44+O44,0) -> 4542657 | U44: =+T44-R44 -> 0 | V44: =ROUND((H44-T44),0) -> 0 | W44: =ROUND((Q44+M44+K44+O44)*(#REF!+#REF!),0) -> #REF! | X44: =ROUND((T44)*(#REF!+#REF!),0) -> #REF! | Y44: =+W44-X44 -> #REF! | Z44: =ROUND(SUM(K44:Q44),0) -> 4542657
...

Sheet CADENA DE VALOR
C2: SECRETARÍA DE PLANEACION
C4: CADENA DE VALOR
C5: PROYECTO " PLANTA DE BENFICIO ANIMAL DE PALESTINA -CALDAS- ."
O6: =+PRESUPUESTO!#REF!-PRESUPUESTO!#REF! -> #REF!
C7: CAPITULO | D7: EQUIPOS Y HERRAMIENTAS | E7: EQUIPOS Y HERRAMIENTAS CON AU | F7: M.O | G7: M.O CON AU | H7: MATERIALES (INSUMOS) | I7: MATERIALES (INSUMOS) CON AU | J7: TRANSPORTES | K7: TRANSPORTES CON AU | L7: TOTALES | O7: =+O6-#REF! -> #REF!
A8: 1.0 | B8: 41.0 | C8: =VLOOKUP($B8,PRESUPUESTO!$C$3:$H$256,2,FALSE) -> PRELIMINARES | D8: =VLOOKUP($B8,PRESUPUESTO!$C$3:$S$251,9,FALSE) -> 433074.28 | E8: =ROUND(D8*(1+$D$43),0) -> 562997 | F8: =VLOOKUP($B8,PRESUPUESTO!$C$3:$S$251,11,FALSE) -> 5293060.6 | G8: =ROUND(F8*(1+$D$43),0) -> 6880979 | H8: =VLOOKUP($B8,PRESUPUESTO!$C$3:$S$251,13,FALSE) -> 15188.481 | I8: =ROUND(H8*(1+$D$43),0) -> 19745 | J8: =VLOOKUP($B8,PRESUPUESTO!$C$3:$S$251,15,FALSE) -> 1289686.4 | K8: =ROUND(J8*(1+$D$43),0) -> 1676592 | L8: =ROUND((E8+G8+I8+K8),0) -> 9140313 | N8: =VLOOKUP($B8,PRESUPUESTO!$C$3:$S$251,6,FALSE) -> 7031010 | O8: =ROUND(N8*#REF!,0) -> #REF! | P8: =+L8-O8 -> #REF! | Q8: =+VLOOKUP(B8,PRESUPUESTO!C9:I110,7,0) -> 9140313 | R8: =+L8-Q8 -> 0
A9: 4.0 | B9: 43.0 | C9: =VLOOKUP($B9,PRESUPUESTO!$C$3:$H$256,2,FALSE) -> DESAGUES E INSTALACIONES SANITARIAS | D9: =VLOOKUP($B9,PRESUPUESTO!$C$3:$S$251,9,FALSE) -> 163414.19 | E9: =ROUND(D9*(1+$D$43),0) -> 212438 | F9: =VLOOKUP($B9,PRESUPUESTO!$C$3:$S$251,11,FALSE) -> 2308511.6 | G9: =F9*(1+$D$43) -> 3001065.1 | H9: =VLOOKUP($B9,PRESUPUESTO!$C$3:$S$251,13,FALSE)-2 -> 3187335.2 | I9: =ROUND(H9*(1+$D$43),0) -> 4143536 | J9: =VLOOKUP($B9,PRESUPUESTO!$C$3:$S$251,15,FALSE) -> 18699.6 | K9: =J9*(1+$D$43) -> 24309.48 | L9: =ROUND((E9+G9+I9+K9),0) -> 7381349 | N9: =VLOOKUP($B9,PRESUPUESTO!$C$3:$S$251,6,FALSE) -> 5677961 | O9: =ROUND(N9*#REF!,0) -> #REF! | P9: =+L9-O9 -> #REF! | Q9: =+VLOOKUP(B9,PRESUPUESTO!C10:I111,7,0) -> 7381349.3 | R9: =+L9-Q9 -> -0.3
A10: 6.0 | B10: 44.0 | C10: =VLOOKUP($B10,PRESUPUESTO!$C$3:$H$256,2,FALSE) -> ESTRUCTURAS EN CONCRETO, METALICAS Y DE MADERA | D10: =VLOOKUP($B10,PRESUPUESTO!$C$3:$S$251,9,FALSE) -> 3097874.2 | E10: =ROUND(D10*(1+$D$43),0) -> 4027236 | F10: =VLOOKUP($B10,PRESUPUESTO!$C$3:$S$251,11,FALSE) -> 2480034.3 | G10: =ROUND(F10*(1+$D$43),0) -> 3224045 | H10: =VLOOKUP($B10,PRESUPUESTO!$C$3:$S$251,13,FALSE) -> 5974902.9 | I10: =ROUND(H10*(1+$D$43),0) -> 7767374 | J10: =VLOOKUP($B10,PRESUPUESTO!$C$3:$S$251,15,FALSE) -> 114801.38 | K10: =J10*(1+$D$43) -> 149241.79 | L10: =ROUND((E10+G10+I10+K10),0) -> 15167897 | N10: =VLOOKUP($B10,PRESUPUESTO!$C$3:$S$251,6,FALSE) -> 11667613 | O10: =ROUND(N10*#REF!,0) -> #REF! | P10: =+L10-O10 -> #REF! | Q10: =+VLOOKUP(B10,PRESUPUESTO!C11:I112,7,0) -> 15167897 | R10: =+L10-Q10 -> 0.1
A11: 7.0 | B11: 45.0 | C11: =VLOOKUP($B11,PRESUPUESTO!$C$3:$H$256,2,FALSE) -> MAMPOSTERIA | D11: =VLOOKUP($B11,PRESUPUESTO!$C$3:$S$251,9,FALSE) -> 221619 | E11: =ROUND(D11*(1+$D$43),0) -> 288105 | F11: =VLOOKUP($B11,PRESUPUESTO!$C$3:$S$251,11,FALSE) -> 5956347 | G11: =ROUND(F11*(1+$D$43),0) -> 7743251 | H11: =VLOOKUP($B11,PRESUPUESTO!$C$3:$S$251,13,FALSE) -> 7840155 | I11: =ROUND(H11*(1+$D$43),0) -> 10192202 | J11: =VLOOKUP($B11,PRESUPUESTO!$C$3:$S$251,15,FALSE) -> 760705 | K11: =J11*(1+$D$43) -> 988916.5 | L11: =ROUND((E11+G11+I11+K11),0) -> 19212475 | N11: =VLOOKUP($B11,PRESUPUESTO!$C$3:$S$251,6,FALSE) -> 14778827 | O11: =ROUND(N11*#REF!,0) -> #REF! | P11: =+L11-O11 -> #REF! | Q11: =+VLOOKUP(B11,PRESUPUESTO!C12:I113,7,0) -> 19212475 | R11: =+L11-Q11 -> -0.1
A12: 8.0 | B12: 46.0 | C12: =VLOOKUP($B12,PRESUPUESTO!$C$3:$H$256,2,FALSE) -> INSTALACIONES HIDRÁULICAS | D12: =VLOOKUP($B12,PRESUPUESTO!$C$3:$S$251,9,FALSE) -> 93498 | E12: =ROUND(D12*(1+$D$43),0) -> 121547 | F12: =VLOOKUP($B12,PRESUPUESTO!$C$3:$S$251,11,FALSE) -> 1963458 | G12: =F12*(1+$D$43) -> 2552495.4 | H12: =VLOOKUP($B12,PRESUPUESTO!$C$3:$S$251,13,FALSE) -> 322919.24 | I12: =H12*(1+$D$43) -> 419795.02 | J12: =VLOOKUP($B12,PRESUPUESTO!$C$3:$S$251,15,FALSE) -> 93498 | K12: =J12*(1+$D$43) -> 121547.4 | L12: =ROUND((E12+G12+I12+K12),0) -> 3215385 | N12: =VLOOKUP($B12,PRESUPUESTO!$C$3:$S$251,6,FALSE) -> 2473373 | O12: =ROUND(N12*#REF!,0) -> #REF! | P12: =+L12-O12 -> #REF! | Q12: =+VLOOKUP(B12,PRESUPUESTO!C13:I114,7,0) -> 3215384.9 | R12: =+L12-Q12 -> 0.1
A13: 9.0 | B13: 47.0 | C13: =VLOOKUP($B13,PRESUPUESTO!$C$3:$H$256,2,FALSE) -> INSTALACIONES ELECTRICAS | D13: =VLOOKUP($B13,PRESUPUESTO!$C$3:$S$251,9,FALSE) -> 77999 | E13: =ROUND(D13*(1+$D$43),0) -> 101399 | F13: =VLOOKUP($B13,PRESUPUESTO!$C$3:$S$251,11,FALSE) -> 1644157 | G13: =ROUND(F13*(1+$D$43),0) -> 2137404 | H13: =VLOOKUP($B13,PRESUPUESTO!$C$3:$S$251,13,FALSE) -> 9929015 | I13: =H13*(1+$D$43) -> 12907720 | J13: =VLOOKUP($B13,PRESUPUESTO!$C$3:$S$251,15,FALSE) -> 77999.367 | K13: =J13*(1+$D$43) -> 101399.18 | L13: =ROUND((E13+G13+I13+K13),0) -> 15247922 | N13: =VLOOKUP($B13,PRESUPUESTO!$C$3:$S$251,6,FALSE) -> 11729171 | O13: =ROUND(N13*#REF!,0) -> #REF! | P13: =+L13-O13 -> #REF! | Q13: =+VLOOKUP(B13,PRESUPUESTO!C14:I115,7,0) -> 15247922 | R13: =+L13-Q13 -> -0.3
A14: 10.0 | B14: 48.0 | C14: =VLOOKUP($B14,PRESUPUESTO!$C$3:$H$256,2,FALSE) -> PINTURA | D14: =VLOOKUP($B14,PRESUPUESTO!$C$3:$S$251,9,FALSE) -> 290415.01 | E14: =ROUND(D14*(1+$D$43),0) -> 377540 | F14: =VLOOKUP($B14,PRESUPUESTO!$C$3:$S$251,11,FALSE) -> 1974720.5 | G14: =F14*(1+$D$43) -> 2567136.7 | H14: =VLOOKUP($B14,PRESUPUESTO!$C$3:$S$251,13,FALSE) -> 2183104.5 | I14: =H14*(1+$D$43)-1 -> 2838034.9 | J14: =VLOOKUP($B14,PRESUPUESTO!$C$3:$S$251,15,FALSE) -> 94417.338 | K14: =J14*(1+$D$43) -> 122742.54 | L14: =ROUND((E14+G14+I14+K14),0) -> 5905454 | N14: =VLOOKUP($B14,PRESUPUESTO!$C$3:$S$251,6,FALSE) -> 4542657 | O14: =ROUND(N14*#REF!,0) -> #REF! | P14: =+L14-O14 -> #REF! | Q14: =+VLOOKUP(B14,PRESUPUESTO!C15:I116,7,0) -> 5905454.1 | R14: =+L14-Q14 -> -0.1
A15: 11.0 | B15: 49.0 | C15: =VLOOKUP($B15,PRESUPUESTO!$C$3:$H$256,2,FALSE) -> CUBIERTAS | D15: =VLOOKUP($B15,PRESUPUESTO!$C$3:$S$251,9,FALSE) -> 109716.5 | E15: =ROUND(D15*(1+$D$43),0) -> 142631 | F15: =VLOOKUP($B15,PRESUPUESTO!$C$3:$S$251,11,FALSE) -> 1130603.4 | G15: =F15*(1+$D$43) -> 1469784.4 | H15: =VLOOKUP($B15,PRESUPUESTO!$C$3:$S$251,13,FALSE) -> 1286986 | I15: =ROUND(H15*(1+$D$43),0) -> 1673082 | J15: =VLOOKUP($B15,PRESUPUESTO!$C$3:$S$251,15,FALSE) -> 39070 | K15: =J15*(1+$D$43) -> 50791 | L15: =ROUND((E15+G15+I15+K15),0) -> 3336288 | N15: =VLOOKUP($B15,PRESUPUESTO!$C$3:$S$251,6,FALSE) -> 2566376 | O15: =ROUND(N15*#REF!,0) -> #REF! | P15: =+L15-O15 -> #REF! | Q15: =+VLOOKUP(B15,PRESUPUESTO!C16:I119,7,0) -> 3336288.8 | R15: =+L15-Q15 -> -0.8
A16: 12.0 | B16: 50.0 | C16: =VLOOKUP($B16,PRESUPUESTO!$C$3:$H$256,2,FALSE) -> CIELO RASO | D16: =VLOOKUP($B16,PRESUPUESTO!$C$3:$S$251,9,FALSE) -> 17992.125 | E16: =ROUND(D16*(1+$D$43),0) -> 23390 | F16: =VLOOKUP($B16,PRESUPUESTO!$C$3:$S$251,11,FALSE) -> 573260.2 | G16: =F16*(1+$D$43) -> 745238.26 | H16: =VLOOKUP($B16,PRESUPUESTO!$C$3:$S$251,13,FALSE) -> 1423812.7 | I16: =H16*(1+$D$43) -> 1850956.5 | J16: =VLOOKUP($B16,PRESUPUESTO!$C$3:$S$251,15,FALSE) -> 0 | K16: =J16*(1+$D$43) -> 0 | L16: =ROUND((E16+G16+I16+K16),0) -> 2619585 | N16: =VLOOKUP($B16,PRESUPUESTO!$C$3:$S$251,6,FALSE) -> 2015065 | O16: =ROUND(N16*#REF!,0) -> #REF! | P16: =+L16-O16 -> #REF! | Q16: =+VLOOKUP(B16,PRESUPUESTO!C17:I120,7,0) -> 2619584.5 | R16: =+L16-Q16 -> 0.5
A17: 13.0 | B17: 51.0 | C17: =VLOOKUP($B17,PRESUPUESTO!$C$3:$H$256,2,FALSE) -> PISOS Y ACABADOS | D17: =VLOOKUP($B17,PRESUPUESTO!$C$3:$S$251,9,FALSE) -> 17992 | E17: =ROUND(D17*(1+$D$43),0) -> 23390 | F17: =VLOOKUP($B17,PRESUPUESTO!$C$3:$S$251,11,FALSE) -> 68791 | G17: =F17*(1+$D$43) -> 89428.3 | H17: =VLOOKUP($B17,PRESUPUESTO!$C$3:$S$251,13,FALSE) -> 223108 | I17: =H17*(1+$D$43) -> 290040.4 | J17: =VLOOKUP($B17,PRESUPUESTO!$C$3:$S$251,15,FALSE) -> 0 | K17: =J17*(1+$D$43) -> 0 | L17: =ROUND((E17+G17+I17+K17),0) -> 402859 | N17: =VLOOKUP($B17,PRESUPUESTO!$C$3:$S$251,6,FALSE) -> 309891 | O17: =ROUND(N17*#REF!,0) -> #REF! | P17: =+L17-O17 -> #REF! | Q17: =+VLOOKUP(B17,PRESUPUESTO!C18:I121,7,0) -> 402858.3 | R17: =+L17-Q17 -> 0.7
A18: 14.0 | B18: 52.0 | C18: =VLOOKUP($B18,PRESUPUESTO!$C$3:$H$256,2,FALSE) -> ENCHAPES Y ACCESORIOS | D18: =VLOOKUP($B18,PRESUPUESTO!$C$3:$S$251,9,FALSE) -> 68902 | E18: =ROUND(D18*(1+$D$43),0) -> 89573 | F18: =VLOOKUP($B18,PRESUPUESTO!$C$3:$S$251,11,FALSE) -> 1446938 | G18: =F18*(1+$D$43) -> 1881019.4 | H18: =VLOOKUP($B18,PRESUPUESTO!$C$3:$S$251,13,FALSE)-4 -> 1474995 | I18: =ROUND(H18*(1+$D$43),0) -> 1917494 | J18: =VLOOKUP($B18,PRESUPUESTO!$C$3:$S$251,15,FALSE) -> 68902 | K18: =J18*(1+$D$43) -> 89572.6 | L18: =ROUND((E18+G18+I18+K18),0) -> 3977659 | N18: =VLOOKUP($B18,PRESUPUESTO!$C$3:$S$251,6,FALSE) -> 3059739 | O18: =ROUND(N18*#REF!,0) -> #REF! | P18: =+L18-O18 -> #REF! | Q18: =+VLOOKUP(B18,PRESUPUESTO!C19:I123,7,0) -> 3977660.7 | R18: =+L18-Q18 -> -1.7
A19: 15.0 | B19: 53.0 | C19: =VLOOKUP($B19,PRESUPUESTO!$C$3:$H$256,2,FALSE) -> CARPINTERIA METALICA | D19: =VLOOKUP($B19,PRESUPUESTO!$C$3:$S$251,9,FALSE) -> 7988 | E19: =ROUND(D19*(1+$D$43),0) -> 10384 | F19: =VLOOKUP($B19,PRESUPUESTO!$C$3:$S$251,11,FALSE) -> 455281 | G19: =ROUND(F19*(1+$D$43),0) -> 591865 | H19: =VLOOKUP($B19,PRESUPUESTO!$C$3:$S$251,13,FALSE) -> 2044079.2 | I19: =H19*(1+$D$43) -> 2657302.9 | J19: =VLOOKUP($B19,PRESUPUESTO!$C$3:$S$251,15,FALSE) -> 3978.5445 | K19: =J19*(1+$D$43) -> 5172.1079 | L19: =ROUND((E19+G19+I19+K19),0) -> 3264724 | N19: =VLOOKUP($B19,PRESUPUESTO!$C$3:$S$251,6,FALSE) -> 2511325 | O19: =ROUND(N19*#REF!,0) -> #REF! | P19: =+L19-O19 -> #REF! | Q19: =+VLOOKUP(B19,PRESUPUESTO!C20:I124,7,0) -> 3264722.5 | R19: =+L19-Q19 -> 1.5
A20: 20.0 | B20: 54.0 | C20: =VLOOKUP($B20,PRESUPUESTO!$C$3:$H$256,2,FALSE) -> ASEO GENERAL | D20: =VLOOKUP($B20,PRESUPUESTO!$C$3:$S$251,9,FALSE) -> 0 | E20: =ROUND(D20*(1+$D$43),0) -> 0 | F20: =VLOOKUP($B20,PRESUPUESTO!$C$3:$S$251,11,FALSE) -> 3168250 | G20: =F20*(1+$D$43) -> 4118725 | H20: =VLOOKUP($B20,PRESUPUESTO!$C$3:$S$251,13,FALSE) -> 0 | I20: =H20*(1+$D$43) -> 0 | J20: =VLOOKUP($B20,PRESUPUESTO!$C$3:$S$251,15,FALSE) -> 0 | K20: =J20*(1+$D$43) -> 0 | L20: =ROUND((E20+G20+I20+K20),0) -> 4118725 | N20: =VLOOKUP($B20,PRESUPUESTO!$C$3:$S$251,6,FALSE) -> 3168250 | O20: =ROUND(N20*#REF!,0) -> #REF! | P20: =+L20-O20 -> #REF! | Q20: =+VLOOKUP(B20,PRESUPUESTO!C21:I125,7,0) -> 4118725 | R20: =+L20-Q20 -> 0
A21: M | B21: 55.0 | C21: =VLOOKUP($B21,PRESUPUESTO!$C$3:$H$256,2,FALSE) -> EQUIPOS PALESTINA | D21: =VLOOKUP($B21,PRESUPUESTO!$C$3:$S$251,9,FALSE) -> 312936918 | E21: =ROUND(D21*(1+$D$44),0) -> 391171148 | F21: =VLOOKUP($B21,PRESUPUESTO!$C$3:$S$251,11,FALSE) -> 0 | G21: =F21*(1+$D$43) -> 0 | H21: =VLOOKUP($B21,PRESUPUESTO!$C$3:$S$251,13,FALSE) -> 0 | I21: =H21*(1+$D$43) -> 0 | J21: =VLOOKUP($B21,PRESUPUESTO!$C$3:$S$251,15,FALSE) -> 0 | K21: =J21*(1+$D$43) -> 0 | L21: =E21+G21+I21+K21 -> 391171148 | N21: =+PRESUPUESTO!H110 -> 312936918 | O21: =ROUND(N21*#REF!,0) -> #REF! | P21: =+L21-O21 -> #REF! | Q21: =+VLOOKUP(B21,PRESUPUESTO!C22:I128,7,0) -> 3.9117115e+08 | R21: =+L21-Q21 -> 0.5
R22: =+L22-Q22 -> 0
A23: 1.0 | B23: 56.0 | C23: =VLOOKUP($B23,PRESUPUESTO!$C$3:$H$256,2,FALSE) -> OBRAS PRELIMINARES | D23: =VLOOKUP($B23,PRESUPUESTO!$C$3:$S$251,9,FALSE) -> 263088.87 | E23: =ROUND(D23*(1+$D$43),0) -> 342016 | F23: =VLOOKUP($B23,PRESUPUESTO!$C$3:$S$251,11,FALSE) -> 2265217 | G23: =F23*(1+$D$43) -> 2944782.1 | H23: =VLOOKUP($B23,PRESUPUESTO!$C$3:$S$251,13,FALSE) -> 963170.58 | I23: =H23*(1+$D$43) -> 1252121.7 | J23: =VLOOKUP($B23,PRESUPUESTO!$C$3:$S$251,15,FALSE)-3 -> 277529.32 | K23: =J23*(1+$D$43) -> 360788.12 | L23: =ROUND((E23+G23+I23+K23),0) -> 4899708 | N23: =VLOOKUP($B23,PRESUPUESTO!$C$3:$S$251,6,FALSE) -> 3769007 | O23: =ROUND(N23*#REF!,0) -> #REF! | P23: =+L23-O23 -> #REF! | Q23: =+VLOOKUP(B23,PRESUPUESTO!C24:I128,7,0) -> 4899709.1 | R23: =+L23-Q23 -> -1.1
A24: 2.0 | B24: 57.0 | C24: =VLOOKUP($B24,PRESUPUESTO!$C$3:$H$256,2,FALSE) -> MOVIMIENTO DE TIERRAS | D24: =VLOOKUP($B24,PRESUPUESTO!$C$3:$S$251,9,FALSE) -> 64291.464 | E24: =ROUND(D24*(1+$D$43),0) -> 83579 | F24: =VLOOKUP($B24,PRESUPUESTO!$C$3:$S$251,11,FALSE) -> 2182012 | G24: =F24*(1+$D$43) -> 2836615.6 | H24: =VLOOKUP($B24,PRESUPUESTO!$C$3:$S$251,13,FALSE) -> 0 | I24: =H24*(1+$D$43) -> 0 | J24: =VLOOKUP($B24,PRESUPUESTO!$C$3:$S$251,15,FALSE) -> 0 | K24: =J24*(1+$D$43) -> 0 | L24: =ROUND((E24+G24+I24+K24),0) -> 2920195 | N24: =VLOOKUP($B24,PRESUPUESTO!$C$3:$S$251,6,FALSE) -> 2246303 | O24: =ROUND(N24*#REF!,0) -> #REF! | P24: =+L24-O24 -> #REF! | Q24: =+VLOOKUP(B24,PRESUPUESTO!C25:I129,7,0) -> 2920193.9 | R24: =+L24-Q24 -> 1.1
A25: 2A.0 | B25: 58.0 | C25: =VLOOKUP($B25,PRESUPUESTO!$C$3:$H$256,2,FALSE) -> CIMENTACIONES | D25: =VLOOKUP($B25,PRESUPUESTO!$C$3:$S$251,9,FALSE) -> 32957.4 | E25: =ROUND(D25*(1+$D$43),0) -> 42845 | F25: =VLOOKUP($B25,PRESUPUESTO!$C$3:$S$251,11,FALSE) -> 976441 | G25: =F25*(1+$D$43) -> 1269373.3 | H25: =VLOOKUP($B25,PRESUPUESTO!$C$3:$S$251,13,FALSE) -> 6009998.3 | I25: =H25*(1+$D$43) -> 7812997.8 | J25: =VLOOKUP($B25,PRESUPUESTO!$C$3:$S$251,15,FALSE) -> 128360.4 | K25: =J25*(1+$D$43) -> 166868.52 | L25: =ROUND((E25+G25+I25+K25),0) -> 9292085 | N25: =VLOOKUP($B25,PRESUPUESTO!$C$3:$S$251,6,FALSE) -> 7147757 | O25: =ROUND(N25*#REF!,0) -> #REF! | P25: =+L25-O25 -> #REF! | Q25: =+VLOOKUP(B25,PRESUPUESTO!C26:I130,7,0) -> 9292084.1 | R25: =+L25-Q25 -> 0.9
A26: 5.0 | B26: 59.0 | C26: =VLOOKUP($B26,PRESUPUESTO!$C$3:$H$256,2,FALSE) -> ESTRUCTURAS DE CONCRETO, METALICAS Y MADERA | D26: =VLOOKUP($B26,PRESUPUESTO!$C$3:$S$251,9,FALSE) -> 8102067.4 | E26: =ROUND(D26*(1+$D$43),0) -> 10532688 | F26: =VLOOKUP($B26,PRESUPUESTO!$C$3:$S$251,11,FALSE) -> 13620992 | G26: =F26*(1+$D$43) -> 17707290 | H26: =VLOOKUP($B26,PRESUPUESTO!$C$3:$S$251,13,FALSE) -> 30876221 | I26: =H26*(1+$D$43) -> 40139087 | J26: =VLOOKUP($B26,PRESUPUESTO!$C$3:$S$251,15,FALSE) -> 702440.91 | K26: =J26*(1+$D$43) -> 913173.18 | L26: =ROUND((E26+G26+I26+K26),0) -> 69292238 | N26: =VLOOKUP($B26,PRESUPUESTO!$C$3:$S$251,6,FALSE) -> 53301722 | O26: =ROUND(N26*#REF!,0) -> #REF! | P26: =+L26-O26 -> #REF! | Q26: =+VLOOKUP(B26,PRESUPUESTO!C27:I177,7,0) -> 69292239 | R26: =+L26-Q26 -> -0.60000001
A27: 6.0 | B27: 60.0 | C27: =VLOOKUP($B27,PRESUPUESTO!$C$3:$H$256,2,FALSE) -> MAMPOSTERIA | D27: =VLOOKUP($B27,PRESUPUESTO!$C$3:$S$251,9,FALSE) -> 45231.627 | E27: =ROUND(D27*(1+$D$43),0) -> 58801 | F27: =VLOOKUP($B27,PRESUPUESTO!$C$3:$S$251,11,FALSE) -> 1060140 | G27: =F27*(1+$D$43) -> 1378182 | H27: =VLOOKUP($B27,PRESUPUESTO!$C$3:$S$251,13,FALSE) -> 1966403.6 | I27: =H27*(1+$D$43) -> 2556324.7 | J27: =VLOOKUP($B27,PRESUPUESTO!$C$3:$S$251,15,FALSE) -> 97254.178 | K27: =J27*(1+$D$43)+1 -> 126431.43 | L27: =ROUND((E27+G27+I27+K27),0) -> 4119739 | N27: =VLOOKUP($B27,PRESUPUESTO!$C$3:$S$251,6,FALSE) -> 3169030 | O27: =ROUND(N27*#REF!,0) -> #REF! | P27: =+L27-O27 -> #REF! | Q27: =+VLOOKUP(B27,PRESUPUESTO!C28:I178,7,0) -> 4119739 | R27: =+L27-Q27 -> 0
A28: 7.0 | B28: 61.0 | C28: =VLOOKUP($B28,PRESUPUESTO!$C$3:$H$256,2,FALSE) -> INSTALACIONES HIDRAULICAS | D28: =VLOOKUP($B28,PRESUPUESTO!$C$3:$S$251,9,FALSE) -> 243784.64 | E28: =ROUND(D28*(1+$D$43),0) -> 316920 | F28: =VLOOKUP($B28,PRESUPUESTO!$C$3:$S$251,11,FALSE) -> 237837 | G28: =F28*(1+$D$43) -> 309188.1 | H28: =VLOOKUP($B28,PRESUPUESTO!$C$3:$S$251,13,FALSE) -> 6993336.4 | I28: =H28*(1+$D$43) -> 9091337.3 | J28: =VLOOKUP($B28,PRESUPUESTO!$C$3:$S$251,15,FALSE) -> 113795.62 | K28: =J28*(1+$D$43)-2 -> 147932.31 | L28: =ROUND((E28+G28+I28+K28),0) -> 9865378 | N28: =VLOOKUP($B28,PRESUPUESTO!$C$3:$S$251,6,FALSE) -> 7588755 | O28: =ROUND(N28*#REF!,0) -> #REF! | P28: =+L28-O28 -> #REF! | Q28: =+VLOOKUP(B28,PRESUPUESTO!C29:I179,7,0) -> 9865381.5 | R28: =+L28-Q28 -> -3.5
A29: 9.0 | B29: 62.0 | C29: =VLOOKUP($B29,PRESUPUESTO!$C$3:$H$256,2,FALSE) -> PINTURA | D29: =VLOOKUP($B29,PRESUPUESTO!$C$3:$S$251,9,FALSE) -> 2170465.2 | E29: =ROUND(D29*(1+$D$43),0) -> 2821605 | F29: =VLOOKUP($B29,PRESUPUESTO!$C$3:$S$251,11,FALSE) -> 10544965 | G29: =F29*(1+$D$43) -> 13708454 | H29: =VLOOKUP($B29,PRESUPUESTO!$C$3:$S$251,13,FALSE) -> 3426966.3 | I29: =H29*(1+$D$43) -> 4455056.1 | J29: =VLOOKUP($B29,PRESUPUESTO!$C$3:$S$251,15,FALSE) -> 512420.42 | K29: =J29*(1+$D$43) -> 666146.54 | L29: =ROUND((E29+G29+I29+K29),0) -> 21651262 | N29: =VLOOKUP($B29,PRESUPUESTO!$C$3:$S$251,6,FALSE) -> 16654816 | O29: =ROUND(N29*#REF!,0) -> #REF! | P29: =+L29-O29 -> #REF! | Q29: =+VLOOKUP(B29,PRESUPUESTO!C30:I180,7,0) -> 21651261 | R29: =+L29-Q29 -> 1.2
A30: 10.0 | B30: 63.0 | C30: =VLOOKUP($B30,PRESUPUESTO!$C$3:$H$256,2,FALSE) -> CUBIERTAS | D30: =VLOOKUP($B30,PRESUPUESTO!$C$3:$S$251,9,FALSE) -> 13668.75 | E30: =ROUND(D30*(1+$D$43),0) -> 17769 | F30: =VLOOKUP($B30,PRESUPUESTO!$C$3:$S$251,11,FALSE) -> 117807 | G30: =F30*(1+$D$43) -> 153149.1 | H30: =VLOOKUP($B30,PRESUPUESTO!$C$3:$S$251,13,FALSE) -> 102616.27 | I30: =H30*(1+$D$43) -> 133401.15 | J30: =VLOOKUP($B30,PRESUPUESTO!$C$3:$S$251,15,FALSE) -> 0 | K30: =J30*(1+$D$43) -> 0 | L30: =ROUND((E30+G30+I30+K30),0) -> 304319 | N30: =VLOOKUP($B30,PRESUPUESTO!$C$3:$S$251,6,FALSE) -> 234090 | O30: =ROUND(N30*#REF!,0) -> #REF! | P30: =+L30-O30 -> #REF! | Q30: =+VLOOKUP(B30,PRESUPUESTO!C31:I181,7,0) -> 304317 | R30: =+L30-Q30 -> 2
A31: 17.0 | B31: 64.0 | C31: =VLOOKUP($B31,PRESUPUESTO!$C$3:$H$256,2,FALSE) -> CARPINTERIA METALICA | D31: =VLOOKUP($B31,PRESUPUESTO!$C$3:$S$251,9,FALSE) -> 3542123.5 | E31: =ROUND(D31*(1+$D$43),0) -> 4604761 | F31: =VLOOKUP($B31,PRESUPUESTO!$C$3:$S$251,11,FALSE) -> 24637538 | G31: =F31*(1+$D$43) -> 32028799 | H31: =VLOOKUP($B31,PRESUPUESTO!$C$3:$S$251,13,FALSE) -> 62816510 | I31: =H31*(1+$D$43) -> 81661463 | J31: =VLOOKUP($B31,PRESUPUESTO!$C$3:$S$251,15,FALSE) -> 5078817 | K31: =J31*(1+$D$43)-3 -> 6602459.2 | L31: =ROUND((E31+G31+I31+K31),0) -> 124897483 | N31: =VLOOKUP($B31,PRESUPUESTO!$C$3:$S$251,6,FALSE) -> 96074987 | O31: =ROUND(N31*#REF!,0) -> #REF! | P31: =+L31-O31 -> #REF! | Q31: =+VLOOKUP(B31,PRESUPUESTO!C32:I184,7,0) -> 1.2489748e+08 | R31: =+L31-Q31 -> -0.10000001
A32: 18.0 | B32: 65.0 | C32: =VLOOKUP($B32,PRESUPUESTO!$C$3:$H$256,2,FALSE) -> OBRAS VARIAS | D32: =VLOOKUP($B32,PRESUPUESTO!$C$3:$S$251,9,FALSE) -> 1260570.6 | E32: =ROUND(D32*(1+$D$43),0) -> 1638742 | F32: =VLOOKUP($B32,PRESUPUESTO!$C$3:$S$251,11,FALSE) -> 12469545 | G32: =F32*(1+$D$43) -> 16210408 | H32: =VLOOKUP($B32,PRESUPUESTO!$C$3:$S$251,13,FALSE) -> 57633321 | I32: =H32*(1+$D$43) -> 74923318 | J32: =VLOOKUP($B32,PRESUPUESTO!$C$3:$S$251,15,FALSE) -> 1162156.9 | K32: =J32*(1+$D$43) -> 1510804 | L32: =ROUND((E32+G32+I32+K32),0) -> 94283272 | N32: =VLOOKUP($B32,PRESUPUESTO!$C$3:$S$251,6,FALSE) -> 72525594 | O32: =ROUND(N32*#REF!,0) -> #REF! | P32: =+L32-O32 -> #REF! | Q32: =+VLOOKUP(B32,PRESUPUESTO!C33:I185,7,0) -> 94283272 | R32: =+L32-Q32 -> -0.2
A33: 19.0 | B33: 66.0 | C33: =VLOOKUP($B33,PRESUPUESTO!$C$3:$H$256,2,FALSE) -> ADECUACIONES SANITARIAS | D33: =VLOOKUP($B33,PRESUPUESTO!$C$3:$S$251,9,FALSE) -> 188679.53 | E33: =ROUND(D33*(1+$D$43),0) -> 245283 | F33: =VLOOKUP($B33,PRESUPUESTO!$C$3:$S$251,11,FALSE) -> 4253485 | G33: =F33*(1+$D$43) -> 5529530.5 | H33: =VLOOKUP($B33,PRESUPUESTO!$C$3:$S$251,13,FALSE) -> 8076606.7 | I33: =H33*(1+$D$43) -> 10499589 | J33: =VLOOKUP($B33,PRESUPUESTO!$C$3:$S$251,15,FALSE) -> 201790.53 | K33: =J33*(1+$D$43) -> 262327.69 | L33: =ROUND((E33+G33+I33+K33),0) -> 16536730 | N33: =VLOOKUP($B33,PRESUPUESTO!$C$3:$S$251,6,FALSE) -> 12720561 | O33: =ROUND(N33*#REF!,0) -> #REF! | P33: =+L33-O33 -> #REF! | Q33: =+VLOOKUP(B33,PRESUPUESTO!C34:I186,7,0) -> 16536729 | R33: =+L33-Q33 -> 0.7
C35: COSTO TOTAL | D35: =ROUND(SUM(D8:D33),0) -> 333464331 | E35: =ROUND(SUM(E8:E33),0) -> 417856787 | F35: =ROUND(SUM(F8:F33),0) -> 100829392 | G35: =ROUND(SUM(G8:G33),0) -> 131078209 | H35: =ROUND(SUM(H8:H33),0) -> 214770752 | I35: =ROUND(SUM(I8:I33),0) -> 279201978 | J35: =ROUND(SUM(J8:J33),0) -> 10836323 | K35: =ROUND(SUM(K8:K33),0) -> 14087216 | L35: =ROUND(SUM(L8:L33),0) -> 842224192 | Q35: =ROUND(SUM(Q8:Q33),0) -> 842224192
N37: =SUM(N8:N20) -> 71531258
O38: =+PRESUPUESTO!#REF!-PRESUPUESTO!H184 -> #REF!
C39: COSTO DIRECTO MAS AIU | F39: =+L35 -> 842224192
C40: PLAN DE GESTION INTEGRAL DE OBRA (PGIO) | H40: =+PRESUPUESTO!H190 -> 5108244.5
C41: COSTO TOTAL DE INTERVENTORIA | H41: =+PRESUPUESTO!H191 -> 65927711
C42: COSTO TOTAL DE OBRA+ INTERVENTORIA | H42: =ROUND(SUM(F39:H41),0) -> 913260148
C43: A.U | D43: =AIU!I46 -> 0.3
C44: ADMINISTRACION EQUIPOS A | D44: =+AIU!I11 -> 0.25
...

Sheet APU
C2: Objeto: CONTRATAR A TODO COSTO OBRAS PARA LA ADECUACIÓN, MANTENIMIENTO, Y SUMINISTRO E INSTALACIÓN DE EQUIPOS EN LA LÍNEA DE SACRIFICIO DE BOVINOS DE LA PLANTA DE BENEFICIO DE AUTOCONSUMO DEL MUNICIPIO PALESTINA ."
B4: ITEM | C4: ID BASE | D4: DESCRIPCIÓN | E4: UNIDAD | F4: CANTIDAD | G4: VALOR UNITARIO | H4: RENDIMIENTO/DESPERDICIOS/USOS | I4: VALOR PARCIAL | K4: ITEM | L4: EQUIPOS Y HERRAMIENTAS | M4: MANO DE OBRA NO CALIFICADA | N4: MATERIALES (INSUMOS | O4: TRANSPORTE | P4: TOTAL
B7: ITEM | C7: ID BASE | D7: DESCRIPCIÓN | E7: UNIDAD | F7: CANTIDAD | G7: VALOR UNITARIO | H7: RENDIMIENTO/DESPERDICIOS/USOS | I7: VALOR PARCIAL
B8: 1.1 | D8: LOCALIZACION Y REPLANTEO | E8: M² | G8: =SUM(I9:I12) -> 4197.598 | K8: =+B8 -> 1.1 | L8: =+I9 -> 331.058 | M8: =+I10 -> 2074 | N8: =SUM(I11:I12) -> 1792.54 | P8: =SUM(L8:O8) -> 4197.598 | Q8: =+Tabla2[[#This Row],[VALOR UNITARIO ]]-P8 -> 0
D9: HERRAMIENTA MENOR | E9: GL | F9: 0.1 | G9: 3310.58 | H9: 1 | I9: =(F9*G9*H9) -> 331.058
D10: COMISION TOPOGRAFICA PERMANENTE ( INCLUYE TOPOGRAFO, CADENERO Y EQUIPO TOPOGRAFICO (ESTACIÓN Y NIVEL)). | E10: M2 | F10: 1 | G10: 2074 | H10: 1 | I10: =(F10*G10*H10) -> 2074
D11: PUNTILLA CON CABEZA DE 2" | E11: lb | F11: 0.02 | G11: 4857 | H11: 1 | I11: =(F11*G11*H11) -> 97.14
D12: LISTON 2 X 4 | E12: m | F12: 0.7 | G12: 2422 | H12: 1 | I12: =(F12*G12*H12) -> 1695.4
B14: TIPO | C14: TIPO | D14: DESCRIPCIÓN | E14: UNIDAD | F14: CANTIDAD | G14: VALOR UNITARIO | H14: RENDIMIENTO/DESPERDICIOS/USOS | I14: VALOR PARCIAL
B15: 1.2 | D15: DEMOLICIÓN PLACA DE CONTRAPISO EN CONCRETO SIMPLE. | E15: M² | G15: =SUM(I16:I19) -> 72624.225 | K15: =+B15 -> 1.2 | L15: =+I17 -> 3157.575 | M15: =+I16+I19 -> 66309.075 | O15: =+I18 -> 3157.575 | P15: =SUM(L15:O15) -> 72624.225 | Q15: =+Tabla5[[#This Row],[VALOR UNITARIO ]]-P15 -> 0
B16: M.O | C16: M.O | D16: =+MO!B75 -> CUADRILLA AA TIPO 2 (1 OFICIAL + 2 AYUDANTE) (Albañileria) | E16: HR | F16: 1 | G16: =+MO!F75 -> 42101 | H16: 1.5 | I16: =(F16*G16*H16) -> 63151.5
B17: EQU. | C17: EQU. | D17: EQUIPO BÁSICO (HERRAMIENTA MENOR) | E17: %M.O | F17: 1 | G17: =+I16 -> 63151.5 | H17: 0.05 | I17: =(F17*G17*H17) -> 3157.575
B18: TRANS. | C18: TRANS. | D18: EQUIPO DE TRANSPORTE | E18: %M.O | F18: 1 | G18: =+I16 -> 63151.5 | H18: 0.05 | I18: =(F18*G18*H18) -> 3157.575
B19: TRANS. | C19: TRANS. | D19: ACARREO INTERNO | E19: %M.O | F19: 1 | G19: =+I16 -> 63151.5 | H19: 0.05 | I19: =(F19*G19*H19) -> 3157.575
B21: TIPO | C21: TIPO | D21: DESCRIPCIÓN | E21: UNIDAD | F21: CANTIDAD | G21: VALOR UNITARIO | H21: RENDIMIENTO/DESPERDICIOS/USOS | I21: VALOR PARCIAL
