Workbook
Name \0: #REF!
Name \00: #REF!
Name \a: #REF!
Name \AA: [1]LIQUIDACION!#REF!
Name \b: [2]STRSUMM0!#REF!
Name \bb: [2]STRSUMM0!#REF!
Name \E: #REF!
Name \EE: #REF!
Name \G: #REF!
Name \k: '[3]7422CW00'!#REF!
Name \l: [4]STRSUMM0!#REF!
Name \M: #REF!
Name \ñ: '[5]7422CW00'!#REF!
Name \P: #REF!
Name \R: #REF!
Name \s: #REF!
Name \V: #REF!
Name \X: 'PRESUPUESTO OFICIAL (Entidad)'!ERR
Name \X: [0]!ERR
Name \Z: 'PRESUPUESTO OFICIAL (Entidad)'!ERR
Name \Z: [0]!ERR
Name _________AFC1: [6]INV!$A$25:$D$28
Name _________AFC3: [6]INV!$F$25:$I$28
Name _________AFC5: [6]INV!$K$25:$N$28
Name _________BGC1: [6]INV!$A$5:$D$8
Name _________BGC3: [6]INV!$F$5:$I$8
Name _________BGC5: [6]INV!$K$5:$N$8
Name _________CAC1: [6]INV!$A$19:$D$22
Name _________CAC3: [6]INV!$F$19:$I$22
Name _________CAC5: [6]INV!$K$19:$N$22
Name _________PJ50: #REF!
Name _________SBC1: [6]INV!$A$12:$D$15
Name _________SBC3: [6]INV!$F$12:$I$15
Name _________SBC5: [6]INV!$K$12:$N$15
Name ________AFC1: [6]INV!$A$25:$D$28
Name ________AFC3: [6]INV!$F$25:$I$28
Name ________AFC5: [6]INV!$K$25:$N$28
Name ________BGC1: [6]INV!$A$5:$D$8
Name ________BGC3: [6]INV!$F$5:$I$8
Name ________BGC5: [6]INV!$K$5:$N$8
Name ________CAC1: [6]INV!$A$19:$D$22
Name ________CAC3: [6]INV!$F$19:$I$22
Name ________CAC5: [6]INV!$K$19:$N$22
Name ________MA2: #REF!
Name ________PJ50: #REF!
Name ________SBC1: [6]INV!$A$12:$D$15
Name ________SBC3: [6]INV!$F$12:$I$15
Name ________SBC5: [6]INV!$K$12:$N$15
Name _______AFC1: [6]INV!$A$25:$D$28
Name _______AFC3: [6]INV!$F$25:$I$28
Name _______AFC5: [6]INV!$K$25:$N$28
Name _______BGC1: [6]INV!$A$5:$D$8
Name _______BGC3: [6]INV!$F$5:$I$8
Name _______BGC5: [6]INV!$K$5:$N$8
Name _______CAC1: [6]INV!$A$19:$D$22
Name _______CAC3: [6]INV!$F$19:$I$22
Name _______CAC5: [6]INV!$K$19:$N$22
Name _______MA2: #REF!
Name _______PJ50: #REF!
Name _______SBC1: [6]INV!$A$12:$D$15

Sheet PRESUPUESTO OFICIAL (Entidad)
C3: Formulario 1 - Propuesta económica - Licitación de obra pública de infraestructura social
C4: Código | D4: CCE-EICP-FM-116 | E4: Versión
C5: FLDRUU-LP-XXX-2025
C6: ANEXO No. 1 - PRESUPUESTO OFICIAL
N8: SALARIO 2023 | O8: 1160000
C9: Adicionalmente, cuando el Proceso de Contratación es estructurado por Precios Unitarios, la Entidad debe aplicar las notas 1, 2 y 3 del presente Formulario y las casillas de "Descripción", "Porcentaje" de la Administración, Imprevisto, Utilidad y total A.I.U. resaltadas en color amarillo. Tratándose de otras modalidades de precio, la Entidad puede o no configurar los mismos aspectos. | N9: SALARIO 2024 | O9: 1300000 | P9: 0.12
N10: SALARIO 2025 | O10: 1423500 | P10: 0.0953
C11: Nº | D11: ÍTEM DE PAGO | E11: CODIGO IDRD | F11: DESCRIPCIÓN | G11: UND. | H11: CANTIDAD | I11: VALOR UNITARIO | J11: VALOR TOTAL
C12: 1. PRELIMINARES
C13: 1 | D13: 1.03 | E13: 11646 | F13: Cerramiento lona h=2.20 mts(Exc) ** | G13: ML | H13: 25 | I13: 33456 | J13: =ROUND(I13*H13,0) -> 836400
C14: 2. DEMOLICIONES | N14: IPC 2024 | O14: 0.0928
C15: 2 | D15: 2.01 | E15: 10149 | F15: Demolicion anden concr e=0.10 incl. cargue y ret * | G15: M2 | H15: 23 | I15: 37707 | J15: =ROUND(I15*H15,0) -> 867261 | N15: IPC 2025 a mayo | O15: 0.0505
C16: 3 | D16: 2.02 | E16: 12087 | F16: Demolición cerramiento contra impacto h=5.0m | G16: ML | H16: 34 | I16: 247628 | J16: =ROUND(I16*H16,0) -> 8419352
C17: 4 | D17: 2.03 | E17: 10208 | F17: Demol pav asfaltico e=0.10m (corte disco+cargue+retiro) | G17: M2 | H17: 45 | I17: 46161 | J17: =ROUND(I17*H17,0) -> 2077245
C18: 5 | D18: 2.04 | E18: 10209 | F18: Demolicion sendero en adoquin incluye cargue+retiro | G18: M2 | H18: 67 | I18: 15635 | J18: =ROUND(I18*H18,0) -> 1047545
C19: 6 | D19: 2.05 | E19: 10760 | F19: Demolición carcamo equipo inclu. cargue y retiro | G19: ML | H19: 80 | I19: 23196 | J19: =ROUND(I19*H19,0) -> 1855680
C20: 7 | D20: 2.06 | E20: 15122 | F20: Demolición placa de contrapiso H=0.10M+Trasi+Retir | G20: M2 | H20: 23 | I20: 28925 | J20: =ROUND(I20*H20,0) -> 665275
C21: 8 | D21: 2.07 | E21: 12802 | F21: Demolición Manual de Bordillo incly cargue y reti | G21: ML | H21: 200 | I21: 15253 | J21: =ROUND(I21*H21,0) -> 3050600
C22: 9 | D22: 2.08 | E22: 11373 | F22: Descapote Manual y Retiro (e=10-15Cm). | G22: M2 | H22: 56 | I22: 18482 | J22: =ROUND(I22*H22,0) -> 1034992
C23: 3. DESMONTES Y RETIROS
C24: 10 | D24: 3.01 | E24: 10240 | F24: Desmonte y retiro juegos infantiles(Máx.10eventos) | G24: JGO | H24: 12 | I24: 98107 | J24: =ROUND(I24*H24,0) -> 1177284
C25: 11 | D25: 3.02 | E25: 10016 | F25: Desmonte y retiro malla existente h=2.0 m | G25: ML | H25: 34 | I25: 14422 | J25: =ROUND(I25*H25,0) -> 490348
C26: 12 | D26: 3.03 | E26: 10860 | F26: Desmonte y retiro canecas | G26: UND | H26: 25 | I26: 51694 | J26: =ROUND(I26*H26,0) -> 1292350
C27: 13 | D27: 3.04 | E27: 16617 | F27: Desmonte + Retir juego Infantil Metalico(rod o pasa) | G27: UND | H27: 18 | I27: 141009 | J27: =ROUND(I27*H27,0) -> 2538162
C28: 14 | D28: 3.05 | E28: 10882 | F28: Desmonte Banca Exist.(demol. de bases y retiro)** | G28: UNI | H28: 12 | I28: 136132 | J28: =ROUND(I28*H28,0) -> 1633584
C29: 15 | D29: 3.06 | E29: 14439 | F29: DESMONTE PISO DE CAUCHO(Trasiego+Retiro) | G29: M2 | H29: 57 | I29: 10614 | J29: =ROUND(I29*H29,0) -> 604998
C30: 16 | D30: 3.07 | E30: 12837 | F30: Desmonte Señal (IDG-S) | G30: UN | H30: 20 | I30: 52490 | J30: =ROUND(I30*H30,0) -> 1049800
C31: 17 | D31: 3.08 | E31: 12911 | F31: Desmonte de Balancin Madera-STPM | G31: UND | H31: 21 | I31: 179041 | J31: =ROUND(I31*H31,0) -> 3759861
C32: 18 | D32: 3.09 | E32: 10439 | F32: Desmonte estruc. de cancha multiple + retiro | G32: JGO | H32: 12 | I32: 415592 | J32: =ROUND(I32*H32,0) -> 4987104
C33: 19 | D33: 3.1 | E33: 12405 | F33: Desmonte juegos tipo M-5 o 5A-STPM | G33: UN | H33: 32 | I33: 316927 | J33: =ROUND(I33*H33,0) -> 10141664
C34: 20 | D34: 3.11 | E34: 16635 | F34: Desmonte,corte,reinstalac adoquin pegado sin Sumin | G34: M2 | H34: 67 | I34: 48754 | J34: =ROUND(I34*H34,0) -> 3266518
C35: 21 | D35: 3.12 | E35: 12408 | F35: Desmonte juego tipo M-3-STPM | G35: UND | H35: 23 | I35: 609120 | J35: =ROUND(I35*H35,0) -> 14009760
C36: 4. EXCAVAVION NIVELACION Y RELLENO
C37: 22 | D37: 4.01 | E37: 18675 | F37: Excavac Mecanic+retiro(250m3/dia)V-15m3-BlandoCDRC | G37: M3 | H37: 22 | I37: 51994 | J37: =ROUND(I37*H37,0) -> 1143868
C38: 23 | D38: 4.02 | E38: 12175 | F38: Excavacion manual con retiro en recebo | G38: M3 | H38: 22 | I38: 99261 | J38: =ROUND(I38*H38,0) -> 2183742
C39: 24 | D39: 4.03 | E39: 13195 | F39: Excavacion manual con retiro suelo blando | G39: M3 | H39: 22 | I39: 89763 | J39: =ROUND(I39*H39,0) -> 1974786
C40: 25 | D40: 4.04 | E40: 10724 | F40: Relleno compactado Base granular tipo IDRD ** | G40: M3 | H40: 22 | I40: 192099 | J40: =ROUND(I40*H40,0) -> 4226178
C41: 26 | D41: 4.05 | E41: 12501 | F41: Relleno compactado Subbase granular tipo IDRD | G41: M3 | H41: 22 | I41: 147553 | J41: =ROUND(I41*H41,0) -> 3246166
C42: 27 | D42: 4.06 | E42: 10909 | F42: Relleno rajon (mecanico) ** | G42: M3 | H42: 22 | I42: 242365 | J42: =ROUND(I42*H42,0) -> 5332030
C43: 28 | D43: 4.07 | E43: 19249 | F43: Relleno en Subbase Granular Reciclada Tipo A | G43: M3 | H43: 22 | I43: 200390 | J43: =ROUND(I43*H43,0) -> 4408580
...

Sheet PRESUPUESTO
B2: FORMATO | D2: VIGENCIA | E2: PROCESO
D3: 2025 | E3: Proyectos
B4: FONDO DE DESARROLLO LOCAL DE RAFAEL URIBE URIBE
B7: PRESUPUESTO OFICIAL
B9: OBJETO: | D9: EJECUTAR A MONTO AGOTABLE Y A PRECIOS UNITARIOS FIJOS, EL DIAGNOSTICO Y LAS OBRAS NECESARIAS PARA LA ADECUACIÓN, DOTACION, MANTENIMIENTO Y/O MEJORAMIENTO DE LOS PARQUES CATALOGADOS DE PROXIMIDAD EN LA LOCALIDAD DE RAFAEL URIBE URIBE EN BOGOTÁ D.C”.
B15: SUBTOTAL COSTOS DIRECTOS OBRA | G15: =+'PRESUPUESTO OFICIAL (Entidad)'!J101 -> 417455645
B17: AIU | F17: =+'AIU '!K73 -> 0.2843 | G17: =F17*G15 -> 1.1868264e+08
B19: COSTOS OBRA INCLUIDO AIU | G19: =G15+G17 -> 5.3613828e+08
B21: COMPONENTE AMBIENTAL Y SST | F21: 0.038357237 | G21: =+'SST - AMBIENTAL'!M85 -> 16012445 | H21: =+G21*100/G15 -> 3.8357237
B22: COMPONENTE SOCIAL | F22: 0.053452328 | G22: =+'SOCIAL '!M52 -> 22313976 | H22: =+G22*100/G15 -> 5.3452328
B25: TOTAL COSTOS PROCESO LP | G25: =G19+G21+G22 -> 5.7446471e+08

Sheet AIU 
B2: ANALISIS DEL VALOR DEL AIU FONDO DE DESARROLLO LOCAL DE RAFAEL URIBE URIBE
B5: OBJETO | E5: EJECUTAR A MONTO AGOTABLE Y A PRECIOS UNITARIOS FIJOS, EL DIAGNOSTICO Y LAS OBRAS NECESARIAS PARA LA ADECUACIÓN, DOTACION, MANTENIMIENTO Y/O MEJORAMIENTO DE LOS PARQUES CATALOGADOS DE PROXIMIDAD EN LA LOCALIDAD DE RAFAEL URIBE URIBE EN BOGOTÁ D.C”.
C9: COSTO DIRECTO ESTIMADO DE OBRA (CD) | H9: =+PRESUPUESTO!G15 -> 417455645
C10: AIU | H10: =K73 -> 0.2843 | N10: 2486058318
H11: =ROUND(H9*H10,0) -> 118682640 | N11: =+N10*0.05 -> 1.2430292e+08
C12: TERMINO ESTIMADO DE EJECUCIÓN DE OBRA | H12: 4
C14: COSTO ACTIVIDADES AMBIENTALES y SST | H14: =+'SST - AMBIENTAL'!M85 -> 16012445
C15: COSTO GESTION SOCIAL | H15: =+'SOCIAL '!M52 -> 22313976
C17: COSTO TOTAL PRESUPUESTO MONTO AGOTABLE | H17: =+H9+H11+H14+H15 -> 574464706
B21: ITEM | C21: A. ADMINISTRACIÓN
C22: 1. COSTOS MENSUALES DE PERSONAL
C23: CARGO | D23: CODIGO IDU | E23: CANTIDAD | F23: CATEGORÍA | G23: Dedicación /Mes | H23: TOPE SALARIO MES | I23: FACTOR PRESTACIONAL | J23: No. MESES | K23: SALARIO + PRESTACIONES
E24: A | G24: B | H24: C | I24: D | J24: E | K24: F=A*B*C*D*E
B25: 1 | C25: PERSONAL PROFESIONAL (Ingenieros y otros)
B26: 1.101 | C26: DIRECTOR DE OBRA | D26: 9113 | E26: 1 | F26: 7 | G26: 0.4 | H26: 5510000 | I26: =+FC!E29 -> 1.58 | J26: 4 | K26: =+((((H26*I26)/100)+H26)*G26)*J26 -> 8955292.8
B27: 1.102 | C27: ESPECIALISTA HIDRAULICO | D27: 9114 | E27: 1 | F27: 8 | G27: 0.1 | H27: 5200000 | I27: =+FC!E29 -> 1.58 | J27: 4 | K27: =+((((H27*I27)/100)+H27)*G27)*J27 -> 2112864
B28: 1.103 | C28: TOPOGRAFO | D28: 9114 | E28: 1 | F28: 8 | G28: 0.15 | H28: 5200000 | I28: =+FC!E29 -> 1.58 | J28: 4 | K28: =+((((H28*I28)/100)+H28)*G28)*J28 -> 3169296
B29: 1.104 | C29: INGENIERO RESIDENTE DE OBRA | D29: 9114 | E29: 1 | F29: 8 | G29: 1 | H29: 5200000 | I29: =+FC!E29 -> 1.58 | J29: 4 | K29: =+((((H29*I29)/100)+H29)*G29)*J29 -> 21128640
B30: 1.105 | C30: ARQUITECTO | D30: 9114 | E30: 1 | F30: 8 | G30: 0.15 | H30: 5200000 | I30: =+FC!$E$29 -> 1.58 | J30: 4 | K30: =+((((H30*I30)/100)+H30)*G30)*J30 -> 3169296
B31: 1.2 | C31: PERSONAL TÉCNICO Y PERSONAL AUXILIAR
B32: 1.201 | C32: TARIFA MES - PERSONAL TÉCNICO - INSPECTOR 1 (No incluye Factor de Prestaciones) | D32: 9093 | E32: 1 | G32: 0.7 | H32: 2586000 | I32: =+FC!$E$29 -> 1.58 | J32: 4 | K32: =+((((H32*I32)/100)+H32)*G32)*J32 -> 7355204.6
B33: 1.202 | C33: TARIFA MES - PERSONAL TÉCNICO - TOPÓGRAFO INSPECTOR (No incluye Factor de Prestaciones) | D33: 9088 | E33: 1 | G33: 0.2 | H33: 3555000 | I33: =+FC!$E$29 -> 1.58 | J33: 4 | K33: =+((((H33*I33)/100)+H33)*G33)*J33 -> 2888935.2
B34: 1.3 | C34: PERSONAL ADMINISTRATIVO
B35: 1.301 | C35: TARIFA MES - PERSONAL ADMINISTRATIVO - AUXILIAR ADMINISTRATIVO-ALMACENISTA (No incluye Factor de Prestaciones) | D35: 9103 | E35: 1 | G35: 1 | H35: 2361000 | I35: =+FC!$E$29 -> 1.58 | J35: 4 | K35: =+((((H35*I35)/100)+H35)*G35)*J35 -> 9593215.2
K36: =SUM(K26:K35) -> 58372744
B38: 2 | C38: GASTOS OPERACIONALES MENSUALES | D38: CODIGO IDU | E38: CANTIDAD | F38: AREA (M2) | G38: Dedicación /Mes | H38: DEDICACIÓN X AREA (M2) | I38: COSTO ($/M2.MES) | J38: No. MESES | K38: VALOR ($)
B39: 2.01 | C39: ALQUILER MES - ARRIENDO OFICINA INCL. ADMINISTRACIÓN, SERVICIOS PÚBLICOS, COMUNICACIONES | D39: 9576 | E39: 1 | F39: 15 | G39: 1 | H39: 1 | I39: 51916 | J39: 4 | K39: =+I39*F39 -> 778740
B40: 2.02 | C40: TARIFA GLOBAL - GASTOS OFICINA (PAPELERIA, FOTOCOPIAS Y OTROS) | D40: 9578 | E40: 1 | G40: 1 | H40: NA | I40: 1199778 | J40: 4 | K40: =+I40 -> 1199778
B41: 2.03 | C41: EQUIPO DE TOPOGRAFÍA. ESTACION TOTAL, Precisión lineal ≤ (2 mm + 2 ppm x D), precisión angular ≤ 3". Alcance: con un prisma hasta 2000 metros en buenas condiciones. (Accesorios: Trípodes, bastones, prismas, cintas metálicas, baterías, entre otros). TARIFA MES | D41: 13418 | E41: 1 | G41: 0.5 | H41: NA | I41: 2142000 | J41: 4 | K41: =+I41*G41 -> 1071000
C43: SUBTOTAL GASTOS OPERACIONALES MENSUALES | K43: =SUM(K39:K41) -> 3049518
C45: COSTOS MENSUALES DE PERSONAL + GASTOS OPERACIONALES MENSUALES | K45: =K36+K43 -> 61422262
C46: COSTOS MENSUALES DE PERSONAL + GASTOS OPERACIONALES MENSUALES EN PORCENTAJE DEL COSTO DIRECTO | K46: =ROUND(K45/H9,4) -> 0.1471
B48: 3 | C48: IMPUESTOS Y GARANTIAS
B49: 3.1 | C49: IMPUESTOS
B50: ITEM | C50: DESCRIPCIÓN | J50: IMPUESTO | K50: VALOR ($)
B51: 3.101 | C51: Contribución Especial (Impuesto de Guerra Ley 1738 DIC18-2014 prorroga 4 años) | J51: 0.05 | K51: =+(J51*H$9) -> 20872782 | L51: =+J51*H9 -> 20872782
B52: 3.102 | C52: ICA (Ley 14 6jul1983, Res 219 25feb2004) | F52: Mes | G52: =+#REF! -> #REF! | H52: 1 | I52: =G52*H52 -> #REF! | J52: 0.0069 | K52: =+(J52*H$9) -> 2880444
B53: 3.103 | C53: Retefuente | J53: 0.02 | K53: =+(J53*H$9) -> 8349112.9
B54: 3.104 | C54: Estampilla Unipedagógica (Dec 584 de 19 dic 2014) | J54: 0.005 | K54: =+(J54*H$9) -> 2087278.2
C55: SUBTOTAL IMPUESTOS | K55: =SUM(K51:K54) -> 34189617
...

Sheet SST - AMBIENTAL
B2: SISTEMA DE GESTIÓN AMBIENTAL, SEGURIDAD Y SALUD EN EL TRABAJO FONDO DE DESARROLLO LOCAL DE RAFAEL URIBE URIBE
B5: OBJETO | H5: EJECUTAR A MONTO AGOTABLE Y A PRECIOS UNITARIOS FIJOS, EL DIAGNOSTICO Y LAS OBRAS NECESARIAS PARA LA ADECUACIÓN, DOTACION, MANTENIMIENTO Y/O MEJORAMIENTO DE LOS PARQUES CATALOGADOS DE PROXIMIDAD EN LA LOCALIDAD DE RAFAEL URIBE URIBE EN BOGOTÁ D.C”.
C9: COSTO DIRECTO ESTIMADO DE OBRA (CD) | K9: =PRESUPUESTO!G15 -> 417455645
C10: AIU | K10: ='AIU '!K73 -> 0.2843
K11: =ROUND(K9*K10,0) -> 118682640
C12: TERMINO ESTIMADO DE EJECUCIÓN DE OBRA | K12: 4
C14: COSTO ACTIVIDADES AMBIENTALES y SST | K14: =+M85 -> 16012445
C15: COSTO GESTION SOCIAL | K15: =+'SOCIAL '!M52 -> 22313976
C17: COSTO TOTAL PRESUPUESTO MONTO AGOTABLE | K17: =+K9+K11+K14+K15 -> 574464706
B21: COMPONTE A. PERSONAL
B22: EJECUCIÓN DE OBRAS
B23: ÍTEMS | F23: CODIGO | G23: UN. | H23: CAT | I23: CANT | J23: DEDIC MES | K23: DURACION | L23: TARIFA | M23: F.P | N23: TOTAL ACTIVIDAD
B24: 1 | C24: PROFESIONAL AMBIENTAL | F24: 9114 | G24: MES | H24: 8 | I24: 1 | J24: 0.2 | K24: =K12 -> 4 | L24: 5200000 | M24: =FC!E29 -> 1.58 | N24: =+(((L24*M24/100)+L24)*K24)*J24 -> 4225728
B25: 2 | C25: PROFESIONAL SST | F25: 9114 | G25: MES | H25: 8 | I25: 1 | J25: 0.2 | K25: =K12 -> 4 | L25: 5200000 | M25: =FC!E29 -> 1.58 | N25: =ROUND(K25*L25*M25*J25,0) -> 6572800 | P25: =+Q26*4 -> 16432000
B26: SUBTOTAL COMPONENTE A | M26: =SUM(N24:N25) -> 10798528 | Q26: =+(L25*M25)/2 -> 4108000
B28: COMPONTE B. MANEJO DE LA VEGETACION Y DEL PAISAJE
B29: ÍTEMS | E29: ESPECIFICACIÓN | H29: UN | I29: CANTIDAD | J29: CODIGO | K29: VALOR UNITARIO | M29: VALOR TOTAL
B30: B1 | C30: MANEJO DE LA VEGETACION EXISTENTE Y DE ACTIVIDADES DE DISEÑO PAISAJISTICO
B31: 1.1 | C31: PROTECCION DE ARBOLES | E31: =VLOOKUP(J31,[114]PRECIOS!$B$3:$D$3651,2,FALSE) -> TELA VERDE DE CERRAMIENTO (2.10mx250) | H31: M2 | I31: 5 | J31: 7559 | K31: 2672 | M31: =ROUND(I31*K31,0) -> 13360
B32: 1.2 | C32: SOPORTE MALLA | E32: =VLOOKUP(J32,[114]PRECIOS!$B$3:$D$3651,2,FALSE) -> VARA DE CORREDOR 6.0 M | H32: UN | I32: 3 | J32: 7285 | K32: 16800 | M32: =ROUND(I32*K32,0) -> 50400
G33: SUBTOTAL DEL COMPONENTE C | M33: =SUM(M31:N32) -> 63760
B35: COMPONTE C. ACTIVIDADES DE OBRA
B36: ÍTEMS | E36: ESPECIFICACIÓN | H36: UN | I36: CANTIDAD | J36: CODIGO | K36: VALOR UNITARIO | M36: VALOR TOTAL
B37: C 1 | C37: MANEJO DE CAMPAMENTOS Y CENTROS DE ACOPIO
B38: 1.1 | C38: CANECAS PARA CAMPAMENTOS Y FRENTES DE OBRA | E38: =VLOOKUP(J38,[114]PRECIOS!$B$3:$D$3651,2,FALSE) -> CANECA PLÁSTICA NEGRA DE 55 GALONES CON TAPA PLANA. | H38: UN | I38: 3 | J38: 9290 | K38: 137784 | M38: =ROUND(I38*K38,0) -> 413352
G39: SUBTOTAL DEL PROGRAMA | M39: =SUM(M38:M38) -> 413352
B41: C 2 | C41: MANEJO DE MATERIALES DE CONSTRUCCIÓN
B42: 2.1 | C42: PUNTO DE ACOPIO DE MATERIALES | E42: =VLOOKUP(J42,[114]PRECIOS!$B$3:$D$3651,2,FALSE) -> PLASTICO NEGRO CALIBRE 6 | H42: M2 | I42: 5 | J42: 7556 | K42: 1671 | M42: =ROUND(I42*K42,0) -> 8355
E43: =VLOOKUP(J43,[114]PRECIOS!$B$3:$D$3651,2,FALSE) -> SEÑALIZACION TUBULAR COLOMBINA PLASTICA | H43: UN | I43: 3 | J43: 7554 | K43: 44982 | M43: =ROUND(I43*K43,0) -> 134946
E44: =VLOOKUP(J44,[114]PRECIOS!$B$3:$D$3651,2,FALSE) -> CINTA PARA SEÑALIZACION DE 500MT X 4" PELIGRO CALIBRE 3.5 | H44: ROLLO | I44: 1 | J44: 7850 | K44: 25149 | M44: =ROUND(I44*K44,0) -> 25149
G45: SUBTOTAL DEL PROGRAMA | M45: =SUM(M42:N44) -> 168450
B47: C 3 | C47: MANEJO INTEGRAL DE RESIDUOS SÓLIDOS
B48: 3.1 | C48: ACOPIO TEMPORAL DE RCD EN FRENTES DE OBRA | E48: =VLOOKUP(J48,[114]PRECIOS!$B$3:$D$3651,2,FALSE) -> PLASTICO NEGRO CALIBRE 6 | H48: M2 | I48: 5 | J48: 7556 | K48: 1671 | M48: =ROUND(I48*K48,0) -> 8355
C49: KIT BRIGADA DE ASEO Y LIMPIEZA | E49: =VLOOKUP(J49,[114]PRECIOS!$B$3:$D$3651,2,FALSE) -> PALA REDONDA No. 2 CON CABO | H49: UN | I49: 3 | J49: 9287 | K49: 21317 | M49: =ROUND(I49*K49,0) -> 63951
E50: =VLOOKUP(J50,[114]PRECIOS!$B$3:$D$3651,2,FALSE) -> CEPILLO INDUSTRIAL DE NYLON CON CABO DE 35CM A 42CM X 9CM X 17CM | H50: UN | I50: 3 | J50: 7811 | K50: 15938 | M50: =ROUND(I50*K50,0) -> 47814
E51: =VLOOKUP(J51,[114]PRECIOS!$B$3:$D$3651,2,FALSE) -> BOLSA PARA BASURA TIPO INDUSTRIAL NEGRA DE 60 x 90 Cm CALIBRE 2 (PAQUETE DE 30 UNIDADES) | H51: UN | I51: 3 | J51: 9280 | K51: 13029 | M51: =ROUND(I51*K51,0) -> 39087
G52: SUBTOTAL DEL PROGRAMA | M52: =SUM(M48:N51) -> 159207
B55: SUBTOTAL DEL COMPONENTE C | M55: =+M52+M45+M39 -> 741009
B57: COMPONENTE D. GESTIÓN EN SEGURIDAD Y SALUD EN EL TRABAJO
B58: ÍTEMS | H58: CANTIDAD | I58: UN. | J58: CODIGO | K58: VALOR UNITARIO | M58: VALOR TOTAL
...

Sheet AIU - SST - AMBIENTAL
B2: MATRIZ PARA CÁLCULO DE AIU- AMBIENTAL FONDO DE DESARROLLO LOCAL DE RAFAEL URIBE URIBE
B5: OBJETO | G5: EJECUTAR A MONTO AGOTABLE Y A PRECIOS UNITARIOS FIJOS, EL DIAGNOSTICO Y LAS OBRAS NECESARIAS PARA LA ADECUACIÓN, DOTACION, MANTENIMIENTO Y/O MEJORAMIENTO DE LOS PARQUES CATALOGADOS DE PROXIMIDAD EN LA LOCALIDAD DE RAFAEL URIBE URIBE EN BOGOTÁ D.C”.
B9: SUBTOTAL COMPONENTES A+B+C+D | E9: =+'SST - AMBIENTAL'!M83 -> 14317279 | I9: FECHA:
B10: TERMINO ESTIMADO DE EJECUCIÓN DE OBRA | E10: 4 | F10: MESES | I10: CONTRATO No.
B12: 1. IMPUESTOS Y GARANTÍAS
B13: 1.1 | C13: IMPUESTOS
B14: ÍTEM | C14: DESCRIPCIÓN | J14: IMPUESTO | L14: VALOR ($)
B15: =B13+0.001 -> 1.101 | C15: Contribución Especial (Impuesto de Guerra Ley 1738 DIC18-2014 prorroga 4 años) | J15: 0.05 | L15: =ROUND($E$9*J15,0) -> 715864
B16: =B15+0.001 -> 1.102 | C16: ICA (Ley 14 6jul1983, Res 219 25feb2004) | J16: 0.0069 | L16: =ROUND($E$9*J16,0) -> 98789
B17: =B16+0.001 -> 1.103 | C17: Retefuente | J17: 0.02 | L17: =ROUND($E$9*J17,0) -> 286346
B18: =B17+0.001 -> 1.104 | C18: Estampilla Unipedagógica (Dec 584 de 19 dic 2014) | J18: 0.005 | L18: =ROUND($E$9*J18,0) -> 71586
C19: SUBTOTAL IMPUESTOS | L19: =SUM(L15:L18) -> 1172585
B21: 2 | C21: GARANTIAS
B22: ÍTEM | C22: DESCRIPCIÓN | E22: VR. BASE | G22: % ASEGURADO | I22: VIGENCIA AMPARO (MESES) | J22: TASA ASEGURADORA | L22: VALOR ($)
B23: =B21+0.001 -> 2.001 | C23: Cumplimiento | D23: GARANTIA UNICA | E23: =$E$9 -> 14317279 | G23: 0.3 | I23: =+'AIU '!I59 -> 10 | J23: =+'AIU '!J59 -> 0.002 | L23: =ROUND((((((E23*G23)*J23)/12)*I23)+2500)*1.19,0) -> 11494
B24: =B23+0.001 -> 2.002 | C24: Salarios y Prestaciones Sociales | E24: =$E$9 -> 14317279 | G24: 0.1 | I24: =+'AIU '!I60 -> 52 | J24: =+'AIU '!J60 -> 0.002 | L24: =ROUND((((((E24*G24)*J24)/12)*I24)+2500)*1.19,0) -> 17741
B25: =B24+0.001 -> 2.003 | C25: Estabilidad de la Obra | E25: =$E$9 -> 14317279 | G25: 0.3 | I25: =+'AIU '!I61 -> 48 | J25: =+'AIU '!J61 -> 0.002 | L25: =ROUND((((((E25*G25)*J25)/12)*I25)+2500)*1.19,0) -> 43865
B26: =B25+0.001 -> 2.004 | C26: Predios, labores y Operaciones- Vigencia (Decreto 1082 de 2015 Sección III) | D26: RESPONSABILIDAD CIVIL EXTRACONTRACTUAL | E26: =+E9 -> 14317279 | G26: 1 | I26: =+'AIU '!I62 -> 4 | J26: =+'AIU '!J62 -> 0.003 | L26: =ROUND((((((E26*G26)*J26)/12)*I26)+2500)*1.19,0) -> 20013
C27: SUBTOTAL GARANTÍAS | L27: =ROUND(SUM(L23:L26),0) -> 93113
B29: TOTAL IMPUESTOS Y GARANTÍAS | L29: =ROUND(L19+L27,0) -> 1265698
B30: TOTAL IMPUESTOS Y GARANTÍAS EN PORCENTAJE DEL COSTO DIRECTO | L30: =+L29/E9 -> 0.08840353
B32: A. ADMINISTRACIÓN (1 + 2) | L32: =L30 -> 0.08840353
B33: I. IMPREVISTOS | L33: 0.01
B34: U. UTILIDAD | L34: 0.02
B36: A.I.U. (ADMINISTRACIÓN, IMPREVISTOS Y UTILIDAD) | L36: =ROUND(SUM(L32:L34),4) -> 0.1184

Sheet SOCIAL 
B2: SISTEMA DE GESTIÓN AMBIENTAL, SEGURIDAD Y SALUD EN EL TRABAJO FONDO DE DESARROLLO LOCAL DE RAFAEL URIBE URIBE
B5: OBJETO | H5: EJECUTAR A MONTO AGOTABLE Y A PRECIOS UNITARIOS FIJOS, EL DIAGNOSTICO Y LAS OBRAS NECESARIAS PARA LA ADECUACIÓN, DOTACION, MANTENIMIENTO Y/O MEJORAMIENTO DE LOS PARQUES CATALOGADOS DE PROXIMIDAD EN LA LOCALIDAD DE RAFAEL URIBE URIBE EN BOGOTÁ D.C”.
C9: COSTO DIRECTO ESTIMADO DE OBRA (CD) | K9: =PRESUPUESTO!G15 -> 417455645
C10: AIU | K10: ='AIU '!K73 -> 0.2843
K11: =ROUND(K9*K10,0) -> 118682640
C12: TERMINO ESTIMADO DE EJECUCIÓN DE OBRA | K12: 4
C13: COSTO ACTIVIDADES AMBIENTALES y SST | K13: =+'SST - AMBIENTAL'!M85 -> 16012445
C14: COSTO GESTION SOCIAL | K14: =+M52 -> 22313976
C16: COSTO TOTAL PRESUPUESTO MONTO AGOTABLE | K16: =+K14+K13+K11+K9 -> 574464706
B20: COMPONTE A. PERSONAL | O20: =+O22+L23 -> 5200000 | P20: =+O20*K23 -> 20800000
B21: EJECUCIÓN DE OBRAS
B22: ÍTEMS | F22: CODIGO | G22: UN. | H22: CAT | I22: CANT | J22: DEDICACION | K22: DURACION | L22: TARIFA | M22: F.P | N22: TOTAL ACTIVIDAD
B23: 1 | C23: Residente Social | F23: 9114 | G23: MES | H23: 8 | I23: 1 | J23: 0.5 | K23: =K12 -> 4 | L23: 5200000 | M23: =FC!E29 -> 1.58 | N23: =+(((L23*M23/100)+L23)*K23)*J23 -> 10564320 | P23: =+L23*J23*K23*M23 -> 16432000
B24: 2 | C24: Asistente Social | F24: 9105 | G24: MES | H24: 8 | I24: 1 | J24: 1 | K24: =K12 -> 4 | L24: 1597000 | M24: =FC!E29 -> 1.58 | N24: =+(((L24*M24/100)+L24)*K24)*J24 -> 6488930.4
B25: SUBTOTAL COMPONENTE A | M25: =SUM(N23:N24) -> 17053250
B27: Componente B. Plan de Gestión Social
B28: ÍTEMS | E28: ESPECIFICACIÓN | H28: UN | I28: CANTIDAD | J28: CODIGO | K28: VALOR UNITARIO | M28: VALOR TOTAL
B29: B1 | C29: PROGRAMA DE INFORMACION Y DIVULGACION AL CIUDADANO
B30: 1 | C30: VÍDEO BEAM - ALQUILER POR DIA | H30: UN | I30: 3 | J30: 7870 | K30: 99855 | M30: =ROUND(I30*K30,0) -> 299565
B31: 2 | C31: AFICHE TAMAÑO MEDIO PLIEGO A 4X0 TINTAS EN PROPALCOTE DE 115 GR. | H31: UN | I31: 6 | J31: 7897 | K31: 1323 | M31: =ROUND(I31*K31,0) -> 7938
B32: 3 | C32: PLEGABLES DE SOSTENIBILIDAD EN TRES CUERPOS TAMAÑO CARTA A 4X4 TINTAS EN PROPALCOTE. | H32: UN | I32: 6 | J32: 7898 | K32: 500 | M32: =ROUND(I32*K32,0) -> 3000
B33: 4 | C33: IMPRESIÓN HOJA CARTA, A 1X0 TINTAS EN PAPEL BOND DE 75 GR. | H33: UN | I33: 1200 | J33: 7896 | K33: 120 | M33: =ROUND(I33*K33,0) -> 144000
G34: SUBTOTAL DEL COMPONENTE B | M34: =SUM(M30:N33) -> 454503
B37: COMPONENTE C. Programa de Atención al ciudadano
B38: ÍTEMS | H38: CANTIDAD | I38: UN. | J38: CODIGO | K38: VALOR UNITARIO | M38: VALOR TOTAL
B39: C1 | C39: Adecuación del punto CREA-Atención al ciudadano
B40: 1 | C40: TARIFA MES - EDICIÓN DE INFORME MENSUAL DE INTERVENTORÍA O CONSULTORÍA. Incluye 4 tapas plastificadas tamaño carta color blanco, con 6 tornillos, hojas de papel bond tamaño carta 75 gramos, 170 folios | H40: 4 | I40: UN/MES | J40: 9840 | K40: 251000 | M40: =ROUND(H40*K40,0) -> 1004000
B41: 2 | C41: ALQUILER DE SILLA PARA ESCRITORIO PARA PUESTO DE TRABAJO | H41: 4 | I41: UN/MES | J41: 6170 | K41: 10414 | M41: =ROUND(H41*K41,0) -> 41656
B42: 3 | C42: ALQUILER DE PUESTO DE TRABAJO - ESCRITORIO 75x120x50cm | H42: 1 | I42: UN/MES | J42: 6169 | K42: 11521 | M42: =+(K42*H42)*K12 -> 46084
B43: 4 | C43: ALQUILER DE SILLA PLÁSTICA SIN BRAZOS | H43: 3 | I43: UN/MES | J43: 6172 | K43: 3039 | M43: =+(K43*H43)*K12 -> 36468
B44: 5 | C44: CARTELERA TIPO PUNTO IDU DE 1.00M X 1.00M EN ALUMINIO ANODIZADO, CON PAÑO COLOR GRIS, CENEFA SUPERIOR, PUERTAS CORREDIZAS, LOGO INSTITUCIONAL. INCLUYE SUMINISTRO E INSTALACION. | H44: 1 | I44: UN | J44: 7895 | K44: 553587 | M44: =ROUND(H44*K44,0) -> 553587
B45: 6 | C45: AVISO PUNTO IDU 1.50M X 0.90M (MATERIAL DE IMPRESIÓN VINILO PARA EXTERIORES. INCLUYE SUMINISTRO E INSTALACIÓN). | H45: 1 | I45: UN | J45: 7894 | K45: 799680 | M45: =ROUND(H45*K45,0) -> 799680
G46: SUBTOTAL COMPONENTE E | M46: =SUM(M40:N45) -> 2481475
B50: SUBTOTAL COMPONENTES A+B+C | M50: =ROUND(+M46+M34+M25,0) -> 19989228
B51: A.I.U. | L51: ='AIU - SOCIAL'!L36 -> 0.11630003 | M51: =ROUND(L51*M50,0) -> 2324748
B52: VALOR GLOBAL SOCIAL CON AIU : TOTAL COMPONENTES A+B+C | M52: =M51+M50 -> 22313976

Sheet AIU - SOCIAL
B2: MATRIZ PARA CÁLCULO DE AIU- AMBIENTAL FONDO DE DESARROLLO LOCAL DE RAFAEL URIBE URIBE
B5: OBJETO | G5: EJECUTAR A MONTO AGOTABLE Y A PRECIOS UNITARIOS FIJOS, EL DIAGNOSTICO Y LAS OBRAS NECESARIAS PARA LA ADECUACIÓN, DOTACION, MANTENIMIENTO Y/O MEJORAMIENTO DE LOS PARQUES CATALOGADOS DE PROXIMIDAD EN LA LOCALIDAD DE RAFAEL URIBE URIBE EN BOGOTÁ D.C”.
B9: SUBTOTAL COMPONENTES A+B+C | E9: =+'SOCIAL '!M50 -> 19989228 | I9: FECHA:
B10: TERMINO ESTIMADO DE EJECUCIÓN DE OBRA | E10: 4 | F10: MESES | I10: CONTRATO No.
B12: IMPUESTOS Y GARANTÍAS
B13: 1 | C13: IMPUESTOS
B14: ÍTEM | C14: DESCRIPCIÓN | J14: IMPUESTO | L14: VALOR ($)
B15: =B13+0.001 -> 1.001 | C15: Contribución Especial (Impuesto de Guerra Ley 1738 DIC18-2014 prorroga 4 años) | J15: 0.05 | L15: =ROUND($E$9*J15,0) -> 999461
B16: =B15+0.001 -> 1.002 | C16: ICA (Ley 14 6jul1983, Res 219 25feb2004) | J16: 0.0069 | L16: =ROUND($E$9*J16,0) -> 137926
B17: =B16+0.001 -> 1.003 | C17: Retefuente | J17: 0.02 | L17: =ROUND($E$9*J17,0) -> 399785
B18: =B17+0.001 -> 1.004 | C18: Estampilla Unipedagógica (Dec 584 de 19 dic 2014) | J18: 0.005 | L18: =ROUND($E$9*J18,0) -> 99946
C19: SUBTOTAL IMPUESTOS | L19: =SUM(L15:L18) -> 1637118
B21: 2 | C21: GARANTIAS
B22: ÍTEM | C22: DESCRIPCIÓN | E22: VR. BASE | G22: % ASEGURADO | I22: VIGENCIA AMPARO (MESES) | J22: TASA ASEGURADORA | L22: VALOR ($)
B23: =B21+0.001 -> 2.001 | C23: Cumplimiento | D23: GARANTIA UNICA | E23: =$E$9 -> 19989228 | G23: 0.3 | I23: =+'AIU '!I59 -> 10 | J23: =+'AIU '!J59 -> 0.002 | L23: =+(E23*G23)*J23 -> 11993.537
B24: =B23+0.001 -> 2.002 | C24: Salarios y Prestaciones Sociales | E24: =$E$9 -> 19989228 | G24: 0.1 | I24: =+'AIU '!I60 -> 52 | J24: =+'AIU '!J60 -> 0.002 | L24: =+(E24*G24)*J24 -> 3997.8456
B25: =B24+0.001 -> 2.003 | C25: Estabilidad de la Obra | E25: =$E$9 -> 19989228 | G25: 0.3 | I25: =+'AIU '!I61 -> 48 | J25: =+'AIU '!J61 -> 0.002 | L25: =+(E25*G25)*J25 -> 11993.537
B26: =B25+0.001 -> 2.004 | C26: Predios, labores y Operaciones- Vigencia (Decreto 1082 de 2015 Sección III) | D26: RESPONSABILIDAD CIVIL EXTRACONTRACTUAL | E26: =+E9 -> 19989228 | G26: 1 | I26: =+'AIU '!I62 -> 4 | J26: =+'AIU '!J62 -> 0.003 | L26: =+(E26*G26)*J26 -> 59967.684
C27: SUBTOTAL GARANTÍAS | L27: =ROUND(SUM(L23:L26),0) -> 87953
B29: TOTAL IMPUESTOS Y GARANTÍAS | L29: =ROUND(L19+L27,0) -> 1725071
B30: TOTAL IMPUESTOS Y GARANTÍAS EN PORCENTAJE DEL COSTO DIRECTO | L30: =+L29/E9 -> 0.086300031
B32: A. ADMINISTRACIÓN (1 + 2) | L32: =L30 -> 0.086300031
B33: I. IMPREVISTOS | L33: 0.01
B34: U. UTILIDAD | L34: 0.02
B36: A.I.U. (ADMINISTRACIÓN, IMPREVISTOS Y UTILIDAD) | L36: =SUM(L32:L34) -> 0.11630003

Sheet FC
B2: EJECUTAR A MONTO AGOTABLE Y A PRECIOS UNITARIOS FIJOS, EL DIAGNOSTICO Y LAS OBRAS NECESARIAS PARA LA ADECUACIÓN, DOTACION, MANTENIMIENTO Y/O MEJORAMIENTO DE LOS PARQUES CATALOGADOS DE PROXIMIDAD EN LA LOCALIDAD DE RAFAEL URIBE URIBE EN BOGOTÁ D.C”.
B4: CÁLCULO DEL FACTOR MULTIPLICADOR PERSONAL
B6: ITEM | C6: DESCRIPCIÓN | D6: % | E6: % ACUMULADO
B7: 1 | C7: PRESTACIONES SOCIALES | E7: =SUM(D7:D13) -> 1.2183333
C8: Salarios | D8: 1
C9: Cesantías | D9: =1/12 -> 0.083333333
C10: Intereses de Cesantías | D10: 0.01
C11: Prima de servicio | D11: =1/12 -> 0.083333333
C12: Vacaciones | D12: =0.5/12 -> 0.041666667
B14: 2 | C14: SEGURIDAD SOCIAL | E14: =SUM(D14:D18) -> 0.2746
C15: Pensión | D15: 0.12
C16: Salud | D16: 0.085
C17: A.R.P. | D17: 0.0696
B19: 3 | C19: PARAFISCALES | E19: =SUM(D20:D22) -> 0.09
C20: Caja de Compensación | D20: 0.04
C21: I.C.B.F. | D21: 0.03
C22: Sena | D22: 0.02
B24: 4 | C24: COSTOS INDIRECTOS | E24: =SUM(D25:D25) -> 0
C25: Operación oficina
B27: TOTAL | E27: =SUM(E7:E24) -> 1.5829333
B29: FACTOR MULTIPLICADOR | E29: =ROUND((E27),2) -> 1.58

Sheet PRESUPUESTO OFICIAL
B2: FORMATO | D2: VIGENCIA | E2: PROCESO
D3: 2023 | E3: Proyectos
B4: FONDO DE DESARROLLO LOCAL DE SANTA FE
B7: PRESUPUESTO OFICIAL
B9: OBJETO DEL CONTRATO | D9: CONTRATAR POR EL SISTEMA DE PRECIOS UNITARIOS FIJOS A MONTO AGOTABLE, EL DIAGNOSTICO Y LAS OBRAS DE MANTENIMIENTO, REQUERIDAS EN LOS SALONES COMUNALES DE LA LOCALIDAD DE SANTA FE
B14: No. | C14: NOMBRE SALON | D14: DIRECCIÓN | F14: TIPO DE INTERVENCIÓN | G14: COSTO DIRECTO
B15: 1 | C15: JAC El Verjon Bajo | D15: Colegio Verjon Bajo km 11 Vía la Calera | F15: ADECUACIÓN Y/O MANTENIMIENTO | G15: 61125625
B16: 2 | C16: JAC Rocío | D16: Carrera 5 Este# 3 B 20 | F16: ADECUACIÓN Y/O MANTENIMIENTO | G16: =G15 -> 61125625
B17: 3 | C17: JAC El Dorado | D17: Transversal 8 Este # 1 A - 08 | F17: ADECUACIÓN Y/O MANTENIMIENTO | G17: =G16 -> 61125625
B18: 4 | C18: JAC Turbay Ayala | D18: Calle 9 B # 5 - 35 | F18: ADECUACIÓN Y/O MANTENIMIENTO | G18: =G17 -> 61125625
B19: 5 | C19: JAC El Mirador | D19: Carrera 2 # 1 A – 69 Este | F19: ADECUACIÓN Y/O MANTENIMIENTO | G19: =G18 -> 61125625
B20: 6 | C20: JAC Lourdes | D20: Calle 3 Con carrera 1 Este | F20: ADECUACIÓN Y/O MANTENIMIENTO | G20: =G19 -> 61125625
B22: SUBTOTAL COSTOS DIRECTOS OBRA | G22: =SUM(G15:G20) -> 366753750
B24: AIU | F24: =AIU!H10 -> 0.31101464 | G24: =F24*G22 -> 114065786
B26: COSTOS OBRA INCLUIDO AIU | G26: =G22+G24 -> 480819536
B28: COMPONENTE AMBIENTAL Y SST | F28: =G28/G22 -> 0.055249516 | G28: ='AMBIENTAL -SST'!M106 -> 20262967
B30: COMPONENTE SOCIAL | F30: =G30/G22 -> 0.025719974 | G30: =SOCIAL!M54 -> 9432897
B32: TOTAL COSTOS PROCESO LP | G32: =G26+G28+G30 -> 510515400
B33: SMMLV | G33: =G32/1160000 -> 440.09948

Sheet AIU
B2: ANALISIS DEL VALOR DEL AIU FONDO DE DESARROLLO LOCAL DE SANTA FE
B5: OBJETO | E5: CONTRATAR POR EL SISTEMA DE PRECIOS UNITARIOS FIJOS A MONTO AGOTABLE, EL DIAGNOSTICO Y LAS OBRAS DE MANTENIMIENTO, REQUERIDAS EN LOS SALONES COMUNALES DE LA LOCALIDAD DE SANTA FE
C9: COSTO DIRECTO ESTIMADO DE OBRA (CD) | H9: ='PRESUPUESTO OFICIAL'!G22 -> 366753750
C10: AIU | H10: =K69 -> 0.31101464
H11: =H9*H10 -> 114065786
C12: TERMINO ESTIMADO DE EJECUCIÓN DE OBRA | H12: 5
C14: COSTOS ESTIMADOS PARA COMPENSACIONES A SDA | H14: 0
C15: COSTOS ESTIMADOS PARA ENSAYOS DE LABORATORIO | H15: 0
C16: AJUSTES POR CAMBIO DE VIGENCIA | H16: 0
C17: COSTO ACTIVIDADES AMBIENTALES y SST | H17: ='PRESUPUESTO OFICIAL'!G28 -> 20262967
C18: COSTO GESTION SOCIAL | H18: ='PRESUPUESTO OFICIAL'!G30 -> 9432897
C20: COSTO TOTAL PRESUPUESTO MONTO AGOTABLE | H20: ='PRESUPUESTO OFICIAL'!G32 -> 510515400
B24: ITEM | C24: A. ADMINISTRACIÓN
C25: 1. COSTOS MENSUALES DE PERSONAL
C26: CARGO | D26: CODIGO IDU | E26: CANTIDAD | F26: CATEGORÍA | G26: Dedicación /Mes | H26: TOPE SALARIO MES | I26: FACTOR PRESTACIONAL | J26: No. MESES | K26: SALARIO + PRESTACIONES
E27: A | G27: B | H27: C | I27: D | J27: E | K27: F=A*B*C*D*E
B28: 1.1 | C28: PERSONAL PROFESIONAL (Ingenieros y otros)
B29: 1.101 | C29: DIRECTOR DE OBRA | D29: 9112 | E29: 1 | F29: 6 | G29: 0.3 | H29: =VLOOKUP(D29,PRECIOS!$B$3:$D$3651,3,FALSE) -> 6339000 | I29: =F.P.!$E$29 -> 1.58 | J29: =$H$12 -> 5 | K29: =ROUND(E29*G29*H29*I29*J29,0) -> 15023430
B30: 1.102 | C30: INGENIERO RESIDENTE DE OBRA | D30: 9113 | E30: 1 | F30: 7 | G30: 1 | H30: =VLOOKUP(D30,PRECIOS!$B$3:$D$3651,3,FALSE) -> 4793000 | I30: =F.P.!$E$29 -> 1.58 | J30: =$H$12 -> 5 | K30: =ROUND(E30*G30*H30*I30*J30,0) -> 37864700
B31: 1.2 | C31: PERSONAL PROFESIONAL (Ingenieros y otros)
B32: 1.201 | C32: INGENIERO RESIDENTE DE OBRA | D32: 9113 | E32: 1 | F32: 7 | G32: 0.4 | H32: 1988000 | I32: =F.P.!$E$29 -> 1.58 | J32: =$H$12 -> 5 | K32: =ROUND(E32*G32*H32*I32*J32,0) -> 6282080
K34: =SUM(K29:K33) -> 59170210
B36: 2 | C36: GASTOS OPERACIONALES MENSUALES | D36: CODIGO IDU | E36: CANTIDAD | F36: AREA (M2) | G36: Dedicación /Mes | H36: DEDICACIÓN X AREA (M2) | I36: COSTO ($/M2.MES) | J36: No. MESES | K36: VALOR ($)
B37: 2.01 | C37: TARIFA GLOBAL - GASTOS OFICINA (PAPELERIA, FOTOCOPIAS Y OTROS) | D37: 9578 | E37: 1 | F37: N/A | G37: 0.25 | H37: N/A | I37: 922582 | J37: =H12 -> 5 | K37: =G37*I37*J37 -> 1153227.5
B38: 2.02 | C38: ALQUILER DE VEHICULO: CAMPERO, PICK-UP, CAMIONETA, CAMION O SIMILAR DE 1300cc A 2000cc DE CILINDRADA, MODELO 2022 A 2019. 100% DE LA TARIFA ESTABLECIDA. INCLUYE TODOS LOS COSTOS DE OPERACIÓN Y MANTENIMIENTO | D38: 9165 | E38: 1 | F38: N/A | G38: 0.25 | H38: N/A | I38: =VLOOKUP(D38,PRECIOS!$B$3:$D$3651,3,FALSE) -> 7265000 | J38: =H12 -> 5 | K38: =G38*I38*J38 -> 9081250
C39: SUBTOTAL GASTOS OPERACIONALES MENSUALES | K39: =SUM(K37:K38) -> 10234478
C41: COSTOS MENSUALES DE PERSONAL + GASTOS OPERACIONALES MENSUALES | K41: =K34+K39 -> 69404688
C42: COSTOS MENSUALES DE PERSONAL + GASTOS OPERACIONALES MENSUALES EN PORCENTAJE DEL COSTO DIRECTO | K42: =K41/H9 -> 0.18924057
B44: 3 | C44: IMPUESTOS Y GARANTIAS
B45: 3.1 | C45: IMPUESTOS
B46: ITEM | C46: DESCRIPCIÓN | J46: IMPUESTO | K46: VALOR ($)
B47: 3.101 | C47: Contribución Especial (Impuesto de Guerra Ley 1738 DIC18-2014 prorroga 4 años) | J47: 0.05 | K47: =ROUND((($H$9*ROUND((1+$L$69),4))+$H$14+$H$15+$H$16)*J47,0) -> 18337688
B48: 3.102 | C48: ICA (Ley 14 6jul1983, Res 219 25feb2004) | F48: Mes | G48: =+#REF! -> #REF! | H48: 1 | I48: =G48*H48 -> #REF! | J48: 0.00712 | K48: =ROUND((($H$9*ROUND((1+$L$69),4))+$H$14+$H$15+$H$16)*J48,0) -> 2611287
B49: 3.103 | C49: GMF (Ley 1739 23dic2014 modifica el Estatuto Tributario) | J49: 0.004 | K49: =ROUND((($H$9*ROUND((1+$L$69),4))+$H$14+$H$15+$H$16)*J49,0) -> 1467015
B50: 3.104 | C50: Estampilla Unipedagógica (Dec 584 de 19 dic 2014) | J50: 0.005 | K50: =ROUND((($H$9*ROUND((1+$L$69),4))+$H$14+$H$15+$H$16)*J50,0) -> 1833769
C51: SUBTOTAL IMPUESTOS | K51: =SUM(K47:K50) -> 24249759
B53: 3.2 | C53: GARANTÍAS
B54: ITEM | C54: DESCRIPCIÓN | F54: VALOR BASE | H54: % ASEGURADO | I54: VIGENCIA AMPARO (MESES) | J54: TASA ASEGURADORA | K54: VALOR ($)
B55: 3.201 | C55: CUMPLIMIENTO | E55: GARANTÍA UNICA | F55: =H9 -> 366753750 | H55: 0.2 | I55: =H12+6 -> 11 | J55: 0.002 | K55: =ROUND((((((F55*H55)*J55)/12)*I55)+2500)*1.19,0) -> 163002
B56: 3.202 | C56: SALARIOS Y PRESTACIONES SOCIALES | F56: =H9 -> 366753750 | H56: 0.05 | I56: =H12+36 -> 41 | J56: 0.002 | K56: =ROUND((((((F56*H56)*J56)/12)*I56)+2500)*1.19,0) -> 152091
...

Sheet AMBIENTAL -SST
B2: SISTEMA DE GESTIÓN AMBIENTAL, SEGURIDAD Y SALUD EN EL TRABAJO FONDO DE DESARROLLO LOCAL DE SANTA FE
B5: OBJETO | H5: CONTRATAR POR EL SISTEMA DE PRECIOS UNITARIOS FIJOS A MONTO AGOTABLE, EL DIAGNOSTICO Y LAS OBRAS DE MANTENIMIENTO, REQUERIDAS EN LOS SALONES COMUNALES DE LA LOCALIDAD DE SANTA FE
C9: COSTO DIRECTO ESTIMADO DE OBRA (CD) | K9: ='PRESUPUESTO OFICIAL'!G22 -> 366753750
C10: AIU | K10: =AIU!K69 -> 0.31101464
K11: =K9*K10 -> 114065786
C12: TERMINO ESTIMADO DE EJECUCIÓN DE OBRA | K12: 5
C14: COSTOS ESTIMADOS PARA COMPENSACIONES A SDA | K14: 0
C15: COSTOS ESTIMADOS PARA ENSAYOS DE LABORATORIO | K15: 0
C16: AJUSTES POR CAMBIO DE VIGENCIA | K16: 0
C17: COSTO ACTIVIDADES AMBIENTALES y SST | K17: ='PRESUPUESTO OFICIAL'!G28 -> 20262967
C18: COSTO GESTION SOCIAL | K18: ='PRESUPUESTO OFICIAL'!G30 -> 9432897
C20: COSTO TOTAL PRESUPUESTO MONTO AGOTABLE | K20: ='PRESUPUESTO OFICIAL'!G32 -> 510515400
B24: COMPONTE A. PERSONAL
B25: EJECUCIÓN DE OBRAS
B26: ÍTEMS | F26: CODIGO | G26: UN. | H26: CAT | I26: CANT | J26: DEDIC H/MES | K26: DURACION | L26: TARIFA | M26: F.P | N26: TOTAL ACTIVIDAD
B27: 1 | C27: PROFESIONAL AMBIENTAL | F27: 9114 | G27: MES | H27: 8 | I27: 1 | J27: 0.2 | K27: =K12 -> 5 | L27: =VLOOKUP(F27,PRECIOS!$B$3:$D$3651,3,FALSE) -> 4523000 | M27: =F.P.!E29 -> 1.58 | N27: =ROUND(K27*L27*M27*J27,0) -> 7146340
B28: 2 | C28: PROFESIONAL SST | F28: 9114 | G28: MES | H28: 8 | I28: 1 | J28: 0.2 | K28: =K12 -> 5 | L28: =VLOOKUP(F28,PRECIOS!$B$3:$D$3651,3,FALSE) -> 4523000 | M28: =F.P.!E29 -> 1.58 | N28: =ROUND(K28*L28*M28*J28,0) -> 7146340
B29: SUBTOTAL COMPONENTE A | M29: =SUM(N27:N28) -> 14292680
B31: COMPONTE C. MANEJO DE LA VEGETACION Y DEL PAISAJE
B32: ÍTEMS | E32: ESPECIFICACIÓN | H32: UN | I32: CANTIDAD | J32: CODIGO | K32: VALOR UNITARIO | M32: VALOR TOTAL
B33: C1 | C33: MANEJO DE LA VEGETACION EXISTENTE Y DE ACTIVIDADES DE DISEÑO PAISAJISTICO
B34: 1.1 | C34: PROTECCION DE ARBOLES | E34: =VLOOKUP(J34,PRECIOS!$B$3:$D$3651,2,FALSE) -> TELA VERDE DE CERRAMIENTO (2.10mx250) | H34: M2 | I34: 10 | J34: 7559 | K34: =VLOOKUP(J34,PRECIOS!$B$3:$D$3651,3,FALSE) -> 793 | M34: =ROUND(I34*K34,0) -> 7930
B35: 1.2 | C35: SOPORTE MALLA | E35: =VLOOKUP(J35,PRECIOS!$B$3:$D$3651,2,FALSE) -> VARA DE CORREDOR 6.0 M | H35: UN | I35: 5 | J35: 7285 | K35: =VLOOKUP(J35,PRECIOS!$B$3:$D$3651,3,FALSE) -> 12390 | M35: =ROUND(I35*K35,0) -> 61950
G36: SUBTOTAL DEL COMPONENTE C | M36: =SUM(M34:N35) -> 69880
B38: COMPONTE D. ACTIVIDADES CONSTRUCTIVAS
B39: ÍTEMS | E39: ESPECIFICACIÓN | H39: UN | I39: CANTIDAD | J39: CODIGO | K39: VALOR UNITARIO | M39: VALOR TOTAL
B40: D 1 | C40: MANEJO DE CAMPAMENTOS Y CENTROS DE ACOPIO
B41: 1.1 | C41: CANECAS PARA CAMPAMENTOS Y FRENTES DE OBRA | E41: =VLOOKUP(J41,PRECIOS!$B$3:$D$3651,2,FALSE) -> CANECA PLÁSTICA NEGRA DE 55 GALONES CON TAPA PLANA. | H41: UN | I41: 1 | J41: 9290 | K41: =VLOOKUP(J41,PRECIOS!$B$3:$D$3651,3,FALSE) -> 122000 | M41: =ROUND(I41*K41,0) -> 122000
G42: SUBTOTAL DEL PROGRAMA | M42: =SUM(M41:M41) -> 122000
B44: D 2 | C44: MANEJO DE MATERIALES DE CONSTRUCCIÓN
B45: 2.1 | C45: PUNTO DE ACOPIO DE MATERIALES | E45: =VLOOKUP(J45,PRECIOS!$B$3:$D$3651,2,FALSE) -> PLASTICO NEGRO CALIBRE 6 | H45: M2 | I45: 10 | J45: 7556 | K45: =VLOOKUP(J45,PRECIOS!$B$3:$D$3651,3,FALSE) -> 1312 | M45: =ROUND(I45*K45,0) -> 13120
E46: =VLOOKUP(J46,PRECIOS!$B$3:$D$3651,2,FALSE) -> SEÑALIZACION TUBULAR COLOMBINA PLASTICA | H46: UN | I46: 1 | J46: 7554 | K46: =VLOOKUP(J46,PRECIOS!$B$3:$D$3651,3,FALSE) -> 43962 | M46: =ROUND(I46*K46,0) -> 43962
E47: =VLOOKUP(J47,PRECIOS!$B$3:$D$3651,2,FALSE) -> CINTA PARA SEÑALIZACION DE 500MT X 4" PELIGRO CALIBRE 3.5 | H47: ROLLO | I47: 2 | J47: 7850 | K47: =VLOOKUP(J47,PRECIOS!$B$3:$D$3651,3,FALSE) -> 24285 | M47: =ROUND(I47*K47,0) -> 48570
G48: SUBTOTAL DEL PROGRAMA | M48: =SUM(M45:N47) -> 105652
B50: D 3 | C50: MANEJO INTEGRAL DE RESIDUOS SÓLIDOS
B51: 3.1 | C51: ACOPIO TEMPORAL DE RCD EN FRENTES DE OBRA | E51: =VLOOKUP(J51,PRECIOS!$B$3:$D$3651,2,FALSE) -> PLASTICO NEGRO CALIBRE 6 | H51: M2 | I51: 10 | J51: 7556 | K51: =VLOOKUP(J51,PRECIOS!$B$3:$D$3651,3,FALSE) -> 1312 | M51: =ROUND(I51*K51,0) -> 13120
B52: 3.2 | C52: PUNTO DE ACOPIO DE MATERIALES | E52: =VLOOKUP(J52,PRECIOS!$B$3:$D$3651,2,FALSE) -> CARRETILLA RUEDA NEUMATICA PLATON METALICO CAPACIDAD CINCO PIES CUBICOS MANGO MADERA TIPO BUGGY | H52: UN | I52: 1 | J52: 7812 | K52: =VLOOKUP(J52,PRECIOS!$B$3:$D$3651,3,FALSE) -> 201100 | M52: =ROUND(I52*K52,0) -> 201100
E53: =VLOOKUP(J53,PRECIOS!$B$3:$D$3651,2,FALSE) -> PALA REDONDA No. 2 CON CABO | H53: UN | I53: 1 | J53: 9287 | K53: =VLOOKUP(J53,PRECIOS!$B$3:$D$3651,3,FALSE) -> 19517 | M53: =ROUND(I53*K53,0) -> 19517
E54: =VLOOKUP(J54,PRECIOS!$B$3:$D$3651,2,FALSE) -> CEPILLO INDUSTRIAL DE NYLON CON CABO DE 35CM A 42CM X 9CM X 17CM | H54: UN | I54: 1 | J54: 7811 | K54: =VLOOKUP(J54,PRECIOS!$B$3:$D$3651,3,FALSE) -> 13978 | M54: =ROUND(I54*K54,0) -> 13978
E55: =VLOOKUP(J55,PRECIOS!$B$3:$D$3651,2,FALSE) -> BARRA DE 18LB CON PUNTA Y PALA 150CM X 10CM | H55: UN | I55: 1 | J55: 7813 | K55: =VLOOKUP(J55,PRECIOS!$B$3:$D$3651,3,FALSE) -> 64260 | M55: =ROUND(I55*K55,0) -> 64260
...

Sheet AIU AMBIENTAL -SST
B2: MATRIZ PARA CÁLCULO DE AIU- AMBIENTAL FONDO DE DESARROLLO LOCAL DE SANTA FE
B5: OBJETO | G5: CONTRATAR POR EL SISTEMA DE PRECIOS UNITARIOS FIJOS A MONTO AGOTABLE, EL DIAGNOSTICO Y LAS OBRAS DE MANTENIMIENTO, REQUERIDAS EN LOS SALONES COMUNALES DE LA LOCALIDAD DE SANTA FE
B9: SUBTOTAL COMPONENTES A+C+D+E+F | E9: ='AMBIENTAL -SST'!M104 -> 18035043 | I9: FECHA:
B10: TERMINO ESTIMADO DE EJECUCIÓN DE OBRA | E10: 5 | F10: MESES | I10: CONTRATO No.
B12: 3. IMPUESTOS Y GARANTÍAS
B13: 3.1 | C13: IMPUESTOS
B14: ÍTEM | C14: DESCRIPCIÓN | J14: IMPUESTO | L14: VALOR ($)
B15: =B13+0.001 -> 3.101 | C15: Contribución Especial (Impuesto de Guerra Ley 1738 DIC18-2014 prorroga 4 años) | J15: 0.05 | L15: =ROUND($E$9*J15,0) -> 901752
B16: =B15+0.001 -> 3.102 | C16: ICA (Ley 14 6jul1983, Res 219 25feb2004) | J16: 0.00712 | L16: =ROUND($E$9*J16,0) -> 128410
B17: =B16+0.001 -> 3.103 | C17: GMF (Ley 1739 23dic2014 modifica el Estatuto Tributario) | J17: 0.004 | L17: =ROUND($E$9*J17,0) -> 72140
B18: =B17+0.001 -> 3.104 | C18: Estampilla Unipedagógica (Dec 584 de 19 dic 2014) | J18: 0.005 | L18: =ROUND($E$9*J18,0) -> 90175
C19: SUBTOTAL IMPUESTOS | L19: =SUM(L15:L18) -> 1192477
B21: =B13+0.1 -> 3.2 | C21: GARANTIAS
B22: ÍTEM | C22: DESCRIPCIÓN | E22: VR. BASE | G22: % ASEGURADO | I22: VIGENCIA AMPARO (MESES) | J22: TASA ASEGURADORA | L22: VALOR ($)
B23: =B21+0.001 -> 3.201 | C23: Cumplimiento | D23: GARANTIA UNICA | E23: =$E$9 -> 18035043 | G23: 0.3 | I23: 10.5 | J23: 0.002 | L23: =ROUND((((((E23*G23)*J23)/12)*I23)+2500)*1.19,0) -> 14242
B24: =B23+0.001 -> 3.202 | C24: Salarios y Prestaciones Sociales | E24: =$E$9 -> 18035043 | G24: 0.1 | I24: 40.5 | J24: 0.002 | L24: =ROUND((((((E24*G24)*J24)/12)*I24)+2500)*1.19,0) -> 17462
B25: =B24+0.001 -> 3.203 | C25: Estabilidad de la Obra | E25: =$E$9 -> 18035043 | G25: 0.3 | I25: 64.5 | J25: 0.002 | L25: =ROUND((((((E25*G25)*J25)/12)*I25)+2500)*1.19,0) -> 72189
B26: =B25+0.001 -> 3.204 | C26: Predios, labores y Operaciones- Vigencia (Decreto 1082 de 2015 Sección III) | D26: RESPONSABILIDAD CIVIL EXTRACONTRACTUAL | E26: =+E9 -> 18035043 | G26: 1 | I26: 5 | J26: 0.003 | L26: =ROUND((((((E26*G26)*J26)/12)*I26)+2500)*1.19,0) -> 29802
C27: SUBTOTAL GARANTÍAS | L27: =ROUND(SUM(L23:L26),0) -> 133695
B29: TOTAL IMPUESTOS Y GARANTÍAS | L29: =ROUND(L19+L27,0) -> 1326172
B30: TOTAL IMPUESTOS Y GARANTÍAS EN PORCENTAJE DEL COSTO DIRECTO | L30: =+L29/E9 -> 0.073533066
B32: A. ADMINISTRACIÓN (1 + 2 + 3) | L32: =L30 -> 0.073533066
B33: I. IMPREVISTOS | L33: 0.01
B34: U. UTILIDAD | L34: 0.04
B36: A.I.U. (ADMINISTRACIÓN, IMPREVISTOS Y UTILIDAD) | L36: =SUM(L32:L34) -> 0.12353307

Sheet SOCIAL
B2: SISTEMA DE GESTIÓN AMBIENTAL, SEGURIDAD Y SALUD EN EL TRABAJO FONDO DE DESARROLLO LOCAL DE SANTA FE
B5: OBJETO | H5: CONTRATAR POR EL SISTEMA DE PRECIOS UNITARIOS FIJOS A MONTO AGOTABLE, EL DIAGNOSTICO Y LAS OBRAS DE MANTENIMIENTO, REQUERIDAS EN LOS SALONES COMUNALES DE LA LOCALIDAD DE SANTA FE
C9: COSTO DIRECTO ESTIMADO DE OBRA (CD) | K9: ='PRESUPUESTO OFICIAL'!G22 -> 366753750
C10: AIU | K10: =AIU!K69 -> 0.31101464
K11: =K9*K10 -> 114065786
C12: TERMINO ESTIMADO DE EJECUCIÓN DE OBRA | K12: 5
C14: COSTOS ESTIMADOS PARA COMPENSACIONES A SDA | K14: 0
C15: COSTOS ESTIMADOS PARA ENSAYOS DE LABORATORIO | K15: 0
C16: AJUSTES POR CAMBIO DE VIGENCIA | K16: 0
C17: COSTO ACTIVIDADES AMBIENTALES y SST | K17: ='PRESUPUESTO OFICIAL'!G28 -> 20262967
C18: COSTO GESTION SOCIAL | K18: ='PRESUPUESTO OFICIAL'!G30 -> 9432897
C20: COSTO TOTAL PRESUPUESTO MONTO AGOTABLE | K20: ='PRESUPUESTO OFICIAL'!G32 -> 510515400
B24: COMPONTE A. Personal Profesional de Gestión Social
B25: EJECUCIÓN DE OBRAS
B26: ÍTEMS | F26: CODIGO | G26: UN. | H26: CAT | I26: CANT | J26: DEDIC H/MES | K26: DURACION | L26: TARIFA | M26: F.P | N26: TOTAL ACTIVIDAD
B27: 1 | C27: PROFESIONAL SOCIAL | F27: 9114 | G27: MES | H27: 8 | I27: 1 | J27: 0.2 | K27: =K12 -> 5 | L27: =VLOOKUP(F27,PRECIOS!$B$3:$D$3651,3,FALSE) -> 4523000 | M27: =F.P.!E29 -> 1.58 | N27: =ROUND(K27*L27*M27*J27,0) -> 7146340
B28: SUBTOTAL COMPONENTE A | M28: =SUM(N27:N27) -> 7146340
B30: COMPONTE B. PLAN DE GESTION SOCIAL
B31: ÍTEMS | E31: ESPECIFICACIÓN | H31: UN | I31: CANTIDAD | J31: CODIGO | K31: VALOR UNITARIO | M31: VALOR TOTAL
B32: B.1 | C32: Programa de Información
B33: B.1.1 | C33: =VLOOKUP(J33,PRECIOS!$B$3:$D$3651,2,FALSE) -> VÍDEO BEAM - ALQUILER POR DIA | H33: DIA | I33: 2 | J33: 7870 | K33: =VLOOKUP(J33,PRECIOS!$B$3:$D$3651,3,FALSE) -> 107100 | M33: =ROUND(I33*K33,0) -> 214200
B34: SubTotal programa de información | M34: =M33 -> 214200
B36: B.2 | C36: Programa de Divulgación al ciudadano
B37: B.2.1 | C37: =VLOOKUP(J37,PRECIOS!$B$3:$D$3651,2,FALSE) -> AFICHE TAMAÑO MEDIO PLIEGO A 4X0 TINTAS EN PROPALCOTE DE 115 GR. | H37: UN | I37: 3 | J37: 7897 | K37: =VLOOKUP(J37,PRECIOS!$B$3:$D$3651,3,FALSE) -> 1309 | M37: =ROUND(I37*K37,0) -> 3927
B38: B.2.2 | C38: =VLOOKUP(J38,PRECIOS!$B$3:$D$3651,2,FALSE) -> PLEGABLES DE SOSTENIBILIDAD EN TRES CUERPOS TAMAÑO CARTA A 4X4 TINTAS EN PROPALCOTE. | H38: UN | I38: 3 | J38: 7898 | K38: =VLOOKUP(J38,PRECIOS!$B$3:$D$3651,3,FALSE) -> 500 | M38: =ROUND(I38*K38,0) -> 1500
B39: B.2.3 | C39: =VLOOKUP(J39,PRECIOS!$B$3:$D$3651,2,FALSE) -> IMPRESIÓN HOJA CARTA, A 1X0 TINTAS EN PAPEL BOND DE 75 GR. | H39: UN | I39: 50 | J39: 7896 | K39: =VLOOKUP(J39,PRECIOS!$B$3:$D$3651,3,FALSE) -> 95 | M39: =ROUND(I39*K39,0) -> 4750
B40: SubTotal programa de divulgación al ciudadano | M40: =SUM(M37:N39) -> 10177
B42: SUBTOTAL DEL COMPONENTE B | M42: =M40+M34 -> 224377
B44: COMPONTE C. ADECUACION DEL PUNTO DE ATENCION AL CIUDADANO
B45: ÍTEMS | E45: ESPECIFICACIÓN | H45: UN | I45: CANTIDAD | J45: CODIGO | K45: VALOR UNITARIO | M45: VALOR TOTAL
B46: C.1 | C46: MANEJO INTEGRAL DE RESIDUOS SÓLIDOS
B47: C.1.1 | C47: =VLOOKUP(J47,PRECIOS!$B$3:$D$3651,2,FALSE) -> CARTELERA CON MARCO EN ALUMINIO ANODIZADO, PAÑO COLOR GRIS CON CENEFA SUPERIOR, PUERTAS CORREDIZAS. Incl. transporte | H47: UN | I47: 1 | J47: 9048 | K47: =VLOOKUP(J47,PRECIOS!$B$3:$D$3651,3,FALSE) -> 478574 | M47: =ROUND(I47*K47,0) -> 478574
B48: C.1.2 | C48: =VLOOKUP(J48,PRECIOS!$B$3:$D$3651,2,FALSE) -> AVISO PUNTO CREA 1.50m x 0.90m EN LÁMINA GALVANIZADA CAL. 24. INCLUYE SUMINISTRO E INSTALACIÓN | H48: UN | I48: 1 | J48: 7992 | K48: =VLOOKUP(J48,PRECIOS!$B$3:$D$3651,3,FALSE) -> 500000 | M48: =ROUND(I48*K48,0) -> 500000
B49: C.1.3 | C49: =VLOOKUP(J49,PRECIOS!$B$3:$D$3651,2,FALSE) -> SERVICIO TELEFONIA LOCAL ILIMITADA E INTERNET ILIMITADO VELOCIDAD PROMEDIO (80-500 MB) ESTRATO 3 | H49: UN | I49: 1 | J49: 9835 | K49: 41901 | M49: =ROUND(I49*K49,0) -> 41901
B50: SUBTOTAL DEL COMPONENTE C | M50: =SUM(M47:N49) -> 1020475
B52: SUBTOTAL COMPONENTES A+C+D+E+F | M52: =M50+M42+M28 -> 8391192
B53: A.I.U. | L53: ='AIU SOCIAL'!L36 -> 0.12414262 | M53: =ROUND(L53*M52,0) -> 1041705
B54: VALOR GLOBAL AMBIENTAL CON AIU : TOTAL COMPONENTES A+C+D+E+F | M54: =M53+M52 -> 9432897

Sheet AIU SOCIAL
B2: MATRIZ PARA CÁLCULO DE AIU- AMBIENTAL FONDO DE DESARROLLO LOCAL DE SANTA FE
B5: OBJETO | G5: CONTRATAR POR EL SISTEMA DE PRECIOS UNITARIOS FIJOS A MONTO AGOTABLE, EL DIAGNOSTICO Y LAS OBRAS DE MANTENIMIENTO, REQUERIDAS EN LOS SALONES COMUNALES DE LA LOCALIDAD DE SANTA FE
B9: SUBTOTAL COMPONENTES A+B+C | E9: =SOCIAL!M52 -> 8391192 | I9: FECHA:
B10: TERMINO ESTIMADO DE EJECUCIÓN DE OBRA | E10: 5 | F10: MESES | I10: CONTRATO No.
B12: 3. IMPUESTOS Y GARANTÍAS
B13: 3.1 | C13: IMPUESTOS
B14: ÍTEM | C14: DESCRIPCIÓN | J14: IMPUESTO | L14: VALOR ($)
B15: =B13+0.001 -> 3.101 | C15: Contribución Especial (Impuesto de Guerra Ley 1738 DIC18-2014 prorroga 4 años) | J15: 0.05 | L15: =ROUND($E$9*J15,0) -> 419560
B16: =B15+0.001 -> 3.102 | C16: ICA (Ley 14 6jul1983, Res 219 25feb2004) | J16: 0.00712 | L16: =ROUND($E$9*J16,0) -> 59745
B17: =B16+0.001 -> 3.103 | C17: GMF (Ley 1739 23dic2014 modifica el Estatuto Tributario) | J17: 0.004 | L17: =ROUND($E$9*J17,0) -> 33565
B18: =B17+0.001 -> 3.104 | C18: Estampilla Unipedagógica (Dec 584 de 19 dic 2014) | J18: 0.005 | L18: =ROUND($E$9*J18,0) -> 41956
C19: SUBTOTAL IMPUESTOS | L19: =SUM(L15:L18) -> 554826
B21: =B13+0.1 -> 3.2 | C21: GARANTIAS
B22: ÍTEM | C22: DESCRIPCIÓN | E22: VR. BASE | G22: % ASEGURADO | I22: VIGENCIA AMPARO (MESES) | J22: TASA ASEGURADORA | L22: VALOR ($)
B23: =B21+0.001 -> 3.201 | C23: Cumplimiento | D23: GARANTIA UNICA | E23: =$E$9 -> 8391192 | G23: 0.3 | I23: 10.5 | J23: 0.002 | L23: =ROUND((((((E23*G23)*J23)/12)*I23)+2500)*1.19,0) -> 8217
B24: =B23+0.001 -> 3.202 | C24: Salarios y Prestaciones Sociales | E24: =$E$9 -> 8391192 | G24: 0.1 | I24: 40.5 | J24: 0.002 | L24: =ROUND((((((E24*G24)*J24)/12)*I24)+2500)*1.19,0) -> 9715
B25: =B24+0.001 -> 3.203 | C25: Estabilidad de la Obra | E25: =$E$9 -> 8391192 | G25: 0.3 | I25: 64.5 | J25: 0.002 | L25: =ROUND((((((E25*G25)*J25)/12)*I25)+2500)*1.19,0) -> 35178
B26: =B25+0.001 -> 3.204 | C26: Predios, labores y Operaciones- Vigencia (Decreto 1082 de 2015 Sección III) | D26: RESPONSABILIDAD CIVIL EXTRACONTRACTUAL | E26: =+E9 -> 8391192 | G26: 1 | I26: 4.5 | J26: 0.003 | L26: =ROUND((((((E26*G26)*J26)/12)*I26)+2500)*1.19,0) -> 14209
C27: SUBTOTAL GARANTÍAS | L27: =ROUND(SUM(L23:L26),0) -> 67319
B29: TOTAL IMPUESTOS Y GARANTÍAS | L29: =ROUND(L19+L27,0) -> 622145
B30: TOTAL IMPUESTOS Y GARANTÍAS EN PORCENTAJE DEL COSTO DIRECTO | L30: =+L29/E9 -> 0.074142625
B32: A. ADMINISTRACIÓN (1 + 2 + 3) | L32: =L30 -> 0.074142625
B33: I. IMPREVISTOS | L33: 0.01
B34: U. UTILIDAD | L34: 0.04
B36: A.I.U. (ADMINISTRACIÓN, IMPREVISTOS Y UTILIDAD) | L36: =SUM(L32:L34) -> 0.12414262

Sheet F.P.
B2: CONTRATAR POR EL SISTEMA DE PRECIOS UNITARIOS FIJOS A MONTO AGOTABLE, EL DIAGNOSTICO Y LAS OBRAS DE MANTENIMIENTO, REQUERIDAS EN LOS SALONES COMUNALES DE LA LOCALIDAD DE SANTA FE
B4: CÁLCULO DEL FACTOR MULTIPLICADOR PERSONAL
B6: ITEM | C6: DESCRIPCIÓN | D6: % | E6: % ACUMULADO
B7: 1 | C7: PRESTACIONES SOCIALES | E7: =SUM(D7:D13) -> 1.2183333
C8: Salarios | D8: 1
C9: Cesantías | D9: =1/12 -> 0.083333333
C10: Intereses de Cesantías | D10: 0.01
C11: Prima de servicio | D11: =1/12 -> 0.083333333
C12: Vacaciones | D12: =0.5/12 -> 0.041666667
B14: 2 | C14: SEGURIDAD SOCIAL | E14: =SUM(D14:D18) -> 0.2746
C15: Pensión | D15: 0.12
C16: Salud | D16: 0.085
C17: A.R.P. | D17: 0.0696
B19: 3 | C19: PARAFISCALES | E19: =SUM(D20:D22) -> 0.09
C20: Caja de Compensación | D20: 0.04
C21: I.C.B.F. | D21: 0.03
C22: Sena | D22: 0.02
B24: 4 | C24: COSTOS INDIRECTOS | E24: =SUM(D25:D25) -> 0
C25: Operación oficina
B27: TOTAL | E27: =SUM(E7:E24) -> 1.5829333
B29: FACTOR MULTIPLICADOR | E29: =ROUND((E27),2) -> 1.58

Sheet PRECIOS
B3: 322 | C3: CONCRETO GRAVA COMÚN 2000 PSI 14 MPa (140 Kg/m2) | D3: 359380
B4: 323 | C4: CONCRETO GRAVA COMÚN 2500 PSI 17 MPa (175 Kg/cm2) | D4: 371875
B5: 324 | C5: CONCRETO GRAVA COMÚN 3000 PSI 21 MPa (210 Kg/cm2) | D5: 384965
B6: 325 | C6: CONCRETO GRAVA COMÚN 3500 PSI 24 MPa (245 Kg/cm2) | D6: 397460
B7: 326 | C7: CONCRETO GRAVA COMÚN 4000 PSI 27 MPa (280 Kg/cm2) | D7: 408587
B8: 328 | C8: CONCRETO GRAVA COMÚN 5000 PSI 34 MPa (350 Kg/cm2) | D8: 435540
B9: 333 | C9: CONCRETO GRAVA FINA 3000 PSI 21 MPa (210 Kg/cm2) | D9: 387345
B10: 366 | C10: MORTERO 2000 PSI 14 MPa (140 Kg/cm2) | D10: 387970
B11: 1505 | C11: COMPACTADOR DE LLANTAS - MASA SIN LASTRES DE 9 A 11 TONELADAS - INCLUYE OPERARIO Y COMBUSTIBLE | D11: 160757
B12: 1512 | C12: GRAMA | D12: 8500
B13: 1515 | C13: FORMALETA METÁLICA SARDINEL | D13: 321
B14: 1794 | C14: ALAMBRE RECOCIDO No.18 | D14: 4284
... B3651: 13222 | C3651: LEVANTAMIENTO CON TECNOLOGIA GEORADAR(GPR)- Ground Penetrating Radar. Señal electromagnética de alta frecuencia, barrido con antena. Detección de redes. Incluye informe y radargramas | D3651: 5355000
