Workbook
Name \b: [1]insumos!#REF!
Name \i: [1]insumos!#REF!
Name \m: [1]insumos!#REF!
Name \r: [1]insumos!#REF!
Name \t: [1]insumos!#REF!
Name \x: [1]insumos!#REF!
Name ________AFC1: [2]INV!$A$25:$D$28
Name ________AFC3: [2]INV!$F$25:$I$28
Name ________AFC5: [2]INV!$K$25:$N$28
Name ________BGC1: [2]INV!$A$5:$D$8
Name ________BGC3: [2]INV!$F$5:$I$8
Name ________BGC5: [2]INV!$K$5:$N$8
Name ________CAC1: [2]INV!$A$19:$D$22
Name ________CAC3: [2]INV!$F$19:$I$22
Name ________CAC5: [2]INV!$K$19:$N$22
Name ________MA2: #REF!
Name ________SBC1: [2]INV!$A$12:$D$15
Name ________SBC3: [2]INV!$F$12:$I$15
Name ________SBC5: [2]INV!$K$12:$N$15
Name _______AFC1: [2]INV!$A$25:$D$28
Name _______AFC3: [2]INV!$F$25:$I$28
Name _______AFC5: [2]INV!$K$25:$N$28
Name _______BGC1: [2]INV!$A$5:$D$8
Name _______BGC3: [2]INV!$F$5:$I$8
Name _______BGC5: [2]INV!$K$5:$N$8
Name _______CAC1: [2]INV!$A$19:$D$22
Name _______CAC3: [2]INV!$F$19:$I$22
Name _______CAC5: [2]INV!$K$19:$N$22
Name _______MA2: #REF!
Name _______SBC1: [2]INV!$A$12:$D$15
Name _______SBC3: [2]INV!$F$12:$I$15
Name _______SBC5: [2]INV!$K$12:$N$15
Name ______AFC1: [2]INV!$A$25:$D$28
Name ______AFC3: [2]INV!$F$25:$I$28
Name ______AFC5: [2]INV!$K$25:$N$28
Name ______BGC1: [2]INV!$A$5:$D$8
Name ______BGC3: [2]INV!$F$5:$I$8
Name ______BGC5: [2]INV!$K$5:$N$8
Name ______CAC1: [2]INV!$A$19:$D$22
Name ______CAC3: [2]INV!$F$19:$I$22
Name ______CAC5: [2]INV!$K$19:$N$22
Name ______COD1: #REF!
Name ______MA2: #REF!
Name ______SBC1: [2]INV!$A$12:$D$15
Name ______SBC3: [2]INV!$F$12:$I$15
Name ______SBC5: [2]INV!$K$12:$N$15
Name _____AFC1: [2]INV!$A$25:$D$28
Name _____AFC3: [2]INV!$F$25:$I$28
Name _____AFC5: [2]INV!$K$25:$N$28
Name _____BGC1: [2]INV!$A$5:$D$8
Name _____BGC3: [2]INV!$F$5:$I$8
Name _____BGC5: [2]INV!$K$5:$N$8
Name _____CAC1: [2]INV!$A$19:$D$22
Name _____CAC3: [2]INV!$F$19:$I$22
Name _____CAC5: [2]INV!$K$19:$N$22
Name _____MA2: #REF!
Name _____PJ50: #REF!
Name _____pj51: #REF!
Name _____SBC1: [2]INV!$A$12:$D$15
Name _____SBC3: [2]INV!$F$12:$I$15

Sheet CANTIDADES
B3: EXCAVACIÓN (m3) | D3: Cerramiento
B4: FILTRO | C4: =0.72*0.3*449.2545 -> 97.038972 | D4: Muro en bloques (m2) | E4: =(2*(75+45))*0.6 -> 144
B5: CUNETA | C5: =((PI()*(0.15)^2)/8)*249.13 -> 2.2012453 | D5: Malla eslabonada (m2) | E5: =2*(75+45)*1.9 -> 456
B6: TUBOS C.I | C6: =0.1016*0.62*(10.977+26.2294+0.89) -> 2.3997684 | D6: Postes tubulares (ml) | E6: 240
B7: VIGA CIMENTACIÓN (CERRAMIENTO) | C7: 21.6 | D7: Cerramiento(ml) | E7: 240
B8: CAJAS DE INSPECCIÓN | C8: =1*1*1.2*2 -> 2.4 | D8: Riostros (ml) | E8: 240
B9: TOTAL EXCAVACIÓN | C9: =SUM(C4:C8) -> 125.63999 | D9: Obras hidráulicas
B10: FILTRO
B11: PIEDRA (m3) | C11: =(0.6*0.3*449.2545)-(((PI()*(0.15)^2)/4)*449.2545) -> 72.926828 | D11: Colocación PVC 4 pulg (ml) | E11: =0.89+26.2294+10.977 -> 38.0964
B12: GEOTEXIL (m2) | C12: =1.5*449.2545 -> 673.88175
B13: Tbo filtro frances (ml) | C13: 449.2545 | D13: Cuneta circular (ml) | E13: =77.775+46.715+77.925+46.715 -> 249.13
B14: Arena limpia (m3) | C14: =0.02*0.3*449.2545 -> 2.695527
B15: TIERRA NEGRA (m3) | C15: =0.1*0.3*449.2545 -> 13.477635 | D15: Caja de inspección | E15: 2
B16: Grama (m2) | C16: =0.3*449.2545 -> 134.77635

Sheet COTIZACIÓN
B2: MEJORAMIENTO CANCHA CORREGIMIENTO DE JERUSALEN - SONSÓN
B4: ITEM | C4: DESCRIPCIÓN | D4: UND | E4: Cantidad | F4: PRECIO UNITARIO | G4: PRECIO TOTAL
B5: 1.1 | C5: Replanteo topográfico del proyecto: comprende la localización, trazado y marcación en campo de ejes, niveles y puntos de referencia establecidos en los planos del proyecto. Incluye mano de obra calificada, uso de equipos topográficos, materiales menores (estacas, clavos, pintura) y transporte, asegurando la correcta ubicación y niveles de las obras según diseño aprobado. | D5: ha | E5: 3.3 | G5: =E5*F5 -> 0
B8: 1.2 | C8: Desmonte manual y limpieza de terreno: comprende la remoción manual de vegetación, raíces, maleza y escombros en el área de trabajo, incluyendo transporte y disposición final autorizada de los residuos fuera de la obra. Incluye mano de obra especializada, herramientas manuales, materiales menores y actividades para dejar el terreno limpio, nivelado y apto para la construcción, conforme a especificaciones técnicas y supervisión. Completa el proceso previo para garantizar condiciones óptimas para la ejecución de la obra. | D8: ha | E8: 3.3 | G8: =E8*F8 -> 0
B11: 1.3 | C11: Excavación de material in-situ para construcción de obras de drenaje (cunetas, filtro francés, cajas de inspección, instalación de tubos galvanizados, viga de cimentación.). Incluye cargue y transporte al sitio de disposición | D11: m3 | E11: =CANTIDADES!C9 -> 125.63999 | G11: =E11*F11 -> 0
B14: CONSTRUCCIÓN FILTRO FRANCES
B15: 2.1 | C15: Suministro, transporte y colocación manual de piedra de canto rodado (grava) seleccionada, limpia y de tamaño uniforme para relleno en zanja de filtro francés, de acuerdo a sección y planos técnicos. Incluye compactación ligera y nivelación, retiro de residuos y disposición final del material sobrante. | D15: m3 | E15: =CANTIDADES!C11 -> 72.926828 | F15: ='2.1'!AY36 -> 0 | G15: =E15*F15 -> 0
B16: 2.2 | C16: Suministro y despliegue de geotextil no tejido marca Pavco 1600 o similar, colocado manualmente en el fondo y paredes de la zanja, asegurando cobertura continua y traslape conforme a especificaciones técnicas para drenajes. Incluye corte, ajuste, fijación y retiro de excedentes y residuos. | D16: m2 | E16: =CANTIDADES!C12 -> 673.88175 | G16: =E16*F16 -> 0
B17: 2.3 | C17: Suministro, transporte y colocación de tubería PVC Pavco perforada de 4 pulgadas de diámetro, ubicada sobre el colchón granular y geotextil en la zanja del filtro francés, nivelada y alineada de acuerdo a planos. Incluye empalmes, accesorios, pruebas de nivel y limpieza. | D17: ml | E17: =CANTIDADES!C13 -> 449.2545 | G17: =E17*F17 -> 0
B18: 2.4 | C18: Suministro, transporte y colocación manual de arena lavada, libre de impurezas, utilizada como capa de colchón para relleno y mejora de filtración en el filtro francés, instalada según espesores requeridos y especificaciones técnicas. Incluye limpieza y retiro de excedentes. | D18: m3 | E18: =CANTIDADES!C14 -> 2.695527 | G18: =E18*F18 -> 0
B19: 2.5 | C19: Suministro y colocación manual de capa vegetal (tierra negra) sobre el relleno del filtro francés y área alterada, distribuyendo uniformemente para recibir el acabado de engramado, conforme diseño y planos. Incluye limpieza y retiro de sobrantes. | D19: m3 | E19: =CANTIDADES!C15 -> 13.477635 | G19: =E19*F19 -> 0
B20: 2.6 | C20: Suministro y siembra manual de césped (grama) sobre la capa vegetal en el área tratada, asegurando compactación suave, riego inicial y ajuste al diseño paisajístico definido. Incluye limpieza de área de trabajo y disposición de excedentes vegetales y residuos. | D20: m2 | E20: =CANTIDADES!C16 -> 134.77635 | G20: =E20*F20 -> 0
B21: CONSTRUCCIÓN CERRAMIENTO PERIMETRAL CANCHA
B22: 3.1 | C22: Construcción de viga de cimentación en concreto armado de 0.30 x 0.30 m de sección y 0.40 m de profundidad, con concreto f’c = 21 MPa, elaborado y transportado desde planta en Rionegro hasta la cancha en Jerusalén, incluye acero de refuerzo longitudinal con dos barras #3 (3/8"), estribos #2 (1/4”) cada 20 cm, formaleta en madera, alambre de amarre, desencofrante, colocación, vibrado, curado y desencofrado. Incluye toda la mano de obra, herramienta menor, equipos, limpieza y disposición de residuos, así como el transporte de todos los materiales desde origen hasta sitio de obra, conforme a los planos estructurales y especificaciones de diseño. Se mide y paga por metro lineal ejecutado.﻿ | D22: ml | E22: 240 | G22: =F22*E22 -> 0
B23: 3.2 | C23: Construcción de base con bloques de concreto armado, colocados y alineados según plano, con aplicación posterior de revoque en ambas caras para acabado y protección. Incluye mezcla de mortero, herramientas, mano de obra, limpieza y retiro de escombros. | D23: m2 | E23: =CANTIDADES!E4 -> 144 | G23: =E23*F23 -> 0
B24: 3.3 | C24: Instalación de malla metálica eslabonada, con calibre y tamaño conforme al diseño, tensada y asegurada a la estructura metálica del cerramiento. Incluye corte, ensamblaje, fijación y mano de obra especializada. | D24: m2 | E24: =CANTIDADES!E5 -> 456 | G24: =E24*F24 -> 0
B25: 3.4 | C25: Suministro y montaje de postes metálicos tubulares galvanizados, diámetro 3”, con instalación vertical, fijación adecuada mediante anclajes o zapatas de concreto. Incluye alineamiento, nivelación, y movimientos de tierra necesarios. | D25: ml | E25: =CANTIDADES!E6 -> 240 | G25: =E25*F25 -> 0
B26: 3.5 | C26: Colocación de riostras horizontales y diagonales de tubo galvanizado (1.5” diámetro), soldadas o sujetadas a los postes para dar estabilidad estructural. Incluye corte, soldadura, mano de obra y limpieza final. | D26: ml | E26: =CANTIDADES!E8 -> 240 | G26: =E26*F26 -> 0
B27: OBRAS HIDRÁULICAS COMPLEMENTARIAS
B28: 4.1 | C28: Suministro, transporte, y colocación de tubería PVC marca Pavco de 4 pulgadas de diámetro, perforada para drenaje de aguas pluviales. Incluye la conexión con cajas de inspección, nivelación, pruebas, mano de obra especializada, herramientas y limpieza final del área. | D28: ml | E28: =CANTIDADES!E11 -> 38.0964 | G28: =E28*F28 -> 0
B29: 4.2 | C29: Construcción e instalación de cunetas circulares prefabricadas o moldeadas in situ con diámetro de 0.15 metros para canalización de aguas superficiales. Incluye la excavación, colocación conforme a pendientes, ajuste y compactación, materiales, mano de obra y disposición de desechos. | D29: ml | E29: =CANTIDADES!E13 -> 249.13 | G29: =E29*F29 -> 0
B30: 4.3 | C30: Suministro y construcción de dos cajas de inspección de dimensiones aproximadas 1 metro por 1 metro por 1.2 metros de altura. Incluye bloque de concreto, mortero, tapa metálica o de concreto, mano de obra calificada, limpieza, y aseguramiento del buen funcionamiento del sistema de drenaje. | D30: und | E30: =CANTIDADES!E15 -> 2 | G30: =E30*F30 -> 0
B31: MANTENIMIENTO CUBIERTA METÁLICA
B32: 5 | C32: Realización de actividades de mantenimiento preventivo y correctivo en cubierta metálica existente, incluyendo limpieza, retiro de elementos dañados, sustitución parcial de láminas, reparaciones de estructura metálica, aplicación de pintura anticorrosiva, revisión y ajuste de fijaciones. Se garantizan condiciones adecuadas para la protección estructural y funcionalidad de la cubierta. Mano de obra especializada y uso de materiales certificados. | D32: gbl | E32: 1 | G32: =E32*F32 -> 0
B33: RED ELÉCTRICA - ILUMINACION ALUMBRADO PUBLICO CANCHA JERUSALEN
B34: 6 | C34: Realización de actividades de suministro e instalación integral de todo el sistema eléctrico y de alumbrado público del proyecto, incluyendo tablero de distribución, tuberías (PVC e IMC), cajas subterráneas de paso y halado, circuitos eléctricos según planos, acometidas principales, instalación de medidor en poste, montaje de postes metálicos para iluminación y reflectores LED. Se incluyen todos los materiales, accesorios, conexiones, fijaciones, dispositivos de seguridad, así como mano de obra especializada, herramientas, transporte y pruebas de funcionamiento para garantizar la seguridad, la correcta operación y el cumplimiento de normatividad en toda la red eléctrica del proyecto. | D34: gbl | E34: 1 | G34: =F34*E34 -> 0
D35: SUBTOTAL
D36: ADMINISTRACIÓN (32.4%)
D37: IMPREVISTOS (1%)
D38: UTILIDAD (5%) + IVA
D39: SSTA (1%)
D40: PLAN DE MANEJO AMBIENTAL
D41: PLAN DE MANEJO DE TRÁNSITO
D42: TOTAL

Sheet A.I.U
A1: ADMINISTRACIÓN, UTILIDAD E IMPREVISTOS
A2: TOTAL COSTOS DIRECTOS | G2: =COTIZACIÓN!F35 -> 0
A3: COSTO TOTAL OBRA (BASE IMPUESTOS) | G3: =COTIZACIÓN!F42 -> 0
A5: DESGLOCE ADMINISTRACIÓN
A7: A | B7: COSTOS DE PERFECCIONAMIENTO
A8: ITEM | C8: UNIDAD | E8: CANTIDAD | F8: VALOR UNITARIO | G8: VALOR TOTAL | H8: INCIDENCIA %
A9: 1 | B9: ESTAMPILLA PRO ADULTO MAYOR | C9: % | E9: 0.04 | F9: =+E9*$G$3 -> 0 | G9: =+F9 -> 0 | H9: =+(G9/$G$2) -> #DIV/0!
A10: 2 | B10: ESTAMPILLA PRO CULTURA | C10: % | E10: 0.02 | F10: =+E10*$G$3 -> 0 | G10: =+F10 -> 0 | H10: =+(G10/$G$2) -> #DIV/0!
A11: 3 | B11: ESTAMPILLA PRO HOSPITAL | C11: % | E11: 0.01 | F11: =+E11*$G$3 -> 0 | G11: =+F11 -> 0 | H11: =+(G11/$G$2) -> #DIV/0!
A12: 4 | B12: ESTAMPILLA PRO DEPORTE | C12: % | E12: 0.012 | F12: =+E12*$G$3 -> 0 | G12: =+F12 -> 0 | H12: =+(G12/$G$2) -> #DIV/0!
A13: 5 | B13: ESTAMPILLA PRO JUSTICIA FAMILAR | C13: % | E13: 0.02 | F13: =+E13*$G$3 -> 0 | G13: =+F13 -> 0 | H13: =+(G13/$G$2) -> #DIV/0!
A14: 6 | B14: CONTRIBUCIÓN OBRA PÚBLICA | C14: % | E14: 0.05 | F14: =+E14*$G$3 -> 0 | G14: =+F14 -> 0 | H14: =+(G14/$G$2) -> #DIV/0!
A15: 7 | B15: POLIZA | C15: % | E15: 0.01 | F15: =+E15*$G$3 -> 0 | G15: =+F15 -> 0 | H15: =+(G15/$G$2) -> #DIV/0!
G16: =SUM(G9:G15) -> 0 | H16: =SUM(H9:H15) -> #DIV/0!
A18: PERSONAL DE OBRA ( Salario mayor a 2 SMLV)
A19: ITEM | B19: CATEGORIA | C19: DEDICACION (%) | D19: CANTIDAD | E19: TIEMPO (MESES) | F19: SALARIOS | G19: VR. TOTAL | H19: INCIDENCIA %
A20: 1 | B20: =+JORNALES!A9 -> Residente de obra | C20: 0.8 | D20: 1 | E20: 4
A21: 2 | B21: =+JORNALES!A10 -> Auxiliar de ingenieria | C21: 1 | D21: 1 | E21: 4
A22: 3 | B22: =+JORNALES!A14 -> Siso | C22: 0.35 | D22: 1 | E22: 4
A23: 4 | B23: =+JORNALES!A7 -> Topógrafo | C23: 0.3 | D23: 0 | E23: 4
A24: TOTAL PERSONAL | G24: =+ROUND(SUM(G20:G23),2) -> 0 | H24: =+(G24/$G$2) -> #DIV/0!
A25: PERSONAL DE OBRA ( Salario hasta 2 SMLV)
A26: ITEM | B26: CATEGORIA | C26: DEDICACION (%) | D26: CANTIDAD | E26: TIEMPO (MESES) | F26: SALARIOS | G26: VR. TOTAL | H26: INCIDENCIA %
A27: 7 | B27: Cadenero | C27: 0.3 | D27: 0 | E27: =+E23 -> 4 | G27: =+ROUND((C27*D27*E27*F27),2) -> 0 | H27: =+(G27/$G$2) -> #DIV/0!
A28: SUBTOTAL PERSONAL | G28: =+ROUND((SUM(G27:G27)),2) -> 0
A29: FACTOR PRESTACIONAL | G29: 1.63
A30: TOTAL PERSONAL | G30: =+ROUND((G28*G29),2) -> 0 | H30: =+(G30/$G$2) -> #DIV/0!
A32: C | B32: COSTOS DE SERVCIOS PÚBLICOS
A33: ITEM | B33: DESCRIPCIÓN | C33: UNIDAD | E33: CANTIDAD | F33: VALOR UNITARIO | G33: VALOR TOTAL | H33: INCIDENCIA %
A34: 1 | B34: ENERGÍA | C34: Mes | E34: =+E27 -> 4
A35: 2 | B35: AGUA | C35: Mes | E35: =+E34 -> 4
A36: 3 | B36: INTERNET Y TELEFONÍA | C36: Mes | E36: 4
A39: D | B39: COSTOS Y GASTOS EN LA OBRA
A40: ITEM | B40: DESCRIPCIÓN | C40: UNIDAD | E40: CANTIDAD | F40: VALOR UNITARIO | G40: VALOR TOTAL | H40: INCIDENCIA %
B41: FALLO DE CILINDROSS | C41: UNIDAD | E41: 30
B42: DENSIDADES | C42: UNIDAD | E42: 10
A43: 4 | B43: ALQUILER ESTACIÓN TOTAL | C43: MES | E43: 1
A44: 5 | B44: ALQUILER LOCAL ALMACEN | C44: MES | E44: 1
D48: PORCENTAJE TOTAL DE ADMNISTRACION | F48: PORCENTAJE TOTAL DE ADMNISTRACION | G48: =ROUND((G16+G30+G37+G45),0) -> 0 | H48: =H30+H37+H45+H16+H24 -> #DIV/0!
D50: IMPREVISTOS | G50: =ROUND(($G$2*H50),2) -> 0 | H50: 0.01
...

Sheet 1.1
B2: MEJORAMIENTO CANCHA CORREGIMIENTO DE JERUSALEN - SONSÓN
B4: Análisis de precios unitarios (APU)
C6: Item | G6: 1.1
C7: Unidad | G7: ha
C8: Cantidad | G8: =COTIZACIÓN!E5 -> 3.3 | AY8: =G8 -> 3.3
C10: Equipo
C11: Descripción | Q11: UND | T11: Tarifa | Y11: CANT | AE11: Valor unitario
C12: Oficina de consultoría | Q12: m2/mes | T12: 74000 | Y12: 0.4
C13: Equipo de topografía | Q13: dE | T13: 165000 | Y13: 4
C14: Herramienta menor (5%)
Y16: Subtotal
C18: Materiales
C19: Descripción | Q19: Cantidad | U19: Unidad | Z19: Precio unitario | AF19: Valor unitario
Z22: Subtotal | AF22: =SUM(AF20:AK20) -> 0
C24: Transporte
C25: Descripción | U25: Unidad | AF25: Valor unitario
Z28: Subtotal | AF28: =SUM(AF26:AK26) -> 0
C30: Mano de obra
C31: Descripción
C32: Topógrafo
C33: Ayudante de construcción
C34: Cadenero 1
C35: Cadenero 2 | AY35: 24
AY39: =AD39 -> 0

Sheet 1.2
B2: MEJORAMIENTO CANCHA CORREGIMIENTO DE JERUSALEN - SONSÓN
B4: Análisis de precios unitarios (APU)
C6: Item | G6: 1.2
C7: Unidad | G7: ha
C8: Cantidad | G8: =COTIZACIÓN!E8 -> 3.3 | AY8: =G8 -> 3.3
C10: Equipo
C11: Descripción | Q11: UND | T11: Tarifa | Y11: CANT
C12: Cargador 930 | Q12: hH | T12: 110000 | Y12: 3.6
C13: Motoguadaña | Q13: dM | T13: 120970 | Y13: 1
C14: Motosierra | Q14: hM | T14: 155000 | Y14: 3.6
C15: Volqueta 6 m3 | Q15: m3-km | T15: 2500 | Y15: 250
C16: Herramienta menor (5%)
Y18: Subtotal | AE18: =SUM(AE12:AK16) -> 0
C20: Materiales
C21: Descripción | Q21: Cantidad | U21: Unidad | Z21: Precio unitario | AF21: Valor unitario
Z24: Subtotal | AF24: =SUM(AF22:AK22) -> 0
C26: Transporte
C27: Descripción | U27: Unidad | AF27: Valor unitario
Z30: Subtotal | AF30: =SUM(AF28:AK28) -> 0
C32: Mano de obra
C33: Descripción | O33: Valor Jornal | Z33: Cantidad (jornales) | AF33: Valor unitario
C34: Ayudante de construcción | O34: =JORNALES!C4 -> 49822.5 | Z34: 19.6
Z36: Subtotal
X38: Subtotal/ha | AD38: =AF36+AF24+AE18+AF30 -> 0 | AY38: =AD38 -> 0

Sheet 1.3
B2: MEJORAMIENTO CANCHA CORREGIMIENTO DE JERUSALEN - SONSÓN
B4: Análisis de precios unitarios (APU)
C6: Item | G6: 1.3
C7: Unidad | G7: m3
C8: Cantidad | G8: =CANTIDADES!C9 -> 125.63999 | AY8: =G8 -> 125.63999
C10: Equipo
C11: Descripción | Q11: CANT | T11: Tarifa | Y11: Rendimiento | AE11: Valor unitario
C12: Cargador 930 | Q12: hM | T12: 110000 | Y12: 0.04
C13: Bulldozer D6 | Q13: hM | T13: 170000 | Y13: 0.04
C14: Herramienta menor (5%) | Y14: 0.05
Y16: Subtotal
C18: Materiales
C19: Descripción | Q19: Cantidad | U19: Unidad | Z19: Precio unitario | AF19: Valor unitario
Z22: Subtotal | AF22: =SUM(AF20:AK20) -> 0
C24: Transporte
C25: Descripción | U25: Unidad | AF25: Valor unitario
C26: Transporte de material de excavación | U26: m3-km | AF26: 1163.29
Z28: Subtotal | AF28: =SUM(AF26:AK26) -> 1163.29
C30: Mano de obra
C31: Descripción | O31: Valor Jornal | Z31: Cantidad (jornales) | AF31: Valor unitario
C32: Ayudante de construcción | O32: =JORNALES!C4 -> 49822.5 | Z32: 0.0142 | AF32: =O32*Z32 -> 707.4795 | AY32: 24
Z34: Subtotal | AF34: =SUM(AF32) -> 707.4795
X36: Subtotal/m3 | AD36: =AF34+AF22+AE16+AF28 -> 1870.7695 | AY36: =AD36 -> 1870.7695
B38: COMENTARIOS: Se realizará la disposición final del material proveniente de la excavación de la cancha en el corregimiento de Jerusalén, municipio de Sonsón, Antioquia, en el sitio autorizado denominado Depósito de Estériles Las Delicias. Este punto se ubica a una distancia aproximada de 4.7 km desde el área de intervención, y cuenta con acceso adecuado según las rutas establecidas en el documento técnico de localización. Todo el traslado y la disposición se ejecutarán conforme a las especificaciones técnicas municipales y bajo la supervisión del ingeniero responsable, garantizando el cumplimiento ambiental y normativo

Sheet 2.1
B2: MEJORAMIENTO CANCHA CORREGIMIENTO DE JERUSALEN - SONSÓN
B4: Análisis de precios unitarios (APU)
C6: Item | G6: 2.1
C7: Unidad | G7: m3
C8: Cantidad | G8: =COTIZACIÓN!E15 -> 72.926828 | AY8: =G8 -> 72.926828
C10: Equipo
C11: Descripción | Q11: UND | T11: Tarifa | Y11: CANT | AE11: Valor unitario
C12: Volqueta 6 m3 | Q12: m3-km | T12: 2500 | Y12: 5.6
C13: Herramienta menor (5%) | Y13: 0.05
Y15: Subtotal
C17: Materiales
C18: Descripción | Q18: Cantidad | U18: Unidad | Z18: Precio unitario | AF18: Valor unitario
C19: Material granular de 3/4" | Q19: 1 | U19: m3 | Z19: 117074
Z21: Subtotal
C23: Transporte
C24: Descripción | U24: Unidad | AF24: Valor unitario
C25: Transporte de material drenante (Rionegro-Jerusalen) | U25: m3-km
Z27: Subtotal
C29: Mano de obra
C30: Descripción | O30: Valor Jornal | Z30: Cantidad (jornales) | AF30: Valor unitario
C31: Maestro de obra | O31: =JORNALES!C17 -> 116666.67 | Z31: 0.05639
C32: Ayudante de construcción | O32: =JORNALES!C4 -> 49822.5 | Z32: 0.09908 | AY32: 24
Z34: Subtotal
X36: Subtotal/m3 | AD36: =AF34+AF21+AE15+AF27 -> 0 | AY36: =AD36 -> 0

Sheet 2.2
B2: MEJORAMIENTO CANCHA CORREGIMIENTO DE JERUSALEN - SONSÓN
B4: Análisis de precios unitarios (APU)
C6: Item | G6: 2.2
C7: Unidad | G7: m2
C8: Cantidad | G8: =COTIZACIÓN!E16 -> 673.88175 | AY8: =G8 -> 673.88175
C10: Equipo
C11: Descripción | Q11: CANT | T11: Tarifa | Y11: Cantidad | AE11: Valor unitario
C12: Herramienta menor (5%) | Y12: 0.05
Y14: Subtotal
C16: Materiales
C17: Descripción | Q17: Cantidad | U17: Unidad | Z17: Precio unitario | AF17: Valor unitario
C18: Geotextil no tejido Pavco 1600 | Q18: 1 | U18: m2 | Z18: 6066
Z20: Subtotal | BC20: 3200
BC21: 4936.455
C22: Transporte
C23: Descripción | U23: Unidad | AF23: Valor unitario
C24: Transporte de material drenante (Rionegro-Jerusalen) | U24: m2-km
Z26: Subtotal
C28: Mano de obra
C29: Descripción | O29: Valor Jornal | Z29: Cantidad (jornales) | AF29: Valor unitario
C30: Maestro de obra | O30: =JORNALES!C17 -> 116666.67 | Z30: =BC20/O30 -> 0.027428571
C31: Ayudante de construcción | O31: =JORNALES!C4 -> 49822.5 | Z31: =BC21/O31 -> 0.099080836 | AY31: 24
Z33: Subtotal
X35: Subtotal/m2 | AD35: =AF33+AF20+AE14+AF26 -> 0 | AY35: =AD35 -> 0
Z44: |

Sheet 2.3
B2: MEJORAMIENTO CANCHA CORREGIMIENTO DE JERUSALEN - SONSÓN
B4: Análisis de precios unitarios (APU)
C6: Item | G6: 2.3
C7: Unidad | G7: ml
C8: Cantidad | G8: =COTIZACIÓN!E17 -> 449.2545 | AY8: =G8 -> 449.2545
C10: Equipo
C11: Descripción | Q11: CANT | T11: Tarifa | Y11: Rendimiento | AE11: Valor unitario
C12: Herramienta menor (5%) | Y12: 0.05
Y14: Subtotal
C16: Materiales
C17: Descripción | Q17: Cantidad | U17: Unidad | Z17: Precio unitario | AF17: Valor unitario
C18: Tubo de Pavco 4" | Q18: 1 | U18: ml | Z18: 29032
Z20: Subtotal | AY20: 2941.1765
AY21: 801.32753
C22: Transporte
C23: Descripción | U23: Unidad | AF23: Valor unitario
C24: Transporte de material drenante (Rionegro-Jerusalen) | U24: ml-km | AF24: 2
C25: {
Z26: Subtotal | AF26: =SUM(AF24:AK24) -> 2
C28: Mano de obra
C29: Descripción | O29: Valor Jornal | Z29: Cantidad (jornales) | AF29: Valor unitario
C30: Maestro de obra | O30: =JORNALES!C17 -> 116666.67 | Z30: =AY20/O30 -> 0.025210084
C31: Ayudante de construcción | O31: =JORNALES!C4 -> 49822.5 | Z31: =AY21/O31 -> 0.016083648 | AY31: 24
Z33: Subtotal
X35: Subtotal/ml | AD35: =AF33+AF20+AE14+AF26 -> 2 | AY35: =AD35 -> 2

Sheet 2.4
B2: MEJORAMIENTO CANCHA CORREGIMIENTO DE JERUSALEN - SONSÓN
B4: Análisis de precios unitarios (APU)
C6: Item | G6: 2.4
C7: Unidad | G7: m3
C8: Cantidad | G8: =COTIZACIÓN!E18 -> 2.695527 | AY8: =G8 -> 2.695527
C10: Equipo
C11: Descripción | Q11: CANT | T11: Tarifa | Y11: Rendimiento | AE11: Valor unitario
C12: Placa vibratoria tipo rana (compactador) | Q12: 1 | T12: $4928.28/h | Y12: 1
C13: Herramienta menor (5%) | Y13: 0.05
Y15: Subtotal
C17: Materiales
C18: Descripción | Q18: Cantidad | U18: Unidad | Z18: Precio unitario | AF18: Valor unitario
C19: Arena lavada | Q19: 1 | U19: m3 | Z19: 94383.33
Z21: Subtotal | AF21: =SUM(AF19:AK19) -> 0
C23: Transporte
C24: Descripción | U24: Unidad | AF24: Valor unitario
C25: Transporte de arena lavada (Rionegro-Jerusalén) | U25: m3-km | AZ25: 2941.1765
AZ26: 2142.8571
Z27: Subtotal | AF27: =SUM(AF25:AK25) -> 0
C29: Mano de obra
C30: Descripción | O30: Valor Jornal | Z30: Cantidad (jornales) | AF30: Valor unitario
C31: Maestro de obra | O31: =JORNALES!C17 -> 116666.67 | Z31: =AZ25/O31 -> 0.025210084
C32: Ayudante de construcción | O32: =JORNALES!C4 -> 49822.5 | Z32: =AZ26/O32 -> 0.043009828 | AY32: 24
Z34: Subtotal | AF34: =SUM(AF31:AK32) -> 0
X36: Subtotal/m3 | AD36: =AF34+AF21+AE15+AF27 -> 0 | AY36: =AD36 -> 0

Sheet 2.5
B2: MEJORAMIENTO CANCHA CORREGIMIENTO DE JERUSALEN - SONSÓN
B4: Análisis de precios unitarios (APU)
C6: Item | G6: 2.5
C7: Unidad | G7: m3
C8: Cantidad | G8: =COTIZACIÓN!E19 -> 13.477635 | AY8: =G8 -> 13.477635
C10: Equipo
C11: Descripción | Q11: CANT | T11: Tarifa | Y11: Rendimiento | AE11: Valor unitario
C12: Herramienta menor (5%) | Y12: 0.05
Y14: Subtotal | AE14: =SUM(AE12:AK12) -> 0
C16: Materiales
C17: Descripción | Q17: Cantidad | U17: Unidad | Z17: Precio unitario | AF17: Valor unitario
C18: Capa vegetal | Q18: 1 | U18: m3 | Z18: 9373
Z20: Subtotal | AF20: =SUM(AF18:AK18) -> 0
C22: Transporte
C23: Descripción | U23: Unidad | AF23: Valor unitario | BA23: 2941.1765
C24: Transporte de tierra negra (Rionegro-Jerusalén) | U24: m3-km | BA24: 2142.8571
Z26: Subtotal | AF26: =SUM(AF24:AK24) -> 0
C28: Mano de obra
C29: Descripción | O29: Valor Jornal | Z29: Cantidad (jornales) | AF29: Valor unitario
C30: Maestro de obra | O30: =JORNALES!C17 -> 116666.67 | Z30: =BA23/O30 -> 0.025210084
C31: Ayudante de construcción | O31: =JORNALES!C4 -> 49822.5 | Z31: =BA24/O31 -> 0.043009828 | AY31: 24
Z33: Subtotal | AF33: =SUM(AF30:AK31) -> 0
X35: Subtotal/m3 | AD35: =AF33+AF20+AE14+AF26 -> 0 | AY35: =AD35 -> 0

Sheet 2.6
B2: MEJORAMIENTO CANCHA CORREGIMIENTO DE JERUSALEN - SONSÓN
B4: Análisis de precios unitarios (APU)
C6: Item | G6: 2.6
C7: Unidad | G7: m2
C8: Cantidad | G8: =COTIZACIÓN!E20 -> 134.77635 | AY8: =G8 -> 134.77635
C10: Equipo
C11: Descripción | Q11: CANT | T11: Tarifa | Y11: Rendimiento | AE11: Valor unitario
C12: Herramienta menor (5%) | Y12: 0.05
Y14: Subtotal | AE14: =SUM(AE12:AK12) -> 0
C16: Materiales | AY16: 363.63636
C17: Descripción | Q17: Cantidad | U17: Unidad | Z17: Precio unitario | AF17: Valor unitario | AY17: 288.46154
C18: Cesped (grama) | Q18: 1 | U18: m2 | Z18: 12190
Z20: Subtotal | AF20: =SUM(AF18:AK18) -> 0
C22: Transporte
C23: Descripción | U23: Unidad | AF23: Valor unitario
C24: Transporte de tierra negra (Rionegro-Jerusalén) | U24: m2-km
Z26: Subtotal | AF26: =SUM(AF24:AK24) -> 0
C28: Mano de obra
C29: Descripción | O29: Valor Jornal | Z29: Cantidad (jornales) | AF29: Valor unitario
C30: Maestro de obra | O30: =JORNALES!C17 -> 116666.67 | Z30: =AY16/O30 -> 0.0031168831
C31: Ayudante de construcción | O31: =JORNALES!C4 -> 49822.5 | Z31: =AY17/O31 -> 0.0057897845 | AY31: 24
Z33: Subtotal | AF33: =SUM(AF30:AK31) -> 0
X35: Subtotal/m2 | AD35: =AF33+AF20+AE14+AF26 -> 0 | AY35: =AD35 -> 0

Sheet 3.1 
B2: MEJORAMIENTO CANCHA CORREGIMIENTO DE JERUSALEN - SONSÓN
B4: Análisis de precios unitarios (APU)
C6: Item | G6: 3.1
C7: Unidad | G7: ml
C8: Cantidad | G8: =COTIZACIÓN!E22 -> 240 | AY8: =G8 -> 240
C10: Equipo
C11: Descripción | Q11: CANT | T11: Tarifa | Y11: Rendimiento | AE11: Valor unitario
C12: Equipo vibrador concreto | Q12: Hora | T12: 20000 | Y12: 0.05
C13: Herramienta menor (5%) | Y13: 0.05
Y15: Subtotal
C17: Materiales
C18: Descripción | Q18: Cantidad | U18: Unidad | Z18: Precio unitario | AF18: Valor unitario
C19: Concreto 21 Mpa | Q19: 0.09 | U19: m3 | Z19: ='APU concreto 21 MPa'!AY34 -> 530464.68
C20: Acero N°3 (longitudinal,3/8") | Q20: 2.35 | U20: kg | Z20: 6500
C21: Estribos #2 (1/4”, cada 20 cm) | Q21: 0.6 | U21: kg | Z21: 6500 | AY21: 13333.333
C22: Agua (mezcla y curado) | Q22: 15 | U22: L | Z22: 95.5 | AY22: 10000
C23: Formaleta madera tratada | Q23: 1 | U23: m3 | Z23: 5500
C24: Alambre de amarrar/separadores | Q24: 0.1 | U24: kg | Z24: 6500
C25: Desencofrante | Q25: 0.05 | U25: L | Z25: 4000
Z27: Subtotal
C29: Transporte
C30: Descripción | U30: Unidad | AF30: Valor unitario
C31: Transporte concreto (Rionegro-Jerusalen) | U31: m3-km
C32: Transporte acero | U32: ml-km
Z34: Subtotal | AF34: =SUM(AF31:AK32) -> 0 | AY34: 24
C36: Mano de obra
C37: Descripción | O37: Valor Jornal | Z37: Cantidad (jornales) | AF37: Valor unitario
C38: Maestro de obra | O38: =JORNALES!C17 -> 116666.67 | Z38: =AY21/O38 -> 0.11428571 | AY38: =AD43 -> 0
C39: Ayudante de construcción | O39: =JORNALES!C4 -> 49822.5 | Z39: =AY22/O39 -> 0.20071253
Z41: Subtotal
X43: Subtotal/ml | AD43: =AF41+AF27+AE15+AF34 -> 0

Sheet 3.2.
B2: MEJORAMIENTO CANCHA CORREGIMIENTO DE JERUSALEN - SONSÓN
B4: Análisis de precios unitarios (APU)
C6: Item | G6: 3.2
C7: Unidad | G7: m2
C8: Cantidad | G8: =COTIZACIÓN!E23 -> 144 | AY8: =G8 -> 144
C10: Equipo
C11: Descripción | Q11: CANT | T11: Tarifa | Y11: Rendimiento | AE11: Valor unitario | AY11: 2500
C12: Herramienta menor (5%) | Y12: 0.05 | AY12: 1500
Y14: Subtotal | AE14: =SUM(AE12:AK12) -> 0
C16: Materiales
C17: Descripción | Q17: Cantidad | U17: Unidad | Z17: Precio unitario | AF17: Valor unitario
C18: Bloque de concreto 0.15 x 0.20 x 0.40 | Q18: 1.1 | U18: und | Z18: 4200
C19: Mortero 1:4 | Q19: 0.05 | U19: m2 | Z19: ='APU auxi mortero 1_4'!AY36 -> 7218.725
Z21: Subtotal | AF21: =SUM(AF18:AK19) -> 0
C23: Transporte
C24: Descripción | U24: Unidad | AF24: Valor unitario
C25: Transporte mortero (Rionegro-Jerusalen) | U25: m2-km
Z27: Subtotal | AF27: =SUM(AF25:AK25) -> 0
C29: Mano de obra
C30: Descripción | O30: Valor Jornal | Z30: Cantidad (jornales) | AF30: Valor unitario
C31: Maestro de obra | O31: =JORNALES!C17 -> 116666.67 | Z31: =AY11/O31 -> 0.021428571
C32: Ayudante de construcción | O32: =JORNALES!C4 -> 49822.5 | Z32: =AY12/O32 -> 0.030106879 | AY32: 24
Z34: Subtotal | AF34: =SUM(AF31:AK32) -> 0
X36: Subtotal/m2 | AD36: =AF34+AF21+AE14+AF27 -> 0 | AY36: =AD36 -> 0

Sheet 3.3.
B2: MEJORAMIENTO CANCHA CORREGIMIENTO DE JERUSALEN - SONSÓN
B4: Análisis de precios unitarios (APU)
C6: Item | G6: 3.3
C7: Unidad | G7: m2
C8: Cantidad | G8: =COTIZACIÓN!E24 -> 456 | AY8: =G8 -> 456
C10: Equipo
C11: Descripción | Q11: CANT | T11: Tarifa | Y11: Rendimiento | AE11: Valor unitario
C12: Herramienta menor (5%) | Y12: 0.05
Y14: Subtotal | AE14: =SUM(AE12:AK12) -> 0
C16: Materiales
C17: Descripción | Q17: Cantidad | U17: Unidad | Z17: Precio unitario | AF17: Valor unitario | AY17: 2500
C18: Malla eslabonada calibre 10 (2.77 mm) | Q18: 1 | U18: m2 | Z18: 25000 | AY18: 1500
C19: Amarre alambre galvanizado | Q19: 0.1 | U19: kg | Z19: 6000
Z21: Subtotal | AF21: =SUM(AF18:AK19) -> 0
C23: Transporte
C24: Descripción | U24: Unidad | AF24: Valor unitario
C25: Transporte mortero (Rionegro-Jerusalen) | U25: m2-km
Z27: Subtotal | AF27: =SUM(AF25:AK25) -> 0
C29: Mano de obra
C30: Descripción | O30: Valor Jornal | Z30: Cantidad (jornales) | AF30: Valor unitario
C31: Maestro de obra | O31: =JORNALES!C17 -> 116666.67 | Z31: =AY17/O31 -> 0.021428571
C32: Ayudante de construcción | O32: =JORNALES!C4 -> 49822.5 | Z32: =AY18/O32 -> 0.030106879 | AY32: 24
Z34: Subtotal | AF34: =SUM(AF31:AK32) -> 0
X36: Subtotal/m2 | AD36: =AF34+AF21+AE14+AF27 -> 0 | AY36: =AD36 -> 0

Sheet 3.4.
B2: MEJORAMIENTO CANCHA CORREGIMIENTO DE JERUSALEN - SONSÓN
B4: Análisis de precios unitarios (APU)
C6: Item | G6: 3.4
C7: Unidad | G7: ml
C8: Cantidad | G8: =COTIZACIÓN!E25 -> 240 | AY8: =G8 -> 240
C10: Equipo
C11: Descripción | Q11: CANT | T11: Tarifa | Y11: Rendimiento | AE11: Valor unitario
C12: Herramienta menor (5%) | Y12: 0.05
Y14: Subtotal | AE14: =SUM(AE12:AK12) -> 0
AY15: 2439.0244
C16: Materiales | AY16: 1546.3918
C17: Descripción | Q17: Cantidad | U17: Unidad | Z17: Precio unitario | AF17: Valor unitario
C18: Poste tubular galvanizado 3" * 2.5 mm | Q18: 1 | U18: ml | Z18: 30000
C19: Cemento para base | Q19: 0.1 | U19: m3 | Z19: 420000
Z21: Subtotal | AF21: =SUM(AF18:AK19) -> 0
C23: Transporte
C24: Descripción | U24: Unidad | AF24: Valor unitario
C25: Transporte | U25: ml-km
Z27: Subtotal | AF27: =SUM(AF25:AK25) -> 0
C29: Mano de obra
C30: Descripción | O30: Valor Jornal | Z30: Cantidad (jornales) | AF30: Valor unitario
C31: Maestro de obra | O31: =JORNALES!C17 -> 116666.67 | Z31: =AY15/O31 -> 0.020905923
C32: Ayudante de construcción | O32: =JORNALES!C4 -> 49822.5 | Z32: =AY16/O32 -> 0.03103802 | AY32: 24
Z34: Subtotal | AF34: =SUM(AF31:AK32) -> 0
X36: Subtotal/ml | AD36: =AF34+AF21+AE14+AF27 -> 0 | AY36: =AD36 -> 0

Sheet 3.5
B2: MEJORAMIENTO CANCHA CORREGIMIENTO DE JERUSALEN - SONSÓN
B4: Análisis de precios unitarios (APU)
C6: Item | G6: 3.5
C7: Unidad | G7: ml
C8: Cantidad | G8: =COTIZACIÓN!E25 -> 240 | AY8: =G8 -> 240
C10: Equipo
C11: Descripción | Q11: CANT | T11: Tarifa | Y11: Rendimiento | AE11: Valor unitario
C12: Herramienta menor (5%) | Y12: 0.05
Y14: Subtotal | AE14: =SUM(AE12:AK12) -> 0
C16: Materiales | AY16: 2531.6456
C17: Descripción | Q17: Cantidad | U17: Unidad | Z17: Precio unitario | AF17: Valor unitario | AY17: 1530.6122
C18: Tubo galvanizado de 1.5" | Q18: 1 | U18: ml | Z18: 15000
C19: Soldadura y accesorios | Q19: 1 | U19: lote | Z19: 1000
Z21: Subtotal | AF21: =SUM(AF18:AK19) -> 0
C23: Transporte
C24: Descripción | U24: Unidad | AF24: Valor unitario
C25: Transporte | U25: ml-km
Z27: Subtotal | AF27: =SUM(AF25:AK25) -> 0
C29: Mano de obra
C30: Descripción | O30: Valor Jornal | Z30: Cantidad (jornales) | AF30: Valor unitario
C31: Maestro de obra | O31: =JORNALES!C17 -> 116666.67 | Z31: =AY16/O31 -> 0.021699819
C32: Ayudante de construcción | O32: =JORNALES!C4 -> 49822.5 | Z32: =AY17/O32 -> 0.030721306 | AY32: 24
Z34: Subtotal | AF34: =SUM(AF31:AK32) -> 0
X36: Subtotal/ml | AD36: =AF34+AF21+AE14+AF27 -> 0 | AY36: =AD36 -> 0

Sheet 4.1
B2: MEJORAMIENTO CANCHA CORREGIMIENTO DE JERUSALEN - SONSÓN
B4: Análisis de precios unitarios (APU)
C6: Item | G6: 4.1
C7: Unidad | G7: ml
C8: Cantidad | G8: =COTIZACIÓN!E28 -> 38.0964 | AY8: =G8 -> 38.0964
C10: Equipo
C11: Descripción | Q11: CANT | T11: Tarifa | Y11: Rendimiento | AE11: Valor unitario
C12: Herramienta menor (5%) | Y12: 0.05
Y14: Subtotal | AE14: =SUM(AE12:AK12) -> 0
AY15: 2469.1358
C16: Materiales | AY16: 1578.9474
C17: Descripción | Q17: Cantidad | U17: Unidad | Z17: Precio unitario | AF17: Valor unitario
C18: Tubo PVC Pavco 4" | Q18: 1 | U18: ml | Z18: 29032
C19: Conexiones y accesorios | Q19: 0.1 | U19: ml | Z19: 5000
Z21: Subtotal | AF21: =SUM(AF18:AK19) -> 0
C23: Transporte
C24: Descripción | U24: Unidad | AF24: Valor unitario
C25: Transporte | U25: ml-km
Z27: Subtotal | AF27: =SUM(AF25:AK25) -> 0
C29: Mano de obra
C30: Descripción | O30: Valor Jornal | Z30: Cantidad (jornales) | AF30: Valor unitario
C31: Maestro de obra | O31: =JORNALES!C17 -> 116666.67 | Z31: =AY15/O31 -> 0.021164021
C32: Ayudante de construcción | O32: =JORNALES!C4 -> 49822.5 | Z32: =AY16/O32 -> 0.031691452 | AY32: 24
Z34: Subtotal | AF34: =SUM(AF31:AK32) -> 0
X36: Subtotal/ml | AD36: =AF34+AF21+AE14+AF27 -> 0 | AY36: =AD36 -> 0

Sheet 4.2
B2: MEJORAMIENTO CANCHA CORREGIMIENTO DE JERUSALEN - SONSÓN
B4: Análisis de precios unitarios (APU)
C6: Item | G6: 4.2
C7: Unidad | G7: ml
C8: Cantidad | G8: =COTIZACIÓN!E29 -> 249.13 | AY8: =G8 -> 249.13
C10: Equipo
C11: Descripción | Q11: CANT | T11: Tarifa | Y11: Rendimiento | AE11: Valor unitario
C12: Equipo vibrador concreto | Q12: Hora | T12: 20000 | Y12: 0.05 | AY12: 2500
C13: Herramienta menor (5%) | Y13: 0.05 | AY13: 1630.4348
Y15: Subtotal | AE15: =SUM(AE12:AK13) -> 0
C17: Materiales
C18: Descripción | Q18: Cantidad | U18: Unidad | Z18: Precio unitario | AF18: Valor unitario
C19: Cuneta circular premezclada | Q19: 1 | U19: ml | Z19: 95000
C20: Mortero 1:4 para cunetas | Q20: 0.1 | U20: m3 | Z20: 551378.33
Z22: Subtotal | AF22: =SUM(AF19:AK20) -> 0
C24: Transporte
C25: Descripción | U25: Unidad | AF25: Valor unitario
C26: Transporte | U26: ml-km
Z28: Subtotal | AF28: =SUM(AF26:AK26) -> 0
C30: Mano de obra
C31: Descripción | O31: Valor Jornal | Z31: Cantidad (jornales) | AF31: Valor unitario
C32: Maestro de obra | O32: =JORNALES!C17 -> 116666.67 | Z32: =AY12/O32 -> 0.021428571
C33: Ayudante de construcción | O33: =JORNALES!C4 -> 49822.5 | Z33: =AY13/O33 -> 0.032724869 | AY33: 24
Z35: Subtotal | AF35: =SUM(AF32:AK33) -> 0
X37: Subtotal/ml | AD37: =AF35+AF22+AE15+AF28 -> 0 | AY37: =AD37 -> 0

Sheet 4.3
B2: MEJORAMIENTO CANCHA CORREGIMIENTO DE JERUSALEN - SONSÓN
B4: Análisis de precios unitarios (APU)
C6: Item | G6: 4.3
C7: Unidad | G7: und
C8: Cantidad | G8: 2 | AY8: =G8 -> 2
C10: Equipo
C11: Descripción | Q11: CANT | T11: Tarifa | Y11: Rendimiento | AE11: Valor unitario
C12: Equipo vibrador concreto | Q12: Hora | T12: 20000 | Y12: 0.1
C13: Herramienta menor (5%) | Y13: 0.05
Y15: Subtotal
C17: Materiales
C18: Descripción | Q18: Cantidad | U18: Unidad | Z18: Precio unitario | AF18: Valor unitario
C19: Bloques de concreto | Q19: 150 | U19: und | Z19: 1500 | AY19: 2531.6456
C20: Mortero 1:4 | Q20: 0.3 | U20: m3 | Z20: 551378.33 | AY20: 1973.6842
C21: Tapa de concreto | Q21: 2 | U21: und | Z21: 75000
Z23: Subtotal
C25: Transporte
C26: Descripción | U26: Unidad | AF26: Valor unitario
C27: Transporte | U27: und-km
Z29: Subtotal
C31: Mano de obra
C32: Descripción | O32: Valor Jornal | Z32: Cantidad (jornales) | AF32: Valor unitario
C33: Maestro de obra | O33: =JORNALES!C17 -> 116666.67 | Z33: =AY19/O33 -> 0.021699819
C34: Ayudante de construcción | O34: =JORNALES!C4 -> 49822.5 | Z34: =AY20/O34 -> 0.039614315 | AY34: 24
Z36: Subtotal
X38: Subtotal/und | AD38: =AF36+AF23+AE15+AF29 -> 0 | AY38: =AD38 -> 0

Sheet 5
B2: MEJORAMIENTO CANCHA CORREGIMIENTO DE JERUSALEN - SONSÓN
B4: Análisis de precios unitarios (APU)
C6: Item | G6: 5
C7: Unidad | G7: gbl
C8: Cantidad | G8: 1 | AY8: =G8 -> 1
C10: Equipo
C11: Descripción | Q11: CANT | T11: Tarifa | Y11: Rendimiento | AE11: Valor unitario
C12: Herramienta menor (5%) | Y12: 0.05
Y14: Subtotal
AY15: 640000
C16: Materiales | AY16: 600000
C17: Descripción | Q17: Cantidad | U17: Unidad | Z17: Precio unitario | AF17: Valor unitario
C18: Láminas metálicas nuevas | Q18: 20 | U18: und | Z18: 47000
C19: Tornillos selladores | Q19: 2 | U19: kg | Z19: 22000
Z21: Subtotal
C23: Transporte
C24: Descripción | Q24: Cantidad | U24: Unidad | Z24: Dist./Porcent. | AF24: Valor unitario
C25: - | Q25: - | U25: - | Z25: 0.07 | AF25: =(AE14+AF21)*Z25 -> 0
Z27: Subtotal | AF27: =SUM(AF25:AK25) -> 0
C29: Mano de obra
C30: Descripción | O30: Valor Jornal | Z30: Cantidad (jornales) | AF30: Valor unitario
C31: Maestro de obra | O31: =JORNALES!C17 -> 116666.67 | Z31: =AY15/O31 -> 5.4857143
C32: Ayudante de construcción | O32: =JORNALES!C4 -> 49822.5 | Z32: =AY16/O32 -> 12.042752 | AY32: 24
Z34: Subtotal
X36: Subtotal/gbl | AD36: =AF34+AF21+AE14+AF27 -> 0 | AY36: =AD36 -> 0

Sheet 6.1.01
B2: MEJORAMIENTO CANCHA CORREGIMIENTO DE JERUSALEN - SONSÓN
B4: Análisis de precios unitarios (APU)
C6: Item | G6: 6.1.01
C7: Unidad | G7: und
C8: Cantidad | G8: 1 | AY8: =G8 -> 1
C10: Equipo
C11: Descripción | Q11: CANT | T11: Tarifa | Y11: Rendimiento | AE11: Valor unitario
C12: Herramienta menor (5%) | Y12: 0.05
Y14: Subtotal | AE14: =SUM(AE12:AK12) -> 0
C16: Materiales
C17: Descripción | Q17: Cantidad | U17: Unidad | Z17: Precio unitario | AF17: Valor unitario
C18: Tablero bifásico 8 circuitos | Q18: 1 | U18: und | Z18: 900000
C19: Brakers 2x40A | Q19: 2 | U19: und | Z19: 45000
C20: Accesorios, canaletas, cable | Q20: 1 | U20: lote | Z20: 123165.12
C21: Tapa metálica/acero pintado | Q21: 1 | U21: und | Z21: 40000
Z23: Subtotal | AF23: =SUM(AF18:AK21) -> 0
C25: Transporte
C26: Descripción | U26: Unidad | AF26: Valor unitario
C27: Flete e instalación | U27: un-km
Z29: Subtotal | AF29: =SUM(AF27:AK27) -> 0
C31: Mano de obra
C32: Descripción | O32: Valor Jornal | Z32: Cantidad (jornales) | AF32: Valor unitario
C33: Técnico electricista | O33: 75920 | Z33: 2
C34: Ayudante entendido | O34: 49823 | Z34: 2.5 | AY34: 24
Z36: Subtotal | AF36: =SUM(AF33:AK34) -> 0
X38: Subtotal/und | AD38: =AF36+AF23+AE14+AF29 -> 0 | AY38: =AD38 -> 0

Sheet 6.1.02
B2: MEJORAMIENTO CANCHA CORREGIMIENTO DE JERUSALEN - SONSÓN
B4: Análisis de precios unitarios (APU)
C6: Item | G6: 6.1.02
C7: Unidad | G7: ml
C8: Cantidad | G8: 240 | AY8: =G8 -> 240
C10: Equipo
C11: Descripción | Q11: CANT | T11: Tarifa | Y11: Rendimiento | AE11: Valor unitario
C12: Herramienta menor (5%) | Y12: 0.05 | AE12: =AF35*0.05 -> 652.441
Y14: Subtotal | AE14: =SUM(AE12:AK12) -> 652.441
C16: Materiales
C17: Descripción | Q17: Cantidad | U17: Unidad | Z17: Precio unitario | AF17: Valor unitario
C18: Tuberia PVC 2" | Q18: 1 | U18: ml | Z18: 7800 | AF18: =Z18*Q18 -> 7800
C19: Curvas, uniones, terminales | Q19: 1 | U19: lote | Z19: 900 | AF19: =Z19*Q19 -> 900
C20: Cinta, peligro y accesorios | Q20: 1 | U20: lote | Z20: 620 | AF20: =Z20*Q20 -> 620
Z22: Subtotal | AF22: =SUM(AF18:AK20) -> 9320
C24: Transporte
C25: Descripción | U25: Unidad | AF25: Valor unitario
C26: Flete e instalación | U26: ml-km | AF26: 772.56
Z28: Subtotal | AF28: =SUM(AF26:AK26) -> 772.56
C30: Mano de obra
C31: Descripción | O31: Valor Jornal | Z31: Cantidad (jornales) | AF31: Valor unitario
C32: Técnico electricista | O32: 75920 | Z32: 0.08 | AF32: =O32*Z32 -> 6073.6
C33: Ayudante entendido | O33: 49823 | Z33: 0.14 | AF33: =O33*Z33 -> 6975.22 | AY33: 24
Z35: Subtotal | AF35: =SUM(AF32:AK33) -> 13048.82
X37: Subtotal/ml | AD37: =AF35+AF22+AE14+AF28 -> 23793.821 | AY37: =AD37 -> 23793.821

Sheet 6.1.04
B2: MEJORAMIENTO CANCHA CORREGIMIENTO DE JERUSALEN - SONSÓN
B4: Análisis de precios unitarios (APU)
C6: Item | G6: 6.1.04
C7: Unidad | G7: ml
C8: Cantidad | G8: 70 | AY8: =G8 -> 70
C10: Equipo
C11: Descripción | Q11: CANT | T11: Tarifa | Y11: Rendimiento | AE11: Valor unitario
C12: Herramienta menor (5%) | Y12: 0.05 | AE12: =AF35*0.05 -> 3046.6184
Y14: Subtotal | AE14: =SUM(AE12:AK12) -> 3046.6184
C16: Materiales
C17: Descripción | Q17: Cantidad | U17: Unidad | Z17: Precio unitario | AF17: Valor unitario
C18: Tubería IMC 2" | Q18: 1 | U18: ml | Z18: 38000 | AF18: =Z18*Q18 -> 38000
C19: Curvas,uniones,terminales | Q19: 1 | U19: lote | Z19: 10600 | AF19: =Z19*Q19 -> 10600
C20: Capacete/accesorios | Q20: 1 | U20: lote | Z20: 3000 | AF20: =Z20*Q20 -> 3000
Z22: Subtotal | AF22: =SUM(AF18:AK20) -> 51600
C24: Transporte
C25: Descripción | U25: Unidad | AF25: Valor unitario
C26: Flete e instalación | U26: ml-km | AF26: 9743.4
Z28: Subtotal | AF28: =SUM(AF26:AK26) -> 9743.4
C30: Mano de obra
C31: Descripción | O31: Valor Jornal | Z31: Cantidad (jornales) | AF31: Valor unitario
C32: Técnico electricista | O32: 75920 | Z32: 0.40227 | AF32: =O32*Z32 -> 30540.338
C33: Ayudante entendido | O33: 49823 | Z33: 0.61 | AF33: =O33*Z33 -> 30392.03 | AY33: 24
Z35: Subtotal | AF35: =SUM(AF32:AK33) -> 60932.368
X37: Subtotal/ml | AD37: =AF35+AF22+AE14+AF28 -> 125322.39 | AY37: =AD37 -> 125322.39

Sheet 6.1.06
B2: MEJORAMIENTO CANCHA CORREGIMIENTO DE JERUSALEN - SONSÓN
B4: Análisis de precios unitarios (APU)
C6: Item | G6: 6.1.06
C7: Unidad | G7: ml
C8: Cantidad | G8: 320 | AY8: =G8 -> 320
C10: Equipo
C11: Descripción | Q11: CANT | T11: Tarifa | Y11: Rendimiento | AE11: Valor unitario
C12: Herramienta menor (5%) | Y12: 0.05 | AE12: =AF36*0.05 -> 374.23962
Y14: Subtotal | AE14: =SUM(AE12:AK12) -> 374.23962
C16: Materiales
C17: Descripción | Q17: Cantidad | U17: Unidad | Z17: Precio unitario | AF17: Valor unitario
C18: Cable 2N°6 AWG | Q18: 2 | U18: ml | Z18: 8000 | AF18: =Z18*Q18 -> 16000
C19: Cable 1N°6 AWG | Q19: 1 | U19: ml | Z19: 8000 | AF19: =Z19*Q19 -> 8000
C20: Cable 1N°8 AWG | Q20: 1 | U20: ml | Z20: 6600 | AF20: =Z20*Q20 -> 6600
C21: Cinta, terminales, accesorios | Q21: 1 | U21: lote | Z21: 3595.35 | AF21: =Z21*Q21 -> 3595.35
Z23: Subtotal | AF23: =SUM(AF18:AK21) -> 34195.35
C25: Transporte
C26: Descripción | U26: Unidad | AF26: Valor unitario
C27: Flete e instalación | U27: ml-km | AF27: 1324
Z29: Subtotal | AF29: =SUM(AF27:AK27) -> 1324
C31: Mano de obra
C32: Descripción | O32: Valor Jornal | Z32: Cantidad (jornales) | AF32: Valor unitario
C33: Técnico electricista | O33: 75920 | Z33: 0.06 | AF33: =O33*Z33 -> 4555.2
C34: Ayudante entendido | O34: 49823 | Z34: 0.0588 | AF34: =O34*Z34 -> 2929.5924 | AY34: 24
Z36: Subtotal | AF36: =SUM(AF33:AK34) -> 7484.7924
X38: Subtotal/ml | AD38: =AF36+AF23+AE14+AF29 -> 43378.382 | AY38: =AD38 -> 43378.382

Sheet 6.1.07
B2: MEJORAMIENTO CANCHA CORREGIMIENTO DE JERUSALEN - SONSÓN
B4: Análisis de precios unitarios (APU)
C6: Item | G6: 6.1.07
C7: Unidad | G7: ml
C8: Cantidad | G8: 200 | AY8: =G8 -> 200
C10: Equipo
C11: Descripción | Q11: CANT | T11: Tarifa | Y11: Rendimiento | AE11: Valor unitario
C12: Herramienta menor (5%) | Y12: 0.05 | AE12: =AF36*0.05 -> 728.361
Y14: Subtotal | AE14: =SUM(AE12:AK12) -> 728.361
C16: Materiales
C17: Descripción | Q17: Cantidad | U17: Unidad | Z17: Precio unitario | AF17: Valor unitario
C18: Cable 2N°4 AWG | Q18: 2 | U18: ml | Z18: 9400 | AF18: =Z18*Q18 -> 18800
C19: Cable 1N°4 AWG | Q19: 1 | U19: ml | Z19: 9400 | AF19: =Z19*Q19 -> 9400
C20: Cable 1N°8 AWG | Q20: 1 | U20: ml | Z20: 6600 | AF20: =Z20*Q20 -> 6600
C21: Cinta, terminales, accesorios | Q21: 1 | U21: lote | Z21: 3595.35 | AF21: =Z21*Q21 -> 3595.35
Z23: Subtotal | AF23: =SUM(AF18:AK21) -> 38395.35
C25: Transporte
C26: Descripción | U26: Unidad | AF26: Valor unitario
C27: Flete e instalación | U27: ml-km | AF27: 7714
Z29: Subtotal | AF29: =SUM(AF27:AK27) -> 7714
C31: Mano de obra
C32: Descripción | O32: Valor Jornal | Z32: Cantidad (jornales) | AF32: Valor unitario
C33: Técnico electricista | O33: 75920 | Z33: 0.1 | AF33: =O33*Z33 -> 7592
C34: Ayudante entendido | O34: 49823 | Z34: 0.14 | AF34: =O34*Z34 -> 6975.22 | AY34: 24
Z36: Subtotal | AF36: =SUM(AF33:AK34) -> 14567.22
X38: Subtotal/ml | AD38: =AF36+AF23+AE14+AF29 -> 61404.931 | AY38: =AD38 -> 61404.931

Sheet 6.1.09
B2: MEJORAMIENTO CANCHA CORREGIMIENTO DE JERUSALEN - SONSÓN
B4: Análisis de precios unitarios (APU)
C6: Item | G6: 6.1.09
C7: Unidad | G7: ml
C8: Cantidad | G8: 25 | AY8: =G8 -> 25
C10: Equipo
C11: Descripción | Q11: CANT | T11: Tarifa | Y11: Rendimiento | AE11: Valor unitario
C12: Herramienta menor (5%) | Y12: 0.05 | AE12: =AF34*0.05 -> 879.0155
Y14: Subtotal | AE14: =SUM(AE12:AK12) -> 879.0155
C16: Materiales
C17: Descripción | Q17: Cantidad | U17: Unidad | Z17: Precio unitario | AF17: Valor unitario
C18: Cable antifraude XLPE 2N°4 + 1N°4 | Q18: 1 | U18: ml | Z18: 76500 | AF18: =Z18*Q18 -> 76500
C19: Cinta .terminales, accesorios | Q19: 1 | U19: lote | Z19: 11008 | AF19: =Z19*Q19 -> 11008
Z21: Subtotal | AF21: =SUM(AF18:AK19) -> 87508
C23: Transporte
C24: Descripción | U24: Unidad | AF24: Valor unitario
C25: Flete e instalación | U25: ml-km | AF25: 11023
Z27: Subtotal | AF27: =SUM(AF25:AK25) -> 11023
C29: Mano de obra
C30: Descripción | O30: Valor Jornal | Z30: Cantidad (jornales) | AF30: Valor unitario
C31: Técnico electricista | O31: 75920 | Z31: 0.12 | AF31: =O31*Z31 -> 9110.4
C32: Ayudante entendido | O32: 49823 | Z32: 0.17 | AF32: =O32*Z32 -> 8469.91 | AY32: 24
Z34: Subtotal | AF34: =SUM(AF31:AK32) -> 17580.31
X36: Subtotal/ml | AD36: =AF34+AF21+AE14+AF27 -> 116990.33 | AY36: =AD36 -> 116990.33

Sheet 6.1.10
B2: MEJORAMIENTO CANCHA CORREGIMIENTO DE JERUSALEN - SONSÓN
B4: Análisis de precios unitarios (APU)
C6: Item | G6: 6.1.10
C7: Unidad | G7: und
C8: Cantidad | G8: 1 | AY8: =G8 -> 1
C10: Equipo
C11: Descripción | Q11: CANT | T11: Tarifa | Y11: Rendimiento | AE11: Valor unitario
C12: Herramienta menor (5%) | Y12: 0.05 | AE12: =AF37*0.05 -> 19086.855
Y14: Subtotal | AE14: =SUM(AE12:AK12) -> 19086.855
C16: Materiales
C17: Descripción | Q17: Cantidad | U17: Unidad | Z17: Precio unitario | AF17: Valor unitario
C18: Gabinete para medidor | Q18: 1 | U18: und | Z18: 385000 | AF18: =Z18*Q18 -> 385000
C19: Medidor 240V | Q19: 1 | U19: und | Z19: 498000 | AF19: =Z19*Q19 -> 498000
C20: Totalizador 2x50A | Q20: 1 | U20: und | Z20: 410000 | AF20: =Z20*Q20 -> 410000
C21: Sistema de puesta a tierra completo | Q21: 1 | U21: und | Z21: 355070 | AF21: =Z21*Q21 -> 355070
C22: Accesorios y elementos instalación | Q22: 1 | U22: und | Z22: 104211.15 | AF22: =Z22*Q22 -> 104211.15
Z24: Subtotal | AF24: =SUM(AF18:AK22) -> 1752281.1
C26: Transporte
C27: Descripción | U27: Unidad | AF27: Valor unitario
C28: Flete e instalación | U28: und-km | AF28: 1000
Z30: Subtotal | AF30: =SUM(AF28:AK28) -> 1000
C32: Mano de obra
C33: Descripción | O33: Valor Jornal | Z33: Cantidad (jornales) | AF33: Valor unitario
C34: Técnico electricista | O34: 75920 | Z34: 2.6 | AF34: =O34*Z34 -> 197392
C35: Ayudante entendido | O35: 49823 | Z35: 3.7 | AF35: =O35*Z35 -> 184345.1 | AY35: 24
Z37: Subtotal | AF37: =SUM(AF34:AK35) -> 381737.1
X39: Subtotal/und | AD39: =AF37+AF24+AE14+AF30 -> 2154105.1 | AY39: =AD39 -> 2154105.1

Sheet 6.1.11
B2: MEJORAMIENTO CANCHA CORREGIMIENTO DE JERUSALEN - SONSÓN
B4: Análisis de precios unitarios (APU)
C6: Item | G6: 6.1.11
C7: Unidad | G7: und
C8: Cantidad | G8: 10 | AY8: =G8 -> 10
C10: Equipo
C11: Descripción | Q11: CANT | T11: Tarifa | Y11: Rendimiento | AE11: Valor unitario
C12: Herramienta menor (5%) | Y12: 0.05 | AE12: =AF36*0.05 -> 39146.46
Y14: Subtotal | AE14: =SUM(AE12:AK12) -> 39146.46
C16: Materiales
C17: Descripción | Q17: Cantidad | U17: Unidad | Z17: Precio unitario | AF17: Valor unitario
C18: Poste metálico para iluminación 10m | Q18: 1 | U18: und | Z18: 2318000 | AF18: =Z18*Q18 -> 2318000
C19: Herrajes de montaje (brazo,bases,fijaciones) | Q19: 1 | U19: lote | Z19: 198000 | AF19: =Z19*Q19 -> 198000
C20: Pernos y accesorios instalación | Q20: 1 | U20: lote | Z20: 57000 | AF20: =Z20*Q20 -> 57000
C21: Pintura bituminosa, galvanizado | Q21: 1 | U21: lote | Z21: 34298 | AF21: =Z21*Q21 -> 34298
Z23: Subtotal | AF23: =SUM(AF18:AK21) -> 2607298
C25: Transporte
C26: Descripción | U26: Unidad | AF26: Valor unitario
C27: Flete e instalación | U27: und-km | AF27: 185000
Z29: Subtotal | AF29: =SUM(AF27:AK27) -> 185000
C31: Mano de obra
C32: Descripción | O32: Valor Jornal | Z32: Cantidad (jornales) | AF32: Valor unitario
C33: Técnico electricista | O33: 75920 | Z33: 4.8 | AF33: =O33*Z33 -> 364416
C34: Ayudante entendido | O34: 49823 | Z34: 8.4 | AF34: =O34*Z34 -> 418513.2 | AY34: 24
Z36: Subtotal | AF36: =SUM(AF33:AK34) -> 782929.2
X38: Subtotal/und | AD38: =AF36+AF23+AE14+AF29 -> 3614373.7 | AY38: =AD38 -> 3614373.7

Sheet 6.1.12
B2: MEJORAMIENTO CANCHA CORREGIMIENTO DE JERUSALEN - SONSÓN
B4: Análisis de precios unitarios (APU)
C6: Item | G6: 6.1.12
C7: Unidad | G7: und
C8: Cantidad | G8: 20 | AY8: =G8 -> 20
C10: Equipo
C11: Descripción | Q11: CANT | T11: Tarifa | Y11: Rendimiento | AE11: Valor unitario
C12: Herramienta menor (5%) | Y12: 0.05 | AE12: =AF34*0.05 -> 2259.8175
Y14: Subtotal | AE14: =SUM(AE12:AK12) -> 2259.8175
C16: Materiales
C17: Descripción | Q17: Cantidad | U17: Unidad | Z17: Precio unitario | AF17: Valor unitario
C18: Reflector LED PROYECTOR JETA PRO 300W Silvanya | Q18: 1 | U18: und | Z18: 1450000 | AF18: =Z18*Q18 -> 1450000
C19: Herrajes de montaje (brazo,bases,fijaciones) | Q19: 1 | U19: lote | Z19: 66540 | AF19: =Z19*Q19 -> 66540
Z21: Subtotal | AF21: =SUM(AF18:AK19) -> 1516540
C23: Transporte
C24: Descripción | U24: Unidad | AF24: Valor unitario
C25: Flete e instalación | U25: und-km | AF25: 45000
Z27: Subtotal | AF27: =SUM(AF25:AK25) -> 45000
C29: Mano de obra
C30: Descripción | O30: Valor Jornal | Z30: Cantidad (jornales) | AF30: Valor unitario
C31: Técnico electricista | O31: 75920 | Z31: 0.3 | AF31: =O31*Z31 -> 22776
C32: Ayudante entendido | O32: 49823 | Z32: 0.45 | AF32: =O32*Z32 -> 22420.35 | AY32: 24
Z34: Subtotal | AF34: =SUM(AF31:AK32) -> 45196.35
X36: Subtotal/und | AD36: =AF34+AF21+AE14+AF27 -> 1608996.2 | AY36: =AD36 -> 1608996.2

Sheet APU auxi mortero 1_4
B2: MEJORAMIENTO CANCHA CORREGIMIENTO DE JERUSALEN - SONSÓN
B4: Análisis de precios unitarios (APU) - Mortero 1:4
C6: Item | G6: -
C7: Unidad | G7: m2
C8: Cantidad | G8: 1 | AY8: =G8 -> 1
C10: Equipo
C11: Descripción | Q11: CANT | T11: Tarifa | Y11: Rendimiento | AE11: Valor unitario
C12: Herramienta menor (5%) | Y12: 0.05 | AE12: =AF35*0.05 -> 75.975
Y14: Subtotal | AE14: =SUM(AE12:AK12) -> 75.975
C16: Materiales
C17: Descripción | Q17: Cantidad | U17: Unidad | Z17: Precio unitario | AF17: Valor unitario
C18: Cemento Portland | Q18: 2.5 | U18: kg | Z18: 800 | AF18: =Z18*Q18 -> 2000
C19: Arena lavada | Q19: 13 | U19: kg | Z19: 160 | AF19: =Z19*Q19 -> 2080
C20: Agua | Q20: 1.5 | U20: L | Z20: 95.5 | AF20: =Z20*Q20 -> 143.25
Z22: Subtotal | AF22: =SUM(AF18:AK20) -> 4223.25
C24: Transporte
C25: Descripción | U25: Unidad | AF25: Valor unitario
C26: Transporte mortero | U26: m2-km | AF26: 1400
Z28: Subtotal | AF28: =SUM(AF26:AK26) -> 1400
C30: Mano de obra
C31: Descripción | Q31: Cantidad | U31: Unidad | Z31: Precio unitario | AF31: Valor unitario
C32: Oficial | Q32: 0.045 | U32: h | Z32: 14500 | AF32: =Z32*Q32 -> 652.5 | AY32: 24
C33: Ayudante | Q33: 0.085 | U33: h | Z33: 10200 | AF33: =Z33*Q33 -> 867
Z35: Subtotal | AF35: =SUM(AF32:AK33) -> 1519.5
AY36: =AD37 -> 7218.725
X37: Subtotal/m2 | AD37: =AF35+AF22+AE14+AF28 -> 7218.725

Sheet APU concreto 21 MPa
B2: MEJORAMIENTO CANCHA CORREGIMIENTO DE JERUSALEN - SONSÓN
B4: Análisis de precios unitarios (APU)
C6: Item | G6: -
C7: Unidad | G7: m3
C8: Cantidad | G8: 1 | AY8: =G8 -> 1
C10: Equipo
C11: Descripción | Q11: CANT | T11: Tarifa | Y11: Rendimiento | AE11: Valor unitario
C12: Herramienta menor (5%) | Y12: 0.05 | AE12: =AF33*0.05 -> 1800
Y14: Subtotal | AE14: =SUM(AE12:AK12) -> 1800
C16: Materiales
C17: Descripción | Q17: Cantidad | U17: Unidad | Z17: Precio unitario | AF17: Valor unitario
C18: Concreto premezclado 21 Mpa | Q18: 1 | U18: m3 | Z18: 490000 | AF18: =Z18*Q18 -> 490000
Z20: Subtotal | AF20: =SUM(AF18:AK18) -> 490000
C22: Transporte
C23: Descripción | U23: Unidad | AF23: Valor unitario
C24: Transporte mortero | U24: m3-km | AF24: 2664.68
Z26: Subtotal | AF26: =SUM(AF24:AK24) -> 2664.68
C28: Mano de obra
C29: Descripción | Q29: Cantidad | U29: Unidad | Z29: Precio unitario | AF29: Valor unitario
C30: Oficial | Q30: 1.4 | U30: h | Z30: 15000 | AF30: =Z30*Q30 -> 21000 | AY30: 24
C31: Ayudante | Q31: 1.5 | U31: h | Z31: 10000 | AF31: =Z31*Q31 -> 15000
Z33: Subtotal | AF33: =SUM(AF30:AK31) -> 36000
AY34: =AD35 -> 530464.68
X35: Subtotal/m2 | AD35: =AF33+AF20+AE14+AF26 -> 530464.68

Sheet JORNALES
A1: LISTA DE JORNALES
A2: Cargo | B2: Valor sueldo basico | C2: VALOR JORNAL | D2: Valor prestaciones sociales x mes | E2: Valor total
A3: Ayudante de construccion | B3: 1423500 | C3: =+B3/(30) -> 47450 | D3: =+B3*65% -> 925275 | E3: =D3+B3 -> 2348775
A4: Ayudante entendido | B4: 1494675 | C4: =+B4/(30) -> 49822.5 | D4: =+B4*65% -> 971538.75 | E4: =D4+B4 -> 2466213.8
A5: Oficial de construccion | B5: 2419950 | C5: =+B5/(30) -> 80665 | D5: =+B5*65% -> 1572967.5 | E5: =D5+B5 -> 3992917.5
A6: Conductor | B6: 2000000 | C6: =+B6/(30) -> 66666.667 | D6: =+B6*65% -> 1300000 | E6: =D6+B6 -> 3300000
A7: Topógrafo | B7: 3000000 | C7: =+B7/(30) -> 100000 | D7: =+B7*59% -> 1770000 | E7: =D7+B7 -> 4770000
A8: Cadenero | B8: 1600000 | C8: =+B8/(30) -> 53333.333 | D8: =+B8*65% -> 1040000 | E8: =D8+B8 -> 2640000
A9: Residente de obra | B9: 4500000 | C9: =+B9/(30) -> 150000 | D9: =+B9*59% -> 2655000 | E9: =D9+B9 -> 7155000
A10: Auxiliar de ingenieria | B10: 3500000 | C10: =+B10/(30) -> 116666.67 | D10: =+B10*59% -> 2065000 | E10: =D10+B10 -> 5565000
A11: Director de interventoria | B11: 8000000 | C11: =+B11/(30) -> 266666.67 | D11: =+B11*59% -> 4720000 | E11: =D11+B11 -> 12720000
A12: Director de obra | B12: 8000000 | C12: =+B12/(30) -> 266666.67 | D12: =+B12*59% -> 4720000 | E12: =D12+B12 -> 12720000
A13: Técnico electricista | B13: 2277600 | C13: =+B13/(30) -> 75920 | D13: =+B13*65% -> 1480440 | E13: =D13+B13 -> 3758040
A14: Siso | B14: 4000000 | C14: =+B14/(30) -> 133333.33 | D14: =+B14*59% -> 2360000 | E14: =D14+B14 -> 6360000
A15: Almacenista | B15: =+B4 -> 1494675 | C15: =+B15/(30) -> 49822.5 | D15: =+B15*65% -> 971538.75 | E15: =D15+B15 -> 2466213.8
A16: Vigilante | B16: =+B4 -> 1494675 | C16: =+B16/(30) -> 49822.5 | D16: =+B16*65% -> 971538.75 | E16: =D16+B16 -> 2466213.8
A17: Maestro de obra | B17: =+B10 -> 3500000 | C17: =+B17/(30) -> 116666.67 | D17: =+B17*59% -> 2065000 | E17: =D17+B17 -> 5565000

Sheet INSUMOS
A1: MATERIALES | B1: Unidad | C1: Valor Unitario
A2: Material granular de 3/4" | B2: m3 | C2: 117074
A3: Geotextil no tejido Pavco 1600 | B3: m2 | C3: 6066
A4: Tubo de Pavco 4" | B4: ml | C4: 29032
A5: Arena lavada | B5: m3 | C5: 94383.33
A6: Capa vegetal | B6: m3 | C6: 9373
A7: Cesped (grama) | B7: m3 | C7: 12190
A8: Concreto 21 Mpa | B8: m3 | C8: 530464.68
A9: Acero N°3 (longitudinal,3/8") | B9: kg | C9: 6500
A10: Estribos #2 (1/4”, cada 20 cm) | B10: kg | C10: 6500
A11: Agua (mezcla y curado) | B11: L | C11: 95.5
A12: Formaleta madera tratada | B12: m3 | C12: 5500
A13: Alambre de amarrar/separadores | B13: kg | C13: 6500
... A22: Soldadura y accesorios | B22: lote | C22: 1000
A23: Conexiones y accesorios para tubo de Pavco 4" | B23: ml | C23: 5000 | AD23: 500
A25: Cuneta de concreto premezclada | B25: ml | C25: 95000
A26: Mortero 1:4 por m3 | B26: m3 | C26: 551378.33
A27: Bloques de concreto | B27: und | C27: 1500
A28: Tapa de concreto | B28: und | C28: 75000
A29: Láminas metálicas nuevas | B29: und | C29: 47000
A30: Tornillos selladores | B30: kg | C30: 22000
A31: Tablero bifásico 8 circuitos | B31: und | C31: 900000
A32: Brakers 2x40A | B32: und | C32: 45000
A33: Accesorios, canaletas, cable | B33: lote | C33: 123165.12
A34: Tapa metálica/acero pintado | B34: und | C34: 40000
A35: Tuberia PVC 2" | B35: ml | C35: 7800
A36: Curvas, uniones, terminales PVC 2" | B36: lote | C36: 900
... A55: Herrajes de montaje (brazo,bases,fijaciones) | B55: lote | C55: 66540

Sheet EQUIPOS
A1: EQUIPOS Y HERRAMIENTAS | B1: unidad | C1: Precio guía
A2: Cargador 930 | B2: hH | C2: 110000
A3: Motoguadaña | B3: dM | C3: 120970
A4: Motosierra | B4: hM | C4: 155000
A5: Volqueta 6 m3 | B5: m3-km | C5: 2500
A6: Bulldozer D6 | B6: hM | C6: 170000
A7: Placa vibratoria tipo rana (compactador) | B7: h | C7: 4928.28
A8: Equipo vibrador de concreto | B8: h | C8: 20000

Sheet Hoja1

Sheet P_PMT
C2: DV – CONSULTORIA Y CONSTRUCCION SAS
C3: PRESUPUESTO PLAN DE MANEJO DE TRÁNSITO - MEJORAMIENTO CANCHA CORREGIMIENTO DE JERUSALEN – SONSÓN
B8: Ítem | C8: Descripcion | D8: Cantidad | E8: Unidad | F8: Tiempo (meses) | G8: % Dedicacion | H8: Valor unitario | I8: Valor Total
B9: 1 | C9: Señal metálica reflectiva “ENTRADA Y SALIDA DE VOLQUETAS” (60×60 cm, con poste y base) | D9: 1 | E9: unidad | F9: 4 | G9: 1 | H9: 400000 | I9: =+H9*D9 -> 400000
B10: 2 | C10: Maletines viales (conos o delineadores) | D10: 12 | E10: Unidad | F10: 4 | G10: 1 | H10: 58800 | I10: =+H10*D10 -> 705600
B11: 3 | C11: Cinta de peligro x 500 m | D11: 15 | E11: unidad | F11: 4 | G11: 1 | H11: 30000 | I11: =+ H11*D11 -> 450000
B12: 4 | C12: Estaca de madera inmunizada | D12: 4 | E12: unidad | F12: 4 | G12: 1 | H12: 7000 | I12: =+H12*D12 -> 28000
B13: 5 | C13: Señal pare y siga | D13: 2 | E13: unidad | F13: 4 | G13: 1 | H13: 102000 | I13: =+H13*D13 -> 204000
B14: 6 | C14: Auxiliar de tránsito (minimo con prestaciones) | D14: 1 | E14: mes | F14: 4 | G14: 1 | H14: 2348775 | I14: =+H14*D14 -> 2348775
B15: TOTAL | I15: =SUM(I9:I14) -> 4136375
C17: NOTA: se cuenta con algunos de los materiales, como lo son los del ítem 2.

Sheet P_PMA
B2: DV – CONSULTORIA Y CONSTRUCCION SAS
B3: PRESUPUESTO PLAN DE MANEJO AMBIENTAL - MEJORAMIENTO CANCHA CORREGIMIENTO DE JERUSALEN – SONSÓN
B8: PROGRAMA 1 | C8: FASE CONSTRUCTIVA DEL PROYECTO
C9: Prácticas de seguridad industrial y aplicación de gestión ambiental
C10: Descripcion | D10: Cantidad | E10: Unidad | F10: Tiempo (meses) | G10: Valor unitario | H10: Valor Total
B11: PROYECTO 1 | C11: Residente ambiental con prestaciones (mes) | D11: 1 | E11: mes | F11: 2 | G11: 5530000 | H11: =+G11*D11*F11 -> 11060000
C12: Camilla rigida emergencia polietileno 185*45cm | D12: 1 | E12: und | F12: 4 | G12: 325000 | H12: =+G12*D12*F12 -> 1300000
C13: Kit señales preventivas e informativas (Punto de encuentro, almacén, peligro sustancia química, basuras, entre otros) | D13: 1 | E13: und | F13: 4 | G13: 156000 | H13: =+G13*D13*F13 -> 624000
C14: Botiquín de emergencias tipo A Contiene (Tijeras, Gasa y vendas, Curitas, Guantes de látex, Alcohol, acetaminofén, entre otros) | D14: 1 | E14: und | F14: 4 | G14: 120000 | H14: =+G14*D14*F14 -> 480000
C15: Lentes para protección (No todos los trabajadores se encuentran expuestos a riesgos asociados pero se dotará a aquellos que estén en contacto con maquinaria que pueda afectar su salud) | D15: 10 | E15: und | F15: 4 | G15: 5900 | H15: =+G15*D15*F15 -> 236000
C16: Plástico negro (150X3 m) para cubrimiento de materiales pétreos o susceptibles a generar material particulado | D16: 3 | E16: und | F16: 3 | G16: 490000 | H16: =+G16*D16*F16 -> 4410000
C17: Extintor Multipropósito 20lb ABC redline | D17: 1 | E17: und | F17: 4 | G17: 85800 | H17: =+G17*D17*F17 -> 343200
B18: TOTAL | H18: =SUM(H11:H17) -> 18453200
B20: PROGRAMA 2 | C20: FASE CONSTRUCTIVA DEL PROYECTO
C21: Manejo de residuos sólidos comunes
B22: PROYECTO 2 | C22: Descripcion | D22: Cantidad | E22: Unidad | F22: Tiempo (meses) | G22: Valor unitario | H22: Valor Total
