Workbook
Name \b: [1]INSUMOS!#REF!
Name \i: [1]INSUMOS!#REF!
Name \m: [1]INSUMOS!#REF!
Name \PX: [2]!ERR
Name \PX: [2]!ERR
Name \r: [1]INSUMOS!#REF!
Name \t: [1]INSUMOS!#REF!
Name \X: [0]!ERR
Name \X: [0]!ERR
Name \Z: [0]!ERR
Name \Z: [0]!ERR
Name _____________________________CON123: '[3]Base Datos'!$B$8
Name _____________________________EQP1: '[4]Base Datos'!$B$20
Name _____________________________EQP10: '[4]Base Datos'!$B$29
Name _____________________________EQP11: '[4]Base Datos'!$B$30
Name _____________________________EQP12: '[4]Base Datos'!$B$31
Name _____________________________EQP13: '[4]Base Datos'!$B$32
Name _____________________________EQP14: '[4]Base Datos'!$B$33
Name _____________________________EQP15: '[4]Base Datos'!$B$34
Name _____________________________EQP16: '[4]Base Datos'!$B$35
Name _____________________________EQP17: '[4]Base Datos'!$B$36
Name _____________________________EQP18: '[4]Base Datos'!$B$37
Name _____________________________EQP19: '[4]Base Datos'!$B$38
Name _____________________________EQP2: '[4]Base Datos'!$B$21
Name _____________________________EQP20: '[4]Base Datos'!$B$39
Name _____________________________EQP3: '[4]Base Datos'!$B$22
Name _____________________________EQP4: '[4]Base Datos'!$B$23
Name _____________________________EQP5: '[4]Base Datos'!$B$24
Name _____________________________EQP6: '[4]Base Datos'!$B$25
Name _____________________________EQP7: '[4]Base Datos'!$B$26
Name _____________________________EQP8: '[4]Base Datos'!$B$27
Name _____________________________EQP9: '[4]Base Datos'!$B$28
Name _____________________________M14: '[3]Base Datos'!$B$9
Name _____________________________MAT1: '[4]Base Datos'!$B$43
Name _____________________________MAT10: '[4]Base Datos'!$B$53
Name _____________________________MAT11: '[4]Base Datos'!$B$54
Name _____________________________MAT1111: '[3]Base Datos'!$B$43
Name _____________________________MAT12: '[4]Base Datos'!$B$55
Name _____________________________MAT13: '[4]Base Datos'!$B$56
Name _____________________________MAT14: '[4]Base Datos'!$B$57
Name _____________________________MAT15: '[4]Base Datos'!$B$58
Name _____________________________MAT16: '[4]Base Datos'!$B$59
Name _____________________________MAT17: '[4]Base Datos'!$B$60
Name _____________________________MAT170: '[5]Base Datos'!$B$212
Name _____________________________MAT171: '[5]Base Datos'!$B$213
Name _____________________________MAT18: '[4]Base Datos'!$B$61
Name _____________________________MAT19: '[4]Base Datos'!$B$62
Name _____________________________MAT2: '[4]Base Datos'!$B$44
Name _____________________________MAT20: '[4]Base Datos'!$B$63
Name _____________________________MAT21: '[4]Base Datos'!$B$64
Name _____________________________MAT22: '[4]Base Datos'!$B$65
Name _____________________________MAT23: '[4]Base Datos'!$B$66
Name _____________________________MAT24: '[4]Base Datos'!$B$67
Name _____________________________MAT25: '[4]Base Datos'!$B$68
Name _____________________________MAT26: '[4]Base Datos'!$B$69
Name _____________________________MAT27: '[4]Base Datos'!$B$70
Name _____________________________MAT28: '[4]Base Datos'!$B$71
Name _____________________________MAT29: '[4]Base Datos'!$B$72
Name _____________________________MAT3: '[4]Base Datos'!$B$45
Name _____________________________MAT30: '[4]Base Datos'!$B$73

Sheet PRESUPUESTO
A3: PRESUPUESTO DE OBRA RECUPERACIÓN Y MANTENIMIENTO DEL ESCENARIO DEPORTIVO “COLISEO HERACLIO VEGA” DEL MUNICIPIO DE TABIO
A5: ÍTEM | C5: DESCRIPCIÓN (Corresponde a los ítems o productos contratados) | F5: UNIDAD | G5: CANTIDADES DE OBRA
G6: CANTIDAD CONTRATO | H6: VALOR UNITARIO | I6: VALOR TOTAL
A7: ICCU | B7: 1 | C7: PRELIMINARES | J7: =SUM(I8:I9) -> 30663457
A8: ='1. PRELIMINARES'!I6 -> 1.35 | B8: ='1. PRELIMINARES'!B6 -> 1.1 | C8: ='1. PRELIMINARES'!C6:E6 -> DESMONTE DE CUBIERTAS (TERMOACÚSTICA) | F8: ='1. PRELIMINARES'!F6 -> M2 | G8: ='1. PRELIMINARES'!G6 -> 1520.82 | H8: ='1. PRELIMINARES'!H6 -> 17561 | I8: =ROUND(G8*H8,0) -> 26707120
A9: ='1. PRELIMINARES'!I7 -> 1.46 | B9: ='1. PRELIMINARES'!B7 -> 1.2 | C9: ='1. PRELIMINARES'!C7:E7 -> RETIRO DE SOBRANTES A UNA DISTANCIA DE 5 KM (INCLUYE CARGUE Y BOTADERO AUTORIZADO) | F9: ='1. PRELIMINARES'!F7 -> M3 | G9: ='1. PRELIMINARES'!G7 -> 228.123 | H9: ='1. PRELIMINARES'!H7 -> 17343 | I9: =ROUND(G9*H9,0) -> 3956337
A10: ='2. CUBIERTA'!B4 -> 2 | C10: ='2. CUBIERTA'!C4:E4 -> CUBIERTAS | J10: =SUM(I11:I16) -> 162041479
A11: ='2. CUBIERTA'!I5 -> APU | B11: ='2. CUBIERTA'!B5 -> 2.1 | C11: ='2. CUBIERTA'!C5:E5 -> FABRICACION Y MONTAJE LINEA DE VIDA | F11: ='2. CUBIERTA'!F5 -> ML | G11: ='2. CUBIERTA'!G5 -> 50 | H11: =+'2. CUBIERTA'!H5 -> 140695 | I11: =ROUND(G11*H11,0) -> 7034750
A12: ='2. CUBIERTA'!I6 -> 7.29 | B12: ='2. CUBIERTA'!B6 -> 2.2 | C12: ='2. CUBIERTA'!C6:E6 -> TEJA SIN TRASLAPO | F12: ='2. CUBIERTA'!F6 -> M2 | G12: ='2. CUBIERTA'!G6 -> 1520.82 | H12: =+'2. CUBIERTA'!H6 -> 94091 | I12: =ROUND(G12*H12,0) -> 143095475
A13: ='2. CUBIERTA'!I7 -> 7.34 | B13: ='2. CUBIERTA'!B7 -> 2.3 | C13: ='2. CUBIERTA'!C7:E7 -> FLANCHE EN LÁMINA GALVANIZADA CAL. 22; DS=30 | F13: ='2. CUBIERTA'!F7 -> ML | G13: ='2. CUBIERTA'!G7 -> 38 | H13: =+'2. CUBIERTA'!H7 -> 37713 | I13: =ROUND(G13*H13,0) -> 1433094
A14: ='2. CUBIERTA'!I8 -> 7.12 | B14: ='2. CUBIERTA'!B8 -> 2.4 | C14: ='2. CUBIERTA'!C8:E8 -> CABALLETE CUBIERTA TERMOACÚSTICA | F14: ='2. CUBIERTA'!F8 -> ML | G14: ='2. CUBIERTA'!G8 -> 45 | H14: =+'2. CUBIERTA'!H8 -> 84146 | I14: =ROUND(G14*H14,0) -> 3786570
A15: ='2. CUBIERTA'!I9 -> APU | B15: ='2. CUBIERTA'!B9 -> 2.5 | C15: ='2. CUBIERTA'!C9:E9 -> LIMPIEZA CANALES EN CONCRETO | F15: ='2. CUBIERTA'!F9 -> ML | G15: ='2. CUBIERTA'!G9 -> 90 | H15: =+'2. CUBIERTA'!H9 -> 25518 | I15: =ROUND(G15*H15,0) -> 2296620
A16: ='2. CUBIERTA'!I10 -> APU | B16: ='2. CUBIERTA'!B10 -> 2.6 | C16: ='2. CUBIERTA'!C10:E10 -> RESANE GRIETAS, FISURAS E IMPERMEABILIZACION CANAL EN COCNRETO | F16: ='2. CUBIERTA'!F10 -> ML | G16: ='2. CUBIERTA'!G10 -> 90 | H16: =+'2. CUBIERTA'!H10 -> 48833 | I16: =ROUND(G16*H16,0) -> 4394970
A17: 3 | B17: =#REF! -> #REF! | C17: ='3. CARPINTERIA METALICA'!C5:E5 -> CARPINTERÍA METÁLICA | J17: =SUM(I18:I23) -> 21580778
A18: =+'3. CARPINTERIA METALICA'!I6 -> APU | B18: 3.1 | C18: ='3. CARPINTERIA METALICA'!C6:E6 -> LAVADO DE VENTANAS EXTERIORES ALTURAS SUPERIORES A 4.0m (INCLUYE ANDAMIOS CERTIFICADOS Y ELEMENTOS DE SEGURIDAD TRABAJO EN ALTURAS) | F18: =+'3. CARPINTERIA METALICA'!F6 -> M2 | G18: 245.56939 | H18: =+'3. CARPINTERIA METALICA'!H6 -> 11000 | I18: =ROUND(G18*H18,0) -> 2701263
A19: =+'3. CARPINTERIA METALICA'!I7 -> APU | B19: 3.2 | C19: ='3. CARPINTERIA METALICA'!C7:E7 -> ANTICORROSIVO SOBRE LÁMINA LINEAL ALTURAS SUPERIORES A 4.0m (INCLUYE ANDAMIOS CERTIFICADOS Y ELEMENTOS DE SEGURIDAD TRABAJO EN ALTURAS) | F19: =+'3. CARPINTERIA METALICA'!F7 -> ML | G19: =+'3. CARPINTERIA METALICA'!G7 -> 665.07 | H19: =+'3. CARPINTERIA METALICA'!H7 -> 6544 | I19: =ROUND(G19*H19,0) -> 4352218
A20: =+'3. CARPINTERIA METALICA'!I8 -> APU | B20: 3.3 | C20: ='3. CARPINTERIA METALICA'!C8:E8 -> ANTICORROSIVO SOBRE LÁMINA LLENA ALTURAS SUPERIORES A 4.0m (INCLUYE ANDAMIOS CERTIFICADOS Y ELEMENTOS DE SEGURIDAD TRABAJO EN ALTURAS) | F20: =+'3. CARPINTERIA METALICA'!F8 -> M2 | G20: =+'3. CARPINTERIA METALICA'!G8 -> 106.515 | H20: =+'3. CARPINTERIA METALICA'!H8 -> 21120 | I20: =ROUND(G20*H20,0) -> 2249597
A21: =+'3. CARPINTERIA METALICA'!I9 -> APU | B21: 3.4 | C21: ='3. CARPINTERIA METALICA'!C9:E9 -> ESMALTE SOBRE LÁMINA LINEAL ALTURAS SUPERIORES A 4.0m (INCLUYE ANDAMIOS CERTIFICADOS Y ELEMENTOS DE SEGURIDAD TRABAJO EN ALTURAS) | F21: =+'3. CARPINTERIA METALICA'!F9 -> ML | G21: =+'3. CARPINTERIA METALICA'!G9 -> 665.07 | H21: =+'3. CARPINTERIA METALICA'!H9 -> 6126 | I21: =ROUND(G21*H21,0) -> 4074219
A22: =+'3. CARPINTERIA METALICA'!I10 -> APU | B22: 3.5 | C22: ='3. CARPINTERIA METALICA'!C10:E10 -> ESMALTE SOBRE LÁMINA LLENA ALTURAS SUPERIORES A 4.0m (INCLUYE ANDAMIOS CERTIFICADOS Y ELEMENTOS DE SEGURIDAD TRABAJO EN ALTURAS) | F22: =+'3. CARPINTERIA METALICA'!F10 -> M2 | G22: =+'3. CARPINTERIA METALICA'!G10 -> 106.515 | H22: =+'3. CARPINTERIA METALICA'!H10 -> 24985 | I22: =ROUND(G22*H22,0) -> 2661277
A23: =+'3. CARPINTERIA METALICA'!I11 -> APU | B23: 3.6 | C23: ='3. CARPINTERIA METALICA'!C11:E11 -> SUMINISTRO E INSTALACIÓN VIDRIO TEMPLADO AZUL LAKE 6mm | F23: =+'3. CARPINTERIA METALICA'!F11 -> M2 | G23: 17 | H23: =+'3. CARPINTERIA METALICA'!H11 -> 326012 | I23: =ROUND(G23*H23,0) -> 5542204
B24: VALOR TOTAL DE COSTO DIRECTO | I24: =SUM(I8:I23) -> 214285714
B25: VALOR TOTAL DE COSTO INDIRECTO | I25: =ROUND(SUM(I26:I28),0) -> 70714286
C26: ADMINISTRACION | F26: 0.25 | I26: =ROUND(I24*F26,0) -> 53571429
C27: IMPREVISTOS | F27: 0.03 | I27: =ROUND(F27*I24,0) -> 6428571
C28: UTILIDAD | F28: 0.05 | I28: =ROUND(F28*I24,0) -> 10714286
B29: VALOR TOTAL DE COSTOS DIRECTOS E INDIRECTOS | I29: =ROUND(I24+I25,0) -> 285000000
B31: TOTAL DE LA OBRA | I31: =+I29 -> 285000000

Sheet 1. PRELIMINARES
B4: ITEM | C4: DESCRIPCION | F4: UN | G4: CANT | H4: VALOR UNI. | I4: PRECIOS ICCU 2025
B5: 1 | C5: PRELIMINARES
B6: 1.1 | C6: DESMONTE DE CUBIERTAS (TERMOACÚSTICA) | F6: M2 | G6: =J14 -> 1520.82 | H6: 17561 | I6: 1.35
B7: 1.2 | C7: RETIRO DE SOBRANTES A UNA DISTANCIA DE 5 KM (INCLUYE CARGUE Y BOTADERO AUTORIZADO) | F7: M3 | G7: =+J16 -> 228.123 | H7: 17343 | I7: 1.46
C9: PRESUPUESTO DE OBRA - MEMORIAS DE CÁLCULO
C10: RECUPERACIÓN Y MANTENIMIENTO DEL ESCENARIO DEPORTIVO “COLISEO HERACLIO VEGA” DEL MUNICIPIO DE TABIO
A12: ITEM | B12: DESCRIPCION | D12: UN | E12: LONG. | F12: ANCHO. | G12: ALTO/AREA | H12: CANT. | I12: PARCIAL | J12: TOTAL
A13: =B5 -> 1 | B13: =C5 -> PRELIMINARES
A14: =B6 -> 1.1 | B14: =C6 -> DESMONTE DE CUBIERTAS (TERMOACÚSTICA) | D14: =F6 -> M2 | J14: =SUM(I15) -> 1520.82
B15: GENERAL | G15: =1491*1.02 -> 1520.82 | H15: 1 | I15: =G15*H15 -> 1520.82
A16: =B7 -> 1.2 | B16: =C7 -> RETIRO DE SOBRANTES A UNA DISTANCIA DE 5 KM (INCLUYE CARGUE Y BOTADERO AUTORIZADO) | D16: =F7 -> M3 | J16: =SUM(I17:I17) -> 228.123
G17: =+I15 -> 1520.82 | H17: 0.15 | I17: =G17*H17 -> 228.123

Sheet 2. CUBIERTA
B3: ITEM | C3: DESCRIPCION | F3: UN | G3: CANT | H3: VALOR UNI. | I3: PRECIOS ICCU 2025
B4: 2 | C4: CUBIERTAS
B5: 2.1 | C5: FABRICACION Y MONTAJE LINEA DE VIDA | F5: ML | G5: =J17 -> 50 | H5: 140695 | I5: APU
B6: 2.2 | C6: TEJA SIN TRASLAPO | F6: M2 | G6: =J19 -> 1520.82 | H6: 94091 | I6: 7.29
B7: 2.3 | C7: FLANCHE EN LÁMINA GALVANIZADA CAL. 22; DS=30 | F7: ML | G7: =J21 -> 38 | H7: 37713 | I7: 7.34
B8: 2.4 | C8: CABALLETE CUBIERTA TERMOACÚSTICA | F8: ML | G8: =J24 -> 45 | H8: 84146 | I8: 7.12
B9: 2.5 | C9: LIMPIEZA CANALES EN CONCRETO | F9: ML | G9: =+J26 -> 90 | H9: 25518 | I9: APU
B10: 2.6 | C10: RESANE GRIETAS, FISURAS E IMPERMEABILIZACION CANAL EN COCNRETO | F10: ML | G10: =+J28 -> 90 | H10: 48833 | I10: APU
C12: PRESUPUESTO DE OBRA - MEMORIAS DE CÁLCULO
C13: RECUPERACIÓN Y MANTENIMIENTO DEL ESCENARIO DEPORTIVO “COLISEO HERACLIO VEGA” DEL MUNICIPIO DE TABIO
A15: ITEM | B15: DESCRIPCION | D15: UN | E15: LONG. | F15: ANCHO. | G15: ALTO/AREA | H15: CANT. | I15: PARCIAL | J15: TOTAL
A16: =B4 -> 2 | B16: =C4 -> CUBIERTAS
A17: =B5 -> 2.1 | B17: =C5 -> FABRICACION Y MONTAJE LINEA DE VIDA | D17: =F5 -> ML | J17: =SUM(I18:I18) -> 50
B18: GENERAL | H18: 50 | I18: =+H18 -> 50
A19: =B6 -> 2.2 | B19: =C6 -> TEJA SIN TRASLAPO | D19: =F6 -> M2 | J19: =SUM(I20:I20) -> 1520.82
B20: AREA CUBIERTA COLISEO | G20: =+'1. PRELIMINARES'!G15 -> 1520.82 | H20: 1 | I20: =+G20*H20 -> 1520.82
A21: =B7 -> 2.3 | B21: =C7 -> FLANCHE EN LÁMINA GALVANIZADA CAL. 22; DS=30 | D21: =F7 -> ML | J21: =+SUM(I22:I23) -> 38
B22: NORTE | E22: 22 | H22: 1 | I22: =+PRODUCT(E22:H22) -> 22
B23: SUR | E23: 16 | H23: 1 | I23: =+PRODUCT(E23:H23) -> 16
A24: =+B8 -> 2.4 | B24: =C8 -> CABALLETE CUBIERTA TERMOACÚSTICA | D24: =F8 -> ML | J24: =SUM(I25:I25) -> 45
B25: CABALLETE | E25: 45 | H25: 1 | I25: =+PRODUCT(E25:H25) -> 45
A26: =B9 -> 2.5 | B26: =C9 -> LIMPIEZA CANALES EN CONCRETO | D26: =F9 -> ML | J26: =SUM(I27:I27) -> 90
B27: GENERAL | E27: 45 | H27: 2 | I27: =+PRODUCT(E27:H27) -> 90
A28: =B10 -> 2.6 | B28: =C10 -> RESANE GRIETAS, FISURAS E IMPERMEABILIZACION CANAL EN COCNRETO | D28: =F10 -> ML | J28: =SUM(I29:I29) -> 90
B29: GENERAL | E29: 45 | H29: 2 | I29: =+PRODUCT(E29:H29) -> 90
A30: =+#REF! -> #REF! | B30: =#REF! -> #REF! | D30: ML | J30: =SUM(I31:I34) -> 904
B31: CANALES | E31: 45 | H31: 4 | I31: =+PRODUCT(E31:H31) -> 180
B32: ESTRUCTURA CONCRETO (COLUMNAS) | E32: 11 | H32: 32 | I32: =+PRODUCT(E32:H32) -> 352
B33: ESTRUCTURA CONCRETO (VIGAS) | E33: 45 | H33: 4 | I33: =+PRODUCT(E33:H33) -> 180
B34: ESTRUCTURA CONCRETO (VIGAS) | E34: 32 | H34: 6 | I34: =+PRODUCT(E34:H34) -> 192

Sheet 3. CARPINTERIA METALICA
B4: ITEM | C4: DESCRIPCION | F4: UN | G4: CANT | H4: VALOR UNI.
B5: 3 | C5: CARPINTERÍA METÁLICA
B6: 3.1 | C6: LAVADO DE VENTANAS EXTERIORES ALTURAS SUPERIORES A 4.0m (INCLUYE ANDAMIOS CERTIFICADOS Y ELEMENTOS DE SEGURIDAD TRABAJO EN ALTURAS) | F6: M2 | G6: =J18 -> 245.5695 | H6: 11000 | I6: APU
B7: 3.2 | C7: ANTICORROSIVO SOBRE LÁMINA LINEAL ALTURAS SUPERIORES A 4.0m (INCLUYE ANDAMIOS CERTIFICADOS Y ELEMENTOS DE SEGURIDAD TRABAJO EN ALTURAS) | F7: ML | G7: =+J32 -> 665.07 | H7: 6544 | I7: APU
B8: 3.3 | C8: ANTICORROSIVO SOBRE LÁMINA LLENA ALTURAS SUPERIORES A 4.0m (INCLUYE ANDAMIOS CERTIFICADOS Y ELEMENTOS DE SEGURIDAD TRABAJO EN ALTURAS) | F8: M2 | G8: =+J51 -> 106.515 | H8: 21120 | I8: APU
B9: 3.4 | C9: ESMALTE SOBRE LÁMINA LINEAL ALTURAS SUPERIORES A 4.0m (INCLUYE ANDAMIOS CERTIFICADOS Y ELEMENTOS DE SEGURIDAD TRABAJO EN ALTURAS) | F9: ML | G9: =+J56 -> 665.07 | H9: 6126 | I9: APU
B10: 3.5 | C10: ESMALTE SOBRE LÁMINA LLENA ALTURAS SUPERIORES A 4.0m (INCLUYE ANDAMIOS CERTIFICADOS Y ELEMENTOS DE SEGURIDAD TRABAJO EN ALTURAS) | F10: M2 | G10: =+J75 -> 106.515 | H10: 24985 | I10: APU
B11: 3.6 | C11: SUMINISTRO E INSTALACIÓN VIDRIO TEMPLADO AZUL LAKE 6mm | F11: M2 | G11: =+J80 -> 115.6755 | H11: 326012 | I11: APU
C13: PRESUPUESTO DE OBRA - MEMORIAS DE CÁLCULO
C14: RECUPERACIÓN Y MANTENIMIENTO DEL ESCENARIO DEPORTIVO “COLISEO HERACLIO VEGA” DEL MUNICIPIO DE TABIO
A16: ITEM | B16: DESCRIPCION | D16: UN | E16: LONG. | F16: ANCHO. | G16: ALTO/AREA | H16: CANT. | I16: PARCIAL | J16: TOTAL
A17: =B5 -> 3 | B17: =C5 -> CARPINTERÍA METÁLICA
A18: =B6 -> 3.1 | B18: LAVADO DE VENTANAS EXTERIORES ALTURAS SUPERIORES A 4.0m (INCLUYE ANDAMIOS CERTIFICADOS Y ELEMENTOS DE SEGURIDAD TRABAJO EN ALTURAS) | D18: =F6 -> M2 | J18: =+SUM(I19:I31) -> 245.5695
B19: Fachada Oriente | E19: 5.7 | G19: 1.6 | H19: 7 | I19: =+PRODUCT(E19:H19) -> 63.84
E20: 5.85 | G20: 2.3 | H20: 1 | I20: =+PRODUCT(E20:H20) -> 13.455
B21: Fachada Norte | E21: 5.87 | G21: 1.7 | H21: 1 | I21: =+PRODUCT(E21:H21) -> 9.979
E22: 5.73 | G22: 1.7 | H22: 1 | I22: 1.98
B23: Fachada Occidente | E23: 5.7 | G23: 2.2 | H23: 7 | I23: =+PRODUCT(E23:H23) -> 87.78
B24: Fachada Sur | E24: 4.6 | G24: 1.7 | H24: 1 | I24: =+PRODUCT(E24:H24) -> 7.82
E25: 3.7 | G25: 1.7 | H25: 1 | I25: =+PRODUCT(E25:H25) -> 6.29
E26: 2.65 | G26: 1.7 | H26: 1 | I26: =+PRODUCT(E26:H26) -> 4.505
E27: 2.6 | G27: 1.7 | H27: 1 | I27: =+PRODUCT(E27:H27) -> 4.42
E28: 2.7 | G28: 1.7 | H28: 1 | I28: =+PRODUCT(E28:H28) -> 4.59
E29: 5.7 | G29: 1.7 | H29: 1 | I29: =+PRODUCT(E29:H29) -> 9.69
E30: 3.38 | G30: 1.7 | H30: 1 | I30: =+PRODUCT(E30:H30) -> 5.746
E31: 18.87 | G31: 2.7 | H31: 0.5 | I31: =+PRODUCT(E31:H31) -> 25.4745
A32: =+B7 -> 3.2 | B32: ANTICORROSIVO SOBRE LÁMINA LINEAL ALTURAS SUPERIORES A 4.0m (INCLUYE ANDAMIOS CERTIFICADOS Y ELEMENTOS DE SEGURIDAD TRABAJO EN ALTURAS) | D32: =F7 -> ML | J32: =+SUM(I33:I50) -> 665.07
B33: Fachada Oriente | E33: 5.7 | G33: 1.6 | H33: 84.3 | I33: =+H33 -> 84.3
E34: 5.85 | G34: 2.3 | H34: 31.35 | I34: =+H34 -> 31.35
B35: Fachada Norte | E35: 5.87 | G35: 1.7 | H35: 27.81 | I35: =+H35 -> 27.81
E36: 5.73 | G36: 1.7 | H36: 27.39 | I36: =+H36 -> 27.39
E37: 8.7 | G37: 1.7 | H37: 36.3 | I37: =+H37 -> 36.3
E38: 5.45 | G38: 1.7 | H38: 26.55 | I38: =+H38 -> 26.55
E39: 3.07 | G39: 1.7 | H39: 19.41 | I39: =+H39 -> 19.41
E40: 4.75 | G40: 1.7 | H40: 24.45 | I40: =+H40 -> 24.45
E41: 18.87 | G41: 1.45 | H41: 65.31 | I41: =+H41 -> 65.31
B42: Fachada Occidente | E42: 5.7 | G42: 2.2 | H42: 109.5 | I42: =+H42 -> 109.5
B43: Fachada Sur | E43: 4.6 | G43: 1.7 | H43: 24 | I43: =+H43 -> 24
E44: 3.7 | G44: 1.7 | H44: 21.3 | I44: =+H44 -> 21.3
E45: 2.65 | G45: 1.7 | H45: 18.15 | I45: =+H45 -> 18.15
...
