Workbook

Sheet Fichas tecnicas
A1: CAMARA LPR
A2: Característica | B2: Especificación
A3: Marca
A4: Modelo
A5: Sensor de Imagen | B5: 1/1.8'' GS-CMOS o GMOS o CMOS
A6: Resolución Mínima | B6: 2688 × 1520
A7: Distancia Focal Mínima | B7: 10 mm–40 mm Varifocal motorizado
A8: IR mínimo | B8: Mínimo 4 LED IR incorporados
A9: Longitud de onda de IR | B9: 850nm
A10: Stream principal mínimo | B10: 2688 × 1520@25fps
A11: Substream mínimo | B11: 1600 × 1200@25fps
A12: Compresión de video | B12: H.265/MJPEG
A13: Bitrate del video | B13: 32kbps–16Mbps
A14: Storage local | B14: MicroSD/TF card/SSD/HDD mínimo 256GB
A15: Cambio Día a Noche | B15: Automático
A16: Funciones de mejora de imagen | B16: HLC, 3DNR
... A29: Potencia de consumo | B29: ≤ 9.5W
A31: CAMARA PTZ TIPO 2
A32: Característica | B32: Especificación
A33: CÁMARAS PTZ TIPO DOMO. TIPO 2. | B33: Cámara tipo 2, con IR, para ambientes de poca luz.
A34: Marca
A35: Modelo
A36: Rango de operación | B36: Día / Noche cambio automático.
A37: Formato sensor de Imagen | B37: 1/1.8 a 1/3''
A38: Salida de video | B38: IP
A39: Resolución de salida | B39: 4MP 2560 × 1440
A40: Funcionamiento | B40: Outdoor
A41: Tipo de Escaneo | B41: Progresivo
A42: Iluminación mínima | B42: Color: 0,2 lux o mejor B/N: 0,04 lux o mejor
A43: Posiciones predefinidas (Presets) | B43: Mínimo 255
A44: Zonas de privacidad | B44: Mínimo 20
A45: Movimiento horizontal | B45: 360 grados
A46: Movimiento vertical | B46: 180 grados, giro automático en el centro evitando imágenes invertidas
A47: Velocidad de pan (horizontal) | B47: Rango entre 0.5°/seg a 120°/seg o superior
... A54: Compresión de video | B54: H.265, H.264, MJPEG

Sheet presupuesto
B2: COTIZACION CAMARA PTZ
B4: Descripcion | C4: Cantidad | D4: Valor Unitario | E4: Valor total
B5: Poste para soporte de camara de altura de 14m | C5: 1 | D5: 6763636.4 | E5: 6763636.4
B6: Brazo para camara tipo PTZ | C6: 1 | D6: 1447500 | E6: 1447500
B7: Suministro e instalacion de gabinete principal con componente electrico | C7: 1 | D7: 4349672.7 | E7: 4349672.7
B8: Construccion de caja de paso tipo antifraude | C8: 3 | D8: 1130345.5 | E8: 3391036.4
B9: Canalizado en zona blanda | C9: 15 | D9: 133825.45 | E9: 2007381.8
B10: Construccion de Cimentacion | C10: 1 | D10: 4167792.7 | E10: 4167792.7
B11: Suministro de fibra optima monomodo | C11: 600 | D11: 28498.182 | E11: 17098909
B12: Suministro e instalacion de cable de energia | C12: 15 | D12: 16756.364 | E12: 251345.45
B13: Suministro e instalacion de cable de datos | C13: 15 | D13: 16736.364 | E13: 251045.45
B14: Suministro de camara PTZ Domo tipo 2 | C14: 1 | D14: 10594080 | E14: 10594080
B15: Suministro e instalacion de Sistema puesta a tierra | C15: 1 | D15: 5985284.8 | E15: 5985284.8
B16: Suministro e instalacion de acometida para subsistema | C16: 1 | D16: 11520000 | E16: 11520000
B17: Tramite de legalizacion ante EPM | C17: 1 | D17: 1160000 | E17: 1160000
D18: TOTAL | E18: =SUM(E5:E17) -> 68987685
B19: Estampillas | D19: 0.0906 | E19: =+D19*E18 -> 6250284.2
B20: iva | D20: 0.15 | E20: =+E18*D20 -> 10348153
B21: TOTAL | E21: =+E18+E19+E20 -> 85586122
B22: Tramite de legalizacion ante EPM | C22: 1 | D22: 1160000 | E22: 1160000
B24: COTIZACION OPCION SEMIPORTICO
B26: Descripcion | C26: Cantidad | D26: Valor Unitario | E26: Valor total
B27: Suministro e instalacion de poste tipo semiportico brazo 6m | C27: 1 | D27: 8048000 | E27: 8048000
B28: Suministro e instalacion de gabinete principal con componente electrico | C28: 1 | D28: 4349672.7 | E28: 4349672.7
B29: Construccion de caja de paso tipo antifraude | C29: 3 | D29: 1130345.5 | E29: 3391036.4
B30: Canalizado en zona blanda | C30: 15 | D30: 133825.45 | E30: 2007381.8
B31: Construccion de Cimentacion | C31: 1 | D31: 4167792.7 | E31: 4167792.7
B32: Suministro de fibra optima monomodo | C32: 600 | D32: 28498.182 | E32: 17098909
B33: Suministro e instalacion de cable de energia | C33: 15 | D33: 16756.364 | E33: 251345.45
B34: Suministro e instalacion de cable de datos | C34: 15 | D34: 16736.364 | E34: 251045.45
B35: Suministro de camara LPR | C35: 1 | D35: 20080390 | E35: 20080390
B36: Suministro e instalacion de Sistema puesta a tierra | C36: 1 | D36: 5985284.8 | E36: 5985284.8
B37: Suministro e instalacion de acometida para subsistema | C37: 1 | D37: 11520000 | E37: 11520000
B38: Tramite de legalizacion ante EPM | C38: 1 | D38: 1160000 | E38: 1160000
D39: TOTAL | E39: =SUM(E27:E38) -> 78310858 | G39: =+E18*4+E39 -> 3.542616e+08
B40: Estampillas | D40: 0.0906 | E40: =+D40*E39 -> 7094963.8
D41: 0.15 | E41: =+E39*D41 -> 11746629
B42: total | E42: =+E40+E39+E41 -> 97152451
B43: COTIZACION OPCION PORTICO
B45: Descripcion | C45: Cantidad | D45: Valor Unitario | E45: Valor total
B46: Suministro e instalacion de poste tipo portico 13 a 18m | C46: 1 | D46: 14721685 | E46: 14721685
B47: Suministro e instalacion de gabinete principal con componente electrico | C47: 1 | D47: 4349672.7 | E47: 4349672.7
B48: Construccion de caja de paso tipo antifraude | C48: 3 | D48: 1130345.5 | E48: 3391036.4
B49: Canalizado en zona blanda | C49: 15 | D49: 133825.45 | E49: 2007381.8
B50: Construccion de Cimentacion | C50: 1 | D50: 4167792.7 | E50: 4167792.7
B51: Suministro de fibra optima monomodo | C51: 600 | D51: 28498.182 | E51: 17098909
B52: Suministro e instalacion de cable de energia | C52: 15 | D52: 16756.364 | E52: 251345.45
B53: Suministro e instalacion de cable de datos | C53: 15 | D53: 16736.364 | E53: 251045.45
B54: Suministro de camara LPR | C54: 1 | D54: 20080390 | E54: 20080390
B55: Suministro e instalacion de Sistema puesta a tierra | C55: 1 | D55: 5985284.8 | E55: 5985284.8
B56: Suministro e instalacion de acometida para subsistema | C56: 1 | D56: 11520000 | E56: 11520000
B57: Tramite de legalizacion ante EPM | C57: 1 | D57: 1160000 | E57: 1160000
D58: TOTAL | E58: =SUM(E46:E57) -> 84984544
D59: 0.096 | E59: =+D59*E58 -> 8158516.2
E60: =+E58+E59 -> 93143060
C62: 4 | D62: =+E21*C62 -> 3.4234449e+08
D63: =+E42 -> 97152451 | G63: =+E18*4+E39+4*E19+4*E20+E40+E41 -> 4.3949694e+08
D64: 17607833 | G64: =+G63+D67 -> 4.6692322e+08
D65: =+D62+D63+D64 -> 4.5710477e+08
B67: admon | C67: 0.06 | D67: =+D65*C67 -> 27426286
D68: =+D65+D67 -> 4.8453106e+08

Sheet apus
A1: PROYECTO: Fortalecimiento de seguridad y vigilancia tecnológica para la seguridad y convivencia en el municipio de Marinilla
A2: ÍTEM | B2: DESCRIPCIÓN | C2: UNIDAD | D2: CANTIDAD | E2: VR.UNITARIO | F2: VALOR TOTAL
B3: CAMARA PTZ
B5: mano de obra | C5: global | D5: 1 | E5: 20000000 | F5: =+E5 -> 20000000 | H5: =+F5/F7 -> 0.055196093 | I5: =+F6/F7 -> 0.94480391
B6: materiales | C6: global | D6: 1 | E6: 3.4234449e+08 | F6: =+E6*D6 -> 3.4234449e+08
B7: total | F7: =SUM(F5:F6) -> 3.6234449e+08 | G7: =+F6*1.19 -> 4.0738994e+08
G8: =+F5 -> 20000000
B9: =+#REF! -> #REF! | D9: =+#REF! -> #REF! | E9: =+#REF! -> #REF! | F9: =+D9*E9 -> #REF! | G9: =+G7+G8 -> 4.2738994e+08
B10: administracion delegada | D10: 1 | E10: =+#REF! -> #REF! | F10: =+E10*D10 -> #REF!
B17: impuestos
B18: Estampilla Pro-cultura | E18: 0.02 | F18: =+E18*$F$7 -> 7246889.7
B19: Estampilla Pro-adulto mayor | E19: 0.04 | F19: =+E19*$F$7 -> 14493779
B20: Estampilla Pro-hospitales públicos | E20: 0.01 | F20: =+E20*$F$7 -> 3623444.9
B21: Estampilla Pro-deporte | E21: 0.02 | F21: =+E21*$F$7 -> 7246889.7
B22: Reteica 6 por mil | E22: 0.0006 | F22: =+E22*$F$7 -> 217406.69
B23: iva | E23: 0.19 | F23: =+E23*G23 -> 68952242 | G23: 3.6290654e+08
B24: total | E24: =SUM(E18:E23) -> 0.2806 | F24: =+E24*G23 -> 1.0183157e+08

Sheet PRESUPUESTO CORREC
A2: PROYECTO: Fortalecimiento de seguridad y vigilancia tecnológica para la seguridad y convivencia en el municipio de Marinilla | G2: CAMARAS PTZ | H2: 5 | I2: CAMARA PTZ CON APROVECHAMIENTO DE COMPONENTES | J2: 1
A3: ÍTEM | B3: DESCRIPCIÓN | C3: UNIDAD | D3: CANTIDAD | E3: VR.UNITARIO | F3: VALOR TOTAL
B4: CAMARA PTZ | F4: =SUM(F5:F16) -> 3.9775538e+08
B5: =+presupuesto!B5 -> Poste para soporte de camara de altura de 14m | C5: UNIDAD | D5: =+presupuesto!C5*'PRESUPUESTO CORREC'!$H$2 -> 5 | E5: 7624261.5 | F5: =+D5*E5 -> 38121307
B6: =+presupuesto!B6 -> Brazo para camara tipo PTZ | C6: UNIDAD | D6: =+presupuesto!C6*'PRESUPUESTO CORREC'!$H$2 -> 5 | E6: 1607368.2 | F6: =+D6*E6 -> 8036841
B7: =+presupuesto!B7 -> Suministro e instalacion de gabinete principal con componente electrico | C7: UNIDAD | D7: =+presupuesto!C7*'PRESUPUESTO CORREC'!$H$2 -> 5 | E7: 5130565.1 | F7: =+D7*E7 -> 25652825
B8: =+presupuesto!B8 -> Construccion de caja de paso tipo antifraude | C8: UNIDAD | D8: =+presupuesto!C8*'PRESUPUESTO CORREC'!$H$2 -> 15 | E8: 1333275.2 | F8: =+D8*E8 -> 19999128
B9: =+presupuesto!B9 -> Canalizado en zona blanda | C9: UNIDAD | D9: =+presupuesto!C9*'PRESUPUESTO CORREC'!$H$2 -> 75 | E9: 157851 | F9: =+D9*E9 -> 11838825
B10: =+presupuesto!B10 -> Construccion de Cimentacion | C10: UNIDAD | D10: =+presupuesto!C10*'PRESUPUESTO CORREC'!$H$2 -> 5 | E10: 4916032.3 | F10: =+D10*E10 -> 24580162
B11: =+presupuesto!B11 -> Suministro de fibra optima monomodo | C11: METROS | D11: 3000 | E11: 33614.431 | F11: =+D11*E11 -> 1.0084329e+08
B12: =+presupuesto!B12 -> Suministro e instalacion de cable de energia | C12: METROS | D12: =+presupuesto!C12*'PRESUPUESTO CORREC'!$H$2 -> 75 | E12: 19764.617 | F12: =+D12*E12 -> 1482346.2
B13: =+presupuesto!B13 -> Suministro e instalacion de cable de datos | C13: METROS | D13: =+presupuesto!C13*'PRESUPUESTO CORREC'!$H$2 -> 75 | E13: 19741.026 | F13: =+D13*E13 -> 1480577
B14: =+presupuesto!B14 -> Suministro de camara PTZ Domo tipo 2 | C14: UNIDAD | D14: =+presupuesto!C14*'PRESUPUESTO CORREC'!$H$2 -> 5 | E14: 12496024 | F14: =+D14*E14 -> 62480122
B15: =+presupuesto!B15 -> Suministro e instalacion de Sistema puesta a tierra | C15: UNIDAD | D15: =+presupuesto!C15*'PRESUPUESTO CORREC'!$H$2 -> 5 | E15: 7059816.9 | F15: =+D15*E15 -> 35299085
B16: =+presupuesto!B16 -> Suministro e instalacion de acometida para subsistema | C16: UNIDAD | D16: =+presupuesto!C16*'PRESUPUESTO CORREC'!$H$2 -> 5 | E16: 13588174 | F16: =+D16*E16 -> 67940870
B17: CAMARA PTZ CON APROVECHAMIENTO DE COMPONENTES | F17: =SUM(F18:F24) -> 28035180
B18: Brazo para camara tipo PTZ | C18: UNIDAD | D18: =+presupuesto!C6 -> 1 | E18: 1707368.2 | F18: =+E18*D18 -> 1707368.2
B19: Suministro e instalacion de gabinete principal con componente electrico | C19: UNIDAD | D19: =+presupuesto!C7 -> 1 | E19: 5130565.1 | F19: =+E19*D19 -> 5130565.1
B20: Construccion de caja de paso tipo antifraude | C20: UNIDAD | D20: 1 | E20: 1333275.2 | F20: =+E20*D20 -> 1333275.2
B21: Suministro de fibra optima monomodo | C21: UNIDAD | D21: 201.56112 | E21: 33614.431 | F21: =+E21*D21 -> 6775362.3
B22: Suministro e instalacion de cable de energia | C22: METROS | D22: 15 | E22: 19764.617 | F22: =+E22*D22 -> 296469.25
B23: Suministro e instalacion de cable de datos | C23: METROS | D23: =+presupuesto!C13 -> 15 | E23: 19741.026 | F23: =+E23*D23 -> 296115.39
B24: Suministro de camara PTZ Domo tipo 2 | C24: UNIDAD | D24: =+presupuesto!C14 -> 1 | E24: 12496024 | F24: =+E24*D24 -> 12496024
B25: SUBTOTAL | F25: =+F4+F17 -> 4.2579056e+08
B26: TRAMITE DE LEGALIZACIÓN | F26: =+F27 -> 6960000
B27: =+presupuesto!B22 -> Tramite de legalizacion ante EPM | C27: UNIDAD | D27: =+H2+J2+H3 -> 6 | E27: =+presupuesto!D17 -> 1160000 | F27: =+D27*E27 -> 6960000
B28: VALOR DEL PROYECTO SIN ESTAMPILLAS | F28: =+F26+F25 -> 4.3275056e+08
B29: ESTAMPILLAS | E29: =+apus!E18+apus!E19+apus!E20+apus!E21 -> 0.09 | F29: =+F28*E29 -> 38947551 | G29: =+F26*E29 -> 626400
B30: VALOR TOTAL DEL PROYECTO | F30: =+F29+F28 -> 4.7169811e+08
B31: Administracion delegada EDUR | E31: 0.06 | F31: =+F30*E31 -> 28301887
B32: VALOR TOTAL DEL CONTRATO | F32: =+F30+F31 -> 500000000
I33: 500000000
