Workbook
Name contratación: 'IDENTIFICACION Y ANALISIS'!$B$42:$B$46
Name ejecución: 'IDENTIFICACION Y ANALISIS'!$B$57:$B$80
Name OPCIONES: 'ASIGNACION Y TRATAMIENTO'!$B$53:$B$55
Name planeación: 'IDENTIFICACION Y ANALISIS'!$B$19:$B$29
Name selección: 'IDENTIFICACION Y ANALISIS'!$B$33:$B$40

Sheet CONTEXTO
C2: MATRIZ DE RIESGOS EN CONTRATACIÓN | F2: Código: GCO-GCI-F164 Versión: 02 Vigencia: 01 de diciembre de 2022 Caso HOLA: 280117
B6: ESTABLECER EL CONTEXTO
B7: El punto inicial es identificar el contexto en el cual interactúa la Entidad Estatal para conocer el ambiente social, económico y político, e identificar (i) sus propios Riesgos; (ii) los Riesgos comunes a sus Procesos de Contratación; y (iii) los Riesgos del Proceso de Contratación en particular. (Aplica igual para contratos interadministrativos) En este paso la Entidad Estatal debe identificar los aspectos que se mencionan a continuación y los posibles efectos adversos que estos pueden generar.
B8: Objeto del Proceso de Contratación: "PRESTAR SERVICIOS PARA FORMAR Y SESIBILIZAR A LÍDERES SOCIALES, CIUDADANOS Y GRUPOS DE INTERÉS DE LA LOCALIDAD DE CHAPINERO EN CULTURA Y CONVIVENCIA CIUDADANA ORIENTADA A LA PREVENCIÓN DE DELITOS Y CONTRAVENCIONES”.
B9: Partícipes del Proceso de Contratación: Agentes externos (Organismos de control, veedurías ciudadanas), agentes internos (supervisores, funcionarios y demás usuarios).
B10: Ciudadanía que se beneficia del Proceso de Contratación: Agentes internos (funcionarios, pasantes) y externos (contratistas, visitantes y usuarios externos en general)
B11: Capacidad de la Entidad Estatal entendida como la disponibilidad de recursos y conocimientos para el Proceso de Contratación: La disponibilidad de la Entidad de sus recursos y el conocimiento de su equipo humano se refleja en los diferentes funcionarios que participarán en las diversas etapas del proceso de selección: participan las áreas que requieren los procesos de contratación (Etapa de Planeación), Dirección de Contratación, Comité Evaluador (Etapa de selección), Dirección de Contratación (Etapa de contratación) y la supervisión y apoyos a la misma (Estapa de Ejecución).
B12: Suficiencia del presupuesto oficial del Proceso de Contratación: De acuerdo al Plan Anual de Adquisiciones se deben estimar los recursos necesarios para el desarrollo del proceso de la contratación, el cual tendrá el soporte presupuestal suficiente para su desarrollo.
B13: Condiciones geográficas y de acceso del lugar en el cual se debe cumplir el objeto del Proceso de Contratación: El suministro, obra o servicio se prestará principalmente en las Sedes de la Entidad, o en el lugar indicado en los estudios previos del proceso.
B14: Entorno socio ambiental: Ruralidad de la localidad de Chapinero - Cerros orientales
B15: Condiciones políticas: Si aplican
B16: Factores ambientales: En consecuencia, la Entidad desarrolla los lineamientos sectoriales contenidos en el Plan Institucional de Gestión Ambiental-PIGA, que se concreta a través de los programas de gestión de agua, energía, residuos, prácticas ambientales y consumo sostenible. Dichos programas están sujetos al mejoramiento continuo por parte de la Entidad para beneficio general, adicional a lo anterior se tendrá en cuenta como factor ambiental lo expresado en el Decreto 485 de 2015, “Por el cual se adopta el Plan de Manejo para el área de canteras, vegetación natural, pastos, plantaciones de bosques y agricultura que corresponde al área de ocupación pública prioritaria de la Franja de Adecuación, y se dictan otras disposiciones” y la Resolución No. 1766 del 27 de octubre de 2016, Por la cual se adopta el Plan de Manejo de la Reserva Forestal Protectora Bosque Oriental de Bogotá y se establecen otras determinaciones.
B17: Sector del objeto del Proceso de Contratación y su mercado: Empresas con experiencia en ejecución de actividades relacionadas con Servicios de contratación en extension agropecuaria, Agrícola, Pesquera, Forestal y de fauna, Servicios medioambientales y Maquinaria y accesorios para agricultura, pesca, silvicultura y fauna.
... B19: Experiencia propia y de otras Entidades Estatales en Procesos de Contratación del mismo tipo. Procesos en servicios de contratación agrícola y/o pesquera y/o forestal y de fauna y/o Preparación, Gestión protección del terreno y del suelo, Servicios Medioambientales, Servicio de Fortalecimiento a Unidades Productivas Agrícola, Servicios educativos y de Formación y/o Organizaciones y clubes.

Sheet IDENTIFICACION Y ANALISIS
C2: MATRIZ DE RIESGOS DE CONTRATACIÓN | F2: Código: GCO-GCI-F164 Versión: 02 Vigencia: 01 de diciembre de 2022 Caso HOLA: 280117
B6: DEFINICIONES
B7: RIESGO: Evento que puede generar efectos adversos y de distinta magnitud en el logro de los objetivos del Proceso de Contratación o en la ejecución de un contrato RIESGOS PREVISIBLES: Son los posibles hechos o circunstancias que por la naturaleza del contrato y de la actividad a ejecutar es factible su ocurrencia. ETAPA DE PLANEACIÓN: Está comprendida desde el momento en que se identifican las necesidades que debe satisfacer la Secretaría Distrital de Gobierno y los Fondos de Desarrollo Local, a través del abastecimiento de bienes, obras o servicios, la elaboración del Plan Anual de Adquisiciones y la estructuración de los documentos y estudios previos. ETAPA DE SELECCIÓN: Está comprendida entre el acto de Apertura del Proceso de Contratación y la Adjudicación o la declaración de desierto del Proceso de Contratación ETAPA DE CONTRATACIÓN: Una vez adjudicado el contrato objeto del Proceso de Contratación, inicia la etapa para la celebración del contrato y el cumplimiento de los requisitos para de perfeccionamiento y ejecución. ETAPA DE EJECUCIÓN: Inicia una vez cumplidos los requisitos previstos para iniciar la ejecución del contrato respectivo y termina con el vencimiento del plazo del contrato o la fecha de liquidación si hay lugar a ella. RIESGO GENERAL: Es un riesgo de todos los procesos de contratación adelantados por la Entidad Estatal, por lo cual está presente en toda su actividad contractual. RIEGO ESPECIFICO: Es un riesgo propio del proceso de contratación objeto de análisis. RIESGOS ECONÓMICOS: Son los derivados del comportamiento del mercado, tales como la fluctuación de los precios de los insumos, desabastecimiento y especulación de los mismos, entre otros. RIESGOS SOCIALES O POLÍTICOS: son los derivados de los cambios de las políticas gubernamentales y de cambios en las condiciones sociales que tengan impacto en la ejecución del contrato. RIESGOS OPERACIONALES: Son los asociados a la operatividad del contrato, tales como la suficiencia del presupuesto oficial, del plazo o los derivados de procesos, procedimientos, parámetros, sistemas de información y tecnológicos, equipos humanos o técnicos inadecuados o insuficientes. RIESGOS FINANCIEROS: Son (i) el riesgo de consecución de financiación o riesgo de liquidez para obtener recursos para cumplir con el objeto del contrato, y (ii) el riesgo de las condiciones financieras establecidas para la obtención de los recursos, tales como plazos, tasas, garantías, contragarantías, y refinanciaciones, entre otros. RIESGOS REGULATORIOS: Derivados de cambios regulatorios o reglamentarios que afecten la ecuación económica del contrato. RIESGOS DE LA NATURALEZA: Son los eventos naturales previsibles en los cuales no hay intervención humana que puedan tener impacto en la ejecución del contrato, por ejemplo los temblores, inundaciones, lluvias, sequías, entre otros. RIESGOS AMBIENTALES: Son los derivados de las obligaciones legales o reglamentarias de carácter ambiental, así como de las licencias, planes de manejo o de permisos y autorizaciones ambientales, incluyendo tasas retributivas y compensatorias, obligaciones de mitigación, tareas de monitoreo y control, entre otras. RIESGOS TECNOLÓGICOS: Son los derivados de fallas en los sistemas de comunicación de voz y de datos, suspensión de servicios públicos, nuevos desarrollos tecnológicos o estándares que deben ser tenidos en cuenta para la ejecución del contrato, obsolescencia tecnológica.
B15: INSTRUCCIONES PARA LA IDENTIFICACIÓN, ANALISIS, EVALUACIÓN , ASIGNACIÓN Y TRATAMIENTO DE RIESGOS EN LA CONTRATACIÓN
B16: 1) Identifique los riesgos previsibles que le apliquen al objeto contractual que se adelante. Los relacionados a continuación se establecen de manera general y como proforma. No obstante, si del objeto contractual se identifican otros riesgos diferentes a los aquí determinados, por favor reemplace el texto de la casilla teniendo en cuenta la etapa del proceso. Así mismo, seleccione la clase, fuente y el tipo (Operacional, Económico, Sociales o Políticos, Regulatorios, Financieros, Tecnológicos, De la naturaleza, Ambientales) 2) Continúe en la hoja de "EVALUACIÓN" (SI EXISTEN DUDAS CONCEPTUALES PARA LA ELABORACIÓN DE LA MATRIZ DE RIESGO CONSULTE EL MANUAL PARA LA IDENTIFICACIÓN Y COBERTURA DEL RIESGO EN LOS PROCESOS DE CONTRATACIÓN EXPEDIDO POR COLOMBIA COMPRA EFICIENTE Y LA GUÍA DE RIESGOS PREVISIBLES CONTRACTUALES, EXPEDIDA POR LA VEEDURÍA DISTRITAL)
C17: ETAPAS | D17: CLASE | E17: FUENTE | F17: TIPO
C18: PLANEACIÓN
B19: Inadecuada escogencia de la modalidad de contratación | F19: Operacionales
B20: Requisitos habilitantes inapropiados para el proceso de selección | F20: Operacionales
B21: Inadecuado análisis económico estimativo del valor del contrato | F21: Económicos
B22: Inadecuada descripción del bien o servicio requerido | F22: Operacionales
B23: Inadecuada elaboración de estudios y diseños | F23: Operacionales
B24: Requisitos habilitantes que impidan la selección objetiva | F24: Operacionales
B25: Falta de profundidad en el estudio de sector no identificándose claramente aspectos de oferta y demanda | F25: Económicos
B26: Ausencia de fundamentación de la justificación y conveniencia de la contratación | F26: Operacionales
B27: Inadecuada identificación de las condiciones contractuales | F27: Operacionales
B28: No aprobación o demoras en la expedición vigencias futuras | F28: Operacionales
B29: Apertura de procesos sin disponibilidad presupuestal | F29: Operacionales
B30: Errores en la formulación o los documentos del proceso por equivocación, falta de exactitud o imprecisión de la información | D30: General | E30: Interno | F30: Operacionales
B31: Apertura de procesos de contratación sin la correspondiente disponibilidad presupuestal impidiendo el cumplimiento de los compromisos adquiridos, generando problemas financieros y legales, asegurando que exista un presupuesto adecuado antes de iniciar cualquier proceso de contratación. | D31: General | E31: Interno | F31: Operacionales
C32: SELECCIÓN
B33: Inadecuada evaluación de las ofertas y/o verificación de requisitos habilitantes | F33: Operacionales
B34: Inadecuado manejo administrativo del proceso contractual | F34: Operacionales
B35: Falta de claridad en la elaboración de los actos administrativos | F35: Operacionales
B36: Contestación inoportuna a todas las observaciones formuladas a los documentos de la contratación | F36: Operacionales
B37: No publicación de la documentación del proceso de selección en el SECOP | F37: Operacionales
B38: Confabulación de los proponentes (Colusión) | F38: Operacionales
B39: Selección de ofertas con precios artificialmente bajos. | D39: General | E39: Externo | F39: Operacionales
B40: Declaratoria Desierta del Proceso de Contratación, por que los oferentes no cumplen la totalidad de Requisitos Habilitantes o por encontrarse incursos en alguna inhabilidad o incompatibilidad | D40: General | E40: Externo | F40: Operacionales
C41: CONTRATACIÓN
B42: Riesgo de que no se firme el contrato. | D42: General | E42: Externo | F42: Operacionales
B43: Falta de constitución o constitución tardía de la garantía única. Aceptación de garantías que no se ajustan a lo contemplado en el contrato | D43: General | E43: Interno | F43: Operacionales
B44: Falta de solicitud o solicitud tardía del registro presupuestal | D44: General | E44: Interno | F44: Operacionales
B45: No publicación de la documentación del proceso de selección en el SECOP | D45: General | E45: Externo | F45: Operacionales
B46: Presentación de reclamos de terceros sobre la selección del oferente que retrasen el perfeccionamiento del contrato. | D46: General | E46: Externo | F46: Operacionales
C47: EJECUCIÓN
B48: El equipo humano seleccionado no cumple con las capacidades requeridas para el cumplimiento del contrato | D48: General | E48: Interno | F48: Operacionales
B49: Incremento de los precios, debido a la fluctuación del dólar (TRM). | D49: General | E49: Externo | F49: Económicos
B50: Afectación del flujo de caja del contratista como consecuencia de no radicar de forma oportuna, completa y con aval de supervisión, los informes o presentarlos sin atender las fechas de programación del Plan Anual Mensualizado de Caja PAC, que señale la entidad contratante. | D50: General | E50: Externo | F50: Económicos
B51: Ejecución en tiempos distintos a los inicialmente programados por circunstancias no imputables a las partes. | D51: Especifico | E51: Interno | F51: Operacionales
...

Sheet EVALUACION
C2: MATRIZ DE RIESGOS DE CONTRATACIÓN | K2: Código: GCO-GCI-F164 Versión: 02 Vigencia: 01 de diciembre de 2022 Caso HOLA: 280117
B6: =CONTEXTO!B8 -> Objeto del Proceso de Contratación: "PRESTAR SERVICIOS PARA FORMAR Y SESIBILIZAR A LÍDERES SOCIALES, CIUDADANOS Y GRUPOS DE INTERÉS DE LA LOCALIDAD DE CHAPINERO EN CULTURA Y CONVIVENCIA CIUDADANA ORIENTADA A LA PREVENCIÓN DE DELITOS Y CONTRAVENCIONES”.
B7: INSTRUCCIONES PARA LA IDENTIFICACIÓN, ANALISIS, EVALUACIÓN , ASIGNACIÓN Y TRATAMIENTO DE RIESGOS EN LA CONTRATACIÓN
B8: 1) Diligencie el objeto contractual y seleccione la(s) etapas y los riesgos que aplican al objeto contractual, de acuerdo a lo definido en la hoja de "IDENTIFICACIÓN Y ANÁLISIS"
B9: 2) Describa las consecuencias de la ocurrencia del Riesgo/evento.
B10: 3) Asigne la probabilidad de ocurrencia del riesgo, de conformidad con la tabla de probabilidad y la valoración del riesgo (Cualitativa o Monetaria)
B11: 4) Asigne el impacto que generaría la materialización del riesgo, de conformidad con la tabla de impacto y la valoración del riesgo (Cualitativa o Monetaria)
B12: 5) Al realizar las anteriores actividades se obtendrá la calificación total y la valoración del riesgo (prioridad).
B13: 6) Continúe en la hoja de "EVALUACIÓN DE CONTROLES"
B15: CALIFICACIÓN | H15: Cualitativa
B16: ETAPA | C16: Descripción (Que puede pasar y, cómo puede ocurrir) | H16: Consecuencias de la ocurrencia del evento | I16: Probabilidad de Ocurrencia | J16: Impacto | K16: Calificación Total | L16: Prioridad
B17: PLANEACIÓN | C17: Errores en la formulación o los documentos del proceso por equivocación, falta de exactitud o imprecisión de la información | H17: incumplimiento del contrato, necesidades de modificación en sus alcances, actividades, presupuesto, etc. | I17: 2 | J17: 2 | K17: =I17+J17 -> 4 | L17: =IF(K17<=4,"BAJO",IF(K17=5,"MEDIO",IF(K17=6,"ALTO",IF(K17=7,"ALTO","EXTREMO")))) -> BAJO
B18: PLANEACIÓN | C18: Apertura de procesos de contratación sin la correspondiente disponibilidad presupuestal impidiendo el cumplimiento de los compromisos adquiridos, generando problemas financieros y legales, asegurando que exista un presupuesto adecuado antes de iniciar cualquier proceso de contratación. | H18: a) Pérdida de Tiempo b) Necesidad de iniciar un nuevo proceso contractual c) No se puede satisfacer la necesidad de la entidad | I18: 2 | J18: 3 | K18: =+I18+J18 -> 5 | L18: =IF(K18<=4,"BAJO",IF(K18=5,"MEDIO",IF(K18=6,"ALTO",IF(K18=7,"ALTO","EXTREMO")))) -> MEDIO
B19: SELECCIÓN | C19: Declaratoria Desierta del Proceso de Contratación, por que los oferentes no cumplen la totalidad de Requisitos Habilitantes o por encontrarse incursos en alguna inhabilidad o incompatibilidad | H19: a) Pérdida de Tiempo b) Necesidad de iniciar un nuevo proceso contractual c) No se puede satisfacer la necesidad de la entidad | I19: 3 | J19: 5 | K19: =+I19+J19 -> 8 | L19: =IF(K19<=4,"BAJO",IF(K19=5,"MEDIO",IF(K19=6,"ALTO",IF(K19=7,"ALTO","EXTREMO")))) -> EXTREMO
B20: SELECCIÓN | C20: Selección de ofertas con precios artificialmente bajos. | H20: a) No se puede satisfacer la necesidad de la Entidad, b) Se adjudica el proceso a un contratista que ofreció precios artíficamente bajos poniendo en riesgo la ejecución contractual. | I20: 2 | J20: 4 | K20: =+I20+J20 -> 6 | L20: =IF(K20<=4,"BAJO",IF(K20=5,"MEDIO",IF(K20=6,"ALTO",IF(K20=7,"ALTO","EXTREMO")))) -> ALTO
B21: CONTRATACIÓN | C21: Riesgo de que no se firme el contrato. | H21: Incumplimiento en la atención de la necesidad que da origen al proceso contractual y a la meta a atender. | I21: 1 | J21: 3 | K21: =+I21+J21 -> 4 | L21: =IF(K21<=4,"BAJO",IF(K21=5,"MEDIO",IF(K21=6,"ALTO",IF(K21=7,"ALTO","EXTREMO")))) -> BAJO
B22: CONTRATACIÓN | C22: Falta de constitución o constitución tardía de la garantía única. Aceptación de garantías que no se ajustan a lo contemplado en el contrato | H22: Incumplimiento en la atención de la necesidad que da origen al proceso contractual y a la meta a atender o el detrimento patrimonial del FDLCH. | I22: 2 | J22: 3 | K22: =+I22+J22 -> 5 | L22: =IF(K22<=4,"BAJO",IF(K22=5,"MEDIO",IF(K22=6,"ALTO",IF(K22=7,"ALTO","EXTREMO")))) -> MEDIO
B23: CONTRATACIÓN | C23: Falta de solicitud o solicitud tardía del registro presupuestal | H23: Pérdida de tiempo por la necesidad de generar el registro presupuestal, sin que sea atendida la necesidad de la entidad. Cancelación del proceso contractual. | I23: 2 | J23: 3 | K23: =+I23+J23 -> 5 | L23: =IF(K23<=4,"BAJO",IF(K23=5,"MEDIO",IF(K23=6,"ALTO",IF(K23=7,"ALTO","EXTREMO")))) -> MEDIO
B24: CONTRATACIÓN | C24: Adjudicar el contrato a un proponente que pueda suministrar bienes de mala calidad o que preste servicios de forma incorrecta, debido a la presentación de ofertas artificialmente baja. | H24: No se satisface la necesidad a la que atiende el proceso contractual. Se adjudica el proceso a un contratista que pone en riesgo la ejecución contractual. | I24: 2 | J24: 3 | K24: =+I24+J24 -> 5 | L24: =IF(K24<=4,"BAJO",IF(K24=5,"MEDIO",IF(K24=6,"ALTO",IF(K24=7,"ALTO","EXTREMO")))) -> MEDIO
B25: CONTRATACIÓN | C25: Presentación de reclamos de terceros sobre la selección del oferente que retrasen el perfeccionamiento del contrato. | H25: Demora en la ejecución contractual. Riesgo de suspensión de proceso contractual. | I25: 2 | J25: 3 | K25: =+I25+J25 -> 5 | L25: =IF(K25<=4,"BAJO",IF(K25=5,"MEDIO",IF(K25=6,"ALTO",IF(K25=7,"ALTO","EXTREMO")))) -> MEDIO
B26: EJECUCIÓN | C26: El equipo humano seleccionado no cumple con las capacidades requeridas para el cumplimiento del contrato | H26: El equipo contratado por el operador no cuenta con las capacidades para cumplir con las labores asignadas en tiempos y calidad | I26: 3 | J26: 2 | K26: =+I26+J26 -> 5 | L26: =IF(K26<=4,"BAJO",IF(K26=5,"MEDIO",IF(K26=6,"ALTO",IF(K26=7,"ALTO","EXTREMO")))) -> MEDIO
B27: EJECUCIÓN | C27: Incremento de los precios, debido a la fluctuación del dólar (TRM) o IPC o precios del mercado | H27: Afectación del presupuesto y demoras en la selección del proveedor y demoras en las entregas. | I27: 3 | J27: 2 | K27: =+I27+J27 -> 5 | L27: =IF(K27<=4,"BAJO",IF(K27=5,"MEDIO",IF(K27=6,"ALTO",IF(K27=7,"ALTO","EXTREMO")))) -> MEDIO
B28: EJECUCIÓN | C28: Ejecución en tiempos distintos a los inicialmente programados por circunstancias no imputables a las partes. | H28: a) Mayores costos que afectan la ejecución del contrato, b) Atraso en el cronograma. | I28: 3 | J28: 4 | K28: =+I28+J28 -> 7 | L28: =IF(K28<=4,"BAJO",IF(K28=5,"MEDIO",IF(K28=6,"ALTO",IF(K28=7,"ALTO","EXTREMO")))) -> ALTO
B29: EJECUCIÓN | C29: Incumplimiento en los tiempos de entrega y/o en la calidad de los bienes y/o servicios contratados. | H29: a) Mala ejecución del objeto contratado, b) No se puede satisfacer la necesidad de la Entidad. | I29: 3 | J29: 4 | K29: =+I29+J29 -> 7 | L29: =IF(K29<=4,"BAJO",IF(K29=5,"MEDIO",IF(K29=6,"ALTO",IF(K29=7,"ALTO","EXTREMO")))) -> ALTO
... B34: EJECUCIÓN | C34: Vandalismo y robo de elementos entregados a los beneficiarios del proyecto | H34: a) Daños ocasionados a terceros. b) No se puede lograr el objeto contratado. | I34: 3 | J34: 3 | K34: =+I34+J34 -> 6 | L34: =IF(K34<=4,"BAJO",IF(K34=5,"MEDIO",IF(K34=6,"ALTO",IF(K34=7,"ALTO","EXTREMO")))) -> ALTO
B35: EJECUCIÓN | C35: ='IDENTIFICACION Y ANALISIS'!B62 -> Variación en la disponibilidad o en el costo de los insumos necesarios para prestar los servicios. | H35: Retraso en los cronogramas establecidos, prórrogas en el plazo de ejecución | I35: 2 | J35: 2 | K35: =+I35+J35 -> 4 | L35: =IF(K35<=4,"BAJO",IF(K35=5,"MEDIO",IF(K35=6,"ALTO",IF(K35=7,"ALTO","EXTREMO")))) -> BAJO
B36: EJECUCIÓN | C36: ='IDENTIFICACION Y ANALISIS'!B63 -> Incumplimiento de compromisos adquiridos por el contratista seleccionado con sus subcontratistas, suministradores de bienes y servicios. | H36: Retraso en los cronogramas establecidos, prórrogas en el plazo de ejecución | I36: 3 | J36: 3 | K36: =+I36+J36 -> 6 | L36: =IF(K36<=4,"BAJO",IF(K36=5,"MEDIO",IF(K36=6,"ALTO",IF(K36=7,"ALTO","EXTREMO")))) -> ALTO
B37: EJECUCIÓN | C37: Agotamiento del presupuesto en aquellos ítems determinados por bolsa por monto agotable | H37: Retraso en los cronogramas establecidos, prórrogas en el plazo de ejecución o adiciones presupuestales | I37: 3 | J37: 3 | K37: =+I37+J37 -> 6 | L37: =IF(K37<=4,"BAJO",IF(K37=5,"MEDIO",IF(K37=6,"ALTO",IF(K37=7,"ALTO","EXTREMO")))) -> ALTO
B40: Probabilidad | C40: Categoría | E40: Valoración | G40: Impacto | H40: Categoría | I40: Valoración
C41: Raro (puede ocurrir excepcionalmente) | E41: 1 | H41: Insignificante | I41: 1
C42: Improbable (puede ocurrir ocasionalmente) | E42: 2 | H42: Menor | I42: 2
C43: Posible (puede ocurrir en cualquier momento futuro) | E43: 3 | H43: Moderado | I43: 3
C44: Probable (probablemente va a ocurrir) | E44: 4 | H44: Mayor | I44: 4
C45: Casi cierto (ocurre en la mayoría de circunstancias) | E45: 5 | H45: Catastrófico | I45: 5
C47: Valoración del Riesgo
C48: Calificación Cualitativa | F48: Obstruye la ejecución del contrato de manera intrascendente. | G48: Dificulta la ejecución del contrato de manera baja, aplicando medidas mínimas se pueden lograr el objeto contractual | H48: Afecta la ejecución del contrato sin alterar el beneficio para las partes | I48: Obstruye la ejecución del contrato sustancialmente pero aun así permite la consecución del objeto contractual | K48: Perturba la ejecución del contrato de manera grave imposibilitando la consecución del objeto contractual.
C49: Calificación Monetaria | F49: Los sobrecostos no representan más del uno por ciento (1%) del valor del contrato. | G49: Los sobrecostos no representan más del cinco por ciento (5%) del valor del contrato. | H49: Genera un impacto sobre el valor del contrato entre el cinco (5%) y el quince por ciento (15%). | I49: Incrementa el valor del contrato entre el quince (15%) y el treinta por ciento (30%). | K49: Impacto sobre el valor del contrato en más del treinta por ciento (30%).
C50: Categoría | E50: Valoración | F50: Insignificante | G50: Menor | H50: Moderado | I50: Mayor | K50: Catastrófico
F51: 1 | G51: 2 | H51: 3 | I51: 4 | K51: 5
C52: Raro (puede ocurrir excepcionalmente) | E52: 1 | F52: 2 | G52: 3 | H52: 4 | I52: 5 | K52: 6
...

Sheet EVALUACION CON CONTROLES
C2: MATRIZ DE RIESGOS DE CONTRATACIÓN | Q2: Código: GCO-GCI-F164 Versión: 02 Vigencia: 01 de diciembre de 2022 Caso HOLA: 280117
B6: =+EVALUACION!B6 -> Objeto del Proceso de Contratación: "PRESTAR SERVICIOS PARA FORMAR Y SESIBILIZAR A LÍDERES SOCIALES, CIUDADANOS Y GRUPOS DE INTERÉS DE LA LOCALIDAD DE CHAPINERO EN CULTURA Y CONVIVENCIA CIUDADANA ORIENTADA A LA PREVENCIÓN DE DELITOS Y CONTRAVENCIONES”.
B7: INSTRUCCIONES PARA LA IDENTIFICACIÓN, ANALISIS, EVALUACIÓN , ASIGNACIÓN Y TRATAMIENTO DE RIESGOS EN LA CONTRATACIÓN
B8: 1) Describa el tratamiento/controles a ser implementados
B9: 2) Diligencie la información de las siguientes columnas, de acuerdo con el análisis realizado a cada riesgo: Afecta el equilibrio económico, persona responsable de implementar el tratamiento, fecha estimada de inicio del tratamiento, fecha estimada en la que se completa el tratamiento, cómo se realiza el monitoreo y la periodicidad.
B10: 3) Continúe en la hoja de "ASIGNACIÓN Y TRATAMIENTO" y diligencie las siguientes casillas: A quien se le asigna y el porcentaje que asume cada una de las partes en caso de que sea compartido.
B15: ETAPA | C15: Descripción (Que puede pasar y, cómo puede ocurrir) | G15: Tratamiento/Controles a ser implementados | I15: Probabilidad de Ocurrencia | J15: Impacto | K15: Calificación Total | L15: Prioridad | M15: ¿Afecta el equilibrio económico del contrato? | N15: Persona responsable por implementar el tratamiento | O15: Fecha estimada en que se inicia el tratamiento | P15: Fecha estimada en que se completa el tratamiento | Q15: ¿Cómo se realiza el monitoreo? | R15: Periodicidad ¿Cuándo?
B16: PLANEACIÓN | C16: =+EVALUACION!C17 -> Errores en la formulación o los documentos del proceso por equivocación, falta de exactitud o imprecisión de la información | G16: Verificación de los documentos del proceso en cada uno de sus componentes por parte de los profesionales y técnicos involucrados y presentación de la documentación ante el sector y ante el comité de contratación | H16: Verificacion de los documentos del proceso en cada uno de sus componentes por parte de los profesionales y tecnicos involucrados y presentacion de la documentacion ante el sector y ante el comité de contratacion | I16: =+EVALUACION!I17 -> 2 | J16: =+EVALUACION!J17 -> 2 | K16: =+I16+J16 -> 4 | L16: =IF(K16<=4,"BAJO",IF(K16=5,"MEDIO",IF(K16=6,"ALTO",IF(K16=7,"ALTO","EXTREMO")))) -> BAJO | M16: SI | N16: FDLCH | O16: Posterior al proceso de planeación. | P16: Previo al proceso de contratación. | Q16: Generación de VoBo de área de contratación del FDLCH | R16: Inicio de tapa de contratación
B17: PLANEACIÓN | C17: =+EVALUACION!C18 -> Apertura de procesos de contratación sin la correspondiente disponibilidad presupuestal impidiendo el cumplimiento de los compromisos adquiridos, generando problemas financieros y legales, asegurando que exista un presupuesto adecuado antes de iniciar cualquier proceso de contratación. | G17: Efectuar revisiones en cada una de la disponibilidad presupuestal impidiendo el cumplimiento de los compromisos adquiridos, generando problemas financieros y legales | H17: Efectuar revisiones en cada una de las Etapas de elaboración de los Estudios Previos, Estudios de Sector y Pliegos de Condiciones del proceso de contratación | I17: =+EVALUACION!I18 -> 2 | J17: 2 | K17: 3 | L17: =IF(K17<=4,"BAJO",IF(K17=5,"MEDIO",IF(K17=6,"ALTO",IF(K17=7,"ALTO","EXTREMO")))) -> BAJO | M17: SI | N17: FDLCH | O17: Posterior al proceso de planeación. | P17: Previo al proceso de contratación. | Q17: Mediante una revisión técnica, jurídica, económica financiera minuciosa de los documentos del proceso contractual espacio de presentación y retroalimentación de la propuesta con promotores de iniciativas y espacios de control social. | R17: Inicio de tapa de contratación
B18: SELECCIÓN | C18: =+EVALUACION!C19 -> Declaratoria Desierta del Proceso de Contratación, por que los oferentes no cumplen la totalidad de Requisitos Habilitantes o por encontrarse incursos en alguna inhabilidad o incompatibilidad | G18: Revisión exhaustiva del manejo administrativo de cada oferta en cada uno de sus componentes por parte de los profesionales y técnicos involucrados en el proceso de selección. | I18: 2 | J18: 4 | K18: =+I18+J18 -> 6 | L18: =IF(K18<=4,"BAJO",IF(K18=5,"MEDIO",IF(K18=6,"ALTO",IF(K18=7,"ALTO","EXTREMO")))) -> ALTO | M18: SI | N18: FDLCH | O18: Dentro del mismo tiempo de la afectación. | P18: Fecha en la que finaliza la etapa precontractual. | Q18: Generación de VoBo de área de Planeación del FDLCH | R18: SEMANAL
B19: CONTRATACIÓN | C19: =+EVALUACION!C20 -> Selección de ofertas con precios artificialmente bajos. | G19: Elaborar los Estudios de Sector, de acuerdo a la Metodología establecida por Colombia Compra Eficiente y dando cumplimiento a la normatividad vigente, para que una vez hecho se reduzca la probabilidad de recibir ofertas artíficamente bajas. | I19: 1 | J19: 3 | K19: =+I19+J19 -> 4 | L19: =IF(K19<=4,"BAJO",IF(K19=5,"MEDIO",IF(K19=6,"ALTO",IF(K19=7,"ALTO","EXTREMO")))) -> BAJO | M19: SI | N19: FDLCH | O19: Dentro del mismo tiempo de la afectación. | P19: Fecha en la que finaliza la etapa precontractual. | Q19: Generación de VoBo de área de Contratación del FDLCH | R19: SEMANAL
B20: CONTRATACIÓN | C20: =+EVALUACION!C21 -> Riesgo de que no se firme el contrato. | G20: Reestructuración con condiciones equitativas de los documentos precontractuales. | I20: =+EVALUACION!I21 -> 1 | J20: 2 | K20: =+I20+J20 -> 3 | L20: =IF(K20<=4,"BAJO",IF(K20=5,"MEDIO",IF(K20=6,"ALTO",IF(K20=7,"ALTO","EXTREMO")))) -> BAJO | M20: NO | N20: FDLCH | O20: Posterior al proceso de selección. | P20: Previo al proceso de contratación. | Q20: Mediante una revisión técnica, jurídica, económica financiera minuciosa de los documentos del proceso contractual. | R20: Previo al acta de inicio
B21: CONTRATACIÓN | C21: =+EVALUACION!C22 -> Falta de constitución o constitución tardía de la garantía única. Aceptación de garantías que no se ajustan a lo contemplado en el contrato | G21: Verificación de características de garantías de cumplimiento previo a la aceptación. | I21: 1 | J21: 2 | K21: =+I21+J21 -> 3 | L21: =IF(K21<=4,"BAJO",IF(K21=5,"MEDIO",IF(K21=6,"ALTO",IF(K21=7,"ALTO","EXTREMO")))) -> BAJO | M21: SI | N21: FDLCH | O21: Posterior al proceso de contratación | P21: Previo al proceso de acta de inicio del contrato | Q21: Mediante una revisión jurídica, minuciosa de las garantías cargadas a SECOP II. | R21: Previo al inicio de tapa de contratación
B22: CONTRATACIÓN | C22: =+EVALUACION!C23 -> Falta de solicitud o solicitud tardía del registro presupuestal | G22: Firma de acta de inicio posterior al aseguramiento de la generación de registro presupuestal. | I22: 1 | J22: 2 | K22: =+I22+J22 -> 3 | L22: =IF(K22<=4,"BAJO",IF(K22=5,"MEDIO",IF(K22=6,"ALTO",IF(K22=7,"ALTO","EXTREMO")))) -> BAJO | M22: SI | N22: FDLCH | O22: Previo a la etapa de contratación. | P22: Previo al proceso de firma del contrato | Q22: Confirmación de existencia del registro presupuestal por parte del área contable del FDLCH. | R22: Previo al inicio de tapa de contratación
B23: CONTRATACIÓN | C23: =+EVALUACION!C24 -> Adjudicar el contrato a un proponente que pueda suministrar bienes de mala calidad o que preste servicios de forma incorrecta, debido a la presentación de ofertas artificialmente baja. | G23: Elaborar los Estudios de Sector, de acuerdo con la metodología establecida por Colombia Compra Eficiente y dando cumplimiento a la normatividad vigente, para que una vez hecho se reduzca la probabilidad de recibir ofertas artificialmente bajas. | I23: 1 | J23: 2 | K23: =+I23+J23 -> 3 | L23: =IF(K23<=4,"BAJO",IF(K23=5,"MEDIO",IF(K23=6,"ALTO",IF(K23=7,"ALTO","EXTREMO")))) -> BAJO | M23: SI | N23: FDLCH | O23: Inicio del contrato | P23: Durante la ejecución del contrato. | Q23: Muestreos aleatorios de calidad. | R23: MENSUAL
B24: EJECUCIÓN | C24: =+EVALUACION!C25 -> Presentación de reclamos de terceros sobre la selección del oferente que retrasen el perfeccionamiento del contrato. | G24: Revisión de reclamos con base en las condiciones precontractuales y la normatividad vigente. | I24: 1 | J24: 2 | K24: =+I24+J24 -> 3 | L24: =IF(K24<=4,"BAJO",IF(K24=5,"MEDIO",IF(K24=6,"ALTO",IF(K24=7,"ALTO","EXTREMO")))) -> BAJO | M24: NO | N24: FDLCH | O24: Etapa de contratación. | P24: Previo al proceso de firma del contrato | Q24: Mediante una revisión técnica, jurídica, económica financiera minuciosa de los documentos del proceso contractual. | R24: Etapa precontractual
B25: EJECUCIÓN | C25: =+EVALUACION!C26 -> El equipo humano seleccionado no cumple con las capacidades requeridas para el cumplimiento del contrato | G25: Establecer requisito técnico de experiencia y cualificación certificada para equipo humano. Perfiles requeridos para el desarrollo de las actividades | I25: 2 | J25: 2 | K25: =+I25+J25 -> 4 | L25: =IF(K25<=4,"BAJO",IF(K25=5,"MEDIO",IF(K25=6,"ALTO",IF(K25=7,"ALTO","EXTREMO")))) -> BAJO | M25: SI | N25: CONTRATISTA | O25: 2025 | P25: Fecha en que finaliza el contrato. | Q25: seguimiento equipo de trabajo conforme hojas de vida | R25: durante toda la ejecución
B26: EJECUCIÓN | C26: =+EVALUACION!C27 -> Incremento de los precios, debido a la fluctuación del dólar (TRM) o IPC o precios del mercado | G26: A partir del estudio de mercado realizado y las cotizaciones que lo soportan, verificar los precios entregados con los proveedores en el momento del estudio, para así solicitar que mantengan los precios ofertados. | H26: A partir del estudio de mercado realizado y las cotizaciones que lo soportan, verificar los precios entregados con los proveedores en el momento del estudio, para así solicitar que mantengan los precios ofertados. | I26: 1 | J26: 2 | K26: =+I26+J26 -> 3 | L26: =IF(K26<=4,"BAJO",IF(K26=5,"MEDIO",IF(K26=6,"ALTO",IF(K26=7,"ALTO","EXTREMO")))) -> BAJO | M26: SI | N26: CONTRATISTA | O26: 2025 | P26: Fecha en que finaliza el contrato. | Q26: Revisión de los precios del mercado antes del proceso de selección del proveedor de las ayudas técnicas. | R26: Mensual
B27: EJECUCIÓN | C27: =+EVALUACION!C28 -> Ejecución en tiempos distintos a los inicialmente programados por circunstancias no imputables a las partes. | G27: Planeación técnica del cronograma de actividades. | H27: Planeación técnica del cronograma de actividades. | I27: 2 | J27: 3 | K27: =+I27+J27 -> 5 | L27: =IF(K27<=4,"BAJO",IF(K27=5,"MEDIO",IF(K27=6,"ALTO",IF(K27=7,"ALTO","EXTREMO")))) -> MEDIO | M27: SI | N27: CONTRATISTA | O27: Durante la etapa precontractual y ejecución del contrato. | P27: Fecha en que finaliza el contrato. | Q27: Evaluación semanal | R27: Permanente durante la ejecución del contrato
B28: EJECUCIÓN | C28: =+EVALUACION!C29 -> Incumplimiento en los tiempos de entrega y/o en la calidad de los bienes y/o servicios contratados. | G28: Exigencia por parte del supervisor del cumplimiento en el cronograma de entregas de los elementos, exigir al contratista la suscripción de una póliza que contenga coberturas como la Calidad de los Bienes y/o Servicios y el Cumplimiento en la entrega de los mismos. | H28: Exigencia por parte del supervisor del cumplimiento en el cronograma de entregas de los elementos, exigir al contratista la suscripción de una póliza que contenga coberturas como la Calidad de los Bienes y/o Servicios y el Cumplimiento en la entrega de los mismos. | I28: 2 | J28: 3 | K28: =+I28+J28 -> 5 | L28: =IF(K28<=4,"BAJO",IF(K28=5,"MEDIO",IF(K28=6,"ALTO",IF(K28=7,"ALTO","EXTREMO")))) -> MEDIO | M28: SI | N28: CONTRATISTA | O28: Desde la formalización del contrato. | P28: Fecha en que finaliza el contrato. | Q28: Evaluación semanal del cumplimiento de las entregas, | R28: Durante la planeación. Durante la ejecución. Permanente.
B29: EJECUCIÓN | C29: =+EVALUACION!C30 -> Entrega de bienes y servicios de mala calidad o en mal estado o que no cumplen con las especificaciones técnicas solicitadas. | G29: Solicitar al contratista que tome las medidas para el respectivo aseguramiento de calidad de los elementos a entregar, elegir un proveedor idóneo para la compra de estos. | H29: Solicitar al contratista que tome las medidas para el respectivo aseguramiento de calidad de los elementos a entregar, elegir un proveedor idóneo para la compra de estos. | I29: 1 | J29: 2 | K29: =+I29+J29 -> 3 | L29: =IF(K29<=4,"BAJO",IF(K29=5,"MEDIO",IF(K29=6,"ALTO",IF(K29=7,"ALTO","EXTREMO")))) -> BAJO | M29: SI | N29: CONTRATISTA / FDLCH | O29: Desde la formalización del contrato. | P29: Fecha de liquidación del contrato. | Q29: Una adecuada supervisión del contrato | R29: Durante la planeación. Durante la ejecución. Permanente.
B30: EJECUCIÓN | C30: =+EVALUACION!C31 -> Incumplimiento en la entrega de insumos, bienes y servicios que no se encuentran en los documentos del proceso | G30: El contratista debe proveer las demoras que puedan ocurrir por temas de importación y así establecer el cronograma. | H30: El contratista debe preveer las demoras que puedan ocurrir por temas de importación y así establecer el cronograma. | I30: 2 | J30: 3 | K30: =+I30+J30 -> 5 | L30: =IF(K30<=4,"BAJO",IF(K30=5,"MEDIO",IF(K30=6,"ALTO",IF(K30=7,"ALTO","EXTREMO")))) -> MEDIO | M30: SI | N30: CONTRATISTA | O30: Desde el periodo de ejecución | P30: Fecha de liquidación del contrato. | Q30: Una supervisión adecuada de los cronogramas establecidos por el contratista. | R30: MENSUAL
B31: EJECUCIÓN | C31: =+EVALUACION!C32 -> Contingencias con el equipo de trabajo del contratista en cuanto a incumplimientos, calidad y disponibilidad. | G31: El contratista deberá buscar otro personal. También se debe adquirir y hacer efectiva la garantía de cumplimiento del contrato | H31: El contratista deberá buscar otro personal. También se debe adquirir y hacer efectiva la garantía de cumplimiento del contrato | I31: 2 | J31: 2 | K31: =+I31+J31 -> 4 | L31: =IF(K31<=4,"BAJO",IF(K31=5,"MEDIO",IF(K31=6,"ALTO",IF(K31=7,"ALTO","EXTREMO")))) -> BAJO | M31: SI | N31: CONTRATISTA | O31: Durante la etapa precontractual y ejecución del contrato. | P31: Fecha en que finaliza el contrato. | Q31: Una adecuada supervisión del contrato | R31: Permanente durante la ejecución del contrato
B32: EJECUCIÓN | C32: =+EVALUACION!C33 -> Pérdida de elementos por robo a alguno de los proveedores de los elementos, antes o durante la entrega de los mismos a los beneficiarios. | G32: Exigir al contratista la suscripción de unan póliza que tenga la cobertura denominada Responsabilidad Civil a favor de terceros. | H32: Exigir al contratista la suscripción de unan póliza que tenga la cobertura denominada Reponsabilidad Civil a favor de terceros. | I32: 2 | J32: 3 | K32: =+I32+J32 -> 5 | L32: =IF(K32<=4,"BAJO",IF(K32=5,"MEDIO",IF(K32=6,"ALTO",IF(K32=7,"ALTO","EXTREMO")))) -> MEDIO | M32: SI | N32: CONTRATISTA | O32: Durante la etapa precontractual y ejecución del contrato. | P32: Fecha en que finaliza el contrato. | Q32: Verificando las pólizas correspondientes con los proveedores y contratista. | R32: Permanente durante la ejecución del contrato
B33: =+EVALUACION!B37 -> EJECUCIÓN | C33: =+EVALUACION!C34 -> Vandalismo y robo de elementos entregados a los beneficiarios del proyecto | G33: Exigir al contratista la suscripción de unan póliza que tenga la cobertura denominada Responsabilidad Civil a favor de terceros. | H33: Exigir al contratista la suscripción de unan póliza que tenga la cobertura denominada Reponsabilidad Civil a favor de terceros. | I33: 2 | J33: =+EVALUACION!J37 -> 3 | K33: =+I33+J33 -> 5 | L33: =IF(K33<=4,"BAJO",IF(K33=5,"MEDIO",IF(K33=6,"ALTO",IF(K33=7,"ALTO","EXTREMO")))) -> MEDIO | M33: NO | N33: CONTRATISTA | O33: Desde el periodo de ejecución | P33: Fecha en la que se finaliza la afectación. | Q33: Una supervisión adecuada del presupuesto y verificación del método para la aprobación de insumos que se pretendan adquirir por las bolsas de monto agotable | R33: Permanente durante la ejecución del contrato
B34: =+EVALUACION!B35 -> EJECUCIÓN | C34: =+EVALUACION!C35 -> Variación en la disponibilidad o en el costo de los insumos necesarios para prestar los servicios. | G34: Seguimiento al contratista a la Planeación técnica del cronograma de actividades. | I34: 2 | J34: =+EVALUACION!J35 -> 2 | K34: =+I34+J34 -> 4 | L34: =IF(K34<=4,"BAJO",IF(K34=5,"MEDIO",IF(K34=6,"ALTO",IF(K34=7,"ALTO","EXTREMO")))) -> BAJO | M34: NO | N34: CONTRATISTA | O34: Desde el periodo de ejecución | P34: Fecha en la que se finaliza la afectación. | Q34: Una supervisión adecuada del presupuesto y verificación del método para la aprobación de insumos que se pretendan adquirir | R34: Permanente durante la ejecución del contrato
B35: =+EVALUACION!B36 -> EJECUCIÓN | C35: =+EVALUACION!C36 -> Incumplimiento de compromisos adquiridos por el contratista seleccionado con sus subcontratistas, suministradores de bienes y servicios. | G35: Seguimiento a los compromisos adquiridos por el contratista y la ejecución de la Planeación técnica del cronograma de actividades. | I35: 2 | J35: =+EVALUACION!J36 -> 3 | K35: =+I35+J35 -> 5 | L35: =IF(K35<=4,"BAJO",IF(K35=5,"MEDIO",IF(K35=6,"ALTO",IF(K35=7,"ALTO","EXTREMO")))) -> MEDIO | M35: NO | N35: CONTRATISTA | O35: Desde el periodo de ejecución | P35: Fecha en la que se finaliza la afectación. | Q35: Una supervisión adecuada del cumplimiento junto a la verificación del método para la aprobación de insumos que se pretendan adquirir | R35: Permanente durante la ejecución del contrato
B36: =+EVALUACION!B37 -> EJECUCIÓN | C36: =+EVALUACION!C37 -> Agotamiento del presupuesto en aquellos ítems determinados por bolsa por monto agotable | G36: Seguimiento al contratista a la Planeación técnica del presupuesto según las actividades programadas previamente en el cronograma. | I36: 2 | J36: =+EVALUACION!J37 -> 3 | K36: =+I36+J36 -> 5 | L36: =IF(K36<=4,"BAJO",IF(K36=5,"MEDIO",IF(K36=6,"ALTO",IF(K36=7,"ALTO","EXTREMO")))) -> MEDIO | M36: NO | N36: CONTRATISTA | O36: Desde el periodo de ejecución | P36: Fecha en la que se finaliza la afectación. | Q36: Una supervisión adecuada del presupuesto y ejecución de los insumos que se pretendan adquirir | R36: Permanente durante la ejecución del contrato
C38: Categoría del Riesgo | H38: Impacto del Riesgo
B40: Probabilidad | C40: Categoría | F40: Valoración | H40: Categoría | J40: Valoración | N40: Categoría del Riesgo
C41: Raro (puede ocurrir excepcionalmente) | F41: 1 | H41: Insignificante | J41: 1 | N41: Valoración del Riesgo | P41: Categoría
C42: Improbable (puede ocurrir ocasionalmente) | F42: 2 | H42: Menor | J42: 2 | N42: 8, 9 y 10 | P42: Riesgo extremo
C43: Posible (puede ocurrir en cualquier momento futuro) | F43: 3 | H43: Moderado | J43: 3 | N43: 6 y 7 | P43: Riesgo alto
C44: Probable (probablemente va a ocurrir) | F44: 4 | H44: Mayor | J44: 4 | N44: 5 | P44: Riesgo medio
C45: Casi cierto (ocurre en la mayoría de circunstancias) | F45: 5 | H45: Catastrófico | J45: 5 | N45: 2, 3 y 4 | P45: Riesgo bajo
C47: Valoración del Riesgo
C48: Calificación Cualitativa | G48: Obstruye la ejecución del contrato de manera intrascendente. | I48: Dificulta la ejecución del contrato de manera baja, aplicando medidas mínimas se pueden lograr el objeto contractual | L48: Afecta la ejecución del contrato sin alterar el beneficio para las partes | N48: Obstruye la ejecución del contrato sustancialmente pero aun así permite la consecución del objeto contractual | P48: Perturba la ejecución del contrato de manera grave imposibilitando la consecución del objeto contractual.
C49: Calificación Monetaria | G49: Los sobrecostos no representan más del uno por ciento (1%) del valor del contrato. | I49: Los sobrecostos no representan más del cinco por ciento (5%) del valor del contrato. | L49: Genera un impacto sobre el valor del contrato entre el cinco (5%) y el quince por ciento (15%). | N49: Incrementa el valor del contrato entre el quince (15%) y el treinta por ciento (30%). | P49: Impacto sobre el valor del contrato en más del treinta por ciento (30%).
C50: Categoría | F50: Valoración | G50: Insignificante | I50: Menor | L50: Moderado | N50: Mayor | P50: Catastrófico
G51: 1 | I51: 2 | L51: 3 | N51: 4 | P51: 5
...

Sheet ASIGNACION Y TRATAMIENTO
C2: MATRIZ DE RIESGOS DE CONTRATACIÓN | W2: Código: GCO-GCI-F164 Versión: 02 Vigencia: 01 de diciembre de 2022 Caso HOLA: 280117
B6: PRESTAR LOS SERVICIOS PARA FORMAR Y SENSIBILIZAR A LÍDERES SOCIALES, CIUDADANOS Y GRUPOS DE INTERÉS DE LA LOCALIDAD DE CHAPINERO EN CULTURA Y CONVIVENCIA CIUDADANA ORIENTADA A LA PREVENCIÓN DE DELITOS Y CONTRAVENCIONES 2025.
B7: Esta matriz es un documento anexo del Estudio Previo
B10: No | C10: Descripción (Que puede pasar y, cómo puede ocurrir) | D10: Etapa | E10: Clase | F10: Fuente | G10: Consecuencias de la ocurrencia del evento | H10: Probabilidad | I10: Impacto | J10: Calificación total | K10: Prioridad | L10: ¿A quien se le asigna? | M10: % | N10: Tratamiento/Controles a ser implementados | O10: Probabilidad | P10: Impacto | Q10: Calificación total | R10: Prioridad | S10: ¿Afecta el equilibrio económico del contrato? | T10: Persona responsable por implementar el tratamiento | U10: Fecha estimada en que se inicia el tratamiento | V10: Fecha estimada en que se completa el tratamiento | W10: ¿Cómo se realiza el monitoreo | X10: Periodicidad ¿Cuándo?
B11: 1 | C11: =+'EVALUACION CON CONTROLES'!C16:F16 -> Errores en la formulación o los documentos del proceso por equivocación, falta de exactitud o imprecisión de la información | D11: =+'EVALUACION CON CONTROLES'!B16 -> PLANEACIÓN | E11: ='IDENTIFICACION Y ANALISIS'!D30 -> General | F11: =VLOOKUP(C11,'IDENTIFICACION Y ANALISIS'!$B$19:$F$80,4,FALSE) -> Interno | G11: =+EVALUACION!H17 -> incumplimiento del contrato, necesidades de modificación en sus alcances, actividades, presupuesto, etc. | H11: =+EVALUACION!I17 -> 2 | I11: =+EVALUACION!J17 -> 2 | J11: =+EVALUACION!K17 -> 4 | K11: =+EVALUACION!L17 -> BAJO | L11: FDLCH | M11: 100 | N11: =+'EVALUACION CON CONTROLES'!G16 -> Verificación de los documentos del proceso en cada uno de sus componentes por parte de los profesionales y técnicos involucrados y presentación de la documentación ante el sector y ante el comité de contratación | O11: =+'EVALUACION CON CONTROLES'!I16 -> 2 | P11: =+'EVALUACION CON CONTROLES'!J16 -> 2 | Q11: =+'EVALUACION CON CONTROLES'!K16 -> 4 | R11: =+'EVALUACION CON CONTROLES'!L16 -> BAJO | S11: =+'EVALUACION CON CONTROLES'!M16 -> SI | T11: =+'EVALUACION CON CONTROLES'!N16 -> FDLCH | U11: =+'EVALUACION CON CONTROLES'!O16 -> Posterior al proceso de planeación. | V11: =+'EVALUACION CON CONTROLES'!P16 -> Previo al proceso de contratación. | ... X11: =+'EVALUACION CON CONTROLES'!R16 -> Inicio de tapa de contratación
B12: 2 | C12: =+'EVALUACION CON CONTROLES'!C17:F17 -> Apertura de procesos de contratación sin la correspondiente disponibilidad presupuestal impidiendo el cumplimiento de los compromisos adquiridos, generando problemas financieros y legales, asegurando que exista un presupuesto adecuado antes de iniciar cualquier proceso de contratación. | D12: =+'EVALUACION CON CONTROLES'!B17 -> PLANEACIÓN | E12: ='IDENTIFICACION Y ANALISIS'!D31 -> General | F12: =VLOOKUP(C11,'IDENTIFICACION Y ANALISIS'!$B$19:$F$80,4,FALSE) -> Interno | G12: =+EVALUACION!H18 -> a) Pérdida de Tiempo b) Necesidad de iniciar un nuevo proceso contractual c) No se puede satisfacer la necesidad de la entidad | H12: =+EVALUACION!I18 -> 2 | I12: =+EVALUACION!J18 -> 3 | J12: =+EVALUACION!K18 -> 5 | K12: =+EVALUACION!L18 -> MEDIO | L12: FDLCH | M12: 100 | N12: =+'EVALUACION CON CONTROLES'!G17 -> Efectuar revisiones en cada una de la disponibilidad presupuestal impidiendo el cumplimiento de los compromisos adquiridos, generando problemas financieros y legales | O12: =+'EVALUACION CON CONTROLES'!I17 -> 2 | P12: =+'EVALUACION CON CONTROLES'!J17 -> 2 | Q12: =+'EVALUACION CON CONTROLES'!K17 -> 3 | R12: =+'EVALUACION CON CONTROLES'!L17 -> BAJO | S12: =+'EVALUACION CON CONTROLES'!M17 -> SI | T12: =+'EVALUACION CON CONTROLES'!N17 -> FDLCH | U12: =+'EVALUACION CON CONTROLES'!O17 -> Posterior al proceso de planeación. | V12: =+'EVALUACION CON CONTROLES'!P17 -> Previo al proceso de contratación. | ... X12: =+'EVALUACION CON CONTROLES'!R17 -> Inicio de tapa de contratación
B13: 3 | C13: =+'EVALUACION CON CONTROLES'!C18:F18 -> Declaratoria Desierta del Proceso de Contratación, por que los oferentes no cumplen la totalidad de Requisitos Habilitantes o por encontrarse incursos en alguna inhabilidad o incompatibilidad | D13: =+'EVALUACION CON CONTROLES'!B18 -> SELECCIÓN | E13: ='IDENTIFICACION Y ANALISIS'!D40 -> General | F13: =VLOOKUP(C13,'IDENTIFICACION Y ANALISIS'!$B$19:$F$80,4,FALSE) -> Externo | G13: =+EVALUACION!H19 -> a) Pérdida de Tiempo b) Necesidad de iniciar un nuevo proceso contractual c) No se puede satisfacer la necesidad de la entidad | H13: =+EVALUACION!I19 -> 3 | I13: =+EVALUACION!J19 -> 5 | J13: =+EVALUACION!K19 -> 8 | K13: =+EVALUACION!L19 -> EXTREMO | L13: FDLCH | M13: 100 | N13: =+'EVALUACION CON CONTROLES'!G18 -> Revisión exhaustiva del manejo administrativo de cada oferta en cada uno de sus componentes por parte de los profesionales y técnicos involucrados en el proceso de selección. | O13: =+'EVALUACION CON CONTROLES'!I18 -> 2 | P13: =+'EVALUACION CON CONTROLES'!J18 -> 4 | Q13: =+'EVALUACION CON CONTROLES'!K18 -> 6 | R13: =+'EVALUACION CON CONTROLES'!L18 -> ALTO | S13: =+'EVALUACION CON CONTROLES'!M18 -> SI | T13: =+'EVALUACION CON CONTROLES'!N18 -> FDLCH | U13: =+'EVALUACION CON CONTROLES'!O18 -> Dentro del mismo tiempo de la afectación. | V13: =+'EVALUACION CON CONTROLES'!P18 -> Fecha en la que finaliza la etapa precontractual. | ... X13: =+'EVALUACION CON CONTROLES'!R18 -> SEMANAL
B14: 4 | C14: =+'EVALUACION CON CONTROLES'!C19:F19 -> Selección de ofertas con precios artificialmente bajos. | D14: =+'EVALUACION CON CONTROLES'!B19 -> CONTRATACIÓN | E14: ='IDENTIFICACION Y ANALISIS'!D39 -> General | F14: =VLOOKUP(C14,'IDENTIFICACION Y ANALISIS'!$B$19:$F$80,4,FALSE) -> Externo | G14: =+EVALUACION!H20 -> a) No se puede satisfacer la necesidad de la Entidad, b) Se adjudica el proceso a un contratista que ofreció precios artíficamente bajos poniendo en riesgo la ejecución contractual. | H14: =+EVALUACION!I20 -> 2 | I14: =+EVALUACION!J20 -> 4 | J14: =+EVALUACION!K20 -> 6 | K14: =+EVALUACION!L20 -> ALTO | L14: FDLCH / CONTRATISTA | M14: 50 | N14: =+'EVALUACION CON CONTROLES'!G19 -> Elaborar los Estudios de Sector, de acuerdo a la Metodología establecida por Colombia Compra Eficiente y dando cumplimiento a la normatividad vigente, para que una vez hecho se reduzca la probabilidad de recibir ofertas artíficamente bajas. | O14: =+'EVALUACION CON CONTROLES'!I19 -> 1 | P14: =+'EVALUACION CON CONTROLES'!J19 -> 3 | Q14: =+'EVALUACION CON CONTROLES'!K19 -> 4 | R14: =+'EVALUACION CON CONTROLES'!L19 -> BAJO | S14: =+'EVALUACION CON CONTROLES'!M19 -> SI | T14: =+'EVALUACION CON CONTROLES'!N19 -> FDLCH | U14: =+'EVALUACION CON CONTROLES'!O19 -> Dentro del mismo tiempo de la afectación. | V14: =+'EVALUACION CON CONTROLES'!P19 -> Fecha en la que finaliza la etapa precontractual. | ... X14: =+'EVALUACION CON CONTROLES'!R19 -> SEMANAL
B15: 5 | C15: =+'EVALUACION CON CONTROLES'!C20:F20 -> Riesgo de que no se firme el contrato. | D15: =+'EVALUACION CON CONTROLES'!B20 -> CONTRATACIÓN | E15: ='IDENTIFICACION Y ANALISIS'!D42 -> General | F15: =VLOOKUP(C15,'IDENTIFICACION Y ANALISIS'!$B$19:$F$80,4,FALSE) -> Externo | G15: =+EVALUACION!H21 -> Incumplimiento en la atención de la necesidad que da origen al proceso contractual y a la meta a atender. | H15: =+EVALUACION!I21 -> 1 | I15: =+EVALUACION!J21 -> 3 | J15: =+EVALUACION!K21 -> 4 | K15: =+EVALUACION!L21 -> BAJO | L15: FDLCH / CONTRATISTA | M15: 50 | N15: =+'EVALUACION CON CONTROLES'!G20 -> Reestructuración con condiciones equitativas de los documentos precontractuales. | O15: =+'EVALUACION CON CONTROLES'!I20 -> 1 | P15: =+'EVALUACION CON CONTROLES'!J20 -> 2 | Q15: =+'EVALUACION CON CONTROLES'!K20 -> 3 | R15: =+'EVALUACION CON CONTROLES'!L20 -> BAJO | S15: =+'EVALUACION CON CONTROLES'!M20 -> NO | T15: =+'EVALUACION CON CONTROLES'!N20 -> FDLCH | U15: =+'EVALUACION CON CONTROLES'!O20 -> Posterior al proceso de selección. | V15: =+'EVALUACION CON CONTROLES'!P20 -> Previo al proceso de contratación. | ... X15: =+'EVALUACION CON CONTROLES'!R20 -> Previo al acta de inicio
B16: 6 | C16: =+'EVALUACION CON CONTROLES'!C21:F21 -> Falta de constitución o constitución tardía de la garantía única. Aceptación de garantías que no se ajustan a lo contemplado en el contrato | D16: =+'EVALUACION CON CONTROLES'!B21 -> CONTRATACIÓN | E16: ='IDENTIFICACION Y ANALISIS'!D43 -> General | F16: =VLOOKUP(C16,'IDENTIFICACION Y ANALISIS'!$B$19:$F$80,4,FALSE) -> Interno | G16: =+EVALUACION!H22 -> Incumplimiento en la atención de la necesidad que da origen al proceso contractual y a la meta a atender o el detrimento patrimonial del FDLCH. | H16: =+EVALUACION!I22 -> 2 | I16: =+EVALUACION!J22 -> 3 | J16: =+EVALUACION!K22 -> 5 | K16: =+EVALUACION!L22 -> MEDIO | L16: FDLCH / CONTRATISTA | M16: 50 | N16: =+'EVALUACION CON CONTROLES'!G21 -> Verificación de características de garantías de cumplimiento previo a la aceptación. | O16: =+'EVALUACION CON CONTROLES'!I21 -> 1 | P16: =+'EVALUACION CON CONTROLES'!J21 -> 2 | Q16: =+'EVALUACION CON CONTROLES'!K21 -> 3 | R16: =+'EVALUACION CON CONTROLES'!L21 -> BAJO | S16: =+'EVALUACION CON CONTROLES'!M21 -> SI | T16: =+'EVALUACION CON CONTROLES'!N21 -> FDLCH | U16: =+'EVALUACION CON CONTROLES'!O21 -> Posterior al proceso de contratación | V16: =+'EVALUACION CON CONTROLES'!P21 -> Previo al proceso de acta de inicio del contrato | ... X16: =+'EVALUACION CON CONTROLES'!R21 -> Previo al inicio de tapa de contratación
B17: 7 | C17: =+'EVALUACION CON CONTROLES'!C22:F22 -> Falta de solicitud o solicitud tardía del registro presupuestal | D17: =+'EVALUACION CON CONTROLES'!B22 -> CONTRATACIÓN | E17: ='IDENTIFICACION Y ANALISIS'!D44 -> General | F17: =VLOOKUP(C17,'IDENTIFICACION Y ANALISIS'!$B$19:$F$80,4,FALSE) -> Interno | G17: =+EVALUACION!H23 -> Pérdida de tiempo por la necesidad de generar el registro presupuestal, sin que sea atendida la necesidad de la entidad. Cancelación del proceso contractual. | H17: =+EVALUACION!I23 -> 2 | I17: =+EVALUACION!J23 -> 3 | J17: =+EVALUACION!K23 -> 5 | K17: =+EVALUACION!L23 -> MEDIO | L17: FDLCH / CONTRATISTA | M17: 50 | N17: =+'EVALUACION CON CONTROLES'!G22 -> Firma de acta de inicio posterior al aseguramiento de la generación de registro presupuestal. | O17: =+'EVALUACION CON CONTROLES'!I22 -> 1 | P17: =+'EVALUACION CON CONTROLES'!J22 -> 2 | Q17: =+'EVALUACION CON CONTROLES'!K22 -> 3 | R17: =+'EVALUACION CON CONTROLES'!L22 -> BAJO | S17: =+'EVALUACION CON CONTROLES'!M22 -> SI | T17: =+'EVALUACION CON CONTROLES'!N22 -> FDLCH | U17: =+'EVALUACION CON CONTROLES'!O22 -> Previo a la etapa de contratación. | V17: =+'EVALUACION CON CONTROLES'!P22 -> Previo al proceso de firma del contrato | ... X17: =+'EVALUACION CON CONTROLES'!R22 -> Previo al inicio de tapa de contratación
B18: 8 | C18: =+'EVALUACION CON CONTROLES'!C23:F23 -> Adjudicar el contrato a un proponente que pueda suministrar bienes de mala calidad o que preste servicios de forma incorrecta, debido a la presentación de ofertas artificialmente baja. | D18: =+'EVALUACION CON CONTROLES'!B23 -> CONTRATACIÓN | E18: ='IDENTIFICACION Y ANALISIS'!D45 -> General | F18: =VLOOKUP(C17,'IDENTIFICACION Y ANALISIS'!$B$19:$F$80,4,FALSE) -> Interno | G18: =+EVALUACION!H24 -> No se satisface la necesidad a la que atiende el proceso contractual. Se adjudica el proceso a un contratista que pone en riesgo la ejecución contractual. | H18: =+EVALUACION!I24 -> 2 | I18: =+EVALUACION!J24 -> 3 | J18: =+EVALUACION!K24 -> 5 | K18: =+EVALUACION!L24 -> MEDIO | L18: FDLCH / CONTRATISTA | M18: 50 | N18: =+'EVALUACION CON CONTROLES'!G23 -> Elaborar los Estudios de Sector, de acuerdo con la metodología establecida por Colombia Compra Eficiente y dando cumplimiento a la normatividad vigente, para que una vez hecho se reduzca la probabilidad de recibir ofertas artificialmente bajas. | O18: =+'EVALUACION CON CONTROLES'!I23 -> 1 | P18: =+'EVALUACION CON CONTROLES'!J23 -> 2 | Q18: =+'EVALUACION CON CONTROLES'!K23 -> 3 | R18: =+'EVALUACION CON CONTROLES'!L23 -> BAJO | S18: =+'EVALUACION CON CONTROLES'!M23 -> SI | T18: =+'EVALUACION CON CONTROLES'!N23 -> FDLCH | U18: =+'EVALUACION CON CONTROLES'!O23 -> Inicio del contrato | V18: =+'EVALUACION CON CONTROLES'!P23 -> Durante la ejecución del contrato. | ... X18: =+'EVALUACION CON CONTROLES'!R23 -> MENSUAL
B19: 9 | C19: =+'EVALUACION CON CONTROLES'!C24:F24 -> Presentación de reclamos de terceros sobre la selección del oferente que retrasen el perfeccionamiento del contrato. | D19: =+'EVALUACION CON CONTROLES'!B24 -> EJECUCIÓN | E19: ='IDENTIFICACION Y ANALISIS'!D46 -> General | F19: =VLOOKUP(C19,'IDENTIFICACION Y ANALISIS'!$B$19:$F$80,4,FALSE) -> Externo | G19: =+EVALUACION!H25 -> Demora en la ejecución contractual. Riesgo de suspensión de proceso contractual. | H19: =+EVALUACION!I25 -> 2 | I19: =+EVALUACION!J25 -> 3 | J19: =+EVALUACION!K25 -> 5 | K19: =+EVALUACION!L25 -> MEDIO | L19: CONTRATISTA | M19: 100 | N19: =+'EVALUACION CON CONTROLES'!G24 -> Revisión de reclamos con base en las condiciones precontractuales y la normatividad vigente. | O19: =+'EVALUACION CON CONTROLES'!I24 -> 1 | P19: =+'EVALUACION CON CONTROLES'!J24 -> 2 | Q19: =+'EVALUACION CON CONTROLES'!K24 -> 3 | R19: =+'EVALUACION CON CONTROLES'!L24 -> BAJO | S19: =+'EVALUACION CON CONTROLES'!M24 -> NO | T19: =+'EVALUACION CON CONTROLES'!N24 -> FDLCH | U19: =+'EVALUACION CON CONTROLES'!O24 -> Etapa de contratación. | V19: =+'EVALUACION CON CONTROLES'!P24 -> Previo al proceso de firma del contrato | ... X19: =+'EVALUACION CON CONTROLES'!R24 -> Etapa precontractual
B20: 10 | C20: =+'EVALUACION CON CONTROLES'!C25:F25 -> El equipo humano seleccionado no cumple con las capacidades requeridas para el cumplimiento del contrato | D20: =+'EVALUACION CON CONTROLES'!B25 -> EJECUCIÓN | E20: ='IDENTIFICACION Y ANALISIS'!D48 -> General | F20: =VLOOKUP(C20,'IDENTIFICACION Y ANALISIS'!$B$19:$F$80,4,FALSE) -> Interno | G20: =+EVALUACION!H26 -> El equipo contratado por el operador no cuenta con las capacidades para cumplir con las labores asignadas en tiempos y calidad | H20: =+EVALUACION!I26 -> 3 | I20: =+EVALUACION!J26 -> 2 | J20: =+EVALUACION!K26 -> 5 | K20: =+EVALUACION!L26 -> MEDIO | L20: CONTRATISTA | M20: 100 | N20: =+'EVALUACION CON CONTROLES'!G25 -> Establecer requisito técnico de experiencia y cualificación certificada para equipo humano. Perfiles requeridos para el desarrollo de las actividades | O20: =+'EVALUACION CON CONTROLES'!I25 -> 2 | P20: =+'EVALUACION CON CONTROLES'!J25 -> 2 | Q20: =+'EVALUACION CON CONTROLES'!K25 -> 4 | R20: =+'EVALUACION CON CONTROLES'!L25 -> BAJO | S20: =+'EVALUACION CON CONTROLES'!M25 -> SI | T20: =+'EVALUACION CON CONTROLES'!N25 -> CONTRATISTA | U20: =+'EVALUACION CON CONTROLES'!O25 -> 2025 | V20: =+'EVALUACION CON CONTROLES'!P25 -> Fecha en que finaliza el contrato. | ... X20: =+'EVALUACION CON CONTROLES'!R25 -> durante toda la ejecución
B21: 11 | C21: =+'EVALUACION CON CONTROLES'!C26:F26 -> Incremento de los precios, debido a la fluctuación del dólar (TRM) o IPC o precios del mercado | D21: =+'EVALUACION CON CONTROLES'!B26 -> EJECUCIÓN | E21: ='IDENTIFICACION Y ANALISIS'!D49 -> General | F21: =VLOOKUP(C23,'IDENTIFICACION Y ANALISIS'!$B$19:$F$80,4,FALSE) -> Externo | G21: =+EVALUACION!H27 -> Afectación del presupuesto y demoras en la selección del proveedor y demoras en las entregas. | H21: =+EVALUACION!I27 -> 3 | I21: =+EVALUACION!J27 -> 2 | J21: =+EVALUACION!K27 -> 5 | K21: =+EVALUACION!L27 -> MEDIO | L21: CONTRATISTA | M21: 100 | N21: =+'EVALUACION CON CONTROLES'!G26 -> A partir del estudio de mercado realizado y las cotizaciones que lo soportan, verificar los precios entregados con los proveedores en el momento del estudio, para así solicitar que mantengan los precios ofertados. | O21: =+'EVALUACION CON CONTROLES'!I26 -> 1 | P21: =+'EVALUACION CON CONTROLES'!J26 -> 2 | Q21: =+'EVALUACION CON CONTROLES'!K26 -> 3 | R21: =+'EVALUACION CON CONTROLES'!L26 -> BAJO | S21: =+'EVALUACION CON CONTROLES'!M26 -> SI | T21: =+'EVALUACION CON CONTROLES'!N26 -> CONTRATISTA | U21: =+'EVALUACION CON CONTROLES'!O26 -> 2025 | V21: =+'EVALUACION CON CONTROLES'!P26 -> Fecha en que finaliza el contrato. | ... X21: =+'EVALUACION CON CONTROLES'!R26 -> Mensual
