Workbook
Name \0: #REF!
Name \00: #REF!
Name \a: #REF!
Name \a: #REF!
Name \a: #REF!
Name \a: #REF!
Name \a: #REF!
Name \a: #REF!
Name \a: #REF!
Name \a: #REF!
Name \a: #REF!
Name \a: #REF!
Name \a: #REF!
Name \a: #REF!
Name \a: #REF!
Name \a: #REF!
Name \a: #REF!
Name \a: #REF!
Name \a: #REF!
Name \a: #REF!
Name \a: #REF!
Name \a: #REF!
Name \a: #REF!
Name \AA: [1]LIQUIDACION!#REF!
Name \b: #REF!
Name \b: #REF!
Name \b: #REF!
Name \b: #REF!
Name \b: [2]STRSUMM0!#REF!
Name \bb: [2]STRSUMM0!#REF!
Name \E: #REF!
Name \EE: #REF!
Name \eliminar: [3]RESUM96!#REF!
Name \eliminar: [3]RESUM96!#REF!
Name \eliminar: [3]RESUM96!#REF!
Name \eliminar1: [3]RESUM96!#REF!
Name \eliminar1: [3]RESUM96!#REF!
Name \eliminar1: [3]RESUM96!#REF!
Name \G: #REF!
Name \i: [4]INSUMOS!#REF!
Name \i: [4]INSUMOS!#REF!
Name \i: [4]INSUMOS!#REF!
Name \k: '[5]7422CW00'!#REF!
Name \l: [6]STRSUMM0!#REF!
Name \m: [4]INSUMOS!#REF!
Name \m: [4]INSUMOS!#REF!
Name \m: [4]INSUMOS!#REF!
Name \m: [4]INSUMOS!#REF!
Name \M: #REF!
Name \ñ: '[7]7422CW00'!#REF!
Name \P: #REF!
Name \q: #REF!
Name \q: #REF!
Name \q: #REF!
Name \r: [4]INSUMOS!#REF!
Name \r: [4]INSUMOS!#REF!
Name \r: [4]INSUMOS!#REF!
Name \r: [4]INSUMOS!#REF!
Name \R: #REF!
Name \s: #REF!

Sheet PRESUPUESTO
C3: Formulario 1 - Propuesta económica - Documento tipo de licitación de obra pública de agua potable y saneamiento básico
C4: Código | D4: CCE-EICP-FM-47 | E4: Versión | F4: 1
C5: FORMULARIO 1
C6: PRESUPUESTO OFICIAL OPTIMIZACIÓN DE UN TRAMO DEL COLECTOR DE LA RED DE ALCANTARILLADO SANITARIO UBICADO ENTRE EL BARRIO LA SALLE Y LA PARTE ALTA DE LA VEREDA GUASIMO SECTOR EL TABLÓN DEL MUNICIPIO DE MÁLAGA, SANTANDER
C7: [La entidad puede utilizar este formulario de detalle del presupuesto oficial para determinar las condiciones bajo las cuales los proponentes analizarán y presentarán su propuesta económica de forma detallada, sin perjuicio que la entidad pueda modificarlo o establecer la presentación de la oferta económica con un formulario distinto al indicado.]
C9: Adicionalmente, cuando el proceso de contratación es estructurado por precios unitarios, la Entidad debe aplicar las notas 1, 2 y 3 del presente formulario y las casillas de "Descripción", "Porcentaje" de la Administración, Imprevisto, Utilidad y total A.I.U. resaltadas en color amarillo. Tratándose de otras modalidades de precio, la Entidad puede o no configurar los mismos aspectos.
C11: Nº | D11: ÍTEM DE PAGO | E11: ESPECIFICACIONES | G11: DESCRIPCIÓN | H11: UND. | I11: CANTIDAD | J11: VALOR UNITARIO | K11: VALOR TOTAL
E12: GENERAL | F12: PARTICULAR
D13: 1 | G13: PRELIMINARES
D14: 1.1 | G14: LOCALIZACIÓN Y REPLANTEO (RED DE TUBERÍA ALCANTARILLADO SANITARIO, PLUVIAL Y ACUEDUCTO). | H14: m2 | I14: =+'memoria de cantidades'!O21 -> 630.83 | J14: =+'1.1'!O69 -> 6057 | K14: =ROUND(J14*I14,0) -> 3820937
D15: 1.2 | G15: CERRAMIENTO PERIMETRAL EN TELA VERDE ALTURA 2 METROS (INCLUYE PARALES EN MADERA) | H15: ml | I15: =+'memoria de cantidades'!O40 -> 250 | J15: =+'1.2'!O70 -> 22785 | K15: =ROUND(J15*I15,0) -> 5696250
C16: Subtotal | K16: =ROUND(SUM(K14:K15),0) -> 9517187
D17: 2 | G17: RED PRINCIPAL - ALCANTARILLADO SANITARIO
D18: 2.1 | G18: EXCAVACIÓN MECÁNICA VARIAS SIN CLASIFICAR (INCLUYE TRASIEGO INTERNO E ENTIBADOS) | H18: m3 | I18: =+'memoria de cantidades'!O110 -> 949.93 | J18: =+'2.1'!O70 -> 30669 | K18: =ROUND(J18*I18,0) -> 29133403
D19: 2.2 | G19: EXCAVACIÓN MECÁNICA EN ROCA | H19: m3 | I19: =+'memoria de cantidades'!O153 -> 212.88 | J19: =+'2.2'!O70 -> 102253 | K19: =ROUND(J19*I19,0) -> 21767619
D20: 2.3 | G20: SUMINISTRO E INSTALACIÓN DE TUBERÍA PVC SANITARIA CORRUGADA Ø 14PULG-350mm X6m PARA CÁMARAS DE CAÍDA | H20: ml | I20: =+'memoria de cantidades'!O195 -> 24 | J20: =+'2.3'!O70 -> 224481 | K20: =ROUND(J20*I20,0) -> 5387544
D21: 2.4 | G21: SUMINISTRO E INSTALACIÓN DE TUBERÍA PVC SANITARIA CORRUGADA Ø 24PULG-600mm X6m | H21: ml | I21: =+'memoria de cantidades'!O255 -> 465.75 | J21: =+'2.4'!O70 -> 589276 | K21: =ROUND(J21*I21,0) -> 274455297
D22: 2.5 | G22: CONSTRUCCIÓN DE POZOS ALCANTARILLADO SEGÚN PLANOS Y ESPECIFICACIONES. CON ALTURA 1<H<2 M, MUROS EN LADRILLO TOLETE COMÚN CON PAÑETE 1:3, PLACA DE FONDO Y CORONA DE 20 CM DE ESPESOR REFORZADA EN ACERO N°4, CAÑUELA EN CONCRETO, INCLUYE ESCALONES EN BARRAS N°8 DE ACERO CORRUGADO PINTADAS CON ANTICORROSIVO. (DIÁMETRO INTERNO 1.5 M) | H22: und | I22: =+'memoria de cantidades'!N341 -> 7 | J22: =+'2.5'!O71 -> 4555894 | K22: =ROUND(J22*I22,0) -> 31891258
D23: 2.6 | G23: CONSTRUCCIÓN DE POZOS ALCANTARILLADO SEGÚN PLANOS Y ESPECIFICACIONES. CON ALTURA 2<H<3 M, MUROS EN LADRILLO TOLETE COMÚN CON PAÑETE 1:3, PLACA DE FONDO Y CORONA DE 20 CM DE ESPESOR REFORZADA EN ACERO N°4, CAÑUELA EN CONCRETO, INCLUYE ESCALONES EN BARRAS N°8 DE ACERO CORRUGADO PINTADAS CON ANTICORROSIVO. (DIÁMETRO INTERNO 1.50 METROS) | H23: und | I23: =+'memoria de cantidades'!N342 -> 7 | J23: =+'2.6'!O71 -> 5208550 | K23: =ROUND(J23*I23,0) -> 36459850
D24: 2.7 | G24: SUMINISTRO, INSTALACIÓN Y COMPACTACIÓN DE RELLENO EN RECEBO TAMAÑO MÁXIMO 1" PARA ATRAQUES DE TUBERÍA | H24: m3 | I24: =+'memoria de cantidades'!O413 -> 147.01 | J24: =+'2.7'!O71 -> 145525 | K24: =ROUND(J24*I24,0) -> 21393630
D25: 2.8 | G25: INSTALACIÓN Y COMPACTACIÓN DE RELLENO CON MATERIAL PROVENIENTE DE LA EXCAVACIÓN | H25: m3 | I25: =+'memoria de cantidades'!O457 -> 880.40236 | J25: =+'2.8'!O71 -> 27267 | K25: =ROUND(J25*I25,0) -> 24005931
D26: 2.9 | G26: SUMINISTRO, INSTALACIÓN Y COMPACTACIÓN DE BASE EN ARENA PARA TUBERÍA E:8CM | H26: m3 | I26: =+'memoria de cantidades'!O499 -> 33.53 | J26: =+'2.9'!O71 -> 128667 | K26: =ROUND(J26*I26,0) -> 4314205
D27: 2.10 | G27: SUMINISTRO E INSTALACIÓN DE MARCOS DE AROS Y TAPAS EN HIERRO FUNDIDO Y NÚCLEO EN CONCRETO PARA POZOS DE INSPECCIÓN. DIÁMETRO 67 CM | H27: und | I27: =+I22+I23 -> 14 | J27: =+'2.10'!O71 -> 753270 | K27: =ROUND(J27*I27,0) -> 10545780
D28: 2.11 | G28: CONSTRUCCIÓN DE ATRAQUES EN CONCRETO 2000 PSI PARA TUBERÍA | H28: m3 | I28: =+'memoria de cantidades'!O520 -> 3.46 | J28: =+'2.11'!O71 -> 678039 | K28: =ROUND(J28*I28,0) -> 2346015
C29: Subtotal | K29: =ROUND(SUM(K18:K28),0) -> 461700532
D30: 3 | G30: DOMICILIARIAS - ALCANTARILLADO SANITARIO
D31: 3.1 | G31: EXCAVACIÓN MANUAL EN MATERIAL COMÚN PARA INSTALACIÓN DE TUBERÍA DOMICILIARIAS | H31: m3 | I31: =+'memoria de cantidades'!O542 -> 50.4 | J31: =+'3.1'!O70 -> 59106 | K31: =ROUND(J31*I31,0) -> 2978942
D32: 3.2 | G32: SUMINISTRO E INSTALACIÓN DE TUBERÍA PVC CORRUGADA SANITARIA Ø 6 PULG-160mm X 6 m | H32: ml | I32: =+'memoria de cantidades'!O562 -> 84 | J32: =+'3.2'!O70 -> 70097 | K32: =ROUND(J32*I32,0) -> 5888148
D33: 3.3 | G33: CONSTRUCCIÓN DE CAJAS DOMICILIARIAS 80X80X80 CM INCLUYE TAPA EN CONCRETO | H33: und | I33: =+'memoria de cantidades'!O613 -> 7 | J33: =+'3.3'!O71 -> 437473 | K33: =ROUND(J33*I33,0) -> 3062311
D34: 3.4 | G34: SUMINISTRO, INSTALACIÓN Y COMPACTACIÓN DE RELLENO EN RECEBO TAMAÑO MÁXIMO 1". | H34: m3 | I34: =+'memoria de cantidades'!O630 -> 50.4 | J34: =+'3.4'!O71 -> 145525 | K34: =ROUND(J34*I34,0) -> 7334460
C35: Subtotal | K35: =ROUND(SUM(K31:K34),0) -> 19263861
C36: SUBTOTAL OBRAS | K36: =ROUND(K35+K29+K16,0) -> 490481580
G38: SUBTOTAL OBRAS (INCLUYE IVA) N/A | K38: 0
G39: VALOR TOTAL | K39: =+K36 -> 490481580
C42: NOTA 1: Se debe tener en cuenta que el PRECIO UNITARIO incluye el valor de A.I.U. | H42: DESCRIPCION | K42: PORCENTAJE
C43: NOTA 2: Cuando la fracción decimal del peso sea igual o superior a 5 se aproximará por exceso al número entero siguiente del peso y cuando la fracción decimal del peso sea inferior a 5 se aproximará por defecto al número entero del peso. | H43: ADMINISTRACIÓN | J43: A= | K43: 0.29
C44: NOTA 3: El A.I.U y su discriminación deben estar en porcentaje (%). | H44: IMPREVISTO | J44: I= | K44: 0.01
H45: UTILIDAD | J45: U= | K45: 0.05
H46: TOTAL A.I.U | J46: A.I.U.= | K46: =SUM(K43:K45) -> 0.35

Sheet memoria de cantidades
A1: MEMORIA DE CANTIDADES
A4: Item | C4: =+'[211]PRESUPUESTO OBRA'!D11 -> PRELIMINARES
A6: Item | C6: =+'[211]PRESUPUESTO H-4 METROS'!C12 -> 1.1
A8: Descripción | C8: =+'[211]PRESUPUESTO H-4 METROS'!D12 -> LOCALIZACIÓN Y REPLANTEO
A10: Unidad | C10: =+'[211]PRESUPUESTO H-4 METROS'!E12 -> m2
A12: N° | B12: Descripción | J12: Largo (m) | K12: Altura (m) | L12: Ancho (m) | M12: área (m2) | N12: Cantidad Estructuras | O12: Total (M2)
A14: 1 | J14: =+O255+1.5*'[212]PRESUPUESTO OBRA'!F26 -> 485.25 | L14: 1.3 | M14: =+L14*J14 -> 630.825 | N14: 1 | O14: =+N14*M14 -> 630.825
M21: Total | O21: =ROUND((SUM(O14:O20)),2) -> 630.83
A24: MEMORIA DE CANTIDADES
A27: Item | C27: =+'[212]PRESUPUESTO OBRA'!C13 -> 1.2
A29: Descripción | C29: =+'[212]PRESUPUESTO OBRA'!D13 -> CERRAMIENTO PERIMETRAL EN TELA VERDE ALTURA 2 METROS (INCLUYE PARALES EN MADERA)
A31: Unidad | C31: =+'[212]PRESUPUESTO OBRA'!E13 -> ML
A34: N° | B34: Descripción | J34: Largo (m) | K34: Altura (m) | L34: Ancho (m) | M34: área (m2) | N34: Cantidad Estructuras | O34: Total (ML)
A36: 1 | B36: =+C29 -> CERRAMIENTO PERIMETRAL EN TELA VERDE ALTURA 2 METROS (INCLUYE PARALES EN MADERA) | J36: 125 | L36: 1 | M36: =+L36*J36 -> 125 | N36: 2 | O36: =+N36*M36 -> 250
M40: Total | O40: =ROUND((SUM(O36:O39)),2) -> 250
A45: CANTIDADES DE OBRA ALCANTARILLADO SANITARIO
A46: MEMORIA DE CANTIDADES
A49: Item | C49: =+'[212]PRESUPUESTO OBRA'!C16 -> 2.1
A51: Descripción | C51: =+'[212]PRESUPUESTO OBRA'!D16 -> EXCAVACIÓN MECÁNICA VARIAS SIN CLASIFICAR (INCLUYE TRASIEGO INTERNO E ENTIBADOS)
A53: Unidad | C53: M3
S56: lng | T56: h
R57: Pz1-Pz2 | S57: 53 | T57: =+(1.76+1.46+2.08)/3 -> 1.7666667
R58: Pz2-Pz3 | S58: 52.44 | T58: =+(1.93+2.73+2.02)/3 -> 2.2266667
R59: Pz3-Pz4 | S59: 26.15 | T59: =+(1.93+2.73+2.02)/3 -> 2.2266667
R60: Pz4-Pz5 | S60: 14.68 | T60: =+(1.86+1.74+2.14)/3 -> 1.9133333
R61: Pz5-Pz6 | S61: 12.86 | T61: =+(1.72+1.39+1.11)/3 -> 1.4066667
R62: Pz6-Pz7 | S62: 15.54 | T62: =+(2.29+1.95+1.52)/3 -> 1.92
R63: Pz7-Pz8 | S63: 18.61 | T63: =+(1.65+1.2+2.07)/3 -> 1.64
R64: Pz8-Pz9 | S64: 28.12 | T64: =+(1.82+3.66+1.54)/3 -> 2.34
R65: Pz9-Pz10 | S65: 22.75 | T65: =+(1.56+1.56+1.71)/3 -> 1.61
R66: Pz10-Pz11 | S66: 51.65 | T66: =+(2.33+1.75+2.05)/3 -> 2.0433333
R67: Pz11-Pz12 | S67: 33.15 | T67: =+(2.12+3.62+1.54)/3 -> 2.4266667
R68: Pz12-Pz13 | S68: 31.57 | T68: =+(1.81+1.92+2.11)/3 -> 1.9466667
R69: Pz13-Pz14 | S69: 57.99 | T69: =+(1.76+1.27+0.66+2.03+2.56)/5 -> 1.656
R70: Pz14-Pz15 | S70: 26.68 | T70: =+(2.42+1.58+1.68)/3 -> 1.8933333
R71: Pz15-Pz16 | S71: 19.52 | T71: =+(2.37+4.56+1.67)/3 -> 2.8666667
R72: Pz16-Pz17 | S72: 18.09 | T72: =+(2.26+1.08+1.47)/3 -> 1.6033333
R73: Pz17-Pz18 | S73: 17.51 | T73: =+(2.02+1.59+1.38)/3 -> 1.6633333
R74: Pz18-Pz19 | S74: 18.26 | T74: =+(2.57+2.63+1.42)/3 -> 2.2066667
R75: Pz19-Pz20 | S75: 24.24 | T75: =+(1.81+1.8+1.57)/3 -> 1.7266667
...

Sheet PROPUESTA ECONOMICA (Proponente
C3: Formulario 1 - Propuesta económica - Documento tipo de licitación de obra pública de agua potable y saneamiento básico
C4: Código | D4: CCE-EICP-FM-47 | E4: Versión | F4: 1
C5: FORMULARIO 1
C6: PROPUESTA ECONÓMICA
C7: [La entidad puede utilizar este formulario de presentación de propuesta económica de forma detallada, sin perjuicio que la entidad pueda modificarlo o establecer la presentación de la oferta económica con un formulario distinto al indicado.] [Los proponentes emplearán el formulario establecido por la entidad para determinar su propuesta económica conforme al Formulario 1 - Presupuesto Oficial publicado por la Entidad]
C9: Cuando el proceso de contratación es estructurado por precios unitarios, la Entidad debe aplicar las notas 1, 2 y 3 del presente formato y las casillas de "Descripción", "Porcentaje" de la Administración, Imprevisto, Utilidad y total A.I.U. resaltadas en color amarillo.
C11: Nº | D11: ÍTEM DE PAGO | E11: ESPECIFICACIONES | G11: DESCRIPCIÓN | H11: UND. | I11: CANTIDAD | J11: VALOR UNITARIO | K11: VALOR TOTAL
E12: GENERAL | F12: PARTICULAR
C15: Subtotal
C21: Subtotal
C31: Subtotal
C36: Subtotal
C39: Subtotal
C40: SUBTOTAL OBRAS
G45: SUBTOTAL OBRAS (INCLUYE IVA)
G49: VALOR TOTAL
C52: NOTA 1: Se debe tener en cuenta que el PRECIO UNITARIO incluye el valor de A.I.U. | H52: DESCRIPCIÓN | K52: PORCENTAJE
C53: NOTA 2: Cuando la fracción decimal del peso sea igual o superior a 5 se aproximara por exceso al número entero siguiente del peso y cuando la fracción decimal del peso sea inferior a 5 se aproximará por defecto al número entero del peso. | H53: ADMINISTRACIÓN | J53: A= | K53: [Ofrecimiento del Proponente]
C54: NOTA 3: El A.I.U y su discriminación deben estar en porcentaje (%). | H54: IMPREVISTO | J54: I= | K54: [Ofrecimiento del Proponente]
H55: UTILIDAD | J55: U= | K55: [Ofrecimiento del Proponente]
H56: TOTAL A.I.U | J56: A.I.U.= | K56: [Ofrecimiento del Proponente]
G59: Firma del Proponente o de su Representante Legal

Sheet FLUJO DE FONDOS
D1: ALCALDÍA DEL MUNICIPIO DE MÁLAGA
D2: OFICINA ASESORA DE PLANEACIÓN Y ORDENAMIENTO TERRITORIAL
D3: MÁLAGA - SANTANDER
B5: =+PRESUPUESTO!C6 -> PRESUPUESTO OFICIAL OPTIMIZACIÓN DE UN TRAMO DEL COLECTOR DE LA RED DE ALCANTARILLADO SANITARIO UBICADO ENTRE EL BARRIO LA SALLE Y LA PARTE ALTA DE LA VEREDA GUASIMO SECTOR EL TABLÓN DEL MUNICIPIO DE MÁLAGA, SANTANDER | E5: FLUJO DE FONDOS
E8: FECHA: | G8: 45924
B10: ITEM | C10: ESP. TECNICA | D10: DESCRIPCIÓN | E10: UN | F10: CANTIDAD | G10: VALOR UNITARIO | H10: VALOR TOTAL | J10: MES 1 | N10: MES 2
J12: SEMANAS | N12: SEMANAS
J13: 1 | K13: 2 | L13: 3 | M13: =+L13+1 -> 4 | N13: 5 | O13: 6
B14: ETAPA PRECONTRACTUAL
B15: 1 | C15: PRELIMINARES
B16: ='[213]PRESUPUESTO OFICIAL'!C17 -> 1.1 | D16: =+PRESUPUESTO!G14 -> LOCALIZACIÓN Y REPLANTEO (RED DE TUBERÍA ALCANTARILLADO SANITARIO, PLUVIAL Y ACUEDUCTO). | E16: =+PRESUPUESTO!H14 -> m2 | F16: =+PRESUPUESTO!I14 -> 630.83 | G16: =+PRESUPUESTO!J14 -> 6057 | H16: =ROUND(G16*F16,0) -> 3820937 | J16: =$H$16/5 -> 764187.4 | K16: =$H$16/5 -> 764187.4 | L16: =$H$16/5 -> 764187.4 | M16: =$H$16/5 -> 764187.4 | N16: =$H$16/5 -> 764187.4
B17: 1.2 | D17: =+PRESUPUESTO!G15 -> CERRAMIENTO PERIMETRAL EN TELA VERDE ALTURA 2 METROS (INCLUYE PARALES EN MADERA) | E17: =+PRESUPUESTO!H15 -> ml | F17: =+PRESUPUESTO!I15 -> 250 | G17: =+PRESUPUESTO!J15 -> 22785 | H17: =ROUND(G17*F17,0) -> 5696250 | J17: =+$H$17/6 -> 949375 | K17: =+$H$17/6 -> 949375 | L17: =+$H$17/6 -> 949375 | M17: =+$H$17/6 -> 949375 | N17: =+$H$17/6 -> 949375 | O17: =+$H$17/6 -> 949375
B18: 2 | C18: =+PRESUPUESTO!G17 -> RED PRINCIPAL - ALCANTARILLADO SANITARIO
B19: =+PRESUPUESTO!D18 -> 2.1 | D19: =+PRESUPUESTO!G18 -> EXCAVACIÓN MECÁNICA VARIAS SIN CLASIFICAR (INCLUYE TRASIEGO INTERNO E ENTIBADOS) | E19: =+PRESUPUESTO!H18 -> m3 | F19: =+PRESUPUESTO!I18 -> 949.93 | G19: =+PRESUPUESTO!J18 -> 30669 | H19: =ROUND(G19*F19,0) -> 29133403 | J19: =+$H$19/6 -> 4855567.2 | K19: =+$H$19/6 -> 4855567.2 | L19: =+$H$19/6 -> 4855567.2 | M19: =+$H$19/6 -> 4855567.2 | N19: =+$H$19/6 -> 4855567.2 | O19: =+$H$19/6 -> 4855567.2
B20: =+PRESUPUESTO!D19 -> 2.2 | D20: =+PRESUPUESTO!G19 -> EXCAVACIÓN MECÁNICA EN ROCA | E20: =+PRESUPUESTO!H19 -> m3 | F20: =+PRESUPUESTO!I19 -> 212.88 | G20: =+PRESUPUESTO!J19 -> 102253 | H20: =ROUND(G20*F20,0) -> 21767619 | K20: =+$H$20/3 -> 7255873 | L20: =+$H$20/3 -> 7255873 | M20: =+$H$20/3 -> 7255873
B21: =+PRESUPUESTO!D20 -> 2.3 | D21: =+PRESUPUESTO!G20 -> SUMINISTRO E INSTALACIÓN DE TUBERÍA PVC SANITARIA CORRUGADA Ø 14PULG-350mm X6m PARA CÁMARAS DE CAÍDA | E21: =+PRESUPUESTO!H20 -> ml | F21: =+PRESUPUESTO!I20 -> 24 | G21: =+PRESUPUESTO!J20 -> 224481 | H21: =ROUND(G21*F21,0) -> 5387544 | K21: =+$H$21/3 -> 1795848 | L21: =+$H$21/3 -> 1795848 | M21: =+$H$21/3 -> 1795848
B22: =+PRESUPUESTO!D21 -> 2.4 | D22: =+PRESUPUESTO!G21 -> SUMINISTRO E INSTALACIÓN DE TUBERÍA PVC SANITARIA CORRUGADA Ø 24PULG-600mm X6m | E22: =+PRESUPUESTO!H21 -> ml | F22: =+PRESUPUESTO!I21 -> 465.75 | G22: =+PRESUPUESTO!J21 -> 589276 | H22: =ROUND(G22*F22,0) -> 274455297 | J22: =$H$22/6 -> 45742550 | K22: =$H$22/6 -> 45742550 | L22: =$H$22/6 -> 45742550 | M22: =$H$22/6 -> 45742550 | N22: =$H$22/6 -> 45742550 | O22: =$H$22/6 -> 45742550
B23: =+PRESUPUESTO!D22 -> 2.5 | D23: =+PRESUPUESTO!G22 -> CONSTRUCCIÓN DE POZOS ALCANTARILLADO SEGÚN PLANOS Y ESPECIFICACIONES. CON ALTURA 1<H<2 M, MUROS EN LADRILLO TOLETE COMÚN CON PAÑETE 1:3, PLACA DE FONDO Y CORONA DE 20 CM DE ESPESOR REFORZADA EN ACERO N°4, CAÑUELA EN CONCRETO, INCLUYE ESCALONES EN BARRAS N°8 DE ACERO CORRUGADO PINTADAS CON ANTICORROSIVO. (DIÁMETRO INTERNO 1.5 M) | E23: =+PRESUPUESTO!H22 -> und | F23: =+PRESUPUESTO!I22 -> 7 | G23: =+PRESUPUESTO!J22 -> 4555894 | H23: =ROUND(G23*F23,0) -> 31891258 | J23: =$H$23/5 -> 6378251.6 | K23: =$H$23/5 -> 6378251.6 | L23: =$H$23/5 -> 6378251.6 | M23: =$H$23/5 -> 6378251.6 | N23: =$H$23/5 -> 6378251.6
B24: =+PRESUPUESTO!D23 -> 2.6 | D24: =+PRESUPUESTO!G23 -> CONSTRUCCIÓN DE POZOS ALCANTARILLADO SEGÚN PLANOS Y ESPECIFICACIONES. CON ALTURA 2<H<3 M, MUROS EN LADRILLO TOLETE COMÚN CON PAÑETE 1:3, PLACA DE FONDO Y CORONA DE 20 CM DE ESPESOR REFORZADA EN ACERO N°4, CAÑUELA EN CONCRETO, INCLUYE ESCALONES EN BARRAS N°8 DE ACERO CORRUGADO PINTADAS CON ANTICORROSIVO. (DIÁMETRO INTERNO 1.50 METROS) | E24: =+PRESUPUESTO!H23 -> und | F24: =+PRESUPUESTO!I23 -> 7 | G24: =+PRESUPUESTO!J23 -> 5208550 | H24: =ROUND(G24*F24,0) -> 36459850 | K24: =$H$24/5 -> 7291970 | L24: =$H$24/5 -> 7291970 | M24: =$H$24/5 -> 7291970 | N24: =$H$24/5 -> 7291970 | O24: =$H$24/5 -> 7291970
B25: =+PRESUPUESTO!D24 -> 2.7 | D25: =+PRESUPUESTO!G24 -> SUMINISTRO, INSTALACIÓN Y COMPACTACIÓN DE RELLENO EN RECEBO TAMAÑO MÁXIMO 1" PARA ATRAQUES DE TUBERÍA | E25: =+PRESUPUESTO!H24 -> m3 | F25: =+PRESUPUESTO!I24 -> 147.01 | G25: =+PRESUPUESTO!J24 -> 145525 | H25: =ROUND(G25*F25,0) -> 21393630 | N25: =H25 -> 21393630
B26: =+PRESUPUESTO!D25 -> 2.8 | D26: =+PRESUPUESTO!G25 -> INSTALACIÓN Y COMPACTACIÓN DE RELLENO CON MATERIAL PROVENIENTE DE LA EXCAVACIÓN | E26: =+PRESUPUESTO!H25 -> m3 | F26: =+PRESUPUESTO!I25 -> 880.40236 | G26: =+PRESUPUESTO!J25 -> 27267 | H26: =ROUND(G26*F26,0) -> 24005931 | J26: =+$H$26/6 -> 4000988.5 | K26: =+$H$26/6 -> 4000988.5 | L26: =+$H$26/6 -> 4000988.5 | M26: =+$H$26/6 -> 4000988.5 | N26: =+$H$26/6 -> 4000988.5 | O26: =+$H$26/6 -> 4000988.5
B27: =+PRESUPUESTO!D26 -> 2.9 | D27: =+PRESUPUESTO!G26 -> SUMINISTRO, INSTALACIÓN Y COMPACTACIÓN DE BASE EN ARENA PARA TUBERÍA E:8CM | E27: =+PRESUPUESTO!H26 -> m3 | F27: =+PRESUPUESTO!I26 -> 33.53 | G27: =+PRESUPUESTO!J26 -> 128667 | H27: =ROUND(G27*F27,0) -> 4314205 | J27: =+$H$27/5 -> 862841 | K27: =+$H$27/5 -> 862841 | L27: =+$H$27/5 -> 862841 | M27: =+$H$27/5 -> 862841 | N27: =+$H$27/5 -> 862841
B28: =+PRESUPUESTO!D27 -> 2.10 | D28: =+PRESUPUESTO!G27 -> SUMINISTRO E INSTALACIÓN DE MARCOS DE AROS Y TAPAS EN HIERRO FUNDIDO Y NÚCLEO EN CONCRETO PARA POZOS DE INSPECCIÓN. DIÁMETRO 67 CM | E28: =+PRESUPUESTO!H27 -> und | F28: =+PRESUPUESTO!I27 -> 14 | G28: =+PRESUPUESTO!J27 -> 753270 | H28: =ROUND(G28*F28,0) -> 10545780 | L28: =+$H$28/4 -> 2636445 | M28: =+$H$28/4 -> 2636445 | N28: =+$H$28/4 -> 2636445 | O28: =+$H$28/4 -> 2636445
B29: =+PRESUPUESTO!D28 -> 2.11 | D29: =+PRESUPUESTO!G28 -> CONSTRUCCIÓN DE ATRAQUES EN CONCRETO 2000 PSI PARA TUBERÍA | E29: =+PRESUPUESTO!H28 -> m3 | F29: =+PRESUPUESTO!I28 -> 3.46 | G29: =+PRESUPUESTO!J28 -> 678039 | H29: =ROUND(G29*F29,0) -> 2346015 | K29: =+$H$29/5 -> 469203 | L29: =+$H$29/5 -> 469203 | M29: =+$H$29/5 -> 469203 | N29: =+$H$29/5 -> 469203 | O29: =+$H$29/5 -> 469203
B32: 3 | C32: =+PRESUPUESTO!G30 -> DOMICILIARIAS - ALCANTARILLADO SANITARIO
B33: ='[213]PRESUPUESTO OFICIAL'!C31 -> 3.1 | D33: =+PRESUPUESTO!G31 -> EXCAVACIÓN MANUAL EN MATERIAL COMÚN PARA INSTALACIÓN DE TUBERÍA DOMICILIARIAS | E33: =+PRESUPUESTO!H31 -> m3 | F33: =+PRESUPUESTO!I31 -> 50.4 | G33: =+PRESUPUESTO!J31 -> 59106 | H33: =ROUND(G33*F33,0) -> 2978942 | L33: =+$H$33/3 -> 992980.67 | M33: =+$H$33/3 -> 992980.67 | N33: =+$H$33/3 -> 992980.67
B34: ='[213]PRESUPUESTO OFICIAL'!C32 -> 3.2 | D34: =+PRESUPUESTO!G32 -> SUMINISTRO E INSTALACIÓN DE TUBERÍA PVC CORRUGADA SANITARIA Ø 6 PULG-160mm X 6 m | E34: =+PRESUPUESTO!H32 -> ml | F34: =+PRESUPUESTO!I32 -> 84 | G34: =+PRESUPUESTO!J32 -> 70097 | H34: =ROUND(G34*F34,0) -> 5888148 | L34: =+$H$34/3 -> 1962716 | M34: =+$H$34/3 -> 1962716 | N34: =+$H$34/3 -> 1962716
B35: ='[213]PRESUPUESTO OFICIAL'!C33 -> 3.3 | D35: =+PRESUPUESTO!G33 -> CONSTRUCCIÓN DE CAJAS DOMICILIARIAS 80X80X80 CM INCLUYE TAPA EN CONCRETO | E35: =+PRESUPUESTO!H33 -> und | F35: =+PRESUPUESTO!I33 -> 7 | G35: =+PRESUPUESTO!J33 -> 437473 | H35: =ROUND(G35*F35,0) -> 3062311 | L35: =+$H$35/3 -> 1020770.3 | M35: =+$H$35/3 -> 1020770.3 | N35: =+$H$35/3 -> 1020770.3
B36: ='[213]PRESUPUESTO OFICIAL'!C34 -> 3.4 | D36: =+PRESUPUESTO!G34 -> SUMINISTRO, INSTALACIÓN Y COMPACTACIÓN DE RELLENO EN RECEBO TAMAÑO MÁXIMO 1". | E36: =+PRESUPUESTO!H34 -> m3 | F36: =+PRESUPUESTO!I34 -> 50.4 | G36: =+PRESUPUESTO!J34 -> 145525 | H36: =ROUND(G36*F36,0) -> 7334460 | M36: =+$H$36/3 -> 2444820 | N36: =+$H$36/3 -> 2444820 | O36: =2444819+2 -> 2444821
E39: COSTO DIRECTO | H39: =ROUND(SUM(H16:H36),0) -> 490481580 | J39: =ROUND(SUM(J16:J36),0) -> 63553760 | K39: =ROUND(SUM(K16:K36),0) -> 80366654 | L39: =ROUND(SUM(L16:L36),0) -> 86979566 | M39: =ROUND(SUM(M16:M36),0) -> 89424386 | N39: =ROUND(SUM(N16:N36),0) -> 101766295 | O39: =ROUND(SUM(O16:O36),0) -> 68390919
E40: AVANCE SEMANAL | H40: % | J40: =SUM(J39:J39)/(SUM($H$39:$H$39)) -> 0.1295742 | K40: =SUM(K39:K39)/(SUM($H$39:$H$39)) -> 0.16385254 | L40: =SUM(L39:L39)/(SUM($H$39:$H$39)) -> 0.17733503 | M40: =SUM(M39:M39)/(SUM($H$39:$H$39)) -> 0.18231956 | N40: =SUM(N39:N39)/(SUM($H$39:$H$39)) -> 0.2074824 | O40: =SUM(O39:O39)/(SUM($H$39:$H$39)) -> 0.13943626
E41: VALOR TOTAL DE LA OBRA | H41: =+H39 -> 490481580 | J41: =SUM(J39:J39) -> 63553760 | K41: =SUM(K39:K39)+J41 -> 143920414 | L41: =SUM(L39:L39)+K41 -> 230899980 | M41: =SUM(M39:M39)+L41 -> 320324366 | N41: =SUM(N39:N39)+M41 -> 422090661 | O41: =SUM(O39:O39)+N41 -> 490481580 | P41: =+O41-H41 -> 0
E42: AVANCE SEMANAL ACUMULADO | H42: % | J42: =+J41/$H$41 -> 0.1295742 | K42: =+J42+K40 -> 0.29342675 | L42: =+K42+L40 -> 0.47076178 | M42: =+L42+M40 -> 0.65308134 | N42: =+M42+N40 -> 0.86056374 | O42: =+N42+O40 -> 1

Sheet CRONOGRAMA
D1: ALCALDÍA DEL MUNICIPIO DE MÁLAGA
D2: OFICINA ASESORA DE PLANEACIÓN Y ORDENAMIENTO TERRITORIAL
D3: MÁLAGA - SANTANDER
B5: =+PRESUPUESTO!C6 -> PRESUPUESTO OFICIAL OPTIMIZACIÓN DE UN TRAMO DEL COLECTOR DE LA RED DE ALCANTARILLADO SANITARIO UBICADO ENTRE EL BARRIO LA SALLE Y LA PARTE ALTA DE LA VEREDA GUASIMO SECTOR EL TABLÓN DEL MUNICIPIO DE MÁLAGA, SANTANDER | E5: CRONOGRAMA
E8: FECHA: 21/09/2025 | G8: 45921
B10: ITEM | C10: ESP. TECNICA | D10: DESCRIPCIÓN | E10: UN | F10: CANTIDAD | G10: VALOR UNITARIO | H10: VALOR TOTAL | J10: MES 1 | N10: MES 2
J12: SEMANAS | N12: SEMANAS
J13: 1 | K13: 2 | L13: 3 | M13: =+L13+1 -> 4 | N13: 5 | O13: 6
B14: ETAPA PRECONTRACTUAL
B15: 1 | C15: PRELIMINARES
B16: ='[213]PRESUPUESTO OFICIAL'!C17 -> 1.1 | D16: =+PRESUPUESTO!G14 -> LOCALIZACIÓN Y REPLANTEO (RED DE TUBERÍA ALCANTARILLADO SANITARIO, PLUVIAL Y ACUEDUCTO). | E16: =+PRESUPUESTO!H14 -> m2 | F16: =+PRESUPUESTO!I14 -> 630.83 | G16: =+PRESUPUESTO!J14 -> 6057 | H16: =ROUND(G16*F16,0) -> 3820937
B17: 1.2 | D17: =+PRESUPUESTO!G15 -> CERRAMIENTO PERIMETRAL EN TELA VERDE ALTURA 2 METROS (INCLUYE PARALES EN MADERA) | E17: =+PRESUPUESTO!H15 -> ml | F17: =+PRESUPUESTO!I15 -> 250 | G17: =+PRESUPUESTO!J15 -> 22785 | H17: =ROUND(G17*F17,0) -> 5696250
B18: 2 | C18: =+PRESUPUESTO!G17 -> RED PRINCIPAL - ALCANTARILLADO SANITARIO
B19: =+PRESUPUESTO!D18 -> 2.1 | D19: =+PRESUPUESTO!G18 -> EXCAVACIÓN MECÁNICA VARIAS SIN CLASIFICAR (INCLUYE TRASIEGO INTERNO E ENTIBADOS) | E19: =+PRESUPUESTO!H18 -> m3 | F19: =+PRESUPUESTO!I18 -> 949.93 | G19: =+PRESUPUESTO!J18 -> 30669 | H19: =ROUND(G19*F19,0) -> 29133403
B20: =+PRESUPUESTO!D19 -> 2.2 | D20: =+PRESUPUESTO!G19 -> EXCAVACIÓN MECÁNICA EN ROCA | E20: =+PRESUPUESTO!H19 -> m3 | F20: =+PRESUPUESTO!I19 -> 212.88 | G20: =+PRESUPUESTO!J19 -> 102253 | H20: =ROUND(G20*F20,0) -> 21767619
B21: =+PRESUPUESTO!D20 -> 2.3 | D21: =+PRESUPUESTO!G20 -> SUMINISTRO E INSTALACIÓN DE TUBERÍA PVC SANITARIA CORRUGADA Ø 14PULG-350mm X6m PARA CÁMARAS DE CAÍDA | E21: =+PRESUPUESTO!H20 -> ml | F21: =+PRESUPUESTO!I20 -> 24 | G21: =+PRESUPUESTO!J20 -> 224481 | H21: =ROUND(G21*F21,0) -> 5387544
B22: =+PRESUPUESTO!D21 -> 2.4 | D22: =+PRESUPUESTO!G21 -> SUMINISTRO E INSTALACIÓN DE TUBERÍA PVC SANITARIA CORRUGADA Ø 24PULG-600mm X6m | E22: =+PRESUPUESTO!H21 -> ml | F22: =+PRESUPUESTO!I21 -> 465.75 | G22: =+PRESUPUESTO!J21 -> 589276 | H22: =ROUND(G22*F22,0) -> 274455297
B23: =+PRESUPUESTO!D22 -> 2.5 | D23: =+PRESUPUESTO!G22 -> CONSTRUCCIÓN DE POZOS ALCANTARILLADO SEGÚN PLANOS Y ESPECIFICACIONES. CON ALTURA 1<H<2 M, MUROS EN LADRILLO TOLETE COMÚN CON PAÑETE 1:3, PLACA DE FONDO Y CORONA DE 20 CM DE ESPESOR REFORZADA EN ACERO N°4, CAÑUELA EN CONCRETO, INCLUYE ESCALONES EN BARRAS N°8 DE ACERO CORRUGADO PINTADAS CON ANTICORROSIVO. (DIÁMETRO INTERNO 1.5 M) | E23: =+PRESUPUESTO!H22 -> und | F23: =+PRESUPUESTO!I22 -> 7 | G23: =+PRESUPUESTO!J22 -> 4555894 | H23: =ROUND(G23*F23,0) -> 31891258
B24: =+PRESUPUESTO!D23 -> 2.6 | D24: =+PRESUPUESTO!G23 -> CONSTRUCCIÓN DE POZOS ALCANTARILLADO SEGÚN PLANOS Y ESPECIFICACIONES. CON ALTURA 2<H<3 M, MUROS EN LADRILLO TOLETE COMÚN CON PAÑETE 1:3, PLACA DE FONDO Y CORONA DE 20 CM DE ESPESOR REFORZADA EN ACERO N°4, CAÑUELA EN CONCRETO, INCLUYE ESCALONES EN BARRAS N°8 DE ACERO CORRUGADO PINTADAS CON ANTICORROSIVO. (DIÁMETRO INTERNO 1.50 METROS) | E24: =+PRESUPUESTO!H23 -> und | F24: =+PRESUPUESTO!I23 -> 7 | G24: =+PRESUPUESTO!J23 -> 5208550 | H24: =ROUND(G24*F24,0) -> 36459850
B25: =+PRESUPUESTO!D24 -> 2.7 | D25: =+PRESUPUESTO!G24 -> SUMINISTRO, INSTALACIÓN Y COMPACTACIÓN DE RELLENO EN RECEBO TAMAÑO MÁXIMO 1" PARA ATRAQUES DE TUBERÍA | E25: =+PRESUPUESTO!H24 -> m3 | F25: =+PRESUPUESTO!I24 -> 147.01 | G25: =+PRESUPUESTO!J24 -> 145525 | H25: =ROUND(G25*F25,0) -> 21393630
B26: =+PRESUPUESTO!D25 -> 2.8 | D26: =+PRESUPUESTO!G25 -> INSTALACIÓN Y COMPACTACIÓN DE RELLENO CON MATERIAL PROVENIENTE DE LA EXCAVACIÓN | E26: =+PRESUPUESTO!H25 -> m3 | F26: =+PRESUPUESTO!I25 -> 880.40236 | G26: =+PRESUPUESTO!J25 -> 27267 | H26: =ROUND(G26*F26,0) -> 24005931
B27: =+PRESUPUESTO!D26 -> 2.9 | D27: =+PRESUPUESTO!G26 -> SUMINISTRO, INSTALACIÓN Y COMPACTACIÓN DE BASE EN ARENA PARA TUBERÍA E:8CM | E27: =+PRESUPUESTO!H26 -> m3 | F27: =+PRESUPUESTO!I26 -> 33.53 | G27: =+PRESUPUESTO!J26 -> 128667 | H27: =ROUND(G27*F27,0) -> 4314205
B28: =+PRESUPUESTO!D27 -> 2.10 | D28: =+PRESUPUESTO!G27 -> SUMINISTRO E INSTALACIÓN DE MARCOS DE AROS Y TAPAS EN HIERRO FUNDIDO Y NÚCLEO EN CONCRETO PARA POZOS DE INSPECCIÓN. DIÁMETRO 67 CM | E28: =+PRESUPUESTO!H27 -> und | F28: =+PRESUPUESTO!I27 -> 14 | G28: =+PRESUPUESTO!J27 -> 753270 | H28: =ROUND(G28*F28,0) -> 10545780
B29: =+PRESUPUESTO!D28 -> 2.11 | D29: =+PRESUPUESTO!G28 -> CONSTRUCCIÓN DE ATRAQUES EN CONCRETO 2000 PSI PARA TUBERÍA | E29: =+PRESUPUESTO!H28 -> m3 | F29: =+PRESUPUESTO!I28 -> 3.46 | G29: =+PRESUPUESTO!J28 -> 678039 | H29: =ROUND(G29*F29,0) -> 2346015
B32: 3 | C32: =+PRESUPUESTO!G30 -> DOMICILIARIAS - ALCANTARILLADO SANITARIO
B33: ='[213]PRESUPUESTO OFICIAL'!C31 -> 3.1 | D33: =+PRESUPUESTO!G31 -> EXCAVACIÓN MANUAL EN MATERIAL COMÚN PARA INSTALACIÓN DE TUBERÍA DOMICILIARIAS | E33: =+PRESUPUESTO!H31 -> m3 | F33: =+PRESUPUESTO!I31 -> 50.4 | G33: =+PRESUPUESTO!J31 -> 59106 | H33: =ROUND(G33*F33,0) -> 2978942
B34: ='[213]PRESUPUESTO OFICIAL'!C32 -> 3.2 | D34: =+PRESUPUESTO!G32 -> SUMINISTRO E INSTALACIÓN DE TUBERÍA PVC CORRUGADA SANITARIA Ø 6 PULG-160mm X 6 m | E34: =+PRESUPUESTO!H32 -> ml | F34: =+PRESUPUESTO!I32 -> 84 | G34: =+PRESUPUESTO!J32 -> 70097 | H34: =ROUND(G34*F34,0) -> 5888148
B35: ='[213]PRESUPUESTO OFICIAL'!C33 -> 3.3 | D35: =+PRESUPUESTO!G33 -> CONSTRUCCIÓN DE CAJAS DOMICILIARIAS 80X80X80 CM INCLUYE TAPA EN CONCRETO | E35: =+PRESUPUESTO!H33 -> und | F35: =+PRESUPUESTO!I33 -> 7 | G35: =+PRESUPUESTO!J33 -> 437473 | H35: =ROUND(G35*F35,0) -> 3062311
B36: ='[213]PRESUPUESTO OFICIAL'!C34 -> 3.4 | D36: =+PRESUPUESTO!G34 -> SUMINISTRO, INSTALACIÓN Y COMPACTACIÓN DE RELLENO EN RECEBO TAMAÑO MÁXIMO 1". | E36: =+PRESUPUESTO!H34 -> m3 | F36: =+PRESUPUESTO!I34 -> 50.4 | G36: =+PRESUPUESTO!J34 -> 145525 | H36: =ROUND(G36*F36,0) -> 7334460

Sheet INDICAR CÓDIGO DEL ITEM DE PAGO
C3: Formulario 1 - Propuesta económica - Documento tipo de licitación de obra pública de agua potable y saneamiento básico
C4: Código | D4: CCE-EICP-FM-47 | E4: Versión | F4: 1
C6: [La entidad podrá utilizar este formato, o el establecido por la entidad, para la presentación de los análisis de precios unitarios del contratista en la oportunidad prevista en el numeral 8.1. del Documento Base]
D9: [NOMBRE DE LA ENTIDAD]
L10: VERSIÓN
D11: [NÚMERO DEL PROCESO]
L12: PÁGINA | M12: 1 | N12: DE | O12: 1
D14: ANALISIS DE PRECIOS UNITARIOS
L16: FECHA | M16: DD | N16: MM | O16: AA
C18: ÍTEMS DE LA PROPUESTA ECONÓMICA | I18: ÍTEMS NO PREVISTOS
C22: DATOS ESPECÍFICOS
C24: ÍTEM | D24: DESCRIPCIÓN | M24: UNIDAD | O24: CANTIDAD
C26: I. EQUIPO
C29: DESCRIPCIÓN | H29: MARCA | J29: TIPO | L29: TARIFA/HORA | M29: RENDIMIENTO | O29: Vr. UNITARIO
C33: SUBTOTAL $
C34: II. MATERIALES
C37: DESCRIPCIÓN | K37: UNIDAD | L37: CANTIDAD | M37: PRECIO UNIT. | O37: Vr. UNITARIO
C40: SUBTOTAL $ | O40: 0
C41: III. TRANSPORTES
C44: MATERIAL | J44: VOL. o PESO | K44: DISTANCIA | L44: M3 o Ton/Km | M44: TARIFA | O44: Vr. UNITARIO
C47: SUBTOTAL $
C48: IV. MANO DE OBRA
C51: TRABAJADOR | J51: JORNAL | K51: PRESTACIONES | L51: JORNAL TOTAL | M51: RENDIMIENTO | O51: Vr. UNITARIO
C56: SUBTOTAL $
C58: TOTAL COSTO DIRECTO $
C59: V. COSTOS INDIRECTOS
C62: Descripción | L62: Porcentaje | M62: Valor Total
C63: ADMINISTRACION
C64: IMPREVISTOS
C65: UTILIDAD
C66: SUBTOTAL $
C68: Precio Unitario Total Aproximado al peso $
H72: Firma
H73: Nombre:
H74: Representante Legal del Contratista o su Apoderado
H75: Matricula No. :
C77: OBSERVACIONES INTERVENTORÍA
C81: APROBACIÓN POR INTERVENTORÍA
C82: Nota 1: Cuando se trate de Análisis de precios unitarios correspondientes a ítems de la propuesta económica aprobada, el Interventor aprueba el desglose de los componentes manteniendo el mismo precio unitario de cada ítem, cumpliendo con las especificaciones de construcción vigentes para el proyecto.
C84: Nota 2: Cuando se trate de Análisis de precios unitarios de ítems no previstos, el Interventor aprueba el desglose y precio unitario de cada ítem no previsto, exigiendo la aplicación de los costos correspondientes a insumos y tarifas de la propuesta económica inicial cuando estén contemplados, cumpliendo con las especificaciones de construcción vigente para el proyecto.
...

Sheet 1.1
C3: Formulario 1 - Propuesta económica - Documento tipo de licitación de obra pública de agua potable y saneamiento básico
C4: Código | D4: CCE-EICP-FM-47 | E4: Versión | F4: 1
C6: [La entidad podrá utilizar este formato, o el establecido por la entidad, para la presentación de los análisis de precios unitarios del contratista en la oportunidad prevista en el numeral 8.1. del Documento Base]
D9: ALCALDÍA DEL MUNICIPIO DE MÁLAGA
L10: VERSIÓN
D11: =+PRESUPUESTO!C6 -> PRESUPUESTO OFICIAL OPTIMIZACIÓN DE UN TRAMO DEL COLECTOR DE LA RED DE ALCANTARILLADO SANITARIO UBICADO ENTRE EL BARRIO LA SALLE Y LA PARTE ALTA DE LA VEREDA GUASIMO SECTOR EL TABLÓN DEL MUNICIPIO DE MÁLAGA, SANTANDER
L12: PÁGINA | M12: 1 | N12: DE | O12: 1
D14: ANALISIS DE PRECIOS UNITARIOS
L16: FECHA | M16: DD | N16: MM | O16: AA
C18: ÍTEMS DE LA PROPUESTA ECONÓMICA | G18: X | I18: ÍTEMS NO PREVISTOS
C22: DATOS ESPECÍFICOS
C24: ÍTEM | D24: DESCRIPCIÓN | M24: UNIDAD | O24: CANTIDAD
C25: =+PRESUPUESTO!D14 -> 1.1 | D25: =+PRESUPUESTO!G14 -> LOCALIZACIÓN Y REPLANTEO (RED DE TUBERÍA ALCANTARILLADO SANITARIO, PLUVIAL Y ACUEDUCTO). | M25: =+PRESUPUESTO!H14 -> m2 | O25: =+PRESUPUESTO!I14 -> 630.83
C26: I. EQUIPO
C29: DESCRIPCIÓN | H29: MARCA | J29: TIPO | L29: TARIFA/HORA | M29: RENDIMIENTO | O29: Vr. UNITARIO
C30: Equipo de topográfia (estación de precisión ángular 2", nivel automatico de precisión lente X24, tripodes, bastones y prismas) | L30: 120000 | M30: 100 | O30: =+L30/M30 -> 1200
C32: Herramienta Menor (%) | M32: 0.06 | O32: =+M32*O57 -> 180.42
C33: SUBTOTAL $ | O33: =ROUND(SUM(O30:O32),0) -> 1380
C34: II. MATERIALES
C37: DESCRIPCIÓN | K37: UNIDAD | L37: CANTIDAD | M37: PRECIO UNIT. | O37: Vr. UNITARIO
C38: Durmiente madera 4x4 cm | K38: und | L38: 0.5 | M38: 58.88 | O38: =L38*M38 -> 29.44
K39: lb | L39: 0.01 | M39: 5828 | O39: =L39*M39 -> 58.28
K40: ml | L40: 2 | M40: 5.89 | N40: 5.89 | O40: =L40*M40 -> 11.78
C41: SUBTOTAL $ | O41: =ROUND(SUM(O38:O40),0) -> 100
C42: III. TRANSPORTES
C45: MATERIAL | J45: VOL. o PESO | K45: DISTANCIA | L45: M3 o Ton/Km | M45: TARIFA | O45: Vr. UNITARIO
C48: SUBTOTAL $ | O48: =SUM(O46:O47) -> 0
C49: IV. MANO DE OBRA
C52: TRABAJADOR | J52: JORNAL | K52: PRESTACIONES | L52: JORNAL TOTAL | M52: RENDIMIENTO | O52: Vr. UNITARIO
C53: Topógrafo | J53: 108000 | K53: 1.85 | L53: =+K53*J53 -> 199800 | M53: 100 | O53: =+L53/M53 -> 1998
C54: Cadenero | J54: 54567.514 | K54: 1.85 | L54: =+K54*J54 -> 100949.9 | M54: 100 | O54: =+L54/M54 -> 1009.499
C57: SUBTOTAL $ | O57: =ROUND(SUM(O53:O56),0) -> 3007
C59: TOTAL COSTO DIRECTO $ | O59: =+O57+O48+O41+O33 -> 4487
C60: V. COSTOS INDIRECTOS
C63: Descripción | L63: Porcentaje | M63: Valor Total
C64: ADMINISTRACION | M64: 0.29 | O64: =+M64*O59 -> 1301.23
C65: IMPREVISTOS | M65: 0.01 | O65: =+M65*O59 -> 44.87
C66: UTILIDAD | M66: 0.05 | O66: =+M66*O59 -> 224.35
C67: SUBTOTAL $ | O67: =ROUND(SUM(O64:O66),0) -> 1570
C69: Precio Unitario Total Aproximado al peso $ | O69: =+O67+O59 -> 6057
...

Sheet 1.2
C3: Formulario 1 - Propuesta económica - Documento tipo de licitación de obra pública de agua potable y saneamiento básico
C4: Código | D4: CCE-EICP-FM-47 | E4: Versión | F4: 1
C6: [La entidad podrá utilizar este formato, o el establecido por la entidad, para la presentación de los análisis de precios unitarios del contratista en la oportunidad prevista en el numeral 8.1. del Documento Base]
D9: ALCALDÍA DEL MUNICIPIO DE MÁLAGA
L10: VERSIÓN
D11: =+PRESUPUESTO!C6 -> PRESUPUESTO OFICIAL OPTIMIZACIÓN DE UN TRAMO DEL COLECTOR DE LA RED DE ALCANTARILLADO SANITARIO UBICADO ENTRE EL BARRIO LA SALLE Y LA PARTE ALTA DE LA VEREDA GUASIMO SECTOR EL TABLÓN DEL MUNICIPIO DE MÁLAGA, SANTANDER
L12: PÁGINA | M12: 1 | N12: DE | O12: 1
D14: ANALISIS DE PRECIOS UNITARIOS
L16: FECHA | M16: DD | N16: MM | O16: AA
C18: ÍTEMS DE LA PROPUESTA ECONÓMICA | G18: X | I18: ÍTEMS NO PREVISTOS
C22: DATOS ESPECÍFICOS
C24: ÍTEM | D24: DESCRIPCIÓN | M24: UNIDAD | O24: CANTIDAD
C25: 1.2 | D25: =+PRESUPUESTO!G15 -> CERRAMIENTO PERIMETRAL EN TELA VERDE ALTURA 2 METROS (INCLUYE PARALES EN MADERA) | M25: =+PRESUPUESTO!H15 -> ml | O25: =+PRESUPUESTO!I15 -> 250
C26: I. EQUIPO
C29: DESCRIPCIÓN | H29: MARCA | J29: TIPO | L29: TARIFA/HORA | M29: RENDIMIENTO | O29: Vr. UNITARIO
C32: Herramienta Menor (%) | M32: 0.06 | O32: =+M32*O58 -> 100.08
C33: SUBTOTAL $ | O33: =ROUND(SUM(O30:O32),0) -> 100
C34: II. MATERIALES
C37: DESCRIPCIÓN | K37: UNIDAD | L37: CANTIDAD | M37: PRECIO UNIT. | O37: Vr. UNITARIO
C38: TELA CERRAMIENTO OBRA VERDE ALTURA 2 METROS | K38: ml | L38: 1.05 | N38: =240000/50 -> 4800 | O38: =N38*L38 -> 5040
C39: MADERA ROLLIZA D=0.15 M | K39: ml | L39: 1.5 | N39: 5200 | O39: =N39*L39 -> 7800
C40: MADERA VARA CLAVO | K40: ml | L40: 0.5 | N40: 4200 | O40: =N40*L40 -> 2100
C41: PUNTILLA CON O SIN CABEZA | K41: lb | L41: 0.03 | N41: 5673 | O41: =N41*L41 -> 170.19
C42: SUBTOTAL $ | O42: =ROUND(SUM(O38:O41),0) -> 15110
C43: III. TRANSPORTES
C46: MATERIAL | J46: VOL. o PESO | K46: DISTANCIA | L46: M3 o Ton/Km | M46: TARIFA | O46: Vr. UNITARIO
C49: SUBTOTAL $ | O49: =SUM(O47:O48) -> 0
C50: IV. MANO DE OBRA
C53: TRABAJADOR | J53: JORNAL | K53: PRESTACIONES | L53: JORNAL TOTAL | M53: RENDIMIENTO | O53: Vr. UNITARIO
C54: Oficial | J54: =+INSUMOS!Q4 -> 80665.027 | K54: 1.85 | L54: =+K54*J54 -> 149230.3 | M54: 200 | O54: =+L54/M54 -> 746.1515
C55: Ayudante (2) | J55: =+INSUMOS!Q5*2 -> 99644.973 | K55: 1.85 | L55: =+K55*J55 -> 184343.2 | M55: 200 | O55: =+L55/M55 -> 921.716
C58: SUBTOTAL $ | O58: =ROUND(SUM(O54:O57),0) -> 1668
C60: TOTAL COSTO DIRECTO $ | O60: =+O58+O49+O42+O33 -> 16878
C61: V. COSTOS INDIRECTOS
C64: Descripción | L64: Porcentaje | M64: Valor Total
C65: ADMINISTRACION | M65: 0.29 | O65: =+M65*O60 -> 4894.62
C66: IMPREVISTOS | M66: 0.01 | O66: =+M66*O60 -> 168.78
C67: UTILIDAD | M67: 0.05 | O67: =+M67*O60 -> 843.9
C68: SUBTOTAL $ | O68: =ROUND(SUM(O65:O67),0) -> 5907
C70: Precio Unitario Total Aproximado al peso $ | O70: =+O68+O60 -> 22785
...

Sheet 2.1
C3: Formulario 1 - Propuesta económica - Documento tipo de licitación de obra pública de agua potable y saneamiento básico
C4: Código | D4: CCE-EICP-FM-47 | E4: Versión | F4: 1
C6: [La entidad podrá utilizar este formato, o el establecido por la entidad, para la presentación de los análisis de precios unitarios del contratista en la oportunidad prevista en el numeral 8.1. del Documento Base]
D9: ALCALDÍA DEL MUNICIPIO DE MÁLAGA
L10: VERSIÓN
D11: =+PRESUPUESTO!C6 -> PRESUPUESTO OFICIAL OPTIMIZACIÓN DE UN TRAMO DEL COLECTOR DE LA RED DE ALCANTARILLADO SANITARIO UBICADO ENTRE EL BARRIO LA SALLE Y LA PARTE ALTA DE LA VEREDA GUASIMO SECTOR EL TABLÓN DEL MUNICIPIO DE MÁLAGA, SANTANDER
L12: PÁGINA | M12: 1 | N12: DE | O12: 1
D14: ANALISIS DE PRECIOS UNITARIOS
L16: FECHA | M16: DD | N16: MM | O16: AA
C18: ÍTEMS DE LA PROPUESTA ECONÓMICA | G18: X | I18: ÍTEMS NO PREVISTOS
C22: DATOS ESPECÍFICOS
C24: ÍTEM | D24: DESCRIPCIÓN | M24: UNIDAD | O24: CANTIDAD
C25: =+PRESUPUESTO!D18 -> 2.1 | D25: =+PRESUPUESTO!G18 -> EXCAVACIÓN MECÁNICA VARIAS SIN CLASIFICAR (INCLUYE TRASIEGO INTERNO E ENTIBADOS) | M25: =+PRESUPUESTO!H18 -> m3 | O25: =+PRESUPUESTO!I18 -> 949.93
C26: I. EQUIPO
C29: DESCRIPCIÓN | H29: MARCA | J29: TIPO | L29: TARIFA/HORA | M29: RENDIMIENTO | O29: Vr. UNITARIO
C30: Retroexcavadora sobre oruga, potencia 158 kw, balde de 1.5 m3 | L30: 180344.91 | M30: 15 | O30: =+L30/M30 -> 12022.994
C31: Formaleta en madera para excavación (incl. tableros, cerchas y parales) | L31: 16999 | M31: 15 | O31: =+L31/M31 -> 1133.2667
C32: Herramienta Menor (%) | M32: 0.06 | O32: =+M32*O58 -> 166.8
C33: SUBTOTAL $ | O33: =ROUND(SUM(O30:O32),0) -> 13323
C34: II. MATERIALES
C37: DESCRIPCIÓN | K37: UNIDAD | L37: CANTIDAD | M37: PRECIO UNIT. | O37: Vr. UNITARIO
C42: SUBTOTAL $ | O42: =SUM(O38:O41) -> 0
C43: III. TRANSPORTES
C46: MATERIAL | J46: VOL. o PESO | K46: DISTANCIA | L46: M3 o Ton/Km | M46: TARIFA | O46: Vr. UNITARIO
C47: Trasiego dentro de la obra del material | J47: m3 | K47: 0.7 | L47: 1.05 | M47: 9000 | O47: =+M47*L47*K47 -> 6615
C49: SUBTOTAL $ | O49: =ROUND(SUM(O47:O48),0) -> 6615
C50: IV. MANO DE OBRA
C53: TRABAJADOR | J53: JORNAL | K53: PRESTACIONES | L53: JORNAL TOTAL | M53: RENDIMIENTO | O53: Vr. UNITARIO
C54: Oficial | J54: =+INSUMOS!Q4 -> 80665.027 | K54: 1.85 | L54: =+K54*J54 -> 149230.3 | M54: =+M30*8 -> 120 | O54: =+L54/M54 -> 1243.5858
C55: Ayudante (2) | J55: =+INSUMOS!Q5*2 -> 99644.973 | K55: 1.85 | L55: =+K55*J55 -> 184343.2 | M55: =+M54 -> 120 | O55: =+L55/M55 -> 1536.1933
C58: SUBTOTAL $ | O58: =ROUND(SUM(O54:O57),0) -> 2780
C60: TOTAL COSTO DIRECTO $ | O60: =ROUND((O58+O49+O42+O33),0) -> 22718
C61: V. COSTOS INDIRECTOS
C64: Descripción | L64: Porcentaje | M64: Valor Total
C65: ADMINISTRACION | M65: 0.29 | O65: =+M65*O60 -> 6588.22
C66: IMPREVISTOS | M66: 0.01 | O66: =+M66*O60 -> 227.18
C67: UTILIDAD | M67: 0.05 | O67: =+M67*O60 -> 1135.9
C68: SUBTOTAL $ | O68: =SUM(O65:O67) -> 7951.3
C70: Precio Unitario Total Aproximado al peso $ | O70: =ROUND(O68+O60,0) -> 30669
C79: OBSERVACIONES INTERVENTORÍA
...

Sheet 2.2
C3: Formulario 1 - Propuesta económica - Documento tipo de licitación de obra pública de agua potable y saneamiento básico
C4: Código | D4: CCE-EICP-FM-47 | E4: Versión | F4: 1
C6: [La entidad podrá utilizar este formato, o el establecido por la entidad, para la presentación de los análisis de precios unitarios del contratista en la oportunidad prevista en el numeral 8.1. del Documento Base]
D9: ALCALDÍA DEL MUNICIPIO DE MÁLAGA
L10: VERSIÓN
D11: =+PRESUPUESTO!C6 -> PRESUPUESTO OFICIAL OPTIMIZACIÓN DE UN TRAMO DEL COLECTOR DE LA RED DE ALCANTARILLADO SANITARIO UBICADO ENTRE EL BARRIO LA SALLE Y LA PARTE ALTA DE LA VEREDA GUASIMO SECTOR EL TABLÓN DEL MUNICIPIO DE MÁLAGA, SANTANDER
L12: PÁGINA | M12: 1 | N12: DE | O12: 1
D14: ANALISIS DE PRECIOS UNITARIOS
L16: FECHA | M16: DD | N16: MM | O16: AA
C18: ÍTEMS DE LA PROPUESTA ECONÓMICA | G18: X | I18: ÍTEMS NO PREVISTOS
C22: DATOS ESPECÍFICOS
C24: ÍTEM | D24: DESCRIPCIÓN | M24: UNIDAD | O24: CANTIDAD
C25: =+PRESUPUESTO!D19 -> 2.2 | D25: =+PRESUPUESTO!G19 -> EXCAVACIÓN MECÁNICA EN ROCA | M25: =+PRESUPUESTO!H19 -> m3 | O25: =+PRESUPUESTO!I19 -> 212.88
C26: I. EQUIPO
C29: DESCRIPCIÓN | H29: MARCA | J29: TIPO | L29: TARIFA/HORA | M29: RENDIMIENTO | O29: Vr. UNITARIO
C30: Retroexcavadora sobre oruga, potencia 158 kw, balde de 1.5 m3 | L30: 180344.91 | M30: 5 | O30: =+L30/M30 -> 36068.982
C31: Compresor portátil de 70 a 120 HP, con martillo | L31: 121097.87 | M31: 5 | O31: =+L31/M31 -> 24219.574
C32: Herramienta Menor (%) | M32: 0.06 | O32: =+M32*O58 -> 500.34
C33: SUBTOTAL $ | O33: =ROUND(SUM(O30:O32),0) -> 60789
C34: II. MATERIALES
C37: DESCRIPCIÓN | K37: UNIDAD | L37: CANTIDAD | M37: PRECIO UNIT. | O37: Vr. UNITARIO
C42: SUBTOTAL $ | O42: =SUM(O38:O41) -> 0
C43: III. TRANSPORTES
C46: MATERIAL | J46: VOL. o PESO | K46: DISTANCIA | L46: M3 o Ton/Km | M46: TARIFA | O46: Vr. UNITARIO
C47: Trasiego dentro de la obra del material | J47: m3 | K47: 0.7 | L47: 1.05 | M47: 9000 | O47: =+M47*L47*K47 -> 6615
C49: SUBTOTAL $ | O49: =ROUND(SUM(O47:O48),0) -> 6615
C50: IV. MANO DE OBRA
C53: TRABAJADOR | J53: JORNAL | K53: PRESTACIONES | L53: JORNAL TOTAL | M53: RENDIMIENTO | O53: Vr. UNITARIO
C54: Oficial | J54: =+INSUMOS!Q4 -> 80665.027 | K54: 1.85 | L54: =+K54*J54 -> 149230.3 | M54: =+M30*8 -> 40 | O54: =+L54/M54 -> 3730.7575
C55: Ayudante (2) | J55: =+INSUMOS!Q5*2 -> 99644.973 | K55: 1.85 | L55: =+K55*J55 -> 184343.2 | M55: =+M54 -> 40 | O55: =+L55/M55 -> 4608.58
C58: SUBTOTAL $ | O58: =ROUND(SUM(O54:O57),0) -> 8339
C60: TOTAL COSTO DIRECTO $ | O60: =ROUND((O58+O49+O42+O33),0) -> 75743
C61: V. COSTOS INDIRECTOS
C64: Descripción | L64: Porcentaje | M64: Valor Total
C65: ADMINISTRACION | M65: 0.29 | O65: =+M65*O60 -> 21965.47
C66: IMPREVISTOS | M66: 0.01 | O66: =+M66*O60 -> 757.43
C67: UTILIDAD | M67: 0.05 | O67: =+M67*O60 -> 3787.15
C68: SUBTOTAL $ | O68: =SUM(O65:O67) -> 26510.05
C70: Precio Unitario Total Aproximado al peso $ | O70: =ROUND(O68+O60,0) -> 102253
C79: OBSERVACIONES INTERVENTORÍA
...

Sheet 2.3
C3: Formulario 1 - Propuesta económica - Documento tipo de licitación de obra pública de agua potable y saneamiento básico
C4: Código | D4: CCE-EICP-FM-47 | E4: Versión | F4: 1
C6: [La entidad podrá utilizar este formato, o el establecido por la entidad, para la presentación de los análisis de precios unitarios del contratista en la oportunidad prevista en el numeral 8.1. del Documento Base]
D9: ALCALDÍA DEL MUNICIPIO DE MÁLAGA
L10: VERSIÓN
D11: =+PRESUPUESTO!C6 -> PRESUPUESTO OFICIAL OPTIMIZACIÓN DE UN TRAMO DEL COLECTOR DE LA RED DE ALCANTARILLADO SANITARIO UBICADO ENTRE EL BARRIO LA SALLE Y LA PARTE ALTA DE LA VEREDA GUASIMO SECTOR EL TABLÓN DEL MUNICIPIO DE MÁLAGA, SANTANDER
L12: PÁGINA | M12: 1 | N12: DE | O12: 1
D14: ANALISIS DE PRECIOS UNITARIOS
L16: FECHA | M16: DD | N16: MM | O16: AA
C18: ÍTEMS DE LA PROPUESTA ECONÓMICA | G18: X | I18: ÍTEMS NO PREVISTOS
C22: DATOS ESPECÍFICOS
C24: ÍTEM | D24: DESCRIPCIÓN | M24: UNIDAD | O24: CANTIDAD
C25: =+PRESUPUESTO!D20 -> 2.3 | D25: =+PRESUPUESTO!G20 -> SUMINISTRO E INSTALACIÓN DE TUBERÍA PVC SANITARIA CORRUGADA Ø 14PULG-350mm X6m PARA CÁMARAS DE CAÍDA | M25: =+PRESUPUESTO!H20 -> ml | O25: =+PRESUPUESTO!I20 -> 24
C26: I. EQUIPO
C29: DESCRIPCIÓN | H29: MARCA | J29: TIPO | L29: TARIFA/HORA | M29: RENDIMIENTO | O29: Vr. UNITARIO
C32: Herramienta Menor (%) | M32: 0.06 | O32: =+M32*O58 -> 1419.18
C33: SUBTOTAL $ | O33: =ROUND(SUM(O30:O32),0) -> 1419
C34: II. MATERIALES
C37: DESCRIPCIÓN | K37: UNIDAD | L37: CANTIDAD | M37: PRECIO UNIT. | O37: Vr. UNITARIO
C38: Tuberia Novafort alcantarillado 14pulg-350mm X6m | K38: ml | L38: 1.05 | M38: =VLOOKUP(C38,[212]INSUMOS!$C$28:$O$59,13,FALSE) -> 123814 | O38: =L38*M38 -> 130004.7
C39: Lubricante para tubería x 500 gramos | K39: gramos | L39: 0.25 | M39: 32222 | O39: =+M39*L39 -> 8055.5
C42: SUBTOTAL $ | O42: =SUM(O38:O41) -> 138060.2
C43: III. TRANSPORTES
C46: MATERIAL | J46: VOL. o PESO | K46: DISTANCIA | L46: ML o Ton/Km | M46: TARIFA | O46: Vr. UNITARIO
C47: Trasiego dentro de la obra del material | J47: m3 | K47: 1 | L47: 1.05 | M47: 3000 | O47: =+M47*L47*K47 -> 3150
C49: SUBTOTAL $ | O49: =ROUND(SUM(O47:O48),0) -> 3150
C50: IV. MANO DE OBRA
C53: TRABAJADOR | J53: JORNAL | K53: PRESTACIONES | L53: JORNAL TOTAL | M53: RENDIMIENTO | O53: Vr. UNITARIO
C54: Oficial | J54: =+INSUMOS!Q4 -> 80665.027 | K54: 1.85 | L54: =+K54*J54 -> 149230.3 | M54: 18 | O54: =+L54/M54 -> 8290.5722
C55: Ayudante (3) | J55: =+INSUMOS!Q5*3 -> 149467.46 | K55: 1.85 | L55: =+K55*J55 -> 276514.8 | M55: 18 | O55: =+L55/M55 -> 15361.933
C58: SUBTOTAL $ | O58: =ROUND(SUM(O54:O57),0) -> 23653
C60: TOTAL COSTO DIRECTO $ | O60: =ROUND((O58+O49+O42+O33),0) -> 166282
C61: V. COSTOS INDIRECTOS
C64: Descripción | L64: Porcentaje | M64: Valor Total
C65: ADMINISTRACION | M65: 0.29 | O65: =+M65*O60 -> 48221.78
C66: IMPREVISTOS | M66: 0.01 | O66: =+M66*O60 -> 1662.82
C67: UTILIDAD | M67: 0.05 | O67: =+M67*O60 -> 8314.1
C68: SUBTOTAL $ | O68: =SUM(O65:O67) -> 58198.7
C70: Precio Unitario Total Aproximado al peso $ | O70: =ROUND(O68+O60,0) -> 224481
C79: OBSERVACIONES INTERVENTORÍA
...

Sheet 2.4
C3: Formulario 1 - Propuesta económica - Documento tipo de licitación de obra pública de agua potable y saneamiento básico
C4: Código | D4: CCE-EICP-FM-47 | E4: Versión | F4: 1
C6: [La entidad podrá utilizar este formato, o el establecido por la entidad, para la presentación de los análisis de precios unitarios del contratista en la oportunidad prevista en el numeral 8.1. del Documento Base]
D9: ALCALDÍA DEL MUNICIPIO DE MÁLAGA
L10: VERSIÓN
D11: =+PRESUPUESTO!C6 -> PRESUPUESTO OFICIAL OPTIMIZACIÓN DE UN TRAMO DEL COLECTOR DE LA RED DE ALCANTARILLADO SANITARIO UBICADO ENTRE EL BARRIO LA SALLE Y LA PARTE ALTA DE LA VEREDA GUASIMO SECTOR EL TABLÓN DEL MUNICIPIO DE MÁLAGA, SANTANDER
L12: PÁGINA | M12: 1 | N12: DE | O12: 1
D14: ANALISIS DE PRECIOS UNITARIOS
L16: FECHA | M16: DD | N16: MM | O16: AA
C18: ÍTEMS DE LA PROPUESTA ECONÓMICA | G18: X | I18: ÍTEMS NO PREVISTOS
C22: DATOS ESPECÍFICOS
C24: ÍTEM | D24: DESCRIPCIÓN | M24: UNIDAD | O24: CANTIDAD
C25: =+PRESUPUESTO!D21 -> 2.4 | D25: =+PRESUPUESTO!G21 -> SUMINISTRO E INSTALACIÓN DE TUBERÍA PVC SANITARIA CORRUGADA Ø 24PULG-600mm X6m | M25: =+PRESUPUESTO!H21 -> ml | O25: =+PRESUPUESTO!I21 -> 465.75
C26: I. EQUIPO
C29: DESCRIPCIÓN | H29: MARCA | J29: TIPO | L29: TARIFA/HORA | M29: RENDIMIENTO | O29: Vr. UNITARIO
C32: Herramienta Menor (%) | M32: 0.06 | O32: =+M32*O58 -> 1942.2
C33: SUBTOTAL $ | O33: =ROUND(SUM(O30:O32),0) -> 1942
C34: II. MATERIALES
C37: DESCRIPCIÓN | K37: UNIDAD | L37: CANTIDAD | M37: PRECIO UNIT. | O37: Vr. UNITARIO
C38: Tuberia Novafort alcantarillado 24pulg-600mm X6m | K38: ml | L38: 1.05 | M38: =VLOOKUP(C38,[212]INSUMOS!$C$28:$O$59,13,FALSE) -> 372365 | O38: =L38*M38 -> 390983.25
C39: Lubricante para tubería x 500 gramos | K39: gramos | L39: 0.25 | M39: =VLOOKUP(C39,[212]INSUMOS!$C$28:$O$59,13,FALSE) -> 32222 | O39: =+M39*L39 -> 8055.5
C42: SUBTOTAL $ | O42: =SUM(O38:O41) -> 399038.75
C43: III. TRANSPORTES
C46: MATERIAL | J46: VOL. o PESO | K46: DISTANCIA | L46: ML o Ton/Km | M46: TARIFA | O46: Vr. UNITARIO
C47: Trasiego dentro de la obra del material | J47: m3 | K47: 1 | L47: 1.05 | M47: 3000 | O47: =+M47*L47*K47 -> 3150
C49: SUBTOTAL $ | O49: =ROUND(SUM(O47:O48),0) -> 3150
C50: IV. MANO DE OBRA
C53: TRABAJADOR | J53: JORNAL | K53: PRESTACIONES | L53: JORNAL TOTAL | M53: RENDIMIENTO | O53: Vr. UNITARIO
C54: Oficial | J54: =+INSUMOS!Q4 -> 80665.027 | K54: 1.85 | L54: =+K54*J54 -> 149230.3 | M54: 16 | O54: =+L54/M54 -> 9326.8937
C55: Ayudante (4) | J55: =+INSUMOS!Q5*4 -> 199289.95 | K55: 1.85 | L55: =+K55*J55 -> 368686.4 | M55: 16 | O55: =+L55/M55 -> 23042.9
C58: SUBTOTAL $ | O58: =ROUND(SUM(O54:O57),0) -> 32370
C60: TOTAL COSTO DIRECTO $ | O60: =ROUND((O58+O49+O42+O33),0) -> 436501
C61: V. COSTOS INDIRECTOS
C64: Descripción | L64: Porcentaje | M64: Valor Total
C65: ADMINISTRACION | M65: 0.29 | O65: =+M65*O60 -> 126585.29
C66: IMPREVISTOS | M66: 0.01 | O66: =+M66*O60 -> 4365.01
C67: UTILIDAD | M67: 0.05 | O67: =+M67*O60 -> 21825.05
C68: SUBTOTAL $ | O68: =SUM(O65:O67) -> 152775.35
C70: Precio Unitario Total Aproximado al peso $ | O70: =ROUND(O68+O60,0) -> 589276
C79: OBSERVACIONES INTERVENTORÍA
...

Sheet 2.5
C3: Formulario 1 - Propuesta económica - Documento tipo de licitación de obra pública de agua potable y saneamiento básico
C4: Código | D4: CCE-EICP-FM-47 | E4: Versión | F4: 1
C6: [La entidad podrá utilizar este formato, o el establecido por la entidad, para la presentación de los análisis de precios unitarios del contratista en la oportunidad prevista en el numeral 8.1. del Documento Base]
D9: ALCALDÍA DEL MUNICIPIO DE MÁLAGA
L10: VERSIÓN
D11: =+PRESUPUESTO!C6 -> PRESUPUESTO OFICIAL OPTIMIZACIÓN DE UN TRAMO DEL COLECTOR DE LA RED DE ALCANTARILLADO SANITARIO UBICADO ENTRE EL BARRIO LA SALLE Y LA PARTE ALTA DE LA VEREDA GUASIMO SECTOR EL TABLÓN DEL MUNICIPIO DE MÁLAGA, SANTANDER
L12: PÁGINA | M12: 1 | N12: DE | O12: 1
D14: ANALISIS DE PRECIOS UNITARIOS
L16: FECHA | M16: DD | N16: MM | O16: AA
C18: ÍTEMS DE LA PROPUESTA ECONÓMICA | G18: X | I18: ÍTEMS NO PREVISTOS
C22: DATOS ESPECÍFICOS
C24: ÍTEM | D24: DESCRIPCIÓN | M24: UNIDAD | O24: CANTIDAD
C25: =+PRESUPUESTO!D22 -> 2.5 | D25: =+PRESUPUESTO!G22 -> CONSTRUCCIÓN DE POZOS ALCANTARILLADO SEGÚN PLANOS Y ESPECIFICACIONES. CON ALTURA 1<H<2 M, MUROS EN LADRILLO TOLETE COMÚN CON PAÑETE 1:3, PLACA DE FONDO Y CORONA DE 20 CM DE ESPESOR REFORZADA EN ACERO N°4, CAÑUELA EN CONCRETO, INCLUYE ESCALONES EN BARRAS N°8 DE ACERO CORRUGADO PINTADAS CON ANTICORROSIVO. (DIÁMETRO INTERNO 1.5 M) | M25: =+PRESUPUESTO!H22 -> und | O25: =+PRESUPUESTO!I22 -> 7
C26: I. EQUIPO
C29: DESCRIPCIÓN | H29: MARCA | J29: TIPO | L29: TARIFA/HORA | M29: RENDIMIENTO | O29: Vr. UNITARIO
C32: Herramienta Menor (%) | M32: 0.05 | O32: =+M32*O59 -> 67056.1
C33: SUBTOTAL $ | O33: =ROUND(SUM(O30:O32),0) -> 67056
C34: II. MATERIALES
C37: DESCRIPCIÓN | K37: UNIDAD | L37: CANTIDAD | M37: PRECIO UNIT. | O37: Vr. UNITARIO
C38: Ladrillo Tolete (incluye trasnporte) | K38: und | L38: 959 | M38: =VLOOKUP(C38,INSUMOS!C28:O57,13,FALSE) -> 1010 | O38: =L38*M38 -> 968590
C39: Acero PDR-60 | K39: kg | L39: 48 | M39: =VLOOKUP(C39,INSUMOS!C28:O59,13,FALSE) -> 4710 | O39: =+M39*L39 -> 226080
C40: Concreto resistencia 21 MPA | K40: m3 | L40: 0.84 | M40: =+'CON 21 MPA'!N56 -> 516548 | O40: =+M40*L40 -> 433900.32
C41: Mortero1:3 | K41: m3 | L41: 0.64 | M41: =+'MORTERO 1-3'!N53 -> 528106 | O41: =+M41*L41 -> 337987.84
C43: SUBTOTAL $ | O43: =ROUND(SUM(O38:O42),0) -> 1966558
C44: III. TRANSPORTES
C47: MATERIAL | J47: VOL. o PESO | K47: DISTANCIA | L47: ML o Ton/Km | M47: TARIFA | O47: Vr. UNITARIO
C50: SUBTOTAL $ | O50: =ROUND(SUM(O48:O49),0) -> 0
C51: IV. MANO DE OBRA
C54: TRABAJADOR | J54: JORNAL | K54: PRESTACIONES | L54: JORNAL TOTAL | M54: RENDIMIENTO | O54: Vr. UNITARIO
C55: Oficial | J55: =+INSUMOS!Q4 -> 80665.027 | K55: 1.85 | L55: =+K55*J55 -> 149230.3 | M55: 0.18 | O55: =+L55/M55 -> 829057.22
C56: Ayudante | J56: =+INSUMOS!Q5*1 -> 49822.486 | K56: 1.85 | L56: =+K56*J56 -> 92171.6 | M56: 0.18 | O56: =+L56/M56 -> 512064.44
C59: SUBTOTAL $ | O59: =ROUND(SUM(O55:O58),0) -> 1341122
C61: TOTAL COSTO DIRECTO $ | O61: =ROUND((O59+O50+O43+O33),0) -> 3374736
C62: V. COSTOS INDIRECTOS
C65: Descripción | L65: Porcentaje | M65: Valor Total
C66: ADMINISTRACION | M66: 0.29 | O66: =+M66*O61 -> 978673.44
C67: IMPREVISTOS | M67: 0.01 | O67: =+M67*O61 -> 33747.36
C68: UTILIDAD | M68: 0.05 | O68: =+M68*O61 -> 168736.8
C69: SUBTOTAL $ | O69: =SUM(O66:O68) -> 1181157.6
C71: Precio Unitario Total Aproximado al peso $ | O71: =ROUND(O69+O61,0) -> 4555894
...

Sheet 2.6
C3: Formulario 1 - Propuesta económica - Documento tipo de licitación de obra pública de agua potable y saneamiento básico
C4: Código | D4: CCE-EICP-FM-47 | E4: Versión | F4: 1
C6: [La entidad podrá utilizar este formato, o el establecido por la entidad, para la presentación de los análisis de precios unitarios del contratista en la oportunidad prevista en el numeral 8.1. del Documento Base]
D9: ALCALDÍA DEL MUNICIPIO DE MÁLAGA
L10: VERSIÓN
D11: =+PRESUPUESTO!C6 -> PRESUPUESTO OFICIAL OPTIMIZACIÓN DE UN TRAMO DEL COLECTOR DE LA RED DE ALCANTARILLADO SANITARIO UBICADO ENTRE EL BARRIO LA SALLE Y LA PARTE ALTA DE LA VEREDA GUASIMO SECTOR EL TABLÓN DEL MUNICIPIO DE MÁLAGA, SANTANDER
L12: PÁGINA | M12: 1 | N12: DE | O12: 1
D14: ANALISIS DE PRECIOS UNITARIOS
L16: FECHA | M16: DD | N16: MM | O16: AA
C18: ÍTEMS DE LA PROPUESTA ECONÓMICA | G18: X | I18: ÍTEMS NO PREVISTOS
C22: DATOS ESPECÍFICOS
C24: ÍTEM | D24: DESCRIPCIÓN | M24: UNIDAD | O24: CANTIDAD
C25: =+PRESUPUESTO!D23 -> 2.6 | D25: =+PRESUPUESTO!G23 -> CONSTRUCCIÓN DE POZOS ALCANTARILLADO SEGÚN PLANOS Y ESPECIFICACIONES. CON ALTURA 2<H<3 M, MUROS EN LADRILLO TOLETE COMÚN CON PAÑETE 1:3, PLACA DE FONDO Y CORONA DE 20 CM DE ESPESOR REFORZADA EN ACERO N°4, CAÑUELA EN CONCRETO, INCLUYE ESCALONES EN BARRAS N°8 DE ACERO CORRUGADO PINTADAS CON ANTICORROSIVO. (DIÁMETRO INTERNO 1.50 METROS) | M25: =+PRESUPUESTO!H23 -> und | O25: =+PRESUPUESTO!I23 -> 7
C26: I. EQUIPO
C29: DESCRIPCIÓN | H29: MARCA | J29: TIPO | L29: TARIFA/HORA | M29: RENDIMIENTO | O29: Vr. UNITARIO
C32: Herramienta Menor (%) | M32: 0.05 | O32: =+M32*O59 -> 67056.1
C33: SUBTOTAL $ | O33: =ROUND(SUM(O30:O32),0) -> 67056
C34: II. MATERIALES
C37: DESCRIPCIÓN | K37: UNIDAD | L37: CANTIDAD | M37: PRECIO UNIT. | O37: Vr. UNITARIO
C38: Ladrillo Tolete (incluye trasnporte) | K38: und | L38: 1439 | M38: =VLOOKUP(C38,INSUMOS!C28:O57,13,FALSE) -> 1010 | O38: =L38*M38 -> 1453390
C39: Acero PDR-60 | K39: kg | L39: 48 | M39: =VLOOKUP(C39,INSUMOS!C28:O59,13,FALSE) -> 4710 | O39: =+M39*L39 -> 226080
C40: Concreto resistencia 21 MPA | K40: m3 | L40: 0.5 | M40: =+'CON 21 MPA'!N56 -> 516548 | O40: =+M40*L40 -> 258274
C41: Mortero1:3 | K41: m3 | L41: 0.97 | M41: =+'MORTERO 1-3'!N53 -> 528106 | O41: =+M41*L41 -> 512262.82
C43: SUBTOTAL $ | O43: =ROUND(SUM(O38:O42),0) -> 2450007
C44: III. TRANSPORTES
C47: MATERIAL | J47: VOL. o PESO | K47: DISTANCIA | L47: ML o Ton/Km | M47: TARIFA | O47: Vr. UNITARIO
C50: SUBTOTAL $ | O50: =ROUND(SUM(O48:O49),0) -> 0
C51: IV. MANO DE OBRA
C54: TRABAJADOR | J54: JORNAL | K54: PRESTACIONES | L54: JORNAL TOTAL | M54: RENDIMIENTO | O54: Vr. UNITARIO
C55: Oficial | J55: =+INSUMOS!Q4 -> 80665.027 | K55: 1.85 | L55: =+K55*J55 -> 149230.3 | M55: 0.18 | O55: =+L55/M55 -> 829057.22
C56: Ayudante | J56: =+INSUMOS!Q5*1 -> 49822.486 | K56: 1.85 | L56: =+K56*J56 -> 92171.6 | M56: 0.18 | O56: =+L56/M56 -> 512064.44
C59: SUBTOTAL $ | O59: =ROUND(SUM(O55:O58),0) -> 1341122
C61: TOTAL COSTO DIRECTO $ | O61: =ROUND((O59+O50+O43+O33),0) -> 3858185
C62: V. COSTOS INDIRECTOS
C65: Descripción | L65: Porcentaje | M65: Valor Total
C66: ADMINISTRACION | M66: 0.29 | O66: =+M66*O61 -> 1118873.6
C67: IMPREVISTOS | M67: 0.01 | O67: =+M67*O61 -> 38581.85
C68: UTILIDAD | M68: 0.05 | O68: =+M68*O61 -> 192909.25
C69: SUBTOTAL $ | O69: =SUM(O66:O68) -> 1350364.8
C71: Precio Unitario Total Aproximado al peso $ | O71: =ROUND(O69+O61,0) -> 5208550
...

Sheet 2.7
C3: Formulario 1 - Propuesta económica - Documento tipo de licitación de obra pública de agua potable y saneamiento básico
C4: Código | D4: CCE-EICP-FM-47 | E4: Versión | F4: 1
C6: [La entidad podrá utilizar este formato, o el establecido por la entidad, para la presentación de los análisis de precios unitarios del contratista en la oportunidad prevista en el numeral 8.1. del Documento Base]
D9: ALCALDÍA DEL MUNICIPIO DE MÁLAGA
L10: VERSIÓN
D11: =+PRESUPUESTO!C6 -> PRESUPUESTO OFICIAL OPTIMIZACIÓN DE UN TRAMO DEL COLECTOR DE LA RED DE ALCANTARILLADO SANITARIO UBICADO ENTRE EL BARRIO LA SALLE Y LA PARTE ALTA DE LA VEREDA GUASIMO SECTOR EL TABLÓN DEL MUNICIPIO DE MÁLAGA, SANTANDER
L12: PÁGINA | M12: 1 | N12: DE | O12: 1
D14: ANALISIS DE PRECIOS UNITARIOS
L16: FECHA | M16: DD | N16: MM | O16: AA
C18: ÍTEMS DE LA PROPUESTA ECONÓMICA | G18: X | I18: ÍTEMS NO PREVISTOS
C22: DATOS ESPECÍFICOS
C24: ÍTEM | D24: DESCRIPCIÓN | M24: UNIDAD | O24: CANTIDAD
C25: =+PRESUPUESTO!D24 -> 2.7 | D25: =+PRESUPUESTO!G24 -> SUMINISTRO, INSTALACIÓN Y COMPACTACIÓN DE RELLENO EN RECEBO TAMAÑO MÁXIMO 1" PARA ATRAQUES DE TUBERÍA | M25: =+PRESUPUESTO!H24 -> m3 | O25: =+PRESUPUESTO!I24 -> 147.01
C26: I. EQUIPO
C29: DESCRIPCIÓN | H29: MARCA | J29: TIPO | L29: TARIFA/HORA | M29: RENDIMIENTO | O29: Vr. UNITARIO
C30: Compactador manual (Rana) | L30: 15000 | M30: 0.36 | O30: =M30*L30 -> 5400
C32: Herramienta Menor (%) | M32: 0.05 | O32: =+M32*O59 -> 1005.85
C33: SUBTOTAL $ | O33: =ROUND(SUM(O30:O32),0) -> 6406
C34: II. MATERIALES
C37: DESCRIPCIÓN | K37: UNIDAD | L37: CANTIDAD | M37: PRECIO UNIT. | O37: Vr. UNITARIO
C38: Recebo Tamaño maximo 1" | K38: m3 | L38: 1.2 | M38: =VLOOKUP(C38,INSUMOS!C28:O59,13,FALSE) -> 53838.384 | O38: =L38*M38 -> 64606.061
C43: SUBTOTAL $ | O43: =ROUND(SUM(O38:O42),0) -> 64606
C44: III. TRANSPORTES
C47: MATERIAL | J47: VOL. o PESO | K47: DISTANCIA | L47: M3 o Ton/Km | M47: TARIFA | O47: Vr. UNITARIO
C48: Transporte de Material | J48: m3 | K48: 15 | L48: 1 | M48: 1111.1111 | O48: =+M48*L48*K48 -> 16666.667
C50: SUBTOTAL $ | O50: =ROUND(SUM(O48:O49),0) -> 16667
C51: IV. MANO DE OBRA
C54: TRABAJADOR | J54: JORNAL | K54: PRESTACIONES | L54: JORNAL TOTAL | M54: RENDIMIENTO | O54: Vr. UNITARIO
C55: Oficial | J55: =+INSUMOS!Q4 -> 80665.027 | K55: 1.85 | L55: =+K55*J55 -> 149230.3 | M55: 12 | O55: =+L55/M55 -> 12435.858
C56: Ayudante | J56: =+INSUMOS!Q5*1 -> 49822.486 | K56: 1.85 | L56: =+K56*J56 -> 92171.6 | M56: 12 | O56: =+L56/M56 -> 7680.9667
C59: SUBTOTAL $ | O59: =ROUND(SUM(O55:O58),0) -> 20117
C61: TOTAL COSTO DIRECTO $ | O61: =ROUND((O59+O50+O43+O33),0) -> 107796
C62: V. COSTOS INDIRECTOS
C65: Descripción | L65: Porcentaje | M65: Valor Total
C66: ADMINISTRACION | M66: 0.29 | O66: =+M66*O61 -> 31260.84
C67: IMPREVISTOS | M67: 0.01 | O67: =+M67*O61 -> 1077.96
C68: UTILIDAD | M68: 0.05 | O68: =+M68*O61 -> 5389.8
C69: SUBTOTAL $ | O69: =SUM(O66:O68) -> 37728.6
C71: Precio Unitario Total Aproximado al peso $ | O71: =ROUND(O69+O61,0) -> 145525
C80: OBSERVACIONES INTERVENTORÍA
...

Sheet 2.8
C3: Formulario 1 - Propuesta económica - Documento tipo de licitación de obra pública de agua potable y saneamiento básico
C4: Código | D4: CCE-EICP-FM-47 | E4: Versión | F4: 1
C6: [La entidad podrá utilizar este formato, o el establecido por la entidad, para la presentación de los análisis de precios unitarios del contratista en la oportunidad prevista en el numeral 8.1. del Documento Base]
D9: ALCALDÍA DEL MUNICIPIO DE MÁLAGA
L10: VERSIÓN
D11: =+PRESUPUESTO!C6 -> PRESUPUESTO OFICIAL OPTIMIZACIÓN DE UN TRAMO DEL COLECTOR DE LA RED DE ALCANTARILLADO SANITARIO UBICADO ENTRE EL BARRIO LA SALLE Y LA PARTE ALTA DE LA VEREDA GUASIMO SECTOR EL TABLÓN DEL MUNICIPIO DE MÁLAGA, SANTANDER
L12: PÁGINA | M12: 1 | N12: DE | O12: 1
D14: ANALISIS DE PRECIOS UNITARIOS
L16: FECHA | M16: DD | N16: MM | O16: AA
C18: ÍTEMS DE LA PROPUESTA ECONÓMICA | G18: X | I18: ÍTEMS NO PREVISTOS
C22: DATOS ESPECÍFICOS
C24: ÍTEM | D24: DESCRIPCIÓN | M24: UNIDAD | O24: CANTIDAD
C25: =+PRESUPUESTO!D25 -> 2.8 | D25: =+PRESUPUESTO!G25 -> INSTALACIÓN Y COMPACTACIÓN DE RELLENO CON MATERIAL PROVENIENTE DE LA EXCAVACIÓN | M25: =+PRESUPUESTO!H25 -> m3 | O25: =+PRESUPUESTO!I25 -> 880.40236
C26: I. EQUIPO
C29: DESCRIPCIÓN | H29: MARCA | J29: TIPO | L29: TARIFA/DIA | M29: RENDIMIENTO | O29: Vr. UNITARIO
