Workbook
Name APU: APU!#REF!
Name APUAUXILIARES: 'APU AUXILIARES'!$A$1:$G$813
Name CODIGOEQUIPOS: 'INSUMOS EQUIPOS'!$A$7:$A$50
Name CODIGOMATERIALES: 'INSUMOS MATERIALES'!$A$7:$A$99
Name CÓDIGOS_EQUIPOS: '[7]INSUMOS EQUIPOS'!$A$8:$A$105
Name CÓDIGOS_MANO_DE_OBRA: '[7]INSUMOS MANO DE OBRA'!$A$8:$A$63
Name CODIGOSMANODEOBRA: 'INSUMOS MANO DE OBRA'!$A$7:$A$61
Name CODIGOSSERVICIOS: 'INSUMOS SERVICIOS'!$A$7:$A$21
Name CODIGOTRANSPORTES: 'INSUMOS TRANSPORTES'!$A$7:$A$33
Name FACTORPRESTACIONAL: 'FACTOR PRESTACIONAL'!$A$7:$BE$32
Name INSUMOS_EQUIPOS: '[7]INSUMOS EQUIPOS'!$A$1:$D$105
Name INSUMOS_MANO_DE_OBRA: '[7]INSUMOS MANO DE OBRA'!$A$1:$H$63
Name INSUMOSEQUIPOS: 'INSUMOS EQUIPOS'!$A$7:$D$49
Name INSUMOSMANODEOBRA: 'INSUMOS MANO DE OBRA'!$A$7:$H$61
Name INSUMOSMATERIALES: 'INSUMOS MATERIALES'!$A$7:$D$99
Name INSUMOSSERVICIOS: 'INSUMOS SERVICIOS'!$A$7:$D$21
Name INSUMOSTRANSPORTES: 'INSUMOS TRANSPORTES'!$A$7:$D$33
Name MEMORIAS: MEMORIAS!$A$16:$H$44
Name PRESUPUESTO: 'FICHA TECNICA'!$A$7:$H$15
Name PRESUPUESTO: PRESUPUESTO!$A$7:$H$15

Sheet DATOS INICIALES
B1: DEPARTAMENTO DE ANTIOQUIA
B2: MUNICIPIO DE DABEIBA
B3: =B7 -> REPARACIÓN DE LA RED DE CONDUCCIÓN DEL SISTEMA DE ACUEDUCTO UBICADA EN EL CRUCE CON LA QUEBRADA LA DESMOTADORA, RED QUE ABASTECE A LA PLANTA JJ GUZMÁN
B5: DATOS INICIALES
A6: ENTIDAD: | B6: MUNICIPIO DE DABEIBA | C6: Elija el municipio de la lista desplegable
A7: NOMBRE DEL PROYECTO: | B7: REPARACIÓN DE LA RED DE CONDUCCIÓN DEL SISTEMA DE ACUEDUCTO UBICADA EN EL CRUCE CON LA QUEBRADA LA DESMOTADORA, RED QUE ABASTECE A LA PLANTA JJ GUZMÁN | C7: Digite el nombre del proyecto. Recuerde que debe coincidir con el objeto del contrato resultante de este proceso.
A8: RESPONSABLE: | B8: SANTIAGO MUÑOZ CARDONA | C8: Digite el nombre del profesional responsable del presupuesto.
A9: CARGO DE RESPONSABLE: | B9: PROFESIONAL UNIVERSITARIO | C9: Digite el cargo del profesional responsable del presupuesto.
A10: DEPENDENCIA DE RESPONSABLE: | B10: SECRETARÍA DE PLANEACIÓN Y HABITAT | C10: Digite el nombre de la dependencia del profesional responsable del presupuesto.
A11: MATRÍCULA PROFESIONAL RESPONSABLE: | B11: MAT No. 011037-0663929 ANT | C11: Digite la matrícula profesional del profesional responsable del presupuesto.
A12: SALARIO MÍNIMO MENSUAL VIGENTE: | B12: 1423500
A13: AUXILIO DE TRANSPORTE VIGENTE: | B13: 200000
A14: EXONERADO ART 114-1 ET PARA LA OBRA: | B14: SI | C14: Elegir de las listas desplegables (Ver artículo 114-1 del Estatuto Tributario. Cabe aclarar que, al momento de proyectar los documentos del proceso de selección, deberá incluirse el método o procedimiento mediante el cual la Administración se asegurará de que, si el contratista elegido es de naturaleza contraria a esta decisión, el equilibrio contractual se encuentre garantizado).
A15: EXONERADO ART 114-1 ET PARA LA INTERVENTORÍA | B15: SI
A16: NIVEL DE RIESGO ARL APLICABLE | B16: V | C16: Elegir de la lista desplegable (Ver Decreto 1607 de 2002 para asignación de Riesgo ARL Aplicable).
A17: % ARL | B17: =+IF(B16="I",0.522%,IF(B16="II",1.044%,IF(B16="III",2.436%,IF(B16="IV",4.35%,6.96%)))) -> 0.0696
A18: DURACIÓN ESTIMADA DE OBRA (MESES) | B18: 1 | C18: Digite la duración de la obra de acuerdo al cronograma
A19: DISTANCIA A SITIO DE BOTADA DE TIERRA (KM) | B19: 5 | C19: Digite la distancia al sitio de botada de tierra de acuerdo al certificado expedido por la entidad.
A20: DISTANCIA A SITIO DE BOTADA DE ESCOMBROS (KM) | B20: 5 | C20: Digite la distancia al sitio de botada de escombros de acuerdo al certificado expedido por la entidad.
A21: DISTANCIA A SITIO DE PROVISIÓN DE MATERIAL DE PLAYA (ARENILLON, PIEDRA RODADA DE RIO) (KM) | B21: 10 | C21: Digite la distancia al sitio de provisión de material de playa de acuerdo al certificado expedido por la entidad.
A22: DISTANCIA A SITIO DE PROVISIÓN DE MATERIAL DE PLAYA (TRITURADO) (KM) | B22: 10 | C22: Digite la distancia al sitio de provisión de material de playa de acuerdo al certificado expedido por la entidad.
A23: DISTANCIA A SITIO DE PROVISIÓN DE MATERIAL GRANULAR (KM) | B23: 5 | C23: Digite la distancia al sitio de provisión de material granular de acuerdo al certificado expedido por la entidad.
A24: DISTANCIA A SITIO DE PROVISIÓN DE INSUMOS GENERALES (KM) | B24: 5 | C24: Digite la distancia al sitio de provisión de insumos generales de acuerdo al certificado expedido por la entidad.
A25: DISTANCIA A SITIO DE PROVISIÓN DE ASFALTOS (KM) | C25: Digite la distancia al sitio de provisión de asfaltos de acuerdo al certificado expedido por la entidad.
A26: PÓLIZA DE RCE EXIGIBLE A LA INTERVENTORÍA | B26: SI | C26: Elegir de la lista desplegable si se solicitará a la interventoría la póliza de responsabilidad civil extracontractual
A31: HADY LORENA
A32: Secretaría de Planeación e Infraestructura
A46: Fecha de actualización: 12 de SEPTIEMBRE de 2025 | B46: Nota 1: El archivo contiene referencias circulares, por lo tanto se debe tener activo el calculo iterativo de las fórmulas

Sheet FICHA TECNICA
A1: DEPARTAMENTO DE ANTIOQUIA
A2: ='DATOS INICIALES'!B2 -> MUNICIPIO DE DABEIBA
A3: ='DATOS INICIALES'!B3 -> REPARACIÓN DE LA RED DE CONDUCCIÓN DEL SISTEMA DE ACUEDUCTO UBICADA EN EL CRUCE CON LA QUEBRADA LA DESMOTADORA, RED QUE ABASTECE A LA PLANTA JJ GUZMÁN
A5: PRESUPUESTO GENERAL
A7: ITEM | D7: DESCRIPCIÓN | E7: UNIDAD | F7: CANTIDAD | G7: VR.UNITARIO | H7: VALOR TOTAL
A9: 1 | D9: PROTECCIÓN DE RED DE SUMINISTRO | H9: =SUM(H10:H14) -> 0
A10: 1.1 | D10: Suministro, transporte e Instalación de llave de cierre de protección en piedra de 3000 PSI. | E10: m3 | F10: =MEMORIAS!H8 -> 2.16
A11: 1.2 | D11: Suministro, transporte e instalación de cimentación en Concreto Ciclopeo 21Mpa (3000psi) relación 60 c / 40 p para Estructura Hidráulica. Se utilizarán los Bolos ubicados en obra. | E11: m3 | F11: =+MEMORIAS!H23 -> 9.075
A12: 1.3 | D12: Suministro, transporte e Instalación de Acero de Refuerzo para Estructuras Hidráulicas. | E12: Kg | F12: =+MEMORIAS!H38 -> 112
A13: 1.4 | D13: Suministro, transporte e instalación de Tubería PE 100 PN 16 RDE 11 DE 160mm | E13: ML | F13: =+MEMORIAS!H57 -> 10
A14: 1.5 | D14: Suministro, transporte e Instalación de Unión Victaulic 905 en HD para PE 160mm | E14: UND | F14: =+MEMORIAS!H66 -> 3
A15: SUBTOTAL COSTOS DIRECTOS
A16: %ADMINISTRACIÓN
A17: %UTILIDADES
A18: VALOR TOTAL OBRA (COSTOS DIRECTO + INDIRECTOS)
H21: 19712972

Sheet PRESUPUESTO
A1: DEPARTAMENTO DE ANTIOQUIA
A2: ='DATOS INICIALES'!B2 -> MUNICIPIO DE DABEIBA
A3: ='DATOS INICIALES'!B3 -> REPARACIÓN DE LA RED DE CONDUCCIÓN DEL SISTEMA DE ACUEDUCTO UBICADA EN EL CRUCE CON LA QUEBRADA LA DESMOTADORA, RED QUE ABASTECE A LA PLANTA JJ GUZMÁN
A5: PRESUPUESTO GENERAL
A7: ITEM | D7: DESCRIPCIÓN | E7: UNIDAD | F7: CANTIDAD | G7: VR.UNITARIO | H7: VALOR TOTAL
A9: 1 | D9: PROTECCIÓN DE RED DE SUMINISTRO | H9: =SUM(H10:H14) -> 14654099
A10: 1.1 | D10: Suministro, transporte e Instalación de llave de cierre de protección en piedra de 3000 PSI. | E10: m3 | F10: =MEMORIAS!H8 -> 2.16 | G10: =+APU!G45 -> 881759 | H10: =F10*G10 -> 1904599.4
A11: 1.2 | D11: Suministro, transporte e instalación de cimentación en Concreto Ciclopeo 21Mpa (3000psi) relación 60 c / 40 p para Estructura Hidráulica. Se utilizarán los Bolos ubicados en obra. | E11: m3 | F11: =+MEMORIAS!H23 -> 9.075 | G11: =+APU!G70 -> 631714 | H11: =+G11*F11 -> 5732804.5
A12: 1.3 | D12: Suministro, transporte e Instalación de Acero de Refuerzo para Estructuras Hidráulicas. | E12: Kg | F12: =+MEMORIAS!H38 -> 112 | G12: =+APU!G174 -> 10739 | H12: =+G12*F12 -> 1202768
A13: 1.4 | D13: Suministro, transporte e instalación de Tubería PE 100 PN 16 RDE 11 DE 160mm | E13: ML | F13: =+MEMORIAS!H57 -> 10 | G13: =+APU!G239 -> 219839 | H13: =+G13*F13 -> 2198390
A14: 1.5 | D14: Suministro, transporte e Instalación de Unión Victaulic 905 en HD para PE 160mm | E14: UND | F14: =+MEMORIAS!H66 -> 3 | G14: =+APU!G305 -> 1205179 | H14: =+G14*F14 -> 3615537
A15: SUBTOTAL COSTOS DIRECTOS | H15: =+H9 -> 14654099
A16: %ADMINISTRACIÓN | G16: =+AIU!I46 -> 0.2819 | H16: =IFERROR(H15*G16,"") -> 4130990.5
A17: %UTILIDADES | G17: =+AIU!I48 -> 0.05 | H17: =IFERROR(H15*G17,"") -> 732704.95
A18: VALOR TOTAL OBRA (COSTOS DIRECTO + INDIRECTOS) | H18: =H17+H16+H15 -> 19517794
A19: EDU | G19: 0.01 | H19: =(H18)*G19 -> 195177.94
A20: TOTAL COSTOS DEL PROYECTO | H20: =H18+H19 -> 19712972
H23: 19712972

Sheet PAGA
A1: DEPARTAMENTO DE ANTIOQUIA
A2: ='DATOS INICIALES'!B2 -> MUNICIPIO DE DABEIBA
A3: ='DATOS INICIALES'!B3 -> REPARACIÓN DE LA RED DE CONDUCCIÓN DEL SISTEMA DE ACUEDUCTO UBICADA EN EL CRUCE CON LA QUEBRADA LA DESMOTADORA, RED QUE ABASTECE A LA PLANTA JJ GUZMÁN
A5: PROGRAMA DE ADAPTACION DE LA GUIA AMBIENTAL DE INVIAS – PAGA.
A7: ITEM | B7: DESCRIPCIÓN | C7: UNIDAD | D7: CANTIDAD | E7: VR.UNITARIO | F7: VALOR TOTAL | H7: EQUIPOS | I7: MATERIALES | J7: TRANSPORTES | K7: MANO DE OBRA | L7: SERVICIOS | M7: TOTAL
A8: 1 | B8: PROGRAMA / PROYECTO GESTIÓN AMBIENTAL
A9: 1.1 | B9: CUMPLIMIENTO DE REQUISITOS LEGALES
B10: TRAMITE DE PERMISO DE OCUPACIÓN DE CAUCE | C10: UN | D10: N/A | F10: 0
A11: 1.2 | B11: MANEJO Y DISPOSICION FINAL DE RESIDUOS SOLIDOS CONVENCIONALES Y ESPECIALES
B12: JUEGO DE TRES RECIPIENTES O CANECAS DE 55 GALONES, PUNTO ECOLOGICO CON SEÑALIZACIÓN INCLUYE IVA | C12: UN | D12: 1 | E12: 350000 | F12: =+IF(D12*E12=0,"",D12*E12) -> 350000
B13: BOLSAS POLIETILENO ALTA DENSIDAD (PAQUETE 100 UNIDADES DE 100 X 100). INCLUYE IVA | C13: UN | D13: =4*4 -> 16 | E13: 18000 | F13: =+IF(D13*E13=0,"",D13*E13) -> 288000
B14: DISPOSICIÓN DE RESIDUOS PELIGROSOS Y ESPECIALES CON EMPRESAS CERTIFICADAS | C14: MES | D14: 4 | E14: 70000 | F14: =+IF(D14*E14=0,"",D14*E14) -> 280000
A15: 1.3 | B15: SEÑALIZACIÓN FRENTES DE OBRAS Y SITIOS TEMPORALES (DEMARCACIÓN DE ÁREAS DE TRABAJO Y CENTROS DE ACOPIO)
B16: TELA VERDE ZARÁN DE H=2,50 Y ESTACONES REDONDOS CADA 1,50M | C16: M | D16: 100 | E16: 12000 | F16: =+IF(D16*E16=0,"",D16*E16) -> 1200000
B17: CINTA SEÑALIZACIÓN CALIBRE 4, 12 CM DE ALTO, COLOR NARANJA - BLANCO O AMARILLO- NEGRO, DE 500 M. (INCLUYE IVA) | C17: ML | D17: 1000 | E17: 60 | F17: =+IF(D17*E17=0,"",D17*E17) -> 60000
A18: 1.4 | B18: PROYECTO DE MANEJO INTEGRAL DE MATERIALES DE CONSTRUCCION Y MANEJO DE FUENTES DE EMISIONES ATMOSFÉRICAS
B19: HUMECTACIÓN DE VÍA/ÁREAS DE TRABAJO PARA CONTROL DE MATERIAL PARTICULADO (INCLUYE IVA) | C19: DÍA | D19: =4*4 -> 16 | E19: 100000 | F19: =+IF(D19*E19=0,"",D19*E19) -> 1600000
B20: TELERAS 1,35M X 0,90 M | C20: UN | D20: 4 | E20: 80000 | F20: =+IF(D20*E20=0,"",D20*E20) -> 320000
B21: LAVADERO DE LLANTAS | C21: UN | D21: 1 | E21: 300000 | F21: =+IF(D21*E21=0,"",D21*E21) -> 300000
B22: PLÁSTICO NEGRO POLIETILENO DE GRUESO CALIBRE, (150 M, CALIBRE 3.5 ANCHO DE 3 M). | C22: ROLLO | D22: 4 | E22: 180000 | F22: =+IF(D22*E22=0,"",D22*E22) -> 720000
A23: 1.5 | B23: MANEJO DE RESIDUOS LÍQUIDOS DOMÉSTICOS E INDUSTRIALES
B24: KIT DE EMERGENCIA PARA DERRAMES | C24: UN | D24: 1 | E24: 180000 | F24: =+IF(D24*E24=0,"",D24*E24) -> 180000
B25: SUBTOTAL GESTIÓN AMBIENTAL | F25: =IF(SUM(F8:F24)=0,"",SUM(F8:F24)) -> 5298000
A26: 2 | B26: PROGRAMA DE SEGURIDAD Y SALUD EN EL TRABAJO
A27: 2.1 | B27: DOTACIÓN DE CAMPAMENTOS /INSTALACIONES PROVISIONALES
B28: SEÑALES DE CAMPAMENTO - AVISOS EN POLIETILENO DE 30 X 50 CM (INCLUYE IVA) | C28: UN | D28: 2 | E28: 25000 | F28: =+IF(D28*E28=0,"",D28*E28) -> 50000
B29: CAMILLA EMERGENCIA POLIETILENO 185X45CM (INCLUYE IVA) | C29: UN | D29: 1 | E29: 160000 | F29: =+IF(D29*E29=0,"",D29*E29) -> 160000
B30: EXTINTOR ABC 20 LB (INCLUYE IVA) | C30: UN | D30: 1 | E30: 100000 | F30: =+IF(D30*E30=0,"",D30*E30) -> 100000
B31: BOTIQUÍN CRUZ ROJA DE PRIMEROS AUXILIOS REF. 115 EN LONA | C31: UN | D31: 1 | E31: 180000 | F31: =+IF(D31*E31=0,"",D31*E31) -> 180000
A32: 2.2 | B32: IMAGEN INSTITUCIONAL
B33: LONA PARA VEHÍCULO (VOLQUETA O CAMIÓN) DE 1,50 X 0,80 M, IMPRESIÓN INJEKT RESISTENTE A LA INTEMPERIE | C33: UN | D33: 2 | E33: 200000 | F33: =+IF(D33*E33=0,"",D33*E33) -> 400000
B34: CARNÉ PERSONAL. | C34: UN | D34: 10 | E34: 5000 | F34: =+IF(D34*E34=0,"",D34*E34) -> 50000
B35: SUBTOTAL GESTIÓN SEGURIDAD Y SALUD EN EL TRABAJO | F35: =IF(SUM(F26:F34)=0,"",SUM(F26:F34)) -> 940000
A36: 3 | B36: GESTIÓN SOCIAL
A37: 3.1 | B37: INFORMACIÓN Y DIVULGACIÓN
B38: PRODUCTOS DE LITOGRAFIA: AFICHES, VOLANTES, PLEGABLES, FORMATOS. | C38: UN | D38: 300 | E38: 500 | F38: =+IF(D38*E38=0,"",D38*E38) -> 150000
B39: BUZÓN PQRS EN ACRÍLICO SEGÚN DISEÑO SUMINISTRADO POR LA ENTIDAD (0,35M*0,45M) | C39: UN | D39: 1 | E39: 80000 | F39: =+IF(D39*E39=0,"",D39*E39) -> 80000
B40: REUNIONES, TALLERES INFORMATIVOS Y DE SOCIALIZACIÓN CON LA COMUNIDAD AFECTADA POR EL PROYECTO. INICIO, AVANCE Y FIN DE OBRA. INCLUYE LOGÍSTICA Y REFRIGERIOS. | C40: UN | D40: 3 | E40: 200000 | F40: =+IF(D40*E40=0,"",D40*E40) -> 600000
B41: SUBTOTAL GESTIÓN SOCIAL | F41: =IF(SUM(F36:F40)=0,"",SUM(F36:F40)) -> 830000
A42: TOTAL PLAN DE MANEJO AMBIENTAL - PMA | F42: =IF(SUM(F10:F41)=0,"",SUM(F25,F35,F41)) -> 7068000
...

Sheet PMT
A1: DEPARTAMENTO DE ANTIOQUIA
A2: MUNICIPIO DE DABEIBA
A3: ='DATOS INICIALES'!B7 -> REPARACIÓN DE LA RED DE CONDUCCIÓN DEL SISTEMA DE ACUEDUCTO UBICADA EN EL CRUCE CON LA QUEBRADA LA DESMOTADORA, RED QUE ABASTECE A LA PLANTA JJ GUZMÁN
A5: PLAN DE MANEJO DE TRÁNSITO - PMT
A7: ITEM | B7: CÓDIGO | C7: DESCRIPCIÓN | D7: UNIDAD | E7: CANTIDAD | F7: PLAZO | G7: VR.UNITARIO | H7: VALOR TOTAL
A8: 1. DISPOSITIVOS DE CONTROL
A9: 1.1 | C9: BARRICADAS | D9: UNIDAD | E9: 4 | G9: 32000 | H9: =+IF(E9*G9=0,"",E9*G9) -> 128000
A10: 1.2 | C10: PALETAS DE PARE Y SIGA | D10: UNIDAD | E10: 4 | G10: 25000 | H10: =+IF(E10*G10=0,"",E10*G10) -> 100000
A11: 1.3 | C11: DELINEADORES TUBULARES (COLOMBINAS) | D11: UNIDAD | E11: 4 | G11: 40000 | H11: =+IF(E11*G11=0,"",E11*G11) -> 160000
A12: 1.4 | C12: CINTA PLASTICA PELIGRO NO PASE | D12: ML | E12: 1000 | G12: =20000/500 -> 40 | H12: =+IF(E12*G12=0,"",E12*G12) -> 40000
A13: 2. SEÑALIZACION
A14: 2.1 | C14: SEÑALIZACION PRIMER NIVEL (PASAVIAS EN TELA) | D14: UNIDAD | E14: 2 | G14: 150000 | H14: =+IF(E14*G14=0,"",E14*G14) -> 300000
A15: 2.2 | C15: SEÑALES MOVILES DE APROXIMACION | D15: UNIDAD | E15: 2 | G15: 200000 | H15: =+IF(E15*G15=0,"",E15*G15) -> 400000
A16: 3. EQUIPOS VARIOS
A17: 3.1 | C17: CHALECOS REFLECTIVOS | D17: UNIDAD | E17: 2 | G17: 15000 | H17: =+IF(E17*G17=0,"",E17*G17) -> 30000
A18: 3.2 | C18: VOLANTES INFORMATIVOS | D18: UNIDAD | E18: 300 | G18: 500 | H18: =+IF(E18*G18=0,"",E18*G18) -> 150000
A19: 3.3 | C19: PITOS PARA AUXILIARES DE TRANSITO | D19: UNIDAD | E19: 2 | G19: 2000 | H19: =+IF(E19*G19=0,"",E19*G19) -> 4000
A20: 3.4 | C20: PAPELERIA E INFORMES | D20: MES | E20: 1 | G20: 150000 | H20: =+IF(E20*G20=0,"",E20*G20) -> 150000
A21: 3.5 | B21: EQ010 | C21: RADIOTELÉFONOS PARE-SIGA | D21: MES | E21: 1 | F21: 6 | G21: 51800 | H21: =+IF(E21*G21*F21=0,"",E21*G21*F21) -> 310800
A22: 4. PERSONAL
A23: 4.1 | B23: MO038 | C23: AUXILIAR PARE-SIGA | D23: MES | E23: 2 | F23: 6 | G23: =('FACTOR PRESTACIONAL'!AL11+'FACTOR PRESTACIONAL'!AL12)*'FACTOR PRESTACIONAL'!AM32 -> 2906065 | H23: =+IF(E23*G23*F23=0,"",E23*G23*F23) -> 34872780
A24: TOTAL PLAN DE MANEJO DE TRÁNSITO - PMT | H24: =IF(SUM(H8:H23)=0,"",SUM(H8:H23)) -> 36645580

Sheet PAPSO 
A3: PRESUPUESTO OFICIAL
A4: ='DATOS INICIALES'!B7 -> REPARACIÓN DE LA RED DE CONDUCCIÓN DEL SISTEMA DE ACUEDUCTO UBICADA EN EL CRUCE CON LA QUEBRADA LA DESMOTADORA, RED QUE ABASTECE A LA PLANTA JJ GUZMÁN
A5: PROTOCOLO DE BIOSEGURIDAD COVID 19
A6: Plazo | B6: (6) seis meses
A7: Presupuesto de Implementación Protocolo de Bioseguridad
A8: ITEM | B8: DETALLE | C8: UNIDAD DE MEDIDA | D8: OCASIÓN | E8: CANTIDAD MENSUAL | F8: VALOR UNITARIO | G8: VALOR TOTAL | H8: CANTIDADES MAXIMAS | I8: ESPECIFICACIÓN | J8: EQUIPOS | K8: MATERIALES | L8: TRANSPORTES | M8: MANO DE OBRA | N8: SERVICIOS | O8: TOTAL
A9: 1 | B9: Alcohol antiséptico al 70% | C9: Litro | D9: 4 | E9: =27*0.006*30 -> 4.86 | F9: 9000 | G9: =D9*E9*F9 -> 174960 | H9: 0,006 Litro por día por persona | I9: Antiséptico 70%. Ingrediente activo alcohol etílico potabilizado al 96%. Debe contar con registro INVIMA
A10: 2 | B10: Gel antibacterial | C10: Litro | D10: 4 | E10: =0.003*27*30 -> 2.43 | F10: 11085 | G10: =ROUND(D10*E10*F10,0) -> 107746 | H10: 0,003 litros por día por persona. | I10: No requiere enjuague. Antiséptico para manos. Anticorrosivo. PH entre 6 y 7,5. Gel en base Glicerina + Alcohol antiséptico al 70%. Contenido de agua máximo 30%. Adicionado con emulientes y humectantes. Debe contar con registro INVIMA
A11: 3 | B11: Jabón líquido antibacterial | C11: Litro | D11: 4 | E11: =0.005*27*30 -> 4.05 | F11: 3995 | G11: =D11*E11*F11 -> 64719 | H11: 0,005 litros por día por persona | I11: Agente limpiador 6%. Agente humectante 3%, PH 5,5 a 7,0.
A12: 4 | B12: Hipoclorito de uso doméstico | C12: Litro | D12: 4 | E12: =27*0.05*1*0.15*30 -> 6.075 | F12: 2774 | G12: =ROUND(D12*E12*F12,0) -> 67408 | H12: 0,05 litros por cada litro de solución a 2500 ppm, para lavado rutinario. | I12: Hipoclorito de sodio al 5%(NaOCl), solución acuosa, libre de partículas, de control bacteriológico y microbiológico.
A13: 5 | B13: Tapabocas reutilizable en tela | C13: Unidad | D13: 4 | E13: =4*27 -> 108 | F13: 1000 | G13: =D13*E13*F13 -> 432000 | H13: 4 unidades por mes por persona | I13: Se deben seguir las especificaciones de la Resolución 666 del 24 de abril de 2020 y el documento soporte GIPS18 expedidos por el Ministerio de Salud
A14: 6 | B14: Guantes de nitrilo | C14: Par | D14: 4 | E14: =8*27 -> 216 | F14: 598 | G14: =D14*E14*F14 -> 516672 | H14: 2 pares por semana por persona | I14: NTC 2190; UNE EN 374, UNE EN 388, UNE EN 420, UNE EN 455. No esteril. Reutilizables o lavables de calibre de 0.05 mm o 2 mils.
A15: 7 | B15: Termómetro digital infrarrojo | C15: Unidad | D15: 4 | E15: 1 | F15: 299900 | G15: =D15*E15*F15 -> 1199600 | H15: 1 por la obra | I15: Sensibilidad a 0.1 °C. Debe ser específicamente diseñado para leer temperatura corporal y no para cualquier superficie.
A16: 8 | B16: Bomba de espalda | C16: Unidad | D16: 4 | E16: 1 | F16: 124900 | G16: =D16*E16*F16 -> 499600 | H16: 1 por la obra | I16: Aspersor tipo agrícola, portátil, 20 lts de capacidad con sistema, con bomba de acción manual, válvula de descompresión, boquillas plásticas y válvula de diafragma para regular el flujo
A17: COSTO TOTAL IMPLEMENTACIÓN PROTOCOLO DE BIOSEGURIDAD COVID 19 | G17: =SUM(G9:G16) -> 3062705
A18: VALOR COSTO DIRECTO DE OBRA | G18: =PRESUPUESTO!H15 -> 14654099
A19: % TOTAL IMPLEMENTACIÓN PROTOCOLO DE BIOSEGURIDAD | G19: =ROUND(G17/G18,4) -> 0.209
A21: Nota 1: de conformidad con las cantidades máximas para insumos y elementos requeridos para el protocolo de bioseguridad covid 19 establecidas en la circular externa 003 del 07 de mayo de 2020 del Ministerio de Transporte, en el presente proyecto se determina en obra 27 personas, que corresponden a (16) obreros, (4) oficiales, (1) topografo, (1) cadenero, (1) residente de obra contratista, (1) director de obra contratista, (1) Tecnologo SST, (1) Residente ambiental.
A25: SECRETARIA DE PLANEACIÓN E INFRAESTRUCTURA

Sheet INTERVENTORIA
A1: DEPARTAMENTO DE ANTIOQUIA
A2: ='DATOS INICIALES'!B2 -> MUNICIPIO DE DABEIBA
A3: ='DATOS INICIALES'!B3 -> REPARACIÓN DE LA RED DE CONDUCCIÓN DEL SISTEMA DE ACUEDUCTO UBICADA EN EL CRUCE CON LA QUEBRADA LA DESMOTADORA, RED QUE ABASTECE A LA PLANTA JJ GUZMÁN
A5: PRESUPUESTO INTERVENTORÍA
A7: ITEM | B7: CÓDIGO | C7: DESCRIPCIÓN | D7: CANT | E7: VALOR MENSUAL | F7: PREST. SOC. | G7: DEDIC. % | H7: PLAZO | I7: VALOR PARCIAL
A8: A | B8: COSTOS DIRECTOS DE PERSONAL
A9: 1 | B9: EQUIPO PROFESIONAL | I9: =IFERROR(IF(SUM(I10:I12)=0,"",SUM(I10:I12)),"") -> 53808311
A10: 1.1 | B10: =IF(C10="","",INDEX(CODIGOSMANODEOBRA,MATCH($C10,'INSUMOS MANO DE OBRA'!$B$7:$B$61,0))) -> MO002 | C10: DIRECTOR DE INTERVENTORÍA | D10: 1 | E10: =IF(C10="","",IFERROR(VLOOKUP($B10,INSUMOSMANODEOBRA,4,0),"")) -> 7117500 | F10: 1 | G10: 0.3 | H10: 6 | I10: =+IF(D10=0,"",IFERROR(D10*(E10+F10)*G10*H10,"")) -> 12811502
A11: 1.2 | B11: =IF(C11="","",INDEX(CODIGOSMANODEOBRA,MATCH($C11,'INSUMOS MANO DE OBRA'!$B$7:$B$61,0))) -> MO004 | C11: RESIDENTE DE INTERVENTORÍA | D11: 1 | E11: =IF(C11="","",IFERROR(VLOOKUP($B11,INSUMOSMANODEOBRA,4,0),"")) -> 4270500 | F11: 1 | G11: 1 | H11: 6 | I11: =+IF(D11=0,"",IFERROR(D11*(E11+F11)*G11*H11,"")) -> 25623006
A12: 1.3 | B12: =IF(C12="","",INDEX(CODIGOSMANODEOBRA,MATCH($C12,'INSUMOS MANO DE OBRA'!$B$7:$B$61,0))) -> MO006 | C12: RESIDENTE SOCIAL | D12: 1 | E12: =IF(C12="","",IFERROR(VLOOKUP($B12,INSUMOSMANODEOBRA,4,0),"")) -> 4270500 | F12: 1 | G12: 0.6 | H12: 6 | I12: =+IF(D12=0,"",IFERROR(D12*(E12+F12)*G12*H12,"")) -> 15373804
A13: 2 | B13: 6 | I13: =IFERROR(IF(SUM(I14:I14)=0,"",SUM(I14:I14)),"") -> 4270503
A14: 2.1 | B14: =IF(C14="","",INDEX(CODIGOSMANODEOBRA,MATCH($C14,'INSUMOS MANO DE OBRA'!$B$7:$B$61,0))) -> MO013 | C14: SECRETARIA | D14: 1 | E14: =IF(C14="","",IFERROR(VLOOKUP($B14,INSUMOSMANODEOBRA,4,0),"")) -> 1423500 | F14: 1 | G14: 0.5 | H14: 6 | I14: =+IF(D14=0,"",IFERROR(D14*(E14+F14)*G14*H14,"")) -> 4270503
A15: 3 | B15: APLICACIÓN FACTOR MULTIPLICADOR
A16: 3.1 | C16: SUBTOTAL COSTOS DE PERSONAL | I16: =IF(SUM(I9,I13)=0,"",SUM(I9,I13)) -> 58078814
A17: 3.2 | C17: FACTOR MULTIPLICADOR | I17: ='FM INTERVENTORIA'!H39 -> 2.02
A18: 3.3 | C18: VALOR TOTAL COSTOS DE PERSONAL | I18: =+IFERROR(I16*I17,"") -> 1.1731921e+08
A19: 4 | B19: Calculo del costo a reconocer por concepto de prestaciones sociales en caso de que el interventor este obligado a realizar aportes a salud, ICBF y SENA
C20: SUBTOTAL COSTOS DE PERSONAL | I20: =IF(SUM(I9,I13)=0,"",SUM(I9,I13)) -> 58078814
A21: 4.1 | C21: EPS | H21: 0.085 | I21: =$I$20*H21 -> 4936699.2
A22: 4.2 | C22: ICBF | H22: 0.03 | I22: =$I$20*H22 -> 1742364.4
A23: 4.3 | C23: SENA | H23: 0.02 | I23: =$I$20*H23 -> 1161576.3
C24: VALOR TOTAL | I24: =I21+I22+I23 -> 7840639.9
B25: TOTAL COSTOS DIRECTOS DE PERSONAL | I25: =I24+I18 -> 1.2515985e+08
A26: B | B26: OTROS COSTOS DIRECTOS
A27: 5 | B27: GASTOS DE TRANSPORTE, ALQUILER DE EQUIPO Y OTROS (SE PAGAN CONTRA FACTURA Y RESULTADOS SI APLICA): | I27: =IF(SUM(I28:I40)=0,"",SUM(I28:I40)) -> #REF!
A28: 5.1 | B28: =IF(C28="","",INDEX(CODIGOEQUIPOS,MATCH($C28,'INSUMOS EQUIPOS'!$B$7:$B$40,0))) -> EQ009 | C28: COMUNICACIONES (TELÉFONO, FAX, CELULAR, INTERNET, ETC.) MENSUAL EN CAMPO | D28: 1 | E28: =IF(C28="","",IFERROR(VLOOKUP($B28,INSUMOSEQUIPOS,4,0),"")) -> 40000 | H28: 6 | I28: =+IFERROR(D28*E28*H28,"") -> 240000
A29: 5.2 | B29: =IF(C29="","",INDEX(CODIGOEQUIPOS,MATCH($C29,'INSUMOS EQUIPOS'!$B$7:$B$40,0))) -> EQ007 | C29: TARIFA PUESTO DE TRABAJO DEL PERSONAL DE OFICINA DE CAMPO, INCLUYE: ALQUILER DE UN (1) EQUIPO DE COMPUTO COMPLETO, ESCRITORIO, SILLA Y OTROS ENSERES DE OFICINA POR PUESTO DE TRABAJO | D29: 2 | E29: =IF(C29="","",IFERROR(VLOOKUP($B29,INSUMOSEQUIPOS,4,0),"")) -> 50000 | H29: 6 | I29: =+IFERROR(D29*E29*H29,"") -> 600000
A30: 5.3 | B30: =IF(C30="","",INDEX(CODIGOEQUIPOS,MATCH($C30,'INSUMOS EQUIPOS'!$B$7:$B$40,0))) -> EQ008 | C30: IMPRESORA EN OBRA (ALQUILER) | D30: 1 | E30: =IF(C30="","",IFERROR(VLOOKUP($B30,INSUMOSEQUIPOS,4,0),"")) -> 40000 | H30: 6 | I30: =+IFERROR(D30*E30*H30,"") -> 240000
A31: 5.4 | B31: =IF(C31="","",INDEX(CODIGOSSERVICIOS,MATCH($C31,'INSUMOS SERVICIOS'!$B$7:$B$21,0))) -> SE002 | C31: COMISIÓN TOPOGRÁFICA (1 TOP. + 1 CAD. 1) | D31: 2 | E31: =IF(C31="","",IFERROR(VLOOKUP($B31,INSUMOSSERVICIOS,4,0),"")) -> 447639.44 | H31: 6 | I31: =+IFERROR(D31*E31*H31,"") -> 5371673.3
A32: 5.5 | B32: =IF(C32="","",INDEX(CODIGOSSERVICIOS,MATCH($C32,'INSUMOS SERVICIOS'!$B$7:$B$21,0))) -> SEL006 | C32: Diseños de mezcla para una resistencia determinada (Incluye ensayos a agregados y verificación de resistencia) | D32: 1 | E32: =IF(C32="","",IFERROR(VLOOKUP($B32,INSUMOSSERVICIOS,4,0),"")) -> 737000 | H32: 6 | I32: =+IFERROR(D32*E32*H32,"") -> 4422000
A33: 5.6 | B33: =IF(C33="","",INDEX(CODIGOSSERVICIOS,MATCH($C33,'INSUMOS SERVICIOS'!$B$7:$B$21,0))) -> SEL007 | C33: Resistencia a la compresión de cilindros de concreto (método normal) | D33: 3 | E33: =IF(C33="","",IFERROR(VLOOKUP($B33,INSUMOSSERVICIOS,4,0),"")) -> 15000 | H33: 6 | I33: =+IFERROR(D33*E33*H33,"") -> 270000
A34: 5.7 | B34: =IF(C34="","",INDEX(CODIGOSSERVICIOS,MATCH($C34,'INSUMOS SERVICIOS'!$B$7:$B$21,0))) -> SEL004 | C34: Relaciones de humedad - masa unitaria seca en los suelos (ensayo modificado de compactación - Proctor Modificado) con corrección del peso unitario y contenido de agua | D34: 1 | E34: =IF(C34="","",IFERROR(VLOOKUP($B34,INSUMOSSERVICIOS,4,0),"")) -> 147000 | H34: 6 | I34: =+IFERROR(D34*E34*H34,"") -> 882000
A35: 5.8 | C35: PAPSO INTERVENTORIA (Incluye SISO 10% de dedicación) | D35: 1 | E35: ='PAPSO INTERVENTORIA'!H18/6 -> 644024.9 | H35: 6 | I35: =+IFERROR(D35*E35*H35,"") -> 3864149.4
B36: TOTAL OTROS COSTOS DIRECTOS | I36: =IF(SUM(I28:I35)=0,"",SUM(I28:I35)) -> 15889823
A37: VALOR BÁSICO TOTAL | I37: =I25+I36 -> 1.4104967e+08
A38: IVA | H38: 0.19 | I38: =+IFERROR(I37*H38,"") -> 26799437
A39: TOTAL INTERVENTORÍA | I39: =IF(I37="","",SUM(I37:I38)) -> 1.678491e+08
A40: COSTO TOTAL DE LA OBRA | I40: =PRESUPUESTO!#REF! -> #REF!
A41: % | I41: =I39/I40 -> #REF!
C51: SECRETARIA DE PLANEACIÓN E INFRAESTRUCTURA

Sheet FM INTERVENTORIA
A1: DEPARTAMENTO DE ANTIOQUIA
A2: ='DATOS INICIALES'!B2 -> MUNICIPIO DE DABEIBA
A3: ='DATOS INICIALES'!B3 -> REPARACIÓN DE LA RED DE CONDUCCIÓN DEL SISTEMA DE ACUEDUCTO UBICADA EN EL CRUCE CON LA QUEBRADA LA DESMOTADORA, RED QUE ABASTECE A LA PLANTA JJ GUZMÁN
A5: FACTOR MULTIPLICADOR INTERVENTORÍA
A7: 1 | B7: SALARIO BÁSICO | H7: =SUM(H8) -> 1
A8: 1.1 | B8: SALARIO BÁSICO | H8: 1
A9: 2 | B9: PRESTACIONES SOCIALES | H9: =SUM(H10:H22) -> 0.4719
A10: 2.1 | B10: PRIMA ANUAL | H10: 0.0833
A11: 2.2 | B11: CESANTÍA ANUAL | H11: 0.0833
A12: 2.3 | B12: INTERÉS A LAS CESANTÍAS | H12: 0.01
A13: 2.4 | B13: VACACIONES ANUALES | H13: 0.0417
A14: 2.5 | B14: EPS | H14: 0 | I14: 8.5
A15: 2.6 | B15: PENSIONES (AFP) | H15: 0.12
A16: 2.7 | B16: SENA | H16: 0 | I16: 0.2
A17: 2.8 | B17: ICBF | H17: 0 | I17: 0.3
A18: 2.9 | B18: SUBSIDIO FAMILIAR (CAJA DE COMPENSACIÓN) | H18: 0.04
A19: 2.10 | B19: ARP 6,96 % NORMAL | H19: 0.0696
A20: 2.11 | B20: DOTACIÓN | H20: 0.008 | I20: ENTRE 0.5% Y 1.5%
A21: 2.12 | B21: EPP | H21: 0.012 | I21: ENTRE 1% Y 2%
A22: 2.13 | B22: EXÁMENES DE INGRESO - EGRESO | H22: 0.004 | I22: ENTRE 0.35% Y 0.65%
A23: 3 | B23: COSTOS INDIRECTOS | H23: =SUM(H24:H28) -> 0.13120103
A24: 3.1 | B24: COSTOS OFICINA (ARRENDAMIENTO,ADMINISTRACIÓN Y SERVICIOS PÚLBICOS, MANTENIMIENTO DE OFICINAS, ASEO, VIGILANCIA, SEGUROS DE ROBO E INCENDIO, ALQUILER (O DEPRECIACIÓN) Y MANTENIMIENTO DE VEHÍCULOS DE ADMINISTRACIÓN Y GERENCIA, ASOCIACIONES PROFESIONALES, DOCUMENTACIÓN TÉCNICA, REVISTAS, REPRESENTACIÓN Y PROMOCIÓN, PREPARACIÓN Y EDICIÓN DE PROPUESTAS, GASTOS DE VIAJE, GASTOS DE REPRESENTACIÓN) | C24: 1 | D24: 2500000 | E24: 0.2 | F24: 6 | G24: =+C24*D24*E24*F24 -> 3000000 | H24: =+IFERROR(G24/INTERVENTORIA!$I$20,"") -> 0.051653947
A25: 3.2 | B25: PAPELERÍA DE LA OFICINA DEL CONSULTOR PARA USO DEL PROYECTO (CAFETERÍA Y OTROS GASTOS FUNCIONAMIENTO | C25: 1 | D25: 400000 | E25: 0.2 | F25: 6 | G25: =+C25*D25*E25*F25 -> 480000 | H25: =+IFERROR(G25/INTERVENTORIA!$I$20,"") -> 0.0082646315
A26: 3.3 | B26: MUEBLES Y EQUIPOS DE OFICINA, PAGO PROGRAMAS, SISTEMATIZACIÓN Y ACTUALIZACIÓN TECNOLÓGICA, RACK. | C26: 1 | D26: 1200000 | E26: 0.2 | F26: 6 | G26: =+C26*D26*E26*F26 -> 1440000 | H26: =+IFERROR(G26/INTERVENTORIA!$I$20,"") -> 0.024793895
A27: 3.4 | B27: PERSONAL ADMINISTRATIVO, TÉCNICO Y NO TÉCNICO, NO FACTURABLE, ENTRENAMIENTO DE PERSONAL, CAPACITACIÓN Y ACTUALIZACIÓN TÉCNICA (CURSOS, SEMINARIOS, CONGRESOS). | C27: 1 | D27: 2000000 | E27: 0.1 | F27: 6 | G27: =+C27*D27*E27*F27 -> 1200000 | H27: =+IFERROR(G27/INTERVENTORIA!$I$20,"") -> 0.020661579
A28: 3.5 | B28: ASESORÍA CONTABLE, TRIBUTARIA (REVISORÍA FISCAL) Y MÉDICA | C28: 1 | D28: 2500000 | E28: 0.1 | F28: 6 | G28: =+C28*D28*E28*F28 -> 1500000 | H28: =+IFERROR(G28/INTERVENTORIA!$I$20,"") -> 0.025826973
A29: 4 | B29: GASTOS DE LEGALIZACIÓN DE CONTRATO | H29: =SUM(H30:H31) -> 0.26457668
A30: 4.1 | B30: PÓLIZAS | G30: =+'POLIZAS INTERVENTORIA'!G21 -> 751060.46 | H30: ='POLIZAS INTERVENTORIA'!$G$22 -> 0.004474617
A31: 4.2 | B31: ESTAMPILLAS | G31: =IFERROR(IF(SUM(G32:G35)=0,"",SUM(G32:G35)),"") -> 15106419 | H31: =SUM(H32:H35) -> 0.26010206
A32: 4.2.1 | B32: Pro Hospital | C32: 0.01 | D32: =+IF(INTERVENTORIA!$I$20=0,"",IF(B32="","",INTERVENTORIA!$I$39)) -> 1.678491e+08 | G32: =+IFERROR(IF(C32*D32=0,"",C32*D32),"") -> 1678491 | H32: =+IFERROR(G32/INTERVENTORIA!$I$20,"") -> 0.028900229 | I32: COLOCAR LAS ESTAMPILLAS APLICABLES AL MUNICIPIO
A33: 4.2.2 | B33: Pro cultura | C33: 0.02 | D33: =+IF(INTERVENTORIA!$I$20=0,"",IF(B33="","",INTERVENTORIA!$I$39)) -> 1.678491e+08 | G33: =+IFERROR(IF(C33*D33=0,"",C33*D33),"") -> 3356982.1 | H33: =+IFERROR(G33/INTERVENTORIA!$I$20,"") -> 0.057800458
A34: 4.2.3 | B34: Pro Anciano | C34: 0.04 | D34: =+IF(INTERVENTORIA!$I$20=0,"",IF(B34="","",INTERVENTORIA!$I$39)) -> 1.678491e+08 | G34: =+IFERROR(IF(C34*D34=0,"",C34*D34),"") -> 6713964.2 | H34: =+IFERROR(G34/INTERVENTORIA!$I$20,"") -> 0.11560092
A35: 4.2.4 | B35: Pro Deporte y Recreación | C35: 0.02 | D35: =+IF(INTERVENTORIA!$I$20=0,"",IF(B35="","",INTERVENTORIA!$I$39)) -> 1.678491e+08 | G35: =+IFERROR(IF(C35*D35=0,"",C35*D35),"") -> 3356982.1 | H35: =+IFERROR(G35/INTERVENTORIA!$I$20,"") -> 0.057800458
A36: 5 | B36: HONORARIOS | H36: =SUM(H37) -> 0.14941422
A37: 4.1 | B37: HONORARIOS | G37: 0.08 | H37: =+IFERROR(G37*(H29+H23+H9+H7),"") -> 0.14941422 | I37: ENTRE 8% Y 12%
A38: SUBTOTAL | H38: =IFERROR(SUM(H36,H29,H23,H9,H7),"") -> 2.0170919
A39: FACTOR MULTIPLICADOR AJUSTADO A 2 CIFRAS DECIMALES | H39: =+IFERROR(ROUND(H38,2),"") -> 2.02
B49: SECRETARIA DE PLANEACIÓN E INFRAESTRUCTURA

Sheet POLIZAS INTERVENTORIA
A1: DEPARTAMENTO DE ANTIOQUIA
A2: ='DATOS INICIALES'!B6 -> MUNICIPIO DE DABEIBA
A3: ='DATOS INICIALES'!B3 -> REPARACIÓN DE LA RED DE CONDUCCIÓN DEL SISTEMA DE ACUEDUCTO UBICADA EN EL CRUCE CON LA QUEBRADA LA DESMOTADORA, RED QUE ABASTECE A LA PLANTA JJ GUZMÁN
A5: CÁLCULO DE PÓLIZAS DE OBRA
A6: VALOR DEL CONTRATO ( $ ) | B6: =INTERVENTORIA!I39 -> 1.678491e+08 | C6: =IFERROR(B6/'DATOS INICIALES'!B12,"") -> 117.91296
A7: PLAZO DEL CONTRATO | B7: ='DATOS INICIALES'!B18 -> 1 | C7: =+IFERROR(B7*30,"") -> 30
A8: ANTICIPO | B8: 0 | C8: =+IFERROR(B8*B6,"") -> 0
A10: TIPO DE GARANTÍA | B10: VALOR ASEGURADO | E10: COBERTURA ( DÍAS ) | F10: TASA ANUAL | G10: PRIMA
B11: % | C11: BASE | D11: VALOR
A12: CUMPLIMIENTO | B12: 0.2 | C12: =$B$6 -> 1.678491e+08 | D12: =IFERROR(B12*C12,"") -> 33569821 | E12: =IFERROR($C$7+180,"") -> 210 | F12: 0.002 | G12: =IFERROR(F12*D12*E12/360,"") -> 39164.791
A13: BUEN MANEJO Y CORRECTA INVERSIÓN DEL ANTICIPO | B13: 1 | C13: =$C$8 -> 0 | D13: =IFERROR(B13*C13,"") -> 0 | E13: =IFERROR($C$7+180,"") -> 210 | F13: 0.0015 | G13: =IFERROR(F13*D13*E13/360,"") -> 0
A14: SALARIOS Y PRESTACIONES SOCIALES | B14: 0.2 | C14: =$B$6 -> 1.678491e+08 | D14: =IFERROR(B14*C14,"") -> 33569821 | E14: =IFERROR($C$7+1080,"") -> 1110 | F14: 0.0015 | G14: =IFERROR(F14*D14*E14/360,"") -> 155260.42
A15: CALIDAD DEL SERVICIO | B15: 0.2 | C15: =$B$6 -> 1.678491e+08 | D15: =IFERROR(B15*C15,"") -> 33569821 | E15: =IF($B$6="","",1800) -> 1800 | F15: 0.0022 | G15: =IFERROR(F15*D15*E15/360,"") -> 369268.03
A16: DECRETO 1082 SMMLV RESPONSABILIDAD CIVIL | B16: SMMLV | C16: MONTO ASEGURABLE | E16: PLAZO MESES | F16: TASA ANUAL | G16: PRIMA
A17: =+IF(B6="","",IF(C6<=1500,200,IF(C6<=2500,300,IF(C6<=5000,400,IF(C6<=10000,500,"5%"))))) -> 200 | B17: ='DATOS INICIALES'!B12 -> 1423500 | C17: =IFERROR(IF(C6>10000,B6+5%,A17*B17),"") -> 284700000 | E17: =B7 -> 1 | F17: 0.002 | G17: =IFERROR(F17*E17*C17/12,"") -> 47450
A18: SUBTOTAL PRIMA | G18: =IF(SUM(G12:G15,G17)=0,"",SUM(G12:G15,G17)) -> 611143.24
A19: GASTOS DE EXPEDICIÓN | G19: =IF(G19="","",20000) -> 20000
A20: IVA | G20: =IFERROR((G18+G19)*0.19,"") -> 119917.22
A21: TOTAL POLIZAS | G21: =IF(G18="","",SUM(G18:G20)) -> 751060.46
A22: % | G22: =$G$21/$B$6 -> 0.004474617
A30: SECRETARIA DE PLANEACIÓN E INFRAESTRUCTURA

Sheet PAPSO INTERVENTORIA
A1: DEPARTAMENTO DE ANTIOQUIA
A2: ='DATOS INICIALES'!B2 -> MUNICIPIO DE DABEIBA
A3: ='DATOS INICIALES'!B3 -> REPARACIÓN DE LA RED DE CONDUCCIÓN DEL SISTEMA DE ACUEDUCTO UBICADA EN EL CRUCE CON LA QUEBRADA LA DESMOTADORA, RED QUE ABASTECE A LA PLANTA JJ GUZMÁN
A5: PAPSO INTERVENTORIA
A8: 5 | B8: PAPSO | C8: Unidad de medida | D8: Ocasión | E8: Cant. Mensual | F8: Cant.max y Especificación | G8: Valor Unitario | H8: Valor total
A9: 4.1 | B9: SISO (10% de dedicación) | C9: Und/mes | D9: 6 | E9: 1 | G9: ='INSUMOS MANO DE OBRA'!D61*'INSUMOS MANO DE OBRA'!E61 -> 4640610 | H9: =D9*E9*G9*0.1 -> 2784366
A10: 4.2 | B10: Alcohol antiseptico al 70% | C10: Litro | D10: 6 | E10: =3*0.006*30 -> 0.54 | F10: 0,006 Litro por día por persona - Antiséptico 70%. Ingrediente activo alcohol etílico potabilizado al 96%. Debe contar con registro INVIMA | G10: 9000 | H10: =D10*E10*G10 -> 29160
A11: 4.3 | B11: Gel antibacterial | C11: Litro | D11: 6 | E11: =0.003*3*30 -> 0.27 | F11: 0,003 litros por día por persona - No requiere enjuague. Antiséptico para manos. Anticorrosivo. PH entre 6 y 7,5. Gel en base Glicerina + Alcohol antiséptico al 70%. Contenido de agua máximo 30%. Adicionado con emulientes y humectantes. Debe contar con registro INVIMA | G11: 11085 | H11: =D11*E11*G11 -> 17957.7
A12: 4.4 | B12: Jabón líquido antibacterial | C12: Litro | D12: 6 | E12: =0.005*D12*30*3 -> 2.7 | F12: 0,005 litros por día por persona - Agente limpiador 6%. Agente humectante 3%, PH 5,5 a 7,0. | G12: 3995 | H12: =D12*E12*G12 -> 64719
A13: 4.5 | B13: Hipoclorito de uso doméstico | C13: Litro | D13: 6 | E13: =3*0.05*1*0.15*30 -> 0.675 | F13: 0,05 litros por cada litro de solución a 2500 ppm, para lavado rutinario. Hipoclorito de sodio al 5%(NaOCl), solución acuosa, libre de partículas, de control bacteriológico y microbiológico. | G13: 2774 | H13: =D13*E13*G13 -> 11234.7
A14: 4.6 | B14: Tapabocas reutilizable en tela | C14: Unidad | D14: 6 | E14: =4*3 -> 12 | F14: 4 unidades por mes por persona - Se deben seguir las especificaciones de la Resolución 666 del 24 de abril de 2020 y el documento soporte GIPS18 expedidos por el Ministerio de Salud | G14: 1000 | H14: =D14*E14*G14 -> 72000
A15: 4.7 | B15: Guantes de nitrilo | C15: Par | D15: 6 | E15: =8*3 -> 24 | F15: 2 pares por semana por persona - NTC 2190; UNE EN 374, UNE EN 388, UNE EN 420, UNE EN 455. No esteril. Reutilizables o lavables de calibre de 0.05 mm o 2 mils. | G15: 598 | H15: =D15*E15*G15 -> 86112
A16: 4.8 | B16: Termómetro digital infrarrojo | C16: Unidad | D16: 1 | E16: 1 | F16: 1 por la obra, Sensibilidad a 0.1 °C. Debe ser específicamente diseñado para leer temperatura corporal y no para cualquier superficie. | G16: 299000 | H16: 299000
A17: 4.9 | B17: Bomba de espalda | C17: Unidad | D17: 1 | E17: 1 | F17: 1 por la obra, Aspersor tipo agrícola, portátil, 20 lts de capacidad con sistema, con bomba de acción manual, válvula de descompresión, boquillas plásticas y válvula de diafragma para regular el flujo | G17: 499600 | H17: 499600
B18: SUBTOTAL PAPSO | H18: =SUM(H9:H17) -> 3864149.4
B27: SECRETARIA DE PLANEACIÓN E INFRAESTRUCTURA

Sheet APU
A1: ='DATOS INICIALES'!$B$1 -> DEPARTAMENTO DE ANTIOQUIA
A2: ='DATOS INICIALES'!$B$2 -> MUNICIPIO DE DABEIBA
A3: ='DATOS INICIALES'!$B$3 -> REPARACIÓN DE LA RED DE CONDUCCIÓN DEL SISTEMA DE ACUEDUCTO UBICADA EN EL CRUCE CON LA QUEBRADA LA DESMOTADORA, RED QUE ABASTECE A LA PLANTA JJ GUZMÁN
A5: ANÁLISIS DE PRECIOS UNITARIOS
A7: ITEM | B7: DESCRIPCIÓN | E7: UNIDAD | F7: CANTIDAD | G7: COSTO DIRECTO
A8: 1.1 | B8: =+IFERROR(VLOOKUP($A8,PRESUPUESTO,4,0),"") -> Suministro, transporte e Instalación de llave de cierre de protección en piedra de 3000 PSI. | E8: =+IFERROR(VLOOKUP($A8,PRESUPUESTO,5,0),"") -> m3 | F8: =+IFERROR(VLOOKUP($A8,PRESUPUESTO,6,0),"") -> 2.16 | G8: =IF(G55=0,"",G45) -> 881759
A10: 1. COSTOS DIRECTOS
A12: I. EQUIPO
A13: CÓDIGO | B13: DESCRIPCIÓN | D13: UNIDAD | E13: TARIFA | F13: RENDIMIENTO | G13: VR. UNITARIO
A14: =IF(B14="","",INDEX(CODIGOEQUIPOS,MATCH($B14,'[8]INSUMOS EQUIPOS'!$B$7:$B$39,0))) -> EQ030 | B14: FORMALETA METALICA (CONCRETO HIDRAULICO) | D14: =IF(B14="","",(VLOOKUP($A14,INSUMOSEQUIPOS,3,0))) -> DIA | E14: =IF(B14="","",(VLOOKUP($A14,INSUMOSEQUIPOS,4,0))) -> 75000 | F14: 8 | G14: =+IFERROR(E14/F14,"") -> 9375
A15: =IF(B15="","",INDEX(CODIGOEQUIPOS,MATCH($B15,'INSUMOS EQUIPOS'!$B$7:$B$42,0))) -> EQ001 | B15: HERRAMIENTA MENOR (10% DE LA MANO DE OBRA) | D15: =IF(B15="","",(VLOOKUP($A15,INSUMOSEQUIPOS,3,0))) -> % | E15: =G36 -> 28805.714 | F15: 0.1 | G15: =+IFERROR(E15*F15,"") -> 2880.5714
F16: SUBTOTAL | G16: =+IF(SUM(G15:G15)=0,"",SUM(G15:G15)) -> 2880.5714
A18: II. MATERIALES
A19: CÓDIGO | B19: DESCRIPCIÓN | C19: UNIDAD | D19: CANTIDAD | E19: DESP. | F19: PRECIO UNIT. | G19: VR. UNITARIO
A20: =+'APU AUXILIARES'!A131 -> MA003 | B20: =+'APU AUXILIARES'!B131:D131 -> CONCRETO 3000 PSI (21 MPA) EN OBRA | C20: =+IFERROR(VLOOKUP($A20,INSUMOSMATERIALES,3,0),"") -> M3 | D20: 1 | E20: 0.05 | F20: =+'APU AUXILIARES'!G131 -> 599117 | G20: =+IFERROR(F20*D20*(1+E20),"") -> 629072.85
F23: SUBTOTAL | G23: =+IF(SUM(G20:G22)=0,"",SUM(G20:G22)) -> 629072.85
A25: III. TRANSPORTES
A26: CÓDIGO | B26: DESCRIPCIÓN | C26: TIPO | D26: VOLUMEN/PESO | E26: DISTANCIA | F26: TARIFA | G26: VR. UNITARIO
A27: =IF(B27="","",INDEX(CODIGOTRANSPORTES,MATCH(B27,'[9]INSUMOS TRANSPORTES'!$B$7:$B$29,0))) -> TR015 | B27: TRANSPORTE DE MATERIALES DE PLAYA, TIERRA O ESCOMBROS 31-70 KM | C27: INSUMOS | D27: 10 | E27: 10 | F27: =+IF(B27="","",(VLOOKUP($A27,INSUMOSTRANSPORTES,4,0))) -> 2210 | G27: =+IFERROR(D27*E27*F27,"") -> 221000
A28: =IF(B28="","",INDEX(CODIGOTRANSPORTES,MATCH(B28,'INSUMOS TRANSPORTES'!$B$7:$B$13,0))) | G28: =+IFERROR(D28*E28*F28,"") -> 0
F29: =+IF(B29="","",(VLOOKUP($A29,INSUMOS_TRANSPORTES,4,0))) | G29: =+IFERROR(E29*F29,"")
F30: SUBTOTAL | G30: =+IF(SUM(G27:G29)=0,"",SUM(G27:G29)) -> 221000
A32: IV. MANO DE OBRA
A33: CÓDIGO | B33: CARGOS PERSONAL | D33: CANTIDAD | E33: JORNAL TOTAL+ PRESTACIONES | F33: RENDIMIENTO | G33: VR. UNITARIO
A34: =IF(B34="","",INDEX(CODIGOSMANODEOBRA,MATCH($B34,'INSUMOS MANO DE OBRA'!$B$7:$B$61,0))) -> MO032 | B34: AYUDANTE RASO | D34: 2 | E34: =IF(B34="","",(VLOOKUP($A34,INSUMOSMANODEOBRA,8,0))) -> 90738 | F34: 6.3 | G34: =+IFERROR(D34*E34/F34,"") -> 28805.714
F35: =+IF(A35="","",IF(A35=0,"",IF(#REF!="","",#REF!))) | G35: =+IFERROR(D35*E35/F35,"")
F36: SUBTOTAL | G36: =+IF(SUM(G34:G35)=0,"",SUM(G34:G35)) -> 28805.714
A38: V. SERVICIOS
A39: CÓDIGO | B39: DESCRIPCIÓN | D39: UNIDAD | E39: CANTIDAD | F39: PRECIO UNIT. | G39: VR. UNITARIO
A40: =IF(B40="","",INDEX(CODIGOSSERVICIOS,MATCH($B40,'INSUMOS SERVICIOS'!$B$7:$B$21,0))) | D40: =+IF(B40="","",(VLOOKUP($A40,INSUMOSSERVICIOS,3,0))) | F40: =IF(B40="","",(VLOOKUP($A40,INSUMOSSERVICIOS,4,0))) | G40: =+IFERROR(E40*F40,"")
A41: =IF(B41="","",INDEX(CODIGOSSERVICIOS,MATCH($B41,'INSUMOS SERVICIOS'!$B$7:$B$21,0))) | D41: =+IF(B41="","",(VLOOKUP($A41,INSUMOSSERVICIOS,3,0))) | F41: =IF(B41="","",(VLOOKUP($A41,INSUMOSSERVICIOS,4,0))) | G41: =+IFERROR(E41*F41,"")
D42: =+IF(B42="","",(VLOOKUP($A42,INSUMOS_SERVICIOS,3,0))) | F42: =IF(B42="","",(VLOOKUP($A42,INSUMOS_SERVICIOS,4,0))) | G42: =+IFERROR(E42*F42,"")
F43: SUBTOTAL | G43: =+IF(SUM(G40:G42)=0,"",SUM(G40:G42))
A45: TOTAL COSTO DIRECTO | G45: =IF(SUM(G16,G23,G30,G36,G43)=0,"",(ROUND(SUM(G16,G23,G30,G36,G43),0))) -> 881759
A47: 2. COSTOS INDIRECTOS
A49: DESCRIPCIÓN | F49: PORCENTAJE | G49: VALOR TOTAL
A50: ADMINISTRACION | F50: =AIU!$I$46 -> 0.2819 | G50: =+IFERROR(G45*F50,"") -> 248567.86
A51: IMPREVISTOS | F51: =IF(AIU!$I$47=0,"",AIU!$I$47) | G51: =+IFERROR(G45*F51,"")
A52: UTILIDADES | F52: =IF(AIU!$I$48=0,"",AIU!$I$48) -> 0.05 | G52: =+IFERROR(G45*F52,"") -> 44087.95
A53: TOTAL COSTO INDIRECTO | F53: =IF(SUM(F50:F52)=0,"",SUM(F50:F52)) -> 0.3319 | G53: =IF(SUM(G50:G52)=0,"",ROUND(SUM(G50:G52),0)) -> 292656
...

Sheet MEMORIAS
A1: ='DATOS INICIALES'!$B$1 -> DEPARTAMENTO DE ANTIOQUIA
A2: ='DATOS INICIALES'!$B$2 -> MUNICIPIO DE DABEIBA
A3: ='DATOS INICIALES'!$B$3 -> REPARACIÓN DE LA RED DE CONDUCCIÓN DEL SISTEMA DE ACUEDUCTO UBICADA EN EL CRUCE CON LA QUEBRADA LA DESMOTADORA, RED QUE ABASTECE A LA PLANTA JJ GUZMÁN
A5: MEMORIA DE CANTIDADES
A7: ITEM | B7: DESCRIPCIÓN | G7: UNIDAD | H7: CANTIDAD
A8: 1.1 | B8: =IFERROR(VLOOKUP($A8,PRESUPUESTO,4,0),"") -> Suministro, transporte e Instalación de llave de cierre de protección en piedra de 3000 PSI. | G8: =+IFERROR(VLOOKUP($A8,PRESUPUESTO,5,0),"") -> m3 | H8: =H13 -> 2.16
A10: DETALLE | C10: FACTOR | D10: CANTIDAD | E10: A (ML) | F10: B(M2) | G10: C(M3) | H10: TOTAL
A11: 1.1 | B11: Llave de cierre | C11: 1 | D11: 1 | E11: 0.4 | F11: 0.6 | G11: 9 | H11: =+IF(A11=0,"",IF(AND(E11=0,F11=0,G11=0),C11*D11,IF(AND(F11=0,G11=0),C11*D11*E11,IF(G11=0,C11*D11*E11*F11,C11*D11*E11*F11*G11)))) -> 2.16
A13: =+"TOTAL CANTIDAD ITEM "&A9 -> TOTAL CANTIDAD ITEM | H13: =+H11 -> 2.16 | I13: =+H13*7 -> 15.12
A16: ='DATOS INICIALES'!$B$1 -> DEPARTAMENTO DE ANTIOQUIA
A17: ='DATOS INICIALES'!$B$2 -> MUNICIPIO DE DABEIBA
A18: ='DATOS INICIALES'!$B$3 -> REPARACIÓN DE LA RED DE CONDUCCIÓN DEL SISTEMA DE ACUEDUCTO UBICADA EN EL CRUCE CON LA QUEBRADA LA DESMOTADORA, RED QUE ABASTECE A LA PLANTA JJ GUZMÁN
A20: MEMORIA DE CANTIDADES
A22: ITEM | B22: DESCRIPCIÓN | G22: UNIDAD | H22: CANTIDAD
A23: 1.2 | B23: =IFERROR(VLOOKUP($A23,PRESUPUESTO,4,0),"") -> Suministro, transporte e instalación de cimentación en Concreto Ciclopeo 21Mpa (3000psi) relación 60 c / 40 p para Estructura Hidráulica. Se utilizarán los Bolos ubicados en obra. | G23: =+IFERROR(VLOOKUP($A23,PRESUPUESTO,5,0),"") -> m3 | H23: =H29 -> 9.075
A25: DETALLE | C25: FACTOR | D25: CANTIDAD | E25: A (ML) | F25: B(M2) | G25: C(M3) | H25: TOTAL
A26: 1 | B26: Protección en piedra a la entrada | C26: 1 | D26: 1 | E26: 0.3 | F26: =12.25 -> 12.25 | G26: 1 | H26: =+IF(A26=0,"",IF(AND(E26=0,F26=0,G26=0),C26*D26,IF(AND(F26=0,G26=0),C26*D26*E26,IF(G26=0,C26*D26*E26*F26,C26*D26*E26*F26*G26)))) -> 3.675
A27: 2 | B27: Protección en piedra a la Salida | C27: 1 | D27: 1 | E27: 2 | F27: 0.3 | G27: 9 | H27: =+IF(A27=0,"",IF(AND(E27=0,F27=0,G27=0),C27*D27,IF(AND(F27=0,G27=0),C27*D27*E27,IF(G27=0,C27*D27*E27*F27,C27*D27*E27*F27*G27)))) -> 5.4
H28: =+IF(A28=0,"",IF(AND(E28=0,F28=0,G28=0),C28*D28,IF(AND(F28=0,G28=0),C28*D28*E28,IF(G28=0,C28*D28*E28*F28,C28*D28*E28*F28*G28))))
A29: =+"TOTAL CANTIDAD ITEM "&A24 -> TOTAL CANTIDAD ITEM | H29: =+H26+H27 -> 9.075
A31: ='DATOS INICIALES'!$B$1 -> DEPARTAMENTO DE ANTIOQUIA
A32: ='DATOS INICIALES'!$B$2 -> MUNICIPIO DE DABEIBA
A33: ='DATOS INICIALES'!$B$3 -> REPARACIÓN DE LA RED DE CONDUCCIÓN DEL SISTEMA DE ACUEDUCTO UBICADA EN EL CRUCE CON LA QUEBRADA LA DESMOTADORA, RED QUE ABASTECE A LA PLANTA JJ GUZMÁN
A35: MEMORIA DE CANTIDADES
A37: ITEM | B37: DESCRIPCIÓN | G37: UNIDAD | H37: CANTIDAD
A38: 1.3 | B38: =IFERROR(VLOOKUP($A38,PRESUPUESTO,4,0),"") -> Suministro, transporte e Instalación de Acero de Refuerzo para Estructuras Hidráulicas. | G38: =+IFERROR(VLOOKUP($A38,PRESUPUESTO,5,0),"") -> Kg | H38: =IFERROR(ROUND(IF(SUM(H41:H42)=0,"",SUM(H41:H42)),0),"") -> 112
A40: DETALLE | C40: PESO | D40: LONGITUD | E40: N VECES | F40: CANT. ELEM | H40: TOTAL | I40: N BARRAS 1/2"
A41: 1 | B41: Acero de Refuerzo Para Llave De Cierre | C41: 0.994 | D41: 6 | E41: 2 | F41: 4 | H41: =+IF(A41=0,"",IF(AND(E41=0,F41=0,G41=0),C41*D41,IF(AND(F41=0,G41=0),C41*D41*E41,IF(G41=0,C41*D41*E41*F41,C41*D41*E41*F41*G41)))) -> 47.712 | I41: =ROUNDUP(H41/(6*0.994),0) -> 8
A42: 2 | B42: Flejes N°3 | C42: 0.56 | D42: 2.2 | E42: 1 | F42: 52 | H42: =+C42*D42*E42*F42 -> 64.064 | I42: =ROUNDUP(H42/(6*0.56),0) -> 20
A43: =+"TOTAL CANTIDAD ITEM "&A39 -> TOTAL CANTIDAD ITEM | H43: =IFERROR(ROUND(IF(SUM(H41:H42)=0,"",SUM(H41:H42)),0),"") -> 112 | I43: =SUM(I41:I42) -> 28
A45: ='DATOS INICIALES'!$B$1 -> DEPARTAMENTO DE ANTIOQUIA
A46: ='DATOS INICIALES'!$B$2 -> MUNICIPIO DE DABEIBA
A47: ='DATOS INICIALES'!$B$3 -> REPARACIÓN DE LA RED DE CONDUCCIÓN DEL SISTEMA DE ACUEDUCTO UBICADA EN EL CRUCE CON LA QUEBRADA LA DESMOTADORA, RED QUE ABASTECE A LA PLANTA JJ GUZMÁN
A49: MEMORIA DE CANTIDADES
A51: ITEM | B51: DESCRIPCIÓN | G51: UNIDAD | H51: CANTIDAD
A52: 1.4 | B52: =IFERROR(VLOOKUP($A52,PRESUPUESTO,4,0),"") -> Suministro, transporte e instalación de Tubería PE 100 PN 16 RDE 11 DE 160mm | G52: =+PRESUPUESTO!E13 -> ML | H52: =H57 -> 10
A54: DETALLE | C54: FACTOR | D54: CANTIDAD | E54: A (ML) | F54: B(M2) | G54: C(M3) | H54: TOTAL
A55: 1.1 | B55: Tubería x1m PE 100 PN 16 RDE 11 DE 160mm | C55: 1 | D55: 1 | E55: 1 | F55: 1 | G55: 10 | H55: =+IF(A55=0,"",IF(AND(E55=0,F55=0,G55=0),C55*D55,IF(AND(F55=0,G55=0),C55*D55*E55,IF(G55=0,C55*D55*E55*F55,C55*D55*E55*F55*G55)))) -> 10
A57: =+"TOTAL CANTIDAD ITEM "&A53 -> TOTAL CANTIDAD ITEM | H57: =+H55 -> 10
A59: ='DATOS INICIALES'!$B$1 -> DEPARTAMENTO DE ANTIOQUIA
...

Sheet INSUMOS MATERIALES
A1: DEPARTAMENTO DE ANTIOQUIA
A2: ='DATOS INICIALES'!B6 -> MUNICIPIO DE DABEIBA
A3: ='DATOS INICIALES'!B3 -> REPARACIÓN DE LA RED DE CONDUCCIÓN DEL SISTEMA DE ACUEDUCTO UBICADA EN EL CRUCE CON LA QUEBRADA LA DESMOTADORA, RED QUE ABASTECE A LA PLANTA JJ GUZMÁN
A5: LISTADO DE INSUMOS - MATERIALES
A7: CÓDIGO | B7: DESCRIPCIÓN | C7: UNIDAD | D7: VALOR UNITARIO
B8: APU AUXILIARES
A9: MA001 | B9: CONCRETO CICLOPEO (21 MPA) | C9: M3 | D9: =IFERROR(VLOOKUP(A9,APUAUXILIARES,7,0),"") -> 606932
A10: MA002 | B10: CONCRETO 2500 PSI (17,5 MPA) EN OBRA | C10: M3 | D10: =IFERROR(VLOOKUP(A10,APUAUXILIARES,7,0),"") -> 403339
A11: MA003 | B11: CONCRETO 3000 PSI (21 MPA) EN OBRA | C11: M3 | D11: =+'APU AUXILIARES'!G170 -> 599117
A12: MA004 | B12: CONCRETO 3500 PSI (24,5 MPA) EN OBRA | C12: M3 | D12: =IFERROR(VLOOKUP(A12,APUAUXILIARES,7,0),"") -> 502285
A13: MA005 | B13: CONCRETO 4000 PSI (28 MPA) EN OBRA | C13: M3 | D13: =IFERROR(VLOOKUP(A13,APUAUXILIARES,7,0),"") -> 782447
A14: MA006 | B14: MORTERO 1:2 EN OBRA (REVOQUE) | C14: M3 | D14: =IFERROR(VLOOKUP(A14,APUAUXILIARES,7,0),"")
A15: MA007 | B15: MORTERO 1:2 EN OBRA (GROUT) | C15: M3 | D15: =IFERROR(VLOOKUP(A15,APUAUXILIARES,7,0),"")
A16: MA008 | B16: MORTERO 1:3 EN OBRA (REVOQUE) | C16: M3 | D16: =IFERROR(VLOOKUP(A16,APUAUXILIARES,7,0),"")
A17: MA009 | B17: MORTERO 1:3 EN OBRA (GROUT) | C17: M3 | D17: =IFERROR(VLOOKUP(A17,APUAUXILIARES,7,0),"") -> 557975
A18: MA010 | B18: MORTERO 1:3 EN OBRA (PEGA) | C18: M3 | D18: =IFERROR(VLOOKUP(A18,APUAUXILIARES,7,0),"") -> 491594
A19: MA011 | B19: MORTERO 1:4 EN OBRA (REVOQUE) | C19: M3 | D19: =IFERROR(VLOOKUP(A19,APUAUXILIARES,7,0),"") -> 418717
A20: MA012 | B20: MORTERO 1:4 EN OBRA (GROUT) | C20: M3 | D20: =IFERROR(VLOOKUP(A20,APUAUXILIARES,7,0),"") -> 489361
A21: MA013 | B21: MORTERO 1:4 EN OBRA (PEGA) | C21: M3 | D21: =IFERROR(VLOOKUP(A21,APUAUXILIARES,7,0),"") -> 489361
A22: MA014 | B22: MORTERO 1:5 EN OBRA (REVOQUE) | C22: M3 | D22: =+IFERROR(VLOOKUP(A22,APU_AUXILIARES,7,0),"")
A23: MA015 | B23: MORTERO 1:5 EN OBRA (PEGA) | C23: M3 | D23: =+IFERROR(VLOOKUP(A23,APU_AUXILIARES,7,0),"")
A24: MA016 | B24: MORTERO 1:6 EN OBRA (PEGA) | C24: M3 | D24: =+IFERROR(VLOOKUP(A24,APU_AUXILIARES,7,0),"")
A25: MA017 | B25: FORMALETA PARA MUROS, ALETAS, DISIPADORES Y ESTRIBOS (6 USOS) | C25: M2 | D25: =+IFERROR(VLOOKUP(A25,APU_AUXILIARES,7,0),"")
A26: MA018 | B26: acero de refuero fy=4200 KG/cm2 | C26: kg | D26: 9800
A27: MA019 | D27: =+IFERROR(VLOOKUP(A27,APU_AUXILIARES,7,0),"")
B28: MATERIALES
A29: MA020 | B29: CEMENTO GRIS (50 KG) PORTLAND TIPO I | C29: UND | D29: 39200
A30: MA021 | B30: Soporte canal pvc amazonas | C30: UND | D30: 3000
A31: MA022 | B31: Bajante Cuadrada 6x6cm X 3mt | C31: UND | D31: 50000
A32: MA023 | B32: ARENA FINA PARA CONCRETOS | C32: M3 | D32: 58000 | E32: =34000*1.19 -> 40460
A33: MA024 | B33: AGREGADO TRITURADO | C33: M3 | D33: 82000
A34: MA025 | B34: TUBO CONDUIT GRIS SCH 40 1/2 DE 3M | C34: UND | D34: 22100
A35: MA026 | B35: Grifería Institucional De Mesa Tipo Push Para Lavamanos | C35: UND | D35: 280000
A36: MA027 | B36: Kit Lavamos Con Desague Sencillo Con Repuesto | C36: UND | D36: 40000
A37: MA028 | B37: Piso Pared Cayey Blanco 20.5x20.5cm | C37: m2 | D37: 35500
A38: MA029 | B38: Pegacor blanco | C38: KG | D38: 3200
A39: MA030 | B39: Tubo Sanitario 3' | C39: ml | D39: 13000
A40: MA031 | B40: Taco 2 polos 40 amperios LX enchufe DSE | C40: UN | D40: 82000
A41: MA032 | B41: Concolor Junta Estrecha Súper Blanco | C41: KG | D41: 7000
A42: MA033 | B42: TOMA HEMBRA LEVINTON | C42: UND | D42: 8200
...

Sheet APU AUXILIARES
A1: ='DATOS INICIALES'!$B$1 -> DEPARTAMENTO DE ANTIOQUIA
A2: ='DATOS INICIALES'!$B$2 -> MUNICIPIO DE DABEIBA
A3: ='DATOS INICIALES'!$B$3 -> REPARACIÓN DE LA RED DE CONDUCCIÓN DEL SISTEMA DE ACUEDUCTO UBICADA EN EL CRUCE CON LA QUEBRADA LA DESMOTADORA, RED QUE ABASTECE A LA PLANTA JJ GUZMÁN
A5: ANÁLISIS DE PRECIOS UNITARIOS
A7: ITEM | B7: DESCRIPCIÓN | E7: UNIDAD | F7: CANTIDAD | G7: COSTO DIRECTO
A8: MA001 | B8: =+IFERROR(VLOOKUP($A8,INSUMOSMATERIALES,2,0),"") -> CONCRETO CICLOPEO (21 MPA) | E8: =+IFERROR(VLOOKUP($A8,INSUMOSMATERIALES,3,0),"") -> M3 | F8: 1.932 | G8: =IF(G55=0,"",G45) -> 606932
A10: 1. COSTOS DIRECTOS
A12: I. EQUIPO
A13: CÓDIGO | B13: DESCRIPCIÓN | D13: UNIDAD | E13: TARIFA | F13: RENDIMIENTO | G13: VR. UNITARIO
A14: =IF(B14="","",INDEX(CODIGOEQUIPOS,MATCH($B14,'INSUMOS EQUIPOS'!$B$7:$B$39,0))) -> EQ004 | B14: CONCRETADORA 1.5 SACOS A GASOLINA | D14: =IF(B14="","",(VLOOKUP($A14,INSUMOSEQUIPOS,3,0))) -> DÍA | E14: =IF(B14="","",(VLOOKUP($A14,INSUMOSEQUIPOS,4,0))) -> 62000 | F14: 8 | G14: =+IFERROR(E14/F14,"") -> 7750
A15: =+IF(G36="","","EQ001") -> EQ001 | B15: =+IF($A15="","",IFERROR(VLOOKUP($A15,INSUMOSEQUIPOS,2,0),"")) -> HERRAMIENTA MENOR (10% DE LA MANO DE OBRA) | D15: =+IF($A15="","",IFERROR(VLOOKUP($A15,INSUMOSEQUIPOS,3,0),"")) -> % | E15: =+IF($A15="","",IFERROR(VLOOKUP($A15,INSUMOSEQUIPOS,4,0),"")) -> 0.1 | F15: =+IF(G36=0,"",G36) -> 160521.33 | G15: =+IFERROR(E15*F15,"") -> 16052.133
F16: SUBTOTAL | G16: =+IF(SUM(G14:G15)=0,"",SUM(G14:G15)) -> 23802.133
A18: II. MATERIALES
A19: CÓDIGO | B19: DESCRIPCIÓN | C19: UNIDAD | D19: CANTIDAD | E19: DESP. | F19: PRECIO UNIT. | G19: VR. UNITARIO
A20: =IF(B20="","",INDEX(CODIGOMATERIALES,MATCH($B20,'INSUMOS MATERIALES'!$B$7:$B$51,0))) -> MA003 | B20: CONCRETO 3000 PSI (21 MPA) EN OBRA | C20: =IF(B20="","",(VLOOKUP($A20,INSUMOSMATERIALES,3,0))) -> M3 | D20: 0.6 | E20: 0.05 | F20: =IF(B20="","",(VLOOKUP($A20,INSUMOSMATERIALES,4,0))) -> 599117 | G20: =+IFERROR(F20*D20*(1+E20),"") -> 377443.71
A21: =+'INSUMOS MATERIALES'!A117 -> MA108 | B21: Piedra (suministro) | C21: =+'INSUMOS MATERIALES'!C117 -> m3 | D21: 0.4 | E21: 0.05 | F21: =+'INSUMOS MATERIALES'!D117 -> 82237 | G21: =+IFERROR(F21*D21*(1+E21),"") -> 34539.54
F22: SUBTOTAL | G22: =+IF(SUM(G20:G21)=0,"",SUM(G20:G21)) -> 411983.25
A24: III. TRANSPORTES
A25: CÓDIGO | B25: DESCRIPCIÓN | C25: TIPO | D25: VOLUMEN/PESO | E25: DISTANCIA | F25: TARIFA | G25: VR. UNITARIO
A26: =IF(B26="","",INDEX(CODIGOTRANSPORTES,MATCH(B26,'INSUMOS TRANSPORTES'!$B$7:$B$122,0))) -> TR002 | B26: TRANSPORTE DE MATERIALES DE PLAYA (ARENILLON, PIEDRA RODADA DE RIO DMAX=3/4") 0-10KM | C26: PLAYATRITURADO | D26: 0.5 | E26: 5 | F26: =+IF(B26="","",(VLOOKUP($A26,INSUMOSTRANSPORTES,4,0))) -> 4250 | G26: =+IFERROR(D26*E26*F26,"") -> 10625
A27: =IF(B27="","",INDEX(CODIGOTRANSPORTES,MATCH(B27,'INSUMOS TRANSPORTES'!$B$7:$B$26,0))) -> TR005 | B27: TRANSPORTE DE MATERIALES GRANULARES | C27: INSUMOS | D27: 0.5 | E27: 5 | F27: =+IF(B27="","",(VLOOKUP($A27,INSUMOSTRANSPORTES,4,0))) -> 4250 | G27: =+IFERROR(D27*E27*F27,"") -> 10625
F28: SUBTOTAL | G28: =+IF(SUM(G26:G26)=0,"",SUM(G26:G26)) -> 10625
A30: IV. MANO DE OBRA
A31: CÓDIGO | B31: CARGOS PERSONAL | D31: CANTIDAD | E31: JORNAL TOTAL | F31: RENDIMIENTO | G31: VR. UNITARIO
A32: =IF(B32="","",INDEX(CODIGOSMANODEOBRA,MATCH($B32,'INSUMOS MANO DE OBRA'!$B$7:$B$61,0))) -> MO033 | B32: OPERADOR EQUIPO LIVIANO | D32: 1 | E32: =IF(B32="","",(VLOOKUP($A32,INSUMOSMANODEOBRA,8,0))) -> 104675 | F32: 3 | G32: =+IFERROR(D32*E32/F32,"") -> 34891.667
A33: =IF(B33="","",INDEX(CODIGOSMANODEOBRA,MATCH($B33,'INSUMOS MANO DE OBRA'!$B$7:$B$61,0))) -> MO032 | B33: AYUDANTE RASO | D33: 3 | E33: =IF(B33="","",(VLOOKUP($A33,INSUMOSMANODEOBRA,8,0))) -> 90738 | F33: 3 | G33: =+IFERROR(D33*E33/F33,"") -> 90738
A34: =IF(B34="","",INDEX(CODIGOSMANODEOBRA,MATCH($B34,'INSUMOS MANO DE OBRA'!$B$7:$B$61,0))) -> MO033 | B34: OPERADOR EQUIPO LIVIANO | D34: 1 | E34: =IF(B34="","",(VLOOKUP($A34,INSUMOSMANODEOBRA,8,0))) -> 104675 | F34: 3 | G34: =+IFERROR(D34*E34/F34,"") -> 34891.667
F35: =+IF(A35="","",IF(A35=0,"",IF(F34="","",F34))) | G35: =+IFERROR(D35*E35/F35,"")
F36: SUBTOTAL | G36: =+IF(SUM(G32:G35)=0,"",SUM(G32:G35)) -> 160521.33
A38: V. SERVICIOS
A39: CÓDIGO | B39: DESCRIPCIÓN | D39: UNIDAD | E39: CANTIDAD | F39: PRECIO UNIT. | G39: VR. UNITARIO
A40: =IF(B40="","",INDEX(CODIGOSSERVICIOS,MATCH($B40,'INSUMOS SERVICIOS'!$B$7:$B$21,0))) | D40: =+IF(B40="","",(VLOOKUP($A40,INSUMOSSERVICIOS,3,0))) | E40: 1 | F40: =IF(B40="","",(VLOOKUP($A40,INSUMOSSERVICIOS,4,0))) | G40: =+IFERROR(E40*F40,"")
A41: =IF(B41="","",INDEX(CODIGOSSERVICIOS,MATCH($B41,'INSUMOS SERVICIOS'!$B$7:$B$21,0))) | D41: =+IF(B41="","",(VLOOKUP($A41,INSUMOSSERVICIOS,3,0))) | E41: 1 | F41: =IF(B41="","",(VLOOKUP($A41,INSUMOSSERVICIOS,4,0))) | G41: =+IFERROR(E41*F41,"")
D42: =+IF(B42="","",(VLOOKUP($A42,INSUMOS_SERVICIOS,3,0))) | F42: =IF(B42="","",(VLOOKUP($A42,INSUMOS_SERVICIOS,4,0))) | G42: =+IFERROR(E42*F42,"")
F43: SUBTOTAL | G43: =+IF(SUM(G40:G42)=0,"",SUM(G40:G42))
A45: TOTAL COSTO DIRECTO | G45: =IF(SUM(G16,G22,G28,G36,G43)=0,"",(ROUND(SUM(G16,G22,G28,G36,G43),0))) -> 606932
A47: 2. COSTOS INDIRECTOS
A49: DESCRIPCIÓN | F49: PORCENTAJE | G49: VALOR TOTAL
A50: ADMINISTRACION | F50: =AIU!$I$46 -> 0.2819 | G50: =+IFERROR(G45*F50,"") -> 171094.13
A51: IMPREVISTOS | F51: =IF(AIU!$I$47=0,"",AIU!$I47) | G51: =+IFERROR(G45*F51,"")
...

Sheet INSUMOS EQUIPOS
A1: DEPARTAMENTO DE ANTIOQUIA
A2: ='DATOS INICIALES'!B6 -> MUNICIPIO DE DABEIBA
A3: ='DATOS INICIALES'!B3 -> REPARACIÓN DE LA RED DE CONDUCCIÓN DEL SISTEMA DE ACUEDUCTO UBICADA EN EL CRUCE CON LA QUEBRADA LA DESMOTADORA, RED QUE ABASTECE A LA PLANTA JJ GUZMÁN
A5: LISTADO DE INSUMOS - EQUIPOS
A7: CÓDIGO | B7: DESCRIPCIÓN | C7: UNIDAD | D7: VALOR UNITARIO
A8: EQ001 | B8: =+"HERRAMIENTA MENOR "&"("&D8*100&"% DE LA MANO DE OBRA)" -> HERRAMIENTA MENOR (10% DE LA MANO DE OBRA) | C8: % | D8: 0.1
A9: EQ002 | B9: ESTACIÓN TOTAL Y NIVEL DE PRECISION | C9: DÍA | D9: 90000
A10: EQ003 | B10: NIVEL DE PRECISIÓN | C10: DÍA | D10: 52000
A11: EQ004 | B11: CONCRETADORA 1.5 SACOS A GASOLINA | C11: DÍA | D11: 62000
A12: EQ005 | B12: VEHÍCULO DOBLE TRACCIÓN, DOBLE CABINA, 2000 CC O SUPERIOR (MODELO 2015 O SUPERIOR) TARIFA DE ALQUILER TIEMPO COMPLETO, INCLUYE COMBUSTIBLE Y CONDUCTOR. SE DEBE GARANTIZAR PERMANENCIA DE LOS VEHÍCULOS DURANTE TODA LA EJECUCIÓN DEL PROYECTO. | C12: MES | D12: 5513000
A13: EQ006 | B13: MOTO ALQUILER MODELO 2014 O SUPERIOR - TARIFA DE ALQUILER | C13: MES | D13: 422000
A14: EQ007 | B14: TARIFA PUESTO DE TRABAJO DEL PERSONAL DE OFICINA DE CAMPO, INCLUYE: ALQUILER DE UN (1) EQUIPO DE COMPUTO COMPLETO, ESCRITORIO, SILLA Y OTROS ENSERES DE OFICINA POR PUESTO DE TRABAJO | C14: MES | D14: 50000
A15: EQ008 | B15: IMPRESORA EN OBRA (ALQUILER) | C15: MES | D15: 40000
A16: EQ009 | B16: COMUNICACIONES (TELÉFONO, FAX, CELULAR, INTERNET, ETC.) MENSUAL EN CAMPO | C16: MES | D16: 40000
A17: EQ010 | B17: RADIOTELÉFONOS PARE-SIGA | C17: MES | D17: 51800
A18: EQ011 | B18: ALQUILER BAÑOS PORTÁTILES + MANTENIMIENTO Y LIMPIEZA | C18: MES | D18: 1200000
A19: EQ012 | B19: EQUIPO COMPLETO PARA GEORREFERENCIACIÓN Y CAPTURA , ALMACENAMIENTO, ANALISIS, TRANSFORMACIÓN Y PRESENTACIÓN DE TODA LA INFORMACIÓN GEOGRÁFICA Y SUS ATRIBUTOS, INCLUYE SOFTWARE | C19: MES | D19: 650000
A20: EQ013 | B20: Andamio estructural multidireccional modulo estandar 1.4 x 1.4 x 2 m | C20: DIA | D20: 25000
... A44: EQ037 | B44: PULIDORA DE CORTE | C44: DIA | D44: 30000
B48: MARLON A PEREZ HERRERA
B49: INGENIERO BANCO DE PROYECTOS

Sheet AIU
A1: DEPARTAMENTO DE ANTIOQUIA
A2: ='DATOS INICIALES'!B2 -> MUNICIPIO DE DABEIBA
A3: ='DATOS INICIALES'!B3 -> REPARACIÓN DE LA RED DE CONDUCCIÓN DEL SISTEMA DE ACUEDUCTO UBICADA EN EL CRUCE CON LA QUEBRADA LA DESMOTADORA, RED QUE ABASTECE A LA PLANTA JJ GUZMÁN
A5: ADMINISTRACIÓN, IMPREVISTOS Y UTILIDADES - AIU
A7: ITEM | B7: CÓDIGO | C7: DESCRIPCIÓN | D7: CANT | E7: VALOR MENSUAL | F7: PREST. SOC. | G7: DEDIC. % | H7: PLAZO | I7: VALOR PARCIAL
A8: 1 | B8: EQUIPO PROFESIONAL | I8: =IF(SUM(I9:I12)=0,"",SUM(I9:I12)) -> 1528800
A9: 1.1 | B9: =IF(C9="","",INDEX(CODIGOSMANODEOBRA,MATCH($C9,'INSUMOS MANO DE OBRA'!$B$7:$B$61,0))) -> MO019 | C9: ENCARGADO DE OBRA | D9: 1 | E9: =IF(C9="","",IFERROR(VLOOKUP($B9,INSUMOSMANODEOBRA,4,0),"")) -> 1400000 | F9: =IF(C9="","",IFERROR(ROUND((VLOOKUP($B9,INSUMOSMANODEOBRA,5,0)-1)*E9,0),"")) -> 784000 | G9: 0.7 | H9: 1 | I9: =+IF(D9=0,"",IFERROR(D9*(E9+F9)*G9*H9,"")) -> 1528800
A10: 1.2 | B10: =IF(C10="","",INDEX(CODIGOSMANODEOBRA,MATCH($C10,'INSUMOS MANO DE OBRA'!$B$7:$B$61,0))) | E10: =IF(C10="","",IFERROR(VLOOKUP($B10,INSUMOSMANODEOBRA,4,0),"")) | F10: =IF(C10="","",IFERROR(ROUND((VLOOKUP($B10,INSUMOSMANODEOBRA,5,0)-1)*E10,0),"")) | I10: =+IF(D10=0,"",IFERROR(D10*(E10+F10)*G10*H10,""))
A11: 1.4 | B11: =IF(C11="","",INDEX(CODIGOSMANODEOBRA,MATCH($C11,'INSUMOS MANO DE OBRA'!$B$7:$B$61,0))) | E11: =IF(C11="","",IFERROR(VLOOKUP($B11,INSUMOSMANODEOBRA,4,0),"")) | F11: =IF(C11="","",IFERROR(ROUND((VLOOKUP($B11,INSUMOSMANODEOBRA,5,0)-1)*E11,0),"")) | I11: =+IF(D11=0,"",IFERROR(D11*(E11+F11)*G11*H11,""))
A12: 1.6 | B12: =IF(C12="","",INDEX(CODIGOSMANODEOBRA,MATCH($C12,'INSUMOS MANO DE OBRA'!$B$7:$B$61,0))) | E12: =IF(C12="","",IFERROR(VLOOKUP($B12,INSUMOSMANODEOBRA,4,0),"")) | F12: =IF(C12="","",IFERROR(ROUND((VLOOKUP($B12,INSUMOSMANODEOBRA,5,0)-1)*E12,0),"")) | I12: =+IF(D12=0,"",IFERROR(D12*(E12+F12)*G12*H12,""))
A13: 2 | B13: PERSONAL TÉCNICO NO PROFESIONAL DE OBRA - VIÁTICOS | I13: =IF(SUM(I14:I15)=0,"",SUM(I14:I15))
A14: 2.1 | B14: =IF(C14="","",INDEX(CODIGOSMANODEOBRA,MATCH($C14,'INSUMOS MANO DE OBRA'!$B$7:$B$61,0))) | D14: 1 | E14: =IF(C14="","",IFERROR(VLOOKUP($B14,INSUMOSMANODEOBRA,4,0),"")) | F14: =IF(C14="","",IFERROR(ROUND((VLOOKUP($B14,INSUMOSMANODEOBRA,5,0)-1)*E14,0),"")) | I14: =+IF(D14=0,"",IFERROR(D14*(E14+F14)*G14*H14,""))
A15: 2.4 | D15: =+IF(SUM(D9:D10)=0,"",SUM(D9:D10)) -> 1 | I15: =+IFERROR(D15*E15*H15,"") -> 0
A16: 3 | B16: GASTOS OFICINA CENTRAL | I16: =IF(SUM(I17:I19)=0,"",SUM(I17:I18)) -> 256959.5
A17: 3.1 | B17: =IF(C17="","",INDEX(CODIGOSMANODEOBRA,MATCH($C17,'INSUMOS MANO DE OBRA'!$B$7:$B$61,0))) -> MO013 | C17: SECRETARIA | D17: 1 | E17: =IF(C17="","",IFERROR(VLOOKUP($B17,INSUMOSMANODEOBRA,4,0),"")) -> 1423500 | F17: =IF(C17="","",IFERROR(ROUND((VLOOKUP($B17,INSUMOSMANODEOBRA,5,0)-1)*E17,0),"")) -> 1096095 | G17: 0.1 | H17: 1 | I17: =+IF(D17=0,"",IFERROR(D17*(E17+F17)*G17*H17,"")) -> 251959.5
A18: 3.4 | C18: PAPELERIA | D18: 1 | E18: 50000 | G18: 0.1 | H18: 1 | I18: =+IF(D18=0,"",IFERROR(D18*(E18+F18)*G18*H18,"")) -> 5000
A19: 3.5 | C19: ARRENDAMIENTO + SERVICIOS | D19: 1 | E19: 300000 | G19: 0.1 | H19: 1 | I19: =+IF(D19=0,"",IFERROR(D19*(E19+F19)*G19*H19,"")) -> 30000
A20: 4 | B20: OFICINA Y CAMPAMENTO EN OBRA | I20: =IF(SUM(I21:I22)=0,"",SUM(I21:I22))
A21: 4.1 | B21: =IF(C21="","",INDEX(CODIGOSSERVICIOS,MATCH($C21,'INSUMOS SERVICIOS'!B7:B21,0))) | D21: 1 | E21: =IF(C21="","",(VLOOKUP($B21,INSUMOSSERVICIOS,4,0))) | I21: =IFERROR(D21*E21*H21,"")
A22: 4.2 | B22: =IF(C22="","",INDEX(CODIGOEQUIPOS,MATCH($C22,'INSUMOS EQUIPOS'!B7:B39,0))) | D22: 1 | E22: =IF(C22="","",(VLOOKUP($B22,INSUMOSEQUIPOS,4,0))) | I22: =IFERROR(D22*E22*H22,"")
A23: 5 | B23: SISTEMA DE CÓMPUTO Y COMUNICACIONES | I23: =IF(SUM(I24:I26)=0,"",SUM(I24:I26))
A24: 5.1 | B24: =IF(C24="","",INDEX(CODIGOEQUIPOS,MATCH($C24,'INSUMOS EQUIPOS'!$B$7:$B$39,0))) | D24: 1 | E24: =IF(C24="","",(VLOOKUP($B24,INSUMOSEQUIPOS,4,FALSE))) | I24: =IF(D24=0,"",IFERROR(D24*E24*H24,""))
