Workbook
Name \b: #REF!
Name \c: #REF!
Name \e: #REF!
Name \i: #REF!
Name \m: #REF!
Name \r: #REF!
Name \t: #REF!
Name \x: #REF!
Name \z: #REF!
Name __________________________________________________________Po2: #REF!
Name __________________________________________________________TPE1132: #REF!
Name __________________________________________________________TPE1331: #REF!
Name __________________________________________________________TPE1702: #REF!
Name __________________________________________________________TPE1703: #REF!
Name __________________________________________________________TPE1704: #REF!
Name __________________________________________________________TPE1706: #REF!
Name __________________________________________________________TPE1708: #REF!
Name __________________________________________________________TPE1710: #REF!
Name __________________________________________________________TPE1735: #REF!
Name __________________________________________________________TPE1763: #REF!
Name __________________________________________________________TPE1790: #REF!
Name __________________________________________________________TUZ22: #REF!
Name __________________________________________________________TUZ36: #REF!
Name __________________________________________________________TZ323: #REF!
Name __________________________________________________________TZ324: #REF!
Name ________________________________________________________AIU1: #REF!
Name ________________________________________________________AIU2: #REF!
Name ________________________________________________________Cod1: #REF!
Name ________________________________________________________Po2: #REF!
Name ________________________________________________________TPE1132: #REF!
Name ________________________________________________________TPE1331: #REF!
Name ________________________________________________________TPE1702: #REF!
Name ________________________________________________________TPE1703: #REF!
Name ________________________________________________________TPE1704: #REF!
Name ________________________________________________________TPE1706: #REF!
Name ________________________________________________________TPE1708: #REF!
Name ________________________________________________________TPE1710: #REF!
Name ________________________________________________________TPE1735: #REF!
Name ________________________________________________________TPE1763: #REF!
Name ________________________________________________________TPE1790: #REF!
Name ________________________________________________________TUZ22: #REF!
Name ________________________________________________________TUZ36: #REF!
Name ________________________________________________________TZ323: #REF!
Name ________________________________________________________TZ324: #REF!
Name _______________________________________________________AIU1: #REF!
Name _______________________________________________________AIU2: #REF!
Name _______________________________________________________CAN28: #REF!
Name _______________________________________________________Cod1: #REF!
Name _______________________________________________________Po2: #REF!
Name _______________________________________________________REP43: #REF!
Name _______________________________________________________TPE1132: #REF!
Name _______________________________________________________TPE12: #REF!
Name _______________________________________________________TPE1331: #REF!
Name _______________________________________________________TPE1702: #REF!
Name _______________________________________________________TPE1703: #REF!
Name _______________________________________________________TPE1704: #REF!
Name _______________________________________________________TPE1706: #REF!
Name _______________________________________________________TPE1708: #REF!
Name _______________________________________________________TPE1710: #REF!
Name _______________________________________________________TPE1735: #REF!

Sheet MENU
C2: EMPRESA DE VIVIENDA E INFRAESTRUCTURA DE ANTIOQUIA - VIVA
C3: CONSTRUCCIÓN ESPACIO PÚBLICO
C4: MUNICIPIO | E4: BARBOSA - MATADERO
C5: TIPO DE VIVIENDA | E5: ESPACIO PÚBLICO BETULIA
C6: UNIDADES DE VIVIENDA
C7: CONTENIDO | D7: 1. | E7: Resumen Ejecutivo
D8: 2. | E8: Presupuesto
D9: 3. | E9: Cantidades
D10: 4. | E10: APU
D11: 4.1 | E11: APU Auxiliares
D12: 4.2 | E12: Insumos
D13: 4.3 | E13: Factor Prestacional
D14: 5. | E14: Costos administrativos
D15: 6. | E15: Costos ambientales
D16: 7. | E16: Interventoría
D17: 7.1 | E17: Factor Multiplicador Interventoría
D18: 8. | E18: Costos Operacionales
D19: 9. | E19: Programación Fisico - Financiera

Sheet 1-Resumen Ejecutivo
B2: NOMBRE DEL PROYECTO: Limpieza Fachada 5 Torres en Campamento
B3: RESUMEN EJECUTIVO
B4: TIEMPO DE CONVENIO
B5: Etapa contractual | F5: 2
B6: Ejecución | F6: 2
B7: Liquidación | F7: 2
B8: Cierre | F8: 1
B9: ITEM | C9: DESCRIPCIÓN | D9: TORRES | E9: VR.UNIT | F9: VR. TOTAL
B10: 1 | C10: COSTO TOTAL PROYECTO
B11: 1 | C11: Pintura | D11: 5 | E11: ='2-Presupuesto'!H12 -> 25152120 | F11: =D11*E11 -> 125760600
B12: 2 | C12: Lavado | D12: 5 | E12: ='2-Presupuesto'!H13 -> 9997526 | F12: =D12*E12 -> 49987630
B13: 3 | C13: Hidrofugo | D13: 5 | E13: ='2-Presupuesto'!H14 -> 18380535 | F13: =D13*E13 -> 91902675
B14: COSTOS DIRECTOS OBRA | F14: =SUM(F11:F13) -> 267650905
B15: OTROS COSTOS DIRECTOS
C16: ADMINISTRACION | D16: =+'Costos Administracion'!G38 -> 0.3024 | F16: =+'Costos Administracion'!J38 -> 80937634
C17: UTILIDAD | D17: =+'Costos Administracion'!G39 -> 0.05 | F17: =+'Costos Administracion'!J39 -> 13382545
B18: TOTAL COSTOS DIRECTOS | D18: =SUM(D16:D17) -> 0.3524 | F18: =SUM(F16:F17) -> 94320179
B19: OTROS COSTOS INDIRECTOS
C20: POLIZAS | F20: =+OBRA_PÓLIZAS!H30 -> 1272777
C21: PMGSA | F21: ='6.2 PMGSA'!H68 -> 1032773.8
B22: TOTAL OTROS COSTOS INDIRECTOS | F22: =SUM(F20:F21) -> 2305550.8
B23: COSTO TOTAL EJECUCION OBRA | F23: =+F22+F18+F14 -> 3.6427663e+08 | G23: 341281311
B24: 2 | C24: INTERVENTORÍA PROYECTO
B25: 2.1 | C25: Contratación Interventoría de Obra | F25: 0
B26: IMPUESTO DE TIMBRE | E26: 0 | F26: =E26*F23 -> 0
B27: COSTO TOTAL PROYECTO | F27: =+F23+F26 -> 3.6427663e+08 | G27: 36000000
B28: COSTO POR TORRE | D28: un | E28: 5 | F28: =ROUND((+F27/E28),0) -> 72855327 | G28: =+G23+G27 -> 377281311
G29: =+G28-F23 -> 13004676
B30: SINTESIS DE COSTOS | G30: =+G28*3.446944185% -> 13004676
B31: =+B10 -> 1 | C31: =+C10 -> COSTO TOTAL PROYECTO | F31: =+F23 -> 3.6427663e+08
B32: =+B24 -> 2 | C32: =+C24 -> INTERVENTORÍA PROYECTO | F32: =+F26 -> 0 | G32: =364276635+G30 -> 3.7728131e+08
B33: COSTO TOTAL DEL PROYECTO EJECUCIÓN | F33: =SUM(F31:F32) -> 3.6427663e+08 | G33: =+G30*19% -> 2470888.5
G34: =+G32-G28 -> 0.21060628
B35: SINTESIS FUENTES DE FINANCIACIÓN | G35: =+G28-G30 -> 3.6427663e+08
B36: RECURSOS PROPIOS MUNICIPIO | G36: =+G30*19% -> 2470888.5
B37: ASIGNACIONES PARA LA INVERSIÓN LOCAL | G37: =+G30-G36 -> 10533788
B38: ASIGNACIONES DIRECTAS DEPARTAMENTALES
B39: COSTO POR U.V ($/U.V) | D39: U.V | F39: =+F28 -> 72855327 | G39: 364276635
B40: COSTO POR U.V (SMMLV) | F40: =ROUNDUP(+F39/E41,0) -> 52 | G40: 10533788
B41: SALARIO MÍNIMO MENSUAL LEGAL VIGENTE AÑO | D41: 2025 | E41: 1423500 | G41: 2470888
...

Sheet 2-Presupuesto
B2: Nota: | C2: Diliegenciar los espacios que se encuentren resaltados de color gris claro
C3: Las actividades no deben tener la unidad de medida "global"
B4: NOMBRE DEL PROYECTO:
B5: ESPACIO PÚBLICO
B6: FORMULARIO DE PRESUPUESTO POR BLOQUE
H7: Proyecto gl | I7: 1
B8: Ítem | C8: Descripción | D8: Unidad | E8: Cantidad | F8: Vr Unitario | G8: Vr. Total/U.V | H8: Vr. Total | I8: Vr Aproximado al peso
A10: 12 | B10: A
A11: 12.1 | B11: 1 | C11: ACABADO POR TORRE | I11: =+IFERROR((SUM(H12:H14))," ") -> 53530181
A12: 9.2 | B12: 1.1 | C12: =VLOOKUP(A12,APU_2[],2,0) -> Aplicación de PINTURA ACRÍLICA en muros para Exteriores (hidrorepelente) tipo koraza o similar de primera calidad, incluye sellante para poros tipo Sellomax o similar, 2 manos o las que sean necesarias para obtener una superficie pareja y homogénea. Incluye suministro y transporte de los materiales, preparada y adecuación de la superficie a intervenir. Color a definir aprobado por la interventoría. | D12: =VLOOKUP(A12,APU_2[],3,0) -> m2 | E12: 810 | F12: =+VLOOKUP(A12,APU_2[],7,FALSE) -> 31052 | G12: =ROUND((+F12*$E12),0) -> 25152120 | H12: =+G12*$I$7 -> 25152120 | K12: =+F12*30 -> 931560
A13: 9.3 | B13: 1.4 | C13: =VLOOKUP(A13,APU_2[],2,0) -> Suministro, transporte y aplicación de ácido nítrico e hidrosolve proporción 1:1:5 para lavado de muros exteriores, con todos los elementos necesarios para su correcta instalación y funcionamiento. | D13: =VLOOKUP(A13,APU_2[],3,0) -> m2 | E13: 810 | F13: =+VLOOKUP(A13,APU_2[],7,FALSE) -> 12342.625 | G13: =ROUND((+F13*$E13),0) -> 9997526 | H13: =+G13*$I$7 -> 9997526 | K13: =+F13*30 -> 370278.75
A14: 9.4 | B14: 1.6 | C14: =VLOOKUP(A14,APU_2[],2,0) -> Suministro, transporte y aplicación de hidrófugo impermeabilizante del tipo siliconite (Sika transparente o equivalente) para mampostería de fachadas, con todos los elementos necesarios para su correcta instalación y funcionamiento. | D14: =VLOOKUP(A14,APU_2[],3,0) -> m2 | E14: 810 | F14: =+VLOOKUP(A14,APU_2[],7,FALSE) -> 22692.018 | G14: =ROUND((+F14*$E14),0) -> 18380535 | H14: =+G14*$I$7 -> 18380535 | K14: =+F14*30 -> 680760.54
C15: TOTAL COSTO DIRECTO URBANISMO | G15: =SUM(G11:G14) -> 53530181 | H15: =SUM(H12:H14) -> 53530181 | I15: =SUM(I11:I14) -> 53530181
K16: =+K14+K13+K12 -> 1982599.3
K17: =+K16*5 -> 9912996.4

Sheet CANT URBANISMO
B2: Nota: | C2: Diliegenciar los espacios que se encuentren resaltados de color gris claro
B3: NOMBRE DEL PROYECTO:
B4: ESPACIO PÚBLICO
B5: CALCULO DE CANTIDADES DE OBRA
B7: URBANISMO
B8: CAPITULO: | C8: 12 | D8: URBANISMO | I8: ELABORÓ: | J8: FECHA:
I9: =+#REF! -> #REF! | J9: =+#REF! -> #REF!
B10: ITEM | C10: =VLOOKUP(B11,'2-Presupuesto'!B:I,2,0) -> Aplicación de PINTURA ACRÍLICA en muros para Exteriores (hidrorepelente) tipo koraza o similar de primera calidad, incluye sellante para poros tipo Sellomax o similar, 2 manos o las que sean necesarias para obtener una superficie pareja y homogénea. Incluye suministro y transporte de los materiales, preparada y adecuación de la superficie a intervenir. Color a definir aprobado por la interventoría. | J10: UNIDAD:
B11: 1.1 | J11: =VLOOKUP(B11,'2-Presupuesto'!B:E,3,0) -> m2
I12: DETALLES
B13: UBICACIÓN | D13: LARGO | E13: ALTO | F13: PISOS | G13: CANT. | H13: TOTAL
B14: Perímetro Bloque | D14: 75 | E14: 2.45 | F14: 5 | H14: =D14*E14*F14 -> 918.75
B15: Muro terraza | D15: 75 | E15: 0.4 | F15: 1 | H15: =D15*E15*F15 -> 30
B16: Descuento ventanas | D16: 2.5 | E16: 1 | F16: 5 | G16: -2 | H16: =+G16*F16*E16*D16 -> -25
B17: Descuento ventanas | D17: 1 | E17: 1.2 | F17: 5 | G17: -8 | H17: =+G17*F17*E17*D17 -> -48
B18: Descuento ventanas | D18: 0.6 | E18: 1.2 | F18: 5 | G18: -4 | H18: =+G18*F18*E18*D18 -> -14.4
B19: Descuento ventanas | D19: 1.6 | E19: 1.6 | F19: 5 | G19: -4 | H19: =+G19*F19*E19*D19 -> -51.2
G20: TOTAL | H20: =SUM(H14:H19) -> 810.15
B21: CAPITULO: | C21: 12 | D21: URBANISMO | I21: ELABORÓ: | J21: FECHA:
I22: =+#REF! -> #REF! | J22: =+#REF! -> #REF!
B23: ITEM | C23: =VLOOKUP(B24,'2-Presupuesto'!B:I,2,0) -> Suministro, transporte y aplicación de ácido nítrico e hidrosolve proporción 1:1:5 para lavado de muros exteriores, con todos los elementos necesarios para su correcta instalación y funcionamiento. | J23: UNIDAD:
B24: 1.4 | J24: =VLOOKUP(B24,'2-Presupuesto'!B:E,3,0) -> m2
I25: DETALLES
B26: UBICACIÓN | D26: LARGO | E26: ANCHO | F26: ALTURA | G26: CANT. | H26: TOTAL
B27: Perímetro Bloque | D27: 75 | E27: 2.45 | F27: 5 | H27: =D27*E27*F27 -> 918.75
B28: Muro terraza | D28: 75 | E28: 0.4 | F28: 1 | H28: =D28*E28*F28 -> 30
B29: Descuento ventanas | D29: 2.5 | E29: 1 | F29: 5 | G29: -2 | H29: =+G29*F29*E29*D29 -> -25
B30: Descuento ventanas | D30: 1 | E30: 1.2 | F30: 5 | G30: -8 | H30: =+G30*F30*E30*D30 -> -48
B31: Descuento ventanas | D31: 0.6 | E31: 1.2 | F31: 5 | G31: -4 | H31: =+G31*F31*E31*D31 -> -14.4
B32: Descuento ventanas | D32: 1.6 | E32: 1.6 | F32: 5 | G32: -4 | H32: =+G32*F32*E32*D32 -> -51.2
G33: TOTAL | H33: =SUM(H27:H32) -> 810.15
B34: CAPITULO: | C34: 12 | D34: URBANISMO | I34: ELABORÓ: | J34: FECHA:
I35: =+#REF! -> #REF! | J35: =+#REF! -> #REF!
B36: ITEM | C36: =VLOOKUP(B37,'2-Presupuesto'!B:I,2,0) -> Suministro, transporte y aplicación de hidrófugo impermeabilizante del tipo siliconite (Sika transparente o equivalente) para mampostería de fachadas, con todos los elementos necesarios para su correcta instalación y funcionamiento. | J36: UNIDAD:
B37: 1.6 | J37: =VLOOKUP(B37,'2-Presupuesto'!B:E,3,0) -> m2
I38: DETALLES
B39: UBICACIÓN | D39: LARGO | E39: ANCHO | F39: ALTURA | G39: AREA | H39: TOTAL
B40: Perímetro Bloque | D40: 75 | E40: 2.45 | F40: 5 | H40: =D40*E40*F40 -> 918.75
B41: Muro terraza | D41: 75 | E41: 0.4 | F41: 1 | H41: =D41*E41*F41 -> 30
B42: Descuento ventanas | D42: 2.5 | E42: 1 | F42: 5 | G42: -2 | H42: =+G42*F42*E42*D42 -> -25
...

Sheet Otros Costos Admin
B2: =+'Costos Administracion'!B2 -> 0
B3: OTROS COSTOS ADMINISTRATIVOS
I4: PLAZO | J4: =+'Costos Administracion'!J4 -> 2
B5: ITEM | C5: DESCRIPCIÓN | D5: UNIDAD | E5: CANT | F5: SALARIO MENSUAL BÁSICO | G5: F.P | H5: DEDICACIÓN | I5: DURACIÓN (MESES) | J5: VALOR PARCIAL | M5: TABLA
B6: 8 | C6: Gastos de Legalización
B7: 8.1 | C7: Estampilla Prodesarrollo 6/1000 (Sobre el valor total del contrato sin el 50% del 4/1000) | D7: U | E7: 1 | F7: =+$L$16 -> 3.6427663e+08 | G7: 0.006 | J7: =ROUND(PRODUCT(D7:I7),0) -> 2185660 | M7: 0.01
B8: 8.2 | C8: Estampilla para el bienestar del adulto mayor | D8: U | E8: 1 | F8: =+$L$16 -> 3.6427663e+08 | G8: 0.02 | J8: =ROUND(PRODUCT(D8:I8),0) -> 7285533 | M8: 0.02
B9: 8.3 | C9: Estampilla Prohospitales públicos | D9: U | E9: 1 | F9: =+$L$16 -> 3.6427663e+08 | G9: 0.01 | J9: =ROUND(PRODUCT(D9:I9),0) -> 3642766 | M9: 0.01
B10: 8.4 | C10: Estampilla Politécnico Colombiano JIC 4/1000 | D10: U | E10: 1 | F10: =+$L$16 -> 3.6427663e+08 | G10: 0.004 | J10: =ROUND(PRODUCT(D10:I10),0) -> 1457107 | M10: 0.004
B11: 8.5 | C11: Estampilla Prodesarrollo Institucion Universitaria de Envigado (IUE) 4/1000 | D11: U | E11: 1 | F11: =+$L$16 -> 3.6427663e+08 | G11: 0.004 | J11: =ROUND(PRODUCT(D11:I11),0) -> 1457107 | M11: 0.004
B12: 8.6 | C12: Tasa Prodeporte y recreación | D12: U | E12: 1 | F12: =+$L$16 -> 3.6427663e+08 | G12: 0.025 | J12: =ROUND(PRODUCT(D12:I12),0) -> 9106916 | M12: 0.025
B13: 8.7 | C13: Tasa Procultura | D13: U | E13: 1 | F13: =+$L$16 -> 3.6427663e+08 | G13: 0 | J13: =ROUND(PRODUCT(D13:I13),0) -> 0
B14: 8.8 | C14: Impuesto de contribución especial- Obra Pública 5% | D14: U | E14: 1 | F14: =+$L$16 -> 3.6427663e+08 | G14: 0.05 | J14: =ROUND(PRODUCT(D14:I14),0) -> 18213832
B15: 8.9 | C15: Pro Intitucion Universitaria Digital de Antioquia IU - Digital | D15: U | E15: 1 | F15: =+$L$16 -> 3.6427663e+08 | G15: 0.004 | J15: =ROUND(PRODUCT(D15:I15),0) -> 1457107 | M15: 0.004
B16: TOTAL COSTOS ADMINISTRATIVOS | G16: =SUM(G7:G15) -> 0.123 | J16: =SUM(J7:J15) -> 44806028 | L16: 3.6427663e+08 | M16: =SUM(M7:M15) -> 0.077

Sheet 4.1-APU Aux
B2: =+'2-Presupuesto'!B4:D4 -> NOMBRE DEL PROYECTO:
B3: SUB-ANALISIS DE PRECIOS UNITARIOS
B4: CLV | C4: DESCRIPCION | D4: UN | E4: CANTIDAD | F4: % | G4: VR. UNIT. | H4: VR. TOTAL
B5: CT080KG | C5: =+VLOOKUP(B5,INSUMOS2,2,FALSE) -> Concreto 80kg/cm² 1:4:7 | D5: M3 | H5: =ROUND((+H6+H9+H13+H16),0) -> 461573
B6: I. EQUIPO Y HERRAMIENTA | H6: =SUM(H7:H8) -> 10388.04
B7: HTAMNR | C7: =+VLOOKUP(B7,'4.2-Insumos '!C:H,2,FALSE) -> Herramienta y equipo menor | D7: =+VLOOKUP(B7,'4.2-Insumos '!C:H,3,FALSE) -> % | F7: =+VLOOKUP($B7,'4.2-Insumos '!C:H,4,FALSE) -> 0.05 | G7: =+H16 -> 87760.8 | H7: =IFERROR(+F7*G7,"") -> 4388.04
B8: EQ1090 | C8: =+VLOOKUP(B8,'4.2-Insumos '!C:H,2,FALSE) -> Concretadora eléctrica 2 sacos | D8: =+VLOOKUP(B8,'4.2-Insumos '!C:H,3,FALSE) -> día | E8: 0.2 | G8: =+VLOOKUP(B8,'4.2-Insumos '!C:H,6,FALSE) -> 30000 | H8: =IFERROR(+E8*G8,"") -> 6000
B9: II. MATERIALES | H9: =SUM(H10:H12) -> 347305.22
B10: MAT1085 | C10: =+VLOOKUP(B10,'4.2-Insumos '!C:H,2,FALSE) -> Cemento gris (50kg) | D10: =+VLOOKUP(B10,'4.2-Insumos '!C:H,3,FALSE) -> saco | E10: 3.25 | G10: =+VLOOKUP(B10,'4.2-Insumos '!C:H,6,FALSE) -> 34500 | H10: =IFERROR(+E10*G10,"") -> 112125
B11: MAT1025 | C11: =+VLOOKUP(B11,'4.2-Insumos '!C:H,2,FALSE) -> Arena para concreto incluye transporte | D11: =+VLOOKUP(B11,'4.2-Insumos '!C:H,3,FALSE) -> m3 | E11: 0.52 | G11: =+VLOOKUP(B11,'4.2-Insumos '!C:H,6,FALSE) -> 148641 | H11: =IFERROR(+E11*G11,"") -> 77293.32
B12: MAT1330 | C12: =+VLOOKUP(B12,'4.2-Insumos '!C:H,2,FALSE) -> Triturado 3/4'' -Incluye Transporte | D12: =+VLOOKUP(B12,'4.2-Insumos '!C:H,3,FALSE) -> m3 | E12: 1.025 | G12: =+VLOOKUP(B12,'4.2-Insumos '!C:H,6,FALSE) -> 154036 | H12: =IFERROR(+E12*G12,"") -> 157886.9
B13: III. TRANSPORTES | H13: =SUM(H14:H15) -> 16119
B14: TR1060 | C14: =+VLOOKUP(B14,'4.2-Insumos '!C:H,2,FALSE) -> Transporte de materiales en volqueta | D14: =+VLOOKUP(B14,'4.2-Insumos '!C:H,3,FALSE) -> viaje | E14: 0 | G14: =+VLOOKUP(B14,'4.2-Insumos '!C:H,6,FALSE) -> 500000 | H14: =IFERROR(+E14*G14,"") -> 0
B15: TR1080 | C15: =+VLOOKUP(B15,'4.2-Insumos '!C:H,2,FALSE) -> Transporte de materiales interno | D15: =+VLOOKUP(B15,'4.2-Insumos '!C:H,3,FALSE) -> m3 | E15: 1 | G15: =+VLOOKUP(B15,'4.2-Insumos '!C:H,6,FALSE) -> 16119 | H15: =IFERROR(+E15*G15,"") -> 16119
B16: IV. MANO DE OBRA | H16: =SUM(H17:H18) -> 87760.8
B17: MOAYUDR | C17: =+VLOOKUP(B17,'4.2-Insumos '!C:H,2,FALSE) -> Ayudante raso | D17: =+VLOOKUP(B17,'4.2-Insumos '!C:H,3,FALSE) -> día | E17: 0.24 | G17: =+VLOOKUP(B17,'4.2-Insumos '!C:H,6,FALSE)*3 -> 257520 | H17: =IFERROR(+E17*G17,"") -> 61804.8
B18: MOAYUDA | C18: =+VLOOKUP(B18,'4.2-Insumos '!C:H,2,FALSE) -> Ayudante entendido | D18: =+VLOOKUP(B18,'4.2-Insumos '!C:H,3,FALSE) -> día | E18: =+E17 -> 0.24 | G18: =+VLOOKUP(B18,'4.2-Insumos '!C:H,6,FALSE) -> 108150 | H18: =IFERROR(+E18*G18,"") -> 25956
B19: CT110KG | C19: =+VLOOKUP(B19,INSUMOS2,2,FALSE) -> Concreto 110kg/cm² 1:3:5 | D19: M3 | H19: =ROUND((+H20+H23+H27+H30),0) -> 493727
B20: I. EQUIPO Y HERRAMIENTA | H20: =SUM(H21:H22) -> 10388.04
B21: HTAMNR | C21: =+VLOOKUP(B21,'4.2-Insumos '!C:H,2,FALSE) -> Herramienta y equipo menor | D21: =+VLOOKUP(B21,'4.2-Insumos '!C:H,3,FALSE) -> % | F21: =+VLOOKUP($B21,'4.2-Insumos '!C:H,4,FALSE) -> 0.05 | G21: =+H30 -> 87760.8 | H21: =IFERROR(+F21*G21,"") -> 4388.04
B22: EQ1090 | C22: =+VLOOKUP(B22,'4.2-Insumos '!C:H,2,FALSE) -> Concretadora eléctrica 2 sacos | D22: =+VLOOKUP(B22,'4.2-Insumos '!C:H,3,FALSE) -> día | E22: 0.2 | G22: =+VLOOKUP(B22,'4.2-Insumos '!C:H,6,FALSE) -> 30000 | H22: =IFERROR(+E22*G22,"") -> 6000
B23: II. MATERIALES | H23: =SUM(H24:H26) -> 379458.88
B24: MAT1085 | C24: =+VLOOKUP(B24,'4.2-Insumos '!C:H,2,FALSE) -> Cemento gris (50kg) | D24: =+VLOOKUP(B24,'4.2-Insumos '!C:H,3,FALSE) -> saco | E24: 4.5 | G24: =+VLOOKUP(B24,'4.2-Insumos '!C:H,6,FALSE) -> 34500 | H24: =IFERROR(+E24*G24,"") -> 155250
B25: MAT1025 | C25: =+VLOOKUP(B25,'4.2-Insumos '!C:H,2,FALSE) -> Arena para concreto incluye transporte | D25: =+VLOOKUP(B25,'4.2-Insumos '!C:H,3,FALSE) -> m3 | E25: 0.555 | G25: =+VLOOKUP(B25,'4.2-Insumos '!C:H,6,FALSE) -> 148641 | H25: =IFERROR(+E25*G25,"") -> 82495.755
B26: MAT1330 | C26: =+VLOOKUP(B26,'4.2-Insumos '!C:H,2,FALSE) -> Triturado 3/4'' -Incluye Transporte | D26: =+VLOOKUP(B26,'4.2-Insumos '!C:H,3,FALSE) -> m3 | E26: 0.92 | G26: =+VLOOKUP(B26,'4.2-Insumos '!C:H,6,FALSE) -> 154036 | H26: =IFERROR(+E26*G26,"") -> 141713.12
B27: III. TRANSPORTES | H27: =SUM(H28:H29) -> 16119
B28: TR1060 | C28: =+VLOOKUP(B28,'4.2-Insumos '!C:H,2,FALSE) -> Transporte de materiales en volqueta | D28: =+VLOOKUP(B28,'4.2-Insumos '!C:H,3,FALSE) -> viaje | E28: 0 | G28: =+VLOOKUP(B28,'4.2-Insumos '!C:H,6,FALSE) -> 500000 | H28: =IFERROR(+E28*G28,"") -> 0
B29: TR1080 | C29: =+VLOOKUP(B29,'4.2-Insumos '!C:H,2,FALSE) -> Transporte de materiales interno | D29: =+VLOOKUP(B29,'4.2-Insumos '!C:H,3,FALSE) -> m3 | E29: 1 | G29: =+VLOOKUP(B29,'4.2-Insumos '!C:H,6,FALSE) -> 16119 | H29: =IFERROR(+E29*G29,"") -> 16119
B30: IV. MANO DE OBRA | H30: =SUM(H31:H32) -> 87760.8
B31: MOAYUDR | C31: =+VLOOKUP(B31,'4.2-Insumos '!C:H,2,FALSE) -> Ayudante raso | D31: =+VLOOKUP(B31,'4.2-Insumos '!C:H,3,FALSE) -> día | E31: 0.24 | G31: =+VLOOKUP(B31,'4.2-Insumos '!C:H,6,FALSE)*3 -> 257520 | H31: =IFERROR(+E31*G31,"") -> 61804.8
B32: MOAYUDA | C32: =+VLOOKUP(B32,'4.2-Insumos '!C:H,2,FALSE) -> Ayudante entendido | D32: =+VLOOKUP(B32,'4.2-Insumos '!C:H,3,FALSE) -> día | E32: =+E31 -> 0.24 | G32: =+VLOOKUP(B32,'4.2-Insumos '!C:H,6,FALSE) -> 108150 | H32: =IFERROR(+E32*G32,"") -> 25956
B33: CT140KG | C33: =+VLOOKUP(B33,INSUMOS2,2,FALSE) -> Concreto 140kg/cm² 1:3:4 | D33: M3 | H33: =ROUND((+H34+H37+H41+H44),0) -> 516914
B34: I. EQUIPO Y HERRAMIENTA | H34: =SUM(H35:H36) -> 10388.04
B35: HTAMNR | C35: =+VLOOKUP(B35,'4.2-Insumos '!C:H,2,FALSE) -> Herramienta y equipo menor | D35: =+VLOOKUP(B35,'4.2-Insumos '!C:H,3,FALSE) -> % | F35: =+VLOOKUP($B35,'4.2-Insumos '!C:H,4,FALSE) -> 0.05 | G35: =+H44 -> 87760.8 | H35: =IFERROR(+F35*G35,"") -> 4388.04
B36: EQ1090 | C36: =+VLOOKUP(B36,'4.2-Insumos '!C:H,2,FALSE) -> Concretadora eléctrica 2 sacos | D36: =+VLOOKUP(B36,'4.2-Insumos '!C:H,3,FALSE) -> día | E36: 0.2 | G36: =+VLOOKUP(B36,'4.2-Insumos '!C:H,6,FALSE) -> 30000 | H36: =IFERROR(+E36*G36,"") -> 6000
B37: II. MATERIALES | H37: =SUM(H38:H40) -> 402645.68
B38: MAT1085 | C38: =+VLOOKUP(B38,'4.2-Insumos '!C:H,2,FALSE) -> Cemento gris (50kg) | D38: =+VLOOKUP(B38,'4.2-Insumos '!C:H,3,FALSE) -> saco | E38: 5.25 | G38: =+VLOOKUP(B38,'4.2-Insumos '!C:H,6,FALSE) -> 34500 | H38: =IFERROR(+E38*G38,"") -> 181125
B39: MAT1025 | C39: =+VLOOKUP(B39,'4.2-Insumos '!C:H,2,FALSE) -> Arena para concreto incluye transporte | D39: =+VLOOKUP(B39,'4.2-Insumos '!C:H,3,FALSE) -> m3 | E39: 0.625 | G39: =+VLOOKUP(B39,'4.2-Insumos '!C:H,6,FALSE) -> 148641 | H39: =IFERROR(+E39*G39,"") -> 92900.625
B40: MAT1330 | C40: =+VLOOKUP(B40,'4.2-Insumos '!C:H,2,FALSE) -> Triturado 3/4'' -Incluye Transporte | D40: =+VLOOKUP(B40,'4.2-Insumos '!C:H,3,FALSE) -> m3 | E40: 0.835 | G40: =+VLOOKUP(B40,'4.2-Insumos '!C:H,6,FALSE) -> 154036 | H40: =IFERROR(+E40*G40,"") -> 128620.06
B41: III. TRANSPORTES | H41: =SUM(H42:H43) -> 16119
...

Sheet 4-APU VIV
A1: MENU!E10
B2: CONSTRUCCIÓN VIVIENDA NUEVA
B3: ="ANALISIS DE PRECIOS UNITARIOS" -> ANALISIS DE PRECIOS UNITARIOS
B4: ITEM | C4: DESCRIPCION | D4: UN | E4: CANTIDAD | F4: % | G4: VR. UNIT. | H4: VR. TOTAL
B5: 1 | C5: PRELIMINARES
B8: 6 | C8: INSTALACIONES HIDRÁULICAS E HIDROSANITARIAS
B13: 9 | C13: ENCHAPES Y ACABADOS
B16: 9.2 | C16: Aplicación de PINTURA ACRÍLICA en muros para Exteriores (hidrorepelente) tipo koraza o similar de primera calidad, incluye sellante para poros tipo Sellomax o similar, 2 manos o las que sean necesarias para obtener una superficie pareja y homogénea. Incluye suministro y transporte de los materiales, preparada y adecuación de la superficie a intervenir. Color a definir aprobado por la interventoría. | D16: m2 | E16: 118.88 | H16: =ROUND((+H17+H20+H27+H29),0) -> 31052
B17: I. EQUIPO Y HERRAMIENTA | H17: =SUM(H18:H19) -> 2747.425
B18: HTAMNR | C18: =+VLOOKUP(B18,'[6]4.2-Insumos 2025'!C:H,2,FALSE) -> Herramienta y equipo menor | D18: =VLOOKUP(B18,'[6]4.2-Insumos 2025'!C:H,3,FALSE) -> % | F18: =+VLOOKUP($B18,INSUMOS2,4,FALSE) -> 0.05 | G18: =+H29 -> 12300.5 | H18: =+F18*G18 -> 615.025
B19: MAT1291 | C19: =+VLOOKUP(B19,'[6]4.2-Insumos 2025'!C:H,2,FALSE) -> Andamio Multidireccional Certificado | D19: =VLOOKUP(B19,'[6]4.2-Insumos 2025'!C:H,3,FALSE) -> dia | E19: =E30*2 -> 0.1 | G19: =+VLOOKUP(B19,'[6]4.2-Insumos 2025'!C:H,6,FALSE) -> 21324 | H19: =+E19*(1+F19)*G19 -> 2132.4
B20: II. MATERIALES | H20: =SUM(H21:H26) -> 15269.45
B21: AD1180 | C21: =+VLOOKUP(B21,'[6]4.2-Insumos 2025'!C:H,2,FALSE) -> Pintura para exteriores alta resistencia para muros y zócalos (tipo bronco, corona, Koraza o similar) | D21: =VLOOKUP(B21,'[6]4.2-Insumos 2025'!C:H,3,FALSE) -> gal | E21: 0.05 | F21: 0.05 | G21: =+VLOOKUP(B21,'[6]4.2-Insumos 2025'!C:H,6,FALSE) -> 122900 | H21: =+E21*(1+F21)*G21 -> 6452.25
B22: MAT1120 | C22: =+VLOOKUP(B22,'[6]4.2-Insumos 2025'!C:H,2,FALSE) -> Estopa blanca -500 gr | D22: =VLOOKUP(B22,'[6]4.2-Insumos 2025'!C:H,3,FALSE) -> bolsa | E22: 0.1 | G22: =+VLOOKUP(B22,'[6]4.2-Insumos 2025'!C:H,6,FALSE) -> 5950 | H22: =+E22*(1+F22)*G22 -> 595
B23: MAT1220 | C23: =+VLOOKUP(B23,'[6]4.2-Insumos 2025'!C:H,2,FALSE) -> Papel de lija | D23: =VLOOKUP(B23,'[6]4.2-Insumos 2025'!C:H,3,FALSE) -> un | E23: 0.5 | G23: =+VLOOKUP(B23,'[6]4.2-Insumos 2025'!C:H,6,FALSE) -> 1400 | H23: =+E23*(1+F23)*G23 -> 700
B24: AD1212 | C24: =+VLOOKUP(B24,'[6]4.2-Insumos 2025'!C:H,2,FALSE) -> Sellomax o similar , recubrimiento acrilico | D24: =VLOOKUP(B24,'[6]4.2-Insumos 2025'!C:H,3,FALSE) -> gal | E24: =1/20 -> 0.05 | G24: =+VLOOKUP(B24,'[6]4.2-Insumos 2025'!C:H,6,FALSE) -> 110768 | H24: =+E24*(1+F24)*G24 -> 5538.4
B25: AD1166 | C25: =+VLOOKUP(B25,'[6]4.2-Insumos 2025'!C:H,2,FALSE) -> Estucor - 30 kg | D25: =VLOOKUP(B25,'[6]4.2-Insumos 2025'!C:H,3,FALSE) -> kg | E25: 0.3 | G25: =+VLOOKUP(B25,'[6]4.2-Insumos 2025'!C:H,6,FALSE) -> 3796 | H25: =+E25*(1+F25)*G25 -> 1138.8
B26: MAT1076 | C26: =+VLOOKUP(B26,'[6]4.2-Insumos 2025'!C:H,2,FALSE) -> Rodillo | D26: =VLOOKUP(B26,'[6]4.2-Insumos 2025'!C:H,3,FALSE) -> un | E26: 0.05 | G26: =+VLOOKUP(B26,'[6]4.2-Insumos 2025'!C:H,6,FALSE) -> 16900 | H26: =+E26*(1+F26)*G26 -> 845
B27: III. TRANSPORTES | H27: =SUM(H28) -> 735
B28: TR1070 | C28: =+VLOOKUP(B28,'[6]4.2-Insumos 2025'!C:H,2,FALSE) -> Transporte de materiales varios | D28: =VLOOKUP(B28,'[6]4.2-Insumos 2025'!C:H,3,FALSE) -> viaje | F28: 0.03 | G28: =+VLOOKUP(B28,'[6]4.2-Insumos 2025'!C:H,6,FALSE) -> 24500 | H28: =+F28*G28 -> 735
B29: IV. MANO DE OBRA | H29: =SUM(H30:H31) -> 12300.5
B30: MOFICIAL | C30: =+VLOOKUP(B30,'[6]4.2-Insumos 2025'!C:H,2,FALSE) -> Mo oficial | D30: =VLOOKUP(B30,'[6]4.2-Insumos 2025'!C:H,3,FALSE) -> día | E30: 0.05 | G30: =+VLOOKUP(B30,'[6]4.2-Insumos 2025'!C:H,6,FALSE) -> 160726 | H30: =+E30*G30 -> 8036.3
B31: MOAYUDR | C31: =+VLOOKUP(B31,'[6]4.2-Insumos 2025'!C:H,2,FALSE) -> Mo ayudante raso | D31: =VLOOKUP(B31,'[6]4.2-Insumos 2025'!C:H,3,FALSE) -> día | E31: =+E30 -> 0.05 | G31: =+VLOOKUP(B31,'[6]4.2-Insumos 2025'!C:H,6,FALSE) -> 85284 | H31: =+E31*G31 -> 4264.2
B37: 9.3 | C37: Suministro, transporte y aplicación de ácido nítrico e hidrosolve proporción 1:1:5 para lavado de muros exteriores, con todos los elementos necesarios para su correcta instalación y funcionamiento. | D37: m2 | E37: 1 | H37: =H38+H41+H46 -> 12342.625
B38: I. EQUIPO Y HERRAMIENTA | H38: =SUM(H39:H40) -> 1690.3833
B39: HTAMNR | C39: =+VLOOKUP(B39,'[6]4.2-Insumos 2025'!C:H,2,FALSE) -> Herramienta y equipo menor | D39: =VLOOKUP(B39,'[6]4.2-Insumos 2025'!C:H,3,FALSE) -> % | F39: =+VLOOKUP($B39,INSUMOS2,4,FALSE) -> 0.05 | G39: =H46 -> 8218.8667 | H39: =+F39*G39 -> 410.94333
B40: MAT1291 | C40: =VLOOKUP(APU_2[[#This Row],[ITEM]],'4.2-Insumos '!C:H,2,FALSE) -> Andamio Multidireccional Certificado | D40: =VLOOKUP(APU_2[[#This Row],[ITEM]],'4.2-Insumos '!C:H,3,FALSE) -> dia | E40: =0.03*2 -> 0.06 | G40: =VLOOKUP(APU_2[[#This Row],[ITEM]],'4.2-Insumos '!C:H,6,FALSE) -> 21324 | H40: =+E40*(1+F40)*G40 -> 1279.44
B41: II. MATERIALES | H41: =SUM(H42:H43) -> 2433.375
B42: MAT1402 | C42: =VLOOKUP(APU_2[[#This Row],[ITEM]],'4.2-Insumos '!C:H,2,FALSE) -> Acido nitrico x 20 litros | D42: =VLOOKUP(APU_2[[#This Row],[ITEM]],'4.2-Insumos '!C:H,3,FALSE) -> un | E42: 0.008 | F42: 0.05 | G42: =VLOOKUP(APU_2[[#This Row],[ITEM]],'4.2-Insumos '!C:H,6,FALSE) -> 95000 | H42: =+E42*(1+F42)*G42 -> 798
B43: MAT1410 | C43: =VLOOKUP(APU_2[[#This Row],[ITEM]],'4.2-Insumos '!C:H,2,FALSE) -> Desengrasante Hidrosolvente 20 litros | D43: =VLOOKUP(APU_2[[#This Row],[ITEM]],'4.2-Insumos '!C:H,3,FALSE) -> un | E43: 0.0125 | F43: 0.05 | G43: =VLOOKUP(APU_2[[#This Row],[ITEM]],'4.2-Insumos '!C:H,6,FALSE) -> 124600 | H43: =+E43*(1+F43)*G43 -> 1635.375
B44: III. TRANSPORTES | H44: =SUM(H45) -> 0
B46: IV. MANO DE OBRA | H46: =SUM(H47:H48) -> 8218.8667
B47: MOFICIAL | C47: =VLOOKUP(APU_2[[#This Row],[ITEM]],'4.2-Insumos '!C:H,2,FALSE) -> Oficial | D47: =VLOOKUP(APU_2[[#This Row],[ITEM]],'4.2-Insumos '!C:H,3,FALSE) -> día | E47: =1/30 -> 0.033333333 | G47: =VLOOKUP(APU_2[[#This Row],[ITEM]],'4.2-Insumos '!C:H,6,FALSE) -> 160726 | H47: =+E47*(1+F47)*G47 -> 5357.5333 | J47: =1/APU_2[[#This Row],[CANTIDAD]] -> 30
B48: MOAYUDR | C48: =VLOOKUP(APU_2[[#This Row],[ITEM]],'4.2-Insumos '!C:H,2,FALSE) -> Ayudante raso | D48: =VLOOKUP(APU_2[[#This Row],[ITEM]],'4.2-Insumos '!C:H,3,FALSE) -> día | E48: =1/30 -> 0.033333333 | G48: =VLOOKUP(APU_2[[#This Row],[ITEM]],'4.2-Insumos '!C:H,6,FALSE) -> 85840 | H48: =+E48*(1+F48)*G48 -> 2861.3333
B54: 9.4 | C54: Suministro, transporte y aplicación de hidrófugo impermeabilizante del tipo siliconite (Sika transparente o equivalente) para mampostería de fachadas, con todos los elementos necesarios para su correcta instalación y funcionamiento. | D54: m2 | E54: 1 | H54: =H55+H58+H62 -> 22692.018
B55: I. EQUIPO Y HERRAMIENTA | H55: =SUM(H56:H57) -> 1975.6244
B56: HTAMNR | C56: =+VLOOKUP(B56,'[6]4.2-Insumos 2025'!C:H,2,FALSE) -> Herramienta y equipo menor | D56: =VLOOKUP(B56,'[6]4.2-Insumos 2025'!C:H,3,FALSE) -> % | F56: =+VLOOKUP($B56,INSUMOS2,4,FALSE) -> 0.05 | G56: =H62 -> 8805.9286 | H56: =+F56*G56 -> 440.29643
B57: MAT1291 | C57: =VLOOKUP(APU_2[[#This Row],[ITEM]],'4.2-Insumos '!C:H,2,FALSE) -> Andamio Multidireccional Certificado | D57: =VLOOKUP(APU_2[[#This Row],[ITEM]],'4.2-Insumos '!C:H,3,FALSE) -> dia | E57: =0.036*2 -> 0.072 | G57: =VLOOKUP(APU_2[[#This Row],[ITEM]],'4.2-Insumos '!C:H,6,FALSE) -> 21324 | H57: =+E57*(1+F57)*G57 -> 1535.328
B58: II. MATERIALES | H58: =SUM(H59:H59) -> 11910.465
B59: MAT1403 | C59: =VLOOKUP(APU_2[[#This Row],[ITEM]],'4.2-Insumos '!C:H,2,FALSE) -> Sika Transparente 10. Repelente de agua transparente de gran durabilidad. Presentacion: 5gl o 16 kg Rendimieto:0.15 kg/m2/capa. Minimo 2 capas | D59: =VLOOKUP(APU_2[[#This Row],[ITEM]],'4.2-Insumos '!C:H,3,FALSE) -> kg | E59: 0.3 | F59: 0.05 | G59: =VLOOKUP(APU_2[[#This Row],[ITEM]],'4.2-Insumos '!C:H,6,FALSE) -> 37811 | H59: =+E59*(1+F59)*G59 -> 11910.465
...

Sheet 4.2-Insumos 
C3: =+'2-Presupuesto'!B4:D4 -> 0
D4: INSUMOS
C5: COD | D5: MATERIALES | E5: UN | F5: VALOR MO SIN FP | G5: FP | H5: VALOR CON IVA O CON FP | J5: 2024
C6: AD0000 | D6: COMBUSTIBLES - ADITIVOS - PINTURAS
C7: AD1010 | D7: Ácido muriático | E7: lt | F7: 5920 | G7: 0 | H7: =ROUND((+F7*(1+G7)),0)*(1+$J$1) -> 5920
C8: AD1020 | D8: ACPM | E8: gal | F8: 10167 | G8: 0 | H8: =ROUND((+F8*(1+G8)),0)*(1+$J$1) -> 10167
C9: AD1030 | D9: Adhesivo Sikadur 32 primer o similar | E9: kg | F9: 152023 | G9: 0 | H9: =ROUND((+F9*(1+G9)),0)*(1+$J$1) -> 152023
C10: AD1040 | D10: Agua | E10: lt | F10: 3924 | G10: 0 | H10: =ROUND((+F10*(1+G10)),0)*(1+$J$1) -> 3924
C11: AD1050 | D11: Boquilla - color blanco/beige | E11: kg | F11: 6440 | G11: 0 | H11: =ROUND((+F11*(1+G11)),0)*(1+$J$1) -> 6440
C12: AD1060 | D12: Cal hidratada | E12: kg | F12: 1690 | G12: 0 | H12: =ROUND((+F12*(1+G12)),0)*(1+$J$1) -> 1690
C13: AD1080 | D13: Gasolina corriente | E13: gal | F13: 16000 | G13: 0 | H13: =ROUND((+F13*(1+G13)),0)*(1+$J$1) -> 16000
C14: AD1100 | D14: Limpiador PVC 300 gramos (1/8 gal) o similar | E14: un | F14: 29500 | G14: 0 | H14: =ROUND((+F14*(1+G14)),0)*(1+$J$1) -> 29500
C15: AD1110 | D15: Limpiador PVC 760 gramos (1/4 gal) o similar | E15: un | F15: 59407 | G15: 0 | H15: =ROUND((+F15*(1+G15)),0)*(1+$J$1) -> 59407
C16: AD1120 | D16: Lubricante de silicona para accesorios Raingo o similar | E16: un | F16: 18900 | G16: 0 | H16: =ROUND((+F16*(1+G16)),0)*(1+$J$1) -> 18900
C17: AD1130 | D17: Lubricante Pavco (x4kg) o similar | E17: Tarro | F17: 158410 | G17: 0 | H17: =ROUND((+F17*(1+G17)),0)*(1+$J$1) -> 158410
C18: AD1140 | D18: Lubricante Pavco (x500gr) o similar | E18: Tarro | F18: 18900 | G18: 0 | H18: =ROUND((+F18*(1+G18)),0)*(1+$J$1) -> 18900
... C42: AD1247 | D42: Sika Plastocrete DM Impermeabilizante para concreto. Presentación: 20kg rendimiento: 1% del peso del cemento ó 250 gr / bulto de cemento de 50 kg. | E42: kg | F42: 25424 | G42: 0 | H42: =ROUND((+F42*(1+G42)),0)*(1+$J$1) -> 25424
C43: AD1248 | D43: Sikafluid- Fluidificante | E43: kg | F43: 20298 | G43: 0 | H43: 20298
C44: AD1250 | D44: Soldadura PVC 1/32 gal o similar | E44: un | F44: 12306 | G44: 0 | H44: =ROUND((+F44*(1+G44)),0)*(1+$J$1) -> 12306
C45: AD1260 | D45: Soldadura PVC 1/16 gal o similar | E45: un | F45: 20641 | G45: 0 | H45: =ROUND((+F45*(1+G45)),0)*(1+$J$1) -> 20641
C46: AD1270 | D46: Soldadura PVC 1/8 gal o similar | E46: un | F46: 33392 | G46: 0 | H46: =ROUND((+F46*(1+G46)),0)*(1+$J$1) -> 33392
C47: AD1280 | D47: Soldadura PVC 1/4 gal o similar | E47: un | F47: 112799 | G47: 0 | H47: =ROUND((+F47*(1+G47)),0)*(1+$J$1) -> 112799
C48: AD1290 | D48: Traba química fuerza alta para sellos de fuga en Tubería | E48: gramo | F48: 1690 | G48: 0 | H48: =ROUND((+F48*(1+G48)),0)*(1+$J$1) -> 1690
C49: AD1295 | D49: Suministro transporte e instalación de Cerramiento Fachada (1 cara) con Placa plana de fibrocemento 8mm tipo Sinding de 244x020 120x020 y 061x020. Placa plana de fibrocemento de 20mm para esquineros y marcos. Placa plana de fibrocemento de 8mm para carteras pintada. Incluye tornillos. | E49: m2 | F49: 92282 | G49: 0 | H49: =ROUND((+F49*(1+G49)),0)*(1+$J$1) -> 92282
C50: AD1296 | D50: Suministro transporte e instalación de Placas de fibrocemento Superficies Eterboard 8mm zonas humedas. Incluye tornillería Estabilizador a una cara mano de obra sellos cintas masillas y todos los elementos de fijación necesario. | E50: m2 | F50: 21227 | G50: 0 | H50: =ROUND((+F50*(1+G50)),0)*(1+$J$1) -> 21227
C51: AD1298 | D51: Suministro transporte e instalación de fajas para vanos en placas de fibrocemento de 10mm lijada con pintura colorcel fachadas blanco. Ancho 8 a 10cm. Incluye tornilería cintas masillas y todos los elementos de fijación necesario. | E51: m2 | F51: 34460 | G51: 0 | H51: =ROUND((+F51*(1+G51)),0)*(1+$J$1) -> 34460
C52: CT0000 | D52: CONCRETOS Y MORTEROS | G52: 0
C53: CT080KG | D53: Concreto 80kg/cm² 1:4:7 | E53: m3 | F53: =+VLOOKUP(C53,APU_AUX,7,FALSE) -> 461573 | G53: 0 | H53: =ROUND((+F53*(1+G53)),0) -> 461573
C54: CT110KG | D54: Concreto 110kg/cm² 1:3:5 | E54: m3 | F54: =+VLOOKUP(C54,APU_AUX,7,FALSE) -> 493727 | G54: 0 | H54: =ROUND((+F54*(1+G54)),0) -> 493727
C55: CT140KG | D55: Concreto 140kg/cm² 1:3:4 | E55: m3 | F55: =+VLOOKUP(C55,APU_AUX,7,FALSE) -> 516914 | G55: 0 | H55: =ROUND((+F55*(1+G55)),0) -> 516914
C56: CT170KG | D56: Concreto 170kg/cm² 1:3:3 | E56: m3 | F56: =+VLOOKUP(C56,'4.1-APU Aux'!B:H,7,FALSE) -> 537682 | G56: 0 | H56: =ROUND((+F56*(1+G56)),0) -> 537682
C57: CT180KG | D57: Concreto 180kg/cm² 1:2:4 | E57: m3 | F57: =+VLOOKUP(C57,'4.1-APU Aux'!B:H,7,FALSE) -> 538207 | G57: 0 | H57: =ROUND((+F57*(1+G57)),0) -> 538207
C58: CT210KG | D58: Concreto 210kg/cm² 1:2:3 | E58: m3 | F58: =+VLOOKUP(C58,'4.1-APU Aux'!B:H,7,FALSE) -> 577234 | G58: 0 | H58: =ROUND((+F58*(1+G58)),0) -> 577234
C59: CT245KG | D59: Concreto 245kg/cm² 1:2:2 | E59: m3 | F59: =+VLOOKUP(C59,'4.1-APU Aux'!B:H,7,FALSE) -> 603186 | G59: 0 | H59: =ROUND((+F59*(1+G59)),0) -> 603186
C60: CT280KG | D60: Concreto280kg/cm² | E60: M3 | F60: =+VLOOKUP(C60,'4.1-APU Aux'!B:H,7,FALSE) -> 614197 | G60: 0 | H60: =ROUND((+F60*(1+G60)),0) -> 614197
C61: CTCAJA50 | D61: Caja de inspección 0.50mx0.50m hprom=0.60m | E61: un | G61: 0 | H61: =ROUND((+F61*(1+G61)),0) -> 0
C62: CTM143 | D62: Aux mortero de pega | E62: m3 | F62: =+VLOOKUP(C62,'4.1-APU Aux'!B:H,7,FALSE) -> 442588 | G62: 0 | H62: =ROUND((+F62*(1+G62)),0) -> 442588
C63: CTM144 | D63: Aux mortero de revoque 1:4 | E63: m3 | F63: =+VLOOKUP(C63,'4.1-APU Aux'!B:H,7,FALSE) -> 461148 | G63: 0 | H63: =ROUND((+F63*(1+G63)),0) -> 461148
C64: CTM145 | D64: Aux mortero grouting 17.5 | E64: m3 | F64: =+VLOOKUP(C64,'4.1-APU Aux'!B:H,7,FALSE) -> 387923 | G64: 0 | H64: =ROUND((+F64*(1+G64)),0) -> 387923
C65: CTM146 | D65: Aux mortero de revoque 1:5 | E65: m3 | F65: =+VLOOKUP(C65,'4.1-APU Aux'!B:H,7,FALSE) -> 405363 | G65: 0 | H65: =ROUND((+F65*(1+G65)),0) -> 405363
...

Sheet 2-Parque infantil
B2: Nota: | C2: Diliegenciar los espacios que se encuentren resaltados de color gris claro
C3: Las actividades no deben tener la unidad de medida "global"
B4: NOMBRE DEL PROYECTO:
B5: ESPACIO PÚBLICO
B6: FORMULARIO DE PRESUPUESTO
H7: Proyecto gl | I7: 1
B8: Ítem | C8: Descripción | D8: Unidad | E8: Cantidad | F8: Vr Unitario | G8: Vr. Total/U.V | H8: Vr. Total | I8: Vr Aproximado al peso
A10: 12 | B10: A | C10: PARQUE INFANTIL
A11: 12.6 | B11: 7 | C11: EQUIPAMENTO URBANO- CARPINTERIAS | I11: =SUM(H12:H18) -> #REF!
A12: 12.6.3.1 | B12: 7.5 | C12: =VLOOKUP(A12,#REF!,2,0) -> #REF! | D12: =VLOOKUP(A12,#REF!,3,0) -> #REF! | E12: =+'CANT URBANISMO'!H1475 -> 0 | F12: =+VLOOKUP(A12,#REF!,7,FALSE) -> #REF! | G12: =ROUND((+F12*$E12),0) -> #REF! | H12: =+G12*$I$7 -> #REF!
A13: 12.2.1 | B13: 7.6 | C13: =VLOOKUP(A13,#REF!,2,0) -> #REF! | D13: =VLOOKUP(A13,#REF!,3,0) -> #REF! | E13: =+'CANT URBANISMO'!H1488 -> 0 | F13: =+VLOOKUP(A13,#REF!,7,FALSE) -> #REF! | G13: =ROUND((+F13*$E13),0) -> #REF! | H13: =+G13*$I$7 -> #REF!
A14: 12,3,1,11 | B14: 7.7 | C14: =VLOOKUP(A14,#REF!,2,0) -> #REF! | D14: =VLOOKUP(A14,#REF!,3,0) -> #REF! | E14: =+'CANT URBANISMO'!H1501 -> 0 | F14: =+VLOOKUP(A14,#REF!,7,FALSE) -> #REF! | G14: =ROUND((+F14*$E14),0) -> #REF! | H14: =+G14*$I$7 -> #REF!
A15: 12.6.7 | B15: 7.8 | C15: =VLOOKUP(A15,#REF!,2,0) -> #REF! | D15: =VLOOKUP(A15,#REF!,3,0) -> #REF! | E15: =+'CANT URBANISMO'!H1514 -> 0 | F15: =+VLOOKUP(A15,#REF!,7,FALSE) -> #REF! | G15: =ROUND((+F15*$E15),0) -> #REF! | H15: =+G15*$I$7 -> #REF!
A16: 12.6.4 | B16: 7.9 | C16: =VLOOKUP(A16,#REF!,2,0) -> #REF! | D16: =VLOOKUP(A16,#REF!,3,0) -> #REF! | E16: =+'CANT URBANISMO'!H1527 -> 0 | F16: =+VLOOKUP(A16,#REF!,7,FALSE) -> #REF! | G16: =ROUND((+F16*$E16),0) -> #REF! | H16: =+G16*$I$7 -> #REF!
A17: 12.3.24 | B17: 7.9.1 | C17: =VLOOKUP(A17,#REF!,2,0) -> #REF! | D17: =VLOOKUP(A17,#REF!,3,0) -> #REF! | E17: =+'CANT URBANISMO'!H1540 -> 0 | F17: =+VLOOKUP(A17,#REF!,7,FALSE) -> #REF! | G17: =ROUND((+F17*$E17),0) -> #REF! | H17: =+G17*$I$7 -> #REF!
A18: 12.6.3.2 | B18: 7.9.2 | C18: =VLOOKUP(A18,#REF!,2,0) -> #REF! | D18: =VLOOKUP(A18,#REF!,3,0) -> #REF! | E18: =+'CANT URBANISMO'!H1553 -> 0 | F18: =+VLOOKUP(A18,#REF!,7,FALSE) -> #REF! | G18: =ROUND((+F18*$E18),0) -> #REF! | H18: =+G18*$I$7 -> #REF!
A19: 12.9.17 | B19: 7.10 | C19: =VLOOKUP(A19,#REF!,2,0) -> #REF! | D19: =VLOOKUP(A19,#REF!,3,0) -> #REF! | E19: =+'CANT URBANISMO'!H1567 -> 0 | F19: =+VLOOKUP(A19,#REF!,7,FALSE) -> #REF! | G19: =ROUND((+F19*$E19),0) -> #REF! | H19: =+G19*$I$7 -> #REF!
A20: 12.9.18 | B20: 7.11 | C20: =VLOOKUP(A20,#REF!,2,0) -> #REF! | D20: =VLOOKUP(A20,#REF!,3,0) -> #REF! | E20: =+'CANT URBANISMO'!H1581 -> 0 | F20: =+VLOOKUP(A20,#REF!,7,FALSE) -> #REF! | G20: =ROUND((+F20*$E20),0) -> #REF! | H20: =+G20*$I$7 -> #REF!
A21: 12.9.19 | B21: 7.12 | C21: =VLOOKUP(A21,#REF!,2,0) -> #REF! | D21: =VLOOKUP(A21,#REF!,3,0) -> #REF! | E21: =+'CANT URBANISMO'!H1592 -> 0 | F21: =+VLOOKUP(A21,#REF!,7,FALSE) -> #REF! | G21: =ROUND((+F21*$E21),0) -> #REF! | H21: =+G21*$I$7 -> #REF!
A22: 12.9.20 | B22: 7.13 | C22: =VLOOKUP(A22,#REF!,2,0) -> #REF! | D22: =VLOOKUP(A22,#REF!,3,0) -> #REF! | E22: =+'CANT URBANISMO'!H1605 -> 0 | F22: =+VLOOKUP(A22,#REF!,7,FALSE) -> #REF! | G22: =ROUND((+F22*$E22),0) -> #REF! | H22: =+G22*$I$7 -> #REF!
A23: 12.9.21 | B23: 7.14 | C23: =VLOOKUP(A23,#REF!,2,0) -> #REF! | D23: =VLOOKUP(A23,#REF!,3,0) -> #REF! | E23: =+'CANT URBANISMO'!H1618 -> 0 | F23: =+VLOOKUP(A23,#REF!,7,FALSE) -> #REF! | G23: =ROUND((+F23*$E23),0) -> #REF! | H23: =+G23*$I$7 -> #REF!
A24: 12.9.22 | B24: 7.15 | C24: =VLOOKUP(A24,#REF!,2,0) -> #REF! | D24: =VLOOKUP(A24,#REF!,3,0) -> #REF! | E24: =+'CANT URBANISMO'!H1631 -> 0 | F24: =+VLOOKUP(A24,#REF!,7,FALSE) -> #REF! | G24: =ROUND((+F24*$E24),0) -> #REF! | H24: =+G24*$I$7 -> #REF!
A25: 12.9.23 | B25: 7.16 | C25: =VLOOKUP(A25,#REF!,2,0) -> #REF! | D25: =VLOOKUP(A25,#REF!,3,0) -> #REF! | E25: =+'CANT URBANISMO'!H1644 -> 0 | F25: =+VLOOKUP(A25,#REF!,7,FALSE) -> #REF! | G25: =ROUND((+F25*$E25),0) -> #REF! | H25: =+G25*$I$7 -> #REF!
A26: 12.9.24 | B26: 7.17 | C26: =VLOOKUP(A26,#REF!,2,0) -> #REF! | D26: =VLOOKUP(A26,#REF!,3,0) -> #REF! | E26: =+'CANT URBANISMO'!H1657 -> 0 | F26: =+VLOOKUP(A26,#REF!,7,FALSE) -> #REF! | G26: =ROUND((+F26*$E26),0) -> #REF! | H26: =+G26*$I$7 -> #REF!
C27: TOTAL COSTO DIRECTO URBANISMO | G27: =SUM(G12:G18) -> #REF! | H27: =SUM(H11:H18) -> #REF! | I27: =SUM(I11:I15) -> #REF!
C31: Juego de barras
C32: Juego de tronquitos | D32: 2
C33: Maquina gimnasio A | D33: 1
C34: Maquina Gimnasio B
C36: CERRAMIENTO ZONA DE PERROS

Sheet JORNALES Y CUADRILLAS 2024
D1: personal con vivienda, alimentacion y tpte
A2: MANO DE OBRA PRESUPUESTO 2024 | D2: 0
A4: CARGO | B4: JORNALES | C4: JORNALES CON VIV, ALIM, TTE
A5: OFICIAL | B5: =+'CÁLCULO DE F. PRESTACIONAL'!I49 -> 160725.83 | C5: =B5+'VIVIENDA-ALIMENTACION-TTE'!$F$22*'JORNALES Y CUADRILLAS 2024'!$D$2 -> 160725.83
A6: AYUDANTE RASO | B6: =+'CÁLCULO DE F. PRESTACIONAL'!C49 -> 85839.639 | C6: =B6+'VIVIENDA-ALIMENTACION-TTE'!$F$22*'JORNALES Y CUADRILLAS 2024'!$D$2 -> 85839.639
A7: AYUDANTE ENTENDIDO | B7: ='CÁLCULO DE F. PRESTACIONAL'!E49 -> 108149.94 | C7: =B7+'VIVIENDA-ALIMENTACION-TTE'!$F$22*'JORNALES Y CUADRILLAS 2024'!$D$2 -> 108149.94 | G7: 77000 | H7: 24000 | I7: =G7/H7 -> 3.2083333
A8: TOPÓGRAFO | B8: ='CÁLCULO DE F. PRESTACIONAL'!M49 -> 220463.35 | C8: =B8+'VIVIENDA-ALIMENTACION-TTE'!$F$22*'JORNALES Y CUADRILLAS 2024'!$D$2 -> 220463.35 | E8: =C6+59956 -> 145795.64
A9: CARPINTERO ESPECIALIZADO | B9: ='CÁLCULO DE F. PRESTACIONAL'!K49 -> 189668.9 | C9: =B9+'VIVIENDA-ALIMENTACION-TTE'!$F$22*'JORNALES Y CUADRILLAS 2024'!$D$2 -> 189668.9
A10: SOLDADOR | B10: =+'CÁLCULO DE F. PRESTACIONAL'!K49 -> 189668.9 | C10: =B10+'VIVIENDA-ALIMENTACION-TTE'!$F$22*'JORNALES Y CUADRILLAS 2024'!$D$2 -> 189668.9 | E10: =B9+B7 -> 297818.84
A11: CADENERO 2 | B11: =+'CÁLCULO DE F. PRESTACIONAL'!C49 -> 85839.639 | C11: =B11+'VIVIENDA-ALIMENTACION-TTE'!$F$22*'JORNALES Y CUADRILLAS 2024'!$D$2 -> 85839.639
A12: CADENERO 1 | B12: =+'CÁLCULO DE F. PRESTACIONAL'!I49 -> 160725.83 | C12: =B12+'VIVIENDA-ALIMENTACION-TTE'!$F$22*'JORNALES Y CUADRILLAS 2024'!$D$2 -> 160725.83
A13: OFICIAL ELECTRICO | B13: =+'CÁLCULO DE F. PRESTACIONAL'!I49 -> 160725.83 | C13: =B13+'VIVIENDA-ALIMENTACION-TTE'!$F$22*'JORNALES Y CUADRILLAS 2024'!$D$2 -> 160725.83 | E13: =B13*2 -> 321451.66
A14: AYUDANTE DE INSTALACIÓN | B14: =+'CÁLCULO DE F. PRESTACIONAL'!E49 -> 108149.94 | C14: =B14+'VIVIENDA-ALIMENTACION-TTE'!$F$22*'JORNALES Y CUADRILLAS 2024'!$D$2 -> 108149.94
A15: AYUDANTE DE OBRA NEGRA | B15: =+'CÁLCULO DE F. PRESTACIONAL'!C49 -> 85839.639 | C15: =B15+'VIVIENDA-ALIMENTACION-TTE'!$F$22*'JORNALES Y CUADRILLAS 2024'!$D$2 -> 85839.639
A16: OFICIAL OBRA BLANCA | B16: =+'CÁLCULO DE F. PRESTACIONAL'!I49 -> 160725.83 | C16: =B16+'VIVIENDA-ALIMENTACION-TTE'!$F$22*'JORNALES Y CUADRILLAS 2024'!$D$2 -> 160725.83
A17: JARDINERO- EXP EN SIEMBRA Y SILVICULTURA | B17: =+'CÁLCULO DE F. PRESTACIONAL'!G49 -> 123171.62 | C17: =B17+'VIVIENDA-ALIMENTACION-TTE'!$F$22*'JORNALES Y CUADRILLAS 2024'!$D$2 -> 123171.62
A18: OBRERO | B18: =+'CÁLCULO DE F. PRESTACIONAL'!C49 -> 85839.639 | C18: =B18+'VIVIENDA-ALIMENTACION-TTE'!$F$22*'JORNALES Y CUADRILLAS 2024'!$D$2 -> 85839.639
A19: AYUDANTE ACARREO INTERNO | B19: =+'CÁLCULO DE F. PRESTACIONAL'!C49 -> 85839.639 | C19: =B19+'VIVIENDA-ALIMENTACION-TTE'!$F$22*'JORNALES Y CUADRILLAS 2024'!$D$2 -> 85839.639
A21: CUADRILLAS | B21: JORNALES | C21: JORNALES CON VIV, ALIM, TTE
A22: Cuadrilla de Instalaciones Hidrosanitarias: Oficial+ Ayudante entendido | B22: =+B5+B7 -> 268875.77 | C22: =+C5+C7 -> 268875.77
A23: Cuadrilla 1Oficial + 1 Ayudante de Obra Negra | B23: =+B5+B15 -> 246565.47 | C23: =+C5+C15 -> 246565.47
A24: Cuadrilla Eléctrica 1: 1Oficial Electrico + 1 ayudante entendido | B24: =+B13+B7 -> 268875.77 | C24: =+C13+C7 -> 268875.77
A25: Cuadrilla 1Oficial + 1 Ayudante de Instalación | B25: =+B5+B14 -> 268875.77 | C25: =+C5+C14 -> 268875.77
A26: Cuadrilla Demoliciones: 1 Oficial+ 2 Ayudantes rasos | B26: =+B5+2*B6 -> 332405.11 | C26: =+C5+2*C6 -> 332405.11
A27: Cuadrilla Retiros: Ayudante entendido+ 2 Ayudante rasos | B27: =+B7+2*B6 -> 279829.22 | C27: =+C7+2*C6 -> 279829.22
A28: Cuadrilla 1Of Obra Blanca+ 1 Ayudante Entendido | B28: =+B16+B7 -> 268875.77 | C28: =+C16+C7 -> 268875.77
A29: Cuadrilla Mampostería: 1 Oficial+ 2 Ayudantes rasos | B29: =B5+2*B7 -> 377025.71 | C29: =C5+2*C7 -> 377025.71
A30: Cuadrilla armado y vaciado de concreto en estructuras: 1 oficial+1 ayudante entendido+4 ayudantes rasos | B30: =B5+B7+4*B6 -> 612234.33 | C30: =C5+C7+4*C6 -> 612234.33
A31: 1 Oficial+ ayudante entendido+ ayudantes rasos | B31: =+B5+B6+B7 -> 354715.41 | C31: =+C5+C6+C7 -> 354715.41
A32: 1 Oficial+ 3 ayudante Rasos | B32: =B5+3*B6 -> 418244.75 | C32: =C5+3*C6 -> 418244.75
A33: 1 oficial + ayudante entendido | B33: =B5+B7 -> 268875.77 | C33: =C5+C7 -> 268875.77
A34: Cuadrilla 1Oficial de Obra Blanca+ 3 Ayudante Entendido+2 ayudante de obra negra | B34: =B16+3*B7+2*B15 -> 656854.93 | C34: =C16+3*C7+2*C15 -> 656854.93
A35: Cuadrilla Urbanismo:ay entendido+ayudante raso+oficial | B35: =+B5+B6+B7 -> 354715.41 | C35: =+C5+C6+C7 -> 354715.41
A36: Cuadrilla movimiento de tierra= 1 oficial + 2 ayudante rasos | B36: =+B5+2*B6 -> 332405.11 | C36: =+C5+2*C6 -> 332405.11
A37: Cuadrilla Pavimento Rigido: 2 Of + 4 Ay Obra Negra | B37: =2*B5+4*B6 -> 664810.22

Sheet Costos Administracion
B3: ANÁLISIS DE COSTOS ADMINISTRATIVOS
I4: PLAZO | J4: 2
B5: ITEM | C5: DESCRIPCIÓN | D5: UNIDAD | E5: CANT | F5: SALARIO MENSUAL BÁSICO | G5: F.P | H5: DEDICACIÓN | I5: DURACIÓN (MESES) | J5: VALOR PARCIAL
B6: 1 | C6: Personal Profesional y Técnico
B7: 1.1 | C7: Director | D7: Mes | E7: 1 | F7: =+'CÁLCULO DE F. PRESTACIONAL'!AG12 -> 7923776 | G7: =+'CÁLCULO DE F. PRESTACIONAL'!AG45 -> 1.5900814 | H7: 0.25 | I7: =+$J$4 -> 2 | J7: =ROUND(PRODUCT(D7:I7),0) -> 6299725
B8: 1.2 | C8: Residente de obra | D8: Mes | F8: =+'CÁLCULO DE F. PRESTACIONAL'!AA12 -> 5339472 | G8: =+'CÁLCULO DE F. PRESTACIONAL'!AA45 -> 1.5935592 | H8: 0.5 | I8: =+J4 -> 2
B9: 1.3 | C9: Residente SST (Tecnólogo) | D9: Mes | E9: 1 | F9: =+'CÁLCULO DE F. PRESTACIONAL'!U12 -> 3203683 | G9: =+'CÁLCULO DE F. PRESTACIONAL'!W45 -> 1.5995614 | H9: 1 | I9: =+$J$4 -> 2 | J9: =+E9*F9*G9*I9 -> 10248976
B10: 1.4 | C10: Otros (prima de localización) | D10: Mes | E10: 1 | F10: 500000 | H10: 0.5 | I10: =+$J$4 -> 2 | J10: =ROUND(PRODUCT(D10:I10),0) -> 500000
B11: 2 | C11: Personal Operativo y Administrativo
B12: 2.1 | C12: Maestro de Obra (Encargado) | D12: Mes | E12: 1 | F12: =+'CÁLCULO DE F. PRESTACIONAL'!Q12 -> 2612528 | G12: =+'CÁLCULO DE F. PRESTACIONAL'!Q45 -> 1.6820088 | H12: 1 | I12: =+$J$4 -> 2 | J12: =ROUND(PRODUCT(D12:I12),0) -> 8788590
B13: 2.2 | C13: Auxiliar Administrativo - Almacenista | D13: Mes | E13: 1 | F13: =+'CÁLCULO DE F. PRESTACIONAL'!O12 -> 2291835 | G13: =+'CÁLCULO DE F. PRESTACIONAL'!O45 -> 1.713189 | H13: 1 | I13: =+$J$4 -> 2 | J13: =ROUND(PRODUCT(D13:I13),0) -> 7852693
B14: 2.4 | C14: Otros (prima de localización) | D14: Mes | E14: 2 | F14: 500000 | H14: 0.25 | I14: =+$J$4 -> 2 | J14: =ROUND(PRODUCT(D14:I14),0) -> 500000
B15: 3 | C15: Personal Socio - ambiental
B16: 3.1 | C16: Tecnólogo Socio | D16: Mes | F16: =+'CÁLCULO DE F. PRESTACIONAL'!W12 -> 3416400 | G16: =+'CÁLCULO DE F. PRESTACIONAL'!W45 -> 1.5995614 | H16: 0.5 | I16: =+$J$4 -> 2
C17: Tecnólogo Ambiental | D17: Mes | E17: 1 | F17: =+'CÁLCULO DE F. PRESTACIONAL'!W12 -> 3416400 | G17: =+'CÁLCULO DE F. PRESTACIONAL'!W45 -> 1.5995614 | H17: 0.25 | I17: =+$J$4 -> 2
B18: 3.2 | C18: Otros (prima de localización) | D18: Mes | E18: 1 | F18: 500000 | H18: 0.4 | I18: =+$J$4 -> 2
B19: 4 | C19: Papelería, Equipos de Oficina y otros
B20: 4.1 | C20: Instalaciones provisionales (Incluye arrendamiento, enseres, servicios públicos y personal de aseo) | D20: Mes | E20: 1 | F20: 1500000 | H20: 0.5 | I20: =+$J$4 -> 2 | J20: =ROUND(PRODUCT(D20:I20),0) -> 1500000
B21: 4.1 | C21: Reconocimiento por disposición de puesto de trabajo del personal de oficina de campo, incluye: alquiler de un (1) equipo de computo completo, escritorio, silla y otros enseres de oficina por puesto de trabajo | D21: Mes | E21: 1 | F21: 243208 | H21: 0.5 | I21: =+$J$4 -> 2 | J21: =ROUND(PRODUCT(D21:I21),0) -> 243208
B22: 4.2 | C22: Reconocimiento por disposición de impresora laser multifuncional para el personal de administrativo de obra (se realiza reconocimiento por una sola vez) | D22: Mes | F22: 97283 | H22: 0.5 | I22: =+$J$4 -> 2
B23: 4.3 | C23: Reconocimiento por disposición de Comunicaciones (Teléfono, Fax, Celular, Internet, Etc.) mensual en campo | D23: Mes | F23: 71266 | H23: 0.5 | I23: =+$J$4 -> 2
B24: 4.4 | C24: Fotocopias, edición informes, registros fotográficos entre otros en oficina en campo | D24: Mes | E24: 1 | F24: 211000 | H24: 0.5 | I24: =+$J$4 -> 2 | J24: =ROUND(PRODUCT(D24:I24),0) -> 211000
B25: 5 | C25: Ensayos de Laboratorio
B26: 5.1 | C26: Diseños de mezcla para una resistencia determinada (Incluye ensayos a agregados y verificación de resistencia) | D26: Un | E26: 1 | F26: 993257 | H26: 1
B27: 5.2 | C27: Resistencia a la compresión de cilindros de concreto (método normal) | D27: Un | E27: 9 | F27: 7854
B28: 5.3 | C28: Ensayo Proctor modificado | D28: Un | F28: 147078
B29: 5.4 | C29: Ensayo densidades de campo | D29: Un | F29: 48232
B30: 5.5 | C30: Estudio de suelos para vias según norma invias | D30: Un | F30: 4000000
B31: 5.6 | C31: relacion de soporte de suelo en el laboratorio(CBR) remoldeado y sumergido. Suelos granulares (3 puntos | D31: Un | F31: 400000
B32: 6 | C32: Gastos de Perfeccionamiento | G32: Porcentaje
B33: 6.1 | C33: Valla (3,0X2,0m). Incluye estructura metálica para fijación y soporte | D33: U | E33: 1 | F33: 1814445
B34: 7 | C34: Otros Costos administrativos
B35: 7.1 | C35: Otros Costos administrativos | D35: Gl | E35: ='Otros Costos Admin'!G16 -> 0.123 | F35: =+'Otros Costos Admin'!J16 -> 44806028 | J35: =F35 -> 44806028 | L35: =J35/L41 -> 0.12804255
B36: TOTAL COSTOS ADMINISTRATIVOS | J36: =SUM(J6:J35) -> 80950220
B37: COSTO DIRECTO | J37: ='1-Resumen Ejecutivo'!F14 -> 267650905
B38: ADMINISTRACIÓN | D38: % | G38: =ROUND(J36/J37,4) -> 0.3024 | J38: =ROUND(J37*G38,0) -> 80937634
B39: UTILIDAD | D39: % | G39: 0.05 | J39: =ROUND(J37*G39,0) -> 13382545
B40: TOTAL AU (Suma de A + U) | D40: % | G40: =SUM(G38:G39) -> 0.3524 | J40: =SUM(J38:J39) -> 94320179
B41: COSTO TOTAL (Costo Directo + Total AU) | J41: =+J37+J40 -> 361971084 | L41: 349930761
L42: =+J41-L41 -> 12040323
...

Sheet VIVIENDA-ALIMENTACION-TTE
A1: CÁLCULO VIVIENDA PARA PERSONAL DE OBRA
A2: DESCRIPCIÓN | C2: UNIDAD | D2: CANTIDAD | E2: VR. UNIT. | F2: VR. TOTAL
A3: ALQUILER MENSUAL (VIVIENDA PARA 4 PERSONAS) | C3: UN | D3: =1/4 -> 0.25 | E3: 500000 | F3: =+D3*E3 -> 125000
A4: SERVICIOS PUBLICOS (4 PERSONAS) | C4: UN | D4: =1/4 -> 0.25 | E4: 300000 | F4: =+D4*E4 -> 75000
A5: SERVICIO DE ASEO (4 PERSONAS) (1 ASEO SEMANALES) | C5: UN | D5: =1*4.33/4 -> 1.0825 | E5: 70000 | F5: =+D5*E5 -> 75775
A6: TOTAL VIVIENDA MENSUAL | F6: =SUM(F3:F5) -> 275775
A8: CÁLCULO ALIMENTACIÓN PARA PERSONAL DE OBRA
A9: DESCRIPCIÓN | C9: UNIDAD | D9: CANTIDAD | E9: VR. UNIT. | F9: VR. TOTAL
A10: DESAYUNO | C10: UN | D10: 26 | E10: 8000 | F10: =+D10*E10 -> 208000
A11: ALMUERZO | C11: UN | D11: 26 | E11: 12000 | F11: =+D11*E11 -> 312000
A12: COMIDA | C12: UN | D12: 22 | E12: 10000 | F12: =+D12*E12 -> 220000
A13: TOTAL ALIMENTACIÓN MENSUAL | F13: =SUM(F10:F12) -> 740000
A15: CÁLCULO TRANSPORTE INTERMUNICIPAL PARA PERSONAL DE OBRA
A16: DESCRIPCIÓN | C16: UNIDAD | D16: CANTIDAD | E16: VR. UNIT. | F16: VR. TOTAL
A17: MEDELLIN- OBRA | C17: UN | D17: 2 | E17: 30000 | F17: =+D17*E17 -> 60000
A18: OBRA - MEDELLIN | C18: UN | D18: 2 | E18: 30000 | F18: =+D18*E18 -> 60000
A19: TOTAL ALIMENTACIÓN MENSUAL | F19: =SUM(F17:F18) -> 120000
A21: TOTAL MENSUAL | F21: =+F19+F13+F6 -> 1135775
A22: TOTAL JORNAL | F22: =(F21/30)*70% -> 26501.417

Sheet CÁLCULO DE F. PRESTACIONAL
A1: CALCULO DEL FACTOR PRESTACIONAL PERSONAL OPERATIVO Y ADMINISTRATIVO
A2: VALOR REAL DEL SALARIO 2023 - AFECTACIÓN PRESTACIONAL ANUAL
A4: Salario minimo vigente | B4: 1423500 | C4: 2025
A5: Subsidio de transporte | B5: 200000 | C5: 2025
A6: AFECTACIÓN PRESTACIONAL ANUAL
A8: Concepto | B8: Factor | C8: Ayudante raso / Liguero / Cadenero 2 | E8: Ayudante entendido / Ayudante electricista / Operario de equipo liviano / Vigía en salud | G8: Jardinero / Cadenero 1 | I8: Oficial / Oficial Electricista / Oficial minero / Oficial demoliciones / Oficial Mvto Tierra / Oficial Impermeabilizaciones / Oficial para llenos de filtros / Oficial para pisos varios / Oficial Pintura / Oficial Refuerzo / Oficial Urbanismo / Oficial obra blanca/ Operario de inyección / Operario de perforación / Rastrillero / Cadenero 1 | K8: Carpintero especializado / Soldador | M8: Topógrafo Experiencia > 3 años | O8: Auxiliar (H) / Almacenista Experiencia > 0 < 5 años | Q8: Maestro Encargado de campamento / Técnico en Contabilidad / Finanzas / Administración de Empresas Experiencia > 0 < 1 año | S8: Inspectores de obra / Operario Especializado / Técnico Experiencia > 3 años | U8: Tecnólogo 1 -Tecnólogo en Construcciones Civiles, Tecnólogo Ambiental, Tecnólogo social, Tecnólogo SISO, Dibujante. Experiencia > 0 < 1 años | W8: Tecnólogo 2 - Tecnólogo en Construcciones Civiles, Tecnólogo Ambiental, Tecnólogo social, Tecnólogo SISO. Tecnólogo en: Administración de Empresas y/o Contabilidad y/o Finanzas y/o Gestión de Mercados o afines. Experiencia >1 < 2 años | Y8: Tecnólogo 3 - Tecnólogo en Construcciones Civiles, Tecnólogo Ambiental, Tecnólogo social, Tecnólogo SISO. Experiencia > 3 años | AA8: Profesional B Pregrado 1 - Profesional Residente Ambiental, Profesional Residente Social, Profesional prediador, Antropólogo. Profesional SISO Experiencia >0 < 3 años | AC8: Profesional C Pregrado 2 - Profesional Residente de obra e interventoría, Profesional Residente Ambiental, Profesional Residente Social, Profesional prediador, Antropólogo. Experiencia >3 < 5 años | AE8: Profesional D Pregrado 3 -Asesor contable y triburario, Asesor jurídico (Abogado), Abogado gestión predial, Ingeniero Forestal, Ingeniero Civil, Geólogo, Biologo, Arqueologo, Economista, Profesional Residente de Obra Experiencia >5 < 10 años | AG8: Profesional E Especialista Director 1 - Director de Obra e interventoría, Ingeniero Especialista (en todos los campos) y Profesional SIG. Profesional Universitario en: Contaduría Pública y/o Administración de Empresas y/o Contabilidad y Finanzas, Ingeniería Civil o de Vías y Transportes Experiencia >5 < 10 años >2 < 4 años Específica | AI8: Profesional Especialista Director 2 - Profesional Director de Obra y Profesional Director de Interventoría. Profesional SIG Experiencia > 10 años >2 < 4 años Específica | AK8: Profesional Especialista Director General Experiencia > 10 años >4 < 6 años Específica
A9: Vr. Sueldo día | C9: =ROUND(C10*$B$4*12/360,0) -> 47450 | E9: =ROUND(E10*$B$4*12/360,0) -> 61685 | G9: =ROUND(G10*$B$4*12/360,0) -> 71175 | I9: =ROUND(I10*$B$4*12/360,0) -> 94900 | K9: =ROUND(K10*$B$4*12/360,0) -> 118625 | M9: =ROUND(M10*$B$4*12/360,0) -> 138080 | O9: =ROUND(O10*$B$4*12/360,0) -> 76395 | Q9: =ROUND(Q10*$B$4*12/360,0) -> 87084 | S9: =ROUND(S10*$B$4*12/360,0) -> 121947 | U9: =ROUND(U10*$B$4*12/360,0) -> 106789 | W9: =ROUND(W10*$B$4*12/360,0) -> 113880 | Y9: =ROUND(Y10*$B$4*12/360,0) -> 127130 | AA9: =ROUND(AA10*$B$4*12/360,0) -> 177982 | AC9: =ROUND(AC10*$B$4*12/360,0) -> 210223 | AE9: =ROUND(AE10*$B$4*12/360,0) -> 233929 | AG9: =ROUND(AG10*$B$4*12/360,0) -> 264126 | AI9: =ROUND(AI10*$B$4*12/360,0) -> 311747 | AK9: =ROUND(AK10*$B$4*12/360,0) -> 410443
A10: Vr. En Salarios Mínimos | C10: 1 | D10: SMMLV | E10: 1.3 | F10: SMMLV | G10: 1.5 | H10: SMMLV | I10: 2 | J10: SMMLV | K10: 2.5 | L10: SMMLV | M10: 2.91 | N10: SMMLV | O10: 1.61 | P10: SMMLV | Q10: =Q12/B4 -> 1.8352849 | R10: SMMLV | S10: 2.57 | T10: SMMLV | U10: =U12/B4 -> 2.2505676 | V10: SMMLV | W10: 2.4 | X10: SMMLV | Y10: =Y12/B4 -> 2.6792469 | Z10: SMMLV | AA10: =AA12/B4 -> 3.7509463 | AB10: SMMLV | AC10: =AC12/B4 -> 4.4304032 | AD10: SMMLV | AE10: 4.93 | AF10: SMMLV | AG10: =AG12/B4 -> 5.5664039 | AH10: SMMLV | AI10: 6.57 | AJ10: SMMLV | AK10: 8.65 | AL10: SMMLV
A11: SALARIO | D11: % | F11: % | H11: % | J11: % | L11: % | N11: % | P11: % | R11: % | T11: % | V11: % | X11: % | Z11: % | AB11: % | AD11: % | AF11: % | AH11: % | AJ11: % | AL11: %
A12: Mensual | C12: =$B$4*C10 -> 1423500 | E12: =$B$4*E10 -> 1850550 | G12: =$B$4*G10 -> 2135250 | I12: =$B$4*I10 -> 2847000 | K12: =$B$4*K10 -> 3558750 | M12: =$B$4*M10 -> 4142385 | O12: =$B$4*O10 -> 2291835 | Q12: 2612528 | S12: =$B$4*S10 -> 3658395 | U12: 3203683 | W12: =W10*B4 -> 3416400 | Y12: 3813908 | AA12: 5339472 | AC12: 6306679 | AE12: 6865035 | AG12: 7923776 | AI12: =$B$4*AI10 -> 9352395 | AK12: =$B$4*AK10 -> 12313275
A13: Subsidio de transporte | C13: =IF(C8="",0,IF(C10<=2,$B$5,0)) -> 200000 | E13: =IF(E8="",0,IF(E10<=2,$B$5,0)) -> 200000 | G13: =IF(G8="",0,IF(G10<=2,$B$5,0)) -> 200000 | I13: =IF(I8="",0,IF(I10<=2,$B$5,0)) -> 200000 | K13: =IF(K8="",0,IF(K10<=2,$B$5,0)) -> 0 | M13: =IF(M8="",0,IF(M10<=2,$B$5,0)) -> 0 | O13: =IF(O8="",0,IF(O10<=2,$B$5,0)) -> 200000 | Q13: =IF(Q8="",0,IF(Q10<=2,$B$5,0)) -> 200000 | S13: =IF(S8="",0,IF(S10<=2,$B$5,0)) -> 0 | U13: =IF(U8="",0,IF(U10<=2,$B$5,0)) -> 0 | W13: =IF(W8="",0,IF(W10<=2,$B$5,0)) -> 0 | Y13: =IF(Y8="",0,IF(Y10<=2,$B$5,0)) -> 0 | AA13: =IF(AA8="",0,IF(AA10<=2,$B$5,0)) -> 0 | AC13: =IF(AC8="",0,IF(AC10<=2,$B$5,0)) -> 0 | AE13: =IF(AE8="",0,IF(AE10<=2,$B$5,0)) -> 0 | AG13: =IF(AG8="",0,IF(AG10<=2,$B$5,0)) -> 0 | AI13: =IF(AI8="",0,IF(AI10<=2,$B$5,0)) -> 0 | AK13: =IF(AK8="",0,IF(AK10<=2,$B$5,0)) -> 0
A14: Total mensual | C14: =C12+C13 -> 1623500 | E14: =E12+E13 -> 2050550 | G14: =G12+G13 -> 2335250 | I14: =I12+I13 -> 3047000 | K14: =K12+K13 -> 3558750 | M14: =M12+M13 -> 4142385 | O14: =O12+O13 -> 2491835 | Q14: =Q12+Q13 -> 2812528 | S14: =S12+S13 -> 3658395 | U14: =U12+U13 -> 3203683 | W14: =W12+W13 -> 3416400 | Y14: =Y12+Y13 -> 3813908 | AA14: =AA12+AA13 -> 5339472 | AC14: =AC12+AC13 -> 6306679 | AE14: =AE12+AE13 -> 6865035 | AG14: =AG12+AG13 -> 7923776 | AI14: =AI12+AI13 -> 9352395 | AK14: =AK12+AK13 -> 12313275
A15: JORNAL | C15: =C14/30 -> 54116.667 | E15: =E14/30 -> 68351.667 | G15: =G14/30 -> 77841.667 | I15: =I14/30 -> 101566.67 | K15: =K14/30 -> 118625 | M15: =M14/30 -> 138079.5 | O15: =O14/30 -> 83061.167 | Q15: =Q14/30 -> 93750.933 | S15: =S14/30 -> 121946.5 | U15: =U14/30 -> 106789.43 | W15: =W14/30 -> 113880 | Y15: =Y14/30 -> 127130.27 | AA15: =AA14/30 -> 177982.4 | AC15: =AC14/30 -> 210222.63 | AE15: =AE14/30 -> 228834.5 | AG15: =AG14/30 -> 264125.87 | AI15: =AI14/30 -> 311746.5 | AK15: =AK14/30 -> 410442.5
A16: Total anual (A/30*360) | B16: =ROUND(360/360*12,2) -> 12 | C16: =C12*$B$16 -> 17082000 | D16: 1 | E16: =E12*$B$16 -> 22206600 | F16: 1 | G16: =G12*$B$16 -> 25623000 | H16: 1 | I16: =I12*$B$16 -> 34164000 | J16: 1 | K16: =K12*$B$16 -> 42705000 | L16: 1 | M16: =M12*$B$16 -> 49708620 | N16: 1 | O16: =O12*$B$16 -> 27502020 | P16: 1 | Q16: =Q12*$B$16 -> 31350336 | R16: 1 | S16: =S12*$B$16 -> 43900740 | T16: 1 | U16: =U12*$B$16 -> 38444196 | V16: 1 | W16: =W12*$B$16 -> 40996800 | X16: 1 | Y16: =Y12*$B$16 -> 45766896 | Z16: 1 | AA16: =AA12*$B$16 -> 64073664 | AB16: 1 | AC16: =AC12*$B$16 -> 75680148 | AD16: 1 | AE16: =AE12*$B$16 -> 82380420 | AF16: 1 | AG16: =AG12*$B$16 -> 95085312 | AH16: 1 | AI16: =AI12*$B$16 -> 112228740 | AJ16: 1 | AK16: =AK12*$B$16 -> 147759300 | AL16: 1
