Workbook
Name contratación: 'IDENTIFICACION Y ANALISIS'!$B$37:$B$41
Name ejecución: 'IDENTIFICACION Y ANALISIS'!$B$43:$B$69
Name OPCIONES: #REF!
Name planeación: 'IDENTIFICACION Y ANALISIS'!$B$19:$B$27
Name selección: 'IDENTIFICACION Y ANALISIS'!$B$29:$B$35

Sheet CONTEXTO
C1: MATRIZ DE RIESGOS EN CONTRATACIÓN | F1: Código: GCO-GCI-F164 Versión: 01 Vigencia: 16 diciembre de 2021 Caso HOLA: 206942
B5: ESTABLECER EL CONTEXTO
B6: El punto inicial es identificar el contexto en el cual interactúa la Entidad Estatal para conocer el ambiente social, económico y político, e identificar (i) sus propios Riesgos; (ii) los Riesgos comunes a sus Procesos de Contratación; y (iii) los Riesgos del Proceso de Contratación en particular. (Aplica igual para contratos interadministrativos) En este paso la Entidad Estatal debe identificar los aspectos que se mencionan a continuación y los posibles efectos adversos que estos pueden generar.
B7: Objeto del Proceso de Contratación: "PRESTAR SERVICIOS ORIENTADOS AL FORTALECIMIENTO DEL EMPRENDIMIENTO RURAL SOSTENIBLE, QUE INCLUYAN PROCESOS DE CAPACITACIÓN Y ACOMPAÑAMIENTO TÉCNICO, EN LA FORMULACIÓN DE PLANES, COMERCIALIZACIÓN E IMPULSOS NECESARIOS PARA CONSOLIDAR HOGARES Y/O UNIDADES PRODUCTIVAS, MIPYMES, EMPRENDIMIENTOS Y/O ACTORES DE LA ECONOMÍA INFORMAL"
B8: Partícipes del Proceso de Contratación: Entidad Estatal contratante: Alcaldía Local de Sumapaz – Fondo de Desarrollo Local. • Contratista seleccionado mediante licitación pública. • Supervisión: equipo técnico designado por la Alcaldía Local. • Comunidad organizada: asociaciones campesinas, Mipymes y unidades productivas rurales.
B9: Ciudadanía que se beneficia del Proceso de Contratación: Población campesina de la localidad de Sumapaz, priorizando 150 unidades productivas y 30 Mipymes rurales, con enfoque diferencial hacia mujeres y jóvenes emprendedores.
B10: Capacidad de la Entidad Estatal entendida como la disponibilidad de recursos y conocimientos para el Proceso de Contratación: La Alcaldía Local de Sumapaz, a través del Fondo de Desarrollo Rural de Sumapaz (FDRS), cuenta con los recursos financieros, técnicos y logísticos para adelantar el proceso de contratación. El proyecto prevé la vinculación de perfiles clave (coordinador general, administrativo, técnico y comunitario) que garantizan la planeación, coordinación y supervisión del programa. Estas capacidades se reflejan en la participación de diferentes dependencias en las etapas del proceso: áreas requirentes para estudios previos, área de Contratos de la Secretaría General para la etapa contractual, y evaluadores idóneos y con experiencia específica en emprendimiento rural, agroecología y desarrollo comunitario, lo que asegura idoneidad y calidad en la ejecución.
B11: Suficiencia del presupuesto oficial del Proceso de Contratación: El presupuesto oficial estimado es de $1.172.750.000, con cargo a la vigencia fiscal 2025 del Proyecto de Inversión 2315, determinado a partir de análisis de precios de referencia y contratos previos en la localidad.
B12: Condiciones geográficas y de acceso del lugar en el cual se debe cumplir el objeto del Proceso de Contratación: La localidad de Sumapaz es 100% rural, con condiciones de difícil acceso por su topografía montañosa, dispersión poblacional y limitada conectividad vial y digital, factores que pueden afectar la ejecución y supervisión del contrato.
B13: Entorno socio ambiental: El proyecto se desarrolla en el páramo de Sumapaz, el más grande del mundo, ecosistema estratégico para la regulación hídrica de Bogotá y la región. La intervención debe garantizar la sostenibilidad ambiental y la transición hacia prácticas agroecológicas,
B14: Condiciones políticas: Se enmarca en el Plan de Desarrollo Local 2025–2028 “Sumapaz Camina Segura” y en coherencia con el Plan Distrital “Bogotá Camina Segura”, bajo la orientación de la Secretaría Distrital de Gobierno y la JAL de Sumapaz.
B15: Factores ambientales: Se incorporan criterios de gestión ambiental y economía circular, como el uso de materiales reciclables en insumos, disposición adecuada de residuos y promoción de prácticas productivas agroecológicas, en cumplimiento del Decreto Distrital 317 de 2021.
B16: Sector del objeto del Proceso de Contratación y su mercado: El objeto contractual está orientado a implementar un Programa Integral de Emprendimiento Rural Sostenible en Sumapaz, que fortalezca la economía local a través del desarrollo de capacidades técnicas, empresariales, ambientales y comerciales de los emprendedores rurales. Esto implica trabajar con actores comunitarios, institucionales y privados que demandan asistencia técnica, formación y fortalecimiento comercial en prácticas agroecológicas, producción sostenible y circuitos cortos de comercialización.
... B18: Experiencia propia y de otras Entidades Estatales en Procesos de Contratación del mismo tipo: La Alcaldía Local de Sumapaz ya ha ejecutado proyectos similares orientados al fortalecimiento productivo rural, como el programa “Es Campesino Local” y el Proyecto Interadministrativo 338-2022, que apoyaron a más de 600 productores y consolidaron 61 iniciativas con entrega de insumos, herramientas y estrategias de comercialización. Esta experiencia acumulada en la contratación y gestión de programas de reactivación económica, asociatividad y fortalecimiento de emprendimientos rurales permite prevenir contingencias y asegurar el cumplimiento de los fines de la contratación. Adicionalmente, el proyecto incorpora buenas prácticas de otras entidades distritales y nacionales en materia de formación vivencial, asistencia técnica, formalización y comercialización, fortaleciendo así su capacidad institucional y comunitaria para ejecutar el contrato con éxito.

Sheet IDENTIFICACION Y ANALISIS
C2: MATRIZ DE RIESGOS DE CONTRATACIÓN | F2: Código: GCO-GCI-F164 Versión: 01 Vigencia: 16 diciembre de 2021 Caso HOLA: 206942
B6: DEFINICIONES
B7: RIESGO: evento que puede generar efectos adversos y de distinta magnitud en el logro de los objetivos del Proceso de Contratación o en la ejecución de un contrato
B8: RIESGOS PREVISIBLES: Son los posibles hechos o circunstancias que por la naturaleza del contrato y de la actividad a ejecutar es factible su ocurrencia.
B9: ETAPA DE PLANEACIÓN: Está comprendida entre la elaboración del Plan Anual de Adquisiciones y la fecha en la cual decide continuar o no con el Proceso de Contratación
B10: ETAPA DE SELECCIÓN: Está comprendida entre el acto de Apertura del Proceso de Contratación y la Adjudicación o la declaración de desierto del Proceso de Contratación
B11: ETAPA DE CONTRATACIÓN: Una vez adjudicado el contrato objeto del Proceso de Contratación, inicia la etapa de contratación en la cual se debe cumplir con el cronograma previsto para la celebración del contrato, el registro presupuestal, la publicación en el SECOP y el cumplimiento de los requisitos para el perfeccionamiento, ejecución y pago.
B12: ETAPA DE EJECUCIÓN: Inicia una vez cumplidos los requisitos previstos para iniciar la ejecución del contrato respectivo y termina con el vencimiento del plazo del contrato o la fecha de liquidación si hay lugar a ella.
B13: RIESGO GENERAL: Es un riesgo de todos los procesos de contratación adelantados por la Entidad Estatal, por lo cual está presente en toda su actividad contractual.
B14: RIEGO ESPECIFICO: Es un riesgo propio del proceso de contratación objeto de análisis.
B15: INSTRUCCIONES PARA LA IDENTIFICACIÓN, ANALISIS, EVALUACIÓN , ASIGNACIÓN Y TRATAMIENTO DE RIESGOS EN LA CONTRATACIÓN
B16: 1) Identifique los riesgos previsibles que le apliquen al objeto contractual que se adelante; En caso de identificar otro riesgo inclúyalo en la proforma e informe al Área de Contratos de la Secretaría General para que sea actualizada en el SIG.
C17: ETAPAS | D17: CLASE | E17: FUENTE | F17: TIPO
C18: PLANEACIÓN
B19: Inadecuada escogencia de la modalidad de contratación | D19: General | E19: Interno | F19: Operacionales
B20: Requisitos habilitantes inapropiados para el proceso de selección | D20: General | E20: Interno | F20: Operacionales
B21: Inadecuado análisis económico estimativo del valor del contrato | D21: General | E21: Interno | F21: Economicos
B22: Inadecuada descripción del bien o servicio requerido | D22: General | E22: Interno | F22: Operacionales
B23: Inadecuada elaboración de estudios y diseños | D23: General | E23: Interno | F23: Operacionales
B24: Falta de profundidad en el estudio de sector no identificandose claramente aspectos de oferta y demanda | D24: General | E24: Interno | F24: Economicos
B25: Ausencia de fundamentación de la justificación y conveniencia de la contratación | D25: General | E25: Interno | F25: Operacionales
B26: Inadecuada identificación de las condiciones contractuales | D26: General | E26: Interno | F26: Operacionales
B27: Apertura de procesos sin disponibilidad presupuestal | D27: General | E27: Interno | F27: Operacionales
C28: SELECCIÓN
B29: Inadecuada evaluación de las ofertas y/o verificación de requisitos habilitantes | D29: General | E29: Interno | F29: Operacionales
B30: Inadecuado manejo administrativo del proceso contractual | D30: General | E30: Interno | F30: Operacionales
B31: Falta de claridad en la elaboración de los actos administrativos | D31: General | E31: Interno | F31: Operacionales
B32: Contestación inoportuna a todas las observaciones formuladas a los documentos de la contratación | D32: General | E32: Interno | F32: Operacionales
B33: No publicación de la documentación del proceso de selección en el SECOP | D33: General | E33: Interno | F33: Operacionales
B34: Confabulacion de los proponentes (Colusión) | D34: General | E34: Externo | F34: Operacionales
B35: Selección de ofertas con precios artificialmente bajos. | D35: General | E35: Externo | F35: Operacionales
C36: CONTRATACIÓN
B37: Riesgo de que no se firme el contrato. | D37: General | E37: Interno | F37: Operacionales
B38: Falta de constitución o constitución tardía de la garantía única. Aceptación de garantías que no se ajustan a lo contemplado en el contrato | D38: General | E38: Interno | F38: Operacionales
B39: Falta de solicitud o solicitud tardía del registro presupuestal | D39: General | E39: Interno | F39: Operacionales
B40: No publicación del contrato y de los documentos de legalizaciòn en el SECOP | D40: General | E40: Interno | F40: Operacionales
B41: Presentación de reclamos de terceros sobre la selección del oferente que retrasen el perfeccionamiento del contrato. | D41: General | E41: Interno | F41: Operacionales
C42: EJECUCIÓN
B43: Variación de los precios del mercado y factores de producciòn | D43: General | E43: Externo | F43: Economicos
B44: Variación en la disponibilidad o en el costo de los insumos necesarios para prestar los servicios. | D44: Especifico | E44: Externo | F44: Economicos
...

Sheet EVALUACION
D1: MATRIZ DE RIESGOS DE CONTRATACIÓN | K1: Código: GCO-GCI-F164 Versión: 01 Vigencia: 16 diciembre de 2021 Caso HOLA: 206942
B5: Objeto Contractual: "PRESTAR SERVICIOS ORIENTADOS AL FORTALECIMIENTO DEL EMPRENDIMIENTO RURAL SOSTENIBLE, QUE INCLUYAN PROCESOS DE CAPACITACIÓN Y ACOMPAÑAMIENTO TÉCNICO, EN LA FORMULACIÓN DE PLANES, COMERCIALIZACIÓN E IMPULSOS NECESARIOS PARA CONSOLIDAR HOGARES Y/O UNIDADES PRODUCTIVAS, MIPYMES, EMPRENDIMIENTOS Y/O ACTORES DE LA ECONOMÍA INFORMAL"
B6: INSTRUCCIONES PARA LA IDENTIFICACIÓN, ANALISIS, EVALUACIÓN , ASIGNACIÓN Y TRATAMIENTO DE RIESGOS EN LA CONTRATACIÓN
B7: 1) Seleccione el tipo de calificación (Cualitativa ó Monetaria)
B8: 2) Seleccione la(s) etapas y los riesgos que aplican al objeto contractual
B9: 3) Asigne la probabilidad de ocurrencia del riesgo, de conformidad con la tabla de probabilidad
B10: 4) Asigne el impacto que generaría la materialización del riesgo, de conformidad con la tabla de impacto
B11: 5) Al realizar las anteriores actividades se obtendrá la calificación total y la valoración del riesgo (prioridad) , traslde al formato evaluación con controles, los que tengan un nivel de criticidad diferente a bajo.
B12: 6) Continúe en la hoja de evaluación de controles
B14: CALIFICACIÓN | H14: Cualitativa
B15: ETAPA | C15: Descripción (Que puede pasar y, cómo puede ocurrir) | H15: Consecuencias de la ocurrencia del evento | I15: Probabilidad de Ocurrencia | J15: Impacto | K15: Calificación Total | L15: Prioridad
B16: PLANEACIÓN | C16: Inadecuada escogencia de la modalidad de contratación | H16: Posible nulidad del proceso contractual y retrasos en la ejecución por incumplimiento del marco normativo. | I16: 2 | J16: 5 | K16: =+I16+J16 -> 7 | L16: =IF(K16<=4,"BAJO",IF(K16=5,"MEDIO",IF(K16=6,"ALTO",IF(K16=7,"ALTO","EXTREMO")))) -> ALTO
B17: PLANEACIÓN | C17: Requisitos habilitantes inapropiados para el proceso de selección | H17: Riesgo de limitación de la pluralidad de oferentes y posibles reclamaciones que afecten la transparencia del proceso. | I17: 2 | J17: 4 | K17: =+I17+J17 -> 6 | L17: =IF(K17<=4,"BAJO",IF(K17=5,"MEDIO",IF(K17=6,"ALTO",IF(K17=7,"ALTO","EXTREMO")))) -> ALTO
B18: PLANEACIÓN | C18: Inadecuado análisis económico estimativo del valor del contrato | H18: Riesgo de sobrecostos o insuficiencia presupuestal para la adecuada ejecución del contrato. | I18: 3 | J18: 5 | K18: 8 | L18: EXTREMO
B19: PLANEACIÓN | C19: Inadecuada descripción del bien o servicio requerido | H19: Incumplimiento de las necesidades del proyecto y posibles controversias con el contratista por alcance del objeto contractual. | I19: 2 | J19: 4 | K19: 6 | L19: ALTO
B20: PLANEACIÓN | C20: Inadecuada elaboración de estudios y diseños | H20: Afectación en la calidad del proyecto, sobrecostos y retrasos en la ejecución contractual. | I20: 2 | J20: 5 | K20: 7 | L20: ALTO
B21: PLANEACIÓN | C21: Falta de profundidad en el estudio de sector no identificandose claramente aspectos de oferta y demanda | H21: Riesgo de baja participación de oferentes idóneos y desajustes en las condiciones contractuales. | I21: 2 | J21: 3 | K21: 5 | L21: MEDIO
B22: PLANEACIÓN | C22: Ausencia de fundamentación de la justificación y conveniencia de la contratación | H22: Posible declaratoria de nulidad del proceso de selección y pérdida de recursos institucionales. | I22: 2 | J22: 5 | K22: =+I22+J22 -> 7 | L22: =IF(K22<=4,"BAJO",IF(K22=5,"MEDIO",IF(K22=6,"ALTO",IF(K22=7,"ALTO","EXTREMO")))) -> ALTO
B23: PLANEACIÓN | C23: Inadecuada identificación de las condiciones contractuales | H23: Riesgo de incumplimiento contractual, conflictos jurídicos y costos adicionales. | I23: 3 | J23: 4 | K23: =+I23+J23 -> 7 | L23: =IF(K23<=4,"BAJO",IF(K23=5,"MEDIO",IF(K23=6,"ALTO",IF(K23=7,"ALTO","EXTREMO")))) -> ALTO
B24: PLANEACIÓN | C24: Apertura de procesos sin disponibilidad presupuestal | H24: Paralización del proceso de contratación y posibles sanciones administrativas para la entidad. | I24: 2 | J24: 5 | K24: =+I24+J24 -> 7 | L24: =IF(K24<=4,"BAJO",IF(K24=5,"MEDIO",IF(K24=6,"ALTO",IF(K24=7,"ALTO","EXTREMO")))) -> ALTO
B25: SELECCIÓN | C25: Inadecuada evaluación de las ofertas y/o verificación de requisitos habilitantes | H25: El adjudicatario no cumple con todos los requisitos para su contratacion | I25: 1 | J25: 3 | K25: =+I25+J25 -> 4 | L25: =IF(K25<=4,"BAJO",IF(K25=5,"MEDIO",IF(K25=6,"ALTO",IF(K25=7,"ALTO","EXTREMO")))) -> BAJO
B26: SELECCIÓN | C26: Inadecuado manejo administrativo del proceso contractual | H26: Retrasos en el cronograma, incumplimiento en tiempos de respuesta y pérdida de control documental del proceso. | I26: 2 | J26: 4 | K26: =+I26+J26 -> 6 | L26: =IF(K26<=4,"BAJO",IF(K26=5,"MEDIO",IF(K26=6,"ALTO",IF(K26=7,"ALTO","EXTREMO")))) -> ALTO
B27: SELECCIÓN | C27: Falta de claridad en la elaboración de los actos administrativos | H27: Riesgo de nulidad parcial o total de los actos expedidos y apertura de procesos sancionatorios o demandas. | I27: 2 | J27: 5 | K27: =+I27+J27 -> 7 | L27: =IF(K27<=4,"BAJO",IF(K27=5,"MEDIO",IF(K27=6,"ALTO",IF(K27=7,"ALTO","EXTREMO")))) -> ALTO
B28: SELECCIÓN | C28: Contestación inoportuna a todas las observaciones formuladas a los documentos de la contratación | H28: Posibles reclamaciones de oferentes y afectación en la transparencia y confianza del proceso. | I28: 3 | J28: 3 | K28: =+I28+J28 -> 6 | L28: =IF(K28<=4,"BAJO",IF(K28=5,"MEDIO",IF(K28=6,"ALTO",IF(K28=7,"ALTO","EXTREMO")))) -> ALTO
B29: SELECCIÓN | C29: No publicación de la documentación del proceso de selección en el SECOP | H29: Nulidad del proceso por incumplimiento de la normatividad en materia de publicidad y transparencia. | I29: 2 | J29: 5 | K29: =+I29+J29 -> 7 | L29: =IF(K29<=4,"BAJO",IF(K29=5,"MEDIO",IF(K29=6,"ALTO",IF(K29=7,"ALTO","EXTREMO")))) -> ALTO
B30: SELECCIÓN | C30: Confabulacion de los proponentes (Colusión) | H30: Riesgo de manipulación del proceso, falta de pluralidad real y afectación directa a la selección objetiva. | I30: 2 | J30: 5 | K30: =+I30+J30 -> 7 | L30: =IF(K30<=4,"BAJO",IF(K30=5,"MEDIO",IF(K30=6,"ALTO",IF(K30=7,"ALTO","EXTREMO")))) -> ALTO
B31: SELECCIÓN | C31: Selección de ofertas con precios artificialmente bajos. | H31: Riesgo de incumplimiento del contrato, baja calidad en la ejecución y necesidad de adiciones presupuestales posteriores. | I31: 2 | J31: 4 | K31: =+I31+J31 -> 6 | L31: =IF(K31<=4,"BAJO",IF(K31=5,"MEDIO",IF(K31=6,"ALTO",IF(K31=7,"ALTO","EXTREMO")))) -> ALTO
B32: CONTRATACIÓN | C32: Riesgo de que no se firme el contrato. | H32: Paralización del proceso de contratación, pérdida de recursos invertidos en la selección y retraso en la ejecución del proyecto. | I32: 2 | J32: 5 | K32: =+I32+J32 -> 7 | L32: =IF(K32<=4,"BAJO",IF(K32=5,"MEDIO",IF(K32=6,"ALTO",IF(K32=7,"ALTO","EXTREMO")))) -> ALTO
B33: CONTRATACIÓN | C33: Falta de constitución o constitución tardía de la garantía única. Aceptación de garantías que no se ajustan a lo contemplado en el contrato | H33: Imposibilidad de exigir responsabilidades al contratista en caso de incumplimiento y riesgo de pérdidas económicas para la entidad. | I33: 2 | J33: 5 | K33: =+I33+J33 -> 7 | L33: =IF(K33<=4,"BAJO",IF(K33=5,"MEDIO",IF(K33=6,"ALTO",IF(K33=7,"ALTO","EXTREMO")))) -> ALTO
... B36: CONTRATACIÓN | C36: Presentación de reclamos de terceros sobre la selección del oferente que retrasen el perfeccionamiento del contrato. | H36: Dilación en la firma del contrato, inicio tardío de la ejecución y posibles litigios contra la entidad. | I36: 3 | J36: 4 | K36: =+I36+J36 -> 7 | L36: =IF(K36<=4,"BAJO",IF(K36=5,"MEDIO",IF(K36=6,"ALTO",IF(K36=7,"ALTO","EXTREMO")))) -> ALTO
B37: EJECUCIÓN | C37: Variación de los precios del mercado y factores de producciòn | H37: Desajustes financieros que afectan la ejecución contractual, posibles retrasos en la ejecuciòn y la calidad del servicio. | I37: 3 | J37: 4 | K37: 7 | L37: ALTO
B38: EJECUCIÓN | C38: Variación en la disponibilidad o en el costo de los insumos necesarios para prestar los servicios. | H38: Retrasos en la entrega del contrato y mayores costos operativos. | I38: 3 | J38: 5 | K38: 8 | L38: EXTREMO
B39: EJECUCIÓN | C39: Incumplimiento de compromisos adquiridos por el contratista seleccionado con sus subcontratistas, suministradores de bienes y servicios. | H39: Afectación directa en el cronograma y calidad del contrato. | I39: 3 | J39: 5 | K39: 8 | L39: EXTREMO
B40: EJECUCIÓN | C40: Incumplimiento de la administración en los pagos. | H40: Posible suspensión de actividades por parte del contratista y reclamaciones legales. | I40: 2 | J40: 5 | K40: 7 | L40: ALTO
B41: EJECUCIÓN | C41: Defecto en la instalación de equipos | H41: Fallas en la prestación del servicio, sobrecostos y retrasos en la ejecución. | I41: 2 | J41: 4 | K41: 6 | L41: ALTO
B42: EJECUCIÓN | C42: Defectos en los equipos. | H42: Interrupción de actividades, necesidad de reposición y aumento de costos. | I42: 2 | J42: 4 | K42: 6 | L42: ALTO
B43: EJECUCIÓN | C43: Daños a los equipos objeto de mantenimiento y/o otros bienes | H43: Pérdida de recursos y retraso en la prestación del servicio. | I43: 2 | J43: 4 | K43: 6 | L43: ALTO
B44: EJECUCIÓN | C44: Imposición de nuevos tributos | H44: Incremento de los costos del contrato y ajustes presupuestales no previstos. | I44: 2 | J44: 4 | K44: 6 | L44: ALTO
B45: EJECUCIÓN | C45: Imposición de nuevos trámites o permisos | H45: Retrasos en la ejecución y mayores costos administrativos. | I45: 2 | J45: 4 | K45: 6 | L45: ALTO
B46: EJECUCIÓN | C46: Variación de tasas o tarifas | H46: Incremento de costos financieros y presupuestales. | I46: 2 | J46: 4 | K46: 6 | L46: ALTO
...

Sheet EVALUACION CON CONTROLES
D2: MATRIZ DE RIESGOS DE CONTRATACIÓN | P2: Código: GCO-GCI-F164 Versión: 01 Vigencia: 16 diciembre de 2021 Caso HOLA: 206942
A6: =+EVALUACION!B5 -> Objeto Contractual: "PRESTAR SERVICIOS ORIENTADOS AL FORTALECIMIENTO DEL EMPRENDIMIENTO RURAL SOSTENIBLE, QUE INCLUYAN PROCESOS DE CAPACITACIÓN Y ACOMPAÑAMIENTO TÉCNICO, EN LA FORMULACIÓN DE PLANES, COMERCIALIZACIÓN E IMPULSOS NECESARIOS PARA CONSOLIDAR HOGARES Y/O UNIDADES PRODUCTIVAS, MIPYMES, EMPRENDIMIENTOS Y/O ACTORES DE LA ECONOMÍA INFORMAL"
A7: INSTRUCCIONES PARA LA IDENTIFICACIÓN, ANALISIS, EVALUACIÓN , ASIGNACIÓN Y TRATAMIENTO DE RIESGOS EN LA CONTRATACIÓN
A8: 1) Describa el tratamiento/controles a ser implementados
A9: 2) Teniendo en cuenta el tratamiento descrito, asigne la probabilidad de ocurrencia del riesgo, de conformidad con la tabla de probabilidad
A10: 3) Teniendo en cuenta el tratamiento descrito, asigne el impacto que generaría la materialización del riesgo, de conformidad con la tabla de impacto
A11: 4) Al realizar las anteriores actividades se obtendrá la calificación total y la valoración del riesgo (prioridad)
A12: 5) Diligencie la información de las démas columnas
A13: 7) Continúe en la hoja de asignación y tratamiento
A15: ETAPA | B15: Descripción (Que puede pasar y, cómo puede ocurrir) | F15: Tratamiento/Controles a ser implementados | H15: Probabilidad de Ocurrencia | I15: Impacto | J15: Calificación Total | K15: Prioridad | L15: ¿Afecta el equilibrio económico del contrato? | M15: Persona responsable por implementar el tratamiento | N15: Fecha estimada en que se inicia el tratamiento | O15: Fecha estimada en que se completa el tratamiento | P15: ¿Cómo se realiza el monitoreo? | Q15: Periodicidad ¿Cuándo?
A16: =+EVALUACION!B22 -> PLANEACIÓN | B16: Inadecuada escogencia de la modalidad de contrataciòn | F16: Revisión y validaciòn jurídica y tècnica previa de la modalidad de contrataciòn. | H16: 1 | I16: 3 | J16: =+H16+I16 -> 4 | K16: =IF(J16<=4,"BAJO",IF(J16=5,"MEDIO",IF(J16=6,"ALTO",IF(J16=7,"ALTO","EXTREMO")))) -> BAJO | L16: Sì | M16: Profesional jurídico / Supervisor del contrato | N16: Fecha Acta de Inicio del proceso de contrataciòn | O16: Previo a la publicación de los pliegos o documentos precontractuales | P16: Revisiòn documental por medio de actas de verficaciòn y/o validaciòn del arèa jurìdica | Q16: Unica Vez
A17: =+EVALUACION!B23 -> PLANEACIÓN | B17: Requisitos habilitantes inapropiados para el proceso de selección | F17: Revisión jurídica y técnica de los pliegos para garantizar que los requisitos habilitantes estén alineados con la ley y la naturaleza del contrato. | H17: 1 | I17: 3 | J17: =+H17+I17 -> 4 | K17: =IF(J17<=4,"BAJO",IF(J17=5,"MEDIO",IF(J17=6,"ALTO",IF(J17=7,"ALTO","EXTREMO")))) -> BAJO | L17: No | M17: Profesional jurídico / Supervisor del proceso Designado | N17: Durante la elaboración del estudio previo y pliegos de condiciones | O17: Antes de la publicación de los pliegos definitivos | P17: Actas de revisión y validación del pliego | Q17: Unica Vez
A18: =+EVALUACION!B24 -> PLANEACIÓN | B18: Inadecuado análisis económico estimativo del valor del contrato | F18: Elaboración del estudio de mercado con mínimo tres cotizaciones verificables. Revisiòn previa de procesos similares en SECOP u otras fuentes oficiales. | H18: =+EVALUACION!I24 -> 2 | I18: 4 | J18: =+H18+I18 -> 6 | K18: =IF(J18<=4,"BAJO",IF(J18=5,"MEDIO",IF(J18=6,"ALTO",IF(J18=7,"ALTO","EXTREMO")))) -> ALTO | L18: Si | M18: Profesional de Presupuestos designado | N18: Durante la fase de elaboración del estudio previo | O18: Antes de la aprobación y publicación de los pliegos de condiciones | P18: Validación de estudios de mercado y analisis de sector | Q18: Unica Vez
A19: PLANEACIÓN | B19: Inadecuada descripción del bien o servicio requerido | F19: Revisión técnica detallada de las especificaciones por el área solicitante. | H19: 1 | I19: 3 | J19: =+H19+I19 -> 4 | K19: =IF(J19<=4,"BAJO",IF(J19=5,"MEDIO",IF(J19=6,"ALTO",IF(J19=7,"ALTO","EXTREMO")))) -> BAJO | L19: Si | M19: Supervisor del Contrato y/o a quien designe | N19: Durante la elaboración del estudio previo y borrador de pliegos | O19: Antes de la publicación definitiva de los pliegos de condiciones | P19: Revisión de los términos de referencia • Validación técnica de las especificaciones | Q19: Una vez
A20: PLANEACIÓN | B20: Inadecuada elaboración de estudios y diseños | F20: Revisión y validación técnica de los estudios y diseños por profesionales especializados en la materia. Revisión cruzada y validación independiente antes de su aprobación. | H20: 1 | I20: 4 | J20: =+H20+I20 -> 5 | K20: =IF(J20<=4,"BAJO",IF(J20=5,"MEDIO",IF(J20=6,"ALTO",IF(J20=7,"ALTO","EXTREMO")))) -> MEDIO | L20: SI | M20: Supervisor del contrato | N20: Desde la fase de estudios previos y diseños iniciales | O20: Previo a la aprobación definitiva de los documentos técnicos y pliegos de condiciones | P20: A traves de comité tecnico del contrato | Q20: Única vez
A21: PLANEACIÓN | B21: Falta de profundidad en el estudio de sector no identificandose claramente aspectos de oferta y demanda | F21: Inclusión de análisis comparativos de contratos similares en precio, plazo y condiciones. • Revisión técnica y financiera del estudio por el área de planeación antes de aprobarlo. | H21: 2 | I21: 4 | J21: =+H21+I21 -> 6 | K21: =IF(J21<=4,"BAJO",IF(J21=5,"MEDIO",IF(J21=6,"ALTO",IF(J21=7,"ALTO","EXTREMO")))) -> ALTO | L21: Si | M21: Supervisor del Contrato y/o a quien designe | N21: Durante la elaboración de los estudios previos | O21: Previo a la publicación de los pliegos de condiciones | P21: A traves de comité tecnico del contrato | Q21: Única vez
A22: PLANEACIÓN | B22: Ausencia de fundamentación de la justificación y conveniencia de la contratación | F22: Revisión jurídica y técnica del documento antes de su aprobación y Validación por parte del comité de planeación y supervisor del proceso. | H22: 2 | I22: 3 | J22: =+H22+I22 -> 5 | K22: =IF(J22<=4,"BAJO",IF(J22=5,"MEDIO",IF(J22=6,"ALTO",IF(J22=7,"ALTO","EXTREMO")))) -> MEDIO | L22: No | M22: Supervisor del Contrato y/o a quien designe | N22: Durante la elaboración del estudio previo | O22: Previo a la aprobación y publicación del pliego de condiciones | P22: A traves de comité tecnico del contrato | Q22: Única vez
A23: PLANEACIÓN | B23: Inadecuada identificación de las condiciones contractuales | F23: Revisión jurídica detallada de cláusulas obligatorias y excepcionales (garantías, sanciones, prórrogas, terminación). | H23: 1 | I23: 3 | J23: =+H23+I23 -> 4 | K23: =IF(J23<=4,"BAJO",IF(J23=5,"MEDIO",IF(J23=6,"ALTO",IF(J23=7,"ALTO","EXTREMO")))) -> BAJO | L23: Si | M23: Supervisor del Contrato y/o a quien designe | N23: Durante la elaboración del estudio previo y pliegos de condiciones | O23: Antes de la publicación definitiva del pliego de condiciones | P23: Conceptos del área jurídica y técnica | Q23: Única vez
A24: PLANEACIÓN | B24: Apertura de procesos sin disponibilidad presupuestal | F24: Verificación previa de la existencia del Certificado de Disponibilidad Presupuestal (CDP). Revisión del plan anual de adquisiciones para garantizar coherencia entre necesidad y disponibilidad de recursos. | H24: 1 | I24: =+EVALUACION!J31 -> 4 | J24: =+H24+I24 -> 5 | K24: =IF(J24<=4,"BAJO",IF(J24=5,"MEDIO",IF(J24=6,"ALTO",IF(J24=7,"ALTO","EXTREMO")))) -> MEDIO | L24: Sì | M24: Supervisor del proceso | N24: Previo a la elaboración y aprobación del estudio previo | O24: Antes de la apertura del proceso de selección en el SECOP | P24: Revisión del CDP expedido, Concepto del área financiera | Q24: Única vez
A25: SELECCIÒN | B25: Inadecuada evaluación de las ofertas y/o verificación de requisitos habilitantes | F25: Revisión cruzada de los informes de evaluación antes de su publicación. | H25: 2 | I25: 4 | J25: 6 | K25: =IF(J25<=4,"BAJO",IF(J25=5,"MEDIO",IF(J25=6,"ALTO",IF(J25=7,"ALTO","EXTREMO")))) -> ALTO | L25: Sì | M25: Supervisor del proceso designado | N25: Durante la etapa de evaluación de las ofertas | O25: Previo a la adjudicación del contrato | P25: Revisión de actas e informes de evaluación Conceptos de control interno (cuando aplique) | Q25: Única vez
A26: SELECCIÒN | B26: Inadecuado manejo administrativo del proceso contractual | F26: Implementación de un cronograma detallado y seguimiento al cumplimiento de cada hito. | H26: =+EVALUACION!I33 -> 2 | I26: 3 | J26: =+H26+I26 -> 5 | K26: =IF(J26<=4,"BAJO",IF(J26=5,"MEDIO",IF(J26=6,"ALTO",IF(J26=7,"ALTO","EXTREMO")))) -> MEDIO | L26: Sì | M26: Supervisor del proceso designado | N26: Desde la apertura del proceso de selección | O26: Hasta la adjudicación del contrato | P26: Revisión del cumplimiento del cronograma, Reportes de avances en SECOP | Q26: Semanal
A27: SELECCIÒN | B27: Falta de claridad en la elaboración de los actos administrativos | F27: Validación previa por parte del área jurídica antes de su expedición y publicación. | H27: =+EVALUACION!I34 -> 2 | I27: 4 | J27: =+H27+I27 -> 6 | K27: =IF(J27<=4,"BAJO",IF(J27=5,"MEDIO",IF(J27=6,"ALTO",IF(J27=7,"ALTO","EXTREMO")))) -> ALTO | L27: No | M27: Supervisor del proceso | N27: Etapa de elaboración de actos administrativos del proceso de selecciòn | O27: Previo a la adjudicación del contrato | P27: Revisión jurídica de borradores | Q27: Cada vez que se expida un acto administrativo dentro del proceso de selección
A28: SELECCIÒN | B28: Contestación inoportuna a todas las observaciones formuladas a los documentos de la contratación | F28: Uso de matrices de control para registrar cada observación y su respuesta. | H28: =+EVALUACION!I35 -> 2 | I28: 3 | J28: =+H28+I28 -> 5 | K28: =IF(J28<=4,"BAJO",IF(J28=5,"MEDIO",IF(J28=6,"ALTO",IF(J28=7,"ALTO","EXTREMO")))) -> MEDIO | L28: No | M28: Supervisor del proceso | N28: Desde la publicación del borrador de pliegos en el SECOP | O28: Antes de la publicación de los pliegos definitivos | P28: Registro de observaciones y respuestas en matriz de control | Q28: Única vez
A29: SELECCIÒN | B29: No publicación de la documentación del proceso de selección en el SECOP | F29: Definir un responsable único de cargar los documentos en la plataforma SECOP. | H29: 1 | I29: 3 | J29: =+H29+I29 -> 4 | K29: =IF(J29<=4,"BAJO",IF(J29=5,"MEDIO",IF(J29=6,"ALTO",IF(J29=7,"ALTO","EXTREMO")))) -> BAJO | L29: No | M29: Responsable SECOP | N29: Desde la etapa de publicación de pliegos en el SECOP | O29: Hasta la adjudicación del contrato | P29: Revisión de la plataforma SECOP para confirmar las publicaciones | Q29: Cada vez que se requiera una publicación durante el proceso de selección
A30: SELECCIÒN | B30: Confabulacion de los proponentes (Colusión) | F30: Inclusión de cláusulas anticorrupción y de inhabilidad por prácticas colusorias en los pliegos. | H30: 2 | I30: 5 | J30: =+H30+I30 -> 7 | K30: =IF(J30<=4,"BAJO",IF(J30=5,"MEDIO",IF(J30=6,"ALTO",IF(J30=7,"ALTO","EXTREMO")))) -> ALTO | L30: Si | M30: Supervisor del proceso | N30: Durante la evaluación de ofertas | O30: Hasta la adjudicación del contrato | P30: Revisión cruzada de propuestas por parte del comité | Q30: Única vez
A31: SELECCIÒN | B31: Selección de ofertas con precios artificialmente bajos. | F31: Solicitar justificación detallada de la conformación del precio cuando se detecten valores por debajo del rango estimado. | H31: 2 | I31: 4 | J31: =+H31+I31 -> 6 | K31: =IF(J31<=4,"BAJO",IF(J31=5,"MEDIO",IF(J31=6,"ALTO",IF(J31=7,"ALTO","EXTREMO")))) -> ALTO | L31: Si | M31: Área financiera y técnica | N31: Durante la evaluación de las ofertas económicas | O31: Antes de la adjudicación del contrato | P31: Solicitudes de aclaración a proponentes con precios atípicos | Q31: Una vez
A32: CONTRATACION | B32: Riesgo de que no se firme el contrato. | F32: Exigir en pliegos la garantía de seriedad de la oferta que se hace efectiva en caso de no suscripción. • Establecer un plazo máximo para la firma del contrato, conforme a la Ley 80 y la Ley 1150. | H32: 1 | I32: 4 | J32: =+H32+I32 -> 5 | K32: =IF(J32<=4,"BAJO",IF(J32=5,"MEDIO",IF(J32=6,"ALTO",IF(J32=7,"ALTO","EXTREMO")))) -> MEDIO | L32: Si | M32: Supervisor designado | N32: Inmediatamente después de la adjudicación del contrato | O32: Con la suscripción del contrato | P32: Verificación de requisitos previos | Q32: Única vez
A33: CONTRATACION | B33: Falta de constitución o constitución tardía de la garantía única. Aceptación de garantías que no se ajustan a lo contemplado en el contrato | F33: Verificación exhaustiva de las pólizas por parte del área jurídica y financiera antes de la firma del contrato. | H33: 2 | I33: 4 | J33: =+H33+I33 -> 6 | K33: =IF(J33<=4,"BAJO",IF(J33=5,"MEDIO",IF(J33=6,"ALTO",IF(J33=7,"ALTO","EXTREMO")))) -> ALTO | L33: No | M33: Supervisor designado | N33: Al momento de la adjudicación del contrato | O33: Previo a la firma del contrato | P33: Revisión documental de las pólizas presentadas | Q33: Única vez
A34: CONTRATACION | B34: Falta de solicitud o solicitud tardía del registro presupuestal | F34: Establecer en el cronograma de contratación un plazo máximo para la expedición del RP y Designar un responsable único de la gestión presupuestal del contrato. | H34: 2 | I34: 3 | J34: =+H34+I34 -> 5 | K34: =IF(J34<=4,"BAJO",IF(J34=5,"MEDIO",IF(J34=6,"ALTO",IF(J34=7,"ALTO","EXTREMO")))) -> MEDIO | L34: Sì | M34: Supervisor designado | N34: Inmediatamente después de la adjudicación del contrato | O34: Antes de la firma del contrato | P34: Verificación l de la expedición del RP y Registro del RP en el expediente contractual | Q34: Única vez
A35: CONTRATACION | B35: No publicación del contrato y de los documentos de legalizaciòn en el SECOP | F35: Implementar plazos internos más estrictos que los legales para garantizar cumplimiento. | H35: 1 | I35: =+EVALUACION!J62 -> 3 | J35: =+H35+I35 -> 4 | K35: =IF(J35<=4,"BAJO",IF(J35=5,"MEDIO",IF(J35=6,"ALTO",IF(J35=7,"ALTO","EXTREMO")))) -> BAJO | L35: Sì | M35: Supervisor designado | N35: Al momento de la suscripción del contrato | O35: Con la publicación del contrato y acta de inicio en SECOP | P35: Reportes de cumplimiento de cronograma | Q35: Cada vez que se suscriba y legalice un contrato
A36: CONTRATACION | B36: Presentación de reclamos de terceros sobre la selección del oferente que retrasen el perfeccionamiento del contrato. | F36: Implementar mecanismos de comunicación temprana con los oferentes para resolver inquietudes antes de la adjudicación. | H36: 2 | I36: 3 | J36: =+H36+I36 -> 5 | K36: =IF(J36<=4,"BAJO",IF(J36=5,"MEDIO",IF(J36=6,"ALTO",IF(J36=7,"ALTO","EXTREMO")))) -> MEDIO | L36: No | M36: Supervisor designado | N36: Desde la adjudicación del contrato | O36: Con el perfeccionamiento y legalización del contrato | P36: Registro de reclamaciones recibidas y tiempos de respuesta | Q36: Cada vez que se presente una reclamación en la etapa posterior a la adjudicación
A37: EJECUCION | B37: Variación de los precios del mercado y factores de producciòn | F37: Realizar un análisis de mercado detallado en los estudios previos para prever posibles variaciones. | H37: 2 | I37: 3 | J37: =+H37+I37 -> 5 | K37: =IF(J37<=4,"BAJO",IF(J37=5,"MEDIO",IF(J37=6,"ALTO",IF(J37=7,"ALTO","EXTREMO")))) -> MEDIO | L37: Si | M37: Supervisor del Contrato y/o a quien designe | N37: Desde el inicio de la ejecución del contrato | O37: Durante toda la ejecución contractual | P37: Revisión periódica de índices de mercado y costos de insumos | Q37: Mensual
A38: EJECUCION | B38: Variación en la disponibilidad o en el costo de los insumos necesarios para prestar los servicios. | F38: Identificar desde el inicio los insumos críticos para la ejecución del contrato. | H38: 3 | I38: 4 | J38: =+H38+I38 -> 7 | K38: =IF(J38<=4,"BAJO",IF(J38=5,"MEDIO",IF(J38=6,"ALTO",IF(J38=7,"ALTO","EXTREMO")))) -> ALTO | L38: Si | M38: Supervisor del Contrato y/o a quien designe | N38: Desde el inicio de la ejecución del contrato | O38: Durante toda la ejecución contractual | P38: Reportes del contratista sobre disponibilidad y costos de insumos | Q38: Mensual
A39: EJECUCION | B39: Incumplimiento de compromisos adquiridos por el contratista seleccionado con sus subcontratistas, suministradores de bienes y servicios. | F39: Incluir en el contrato la obligación del contratista de responder solidariamente por sus subcontratistas. | H39: 2 | I39: 3 | J39: =+H39+I39 -> 5 | K39: =IF(J39<=4,"BAJO",IF(J39=5,"MEDIO",IF(J39=6,"ALTO",IF(J39=7,"ALTO","EXTREMO")))) -> MEDIO | L39: Si | M39: Supervisor del Contrato y/o a quien designe | N39: Desde el inicio de la ejecución del contrato | O39: Durante toda la ejecución contractual | P39: Informes periódicos del contratista sobre el estado de pagos y cumplimiento con subcontratistas | Q39: Mensual o según los cortes definidos en el contrato
A40: EJECUCION | B40: Incumplimiento de la administración en los pagos. | F40: Programar los pagos de acuerdo con el cronograma contractual y la disponibilidad presupuestal. | H40: 2 | I40: 3 | J40: =+H40+I40 -> 5 | K40: =IF(J40<=4,"BAJO",IF(J40=5,"MEDIO",IF(J40=6,"ALTO",IF(J40=7,"ALTO","EXTREMO")))) -> MEDIO | L40: Sì | M40: Supervisor del Contrato y/o a quien designe | N40: Desde el inicio de la ejecución del contrato | O40: Durante toda la ejecución contractual | P40: Registro de pagos efectuados vs. programados | Q40: Mensual o de acuerdo con el cronograma de pagos del contrato
A41: EJECUCION | B41: Defecto en la instalación de equipos | F41: Supervisión técnica y pruebas de funcionamiento en el momento de la instalación. | H41: 2 | I41: 4 | J41: =+H41+I41 -> 6 | K41: =IF(J41<=4,"BAJO",IF(J41=5,"MEDIO",IF(J41=6,"ALTO",IF(J41=7,"ALTO","EXTREMO")))) -> ALTO | L41: No | M41: Contratista | N41: Al momento de la entrega e instalación de los equipos | O41: Con la aprobación de la instalación y recepción conforme | P41: Pruebas técnicas de los equipos instalados | Q41: En cada entrega e instalación de equipos
A42: EJECUCION | B42: Defectos en los equipos. | F42: Realizar inspecciones técnicas y pruebas de funcionamiento antes de la recepción de los equipos. | H42: 2 | I42: 4 | J42: =+H42+I42 -> 6 | K42: =IF(J42<=4,"BAJO",IF(J42=5,"MEDIO",IF(J42=6,"ALTO",IF(J42=7,"ALTO","EXTREMO")))) -> ALTO | L42: No | M42: Contratista | N42: Al momento de la entrega de los equipos | O42: Con la recepción definitiva y el vencimiento del período de garantía | P42: Pruebas técnicas de calidad y funcionamiento | Q42: En cada entrega de equipos y durante el período de garantía
A43: EJECUCION | B43: Daños a los equipos objeto de mantenimiento y/o otros bienes | F43: Exigir pólizas de seguro que cubran daños, pérdida o deterioro de los equipos y bienes. | H43: 2 | I43: 4 | J43: =+H43+I43 -> 6 | K43: =IF(J43<=4,"BAJO",IF(J43=5,"MEDIO",IF(J43=6,"ALTO",IF(J43=7,"ALTO","EXTREMO")))) -> ALTO | L43: No | M43: Supervisor del contrato | N43: Desde la entrega de los equipos | O43: Con la finalización del contrato y la recepción definitiva de los bienes | P43: Inspecciones técnicas periódicas | Q43: Mensual o cada vez que se realice mantenimiento o traslado de los equipos
A44: EJECUCION | B44: Imposición de nuevos tributos | F44: Realizar seguimiento normativo y tributario permanente. | H44: 2 | I44: 5 | J44: =+H44+I44 -> 7 | K44: =IF(J44<=4,"BAJO",IF(J44=5,"MEDIO",IF(J44=6,"ALTO",IF(J44=7,"ALTO","EXTREMO")))) -> ALTO | L44: Sì | M44: Supervisor del contrato | N44: Durante toda la ejecución del contrato | O44: Al finalizar la ejecución del contrato y liquidación definitiva | P44: Revisión periódica de normas tributarias | Q44: Trimestral o cuando se emitan nuevas normas tributarias
A45: EJECUCION | B45: Imposición de nuevos trámites o permisos | F45: Incluir en el contrato cláusulas de prórroga y ajustes en caso de requerimientos sobrevinientes. | H45: 1 | I45: 3 | J45: =+H45+I45 -> 4 | K45: =IF(J45<=4,"BAJO",IF(J45=5,"MEDIO",IF(J45=6,"ALTO",IF(J45=7,"ALTO","EXTREMO")))) -> BAJO | L45: No | M45: Contratista | N45: Desde el inicio de la ejecución | O45: Con la obtención de los permisos o trámites requeridos o con la terminación del contrato | P45: Revisión periódica de cambios normativos y regulatorios | Q45: Mensual o cada vez que se expidan nuevas regulaciones aplicables
...

Sheet ASIGNACION Y TRATAMIENTO 
B2: IDENTIFICACIÓN, ANALISIS, EVALUACIÓN , ASIGNACIÓN Y TRATAMIENTO DE RIESGOS EN LA CONTRATACIÓN
B3: Esta matriz es un documento anexo del Estudio Previo
B4: ETAPA | C4: Descripción (Que puede pasar y, cómo puede ocurrir) | H4: Consecuencias de la ocurrencia del evento | I4: Probabilidad de Ocurrencia | J4: Impacto | K4: Calificación Total | L4: Prioridad | M4: Tratamiento/Controles a ser implementados | O4: Probabilidad de Ocurrencia | P4: Impacto | Q4: Calificación Total | R4: Prioridad | S4: ¿Afecta el equilibrio económico del contrato? | T4: Persona responsable por implementar el tratamiento | U4: Fecha estimada en que se inicia el tratamiento | V4: Fecha estimada en que se completa el tratamiento | W4: ¿Cómo se realiza el monitoreo? | X4: Periodicidad ¿Cuándo?
B5: PLANEACIÓN | C5: Inadecuada escogencia de la modalidad de contratación | H5: Posible nulidad del proceso contractual y retrasos en la ejecución por incumplimiento del marco normativo. | I5: 2 | J5: 5 | K5: =+I5+J5 -> 7 | L5: =IF(K5<=4,"BAJO",IF(K5=5,"MEDIO",IF(K5=6,"ALTO",IF(K5=7,"ALTO","EXTREMO")))) -> ALTO | M5: Revisión y validaciòn jurídica y tècnica previa de la modalidad de contrataciòn. | O5: 1 | P5: 3 | Q5: =+O5+P5 -> 4 | R5: =IF(Q5<=4,"BAJO",IF(Q5=5,"MEDIO",IF(Q5=6,"ALTO",IF(Q5=7,"ALTO","EXTREMO")))) -> BAJO | S5: Sì | T5: Profesional jurídico / Supervisor del contrato | U5: Fecha Acta de Inicio del proceso de contrataciòn | V5: Previo a la publicación de los pliegos o documentos precontractuales | W5: Revisiòn documental por medio de actas de verficaciòn y/o validaciòn del arèa jurìdica | X5: Unica Vez
B6: PLANEACIÓN | C6: Requisitos habilitantes inapropiados para el proceso de selección | H6: Riesgo de limitación de la pluralidad de oferentes y posibles reclamaciones que afecten la transparencia del proceso. | I6: 2 | J6: 4 | K6: =+I6+J6 -> 6 | L6: =IF(K6<=4,"BAJO",IF(K6=5,"MEDIO",IF(K6=6,"ALTO",IF(K6=7,"ALTO","EXTREMO")))) -> ALTO | M6: Revisión jurídica y técnica de los pliegos para garantizar que los requisitos habilitantes estén alineados con la ley y la naturaleza del contrato. | O6: 1 | P6: 3 | Q6: =+O6+P6 -> 4 | R6: =IF(Q6<=4,"BAJO",IF(Q6=5,"MEDIO",IF(Q6=6,"ALTO",IF(Q6=7,"ALTO","EXTREMO")))) -> BAJO | S6: No | T6: Profesional jurídico / Supervisor del proceso Designado | U6: Durante la elaboración del estudio previo y pliegos de condiciones | V6: Antes de la publicación de los pliegos definitivos | W6: Actas de revisión y validación del pliego | X6: Unica Vez
B7: PLANEACIÓN | C7: Inadecuado análisis económico estimativo del valor del contrato | H7: Riesgo de sobrecostos o insuficiencia presupuestal para la adecuada ejecución del contrato. | I7: 3 | J7: 5 | K7: 8 | L7: EXTREMO | M7: Elaboración del estudio de mercado con mínimo tres cotizaciones verificables. Revisiòn previa de procesos similares en SECOP u otras fuentes oficiales. | O7: 2 | P7: 4 | Q7: =+O7+P7 -> 6 | R7: =IF(Q7<=4,"BAJO",IF(Q7=5,"MEDIO",IF(Q7=6,"ALTO",IF(Q7=7,"ALTO","EXTREMO")))) -> ALTO | S7: Si | T7: Profesional de Presupuestos designado | U7: Durante la fase de elaboración del estudio previo | V7: Antes de la aprobación y publicación de los pliegos de condiciones | W7: Validación de estudios de mercado y analisis de sector | X7: Unica Vez
B8: PLANEACIÓN | C8: Inadecuada descripción del bien o servicio requerido | H8: Incumplimiento de las necesidades del proyecto y posibles controversias con el contratista por alcance del objeto contractual. | I8: 2 | J8: 4 | K8: 6 | L8: ALTO | M8: Revisión técnica detallada de las especificaciones por el área solicitante. | O8: 1 | P8: 3 | Q8: =+O8+P8 -> 4 | R8: =IF(Q8<=4,"BAJO",IF(Q8=5,"MEDIO",IF(Q8=6,"ALTO",IF(Q8=7,"ALTO","EXTREMO")))) -> BAJO | S8: Si | T8: Supervisor del Contrato y/o a quien designe | U8: Durante la elaboración del estudio previo y borrador de pliegos | V8: Antes de la publicación definitiva de los pliegos de condiciones | W8: Revisión de los términos de referencia • Validación técnica de las especificaciones | X8: Una vez
B9: PLANEACIÓN | C9: Inadecuada elaboración de estudios y diseños | H9: Afectación en la calidad del proyecto, sobrecostos y retrasos en la ejecución contractual. | I9: 2 | J9: 5 | K9: 7 | L9: ALTO | M9: Revisión y validación técnica de los estudios y diseños por profesionales especializados en la materia. Revisión cruzada y validación independiente antes de su aprobación. | O9: 1 | P9: 4 | Q9: =+O9+P9 -> 5 | R9: =IF(Q9<=4,"BAJO",IF(Q9=5,"MEDIO",IF(Q9=6,"ALTO",IF(Q9=7,"ALTO","EXTREMO")))) -> MEDIO | S9: SI | T9: Supervisor del contrato | U9: Desde la fase de estudios previos y diseños iniciales | V9: Previo a la aprobación definitiva de los documentos técnicos y pliegos de condiciones | W9: A traves de comité tecnico del contrato | X9: Única vez
B10: PLANEACIÓN | C10: Falta de profundidad en el estudio de sector no identificandose claramente aspectos de oferta y demanda | H10: Riesgo de baja participación de oferentes idóneos y desajustes en las condiciones contractuales. | I10: 2 | J10: 3 | K10: 5 | L10: MEDIO | M10: Inclusión de análisis comparativos de contratos similares en precio, plazo y condiciones. • Revisión técnica y financiera del estudio por el área de planeación antes de aprobarlo. | O10: 2 | P10: 4 | Q10: =+O10+P10 -> 6 | R10: =IF(Q10<=4,"BAJO",IF(Q10=5,"MEDIO",IF(Q10=6,"ALTO",IF(Q10=7,"ALTO","EXTREMO")))) -> ALTO | S10: Si | T10: Supervisor del Contrato y/o a quien designe | U10: Durante la elaboración de los estudios previos | V10: Previo a la publicación de los pliegos de condiciones | W10: A traves de comité tecnico del contrato | X10: Única vez
B11: PLANEACIÓN | C11: Ausencia de fundamentación de la justificación y conveniencia de la contratación | H11: Posible declaratoria de nulidad del proceso de selección y pérdida de recursos institucionales. | I11: 2 | J11: 5 | K11: =+I11+J11 -> 7 | L11: =IF(K11<=4,"BAJO",IF(K11=5,"MEDIO",IF(K11=6,"ALTO",IF(K11=7,"ALTO","EXTREMO")))) -> ALTO | M11: Revisión jurídica y técnica del documento antes de su aprobación y Validación por parte del comité de planeación y supervisor del proceso. | O11: 2 | P11: 3 | Q11: =+O11+P11 -> 5 | R11: =IF(Q11<=4,"BAJO",IF(Q11=5,"MEDIO",IF(Q11=6,"ALTO",IF(Q11=7,"ALTO","EXTREMO")))) -> MEDIO | S11: No | T11: Supervisor del Contrato y/o a quien designe | U11: Durante la elaboración del estudio previo | V11: Previo a la aprobación y publicación del pliego de condiciones | W11: A traves de comité tecnico del contrato | X11: Única vez
B12: PLANEACIÓN | C12: Inadecuada identificación de las condiciones contractuales | H12: Riesgo de incumplimiento contractual, conflictos jurídicos y costos adicionales. | I12: 3 | J12: 4 | K12: =+I12+J12 -> 7 | L12: =IF(K12<=4,"BAJO",IF(K12=5,"MEDIO",IF(K12=6,"ALTO",IF(K12=7,"ALTO","EXTREMO")))) -> ALTO | M12: Revisión jurídica detallada de cláusulas obligatorias y excepcionales (garantías, sanciones, prórrogas, terminación). | O12: 1 | P12: 3 | Q12: =+O12+P12 -> 4 | R12: =IF(Q12<=4,"BAJO",IF(Q12=5,"MEDIO",IF(Q12=6,"ALTO",IF(Q12=7,"ALTO","EXTREMO")))) -> BAJO | S12: Si | T12: Supervisor del Contrato y/o a quien designe | U12: Durante la elaboración del estudio previo y pliegos de condiciones | V12: Antes de la publicación definitiva del pliego de condiciones | W12: Conceptos del área jurídica y técnica | X12: Única vez
B13: PLANEACIÓN | C13: Apertura de procesos sin disponibilidad presupuestal | H13: Paralización del proceso de contratación y posibles sanciones administrativas para la entidad. | I13: 2 | J13: 5 | K13: =+I13+J13 -> 7 | L13: =IF(K13<=4,"BAJO",IF(K13=5,"MEDIO",IF(K13=6,"ALTO",IF(K13=7,"ALTO","EXTREMO")))) -> ALTO | M13: Verificación previa de la existencia del Certificado de Disponibilidad Presupuestal (CDP). Revisión del plan anual de adquisiciones para garantizar coherencia entre necesidad y disponibilidad de recursos. | O13: 1 | P13: 4 | Q13: =+O13+P13 -> 5 | R13: =IF(Q13<=4,"BAJO",IF(Q13=5,"MEDIO",IF(Q13=6,"ALTO",IF(Q13=7,"ALTO","EXTREMO")))) -> MEDIO | S13: Sì | T13: Supervisor del proceso | U13: Previo a la elaboración y aprobación del estudio previo | V13: Antes de la apertura del proceso de selección en el SECOP | W13: Revisión del CDP expedido, Concepto del área financiera | X13: Única vez
B14: SELECCIÓN | C14: Inadecuada evaluación de las ofertas y/o verificación de requisitos habilitantes | H14: El adjudicatario no cumple con todos los requisitos para su contratacion | I14: 1 | J14: 3 | K14: =+I14+J14 -> 4 | L14: =IF(K14<=4,"BAJO",IF(K14=5,"MEDIO",IF(K14=6,"ALTO",IF(K14=7,"ALTO","EXTREMO")))) -> BAJO | M14: Revisión cruzada de los informes de evaluación antes de su publicación. | O14: 2 | P14: 4 | Q14: 6 | R14: =IF(Q14<=4,"BAJO",IF(Q14=5,"MEDIO",IF(Q14=6,"ALTO",IF(Q14=7,"ALTO","EXTREMO")))) -> ALTO | S14: Sì | T14: Supervisor del proceso designado | U14: Durante la etapa de evaluación de las ofertas | V14: Previo a la adjudicación del contrato | W14: Revisión de actas e informes de evaluación Conceptos de control interno (cuando aplique) | X14: Única vez
B15: SELECCIÓN | C15: Inadecuado manejo administrativo del proceso contractual | H15: Retrasos en el cronograma, incumplimiento en tiempos de respuesta y pérdida de control documental del proceso. | I15: 2 | J15: 4 | K15: =+I15+J15 -> 6 | L15: =IF(K15<=4,"BAJO",IF(K15=5,"MEDIO",IF(K15=6,"ALTO",IF(K15=7,"ALTO","EXTREMO")))) -> ALTO | M15: Implementación de un cronograma detallado y seguimiento al cumplimiento de cada hito. | O15: 2 | P15: 3 | Q15: =+O15+P15 -> 5 | R15: =IF(Q15<=4,"BAJO",IF(Q15=5,"MEDIO",IF(Q15=6,"ALTO",IF(Q15=7,"ALTO","EXTREMO")))) -> MEDIO | S15: Sì | T15: Supervisor del proceso designado | U15: Desde la apertura del proceso de selección | V15: Hasta la adjudicación del contrato | W15: Revisión del cumplimiento del cronograma, Reportes de avances en SECOP | X15: Semanal
B16: SELECCIÓN | C16: Falta de claridad en la elaboración de los actos administrativos | H16: Riesgo de nulidad parcial o total de los actos expedidos y apertura de procesos sancionatorios o demandas. | I16: 2 | J16: 5 | K16: =+I16+J16 -> 7 | L16: =IF(K16<=4,"BAJO",IF(K16=5,"MEDIO",IF(K16=6,"ALTO",IF(K16=7,"ALTO","EXTREMO")))) -> ALTO | M16: Validación previa por parte del área jurídica antes de su expedición y publicación. | O16: 2 | P16: 4 | Q16: =+O16+P16 -> 6 | R16: =IF(Q16<=4,"BAJO",IF(Q16=5,"MEDIO",IF(Q16=6,"ALTO",IF(Q16=7,"ALTO","EXTREMO")))) -> ALTO | S16: No | T16: Supervisor del proceso | U16: Etapa de elaboración de actos administrativos del proceso de selecciòn | V16: Previo a la adjudicación del contrato | W16: Revisión jurídica de borradores | X16: Cada vez que se expida un acto administrativo dentro del proceso de selección
B17: SELECCIÓN | C17: Contestación inoportuna a todas las observaciones formuladas a los documentos de la contratación | H17: Posibles reclamaciones de oferentes y afectación en la transparencia y confianza del proceso. | I17: 3 | J17: 3 | K17: =+I17+J17 -> 6 | L17: =IF(K17<=4,"BAJO",IF(K17=5,"MEDIO",IF(K17=6,"ALTO",IF(K17=7,"ALTO","EXTREMO")))) -> ALTO | M17: Uso de matrices de control para registrar cada observación y su respuesta. | O17: 2 | P17: 3 | Q17: =+O17+P17 -> 5 | R17: =IF(Q17<=4,"BAJO",IF(Q17=5,"MEDIO",IF(Q17=6,"ALTO",IF(Q17=7,"ALTO","EXTREMO")))) -> MEDIO | S17: No | T17: Supervisor del proceso | U17: Desde la publicación del borrador de pliegos en el SECOP | V17: Antes de la publicación de los pliegos definitivos | W17: Registro de observaciones y respuestas en matriz de control | X17: Única vez
B18: SELECCIÓN | C18: No publicación de la documentación del proceso de selección en el SECOP | H18: Nulidad del proceso por incumplimiento de la normatividad en materia de publicidad y transparencia. | I18: 2 | J18: 5 | K18: =+I18+J18 -> 7 | L18: =IF(K18<=4,"BAJO",IF(K18=5,"MEDIO",IF(K18=6,"ALTO",IF(K18=7,"ALTO","EXTREMO")))) -> ALTO | M18: Definir un responsable único de cargar los documentos en la plataforma SECOP. | O18: 1 | P18: 3 | Q18: =+O18+P18 -> 4 | R18: =IF(Q18<=4,"BAJO",IF(Q18=5,"MEDIO",IF(Q18=6,"ALTO",IF(Q18=7,"ALTO","EXTREMO")))) -> BAJO | S18: No | T18: Responsable SECOP | U18: Desde la etapa de publicación de pliegos en el SECOP | V18: Hasta la adjudicación del contrato | W18: Revisión de la plataforma SECOP para confirmar las publicaciones | X18: Cada vez que se requiera una publicación durante el proceso de selección
B19: SELECCIÓN | C19: Confabulacion de los proponentes (Colusión) | H19: Riesgo de manipulación del proceso, falta de pluralidad real y afectación directa a la selección objetiva. | I19: 2 | J19: 5 | K19: =+I19+J19 -> 7 | L19: =IF(K19<=4,"BAJO",IF(K19=5,"MEDIO",IF(K19=6,"ALTO",IF(K19=7,"ALTO","EXTREMO")))) -> ALTO | M19: Inclusión de cláusulas anticorrupción y de inhabilidad por prácticas colusorias en los pliegos. | O19: 2 | P19: 5 | Q19: =+O19+P19 -> 7 | R19: =IF(Q19<=4,"BAJO",IF(Q19=5,"MEDIO",IF(Q19=6,"ALTO",IF(Q19=7,"ALTO","EXTREMO")))) -> ALTO | S19: Si | T19: Supervisor del proceso | U19: Durante la evaluación de ofertas | V19: Hasta la adjudicación del contrato | W19: Revisión cruzada de propuestas por parte del comité | X19: Única vez
B20: SELECCIÓN | C20: Selección de ofertas con precios artificialmente bajos. | H20: Riesgo de incumplimiento del contrato, baja calidad en la ejecución y necesidad de adiciones presupuestales posteriores. | I20: 2 | J20: 4 | K20: =+I20+J20 -> 6 | L20: =IF(K20<=4,"BAJO",IF(K20=5,"MEDIO",IF(K20=6,"ALTO",IF(K20=7,"ALTO","EXTREMO")))) -> ALTO | M20: Solicitar justificación detallada de la conformación del precio cuando se detecten valores por debajo del rango estimado. | O20: 2 | P20: 4 | Q20: =+O20+P20 -> 6 | R20: =IF(Q20<=4,"BAJO",IF(Q20=5,"MEDIO",IF(Q20=6,"ALTO",IF(Q20=7,"ALTO","EXTREMO")))) -> ALTO | S20: Si | T20: Área financiera y técnica | U20: Durante la evaluación de las ofertas económicas | V20: Antes de la adjudicación del contrato | W20: Solicitudes de aclaración a proponentes con precios atípicos | X20: Una vez
B21: CONTRATACIÓN | C21: Riesgo de que no se firme el contrato. | H21: Paralización del proceso de contratación, pérdida de recursos invertidos en la selección y retraso en la ejecución del proyecto. | I21: 2 | J21: 5 | K21: =+I21+J21 -> 7 | L21: =IF(K21<=4,"BAJO",IF(K21=5,"MEDIO",IF(K21=6,"ALTO",IF(K21=7,"ALTO","EXTREMO")))) -> ALTO | M21: Exigir en pliegos la garantía de seriedad de la oferta que se hace efectiva en caso de no suscripción. • Establecer un plazo máximo para la firma del contrato, conforme a la Ley 80 y la Ley 1150. | O21: 1 | P21: 4 | Q21: =+O21+P21 -> 5 | R21: =IF(Q21<=4,"BAJO",IF(Q21=5,"MEDIO",IF(Q21=6,"ALTO",IF(Q21=7,"ALTO","EXTREMO")))) -> MEDIO | S21: Si | T21: Supervisor designado | U21: Inmediatamente después de la adjudicación del contrato | V21: Con la suscripción del contrato | W21: Verificación de requisitos previos | X21: Única vez
B22: CONTRATACIÓN | C22: Falta de constitución o constitución tardía de la garantía única. Aceptación de garantías que no se ajustan a lo contemplado en el contrato | H22: Imposibilidad de exigir responsabilidades al contratista en caso de incumplimiento y riesgo de pérdidas económicas para la entidad. | I22: 2 | J22: 5 | K22: =+I22+J22 -> 7 | L22: =IF(K22<=4,"BAJO",IF(K22=5,"MEDIO",IF(K22=6,"ALTO",IF(K22=7,"ALTO","EXTREMO")))) -> ALTO | M22: Verificación exhaustiva de las pólizas por parte del área jurídica y financiera antes de la firma del contrato. | O22: 2 | P22: 4 | Q22: =+O22+P22 -> 6 | R22: =IF(Q22<=4,"BAJO",IF(Q22=5,"MEDIO",IF(Q22=6,"ALTO",IF(Q22=7,"ALTO","EXTREMO")))) -> ALTO | S22: No | T22: Supervisor designado | U22: Al momento de la adjudicación del contrato | V22: Previo a la firma del contrato | W22: Revisión documental de las pólizas presentadas | X22: Única vez
B23: CONTRATACIÓN | C23: Falta de solicitud o solicitud tardía del registro presupuestal | H23: Imposibilidad legal de perfeccionar el contrato, retrasos en el inicio de la ejecución y riesgo de caducidad del proceso. | I23: 2 | J23: 5 | K23: =+I23+J23 -> 7 | L23: =IF(K23<=4,"BAJO",IF(K23=5,"MEDIO",IF(K23=6,"ALTO",IF(K23=7,"ALTO","EXTREMO")))) -> ALTO | M23: Establecer en el cronograma de contratación un plazo máximo para la expedición del RP y Designar un responsable único de la gestión presupuestal del contrato. | O23: 2 | P23: 3 | Q23: =+O23+P23 -> 5 | R23: =IF(Q23<=4,"BAJO",IF(Q23=5,"MEDIO",IF(Q23=6,"ALTO",IF(Q23=7,"ALTO","EXTREMO")))) -> MEDIO | S23: Sì | T23: Supervisor designado | U23: Inmediatamente después de la adjudicación del contrato | V23: Antes de la firma del contrato | W23: Verificación l de la expedición del RP y Registro del RP en el expediente contractual | X23: Única vez
B24: CONTRATACIÓN | C24: No publicación del contrato y de los documentos de legalizaciòn en el SECOP | H24: Posible nulidad del proceso por incumplimiento de la normatividad de publicidad y afectación a la transparencia. | I24: 2 | J24: 5 | K24: =+I24+J24 -> 7 | L24: =IF(K24<=4,"BAJO",IF(K24=5,"MEDIO",IF(K24=6,"ALTO",IF(K24=7,"ALTO","EXTREMO")))) -> ALTO | M24: Implementar plazos internos más estrictos que los legales para garantizar cumplimiento. | O24: 1 | P24: 3 | Q24: =+O24+P24 -> 4 | R24: =IF(Q24<=4,"BAJO",IF(Q24=5,"MEDIO",IF(Q24=6,"ALTO",IF(Q24=7,"ALTO","EXTREMO")))) -> BAJO | S24: Sì | T24: Supervisor designado | U24: Al momento de la suscripción del contrato | V24: Con la publicación del contrato y acta de inicio en SECOP | W24: Reportes de cumplimiento de cronograma | X24: Cada vez que se suscriba y legalice un contrato
B25: CONTRATACIÓN | C25: Presentación de reclamos de terceros sobre la selección del oferente que retrasen el perfeccionamiento del contrato. | H25: Dilación en la firma del contrato, inicio tardío de la ejecución y posibles litigios contra la entidad. | I25: 3 | J25: 4 | K25: =+I25+J25 -> 7 | L25: =IF(K25<=4,"BAJO",IF(K25=5,"MEDIO",IF(K25=6,"ALTO",IF(K25=7,"ALTO","EXTREMO")))) -> ALTO | M25: Implementar mecanismos de comunicación temprana con los oferentes para resolver inquietudes antes de la adjudicación. | O25: 2 | P25: 3 | Q25: =+O25+P25 -> 5 | R25: =IF(Q25<=4,"BAJO",IF(Q25=5,"MEDIO",IF(Q25=6,"ALTO",IF(Q25=7,"ALTO","EXTREMO")))) -> MEDIO | S25: No | T25: Supervisor designado | U25: Desde la adjudicación del contrato | V25: Con el perfeccionamiento y legalización del contrato | W25: Registro de reclamaciones recibidas y tiempos de respuesta | X25: Cada vez que se presente una reclamación en la etapa posterior a la adjudicación
B26: EJECUCIÓN | C26: Variación de los precios del mercado y factores de producciòn | H26: Desajustes financieros que afectan la ejecución contractual, posibles retrasos en la ejecuciòn y la calidad del servicio. | I26: 3 | J26: 4 | K26: 7 | L26: ALTO | M26: Realizar un análisis de mercado detallado en los estudios previos para prever posibles variaciones. | O26: 2 | P26: 3 | Q26: =+O26+P26 -> 5 | R26: =IF(Q26<=4,"BAJO",IF(Q26=5,"MEDIO",IF(Q26=6,"ALTO",IF(Q26=7,"ALTO","EXTREMO")))) -> MEDIO | S26: Si | T26: Supervisor del Contrato y/o a quien designe | U26: Desde el inicio de la ejecución del contrato | V26: Durante toda la ejecución contractual | W26: Revisión periódica de índices de mercado y costos de insumos | X26: Mensual
