Workbook
Name \a: #REF!
Name \b: #REF!
Name \eliminar: [1]RESUM96!#REF!
Name \eliminar1: [1]RESUM96!#REF!
Name \q: #REF!
Name ______EST1: #REF!
Name ______EST10: #REF!
Name ______EST11: #REF!
Name ______EST12: #REF!
Name ______EST13: #REF!
Name ______EST14: #REF!
Name ______EST15: #REF!
Name ______EST16: #REF!
Name ______EST17: #REF!
Name ______EST18: #REF!
Name ______EST19: #REF!
Name ______EST2: #REF!
Name ______EST3: #REF!
Name ______EST4: #REF!
Name ______EST5: #REF!
Name ______EST6: #REF!
Name ______EST7: #REF!
Name ______EST8: #REF!
Name ______EST9: #REF!
Name ______EXC1: #REF!
Name ______EXC10: #REF!
Name ______EXC11: #REF!
Name ______EXC12: #REF!
Name ______EXC2: #REF!
Name ______EXC3: #REF!
Name ______EXC4: #REF!
Name ______EXC5: #REF!
Name ______EXC6: #REF!
Name ______EXC7: #REF!
Name ______EXC8: #REF!
Name ______EXC9: #REF!
Name _____aiu2: [2]AIU!$J$105
Name _____EST1: #REF!
Name _____EST10: #REF!
Name _____EST11: #REF!
Name _____EST12: #REF!
Name _____EST13: #REF!
Name _____EST14: #REF!
Name _____EST15: #REF!
Name _____EST16: #REF!
Name _____EST17: #REF!
Name _____EST18: #REF!
Name _____EST19: #REF!
Name _____EST2: #REF!
Name _____EST3: #REF!
Name _____EST4: #REF!
Name _____EST5: #REF!
Name _____EST6: #REF!
Name _____EST7: #REF!
Name _____EST8: #REF!
Name _____EST9: #REF!
Name _____EXC1: #REF!
Name _____EXC10: #REF!
Name _____EXC11: #REF!
Name _____EXC12: #REF!

Sheet ESTUDIO DE MERCADO 001
A1: ANEXO 1 - ESTUDIO DE MERCADO
A2: Los precios unitarios con los que se estructuro el presente proceso corresponden a los precios de referencia de las entidades rectoras en materia de intervención de parques y espacio público. Los insumos, precios unitarios y APU´s incluidos aqui, se pueden consultar en las siguientes direcciones WEB: Instituto Distrital de Recreación y Deporte – IDRD (https://www.idrd.gov.co/construcciones/precios-unitarios-juegos-y-dotaciones-de-referencia), en su ultima versión 30-11-2023 Instituto de Desarrollo Urbano - IDU (https://www.idu.gov.co/page/siipviales/economico/portafolio). actualizados al 27-03-2025
A3: FUENTE | B3: COD | C3: CODIGOS UNSPCS | D3: Descripción | E3: Valor unitario | F3: Cantidad total | G3: Valor total
A4: APU (Cotizaciones + precios de referencia IDRD) | B4: N/A | D4: SUMINISTRO E INSTALACIÓN CERRAMIENTO DE SEGURIDAD PANEL TIPO REYCO ELECTROSOLDADO 2.5 MT X 2.5 MT | E4: ='APU 001 - SUM+INST CERRAMIENTO'!K1 -> 974395.11 | F4: 35 | G4: =E4*F4 -> 34103829
A5: APU (Cotizaciones + precios de referencia IDRD) | B5: N/A | D5: DADO CONCRETO 2500 PSI 30x30x50 sin refuerzo + formaleta (Incluye excavación y retiro) | E5: ='APU 002- DADO CONCRETO'!K1 -> 244847.87 | F5: 35 | G5: =E5*F5 -> 8569675.3
A6: TOTAL SUMATORIA ITEMS UNITARIOS | G6: =SUM(G4:G5) -> 42673504
A7: AIU | F7: =AIU!H57 -> 0.393 | G7: =G6*F7 -> 16770687
A8: TOTAL VALOR DEL PROCESO A OFERTAR | G8: =SUM(G6+G7) -> 59444191

Sheet AIU
A1: ALCALDIA LOCAL DE ANTONIO NARIÑO | C1: FORMATO: | F1: VERSIÓN:
C2: MATRIZ PARA CÁLCULO DE AIU | F2: 1.0 | H2: ALCALDIA LOCAL DE ANTONIO NARIÑO
A4: FECHA DE DILIGENCIAMIENTO | C4: =+TODAY() -> 45975 | F4: CONTRATO No. | G4: XX
A5: OFICINA DE OBRAS FDLS | C5: FDLAN | F5: OBJETO DEL CONTRATO
A6: AREA TECNICA FDLS | C6: FDLAN | F6: “AUNAR RECURSOS TECNICOS, ADMINISTRATIVOS, LEGALES Y FINANCIEROS ENTRE EL INSTITUTO PARA LA ECONOMIA SOCIAL – IPES Y LA ALCALDIA LOCAL ANTONIO NARIÑO PARA DAR CUMPLIMIENTO A ORDEN JUDICIAL DEL JUZGADO 12 ADMINISTRATIVO SECCIÓN SEGUNDA ORAL BOGOTA EN EL INMUEBLE DENOMINADO CED CENTENARIO PARA LA ATENCIÓN PARCIAL DE PRIMEROS AUXILIOS EN VIRTUD DE ACCIÓN POPULAR No. 110013335012-2022-00150-00
A7: SUBDIRECCIÓN TÉCNICA
A9: COSTO DIRECTO ESTIMADO DE OBRA (CD) | C9: ='ESTUDIO DE MERCADO 001'!G6 -> 42673504
A10: TERMINO ESTIMADO DE EJECUCIÓN DE OBRA | C10: 1.5 | D10: MESES
A11: VALOR TOTAL PRESUPUESTO | C11: 60000000
A12: COSTO SUMATORIA ÍTEMS UNITARIOS | C12: ='ESTUDIO DE MERCADO 001'!E4 -> 974395.11
A13: AJUSTES POR CAMBIO DE VIGENCIA | C13: 0
A15: A. ADMINISTRACIÓN
A16: 1. COSTOS MENSUALES DE PERSONAL
A17: # | B17: CARGO | C17: CATEGORÍA | D17: DEDICACIÓN MES | F17: TOPE MÁXIMO SALARIO | G17: FACTOR PRESTACIONAL | H17: SALARIO MÁS PRESTACIONES
A18: A | D18: B | F18: C | G18: D | H18: E = A * B * C * D
A19: ETAPA PREVIA
A20: 1.1 PERSONAL PROFESIONAL (Ingenieros y Otros)
A21: 1 | B21: INGENIERO RESIDENTE (G. 2 + E. 1) | C21: 7 | D21: 0.898 | F21: 4534135 | G21: 1.58 | H21: =ROUND(A21*D21*F21*G21,0) -> 6433212
A23: SUBTOTAL COSTOS MENSUALES DE PERSONAL PROFESIONAL, TÉCNICO Y ADMINISTRATIVO (ETAPA PREVIA) | H23: =(SUM(H21:H22))*C10 -> 9649818
A26: 2. GASTOS OPERACIONALES MENSUALES | C26: UNIDADES | D26: CANTIDAD | G26: COSTO | H26: VALOR ($)
A27: GASTOS OFICINA (PAPELERIA, FOTOCOPIAS Y OTROS) | C27: GLB/MS | D27: 1 | G27: 1199778 | H27: =D27*G27 -> 1199778
A29: SUBTOTAL GASTOS OPERACIONALES MENSUALES | H29: =SUM(H27:H28)*(C10) -> 1799667
A31: TOTAL COSTOS PERSONAL + GASTOS OPERACIONALES POR EL TÉRMINO DE EJECUCIÓN | H31: =H29+H23 -> 11449485
A32: TOTAL COSTOS PERSONAL + GASTOS OPERACIONALES POR EL TÉRMINO DE EJECUCIÓN EN PORCENTAJE DEL COSTO DIRECTO | H32: =ROUND(H31/C9,3) -> 0.268
A35: 3. IMPUESTOS Y GARANTÍAS
A36: 3.1 IMPUESTOS
A37: DESCRIPCIÓN | G37: IMPUESTO | H37: VALOR ($)
A38: CONTRIBUCIÓN ESPECIAL | G38: 0.05 | H38: =+G38*C9 -> 2133675.2
A39: ESTAMPILLA UNIVERSIDAD PEDAGÓGICA | G39: 0.005 | H39: =+G39*C9 -> 213367.52
A40: SUBTOTAL IMPUESTOS | H40: =SUM(H38:H39) -> 2347042.7
A41: 3.2 GARANTIAS
A42: DESCRIPCIÓN | C42: VR. BASE | D42: % ASEGURADO | F42: VIGENCIA AMPARO (MESES) | G42: TASA ASEGURADORA | H42: VALOR ($)
A43: G.UNICA | B43: CUMPLIMIENTO GENERAL | C43: =C9 -> 42673504 | D43: 0.2 | F43: =C10+6 -> 7.5 | G43: 0.004 | H43: =ROUND((((((C43*D43)*G43)/12)*F43)+1250)*1.16,0) -> 26201
B44: Pago de salarios, prestaciones sociales legales e indemnizaciones laborales | C44: =C43 -> 42673504 | D44: 0.05 | F44: =C10+36 -> 37.5 | G44: 0.003 | H44: =ROUND((((((C44*D44)*G44)/12)*F44)+1250)*1.16,0) -> 24654
B45: ESTABILIDAD Y CALIDAD DE LAS OBRAS | C45: =C43 -> 42673504 | D45: 0.2 | F45: 60 | G45: 0.004 | H45: =ROUND((((((C45*D45)*G45)/12)*F45)+1250)*1.16,0) -> 199455
A46: R.C.E. | B46: PREDIOS, LABORES Y OPERACIONES - VIGENCIA | C46: =200*1300000 -> 260000000 | D46: 1 | F46: =C10 -> 1.5 | G46: 0.005 | H46: =ROUND((((((C46*D46)*G46)/12)*F46))*1.16,0) -> 188500
A48: SUBTOTAL GARANTÍAS | H48: =ROUND(SUM(H43:H47),0) -> 438810
A50: TOTAL IMPUESTOS Y GARANTÍAS | H50: =ROUND(H40+H48,0) -> 2785853
A51: TOTAL IMPUESTOS Y GARANTÍAS EN PORCENTAJE DEL COSTO DIRECTO | H51: =ROUND(H50/C9,3) -> 0.065
A53: A. ADMINISTRACIÓN (1 + 2 + 3) | H53: =H32+H51 -> 0.333
...

Sheet APU 001 - SUM+INST CERRAMIENTO
A1: 1 | B1: SUMINISTRO E INSTALACIÓN CERRAMIENTO DE SEGURIDAD PANEL REYCO ELECTROSOLDADO 2.5 MT X 2.5 MT | H1: UN | I1: VARIOS | K1: =SUM(L5:L19) -> 974395.11
A4: Fuente de precio | B4: Tipo | C4: Insumo | H4: Unidad | I4: Rendimiento (%) | K4: Valor unitario | L4: Valor con rendimiento
A5: 103068 | B5: Equipo | C5: DISCO DE CORTE 7" (DISCOS PARA CORTAR METAL 7" X 1 | H5: UN | I5: 0,0500 | J5: 0,0500 | K5: 6913 | L5: =K5*J5 -> 345.65
A6: 102486 | B6: Equipo | C6: EQUIPO SOLDADURA 220 AMP ELECTRICO | H6: DD | I6: 0,2000 | J6: 0,2000 | K6: 52240.84 | L6: =K6*J6 -> 10448.168
A7: 102487 | B7: Equipo | C7: HERRAMIENTA MENOR % | H7: % | I7: 1,0000 | J7: 1,0000 | K7: 2115.17 | L7: =K7*J7 -> 2115.17
A8: 002535 | B8: Material | C8: ANGULO ¼"x2½" | H8: ML | I8: 2,3835 | J8: 2,3835 | K8: 16305 | L8: =K8*J8 -> 38862.968
A9: 001834 | B9: Material | C9: ANTICORROSIVO GRIS PROTECCIÓN. | H9: GLN | I9: 0,0200 | J9: 0,0200 | K9: 62394.14 | L9: =K9*J9 -> 1247.8828
A10: 102924 | B10: Material | C10: ESTOPA (1 Kg) ** | H10: KG | I10: 0,2000 | J10: 0,2000 | K10: 12601.01 | L10: =K10*J10 -> 2520.202
A11: Cotización | B11: Material | C11: PANEL TIPO REYCO ELECTROSOLDADO PINTADO COLOR VERDE DE 2.50 X 2.50 | H11: UN | I11: 1 | J11: 1 | K11: 366200 | L11: =K11*J11 -> 366200
B12: Material | C12: POSTE PANEL TIPO REYCO DE 60 mm X 60 mm Cal 1.5 mm pintado Poliester verde sin brazo con PLATINA L=2.50 MTS | H12: UN | I12: 1 | J12: 1 | K12: 185600 | L12: =K12*J12 -> 185600
B13: Material | C13: PIE DE AMIGO DE 50mm x 50 mm CAL 1.5 mm PINTADO POLIESTER VERDE SIN BRAZO CON PLATINA INFERIOR L=2.00 MTS | H13: UN | I13: 1 | J13: 1 | K13: 147000 | L13: =K13*J13 -> 147000
B14: Material | C14: TAPON PLASTICO PARA POSTE DE 60X60 mm TIPO REYCO VERDE | H14: UN | I14: 1 | J14: 1 | K14: 3745 | L14: =K14*J14 -> 3745
B15: Material | C15: ABRAZADERAS TIPO BISAGRAS PARA POSTE DE 60 mm TIPO REYCO VERDE | H15: UN | I15: 1 | J15: 1 | K15: 10000 | L15: =K15*J15 -> 10000
B16: Material | C16: TORNILLOS EN ACERO INOXIDABLE DE 5/16" X 1-1/4" CON TUERCA | H16: UN | I16: 1 | J16: 1 | K16: 2900 | L16: =K16*J16 -> 2900
B17: Material | C17: CHAZOS EXPANSIVOS DE 1/2X2-1/2 | H17: UN | I17: 1 | J17: 1 | K17: 2800 | L17: =K17*J17 -> 2800
A18: 101010 | B18: Material | C18: SOLDADURA ELECTRICA DE 1/8 Ref. E-6013 | H18: KG | I18: 5,0000 | J18: 5,0000 | K18: 18970.27 | L18: =K18*J18 -> 94851.35
A19: 12548 | B19: Sub-análisis | C19: CUADRILLA CARPINTERIA METALICA TALL1:1 + PREST. | H19: JRN | I19: 0,4000 | J19: 0,4000 | K19: 264396.8 | L19: =K19*J19 -> 105758.72

Sheet APU 002- DADO CONCRETO
A1: 1 | B1: DADO CERRAMIENTO CONCRETO 2500 PSI 30x30x50 sin refuerzo + formaleta (Incluye excavación y retiro) | H1: UN | I1: VARIOS | K1: =SUM(L5:L13) -> 244847.87
A4: Fuente de precio - CIO | B4: Tipo | C4: Insumo | H4: Unidad | I4: Rendimiento (%) | K4: Valor unitario | L4: Valor con rendimiento
A5: 102487 | B5: Equipo | C5: HERRAMIENTA MENOR % | H5: % | I5: 1,0000 | J5: 1,0000 | K5: 11611.19 | L5: =K5*J5 -> 11611.19
A6: 000400 | B6: Equipo | C6: VIBRADOR A GASOLINA | H6: DD | I6: 0.1 | J6: 0.1 | K6: 31339.48 | L6: =K6*J6 -> 3133.948
A7: 000638 | B7: Material | C7: ANTISOL BLANCO (CURA) 20 KILOS | H7: KG | I7: 0,0800 | J7: 0,0800 | K7: 12157.85 | L7: =K7*J7 -> 972.628
A8: 000525 | B8: Material | C8: PUNTILLA 2" CON CABEZA | H8: LB | I8: 0,4568 | J8: 0,4568 | K8: 4745.61 | L8: =K8*J8 -> 2167.7946
A9: 000940 | B9: Material | C9: REPISA (8x4CM) L=3M ORDINARIO | H9: ML | I9: 1,5300 | J9: 1,5300 | K9: 5152.12 | L9: =K9*J9 -> 7882.7436
A10: 000941 | B10: Material | C10: TABLA BURRA (25x2,5CM) L=3M- ORDINARIO | H10: ML | I10: 1,0200 | J10: 1,0200 | K10: 10463.02 | L10: =K10*J10 -> 10672.28
A11: 11700 | B11: Material | C11: CONCRETO 1:2:2 AreLavRio+Grav. | H11: M3 | I11: 0.28 | J11: 0.28 | K11: 639155.09 | L11: =K11*J11 -> 178963.43
A12: 11938 | B12: Sub-análisis | C12: CUADRILLA ALBAÑILERIA GENERAL 1:1 +PREST.** | H12: JRN | I12: 0.08 | J12: 0.08 | K12: 242588.67 | L12: =K12*J12 -> 19407.094
A13: 102412 | B13: Transporte | C13: VOLQUETA (VIAJE 6M3 Max.3O KM) | H13: VJ | I13: 0,0220 | J13: 0,0220 | K13: 456216.46 | L13: =K13*J13 -> 10036.762
