Workbook

Sheet COTIZACIONES
A1: ITEM | B1: DESCRIPCIÓN DEL BIEN Y/O SERVICIO | C1: UNIDAD MEDIDA | D1: CANT | E1: COTIZACION 1 COMINCOL SAS | G1: COTIZACION 2 COMERCIALIZADORA ORIUKA SAS | I1: COTIZACION 3 MARLENE GONZALEZ LEN
E2: VALOR UNITARIO | F2: VALOR TOTAL | G2: VALOR UNITARIO | H2: VALOR TOTAL | I2: VALOR UNITARIO | J2: VALOR TOTAL
B3: A-02-02-01-002-007 ARTÍCULOS TEXTILES (EXCEPTO PRENDAS DE VESTIR)
A4: 1 | B4: PARCHE DE IDENTIFICACION PERSONAL (SELVA) ESPECIFICACIONES TÉCNICAS Y DIMENSIONES DE ACUERDO A BOLETIN 004 ESTANDARIZACIÓN DE LOS PARCHES DE COMBATE PARA LOS UNIFORMES N.° 4 (TIPO SELVA) Y N4A TIPO ARIDO DEL PATRÓN DE CAMUFLAJE TERRESTRE “CAMALEÓN”. | C4: UNIDAD | D4: 2820 | E4: 2142 | F4: =+E4*D4 -> 6040440 | G4: 2377.62 | H4: =+G4*D4 -> 6704888.4 | I4: 1785 | J4: =+I4*D4 -> 5033700
A5: 2 | B5: PARCHE DE EJERCITO (SELVA) ESPECIFICACIONES TÉCNICAS Y DIMENSIONES DE ACUERDO A BOLETIN 004 ESTANDARIZACIÓN DE LOS PARCHES DE COMBATE PARA LOS UNIFORMES N.° 4 (TIPO SELVA) Y N4A TIPO ARIDO DEL PATRÓN DE CAMUFLAJE TERRESTRE “CAMALEÓN”. | C5: UNIDAD | D5: 1410 | E5: 2142 | F5: =+E5*D5 -> 3020220 | G5: 2377.62 | H5: =+G5*D5 -> 3352444.2 | I5: 1785 | J5: =+I5*D5 -> 2516850
A6: 3 | B6: PARCHES DE LA UNIDAD SUPERIOR (02 UND) Y UNIDAD SUBALTERNA (02 UNID) SELVA Numeral ESPECIFICACIONES TECNICAS Y DIMENSIONES DE ACUERDO A BOLETIN 004 ESTANDARIZACION DE LOS PARCHES DE COMBATE PARA LOS UNIFORMES N 4 TIPO SELVA Y N 4A TIPO ARIDO DEL PATRON DE CAMUFLAJE TERRESTRE CAMALEON. | C6: UNIDAD | D6: 2820 | E6: 5355 | F6: =+E6*D6 -> 15101100 | G6: 5890.5 | H6: =+G6*D6 -> 16611210 | I6: 5117 | J6: =+I6*D6 -> 14429940
A7: 4 | B7: BANDERA DE IDENTIFICACION (SELVA) ESPECIFICACIONES TÉCNICAS Y DIMENSIONES DE ACUERDO A BOLETIN 001 FEBRERO 2025 (DISDI) ESTANDARIZACIÓN DE LA BANDERA DE IDENTIFICACION EMPLEADA EN EL UNIFORME N.° 4 (TIPO SELVA) Y N.° 4A (TIPO ÁRIDO) DEL PATRÓN DE CAMUFLAJE TERRESTRE “CAMALEÓN”. | C7: UNIDAD | D7: 1410 | E7: 2142 | F7: =+E7*D7 -> 3020220 | G7: 2399.04 | H7: =+G7*D7 -> 3382646.4 | I7: 0 | J7: =+I7*D7 -> 0 | M7: =+AVERAGE(E7,G7) -> 2270.52
A8: 5 | B8: PARCHE DE IDENTIFICACION GRUPO SANGUINEO, (SELVA) ESPECIFICACIONES TÉCNICAS Y DIMENSIONES DE ACUERDO A BOLETIN 004 ESTANDARIZACIÓN DE LOS PARCHES DE COMBATE PARA LOS UNIFORMES N.° 4 (TIPO SELVA) Y N.° 4A (TIPO ÁRIDO) DEL PATRÓN DE CAMUFLAJE TERRESTRE “CAMALEÓN”. | C8: UNIDAD | D8: 1410 | E8: 2142 | F8: =+E8*D8 -> 3020220 | G8: 2334.78 | H8: =+G8*D8 -> 3292039.8 | I8: 1820.7 | J8: =+I8*D8 -> 2567187
A9: 6 | B9: INSIGNIA DE GRADO SOLDADOS (SELVA) ESPECIFICACIONES TÉCNICAS Y DIMENSIONES DE ACUERDO A BOLETIN 004 ESTANDARIZACIÓN DE LOS PARCHES DE COMBATE PARA LOS UNIFORMES N.° 4 (TIPO SELVA) Y N.° 4A (TIPO ÁRIDO) DEL PATRÓN DE CAMUFLAJE TERRESTRE “CAMALEÓN”. | C9: JUEGO | D9: 1410 | E9: 4641 | F9: =+E9*D9 -> 6543810 | G9: 5244.33 | H9: =+G9*D9 -> 7394505.3 | I9: 5355 | J9: =+I9*D9 -> 7550550
A10: 7 | B10: BRAZALETES TACTICOS x JUEGO DE 04 (COLOR NARANJA, VERDE, AZUL Y MORADO) ESPECIFICACIONES TÉCNICAS Y DIMENSIONES DE ACUERDO A NORMA TÉCNICA NTMD 0356-A2. | C10: JUEGO | D10: 705 | E10: 5355 | F10: =+E10*D10 -> 3775275 | G10: 5944.05 | H10: =+G10*D10 -> 4190555.2 | I10: 4165 | J10: =+I10*D10 -> 2936325
A11: 8 | B11: OJOS DE GATO. ESPECIFICACIONES TÉCNICAS Y DIMENSIONES DE ACUERDO A NORMA TÉCNICA NTMD 0356 - BOLETIN 004 ESTANDARIZACIÓN DE LOS PARCHES DE COMBATE PARA LOS UNIFORMES N.° 4 (TIPO SELVA) Y N.° 4A (TIPO ÁRIDO) DEL PATRÓN DE CAMUFLAJE TERRESTRE “CAMALEÓN”. | C11: UNIDAD | D11: 1410 | E11: 2499 | F11: =+E11*D11 -> 3523590 | G11: 2748.9 | H11: =+G11*D11 -> 3875949 | I11: 1963.5 | J11: =+I11*D11 -> 2768535
A12: 9 | B12: JUEGO DE LIGAS PARA BOTAS MANGA PANTALON CAMUFLADO (SELVA) ESPECIFICACIONES TÉCNICAS Y DIMENSIONES DE ACUERDO A NORMA TÉCNICA NTMD 0356-A2 | C12: PAR | D12: 705 | E12: 2975 | F12: =+E12*D12 -> 2097375 | G12: 3302.25 | H12: =+G12*D12 -> 2328086.2 | I12: 2558.5 | J12: =+I12*D12 -> 1803742.5
A13: 10 | B13: PAÑUELOS ESPECIFICACIONES TÉCNICAS Y DIMENSIONES DE ACUERDO A NORMA TÉCNICA NTMD 0356-A2 | C13: UNIDAD | D13: 1410 | E13: 2737 | F13: =+E13*D13 -> 3859170 | G13: 3065.44 | H13: =+G13*D13 -> 4322270.4 | I13: 2499 | J13: =+I13*D13 -> 3523590
A14: 11 | B14: BOLSO UTILES DE ASEO ESPECIFICACIONES TÉCNICAS Y DIMENSIONES DE ACUERDO A NORMA TÉCNICA NTMD 0356-A2 | C14: UNIDAD | D14: 705 | E14: 5950 | F14: =+E14*D14 -> 4194750 | G14: 6783 | H14: =+G14*D14 -> 4782015 | I14: 4641 | J14: =+I14*D14 -> 3271905
A15: 12 | B15: MALLA PARA CABELLO NEGRA MOÑA SEGÚN NORMA TECNICA No. CEDE 4-DIETE-ET-04937/INT-0 | C15: UNIDAD | D15: 134 | E15: 3808 | F15: =+E15*D15 -> 510272 | G15: 4264.96 | H15: =+G15*D15 -> 571504.64 | I15: 2046.8 | J15: =+I15*D15 -> 274271.2
B16: A-02-02-01-002-08 DOTACIÓN (PRENDAS DE VESTIR Y CALZADO) | F16: =+E16*D16 -> 0
A17: 13 | B17: CALCETIN COLOR BLANCO PARA DEPORTE ESPECIFICACIONES TÉCNICAS Y DIMENSIONES DE ACUERDO A NORMA TÉCNICA NTMD 0356-A2 | C17: PAR | D17: 705 | E17: 4998 | F17: =+E17*D17 -> 3523590 | G17: 5647.74 | H17: =+G17*D17 -> 3981656.7 | I17: 4403 | J17: =+I17*D17 -> 3104115
A18: 14 | B18: UNIFORME DE DEPORTES COMPLETO - PANTALONETA Y CAMISETA ESPECIFICACIONES TÉCNICAS Y DIMENSIONES DE ACUERDO A NORMA TÉCNICA NTMD 0356-A2 | C18: UNIDAD | D18: 705 | E18: 51170 | F18: =+E18*D18 -> 36074850 | G18: 55775.3 | H18: =+G18*D18 -> 39321586 | I18: 41055 | J18: =+I18*D18 -> 28943775
A19: 15 | B19: CHANCLAS NEGRAS ESPECIFICACIONES TÉCNICAS Y DIMENSIONES DE ACUERDO A NORMA TÉCNICA NTMD 0356-A2 | C19: PAR | D19: 705 | E19: 10115 | F19: =+E19*D19 -> 7131075 | G19: 11632.25 | H19: =+G19*D19 -> 8200736.2 | I19: 7140 | J19: =+I19*D19 -> 5033700
A20: 16 | B20: JUEGO DE ROPA INTERIOR (TOP Y CACHETERO) SEGÚN NORMA TECNICA No. JEMPP-CEDE4-DIETE-ET-05573/INT-0 | C20: JUEGO | D20: 134 | E20: 50575 | F20: =+E20*D20 -> 6777050 | G20: 54621 | H20: =+G20*D20 -> 7319214 | I20: 32368 | J20: =+I20*D20 -> 4337312
A21: 17 | B21: BICICLETERO NEGRO CORTO SEGÚN NORMA TECNICA No. JEMPP-CEDE4-DIETE-ET-05595/INT-0 | C21: UNIDAD | D21: 134 | E21: 27370 | F21: =+E21*D21 -> 3667580 | G21: 29559.6 | H21: =+G21*D21 -> 3960986.4 | I21: 19635 | J21: =+I21*D21 -> 2631090
B22: A-02-02-01-003-002 PASTA O PULPA, PAPEL Y PRODUCTOS DE PAPEL; IMPRESOS Y ARTÍCULOS RELACIONADOS | F22: =+E22*D22 -> 0
A23: 18 | B23: CUADERNO DE 100 HOJAS COCIDO PASTA BLANDA ESPECIFICACIONES TÉCNICAS Y DIMENSIONES DE ACUERDO A NORMA TÉCNICA NTMD 0356-A2 | C23: UNIDAD | D23: 705 | E23: 3000 | F23: =+E23*D23 -> 2115000 | G23: 3300 | H23: =+G23*D23 -> 2326500 | I23: 2570.4 | J23: =+I23*D23 -> 1812132
A24: 19 | B24: PAPEL HIGIENICO TRIPLE HOJA ESPECIFICACIONES TÉCNICAS Y DIMENSIONES DE ACUERDO A NORMA TÉCNICA NTMD 0356-A2 | C24: UNIDAD | D24: 1410 | E24: 3808 | F24: =+E24*D24 -> 5369280 | G24: 4150.72 | H24: =+G24*D24 -> 5852515.2 | I24: 2701.3 | J24: =+I24*D24 -> 3808833
A25: 20 | B25: TOALLAS SANITARIAS SEGÚN NORMA TECNICA No. NTC 3604-2006 PAQUETE X 24 UNIDADES | C25: PAQUETE | D25: 134 | E25: 19000 | F25: =+E25*D25 -> 2546000 | G25: 20710 | H25: =+G25*D25 -> 2775140 | I25: 7556.5 | J25: =+I25*D25 -> 1012571
B26: A-02-02-01-003-005 OTROS PRODUCTOS QUÍMICOS; FIBRAS ARTIFICIALES (O FIBRAS INDUSTRIALES HECHAS POR EL HOMBRE) | F26: =+E26*D26 -> 0
A27: 21 | B27: CAJA DE BETUN NEGRO ESPECIFICACIONES TÉCNICAS Y DIMENSIONES DE ACUERDO A NORMA TÉCNICA NTMD 0356-A2 | C27: UNIDAD | D27: 705 | E27: 8330 | F27: =+E27*D27 -> 5872650 | G27: 9079.7 | H27: =+G27*D27 -> 6401188.5 | I27: 6818.7 | J27: =+I27*D27 -> 4807183.5
A28: 22 | B28: TALCOS ESPECIFICACIONES TÉCNICAS Y DIMENSIONES DE ACUERDO A NORMA TÉCNICA NTMD 0356-A2 | C28: UNIDAD | D28: 705 | E28: 7735 | F28: =+E28*D28 -> 5453175 | G28: 8585.85 | H28: =+G28*D28 -> 6053024.2 | I28: 6818.7 | J28: =+I28*D28 -> 4807183.5
A29: 23 | B29: CREMA DENTAL ESPECIFICACIONES TÉCNICAS Y DIMENSIONES DE ACUERDO A NORMA TÉCNICA NTDM 0356-A2 | C29: UNIDAD | D29: 1410 | E29: 6545 | F29: =+E29*D29 -> 9228450 | G29: 7199.5 | H29: =+G29*D29 -> 10151295 | I29: 5212.2 | J29: =+I29*D29 -> 7349202
A30: 24 | B30: DESODORANTE ANTITRASPIRANTE PARA MUJER- ESPECIFICACIONES TÉCNICAS Y DIMENSIONES DE ACUERDO A NORMA TÉCNICA NTMD 0356-A2 | C30: UNIDAD | D30: 134 | E30: 16660 | F30: =+E30*D30 -> 2232440 | G30: 18492.6 | H30: =+G30*D30 -> 2478008.4 | I30: 8960.7 | J30: =+I30*D30 -> 1200733.8
A31: 25 | B31: DESODORANTE MASCULINO ESPECIFICACIONES TÉCNICAS Y DIMENSIONES DE ACUERDO A NORMA TÉCNICA NTMD 0356-A2 | C31: UNIDAD | D31: 571 | E31: 14280 | F31: =+E31*D31 -> 8153880 | G31: 16422 | H31: =+G31*D31 -> 9376962 | I31: 8960.7 | J31: =+I31*D31 -> 5116559.7
A32: 26 | B32: JABON DE BAÑO ANTIBACTERIAL ESPECIFICACIONES TÉCNICAS Y DIMENSIONES DE ACUERDO A NORMA TÉCNICA NTDM 0356-A2 | C32: UNIDAD | D32: 1410 | E32: 3570 | F32: =+E32*D32 -> 5033700 | G32: 4034.1 | H32: =+G32*D32 -> 5688081 | I32: 3510.5 | J32: =+I32*D32 -> 4949805
A33: 27 | B33: JABON EN PASTA PARA LAVAR ROPA ESPECIFICACIONES TÉCNICAS Y DIMENSIONES DE ACUERDO A NORMA TÉCNICA NTMD 0356-A2 | C33: UNIDAD | D33: 705 | E33: 4641 | F33: =+E33*D33 -> 3271905 | G33: 5151.51 | H33: =+G33*D33 -> 3631814.6 | I33: 2832.2 | J33: =+I33*D33 -> 1996701
B34: A-02-02-01-003-006 PRODUCTOS DE CAUCHO Y PLÁSTICO | F34: =+E34*D34 -> 0
A35: 28 | B35: PROTECTORES AUDITIVOS ESPECIFICACIONES TÉCNICAS Y DIMENSIONES DE ACUERDO A NORMA TÉCNICA NTMD 0356-A2 | C35: UNIDAD | D35: 705 | E35: 3570 | F35: =+E35*D35 -> 2516850 | G35: 3927 | H35: =+G35*D35 -> 2768535 | I35: 2213.4 | J35: =+I35*D35 -> 1560447
A36: 29 | B36: JABONERA PLASTICA VERDE ESPECIFICACIONES TÉCNICAS Y DIMENSIONES DE ACUERDO A NORMA TÉCNICA NTMD 0356-A2 | C36: UNIDAD | D36: 705 | E36: 2737 | F36: =+E36*D36 -> 1929585 | G36: 2983.33 | H36: =+G36*D36 -> 2103247.6 | I36: 1487.5 | J36: =+I36*D36 -> 1048687.5
A37: 30 | B37: PORTA CEPILLO DE DIENTES ESPECIFICACIONES TÉCNICAS Y DIMENSIONES DE ACUERDO A NORMA TÉCNICA NTMD 0356-A2 | C37: UNIDAD | D37: 705 | E37: 2618 | F37: =+E37*D37 -> 1845690 | G37: 3010.7 | H37: =+G37*D37 -> 2122543.5 | I37: 1344.7 | J37: =+I37*D37 -> 948013.5
B38: A-02-02-01-003-008 OTROS BIENES TRANSPORTABLES N.C.P. | F38: =+E38*D38 -> 0
A39: 31 | B39: CEPILLO DENTAL CON LIMPIADOR DE LENGUA ESPECIFICACIONES TÉCNICAS Y DIMENSIONES DE ACUERDO A NORMA TÉCNICA NTMD 0356-A2 | C39: UNIDAD | D39: 705 | E39: 3451 | F39: =+E39*D39 -> 2432955 | G39: 3968.65 | H39: =+G39*D39 -> 2797898.2 | I39: 2082.5 | J39: =+I39*D39 -> 1468162.5
A40: 32 | B40: PEINILLA NEGRA ESPECIFICACIONES TÉCNICAS Y DIMENSIONES DE ACUERDO A NORMA TÉCNICA NTMD 0356-A2 | C40: UNIDAD | D40: 705 | E40: 1428 | F40: =+E40*D40 -> 1006740 | G40: 1613.64 | H40: =+G40*D40 -> 1137616.2 | I40: 714 | J40: =+I40*D40 -> 503370
A41: 33 | B41: JUEGO CEPILLOS PARA BRILLAR CALZADO X02 (01 UNO GRANDE Y 01 UNO PEQUEÑO) ESPECIFICACIONES TÉCNICAS Y DIMENSIONES DE ACUERDO A NORMA TÉCNICA NTMD 0356-A2 | C41: JUEGO | D41: 705 | E41: 9520 | F41: =+E41*D41 -> 6711600 | G41: 10376.8 | H41: =+G41*D41 -> 7315644 | I41: 5593 | J41: =+I41*D41 -> 3943065
A42: 34 | B42: LAPICERO SIN MECANISMO RETRACTIL ESPECIFICACIONES TÉCNICAS Y DIMENSIONES DE ACUERDO A NORMA TÉCNICA NTMD 0356-A2 | C42: UNIDAD | D42: 705 | E42: 1428 | F42: =+E42*D42 -> 1006740 | G42: 1627.92 | H42: =+G42*D42 -> 1147683.6 | I42: 928.2 | J42: =+I42*D42 -> 654381
B43: A-02-02-01-004-002 PRODUCTOS METÁLICOS ELABORADOS (EXCEPTO MAQUINARIA Y EQUIPO) | F43: =+E43*D43 -> 0
A44: 35 | B44: CANDADO ESPECIFICACIONES TÉCNICAS Y DIMENSIONES DE ACUERDO A NORMA TÉCNICA NTMD 0356-A2 | C44: UNIDAD | D44: 705 | E44: 5355 | F44: =+E44*D44 -> 3775275 | G44: 6158.25 | H44: =+G44*D44 -> 4341566.2 | I44: 4379.2 | J44: =+I44*D44 -> 3087336
A45: 36 | B45: MAQUINA DE AFEITAR TRIPLE HOJA ESPECIFICACIONES TÉCNICAS Y DIMENSIONES DE ACUERDO A NORMA TÉCNICA NTMD 0356-A2 | C45: JUEGO | D45: 2115 | E45: 4522 | F45: =+E45*D45 -> 9564030 | G45: 5064.64 | H45: =+G45*D45 -> 10711714 | I45: 2368.1 | J45: =+I45*D45 -> 5008531.5
A46: 37 | B46: CORTAUÑAS ESPECIFICACIONES TÉCNICAS Y DIMENSIONES DE ACUERDO A NORMA TÉCNICA NTMD 0356 -A2 | C46: UNIDAD | D46: 705 | E46: 4641 | F46: =+E46*D46 -> 3271905 | G46: 5197.92 | H46: =+G46*D46 -> 3664533.6 | I46: 8925 | J46: =+I46*D46 -> 6292125
A47: 38 | B47: JUEGO DE (02) PLACAS DE IDENTIFICACION, (01) PLACA PARA CUELLO Y (01) PLACA PARA BOTA, ESPECIFICACIONES TÉCNICAS Y DIMENSIONES DE ACUERDO A NORMA TÉCNICA NTMD 0356-A2 | C47: JUEGO | D47: 705 | E47: 14280 | F47: =+E47*D47 -> 10067400 | G47: 15850.8 | H47: =+G47*D47 -> 11174814 | I47: 3082.1 | J47: =+I47*D47 -> 2172880.5

Sheet ANALISIS DE COTIZACION
A1: ITEM | B1: DESCRIPCIÓN DEL BIEN Y/O SERVICIO | C1: UNIDAD MEDIDA | D1: CANTIDAD | E1: MENOR VALOR COTIZADO | F1: PRECIO PROMEDIO COTIZADO | G1: MEDIANA | H1: MEDIA GEOMETRICA | I1: DESVIACION ESTANDAR | J1: % DISPERCION | K1: METRICA UTILIZADA
B2: A-02-02-01-002-007 ARTÍCULOS TEXTILES (EXCEPTO PRENDAS DE VESTIR)
A3: 1 | B3: PARCHE DE IDENTIFICACION PERSONAL (SELVA) ESPECIFICACIONES TÉCNICAS Y DIMENSIONES DE ACUERDO A BOLETIN 004 ESTANDARIZACIÓN DE LOS PARCHES DE COMBATE PARA LOS UNIFORMES N.° 4 (TIPO SELVA) Y N4A TIPO ARIDO DEL PATRÓN DE CAMUFLAJE TERRESTRE “CAMALEÓN”. | C3: UNIDAD | D3: 1 | E3: =+MIN(COTIZACIONES!E4,COTIZACIONES!G4,COTIZACIONES!I4) -> 1785 | F3: =+AVERAGE(COTIZACIONES!E4,COTIZACIONES!G4,COTIZACIONES!I4) -> 2101.54 | G3: =+MEDIAN(COTIZACIONES!E4,COTIZACIONES!G4,COTIZACIONES!I4) -> 2142 | H3: =+GEOMEAN(COTIZACIONES!E4,COTIZACIONES!G4,COTIZACIONES!I4) -> 2087.0525 | I3: =+STDEVA(COTIZACIONES!E4,COTIZACIONES!G4,COTIZACIONES!I4) -> 298.37455 | J3: =+I3/F3 -> 0.141979 | K3: MENORVALOR COTIZADO
A4: 2 | B4: PARCHE DE EJERCITO (SELVA) ESPECIFICACIONES TÉCNICAS Y DIMENSIONES DE ACUERDO A BOLETIN 004 ESTANDARIZACIÓN DE LOS PARCHES DE COMBATE PARA LOS UNIFORMES N.° 4 (TIPO SELVA) Y N4A TIPO ARIDO DEL PATRÓN DE CAMUFLAJE TERRESTRE “CAMALEÓN”. | C4: UNIDAD | D4: 1 | E4: =+MIN(COTIZACIONES!E5,COTIZACIONES!G5,COTIZACIONES!I5) -> 1785 | F4: =+AVERAGE(COTIZACIONES!E5,COTIZACIONES!G5,COTIZACIONES!I5) -> 2101.54 | G4: =+MEDIAN(COTIZACIONES!E5,COTIZACIONES!G5,COTIZACIONES!I5) -> 2142 | H4: =+GEOMEAN(COTIZACIONES!E5,COTIZACIONES!G5,COTIZACIONES!I5) -> 2087.0525 | I4: =+STDEVA(COTIZACIONES!E5,COTIZACIONES!G5,COTIZACIONES!I5) -> 298.37455 | J4: =+I4/F4 -> 0.141979 | K4: PRECIO PROMEDIO COTIZADO
A5: 3 | B5: PARCHES DE LA UNIDAD SUPERIOR (02 UND) Y UNIDAD SUBALTERNA (02 UNID) SELVA Numeral ESPECIFICACIONES TECNICAS Y DIMENSIONES DE ACUERDO A BOLETIN 004 ESTANDARIZACION DE LOS PARCHES DE COMBATE PARA LOS UNIFORMES N 4 TIPO SELVA Y N 4A TIPO ARIDO DEL PATRON DE CAMUFLAJE TERRESTRE CAMALEON. | C5: UNIDAD | D5: 1 | E5: =+MIN(COTIZACIONES!E6,COTIZACIONES!G6,COTIZACIONES!I6) -> 5117 | F5: =+AVERAGE(COTIZACIONES!E6,COTIZACIONES!G6,COTIZACIONES!I6) -> 5454.1667 | G5: =+MEDIAN(COTIZACIONES!E6,COTIZACIONES!G6,COTIZACIONES!I6) -> 5355 | H5: =+GEOMEAN(COTIZACIONES!E6,COTIZACIONES!G6,COTIZACIONES!I6) -> 5444.7217 | I5: =+STDEVA(COTIZACIONES!E6,COTIZACIONES!G6,COTIZACIONES!I6) -> 396.17052 | J5: =+I5/F5 -> 0.072636307 | K5: MENORVALOR COTIZADO
A6: 4 | B6: BANDERA DE IDENTIFICACION (SELVA) ESPECIFICACIONES TÉCNICAS Y DIMENSIONES DE ACUERDO A BOLETIN 001 FEBRERO 2025 (DISDI) ESTANDARIZACIÓN DE LA BANDERA DE IDENTIFICACION EMPLEADA EN EL UNIFORME N.° 4 (TIPO SELVA) Y N.° 4A (TIPO ÁRIDO) DEL PATRÓN DE CAMUFLAJE TERRESTRE “CAMALEÓN”. | C6: UNIDAD | D6: 1 | E6: =+MIN(COTIZACIONES!E7,COTIZACIONES!G7) -> 2142 | F6: =+AVERAGE(COTIZACIONES!E7,COTIZACIONES!G7) -> 2270.52 | G6: =+MEDIAN(COTIZACIONES!E7,COTIZACIONES!G7,COTIZACIONES!I7) -> 2142 | H6: =+GEOMEAN(COTIZACIONES!E7,COTIZACIONES!G7) -> 2266.8797 | I6: =+STDEVA(COTIZACIONES!E7,COTIZACIONES!G7,COTIZACIONES!I7) -> 1317.1704 | J6: =+I6/F6 -> 0.58011837 | K6: PRECIO PROMEDIO COTIZADO
A7: 5 | B7: PARCHE DE IDENTIFICACION GRUPO SANGUINEO, (SELVA) ESPECIFICACIONES TÉCNICAS Y DIMENSIONES DE ACUERDO A BOLETIN 004 ESTANDARIZACIÓN DE LOS PARCHES DE COMBATE PARA LOS UNIFORMES N.° 4 (TIPO SELVA) Y N.° 4A (TIPO ÁRIDO) DEL PATRÓN DE CAMUFLAJE TERRESTRE “CAMALEÓN”. | C7: UNIDAD | D7: 1 | E7: =+MIN(COTIZACIONES!E8,COTIZACIONES!G8,COTIZACIONES!I8) -> 1820.7 | F7: =+AVERAGE(COTIZACIONES!E8,COTIZACIONES!G8,COTIZACIONES!I8) -> 2099.16 | G7: =+MEDIAN(COTIZACIONES!E8,COTIZACIONES!G8,COTIZACIONES!I8) -> 2142 | H7: =+GEOMEAN(COTIZACIONES!E8,COTIZACIONES!G8,COTIZACIONES!I8) -> 2088.18 | I7: =+STDEVA(COTIZACIONES!E8,COTIZACIONES!G8,COTIZACIONES!I8) -> 259.7037 | J7: =+I7/F7 -> 0.12371791 | K7: PRECIO PROMEDIO COTIZADO
A8: 6 | B8: INSIGNIA DE GRADO SOLDADOS (SELVA) ESPECIFICACIONES TÉCNICAS Y DIMENSIONES DE ACUERDO A BOLETIN 004 ESTANDARIZACIÓN DE LOS PARCHES DE COMBATE PARA LOS UNIFORMES N.° 4 (TIPO SELVA) Y N.° 4A (TIPO ÁRIDO) DEL PATRÓN DE CAMUFLAJE TERRESTRE “CAMALEÓN”. | C8: JUEGO | D8: 1 | E8: =+MIN(COTIZACIONES!E9,COTIZACIONES!G9,COTIZACIONES!I9) -> 4641 | F8: =+AVERAGE(COTIZACIONES!E9,COTIZACIONES!G9,COTIZACIONES!I9) -> 5080.11 | G8: =+MEDIAN(COTIZACIONES!E9,COTIZACIONES!G9,COTIZACIONES!I9) -> 5244.33 | H8: =+GEOMEAN(COTIZACIONES!E9,COTIZACIONES!G9,COTIZACIONES!I9) -> 5070.1447 | I8: =+STDEVA(COTIZACIONES!E9,COTIZACIONES!G9,COTIZACIONES!I9) -> 384.28525 | J8: =+I8/F8 -> 0.075645066 | K8: PRECIO PROMEDIO COTIZADO
A9: 7 | B9: BRAZALETES TACTICOS x JUEGO DE 04 (COLOR NARANJA, VERDE, AZUL Y MORADO) ESPECIFICACIONES TÉCNICAS Y DIMENSIONES DE ACUERDO A NORMA TÉCNICA NTMD 0356-A2. | C9: JUEGO | D9: 1 | E9: =+MIN(COTIZACIONES!E10,COTIZACIONES!G10,COTIZACIONES!I10) -> 4165 | F9: =+AVERAGE(COTIZACIONES!E10,COTIZACIONES!G10,COTIZACIONES!I10) -> 5154.6833 | G9: =+MEDIAN(COTIZACIONES!E10,COTIZACIONES!G10,COTIZACIONES!I10) -> 5355 | H9: =+GEOMEAN(COTIZACIONES!E10,COTIZACIONES!G10,COTIZACIONES!I10) -> 5099.0074 | I9: =+STDEVA(COTIZACIONES!E10,COTIZACIONES!G10,COTIZACIONES!I10) -> 906.28351 | J9: =+I9/F9 -> 0.17581749 | K9: MENORVALOR COTIZADO
A10: 8 | B10: OJOS DE GATO. ESPECIFICACIONES TÉCNICAS Y DIMENSIONES DE ACUERDO A NORMA TÉCNICA NTMD 0356 - BOLETIN 004 ESTANDARIZACIÓN DE LOS PARCHES DE COMBATE PARA LOS UNIFORMES N.° 4 (TIPO SELVA) Y N.° 4A (TIPO ÁRIDO) DEL PATRÓN DE CAMUFLAJE TERRESTRE “CAMALEÓN”. | C10: UNIDAD | D10: 1 | E10: =+MIN(COTIZACIONES!E11,COTIZACIONES!G11,COTIZACIONES!I11) -> 1963.5 | F10: =+AVERAGE(COTIZACIONES!E11,COTIZACIONES!G11,COTIZACIONES!I11) -> 2403.8 | G10: =+MEDIAN(COTIZACIONES!E11,COTIZACIONES!G11,COTIZACIONES!I11) -> 2499 | H10: =+GEOMEAN(COTIZACIONES!E11,COTIZACIONES!G11,COTIZACIONES!I11) -> 2380.4115 | I10: =+STDEVA(COTIZACIONES!E11,COTIZACIONES!G11,COTIZACIONES!I11) -> 401.26122 | J10: =+I10/F10 -> 0.16692787 | K10: MENORVALOR COTIZADO
A11: 9 | B11: JUEGO DE LIGAS PARA BOTAS MANGA PANTALON CAMUFLADO (SELVA) ESPECIFICACIONES TÉCNICAS Y DIMENSIONES DE ACUERDO A NORMA TÉCNICA NTMD 0356-A2 | C11: PAR | D11: 1 | E11: =+MIN(COTIZACIONES!E12,COTIZACIONES!G12,COTIZACIONES!I12) -> 2558.5 | F11: =+AVERAGE(COTIZACIONES!E12,COTIZACIONES!G12,COTIZACIONES!I12) -> 2945.25 | G11: =+MEDIAN(COTIZACIONES!E12,COTIZACIONES!G12,COTIZACIONES!I12) -> 2975 | H11: =+GEOMEAN(COTIZACIONES!E12,COTIZACIONES!G12,COTIZACIONES!I12) -> 2929.2793 | I11: =+STDEVA(COTIZACIONES!E12,COTIZACIONES!G12,COTIZACIONES!I12) -> 372.76643 | J11: =+I11/F11 -> 0.12656529 | K11: MENORVALOR COTIZADO
A12: 10 | B12: PAÑUELOS ESPECIFICACIONES TÉCNICAS Y DIMENSIONES DE ACUERDO A NORMA TÉCNICA NTMD 0356-A2 | C12: UNIDAD | D12: 1 | E12: =+MIN(COTIZACIONES!E13,COTIZACIONES!G13,COTIZACIONES!I13) -> 2499 | F12: =+AVERAGE(COTIZACIONES!E13,COTIZACIONES!G13,COTIZACIONES!I13) -> 2767.1467 | G12: =+MEDIAN(COTIZACIONES!E13,COTIZACIONES!G13,COTIZACIONES!I13) -> 2737 | H12: =+GEOMEAN(COTIZACIONES!E13,COTIZACIONES!G13,COTIZACIONES!I13) -> 2757.4731 | I12: =+STDEVA(COTIZACIONES!E13,COTIZACIONES!G13,COTIZACIONES!I13) -> 284.42079 | J12: =+I12/F12 -> 0.10278486 | K12: MENORVALOR COTIZADO
A13: 11 | B13: BOLSO UTILES DE ASEO ESPECIFICACIONES TÉCNICAS Y DIMENSIONES DE ACUERDO A NORMA TÉCNICA NTMD 0356-A2 | C13: UNIDAD | D13: 1 | E13: =+MIN(COTIZACIONES!E14,COTIZACIONES!G14,COTIZACIONES!I14) -> 4641 | F13: =+AVERAGE(COTIZACIONES!E14,COTIZACIONES!G14,COTIZACIONES!I14) -> 5791.3333 | G13: =+MEDIAN(COTIZACIONES!E14,COTIZACIONES!G14,COTIZACIONES!I14) -> 5950 | H13: =+GEOMEAN(COTIZACIONES!E14,COTIZACIONES!G14,COTIZACIONES!I14) -> 5721.5907 | I13: =+STDEVA(COTIZACIONES!E14,COTIZACIONES!G14,COTIZACIONES!I14) -> 1079.7788 | J13: =+I13/F13 -> 0.18644736 | K13: PRECIO PROMEDIO COTIZADO
A14: 12 | B14: MALLA PARA CABELLO NEGRA MOÑA SEGÚN NORMA TECNICA No. CEDE 4-DIETE-ET-04937/INT-0 | C14: UNIDAD | D14: 1 | E14: =+MIN(COTIZACIONES!E15,COTIZACIONES!G15,COTIZACIONES!I15) -> 2046.8 | F14: =+AVERAGE(COTIZACIONES!E15,COTIZACIONES!G15,COTIZACIONES!I15) -> 3373.2533 | G14: =+MEDIAN(COTIZACIONES!E15,COTIZACIONES!G15,COTIZACIONES!I15) -> 3808 | H14: =+GEOMEAN(COTIZACIONES!E15,COTIZACIONES!G15,COTIZACIONES!I15) -> 3215.3563 | I14: =+STDEVA(COTIZACIONES!E15,COTIZACIONES!G15,COTIZACIONES!I15) -> 1171.2438 | J14: =+I14/F14 -> 0.34721488 | K14: PRECIO PROMEDIO COTIZADO
B15: A-02-02-01-002-08 DOTACIÓN (PRENDAS DE VESTIR Y CALZADO)
A16: 13 | B16: CALCETIN COLOR BLANCO PARA DEPORTE ESPECIFICACIONES TÉCNICAS Y DIMENSIONES DE ACUERDO A NORMA TÉCNICA NTMD 0356-A2 | C16: PAR | D16: 1 | E16: =+MIN(COTIZACIONES!E17,COTIZACIONES!G17,COTIZACIONES!I17) -> 4403 | F16: =+AVERAGE(COTIZACIONES!E17,COTIZACIONES!G17,COTIZACIONES!I17) -> 5016.2467 | G16: =+MEDIAN(COTIZACIONES!E17,COTIZACIONES!G17,COTIZACIONES!I17) -> 4998 | H16: =+GEOMEAN(COTIZACIONES!E17,COTIZACIONES!G17,COTIZACIONES!I17) -> 4990.4519 | I16: =+STDEVA(COTIZACIONES!E17,COTIZACIONES!G17,COTIZACIONES!I17) -> 622.57058 | J16: =+I16/F16 -> 0.12411084 | K16: PRECIO PROMEDIO COTIZADO
A17: 14 | B17: UNIFORME DE DEPORTES COMPLETO - PANTALONETA Y CAMISETA ESPECIFICACIONES TÉCNICAS Y DIMENSIONES DE ACUERDO A NORMA TÉCNICA NTMD 0356-A2 | C17: UNIDAD | D17: 1 | E17: =+MIN(COTIZACIONES!E18,COTIZACIONES!G18,COTIZACIONES!I18) -> 41055 | F17: =+AVERAGE(COTIZACIONES!E18,COTIZACIONES!G18,COTIZACIONES!I18) -> 49333.433 | G17: =+MEDIAN(COTIZACIONES!E18,COTIZACIONES!G18,COTIZACIONES!I18) -> 51170 | H17: =+GEOMEAN(COTIZACIONES!E18,COTIZACIONES!G18,COTIZACIONES!I18) -> 48933.671 | I17: =+STDEVA(COTIZACIONES!E18,COTIZACIONES!G18,COTIZACIONES!I18) -> 7530.0426 | J17: =+I17/F17 -> 0.15263569 | K17: MENORVALOR COTIZADO
A18: 15 | B18: CHANCLAS NEGRAS ESPECIFICACIONES TÉCNICAS Y DIMENSIONES DE ACUERDO A NORMA TÉCNICA NTMD 0356-A2 | C18: PAR | D18: 1 | E18: =+MIN(COTIZACIONES!E19,COTIZACIONES!G19,COTIZACIONES!I19) -> 7140 | F18: =+AVERAGE(COTIZACIONES!E19,COTIZACIONES!G19,COTIZACIONES!I19) -> 9629.0833 | G18: =+MEDIAN(COTIZACIONES!E19,COTIZACIONES!G19,COTIZACIONES!I19) -> 10115 | H18: =+GEOMEAN(COTIZACIONES!E19,COTIZACIONES!G19,COTIZACIONES!I19) -> 9435.7395 | I18: =+STDEVA(COTIZACIONES!E19,COTIZACIONES!G19,COTIZACIONES!I19) -> 2285.2054 | J18: =+I18/F18 -> 0.23732326 | K18: MENORVALOR COTIZADO
A19: 16 | B19: JUEGO DE ROPA INTERIOR (TOP Y CACHETERO) SEGÚN NORMA TECNICA No. JEMPP-CEDE4-DIETE-ET-05573/INT-0 | C19: JUEGO | D19: 1 | E19: =+MIN(COTIZACIONES!E20,COTIZACIONES!G20,COTIZACIONES!I20) -> 32368 | F19: =+AVERAGE(COTIZACIONES!E20,COTIZACIONES!G20,COTIZACIONES!I20) -> 45854.667 | G19: =+MEDIAN(COTIZACIONES!E20,COTIZACIONES!G20,COTIZACIONES!I20) -> 50575 | H19: =+GEOMEAN(COTIZACIONES!E20,COTIZACIONES!G20,COTIZACIONES!I20) -> 44716.774 | I19: =+STDEVA(COTIZACIONES!E20,COTIZACIONES!G20,COTIZACIONES!I20) -> 11853.698 | J19: =+I19/F19 -> 0.25850582 | K19: PRECIO PROMEDIO COTIZADO | O19: =+ROUND(F19,0) -> 45855
A20: 17 | B20: BICICLETERO NEGRO CORTO SEGÚN NORMA TECNICA No. JEMPP-CEDE4-DIETE-ET-05595/INT-0 | C20: UNIDAD | D20: 1 | E20: =+MIN(COTIZACIONES!E21,COTIZACIONES!G21,COTIZACIONES!I21) -> 19635 | F20: =+AVERAGE(COTIZACIONES!E21,COTIZACIONES!G21,COTIZACIONES!I21) -> 25521.533 | G20: =+MEDIAN(COTIZACIONES!E21,COTIZACIONES!G21,COTIZACIONES!I21) -> 27370 | H20: =+GEOMEAN(COTIZACIONES!E21,COTIZACIONES!G21,COTIZACIONES!I21) -> 25138.233 | I20: =+STDEVA(COTIZACIONES!E21,COTIZACIONES!G21,COTIZACIONES!I21) -> 5214.1196 | J20: =+I20/F20 -> 0.20430276 | K20: PRECIO PROMEDIO COTIZADO
B21: A-02-02-01-003-002 PASTA O PULPA, PAPEL Y PRODUCTOS DE PAPEL; IMPRESOS Y ARTÍCULOS RELACIONADOS
A22: 18 | B22: CUADERNO DE 100 HOJAS COCIDO PASTA BLANDA ESPECIFICACIONES TÉCNICAS Y DIMENSIONES DE ACUERDO A NORMA TÉCNICA NTMD 0356-A2 | C22: UNIDAD | D22: 1 | E22: =+MIN(COTIZACIONES!E23,COTIZACIONES!G23,COTIZACIONES!I23) -> 2570.4 | F22: =+AVERAGE(COTIZACIONES!E23,COTIZACIONES!G23,COTIZACIONES!I23) -> 2956.8 | G22: =+MEDIAN(COTIZACIONES!E23,COTIZACIONES!G23,COTIZACIONES!I23) -> 3000 | H22: =+GEOMEAN(COTIZACIONES!E23,COTIZACIONES!G23,COTIZACIONES!I23) -> 2941.3405 | I22: =+STDEVA(COTIZACIONES!E23,COTIZACIONES!G23,COTIZACIONES!I23) -> 366.7134 | J22: =+I22/F22 -> 0.12402374 | K22: MENORVALOR COTIZADO
A23: 19 | B23: PAPEL HIGIENICO TRIPLE HOJA ESPECIFICACIONES TÉCNICAS Y DIMENSIONES DE ACUERDO A NORMA TÉCNICA NTMD 0356-A2 | C23: UNIDAD | D23: 1 | E23: =+MIN(COTIZACIONES!E24,COTIZACIONES!G24,COTIZACIONES!I24) -> 2701.3 | F23: =+AVERAGE(COTIZACIONES!E24,COTIZACIONES!G24,COTIZACIONES!I24) -> 3553.34 | G23: =+MEDIAN(COTIZACIONES!E24,COTIZACIONES!G24,COTIZACIONES!I24) -> 3808 | H23: =+GEOMEAN(COTIZACIONES!E24,COTIZACIONES!G24,COTIZACIONES!I24) -> 3495.1386 | I23: =+STDEVA(COTIZACIONES!E24,COTIZACIONES!G24,COTIZACIONES!I24) -> 757.5245 | J23: =+I23/F23 -> 0.21318661 | K23: MENORVALOR COTIZADO
A24: 20 | B24: TOALLAS SANITARIAS SEGÚN NORMA TECNICA No. NTC 3604-2006 PAQUETE X 24 UNIDADES | C24: PAQUETE | D24: 1 | E24: =+MIN(COTIZACIONES!E25,COTIZACIONES!G25,COTIZACIONES!I25) -> 7556.5 | F24: =+AVERAGE(COTIZACIONES!E25,COTIZACIONES!G25,COTIZACIONES!I25) -> 15755.5 | G24: =+MEDIAN(COTIZACIONES!E25,COTIZACIONES!G25,COTIZACIONES!I25) -> 19000 | H24: =+GEOMEAN(COTIZACIONES!E25,COTIZACIONES!G25,COTIZACIONES!I25) -> 14379.754 | I24: =+STDEVA(COTIZACIONES!E25,COTIZACIONES!G25,COTIZACIONES!I25) -> 7151.8337 | J24: =+I24/F24 -> 0.45392617 | K24: MEDIANA
B25: A-02-02-01-003-005 OTROS PRODUCTOS QUÍMICOS; FIBRAS ARTIFICIALES (O FIBRAS INDUSTRIALES HECHAS POR EL HOMBRE)
A26: 21 | B26: CAJA DE BETUN NEGRO ESPECIFICACIONES TÉCNICAS Y DIMENSIONES DE ACUERDO A NORMA TÉCNICA NTMD 0356-A2 | C26: UNIDAD | D26: 1 | E26: =+MIN(COTIZACIONES!E27,COTIZACIONES!G27,COTIZACIONES!I27) -> 6818.7 | F26: =+AVERAGE(COTIZACIONES!E27,COTIZACIONES!G27,COTIZACIONES!I27) -> 8076.1333 | G26: =+MEDIAN(COTIZACIONES!E27,COTIZACIONES!G27,COTIZACIONES!I27) -> 8330 | H26: =+GEOMEAN(COTIZACIONES!E27,COTIZACIONES!G27,COTIZACIONES!I27) -> 8019.3536 | I26: =+STDEVA(COTIZACIONES!E27,COTIZACIONES!G27,COTIZACIONES!I27) -> 1151.6798 | J26: =+I26/F26 -> 0.14260288 | K26: MENORVALOR COTIZADO
A27: 22 | B27: TALCOS ESPECIFICACIONES TÉCNICAS Y DIMENSIONES DE ACUERDO A NORMA TÉCNICA NTMD 0356-A2 | C27: UNIDAD | D27: 1 | E27: =+MIN(COTIZACIONES!E28,COTIZACIONES!G28,COTIZACIONES!I28) -> 6818.7 | F27: =+AVERAGE(COTIZACIONES!E28,COTIZACIONES!G28,COTIZACIONES!I28) -> 7713.1833 | G27: =+MEDIAN(COTIZACIONES!E28,COTIZACIONES!G28,COTIZACIONES!I28) -> 7735 | H27: =+GEOMEAN(COTIZACIONES!E28,COTIZACIONES!G28,COTIZACIONES!I28) -> 7679.1839 | I27: =+STDEVA(COTIZACIONES!E28,COTIZACIONES!G28,COTIZACIONES!I28) -> 883.77698 | J27: =+I27/F27 -> 0.11458006 | K27: MENORVALOR COTIZADO
A28: 23 | B28: CREMA DENTAL ESPECIFICACIONES TÉCNICAS Y DIMENSIONES DE ACUERDO A NORMA TÉCNICA NTDM 0356-A2 | C28: UNIDAD | D28: 1 | E28: =+MIN(COTIZACIONES!E29,COTIZACIONES!G29,COTIZACIONES!I29) -> 5212.2 | F28: =+AVERAGE(COTIZACIONES!E29,COTIZACIONES!G29,COTIZACIONES!I29) -> 6318.9 | G28: =+MEDIAN(COTIZACIONES!E29,COTIZACIONES!G29,COTIZACIONES!I29) -> 6545 | H28: =+GEOMEAN(COTIZACIONES!E29,COTIZACIONES!G29,COTIZACIONES!I29) -> 6262.4512 | I28: =+STDEVA(COTIZACIONES!E29,COTIZACIONES!G29,COTIZACIONES!I29) -> 1012.7592 | J28: =+I28/F28 -> 0.16027461 | K28: PRECIO PROMEDIO COTIZADO
A29: 24 | B29: DESODORANTE ANTITRASPIRANTE PARA MUJER- ESPECIFICACIONES TÉCNICAS Y DIMENSIONES DE ACUERDO A NORMA TÉCNICA NTMD 0356-A2 | C29: UNIDAD | D29: 1 | E29: =+MIN(COTIZACIONES!E30,COTIZACIONES!G30,COTIZACIONES!I30) -> 8960.7 | F29: =+AVERAGE(COTIZACIONES!E30,COTIZACIONES!G30,COTIZACIONES!I30) -> 14704.433 | G29: =+MEDIAN(COTIZACIONES!E30,COTIZACIONES!G30,COTIZACIONES!I30) -> 16660 | H29: =+GEOMEAN(COTIZACIONES!E30,COTIZACIONES!G30,COTIZACIONES!I30) -> 14028.298 | I29: =+STDEVA(COTIZACIONES!E30,COTIZACIONES!G30,COTIZACIONES!I30) -> 5057.9106 | J29: =+I29/F29 -> 0.34397182 | K29: MENORVALOR COTIZADO
A30: 25 | B30: DESODORANTE MASCULINO ESPECIFICACIONES TÉCNICAS Y DIMENSIONES DE ACUERDO A NORMA TÉCNICA NTMD 0356-A2 | C30: UNIDAD | D30: 1 | E30: =+MIN(COTIZACIONES!E31,COTIZACIONES!G31,COTIZACIONES!I31) -> 8960.7 | F30: =+AVERAGE(COTIZACIONES!E31,COTIZACIONES!G31,COTIZACIONES!I31) -> 13220.9 | G30: =+MEDIAN(COTIZACIONES!E31,COTIZACIONES!G31,COTIZACIONES!I31) -> 14280 | H30: =+GEOMEAN(COTIZACIONES!E31,COTIZACIONES!G31,COTIZACIONES!I31) -> 12808.514 | I30: =+STDEVA(COTIZACIONES!E31,COTIZACIONES!G31,COTIZACIONES!I31) -> 3841.7469 | J30: =+I30/F30 -> 0.29058134 | K30: MENORVALOR COTIZADO
A31: 26 | B31: JABON DE BAÑO ANTIBACTERIAL ESPECIFICACIONES TÉCNICAS Y DIMENSIONES DE ACUERDO A NORMA TÉCNICA NTDM 0356-A2 | C31: UNIDAD | D31: 1 | E31: =+MIN(COTIZACIONES!E32,COTIZACIONES!G32,COTIZACIONES!I32) -> 3510.5 | F31: =+AVERAGE(COTIZACIONES!E32,COTIZACIONES!G32,COTIZACIONES!I32) -> 3704.8667 | G31: =+MEDIAN(COTIZACIONES!E32,COTIZACIONES!G32,COTIZACIONES!I32) -> 3570 | H31: =+GEOMEAN(COTIZACIONES!E32,COTIZACIONES!G32,COTIZACIONES!I32) -> 3697.6683 | I31: =+STDEVA(COTIZACIONES!E32,COTIZACIONES!G32,COTIZACIONES!I32) -> 286.67229 | J31: =+I31/F31 -> 0.077377223 | K31: PRECIO PROMEDIO COTIZADO
A32: 27 | B32: JABON EN PASTA PARA LAVAR ROPA ESPECIFICACIONES TÉCNICAS Y DIMENSIONES DE ACUERDO A NORMA TÉCNICA NTMD 0356-A2 | C32: UNIDAD | D32: 1 | E32: =+MIN(COTIZACIONES!E33,COTIZACIONES!G33,COTIZACIONES!I33) -> 2832.2 | F32: =+AVERAGE(COTIZACIONES!E33,COTIZACIONES!G33,COTIZACIONES!I33) -> 4208.2367 | G32: =+MEDIAN(COTIZACIONES!E33,COTIZACIONES!G33,COTIZACIONES!I33) -> 4641 | H32: =+GEOMEAN(COTIZACIONES!E33,COTIZACIONES!G33,COTIZACIONES!I33) -> 4075.8984 | I32: =+STDEVA(COTIZACIONES!E33,COTIZACIONES!G33,COTIZACIONES!I33) -> 1218.7136 | J32: =+I32/F32 -> 0.28960196 | K32: MENORVALOR COTIZADO
B33: A-02-02-01-003-006 PRODUCTOS DE CAUCHO Y PLÁSTICO
A34: 28 | B34: PROTECTORES AUDITIVOS ESPECIFICACIONES TÉCNICAS Y DIMENSIONES DE ACUERDO A NORMA TÉCNICA NTMD 0356-A2 | C34: UNIDAD | D34: 1 | E34: =+MIN(COTIZACIONES!E35,COTIZACIONES!G35,COTIZACIONES!I35) -> 2213.4 | F34: =+AVERAGE(COTIZACIONES!E35,COTIZACIONES!G35,COTIZACIONES!I35) -> 3236.8 | G34: =+MEDIAN(COTIZACIONES!E35,COTIZACIONES!G35,COTIZACIONES!I35) -> 3570 | H34: =+GEOMEAN(COTIZACIONES!E35,COTIZACIONES!G35,COTIZACIONES!I35) -> 3142.4112 | I34: =+STDEVA(COTIZACIONES!E35,COTIZACIONES!G35,COTIZACIONES!I35) -> 904.08679 | J34: =+I34/F34 -> 0.279315 | K34: MENORVALOR COTIZADO
A35: 29 | B35: JABONERA PLASTICA VERDE ESPECIFICACIONES TÉCNICAS Y DIMENSIONES DE ACUERDO A NORMA TÉCNICA NTMD 0356-A2 | C35: UNIDAD | D35: 1 | E35: =+MIN(COTIZACIONES!E36,COTIZACIONES!G36,COTIZACIONES!I36) -> 1487.5 | F35: =+AVERAGE(COTIZACIONES!E36,COTIZACIONES!G36,COTIZACIONES!I36) -> 2402.61 | G35: =+MEDIAN(COTIZACIONES!E36,COTIZACIONES!G36,COTIZACIONES!I36) -> 2737 | H35: =+GEOMEAN(COTIZACIONES!E36,COTIZACIONES!G36,COTIZACIONES!I36) -> 2298.6756 | I35: =+STDEVA(COTIZACIONES!E36,COTIZACIONES!G36,COTIZACIONES!I36) -> 802.02204 | J35: =+I35/F35 -> 0.33381283 | K35: MENORVALOR COTIZADO | O35: =+ROUND(E35,0) -> 1488
A36: 30 | B36: PORTA CEPILLO DE DIENTES ESPECIFICACIONES TÉCNICAS Y DIMENSIONES DE ACUERDO A NORMA TÉCNICA NTMD 0356-A2 | C36: UNIDAD | D36: 1 | E36: =+MIN(COTIZACIONES!E37,COTIZACIONES!G37,COTIZACIONES!I37) -> 1344.7 | F36: =+AVERAGE(COTIZACIONES!E37,COTIZACIONES!G37,COTIZACIONES!I37) -> 2324.4667 | G36: =+MEDIAN(COTIZACIONES!E37,COTIZACIONES!G37,COTIZACIONES!I37) -> 2618 | H36: =+GEOMEAN(COTIZACIONES!E37,COTIZACIONES!G37,COTIZACIONES!I37) -> 2196.6162 | I36: =+STDEVA(COTIZACIONES!E37,COTIZACIONES!G37,COTIZACIONES!I37) -> 870.925 | J36: =+I36/F36 -> 0.37467735 | K36: PRECIO PROMEDIO COTIZADO | O36: =+ROUND(E36,0) -> 1345
B37: A-02-02-01-003-008 OTROS BIENES TRANSPORTABLES N.C.P.
A38: 31 | B38: CEPILLO DENTAL CON LIMPIADOR DE LENGUA ESPECIFICACIONES TÉCNICAS Y DIMENSIONES DE ACUERDO A NORMA TÉCNICA NTMD 0356-A2 | C38: UNIDAD | D38: 1 | E38: =+MIN(COTIZACIONES!E39,COTIZACIONES!G39,COTIZACIONES!I39) -> 2082.5 | F38: =+AVERAGE(COTIZACIONES!E39,COTIZACIONES!G39,COTIZACIONES!I39) -> 3167.3833 | G38: =+MEDIAN(COTIZACIONES!E39,COTIZACIONES!G39,COTIZACIONES!I39) -> 3451 | H38: =+GEOMEAN(COTIZACIONES!E39,COTIZACIONES!G39,COTIZACIONES!I39) -> 3055.3262 | I38: =+STDEVA(COTIZACIONES!E39,COTIZACIONES!G39,COTIZACIONES!I39) -> 974.53541 | J38: =+I38/F38 -> 0.30767839 | K38: PRECIO PROMEDIO COTIZADO
A39: 32 | B39: PEINILLA NEGRA ESPECIFICACIONES TÉCNICAS Y DIMENSIONES DE ACUERDO A NORMA TÉCNICA NTMD 0356-A2 | C39: UNIDAD | D39: 1 | E39: =+MIN(COTIZACIONES!E40,COTIZACIONES!G40,COTIZACIONES!I40) -> 714 | F39: =+AVERAGE(COTIZACIONES!E40,COTIZACIONES!G40,COTIZACIONES!I40) -> 1251.88 | G39: =+MEDIAN(COTIZACIONES!E40,COTIZACIONES!G40,COTIZACIONES!I40) -> 1428 | H39: =+GEOMEAN(COTIZACIONES!E40,COTIZACIONES!G40,COTIZACIONES!I40) -> 1180.5318 | I39: =+STDEVA(COTIZACIONES!E40,COTIZACIONES!G40,COTIZACIONES!I40) -> 474.9755 | J39: =+I39/F39 -> 0.37940977 | K39: PRECIO PROMEDIO COTIZADO
A40: 33 | B40: JUEGO CEPILLOS PARA BRILLAR CALZADO X02 (01 UNO GRANDE Y 01 UNO PEQUEÑO) ESPECIFICACIONES TÉCNICAS Y DIMENSIONES DE ACUERDO A NORMA TÉCNICA NTMD 0356-A2 | C40: JUEGO | D40: 1 | E40: =+MIN(COTIZACIONES!E41,COTIZACIONES!G41,COTIZACIONES!I41) -> 5593 | F40: =+AVERAGE(COTIZACIONES!E41,COTIZACIONES!G41,COTIZACIONES!I41) -> 8496.6 | G40: =+MEDIAN(COTIZACIONES!E41,COTIZACIONES!G41,COTIZACIONES!I41) -> 9520 | H40: =+GEOMEAN(COTIZACIONES!E41,COTIZACIONES!G41,COTIZACIONES!I41) -> 8205.6893 | I40: =+STDEVA(COTIZACIONES!E41,COTIZACIONES!G41,COTIZACIONES!I41) -> 2550.8227 | J40: =+I40/F40 -> 0.30021687 | K40: MENORVALOR COTIZADO
A41: 34 | B41: LAPICERO SIN MECANISMO RETRACTIL ESPECIFICACIONES TÉCNICAS Y DIMENSIONES DE ACUERDO A NORMA TÉCNICA NTMD 0356-A2 | C41: UNIDAD | D41: 1 | E41: =+MIN(COTIZACIONES!E42,COTIZACIONES!G42,COTIZACIONES!I42) -> 928.2 | F41: =+AVERAGE(COTIZACIONES!E42,COTIZACIONES!G42,COTIZACIONES!I42) -> 1328.04 | G41: =+MEDIAN(COTIZACIONES!E42,COTIZACIONES!G42,COTIZACIONES!I42) -> 1428 | H41: =+GEOMEAN(COTIZACIONES!E42,COTIZACIONES!G42,COTIZACIONES!I42) -> 1292.2135 | I41: =+STDEVA(COTIZACIONES!E42,COTIZACIONES!G42,COTIZACIONES!I42) -> 360.41091 | J41: =+I41/F41 -> 0.27138558 | K41: PRECIO PROMEDIO COTIZADO
B42: A-02-02-01-004-002 PRODUCTOS METÁLICOS ELABORADOS (EXCEPTO MAQUINARIA Y EQUIPO)
A43: 35 | B43: CANDADO ESPECIFICACIONES TÉCNICAS Y DIMENSIONES DE ACUERDO A NORMA TÉCNICA NTMD 0356-A2 | C43: UNIDAD | D43: 1 | E43: =+MIN(COTIZACIONES!E44,COTIZACIONES!G44,COTIZACIONES!I44) -> 4379.2 | F43: =+AVERAGE(COTIZACIONES!E44,COTIZACIONES!G44,COTIZACIONES!I44) -> 5297.4833 | G43: =+MEDIAN(COTIZACIONES!E44,COTIZACIONES!G44,COTIZACIONES!I44) -> 5355 | H43: =+GEOMEAN(COTIZACIONES!E44,COTIZACIONES!G44,COTIZACIONES!I44) -> 5246.5102 | I43: =+STDEVA(COTIZACIONES!E44,COTIZACIONES!G44,COTIZACIONES!I44) -> 890.91854 | J43: =+I43/F43 -> 0.1681777 | K43: MENORVALOR COTIZADO
A44: 36 | B44: MAQUINA DE AFEITAR TRIPLE HOJA ESPECIFICACIONES TÉCNICAS Y DIMENSIONES DE ACUERDO A NORMA TÉCNICA NTMD 0356-A2 | C44: JUEGO | D44: 1 | E44: =+MIN(COTIZACIONES!E45,COTIZACIONES!G45,COTIZACIONES!I45) -> 2368.1 | F44: =+AVERAGE(COTIZACIONES!E45,COTIZACIONES!G45,COTIZACIONES!I45) -> 3984.9133 | G44: =+MEDIAN(COTIZACIONES!E45,COTIZACIONES!G45,COTIZACIONES!I45) -> 4522 | H44: =+GEOMEAN(COTIZACIONES!E45,COTIZACIONES!G45,COTIZACIONES!I45) -> 3785.2368 | I44: =+STDEVA(COTIZACIONES!E45,COTIZACIONES!G45,COTIZACIONES!I45) -> 1426.2463 | J44: =+I44/F44 -> 0.3579115 | K44: MENORVALOR COTIZADO
A45: 37 | B45: CORTAUÑAS ESPECIFICACIONES TÉCNICAS Y DIMENSIONES DE ACUERDO A NORMA TÉCNICA NTMD 0356 -A2 | C45: UNIDAD | D45: 1 | E45: =+MIN(COTIZACIONES!E46,COTIZACIONES!G46,COTIZACIONES!I46) -> 4641 | F45: =+AVERAGE(COTIZACIONES!E46,COTIZACIONES!G46,COTIZACIONES!I46) -> 6254.64 | G45: =+MEDIAN(COTIZACIONES!E46,COTIZACIONES!G46,COTIZACIONES!I46) -> 5197.92 | H45: =+GEOMEAN(COTIZACIONES!E46,COTIZACIONES!G46,COTIZACIONES!I46) -> 5993.5361 | I45: =+STDEVA(COTIZACIONES!E46,COTIZACIONES!G46,COTIZACIONES!I46) -> 2329.3039 | J45: =+I45/F45 -> 0.37241215 | K45: MENORVALOR COTIZADO
A46: 38 | B46: JUEGO DE (02) PLACAS DE IDENTIFICACION, (01) PLACA PARA CUELLO Y (01) PLACA PARA BOTA, ESPECIFICACIONES TÉCNICAS Y DIMENSIONES DE ACUERDO A NORMA TÉCNICA NTMD 0356-A2 | C46: JUEGO | D46: 1 | E46: =+MIN(COTIZACIONES!E47,COTIZACIONES!G47,COTIZACIONES!I47) -> 3082.1 | F46: =+AVERAGE(COTIZACIONES!E47,COTIZACIONES!G47,COTIZACIONES!I47) -> 11070.967 | G46: =+MEDIAN(COTIZACIONES!E47,COTIZACIONES!G47,COTIZACIONES!I47) -> 14280 | H46: =+GEOMEAN(COTIZACIONES!E47,COTIZACIONES!G47,COTIZACIONES!I47) -> 8869.0147 | I46: =+STDEVA(COTIZACIONES!E47,COTIZACIONES!G47,COTIZACIONES!I47) -> 6962.9984 | J46: =+I46/F46 -> 0.62894222 | K46: PRECIO PROMEDIO COTIZADO

Sheet PRECIO DE REFERENCIA
A1: ITEM | B1: DESCRIPCIÓN DEL BIEN Y/O SERVICIO | C1: UNIDAD MEDIDA | D1: CANTIDAD | E1: VALOR UNITARIO DE REFERENCIA | F1: VALOR TOTAL DE REFERENCIA
B2: A-02-02-01-002-007 ARTÍCULOS TEXTILES (EXCEPTO PRENDAS DE VESTIR)
A3: 1 | B3: PARCHE DE IDENTIFICACION PERSONAL (SELVA) ESPECIFICACIONES TÉCNICAS Y DIMENSIONES DE ACUERDO A BOLETIN 004 ESTANDARIZACIÓN DE LOS PARCHES DE COMBATE PARA LOS UNIFORMES N.° 4 (TIPO SELVA) Y N4A TIPO ARIDO DEL PATRÓN DE CAMUFLAJE TERRESTRE “CAMALEÓN”. | C3: UNIDAD | D3: 2820 | E3: 1785 | F3: =+E3*D3 -> 5033700
A4: 2 | B4: PARCHE DE EJERCITO (SELVA) ESPECIFICACIONES TÉCNICAS Y DIMENSIONES DE ACUERDO A BOLETIN 004 ESTANDARIZACIÓN DE LOS PARCHES DE COMBATE PARA LOS UNIFORMES N.° 4 (TIPO SELVA) Y N4A TIPO ARIDO DEL PATRÓN DE CAMUFLAJE TERRESTRE “CAMALEÓN”. | C4: UNIDAD | D4: 1410 | E4: 2101 | F4: =+E4*D4 -> 2962410
A5: 3 | B5: PARCHES DE LA UNIDAD SUPERIOR (02 UND) Y UNIDAD SUBALTERNA (02 UNID) SELVA Numeral ESPECIFICACIONES TECNICAS Y DIMENSIONES DE ACUERDO A BOLETIN 004 ESTANDARIZACION DE LOS PARCHES DE COMBATE PARA LOS UNIFORMES N 4 TIPO SELVA Y N 4A TIPO ARIDO DEL PATRON DE CAMUFLAJE TERRESTRE CAMALEON. | C5: UNIDAD | D5: 2820 | E5: 5117 | F5: =+E5*D5 -> 14429940
A6: 4 | B6: BANDERA DE IDENTIFICACION (SELVA) ESPECIFICACIONES TÉCNICAS Y DIMENSIONES DE ACUERDO A BOLETIN 001 FEBRERO 2025 (DISDI) ESTANDARIZACIÓN DE LA BANDERA DE IDENTIFICACION EMPLEADA EN EL UNIFORME N.° 4 (TIPO SELVA) Y N.° 4A (TIPO ÁRIDO) DEL PATRÓN DE CAMUFLAJE TERRESTRE “CAMALEÓN”. | C6: UNIDAD | D6: 1410 | E6: 2270 | F6: =+E6*D6 -> 3200700
A7: 5 | B7: PARCHE DE IDENTIFICACION GRUPO SANGUINEO, (SELVA) ESPECIFICACIONES TÉCNICAS Y DIMENSIONES DE ACUERDO A BOLETIN 004 ESTANDARIZACIÓN DE LOS PARCHES DE COMBATE PARA LOS UNIFORMES N.° 4 (TIPO SELVA) Y N.° 4A (TIPO ÁRIDO) DEL PATRÓN DE CAMUFLAJE TERRESTRE “CAMALEÓN”. | C7: UNIDAD | D7: 1410 | E7: 2099 | F7: =+E7*D7 -> 2959590
A8: 6 | B8: INSIGNIA DE GRADO SOLDADOS (SELVA) ESPECIFICACIONES TÉCNICAS Y DIMENSIONES DE ACUERDO A BOLETIN 004 ESTANDARIZACIÓN DE LOS PARCHES DE COMBATE PARA LOS UNIFORMES N.° 4 (TIPO SELVA) Y N.° 4A (TIPO ÁRIDO) DEL PATRÓN DE CAMUFLAJE TERRESTRE “CAMALEÓN”. | C8: JUEGO | D8: 1410 | E8: 5080 | F8: =+E8*D8 -> 7162800
A9: 7 | B9: BRAZALETES TACTICOS x JUEGO DE 04 (COLOR NARANJA, VERDE, AZUL Y MORADO) ESPECIFICACIONES TÉCNICAS Y DIMENSIONES DE ACUERDO A NORMA TÉCNICA NTMD 0356-A2. | C9: JUEGO | D9: 705 | E9: 4165 | F9: =+E9*D9 -> 2936325
A10: 8 | B10: OJOS DE GATO. ESPECIFICACIONES TÉCNICAS Y DIMENSIONES DE ACUERDO A NORMA TÉCNICA NTMD 0356 - BOLETIN 004 ESTANDARIZACIÓN DE LOS PARCHES DE COMBATE PARA LOS UNIFORMES N.° 4 (TIPO SELVA) Y N.° 4A (TIPO ÁRIDO) DEL PATRÓN DE CAMUFLAJE TERRESTRE “CAMALEÓN”. | C10: UNIDAD | D10: 1410 | E10: 1964 | F10: =+E10*D10 -> 2769240
A11: 9 | B11: JUEGO DE LIGAS PARA BOTAS MANGA PANTALON CAMUFLADO (SELVA) ESPECIFICACIONES TÉCNICAS Y DIMENSIONES DE ACUERDO A NORMA TÉCNICA NTMD 0356-A2 | C11: PAR | D11: 705 | E11: 2559 | F11: =+E11*D11 -> 1804095
A12: 10 | B12: PAÑUELOS ESPECIFICACIONES TÉCNICAS Y DIMENSIONES DE ACUERDO A NORMA TÉCNICA NTMD 0356-A2 | C12: UNIDAD | D12: 1410 | E12: 2499 | F12: =+E12*D12 -> 3523590
A13: 11 | B13: BOLSO UTILES DE ASEO ESPECIFICACIONES TÉCNICAS Y DIMENSIONES DE ACUERDO A NORMA TÉCNICA NTMD 0356-A2 | C13: UNIDAD | D13: 705 | E13: 5791 | F13: =+E13*D13 -> 4082655
A14: 12 | B14: MALLA PARA CABELLO NEGRA MOÑA SEGÚN NORMA TECNICA No. CEDE 4-DIETE-ET-04937/INT-0 | C14: UNIDAD | D14: 134 | E14: 3373 | F14: =+E14*D14 -> 451982
B15: TOTAL A-02-02-01-002-007 ARTÍCULOS TEXTILES (EXCEPTO PRENDAS DE VESTIR) | F15: =SUM(F3:F14) -> 51317027
B16: A-02-02-01-002-08 DOTACIÓN (PRENDAS DE VESTIR Y CALZADO)
A17: 13 | B17: CALCETIN COLOR BLANCO PARA DEPORTE ESPECIFICACIONES TÉCNICAS Y DIMENSIONES DE ACUERDO A NORMA TÉCNICA NTMD 0356-A2 | C17: PAR | D17: 705 | E17: 5016 | F17: =+E17*D17 -> 3536280
A18: 14 | B18: UNIFORME DE DEPORTES COMPLETO - PANTALONETA Y CAMISETA ESPECIFICACIONES TÉCNICAS Y DIMENSIONES DE ACUERDO A NORMA TÉCNICA NTMD 0356-A2 | C18: UNIDAD | D18: 705 | E18: 41055 | F18: =+E18*D18 -> 28943775
A19: 15 | B19: CHANCLAS NEGRAS ESPECIFICACIONES TÉCNICAS Y DIMENSIONES DE ACUERDO A NORMA TÉCNICA NTMD 0356-A2 | C19: PAR | D19: 705 | E19: 7140 | F19: =+E19*D19 -> 5033700
A20: 16 | B20: JUEGO DE ROPA INTERIOR (TOP Y CACHETERO) SEGÚN NORMA TECNICA No. JEMPP-CEDE4-DIETE-ET-05573/INT-0 | C20: JUEGO | D20: 134 | E20: 45855 | F20: =+E20*D20 -> 6144570
A21: 17 | B21: BICICLETERO NEGRO CORTO SEGÚN NORMA TECNICA No. JEMPP-CEDE4-DIETE-ET-05595/INT-0 | C21: UNIDAD | D21: 134 | E21: 25521 | F21: =+E21*D21 -> 3419814
B22: TOTAL A-02-02-01-002-08 DOTACIÓN (PRENDAS DE VESTIR Y CALZADO) | F22: =SUM(F17:F21) -> 47078139
B23: A-02-02-01-003-002 PASTA O PULPA, PAPEL Y PRODUCTOS DE PAPEL; IMPRESOS Y ARTÍCULOS RELACIONADOS
A24: 18 | B24: CUADERNO DE 100 HOJAS COCIDO PASTA BLANDA ESPECIFICACIONES TÉCNICAS Y DIMENSIONES DE ACUERDO A NORMA TÉCNICA NTMD 0356-A2 | C24: UNIDAD | D24: 705 | E24: 2570 | F24: =+E24*D24 -> 1811850
A25: 19 | B25: PAPEL HIGIENICO TRIPLE HOJA ESPECIFICACIONES TÉCNICAS Y DIMENSIONES DE ACUERDO A NORMA TÉCNICA NTMD 0356-A2 | C25: UNIDAD | D25: 1410 | E25: 2701 | F25: =+E25*D25 -> 3808410
A26: 20 | B26: TOALLAS SANITARIAS SEGÚN NORMA TECNICA No. NTC 3604-2006 PAQUETE X 24 UNIDADES | C26: PAQUETE | D26: 118 | E26: 14380 | F26: =+E26*D26 -> 1696840
B27: TOTAL A-02-02-01-003-002 PASTA O PULPA, PAPEL Y PRODUCTOS DE PAPEL; IMPRESOS Y ARTÍCULOS RELACIONADOS | F27: =SUM(F24:F26) -> 7317100
B28: A-02-02-01-003-005 OTROS PRODUCTOS QUÍMICOS; FIBRAS ARTIFICIALES (O FIBRAS INDUSTRIALES HECHAS POR EL HOMBRE)
A29: 21 | B29: CAJA DE BETUN NEGRO ESPECIFICACIONES TÉCNICAS Y DIMENSIONES DE ACUERDO A NORMA TÉCNICA NTMD 0356-A2 | C29: UNIDAD | D29: 705 | E29: 6819 | F29: =+E29*D29 -> 4807395
A30: 22 | B30: TALCOS ESPECIFICACIONES TÉCNICAS Y DIMENSIONES DE ACUERDO A NORMA TÉCNICA NTMD 0356-A2 | C30: UNIDAD | D30: 705 | E30: 6819 | F30: =+E30*D30 -> 4807395
A31: 23 | B31: CREMA DENTAL ESPECIFICACIONES TÉCNICAS Y DIMENSIONES DE ACUERDO A NORMA TÉCNICA NTDM 0356-A2 | C31: UNIDAD | D31: 1410 | E31: 6319 | F31: =+E31*D31 -> 8909790
A32: 24 | B32: DESODORANTE ANTITRASPIRANTE PARA MUJER- ESPECIFICACIONES TÉCNICAS Y DIMENSIONES DE ACUERDO A NORMA TÉCNICA NTMD 0356-A2 | C32: UNIDAD | D32: 134 | E32: 8961 | F32: =+E32*D32 -> 1200774
A33: 25 | B33: DESODORANTE MASCULINO ESPECIFICACIONES TÉCNICAS Y DIMENSIONES DE ACUERDO A NORMA TÉCNICA NTMD 0356-A2 | C33: UNIDAD | D33: 571 | E33: 8961 | F33: =+E33*D33 -> 5116731
A34: 26 | B34: JABON DE BAÑO ANTIBACTERIAL ESPECIFICACIONES TÉCNICAS Y DIMENSIONES DE ACUERDO A NORMA TÉCNICA NTDM 0356-A2 | C34: UNIDAD | D34: 1410 | E34: 3705 | F34: =+E34*D34 -> 5224050
A35: 27 | B35: JABON EN PASTA PARA LAVAR ROPA ESPECIFICACIONES TÉCNICAS Y DIMENSIONES DE ACUERDO A NORMA TÉCNICA NTMD 0356-A2 | C35: UNIDAD | D35: 705 | E35: 2832 | F35: =+E35*D35 -> 1996560
B36: TOTAL A-02-02-01-003-005 OTROS PRODUCTOS QUÍMICOS; FIBRAS ARTIFICIALES (O FIBRAS INDUSTRIALES HECHAS POR EL HOMBRE) | F36: =SUM(F29:F35) -> 32062695
B37: A-02-02-01-003-006 PRODUCTOS DE CAUCHO Y PLÁSTICO
A38: 28 | B38: PROTECTORES AUDITIVOS ESPECIFICACIONES TÉCNICAS Y DIMENSIONES DE ACUERDO A NORMA TÉCNICA NTMD 0356-A2 | C38: UNIDAD | D38: 705 | E38: 2213 | F38: =+E38*D38 -> 1560165
A39: 29 | B39: JABONERA PLASTICA VERDE ESPECIFICACIONES TÉCNICAS Y DIMENSIONES DE ACUERDO A NORMA TÉCNICA NTMD 0356-A2 | C39: UNIDAD | D39: 705 | E39: 1488 | F39: =+E39*D39 -> 1049040
A40: 30 | B40: PORTA CEPILLO DE DIENTES ESPECIFICACIONES TÉCNICAS Y DIMENSIONES DE ACUERDO A NORMA TÉCNICA NTMD 0356-A2 | C40: UNIDAD | D40: 705 | E40: 2324 | F40: =+E40*D40 -> 1638420
B41: TOTAL A-02-02-01-003-006 PRODUCTOS DE CAUCHO Y PLÁSTICO | F41: =SUM(F38:F40) -> 4247625
B42: A-02-02-01-003-008 OTROS BIENES TRANSPORTABLES N.C.P.
A43: 31 | B43: CEPILLO DENTAL CON LIMPIADOR DE LENGUA ESPECIFICACIONES TÉCNICAS Y DIMENSIONES DE ACUERDO A NORMA TÉCNICA NTMD 0356-A2 | C43: UNIDAD | D43: 705 | E43: 3167 | F43: =+E43*D43 -> 2232735
A44: 32 | B44: PEINILLA NEGRA ESPECIFICACIONES TÉCNICAS Y DIMENSIONES DE ACUERDO A NORMA TÉCNICA NTMD 0356-A2 | C44: UNIDAD | D44: 705 | E44: 1252 | F44: =+E44*D44 -> 882660
A45: 33 | B45: JUEGO CEPILLOS PARA BRILLAR CALZADO X02 (01 UNO GRANDE Y 01 UNO PEQUEÑO) ESPECIFICACIONES TÉCNICAS Y DIMENSIONES DE ACUERDO A NORMA TÉCNICA NTMD 0356-A2 | C45: JUEGO | D45: 705 | E45: 5593 | F45: =+E45*D45 -> 3943065
A46: 34 | B46: LAPICERO SIN MECANISMO RETRACTIL ESPECIFICACIONES TÉCNICAS Y DIMENSIONES DE ACUERDO A NORMA TÉCNICA NTMD 0356-A2 | C46: UNIDAD | D46: 705 | E46: 1328 | F46: =+E46*D46 -> 936240
B47: TOTAL A-02-02-01-003-008 OTROS BIENES TRANSPORTABLES N.C.P. | F47: =SUM(F43:F46) -> 7994700
B48: A-02-02-01-004-002 PRODUCTOS METÁLICOS ELABORADOS (EXCEPTO MAQUINARIA Y EQUIPO)
A49: 35 | B49: CANDADO ESPECIFICACIONES TÉCNICAS Y DIMENSIONES DE ACUERDO A NORMA TÉCNICA NTMD 0356-A2 | C49: UNIDAD | D49: 705 | E49: 4379 | F49: =+E49*D49 -> 3087195
A50: 36 | B50: MAQUINA DE AFEITAR TRIPLE HOJA ESPECIFICACIONES TÉCNICAS Y DIMENSIONES DE ACUERDO A NORMA TÉCNICA NTMD 0356-A2 | C50: JUEGO | D50: 2115 | E50: 2368 | F50: =+E50*D50 -> 5008320
A51: 37 | B51: CORTAUÑAS ESPECIFICACIONES TÉCNICAS Y DIMENSIONES DE ACUERDO A NORMA TÉCNICA NTMD 0356 -A2 | C51: UNIDAD | D51: 705 | E51: 4641 | F51: =+E51*D51 -> 3271905
A52: 38 | B52: JUEGO DE (02) PLACAS DE IDENTIFICACION, (01) PLACA PARA CUELLO Y (01) PLACA PARA BOTA, ESPECIFICACIONES TÉCNICAS Y DIMENSIONES DE ACUERDO A NORMA TÉCNICA NTMD 0356-A2 | C52: JUEGO | D52: 705 | E52: 11071 | F52: =+E52*D52 -> 7805055
B53: TOTAL A-02-02-01-004-002 PRODUCTOS METÁLICOS ELABORADOS (EXCEPTO MAQUINARIA Y EQUIPO) | F53: =SUM(F49:F52) -> 19172475
A54: TOTAL | F54: =+F53+F47+F41+F36+F27+F22+F15 -> 169189761

Sheet APALANCAMIENTO
A1: ITEM | B1: DESCRIPCIÓN DEL BIEN Y/O SERVICIO | C1: UNIDAD MEDIDA | D1: UNIDAD | E1: CANTIDAD | F1: VALOR UNITARIO DE REFERENCIA | G1: VALOR TOTAL DE REFERENCIA
B2: A-02-02-01-003-006 PRODUCTOS DE CAUCHO Y PLÁSTICO
A3: 28 | B3: PROTECTORES AUDITIVOS ESPECIFICACIONES TÉCNICAS Y DIMENSIONES DE ACUERDO A NORMA TÉCNICA NTMD 0356-A2 | C3: UNIDAD | D3: ESPAM | E3: 12 | F3: 2213 | G3: =+F3*E3 -> 26556
A4: 29 | B4: JABONERA PLASTICA VERDE ESPECIFICACIONES TÉCNICAS Y DIMENSIONES DE ACUERDO A NORMA TÉCNICA NTMD 0356-A2 | C4: UNIDAD | D4: ESPAM | E4: 12 | F4: 1488 | G4: =+F4*E4 -> 17856
A5: 30 | B5: PORTA CEPILLO DE DIENTES ESPECIFICACIONES TÉCNICAS Y DIMENSIONES DE ACUERDO A NORMA TÉCNICA NTMD 0356-A2 | C5: UNIDAD | D5: ESPAM | E5: 12 | F5: 2324 | G5: =+F5*E5 -> 27888
B6: TOTAL A-02-02-01-003-006 PRODUCTOS DE CAUCHO Y PLÁSTICO | G6: =SUM(G3:G5) -> 72300

Sheet LIMITANTE BAMAI
A1: ITEM | B1: DESCRIPCIÓN DEL BIEN Y/O SERVICIO | C1: UNIDAD MEDIDA | D1: CANTIDAD | E1: VALOR UNITARIO DE REFERENCIA | F1: PROYECTADO ADQUIRIR | H1: LIMITANTE
F2: CANTIDAD | G2: % | H2: CANTIDAD | I2: %
B3: A-02-02-01-002-007 ARTÍCULOS TEXTILES (EXCEPTO PRENDAS DE VESTIR)
A4: 1 | B4: PARCHE DE IDENTIFICACION PERSONAL (SELVA) ESPECIFICACIONES TÉCNICAS Y DIMENSIONES DE ACUERDO A BOLETIN 004 ESTANDARIZACIÓN DE LOS PARCHES DE COMBATE PARA LOS UNIFORMES N.° 4 (TIPO SELVA) Y N4A TIPO ARIDO DEL PATRÓN DE CAMUFLAJE TERRESTRE “CAMALEÓN”. | C4: UNIDAD | D4: 372 | E4: 1785 | F4: 372 | G4: =F4/D4 -> 1 | H4: =+D4-F4 -> 0 | I4: =1-G4 -> 0
A5: 2 | B5: PARCHE DE EJERCITO (SELVA) ESPECIFICACIONES TÉCNICAS Y DIMENSIONES DE ACUERDO A BOLETIN 004 ESTANDARIZACIÓN DE LOS PARCHES DE COMBATE PARA LOS UNIFORMES N.° 4 (TIPO SELVA) Y N4A TIPO ARIDO DEL PATRÓN DE CAMUFLAJE TERRESTRE “CAMALEÓN”. | C5: UNIDAD | D5: 186 | E5: 2101 | F5: 186 | G5: =F5/D5 -> 1 | H5: =+D5-F5 -> 0 | I5: =1-G5 -> 0
A6: 3 | B6: PARCHES DE LA UNIDAD SUPERIOR (02 UND) Y UNIDAD SUBALTERNA (02 UNID) SELVA Numeral ESPECIFICACIONES TECNICAS Y DIMENSIONES DE ACUERDO A BOLETIN 004 ESTANDARIZACION DE LOS PARCHES DE COMBATE PARA LOS UNIFORMES N 4 TIPO SELVA Y N 4A TIPO ARIDO DEL PATRON DE CAMUFLAJE TERRESTRE CAMALEON. | C6: UNIDAD | D6: 372 | E6: 5117 | F6: 372 | G6: =F6/D6 -> 1 | H6: =+D6-F6 -> 0 | I6: =1-G6 -> 0
A7: 4 | B7: BANDERA DE IDENTIFICACION (SELVA) ESPECIFICACIONES TÉCNICAS Y DIMENSIONES DE ACUERDO A BOLETIN 001 FEBRERO 2025 (DISDI) ESTANDARIZACIÓN DE LA BANDERA DE IDENTIFICACION EMPLEADA EN EL UNIFORME N.° 4 (TIPO SELVA) Y N.° 4A (TIPO ÁRIDO) DEL PATRÓN DE CAMUFLAJE TERRESTRE “CAMALEÓN”. | C7: UNIDAD | D7: 186 | E7: 2270 | F7: 186 | G7: =F7/D7 -> 1 | H7: =+D7-F7 -> 0 | I7: =1-G7 -> 0
A8: 5 | B8: PARCHE DE IDENTIFICACION GRUPO SANGUINEO, (SELVA) ESPECIFICACIONES TÉCNICAS Y DIMENSIONES DE ACUERDO A BOLETIN 004 ESTANDARIZACIÓN DE LOS PARCHES DE COMBATE PARA LOS UNIFORMES N.° 4 (TIPO SELVA) Y N.° 4A (TIPO ÁRIDO) DEL PATRÓN DE CAMUFLAJE TERRESTRE “CAMALEÓN”. | C8: UNIDAD | D8: 186 | E8: 2099 | F8: 186 | G8: =F8/D8 -> 1 | H8: =+D8-F8 -> 0 | I8: =1-G8 -> 0
A9: 6 | B9: INSIGNIA DE GRADO SOLDADOS (SELVA) ESPECIFICACIONES TÉCNICAS Y DIMENSIONES DE ACUERDO A BOLETIN 004 ESTANDARIZACIÓN DE LOS PARCHES DE COMBATE PARA LOS UNIFORMES N.° 4 (TIPO SELVA) Y N.° 4A (TIPO ÁRIDO) DEL PATRÓN DE CAMUFLAJE TERRESTRE “CAMALEÓN”. | C9: JUEGO | D9: 186 | E9: 5080 | F9: 186 | G9: =F9/D9 -> 1 | H9: =+D9-F9 -> 0 | I9: =1-G9 -> 0
A10: 7 | B10: BRAZALETES TACTICOS x JUEGO DE 04 (COLOR NARANJA, VERDE, AZUL Y MORADO) ESPECIFICACIONES TÉCNICAS Y DIMENSIONES DE ACUERDO A NORMA TÉCNICA NTMD 0356-A2. | C10: JUEGO | D10: 93 | E10: 4165 | F10: 93 | G10: =F10/D10 -> 1 | H10: =+D10-F10 -> 0 | I10: =1-G10 -> 0
A11: 8 | B11: OJOS DE GATO. ESPECIFICACIONES TÉCNICAS Y DIMENSIONES DE ACUERDO A NORMA TÉCNICA NTMD 0356 - BOLETIN 004 ESTANDARIZACIÓN DE LOS PARCHES DE COMBATE PARA LOS UNIFORMES N.° 4 (TIPO SELVA) Y N.° 4A (TIPO ÁRIDO) DEL PATRÓN DE CAMUFLAJE TERRESTRE “CAMALEÓN”. | C11: UNIDAD | D11: 186 | E11: 1964 | F11: 186 | G11: =F11/D11 -> 1 | H11: =+D11-F11 -> 0 | I11: =1-G11 -> 0
A12: 9 | B12: JUEGO DE LIGAS PARA BOTAS MANGA PANTALON CAMUFLADO (SELVA) ESPECIFICACIONES TÉCNICAS Y DIMENSIONES DE ACUERDO A NORMA TÉCNICA NTMD 0356-A2 | C12: PAR | D12: 93 | E12: 2559 | F12: 93 | G12: =F12/D12 -> 1 | H12: =+D12-F12 -> 0 | I12: =1-G12 -> 0
A13: 10 | B13: PAÑUELOS ESPECIFICACIONES TÉCNICAS Y DIMENSIONES DE ACUERDO A NORMA TÉCNICA NTMD 0356-A2 | C13: UNIDAD | D13: 186 | E13: 2499 | F13: 186 | G13: =F13/D13 -> 1 | H13: =+D13-F13 -> 0 | I13: =1-G13 -> 0
A14: 11 | B14: BOLSO UTILES DE ASEO ESPECIFICACIONES TÉCNICAS Y DIMENSIONES DE ACUERDO A NORMA TÉCNICA NTMD 0356-A2 | C14: UNIDAD | D14: 93 | E14: 5791 | F14: 93 | G14: =F14/D14 -> 1 | H14: =+D14-F14 -> 0 | I14: =1-G14 -> 0
A15: 12 | B15: MALLA PARA CABELLO NEGRA MOÑA SEGÚN NORMA TECNICA No. CEDE 4-DIETE-ET-04937/INT-0 | C15: UNIDAD | D15: 31 | E15: 3373 | F15: 31 | G15: =F15/D15 -> 1 | H15: =+D15-F15 -> 0 | I15: =1-G15 -> 0
B16: A-02-02-01-002-08 DOTACIÓN (PRENDAS DE VESTIR Y CALZADO)
A17: 13 | B17: CALCETIN COLOR BLANCO PARA DEPORTE ESPECIFICACIONES TÉCNICAS Y DIMENSIONES DE ACUERDO A NORMA TÉCNICA NTMD 0356-A2 | C17: PAR | D17: 93 | E17: 5016 | F17: 93 | G17: =F17/D17 -> 1 | H17: =+D17-F17 -> 0 | I17: =1-G17 -> 0
A18: 14 | B18: UNIFORME DE DEPORTES COMPLETO - PANTALONETA Y CAMISETA ESPECIFICACIONES TÉCNICAS Y DIMENSIONES DE ACUERDO A NORMA TÉCNICA NTMD 0356-A2 | C18: UNIDAD | D18: 93 | E18: 41055 | F18: 93 | G18: =F18/D18 -> 1 | H18: =+D18-F18 -> 0 | I18: =1-G18 -> 0
A19: 15 | B19: CHANCLAS NEGRAS ESPECIFICACIONES TÉCNICAS Y DIMENSIONES DE ACUERDO A NORMA TÉCNICA NTMD 0356-A2 | C19: PAR | D19: 93 | E19: 7140 | F19: 93 | G19: =F19/D19 -> 1 | H19: =+D19-F19 -> 0 | I19: =1-G19 -> 0
A20: 16 | B20: JUEGO DE ROPA INTERIOR (TOP Y CACHETERO) SEGÚN NORMA TECNICA No. JEMPP-CEDE4-DIETE-ET-05573/INT-0 | C20: JUEGO | D20: 31 | E20: 45855 | F20: 31 | G20: =F20/D20 -> 1 | H20: =+D20-F20 -> 0 | I20: =1-G20 -> 0
A21: 17 | B21: BICICLETERO NEGRO CORTO SEGÚN NORMA TECNICA No. JEMPP-CEDE4-DIETE-ET-05595/INT-0 | C21: UNIDAD | D21: 31 | E21: 25521 | F21: 31 | G21: =F21/D21 -> 1 | H21: =+D21-F21 -> 0 | I21: =1-G21 -> 0
B22: A-02-02-01-003-002 PASTA O PULPA, PAPEL Y PRODUCTOS DE PAPEL; IMPRESOS Y ARTÍCULOS RELACIONADOS
A23: 18 | B23: CUADERNO DE 100 HOJAS COCIDO PASTA BLANDA ESPECIFICACIONES TÉCNICAS Y DIMENSIONES DE ACUERDO A NORMA TÉCNICA NTMD 0356-A2 | C23: UNIDAD | D23: 93 | E23: 2570 | F23: 93 | G23: =F23/D23 -> 1 | H23: =+D23-F23 -> 0 | I23: =1-G23 -> 0
A24: 19 | B24: PAPEL HIGIENICO TRIPLE HOJA ESPECIFICACIONES TÉCNICAS Y DIMENSIONES DE ACUERDO A NORMA TÉCNICA NTMD 0356-A2 | C24: UNIDAD | D24: 186 | E24: 2701 | F24: 186 | G24: =F24/D24 -> 1 | H24: =+D24-F24 -> 0 | I24: =1-G24 -> 0
A25: 20 | B25: TOALLAS SANITARIAS SEGÚN NORMA TECNICA No. NTC 3604-2006 PAQUETE X 24 UNIDADES | C25: PAQUETE | D25: 31 | E25: 14380 | F25: 28 | G25: =F25/D25 -> 0.90322581 | H25: =+D25-F25 -> 3 | I25: =1-G25 -> 0.096774194
B26: A-02-02-01-003-005 OTROS PRODUCTOS QUÍMICOS; FIBRAS ARTIFICIALES (O FIBRAS INDUSTRIALES HECHAS POR EL HOMBRE)
A27: 21 | B27: CAJA DE BETUN NEGRO ESPECIFICACIONES TÉCNICAS Y DIMENSIONES DE ACUERDO A NORMA TÉCNICA NTMD 0356-A2 | C27: UNIDAD | D27: 93 | E27: 6819 | F27: 93 | G27: =F27/D27 -> 1 | H27: =+D27-F27 -> 0 | I27: =1-G27 -> 0
A28: 22 | B28: TALCOS ESPECIFICACIONES TÉCNICAS Y DIMENSIONES DE ACUERDO A NORMA TÉCNICA NTMD 0356-A2 | C28: UNIDAD | D28: 93 | E28: 6819 | F28: 93 | G28: =F28/D28 -> 1 | H28: =+D28-F28 -> 0 | I28: =1-G28 -> 0
A29: 23 | B29: CREMA DENTAL ESPECIFICACIONES TÉCNICAS Y DIMENSIONES DE ACUERDO A NORMA TÉCNICA NTDM 0356-A2 | C29: UNIDAD | D29: 186 | E29: 6319 | F29: 186 | G29: =F29/D29 -> 1 | H29: =+D29-F29 -> 0 | I29: =1-G29 -> 0
A30: 24 | B30: DESODORANTE ANTITRASPIRANTE PARA MUJER- ESPECIFICACIONES TÉCNICAS Y DIMENSIONES DE ACUERDO A NORMA TÉCNICA NTMD 0356-A2 | C30: UNIDAD | D30: 31 | E30: 8961 | F30: 31 | G30: =F30/D30 -> 1 | H30: =+D30-F30 -> 0 | I30: =1-G30 -> 0
A31: 25 | B31: DESODORANTE MASCULINO ESPECIFICACIONES TÉCNICAS Y DIMENSIONES DE ACUERDO A NORMA TÉCNICA NTMD 0356-A2 | C31: UNIDAD | D31: 62 | E31: 8961 | F31: 62 | G31: =F31/D31 -> 1 | H31: =+D31-F31 -> 0 | I31: =1-G31 -> 0
A32: 26 | B32: JABON DE BAÑO ANTIBACTERIAL ESPECIFICACIONES TÉCNICAS Y DIMENSIONES DE ACUERDO A NORMA TÉCNICA NTDM 0356-A2 | C32: UNIDAD | D32: 186 | E32: 3705 | F32: 186 | G32: =F32/D32 -> 1 | H32: =+D32-F32 -> 0 | I32: =1-G32 -> 0
A33: 27 | B33: JABON EN PASTA PARA LAVAR ROPA ESPECIFICACIONES TÉCNICAS Y DIMENSIONES DE ACUERDO A NORMA TÉCNICA NTMD 0356-A2 | C33: UNIDAD | D33: 93 | E33: 2832 | F33: 93 | G33: =F33/D33 -> 1 | H33: =+D33-F33 -> 0 | I33: =1-G33 -> 0
B34: A-02-02-01-003-006 PRODUCTOS DE CAUCHO Y PLÁSTICO
A35: 28 | B35: PROTECTORES AUDITIVOS ESPECIFICACIONES TÉCNICAS Y DIMENSIONES DE ACUERDO A NORMA TÉCNICA NTMD 0356-A2 | C35: UNIDAD | D35: 93 | E35: 2213 | F35: 93 | G35: =F35/D35 -> 1 | H35: =+D35-F35 -> 0 | I35: =1-G35 -> 0
A36: 29 | B36: JABONERA PLASTICA VERDE ESPECIFICACIONES TÉCNICAS Y DIMENSIONES DE ACUERDO A NORMA TÉCNICA NTMD 0356-A2 | C36: UNIDAD | D36: 93 | E36: 1488 | F36: 93 | G36: =F36/D36 -> 1 | H36: =+D36-F36 -> 0 | I36: =1-G36 -> 0
A37: 30 | B37: PORTA CEPILLO DE DIENTES ESPECIFICACIONES TÉCNICAS Y DIMENSIONES DE ACUERDO A NORMA TÉCNICA NTMD 0356-A2 | C37: UNIDAD | D37: 93 | E37: 2324 | F37: 93 | G37: =F37/D37 -> 1 | H37: =+D37-F37 -> 0 | I37: =1-G37 -> 0
B38: A-02-02-01-003-008 OTROS BIENES TRANSPORTABLES N.C.P.
A39: 31 | B39: CEPILLO DENTAL CON LIMPIADOR DE LENGUA ESPECIFICACIONES TÉCNICAS Y DIMENSIONES DE ACUERDO A NORMA TÉCNICA NTMD 0356-A2 | C39: UNIDAD | D39: 93 | E39: 3167 | F39: 93 | G39: =F39/D39 -> 1 | H39: =+D39-F39 -> 0 | I39: =1-G39 -> 0
A40: 32 | B40: PEINILLA NEGRA ESPECIFICACIONES TÉCNICAS Y DIMENSIONES DE ACUERDO A NORMA TÉCNICA NTMD 0356-A2 | C40: UNIDAD | D40: 93 | E40: 1252 | F40: 93 | G40: =F40/D40 -> 1 | H40: =+D40-F40 -> 0 | I40: =1-G40 -> 0
A41: 33 | B41: JUEGO CEPILLOS PARA BRILLAR CALZADO X02 (01 UNO GRANDE Y 01 UNO PEQUEÑO) ESPECIFICACIONES TÉCNICAS Y DIMENSIONES DE ACUERDO A NORMA TÉCNICA NTMD 0356-A2 | C41: JUEGO | D41: 93 | E41: 5593 | F41: 93 | G41: =F41/D41 -> 1 | H41: =+D41-F41 -> 0 | I41: =1-G41 -> 0
A42: 34 | B42: LAPICERO SIN MECANISMO RETRACTIL ESPECIFICACIONES TÉCNICAS Y DIMENSIONES DE ACUERDO A NORMA TÉCNICA NTMD 0356-A2 | C42: UNIDAD | D42: 93 | E42: 1328 | F42: 93 | G42: =F42/D42 -> 1 | H42: =+D42-F42 -> 0 | I42: =1-G42 -> 0
B43: A-02-02-01-004-002 PRODUCTOS METÁLICOS ELABORADOS (EXCEPTO MAQUINARIA Y EQUIPO)
A44: 35 | B44: CANDADO ESPECIFICACIONES TÉCNICAS Y DIMENSIONES DE ACUERDO A NORMA TÉCNICA NTMD 0356-A2 | C44: UNIDAD | D44: 93 | E44: 4379 | F44: 93 | G44: =F44/D44 -> 1 | H44: =+D44-F44 -> 0 | I44: =1-G44 -> 0
A45: 36 | B45: MAQUINA DE AFEITAR TRIPLE HOJA ESPECIFICACIONES TÉCNICAS Y DIMENSIONES DE ACUERDO A NORMA TÉCNICA NTMD 0356-A2 | C45: JUEGO | D45: 279 | E45: 2368 | F45: 279 | G45: =F45/D45 -> 1 | H45: =+D45-F45 -> 0 | I45: =1-G45 -> 0
A46: 37 | B46: CORTAUÑAS ESPECIFICACIONES TÉCNICAS Y DIMENSIONES DE ACUERDO A NORMA TÉCNICA NTMD 0356 -A2 | C46: UNIDAD | D46: 93 | E46: 4641 | F46: 93 | G46: =F46/D46 -> 1 | H46: =+D46-F46 -> 0 | I46: =1-G46 -> 0
A47: 38 | B47: JUEGO DE (02) PLACAS DE IDENTIFICACION, (01) PLACA PARA CUELLO Y (01) PLACA PARA BOTA, ESPECIFICACIONES TÉCNICAS Y DIMENSIONES DE ACUERDO A NORMA TÉCNICA NTMD 0356-A2 | C47: JUEGO | D47: 93 | E47: 11071 | F47: 93 | G47: =F47/D47 -> 1 | H47: =+D47-F47 -> 0 | I47: =1-G47 -> 0

Sheet LIMITANTE BASEN
A1: ITEM | B1: DESCRIPCIÓN DEL BIEN Y/O SERVICIO | C1: UNIDAD MEDIDA | D1: CANTIDAD | E1: VALOR UNITARIO DE REFERENCIA | F1: PROYECTADO ADQUIRIR | H1: LIMITANTE
F2: CANTIDAD | G2: % | H2: CANTIDAD | I2: %
B3: A-02-02-01-002-007 ARTÍCULOS TEXTILES (EXCEPTO PRENDAS DE VESTIR)
A4: 1 | B4: PARCHE DE IDENTIFICACION PERSONAL (SELVA) ESPECIFICACIONES TÉCNICAS Y DIMENSIONES DE ACUERDO A BOLETIN 004 ESTANDARIZACIÓN DE LOS PARCHES DE COMBATE PARA LOS UNIFORMES N.° 4 (TIPO SELVA) Y N4A TIPO ARIDO DEL PATRÓN DE CAMUFLAJE TERRESTRE “CAMALEÓN”. | C4: UNIDAD | D4: 144 | E4: 1785 | F4: 144 | G4: =F4/D4 -> 1 | H4: =+D4-F4 -> 0 | I4: =1-G4 -> 0
A5: 2 | B5: PARCHE DE EJERCITO (SELVA) ESPECIFICACIONES TÉCNICAS Y DIMENSIONES DE ACUERDO A BOLETIN 004 ESTANDARIZACIÓN DE LOS PARCHES DE COMBATE PARA LOS UNIFORMES N.° 4 (TIPO SELVA) Y N4A TIPO ARIDO DEL PATRÓN DE CAMUFLAJE TERRESTRE “CAMALEÓN”. | C5: UNIDAD | D5: 72 | E5: 2101 | F5: 72 | G5: =F5/D5 -> 1 | H5: =+D5-F5 -> 0 | I5: =1-G5 -> 0
A6: 3 | B6: PARCHES DE LA UNIDAD SUPERIOR (02 UND) Y UNIDAD SUBALTERNA (02 UNID) SELVA Numeral ESPECIFICACIONES TECNICAS Y DIMENSIONES DE ACUERDO A BOLETIN 004 ESTANDARIZACION DE LOS PARCHES DE COMBATE PARA LOS UNIFORMES N 4 TIPO SELVA Y N 4A TIPO ARIDO DEL PATRON DE CAMUFLAJE TERRESTRE CAMALEON. | C6: UNIDAD | D6: 144 | E6: 5117 | F6: 144 | G6: =F6/D6 -> 1 | H6: =+D6-F6 -> 0 | I6: =1-G6 -> 0
A7: 4 | B7: BANDERA DE IDENTIFICACION (SELVA) ESPECIFICACIONES TÉCNICAS Y DIMENSIONES DE ACUERDO A BOLETIN 001 FEBRERO 2025 (DISDI) ESTANDARIZACIÓN DE LA BANDERA DE IDENTIFICACION EMPLEADA EN EL UNIFORME N.° 4 (TIPO SELVA) Y N.° 4A (TIPO ÁRIDO) DEL PATRÓN DE CAMUFLAJE TERRESTRE “CAMALEÓN”. | C7: UNIDAD | D7: 72 | E7: 2270 | F7: 72 | G7: =F7/D7 -> 1 | H7: =+D7-F7 -> 0 | I7: =1-G7 -> 0
A8: 5 | B8: PARCHE DE IDENTIFICACION GRUPO SANGUINEO, (SELVA) ESPECIFICACIONES TÉCNICAS Y DIMENSIONES DE ACUERDO A BOLETIN 004 ESTANDARIZACIÓN DE LOS PARCHES DE COMBATE PARA LOS UNIFORMES N.° 4 (TIPO SELVA) Y N.° 4A (TIPO ÁRIDO) DEL PATRÓN DE CAMUFLAJE TERRESTRE “CAMALEÓN”. | C8: UNIDAD | D8: 72 | E8: 2099 | F8: 72 | G8: =F8/D8 -> 1 | H8: =+D8-F8 -> 0 | I8: =1-G8 -> 0
A9: 6 | B9: INSIGNIA DE GRADO SOLDADOS (SELVA) ESPECIFICACIONES TÉCNICAS Y DIMENSIONES DE ACUERDO A BOLETIN 004 ESTANDARIZACIÓN DE LOS PARCHES DE COMBATE PARA LOS UNIFORMES N.° 4 (TIPO SELVA) Y N.° 4A (TIPO ÁRIDO) DEL PATRÓN DE CAMUFLAJE TERRESTRE “CAMALEÓN”. | C9: JUEGO | D9: 72 | E9: 5080 | F9: 72 | G9: =F9/D9 -> 1 | H9: =+D9-F9 -> 0 | I9: =1-G9 -> 0
A10: 7 | B10: BRAZALETES TACTICOS x JUEGO DE 04 (COLOR NARANJA, VERDE, AZUL Y MORADO) ESPECIFICACIONES TÉCNICAS Y DIMENSIONES DE ACUERDO A NORMA TÉCNICA NTMD 0356-A2. | C10: JUEGO | D10: 36 | E10: 4165 | F10: 36 | G10: =F10/D10 -> 1 | H10: =+D10-F10 -> 0 | I10: =1-G10 -> 0
A11: 8 | B11: OJOS DE GATO. ESPECIFICACIONES TÉCNICAS Y DIMENSIONES DE ACUERDO A NORMA TÉCNICA NTMD 0356 - BOLETIN 004 ESTANDARIZACIÓN DE LOS PARCHES DE COMBATE PARA LOS UNIFORMES N.° 4 (TIPO SELVA) Y N.° 4A (TIPO ÁRIDO) DEL PATRÓN DE CAMUFLAJE TERRESTRE “CAMALEÓN”. | C11: UNIDAD | D11: 72 | E11: 1964 | F11: 72 | G11: =F11/D11 -> 1 | H11: =+D11-F11 -> 0 | I11: =1-G11 -> 0
A12: 9 | B12: JUEGO DE LIGAS PARA BOTAS MANGA PANTALON CAMUFLADO (SELVA) ESPECIFICACIONES TÉCNICAS Y DIMENSIONES DE ACUERDO A NORMA TÉCNICA NTMD 0356-A2 | C12: PAR | D12: 36 | E12: 2559 | F12: 36 | G12: =F12/D12 -> 1 | H12: =+D12-F12 -> 0 | I12: =1-G12 -> 0
A13: 10 | B13: PAÑUELOS ESPECIFICACIONES TÉCNICAS Y DIMENSIONES DE ACUERDO A NORMA TÉCNICA NTMD 0356-A2 | C13: UNIDAD | D13: 72 | E13: 2499 | F13: 72 | G13: =F13/D13 -> 1 | H13: =+D13-F13 -> 0 | I13: =1-G13 -> 0
A14: 11 | B14: BOLSO UTILES DE ASEO ESPECIFICACIONES TÉCNICAS Y DIMENSIONES DE ACUERDO A NORMA TÉCNICA NTMD 0356-A2 | C14: UNIDAD | D14: 36 | E14: 5791 | F14: 36 | G14: =F14/D14 -> 1 | H14: =+D14-F14 -> 0 | I14: =1-G14 -> 0
A15: 12 | B15: MALLA PARA CABELLO NEGRA MOÑA SEGÚN NORMA TECNICA No. CEDE 4-DIETE-ET-04937/INT-0 | C15: UNIDAD | D15: 36 | E15: 3373 | F15: 36 | G15: =F15/D15 -> 1 | H15: =+D15-F15 -> 0 | I15: =1-G15 -> 0
B16: A-02-02-01-002-08 DOTACIÓN (PRENDAS DE VESTIR Y CALZADO)
A17: 13 | B17: CALCETIN COLOR BLANCO PARA DEPORTE ESPECIFICACIONES TÉCNICAS Y DIMENSIONES DE ACUERDO A NORMA TÉCNICA NTMD 0356-A2 | C17: PAR | D17: 36 | E17: 5016 | F17: 36 | G17: =F17/D17 -> 1 | H17: =+D17-F17 -> 0 | I17: =1-G17 -> 0
A18: 14 | B18: UNIFORME DE DEPORTES COMPLETO - PANTALONETA Y CAMISETA ESPECIFICACIONES TÉCNICAS Y DIMENSIONES DE ACUERDO A NORMA TÉCNICA NTMD 0356-A2 | C18: UNIDAD | D18: 36 | E18: 41055 | F18: 36 | G18: =F18/D18 -> 1 | H18: =+D18-F18 -> 0 | I18: =1-G18 -> 0
A19: 15 | B19: CHANCLAS NEGRAS ESPECIFICACIONES TÉCNICAS Y DIMENSIONES DE ACUERDO A NORMA TÉCNICA NTMD 0356-A2 | C19: PAR | D19: 36 | E19: 7140 | F19: 36 | G19: =F19/D19 -> 1 | H19: =+D19-F19 -> 0 | I19: =1-G19 -> 0
A20: 16 | B20: JUEGO DE ROPA INTERIOR (TOP Y CACHETERO) SEGÚN NORMA TECNICA No. JEMPP-CEDE4-DIETE-ET-05573/INT-0 | C20: JUEGO | D20: 36 | E20: 45855 | F20: 36 | G20: =F20/D20 -> 1 | H20: =+D20-F20 -> 0 | I20: =1-G20 -> 0
A21: 17 | B21: BICICLETERO NEGRO CORTO SEGÚN NORMA TECNICA No. JEMPP-CEDE4-DIETE-ET-05595/INT-0 | C21: UNIDAD | D21: 36 | E21: 25521 | F21: 36 | G21: =F21/D21 -> 1 | H21: =+D21-F21 -> 0 | I21: =1-G21 -> 0
B22: A-02-02-01-003-002 PASTA O PULPA, PAPEL Y PRODUCTOS DE PAPEL; IMPRESOS Y ARTÍCULOS RELACIONADOS
A23: 18 | B23: CUADERNO DE 100 HOJAS COCIDO PASTA BLANDA ESPECIFICACIONES TÉCNICAS Y DIMENSIONES DE ACUERDO A NORMA TÉCNICA NTMD 0356-A2 | C23: UNIDAD | D23: 36 | E23: 2570 | F23: 36 | G23: =F23/D23 -> 1 | H23: =+D23-F23 -> 0 | I23: =1-G23 -> 0
A24: 19 | B24: PAPEL HIGIENICO TRIPLE HOJA ESPECIFICACIONES TÉCNICAS Y DIMENSIONES DE ACUERDO A NORMA TÉCNICA NTMD 0356-A2 | C24: UNIDAD | D24: 72 | E24: 2701 | F24: 72 | G24: =F24/D24 -> 1 | H24: =+D24-F24 -> 0 | I24: =1-G24 -> 0
A25: 20 | B25: TOALLAS SANITARIAS SEGÚN NORMA TECNICA No. NTC 3604-2006 PAQUETE X 24 UNIDADES | C25: PAQUETE | D25: 36 | E25: 14380 | F25: 30 | G25: =F25/D25 -> 0.83333333 | H25: =+D25-F25 -> 6 | I25: =1-G25 -> 0.16666667
B26: A-02-02-01-003-005 OTROS PRODUCTOS QUÍMICOS; FIBRAS ARTIFICIALES (O FIBRAS INDUSTRIALES HECHAS POR EL HOMBRE)
A27: 21 | B27: CAJA DE BETUN NEGRO ESPECIFICACIONES TÉCNICAS Y DIMENSIONES DE ACUERDO A NORMA TÉCNICA NTMD 0356-A2 | C27: UNIDAD | D27: 36 | E27: 6819 | F27: 36 | G27: =F27/D27 -> 1 | H27: =+D27-F27 -> 0 | I27: =1-G27 -> 0
A28: 22 | B28: TALCOS ESPECIFICACIONES TÉCNICAS Y DIMENSIONES DE ACUERDO A NORMA TÉCNICA NTMD 0356-A2 | C28: UNIDAD | D28: 36 | E28: 6819 | F28: 36 | G28: =F28/D28 -> 1 | H28: =+D28-F28 -> 0 | I28: =1-G28 -> 0
A29: 23 | B29: CREMA DENTAL ESPECIFICACIONES TÉCNICAS Y DIMENSIONES DE ACUERDO A NORMA TÉCNICA NTDM 0356-A2 | C29: UNIDAD | D29: 72 | E29: 6319 | F29: 72 | G29: =F29/D29 -> 1 | H29: =+D29-F29 -> 0 | I29: =1-G29 -> 0
A30: 24 | B30: DESODORANTE ANTITRASPIRANTE PARA MUJER- ESPECIFICACIONES TÉCNICAS Y DIMENSIONES DE ACUERDO A NORMA TÉCNICA NTMD 0356-A2 | C30: UNIDAD | D30: 36 | E30: 8961 | F30: 36 | G30: =F30/D30 -> 1 | H30: =+D30-F30 -> 0 | I30: =1-G30 -> 0
A31: 25 | B31: DESODORANTE MASCULINO ESPECIFICACIONES TÉCNICAS Y DIMENSIONES DE ACUERDO A NORMA TÉCNICA NTMD 0356-A2 | C31: UNIDAD | D31: 0 | E31: 8961 | F31: 0 | G31: 0 | H31: =+D31-F31 -> 0 | I31: 0
A32: 26 | B32: JABON DE BAÑO ANTIBACTERIAL ESPECIFICACIONES TÉCNICAS Y DIMENSIONES DE ACUERDO A NORMA TÉCNICA NTDM 0356-A2 | C32: UNIDAD | D32: 72 | E32: 3705 | F32: 72 | G32: =F32/D32 -> 1 | H32: =+D32-F32 -> 0 | I32: =1-G32 -> 0
A33: 27 | B33: JABON EN PASTA PARA LAVAR ROPA ESPECIFICACIONES TÉCNICAS Y DIMENSIONES DE ACUERDO A NORMA TÉCNICA NTMD 0356-A2 | C33: UNIDAD | D33: 36 | E33: 2832 | F33: 36 | G33: =F33/D33 -> 1 | H33: =+D33-F33 -> 0 | I33: =1-G33 -> 0
B34: A-02-02-01-003-006 PRODUCTOS DE CAUCHO Y PLÁSTICO
A35: 28 | B35: PROTECTORES AUDITIVOS ESPECIFICACIONES TÉCNICAS Y DIMENSIONES DE ACUERDO A NORMA TÉCNICA NTMD 0356-A2 | C35: UNIDAD | D35: 36 | E35: 2213 | F35: 36 | G35: =F35/D35 -> 1 | H35: =+D35-F35 -> 0 | I35: =1-G35 -> 0
A36: 29 | B36: JABONERA PLASTICA VERDE ESPECIFICACIONES TÉCNICAS Y DIMENSIONES DE ACUERDO A NORMA TÉCNICA NTMD 0356-A2 | C36: UNIDAD | D36: 36 | E36: 1488 | F36: 36 | G36: =F36/D36 -> 1 | H36: =+D36-F36 -> 0 | I36: =1-G36 -> 0
A37: 30 | B37: PORTA CEPILLO DE DIENTES ESPECIFICACIONES TÉCNICAS Y DIMENSIONES DE ACUERDO A NORMA TÉCNICA NTMD 0356-A2 | C37: UNIDAD | D37: 36 | E37: 2324 | F37: 36 | G37: =F37/D37 -> 1 | H37: =+D37-F37 -> 0 | I37: =1-G37 -> 0
B38: A-02-02-01-003-008 OTROS BIENES TRANSPORTABLES N.C.P.
A39: 31 | B39: CEPILLO DENTAL CON LIMPIADOR DE LENGUA ESPECIFICACIONES TÉCNICAS Y DIMENSIONES DE ACUERDO A NORMA TÉCNICA NTMD 0356-A2 | C39: UNIDAD | D39: 36 | E39: 3167 | F39: 36 | G39: =F39/D39 -> 1 | H39: =+D39-F39 -> 0 | I39: =1-G39 -> 0
A40: 32 | B40: PEINILLA NEGRA ESPECIFICACIONES TÉCNICAS Y DIMENSIONES DE ACUERDO A NORMA TÉCNICA NTMD 0356-A2 | C40: UNIDAD | D40: 36 | E40: 1252 | F40: 36 | G40: =F40/D40 -> 1 | H40: =+D40-F40 -> 0 | I40: =1-G40 -> 0
A41: 33 | B41: JUEGO CEPILLOS PARA BRILLAR CALZADO X02 (01 UNO GRANDE Y 01 UNO PEQUEÑO) ESPECIFICACIONES TÉCNICAS Y DIMENSIONES DE ACUERDO A NORMA TÉCNICA NTMD 0356-A2 | C41: JUEGO | D41: 36 | E41: 5593 | F41: 36 | G41: =F41/D41 -> 1 | H41: =+D41-F41 -> 0 | I41: =1-G41 -> 0
A42: 34 | B42: LAPICERO SIN MECANISMO RETRACTIL ESPECIFICACIONES TÉCNICAS Y DIMENSIONES DE ACUERDO A NORMA TÉCNICA NTMD 0356-A2 | C42: UNIDAD | D42: 36 | E42: 1328 | F42: 36 | G42: =F42/D42 -> 1 | H42: =+D42-F42 -> 0 | I42: =1-G42 -> 0
B43: A-02-02-01-004-002 PRODUCTOS METÁLICOS ELABORADOS (EXCEPTO MAQUINARIA Y EQUIPO)
A44: 35 | B44: CANDADO ESPECIFICACIONES TÉCNICAS Y DIMENSIONES DE ACUERDO A NORMA TÉCNICA NTMD 0356-A2 | C44: UNIDAD | D44: 36 | E44: 4379 | F44: 36 | G44: =F44/D44 -> 1 | H44: =+D44-F44 -> 0 | I44: =1-G44 -> 0
A45: 36 | B45: MAQUINA DE AFEITAR TRIPLE HOJA ESPECIFICACIONES TÉCNICAS Y DIMENSIONES DE ACUERDO A NORMA TÉCNICA NTMD 0356-A2 | C45: JUEGO | D45: 108 | E45: 2368 | F45: 108 | G45: =F45/D45 -> 1 | H45: =+D45-F45 -> 0 | I45: =1-G45 -> 0
A46: 37 | B46: CORTAUÑAS ESPECIFICACIONES TÉCNICAS Y DIMENSIONES DE ACUERDO A NORMA TÉCNICA NTMD 0356 -A2 | C46: UNIDAD | D46: 36 | E46: 4641 | F46: 36 | G46: =F46/D46 -> 1 | H46: =+D46-F46 -> 0 | I46: =1-G46 -> 0
A47: 38 | B47: JUEGO DE (02) PLACAS DE IDENTIFICACION, (01) PLACA PARA CUELLO Y (01) PLACA PARA BOTA, ESPECIFICACIONES TÉCNICAS Y DIMENSIONES DE ACUERDO A NORMA TÉCNICA NTMD 0356-A2 | C47: JUEGO | D47: 36 | E47: 11071 | F47: 36 | G47: =F47/D47 -> 1 | H47: =+D47-F47 -> 0 | I47: =1-G47 -> 0

Sheet LIMITANTE BAPOM5
A1: ITEM | B1: DESCRIPCIÓN DEL BIEN Y/O SERVICIO | C1: UNIDAD MEDIDA | D1: CANTIDAD | E1: VALOR UNITARIO DE REFERENCIA | F1: PROYECTADO ADQUIRIR | H1: LIMITANTE
F2: CANTIDAD | G2: % | H2: CANTIDAD | I2: %
B3: A-02-02-01-002-007 ARTÍCULOS TEXTILES (EXCEPTO PRENDAS DE VESTIR)
A4: 1 | B4: PARCHE DE IDENTIFICACION PERSONAL (SELVA) ESPECIFICACIONES TÉCNICAS Y DIMENSIONES DE ACUERDO A BOLETIN 004 ESTANDARIZACIÓN DE LOS PARCHES DE COMBATE PARA LOS UNIFORMES N.° 4 (TIPO SELVA) Y N4A TIPO ARIDO DEL PATRÓN DE CAMUFLAJE TERRESTRE “CAMALEÓN”. | C4: UNIDAD | D4: 720 | E4: 1785 | F4: 720 | G4: =F4/D4 -> 1 | H4: =+D4-F4 -> 0 | I4: =1-G4 -> 0
A5: 2 | B5: PARCHE DE EJERCITO (SELVA) ESPECIFICACIONES TÉCNICAS Y DIMENSIONES DE ACUERDO A BOLETIN 004 ESTANDARIZACIÓN DE LOS PARCHES DE COMBATE PARA LOS UNIFORMES N.° 4 (TIPO SELVA) Y N4A TIPO ARIDO DEL PATRÓN DE CAMUFLAJE TERRESTRE “CAMALEÓN”. | C5: UNIDAD | D5: 360 | E5: 2101 | F5: 360 | G5: =F5/D5 -> 1 | H5: =+D5-F5 -> 0 | I5: =1-G5 -> 0
A6: 3 | B6: PARCHES DE LA UNIDAD SUPERIOR (02 UND) Y UNIDAD SUBALTERNA (02 UNID) SELVA Numeral ESPECIFICACIONES TECNICAS Y DIMENSIONES DE ACUERDO A BOLETIN 004 ESTANDARIZACION DE LOS PARCHES DE COMBATE PARA LOS UNIFORMES N 4 TIPO SELVA Y N 4A TIPO ARIDO DEL PATRON DE CAMUFLAJE TERRESTRE CAMALEON. | C6: UNIDAD | D6: 720 | E6: 5117 | F6: 720 | G6: =F6/D6 -> 1 | H6: =+D6-F6 -> 0 | I6: =1-G6 -> 0
A7: 4 | B7: BANDERA DE IDENTIFICACION (SELVA) ESPECIFICACIONES TÉCNICAS Y DIMENSIONES DE ACUERDO A BOLETIN 001 FEBRERO 2025 (DISDI) ESTANDARIZACIÓN DE LA BANDERA DE IDENTIFICACION EMPLEADA EN EL UNIFORME N.° 4 (TIPO SELVA) Y N.° 4A (TIPO ÁRIDO) DEL PATRÓN DE CAMUFLAJE TERRESTRE “CAMALEÓN”. | C7: UNIDAD | D7: 360 | E7: 2270 | F7: 360 | G7: =F7/D7 -> 1 | H7: =+D7-F7 -> 0 | I7: =1-G7 -> 0
A8: 5 | B8: PARCHE DE IDENTIFICACION GRUPO SANGUINEO, (SELVA) ESPECIFICACIONES TÉCNICAS Y DIMENSIONES DE ACUERDO A BOLETIN 004 ESTANDARIZACIÓN DE LOS PARCHES DE COMBATE PARA LOS UNIFORMES N.° 4 (TIPO SELVA) Y N.° 4A (TIPO ÁRIDO) DEL PATRÓN DE CAMUFLAJE TERRESTRE “CAMALEÓN”. | C8: UNIDAD | D8: 360 | E8: 2099 | F8: 360 | G8: =F8/D8 -> 1 | H8: =+D8-F8 -> 0 | I8: =1-G8 -> 0
A9: 6 | B9: INSIGNIA DE GRADO SOLDADOS (SELVA) ESPECIFICACIONES TÉCNICAS Y DIMENSIONES DE ACUERDO A BOLETIN 004 ESTANDARIZACIÓN DE LOS PARCHES DE COMBATE PARA LOS UNIFORMES N.° 4 (TIPO SELVA) Y N.° 4A (TIPO ÁRIDO) DEL PATRÓN DE CAMUFLAJE TERRESTRE “CAMALEÓN”. | C9: JUEGO | D9: 360 | E9: 5080 | F9: 360 | G9: =F9/D9 -> 1 | H9: =+D9-F9 -> 0 | I9: =1-G9 -> 0
A10: 7 | B10: BRAZALETES TACTICOS x JUEGO DE 04 (COLOR NARANJA, VERDE, AZUL Y MORADO) ESPECIFICACIONES TÉCNICAS Y DIMENSIONES DE ACUERDO A NORMA TÉCNICA NTMD 0356-A2. | C10: JUEGO | D10: 180 | E10: 4165 | F10: 180 | G10: =F10/D10 -> 1 | H10: =+D10-F10 -> 0 | I10: =1-G10 -> 0
A11: 8 | B11: OJOS DE GATO. ESPECIFICACIONES TÉCNICAS Y DIMENSIONES DE ACUERDO A NORMA TÉCNICA NTMD 0356 - BOLETIN 004 ESTANDARIZACIÓN DE LOS PARCHES DE COMBATE PARA LOS UNIFORMES N.° 4 (TIPO SELVA) Y N.° 4A (TIPO ÁRIDO) DEL PATRÓN DE CAMUFLAJE TERRESTRE “CAMALEÓN”. | C11: UNIDAD | D11: 360 | E11: 1964 | F11: 360 | G11: =F11/D11 -> 1 | H11: =+D11-F11 -> 0 | I11: =1-G11 -> 0
A12: 9 | B12: JUEGO DE LIGAS PARA BOTAS MANGA PANTALON CAMUFLADO (SELVA) ESPECIFICACIONES TÉCNICAS Y DIMENSIONES DE ACUERDO A NORMA TÉCNICA NTMD 0356-A2 | C12: PAR | D12: 180 | E12: 2559 | F12: 180 | G12: =F12/D12 -> 1 | H12: =+D12-F12 -> 0 | I12: =1-G12 -> 0
A13: 10 | B13: PAÑUELOS ESPECIFICACIONES TÉCNICAS Y DIMENSIONES DE ACUERDO A NORMA TÉCNICA NTMD 0356-A2 | C13: UNIDAD | D13: 360 | E13: 2499 | F13: 360 | G13: =F13/D13 -> 1 | H13: =+D13-F13 -> 0 | I13: =1-G13 -> 0
A14: 11 | B14: BOLSO UTILES DE ASEO ESPECIFICACIONES TÉCNICAS Y DIMENSIONES DE ACUERDO A NORMA TÉCNICA NTMD 0356-A2 | C14: UNIDAD | D14: 180 | E14: 5791 | F14: 180 | G14: =F14/D14 -> 1 | H14: =+D14-F14 -> 0 | I14: =1-G14 -> 0
A15: 12 | B15: MALLA PARA CABELLO NEGRA MOÑA SEGÚN NORMA TECNICA No. CEDE 4-DIETE-ET-04937/INT-0 | C15: UNIDAD | D15: 36 | E15: 3373 | F15: 36 | G15: =F15/D15 -> 1 | H15: =+D15-F15 -> 0 | I15: =1-G15 -> 0
B16: A-02-02-01-002-08 DOTACIÓN (PRENDAS DE VESTIR Y CALZADO)
A17: 13 | B17: CALCETIN COLOR BLANCO PARA DEPORTE ESPECIFICACIONES TÉCNICAS Y DIMENSIONES DE ACUERDO A NORMA TÉCNICA NTMD 0356-A2 | C17: PAR | D17: 180 | E17: 5016 | F17: 180 | G17: =F17/D17 -> 1 | H17: =+D17-F17 -> 0 | I17: =1-G17 -> 0
A18: 14 | B18: UNIFORME DE DEPORTES COMPLETO - PANTALONETA Y CAMISETA ESPECIFICACIONES TÉCNICAS Y DIMENSIONES DE ACUERDO A NORMA TÉCNICA NTMD 0356-A2 | C18: UNIDAD | D18: 180 | E18: 41055 | F18: 180 | G18: =F18/D18 -> 1 | H18: =+D18-F18 -> 0 | I18: =1-G18 -> 0
A19: 15 | B19: CHANCLAS NEGRAS ESPECIFICACIONES TÉCNICAS Y DIMENSIONES DE ACUERDO A NORMA TÉCNICA NTMD 0356-A2 | C19: PAR | D19: 180 | E19: 7140 | F19: 180 | G19: =F19/D19 -> 1 | H19: =+D19-F19 -> 0 | I19: =1-G19 -> 0
A20: 16 | B20: JUEGO DE ROPA INTERIOR (TOP Y CACHETERO) SEGÚN NORMA TECNICA No. JEMPP-CEDE4-DIETE-ET-05573/INT-0 | C20: JUEGO | D20: 36 | E20: 45855 | F20: 36 | G20: =F20/D20 -> 1 | H20: =+D20-F20 -> 0 | I20: =1-G20 -> 0
A21: 17 | B21: BICICLETERO NEGRO CORTO SEGÚN NORMA TECNICA No. JEMPP-CEDE4-DIETE-ET-05595/INT-0 | C21: UNIDAD | D21: 36 | E21: 25521 | F21: 36 | G21: =F21/D21 -> 1 | H21: =+D21-F21 -> 0 | I21: =1-G21 -> 0
B22: A-02-02-01-003-002 PASTA O PULPA, PAPEL Y PRODUCTOS DE PAPEL; IMPRESOS Y ARTÍCULOS RELACIONADOS
A23: 18 | B23: CUADERNO DE 100 HOJAS COCIDO PASTA BLANDA ESPECIFICACIONES TÉCNICAS Y DIMENSIONES DE ACUERDO A NORMA TÉCNICA NTMD 0356-A2 | C23: UNIDAD | D23: 180 | E23: 2570 | F23: 180 | G23: =F23/D23 -> 1 | H23: =+D23-F23 -> 0 | I23: =1-G23 -> 0
A24: 19 | B24: PAPEL HIGIENICO TRIPLE HOJA ESPECIFICACIONES TÉCNICAS Y DIMENSIONES DE ACUERDO A NORMA TÉCNICA NTMD 0356-A2 | C24: UNIDAD | D24: 360 | E24: 2701 | F24: 360 | G24: =F24/D24 -> 1 | H24: =+D24-F24 -> 0 | I24: =1-G24 -> 0
A25: 20 | B25: TOALLAS SANITARIAS SEGÚN NORMA TECNICA No. NTC 3604-2006 PAQUETE X 24 UNIDADES | C25: PAQUETE | D25: 36 | E25: 14380 | F25: 34 | G25: =F25/D25 -> 0.94444444 | H25: =+D25-F25 -> 2 | I25: =1-G25 -> 0.055555556
B26: A-02-02-01-003-005 OTROS PRODUCTOS QUÍMICOS; FIBRAS ARTIFICIALES (O FIBRAS INDUSTRIALES HECHAS POR EL HOMBRE)
A27: 21 | B27: CAJA DE BETUN NEGRO ESPECIFICACIONES TÉCNICAS Y DIMENSIONES DE ACUERDO A NORMA TÉCNICA NTMD 0356-A2 | C27: UNIDAD | D27: 180 | E27: 6819 | F27: 180 | G27: =F27/D27 -> 1 | H27: =+D27-F27 -> 0 | I27: =1-G27 -> 0
A28: 22 | B28: TALCOS ESPECIFICACIONES TÉCNICAS Y DIMENSIONES DE ACUERDO A NORMA TÉCNICA NTMD 0356-A2 | C28: UNIDAD | D28: 180 | E28: 6819 | F28: 180 | G28: =F28/D28 -> 1 | H28: =+D28-F28 -> 0 | I28: =1-G28 -> 0
A29: 23 | B29: CREMA DENTAL ESPECIFICACIONES TÉCNICAS Y DIMENSIONES DE ACUERDO A NORMA TÉCNICA NTDM 0356-A2 | C29: UNIDAD | D29: 360 | E29: 6319 | F29: 360 | G29: =F29/D29 -> 1 | H29: =+D29-F29 -> 0 | I29: =1-G29 -> 0
A30: 24 | B30: DESODORANTE ANTITRASPIRANTE PARA MUJER- ESPECIFICACIONES TÉCNICAS Y DIMENSIONES DE ACUERDO A NORMA TÉCNICA NTMD 0356-A2 | C30: UNIDAD | D30: 36 | E30: 8961 | F30: 36 | G30: =F30/D30 -> 1 | H30: =+D30-F30 -> 0 | I30: =1-G30 -> 0
A31: 25 | B31: DESODORANTE MASCULINO ESPECIFICACIONES TÉCNICAS Y DIMENSIONES DE ACUERDO A NORMA TÉCNICA NTMD 0356-A2 | C31: UNIDAD | D31: 144 | E31: 8961 | F31: 144 | G31: =F31/D31 -> 1 | H31: =+D31-F31 -> 0 | I31: =1-G31 -> 0
A32: 26 | B32: JABON DE BAÑO ANTIBACTERIAL ESPECIFICACIONES TÉCNICAS Y DIMENSIONES DE ACUERDO A NORMA TÉCNICA NTDM 0356-A2 | C32: UNIDAD | D32: 360 | E32: 3705 | F32: 360 | G32: =F32/D32 -> 1 | H32: =+D32-F32 -> 0 | I32: =1-G32 -> 0
A33: 27 | B33: JABON EN PASTA PARA LAVAR ROPA ESPECIFICACIONES TÉCNICAS Y DIMENSIONES DE ACUERDO A NORMA TÉCNICA NTMD 0356-A2 | C33: UNIDAD | D33: 180 | E33: 2832 | F33: 180 | G33: =F33/D33 -> 1 | H33: =+D33-F33 -> 0 | I33: =1-G33 -> 0
B34: A-02-02-01-003-006 PRODUCTOS DE CAUCHO Y PLÁSTICO
A35: 28 | B35: PROTECTORES AUDITIVOS ESPECIFICACIONES TÉCNICAS Y DIMENSIONES DE ACUERDO A NORMA TÉCNICA NTMD 0356-A2 | C35: UNIDAD | D35: 180 | E35: 2213 | F35: 180 | G35: =F35/D35 -> 1 | H35: =+D35-F35 -> 0 | I35: =1-G35 -> 0
A36: 29 | B36: JABONERA PLASTICA VERDE ESPECIFICACIONES TÉCNICAS Y DIMENSIONES DE ACUERDO A NORMA TÉCNICA NTMD 0356-A2 | C36: UNIDAD | D36: 180 | E36: 1488 | F36: 180 | G36: =F36/D36 -> 1 | H36: =+D36-F36 -> 0 | I36: =1-G36 -> 0
A37: 30 | B37: PORTA CEPILLO DE DIENTES ESPECIFICACIONES TÉCNICAS Y DIMENSIONES DE ACUERDO A NORMA TÉCNICA NTMD 0356-A2 | C37: UNIDAD | D37: 180 | E37: 2324 | F37: 180 | G37: =F37/D37 -> 1 | H37: =+D37-F37 -> 0 | I37: =1-G37 -> 0
B38: A-02-02-01-003-008 OTROS BIENES TRANSPORTABLES N.C.P.
A39: 31 | B39: CEPILLO DENTAL CON LIMPIADOR DE LENGUA ESPECIFICACIONES TÉCNICAS Y DIMENSIONES DE ACUERDO A NORMA TÉCNICA NTMD 0356-A2 | C39: UNIDAD | D39: 180 | E39: 3167 | F39: 180 | G39: =F39/D39 -> 1 | H39: =+D39-F39 -> 0 | I39: =1-G39 -> 0
A40: 32 | B40: PEINILLA NEGRA ESPECIFICACIONES TÉCNICAS Y DIMENSIONES DE ACUERDO A NORMA TÉCNICA NTMD 0356-A2 | C40: UNIDAD | D40: 180 | E40: 1252 | F40: 180 | G40: =F40/D40 -> 1 | H40: =+D40-F40 -> 0 | I40: =1-G40 -> 0
A41: 33 | B41: JUEGO CEPILLOS PARA BRILLAR CALZADO X02 (01 UNO GRANDE Y 01 UNO PEQUEÑO) ESPECIFICACIONES TÉCNICAS Y DIMENSIONES DE ACUERDO A NORMA TÉCNICA NTMD 0356-A2 | C41: JUEGO | D41: 180 | E41: 5593 | F41: 180 | G41: =F41/D41 -> 1 | H41: =+D41-F41 -> 0 | I41: =1-G41 -> 0
A42: 34 | B42: LAPICERO SIN MECANISMO RETRACTIL ESPECIFICACIONES TÉCNICAS Y DIMENSIONES DE ACUERDO A NORMA TÉCNICA NTMD 0356-A2 | C42: UNIDAD | D42: 180 | E42: 1328 | F42: 180 | G42: =F42/D42 -> 1 | H42: =+D42-F42 -> 0 | I42: =1-G42 -> 0
B43: A-02-02-01-004-002 PRODUCTOS METÁLICOS ELABORADOS (EXCEPTO MAQUINARIA Y EQUIPO)
A44: 35 | B44: CANDADO ESPECIFICACIONES TÉCNICAS Y DIMENSIONES DE ACUERDO A NORMA TÉCNICA NTMD 0356-A2 | C44: UNIDAD | D44: 180 | E44: 4379 | F44: 180 | G44: =F44/D44 -> 1 | H44: =+D44-F44 -> 0 | I44: =1-G44 -> 0
A45: 36 | B45: MAQUINA DE AFEITAR TRIPLE HOJA ESPECIFICACIONES TÉCNICAS Y DIMENSIONES DE ACUERDO A NORMA TÉCNICA NTMD 0356-A2 | C45: JUEGO | D45: 540 | E45: 2368 | F45: 540 | G45: =F45/D45 -> 1 | H45: =+D45-F45 -> 0 | I45: =1-G45 -> 0
A46: 37 | B46: CORTAUÑAS ESPECIFICACIONES TÉCNICAS Y DIMENSIONES DE ACUERDO A NORMA TÉCNICA NTMD 0356 -A2 | C46: UNIDAD | D46: 180 | E46: 4641 | F46: 180 | G46: =F46/D46 -> 1 | H46: =+D46-F46 -> 0 | I46: =1-G46 -> 0
A47: 38 | B47: JUEGO DE (02) PLACAS DE IDENTIFICACION, (01) PLACA PARA CUELLO Y (01) PLACA PARA BOTA, ESPECIFICACIONES TÉCNICAS Y DIMENSIONES DE ACUERDO A NORMA TÉCNICA NTMD 0356-A2 | C47: JUEGO | D47: 180 | E47: 11071 | F47: 180 | G47: =F47/D47 -> 1 | H47: =+D47-F47 -> 0 | I47: =1-G47 -> 0

Sheet LIMITANTE BAABS2
A1: ITEM | B1: DESCRIPCIÓN DEL BIEN Y/O SERVICIO | C1: UNIDAD MEDIDA | D1: CANTIDAD | E1: VALOR UNITARIO DE REFERENCIA | F1: PROYECTADO ADQUIRIR | H1: LIMITANTE
F2: CANTIDAD | G2: % | H2: CANTIDAD | I2: %
B3: A-02-02-01-002-007 ARTÍCULOS TEXTILES (EXCEPTO PRENDAS DE VESTIR)
A4: 1 | B4: PARCHE DE IDENTIFICACION PERSONAL (SELVA) ESPECIFICACIONES TÉCNICAS Y DIMENSIONES DE ACUERDO A BOLETIN 004 ESTANDARIZACIÓN DE LOS PARCHES DE COMBATE PARA LOS UNIFORMES N.° 4 (TIPO SELVA) Y N4A TIPO ARIDO DEL PATRÓN DE CAMUFLAJE TERRESTRE “CAMALEÓN”. | C4: UNIDAD | D4: 124 | E4: 1785 | F4: 124 | G4: =F4/D4 -> 1 | H4: =+D4-F4 -> 0 | I4: =1-G4 -> 0
A5: 2 | B5: PARCHE DE EJERCITO (SELVA) ESPECIFICACIONES TÉCNICAS Y DIMENSIONES DE ACUERDO A BOLETIN 004 ESTANDARIZACIÓN DE LOS PARCHES DE COMBATE PARA LOS UNIFORMES N.° 4 (TIPO SELVA) Y N4A TIPO ARIDO DEL PATRÓN DE CAMUFLAJE TERRESTRE “CAMALEÓN”. | C5: UNIDAD | D5: 62 | E5: 2101 | F5: 62 | G5: =F5/D5 -> 1 | H5: =+D5-F5 -> 0 | I5: =1-G5 -> 0
A6: 3 | B6: PARCHES DE LA UNIDAD SUPERIOR (02 UND) Y UNIDAD SUBALTERNA (02 UNID) SELVA Numeral ESPECIFICACIONES TECNICAS Y DIMENSIONES DE ACUERDO A BOLETIN 004 ESTANDARIZACION DE LOS PARCHES DE COMBATE PARA LOS UNIFORMES N 4 TIPO SELVA Y N 4A TIPO ARIDO DEL PATRON DE CAMUFLAJE TERRESTRE CAMALEON. | C6: UNIDAD | D6: 124 | E6: 5117 | F6: 124 | G6: =F6/D6 -> 1 | H6: =+D6-F6 -> 0 | I6: =1-G6 -> 0
A7: 4 | B7: BANDERA DE IDENTIFICACION (SELVA) ESPECIFICACIONES TÉCNICAS Y DIMENSIONES DE ACUERDO A BOLETIN 001 FEBRERO 2025 (DISDI) ESTANDARIZACIÓN DE LA BANDERA DE IDENTIFICACION EMPLEADA EN EL UNIFORME N.° 4 (TIPO SELVA) Y N.° 4A (TIPO ÁRIDO) DEL PATRÓN DE CAMUFLAJE TERRESTRE “CAMALEÓN”. | C7: UNIDAD | D7: 62 | E7: 2270 | F7: 62 | G7: =F7/D7 -> 1 | H7: =+D7-F7 -> 0 | I7: =1-G7 -> 0
A8: 5 | B8: PARCHE DE IDENTIFICACION GRUPO SANGUINEO, (SELVA) ESPECIFICACIONES TÉCNICAS Y DIMENSIONES DE ACUERDO A BOLETIN 004 ESTANDARIZACIÓN DE LOS PARCHES DE COMBATE PARA LOS UNIFORMES N.° 4 (TIPO SELVA) Y N.° 4A (TIPO ÁRIDO) DEL PATRÓN DE CAMUFLAJE TERRESTRE “CAMALEÓN”. | C8: UNIDAD | D8: 62 | E8: 2099 | F8: 62 | G8: =F8/D8 -> 1 | H8: =+D8-F8 -> 0 | I8: =1-G8 -> 0
A9: 6 | B9: INSIGNIA DE GRADO SOLDADOS (SELVA) ESPECIFICACIONES TÉCNICAS Y DIMENSIONES DE ACUERDO A BOLETIN 004 ESTANDARIZACIÓN DE LOS PARCHES DE COMBATE PARA LOS UNIFORMES N.° 4 (TIPO SELVA) Y N.° 4A (TIPO ÁRIDO) DEL PATRÓN DE CAMUFLAJE TERRESTRE “CAMALEÓN”. | C9: JUEGO | D9: 62 | E9: 5080 | F9: 62 | G9: =F9/D9 -> 1 | H9: =+D9-F9 -> 0 | I9: =1-G9 -> 0
A10: 7 | B10: BRAZALETES TACTICOS x JUEGO DE 04 (COLOR NARANJA, VERDE, AZUL Y MORADO) ESPECIFICACIONES TÉCNICAS Y DIMENSIONES DE ACUERDO A NORMA TÉCNICA NTMD 0356-A2. | C10: JUEGO | D10: 31 | E10: 4165 | F10: 31 | G10: =F10/D10 -> 1 | H10: =+D10-F10 -> 0 | I10: =1-G10 -> 0
A11: 8 | B11: OJOS DE GATO. ESPECIFICACIONES TÉCNICAS Y DIMENSIONES DE ACUERDO A NORMA TÉCNICA NTMD 0356 - BOLETIN 004 ESTANDARIZACIÓN DE LOS PARCHES DE COMBATE PARA LOS UNIFORMES N.° 4 (TIPO SELVA) Y N.° 4A (TIPO ÁRIDO) DEL PATRÓN DE CAMUFLAJE TERRESTRE “CAMALEÓN”. | C11: UNIDAD | D11: 62 | E11: 1964 | F11: 62 | G11: =F11/D11 -> 1 | H11: =+D11-F11 -> 0 | I11: =1-G11 -> 0
A12: 9 | B12: JUEGO DE LIGAS PARA BOTAS MANGA PANTALON CAMUFLADO (SELVA) ESPECIFICACIONES TÉCNICAS Y DIMENSIONES DE ACUERDO A NORMA TÉCNICA NTMD 0356-A2 | C12: PAR | D12: 31 | E12: 2559 | F12: 31 | G12: =F12/D12 -> 1 | H12: =+D12-F12 -> 0 | I12: =1-G12 -> 0
A13: 10 | B13: PAÑUELOS ESPECIFICACIONES TÉCNICAS Y DIMENSIONES DE ACUERDO A NORMA TÉCNICA NTMD 0356-A2 | C13: UNIDAD | D13: 62 | E13: 2499 | F13: 62 | G13: =F13/D13 -> 1 | H13: =+D13-F13 -> 0 | I13: =1-G13 -> 0
A14: 11 | B14: BOLSO UTILES DE ASEO ESPECIFICACIONES TÉCNICAS Y DIMENSIONES DE ACUERDO A NORMA TÉCNICA NTMD 0356-A2 | C14: UNIDAD | D14: 31 | E14: 5791 | F14: 31 | G14: =F14/D14 -> 1 | H14: =+D14-F14 -> 0 | I14: =1-G14 -> 0
A15: 12 | B15: MALLA PARA CABELLO NEGRA MOÑA SEGÚN NORMA TECNICA No. CEDE 4-DIETE-ET-04937/INT-0 | C15: UNIDAD | D15: 31 | E15: 3373 | F15: 31 | G15: =F15/D15 -> 1 | H15: =+D15-F15 -> 0 | I15: =1-G15 -> 0
B16: A-02-02-01-002-08 DOTACIÓN (PRENDAS DE VESTIR Y CALZADO)
A17: 13 | B17: CALCETIN COLOR BLANCO PARA DEPORTE ESPECIFICACIONES TÉCNICAS Y DIMENSIONES DE ACUERDO A NORMA TÉCNICA NTMD 0356-A2 | C17: PAR | D17: 31 | E17: 5016 | F17: 31 | G17: =F17/D17 -> 1 | H17: =+D17-F17 -> 0 | I17: =1-G17 -> 0
A18: 14 | B18: UNIFORME DE DEPORTES COMPLETO - PANTALONETA Y CAMISETA ESPECIFICACIONES TÉCNICAS Y DIMENSIONES DE ACUERDO A NORMA TÉCNICA NTMD 0356-A2 | C18: UNIDAD | D18: 31 | E18: 41055 | F18: 31 | G18: =F18/D18 -> 1 | H18: =+D18-F18 -> 0 | I18: =1-G18 -> 0
A19: 15 | B19: CHANCLAS NEGRAS ESPECIFICACIONES TÉCNICAS Y DIMENSIONES DE ACUERDO A NORMA TÉCNICA NTMD 0356-A2 | C19: PAR | D19: 31 | E19: 7140 | F19: 31 | G19: =F19/D19 -> 1 | H19: =+D19-F19 -> 0 | I19: =1-G19 -> 0
A20: 16 | B20: JUEGO DE ROPA INTERIOR (TOP Y CACHETERO) SEGÚN NORMA TECNICA No. JEMPP-CEDE4-DIETE-ET-05573/INT-0 | C20: JUEGO | D20: 31 | E20: 45855 | F20: 31 | G20: =F20/D20 -> 1 | H20: =+D20-F20 -> 0 | I20: =1-G20 -> 0
A21: 17 | B21: BICICLETERO NEGRO CORTO SEGÚN NORMA TECNICA No. JEMPP-CEDE4-DIETE-ET-05595/INT-0 | C21: UNIDAD | D21: 31 | E21: 25521 | F21: 31 | G21: =F21/D21 -> 1 | H21: =+D21-F21 -> 0 | I21: =1-G21 -> 0
B22: A-02-02-01-003-002 PASTA O PULPA, PAPEL Y PRODUCTOS DE PAPEL; IMPRESOS Y ARTÍCULOS RELACIONADOS
A23: 18 | B23: CUADERNO DE 100 HOJAS COCIDO PASTA BLANDA ESPECIFICACIONES TÉCNICAS Y DIMENSIONES DE ACUERDO A NORMA TÉCNICA NTMD 0356-A2 | C23: UNIDAD | D23: 31 | E23: 2570 | F23: 31 | G23: =F23/D23 -> 1 | H23: =+D23-F23 -> 0 | I23: =1-G23 -> 0
A24: 19 | B24: PAPEL HIGIENICO TRIPLE HOJA ESPECIFICACIONES TÉCNICAS Y DIMENSIONES DE ACUERDO A NORMA TÉCNICA NTMD 0356-A2 | C24: UNIDAD | D24: 62 | E24: 2701 | F24: 62 | G24: =F24/D24 -> 1 | H24: =+D24-F24 -> 0 | I24: =1-G24 -> 0
A25: 20 | B25: TOALLAS SANITARIAS SEGÚN NORMA TECNICA No. NTC 3604-2006 PAQUETE X 24 UNIDADES | C25: PAQUETE | D25: 31 | E25: 14380 | F25: 26 | G25: =F25/D25 -> 0.83870968 | H25: =+D25-F25 -> 5 | I25: =1-G25 -> 0.16129032
B26: A-02-02-01-003-005 OTROS PRODUCTOS QUÍMICOS; FIBRAS ARTIFICIALES (O FIBRAS INDUSTRIALES HECHAS POR EL HOMBRE)
A27: 21 | B27: CAJA DE BETUN NEGRO ESPECIFICACIONES TÉCNICAS Y DIMENSIONES DE ACUERDO A NORMA TÉCNICA NTMD 0356-A2 | C27: UNIDAD | D27: 31 | E27: 6819 | F27: 31 | G27: =F27/D27 -> 1 | H27: =+D27-F27 -> 0 | I27: =1-G27 -> 0
A28: 22 | B28: TALCOS ESPECIFICACIONES TÉCNICAS Y DIMENSIONES DE ACUERDO A NORMA TÉCNICA NTMD 0356-A2 | C28: UNIDAD | D28: 31 | E28: 6819 | F28: 31 | G28: =F28/D28 -> 1 | H28: =+D28-F28 -> 0 | I28: =1-G28 -> 0
A29: 23 | B29: CREMA DENTAL ESPECIFICACIONES TÉCNICAS Y DIMENSIONES DE ACUERDO A NORMA TÉCNICA NTDM 0356-A2 | C29: UNIDAD | D29: 62 | E29: 6319 | F29: 62 | G29: =F29/D29 -> 1 | H29: =+D29-F29 -> 0 | I29: =1-G29 -> 0
A30: 24 | B30: DESODORANTE ANTITRASPIRANTE PARA MUJER- ESPECIFICACIONES TÉCNICAS Y DIMENSIONES DE ACUERDO A NORMA TÉCNICA NTMD 0356-A2 | C30: UNIDAD | D30: 31 | E30: 8961 | F30: 31 | G30: =F30/D30 -> 1 | H30: =+D30-F30 -> 0 | I30: =1-G30 -> 0
A31: 25 | B31: DESODORANTE MASCULINO ESPECIFICACIONES TÉCNICAS Y DIMENSIONES DE ACUERDO A NORMA TÉCNICA NTMD 0356-A2 | C31: UNIDAD | D31: 0 | E31: 8961 | F31: 0 | G31: 0 | H31: =+D31-F31 -> 0 | I31: 0
A32: 26 | B32: JABON DE BAÑO ANTIBACTERIAL ESPECIFICACIONES TÉCNICAS Y DIMENSIONES DE ACUERDO A NORMA TÉCNICA NTDM 0356-A2 | C32: UNIDAD | D32: 62 | E32: 3705 | F32: 62 | G32: =F32/D32 -> 1 | H32: =+D32-F32 -> 0 | I32: =1-G32 -> 0
A33: 27 | B33: JABON EN PASTA PARA LAVAR ROPA ESPECIFICACIONES TÉCNICAS Y DIMENSIONES DE ACUERDO A NORMA TÉCNICA NTMD 0356-A2 | C33: UNIDAD | D33: 31 | E33: 2832 | F33: 31 | G33: =F33/D33 -> 1 | H33: =+D33-F33 -> 0 | I33: =1-G33 -> 0
B34: A-02-02-01-003-006 PRODUCTOS DE CAUCHO Y PLÁSTICO
A35: 28 | B35: PROTECTORES AUDITIVOS ESPECIFICACIONES TÉCNICAS Y DIMENSIONES DE ACUERDO A NORMA TÉCNICA NTMD 0356-A2 | C35: UNIDAD | D35: 31 | E35: 2213 | F35: 31 | G35: =F35/D35 -> 1 | H35: =+D35-F35 -> 0 | I35: =1-G35 -> 0
A36: 29 | B36: JABONERA PLASTICA VERDE ESPECIFICACIONES TÉCNICAS Y DIMENSIONES DE ACUERDO A NORMA TÉCNICA NTMD 0356-A2 | C36: UNIDAD | D36: 31 | E36: 1488 | F36: 31 | G36: =F36/D36 -> 1 | H36: =+D36-F36 -> 0 | I36: =1-G36 -> 0
A37: 30 | B37: PORTA CEPILLO DE DIENTES ESPECIFICACIONES TÉCNICAS Y DIMENSIONES DE ACUERDO A NORMA TÉCNICA NTMD 0356-A2 | C37: UNIDAD | D37: 31 | E37: 2324 | F37: 31 | G37: =F37/D37 -> 1 | H37: =+D37-F37 -> 0 | I37: =1-G37 -> 0
B38: A-02-02-01-003-008 OTROS BIENES TRANSPORTABLES N.C.P.
A39: 31 | B39: CEPILLO DENTAL CON LIMPIADOR DE LENGUA ESPECIFICACIONES TÉCNICAS Y DIMENSIONES DE ACUERDO A NORMA TÉCNICA NTMD 0356-A2 | C39: UNIDAD | D39: 31 | E39: 3167 | F39: 31 | G39: =F39/D39 -> 1 | H39: =+D39-F39 -> 0 | I39: =1-G39 -> 0
A40: 32 | B40: PEINILLA NEGRA ESPECIFICACIONES TÉCNICAS Y DIMENSIONES DE ACUERDO A NORMA TÉCNICA NTMD 0356-A2 | C40: UNIDAD | D40: 31 | E40: 1252 | F40: 31 | G40: =F40/D40 -> 1 | H40: =+D40-F40 -> 0 | I40: =1-G40 -> 0
A41: 33 | B41: JUEGO CEPILLOS PARA BRILLAR CALZADO X02 (01 UNO GRANDE Y 01 UNO PEQUEÑO) ESPECIFICACIONES TÉCNICAS Y DIMENSIONES DE ACUERDO A NORMA TÉCNICA NTMD 0356-A2 | C41: JUEGO | D41: 31 | E41: 5593 | F41: 31 | G41: =F41/D41 -> 1 | H41: =+D41-F41 -> 0 | I41: =1-G41 -> 0
A42: 34 | B42: LAPICERO SIN MECANISMO RETRACTIL ESPECIFICACIONES TÉCNICAS Y DIMENSIONES DE ACUERDO A NORMA TÉCNICA NTMD 0356-A2 | C42: UNIDAD | D42: 31 | E42: 1328 | F42: 31 | G42: =F42/D42 -> 1 | H42: =+D42-F42 -> 0 | I42: =1-G42 -> 0
B43: A-02-02-01-004-002 PRODUCTOS METÁLICOS ELABORADOS (EXCEPTO MAQUINARIA Y EQUIPO)
A44: 35 | B44: CANDADO ESPECIFICACIONES TÉCNICAS Y DIMENSIONES DE ACUERDO A NORMA TÉCNICA NTMD 0356-A2 | C44: UNIDAD | D44: 31 | E44: 4379 | F44: 31 | G44: =F44/D44 -> 1 | H44: =+D44-F44 -> 0 | I44: =1-G44 -> 0
A45: 36 | B45: MAQUINA DE AFEITAR TRIPLE HOJA ESPECIFICACIONES TÉCNICAS Y DIMENSIONES DE ACUERDO A NORMA TÉCNICA NTMD 0356-A2 | C45: JUEGO | D45: 93 | E45: 2368 | F45: 93 | G45: =F45/D45 -> 1 | H45: =+D45-F45 -> 0 | I45: =1-G45 -> 0
A46: 37 | B46: CORTAUÑAS ESPECIFICACIONES TÉCNICAS Y DIMENSIONES DE ACUERDO A NORMA TÉCNICA NTMD 0356 -A2 | C46: UNIDAD | D46: 31 | E46: 4641 | F46: 31 | G46: =F46/D46 -> 1 | H46: =+D46-F46 -> 0 | I46: =1-G46 -> 0
A47: 38 | B47: JUEGO DE (02) PLACAS DE IDENTIFICACION, (01) PLACA PARA CUELLO Y (01) PLACA PARA BOTA, ESPECIFICACIONES TÉCNICAS Y DIMENSIONES DE ACUERDO A NORMA TÉCNICA NTMD 0356-A2 | C47: JUEGO | D47: 31 | E47: 11071 | F47: 31 | G47: =F47/D47 -> 1 | H47: =+D47-F47 -> 0 | I47: =1-G47 -> 0
D52: 31
D53: 31

Sheet BICOL
A1: ITEM | B1: DESCRIPCIÓN DEL BIEN Y/O SERVICIO | C1: UNIDAD MEDIDA | D1: CANTIDAD | E1: VALOR UNITARIO DE REFERENCIA | F1: VALOR TOTAL DE REFERENCIA
B2: A-02-02-01-002-007 ARTÍCULOS TEXTILES (EXCEPTO PRENDAS DE VESTIR)
A3: 1 | B3: PARCHE DE IDENTIFICACION PERSONAL (SELVA) ESPECIFICACIONES TÉCNICAS Y DIMENSIONES DE ACUERDO A BOLETIN 004 ESTANDARIZACIÓN DE LOS PARCHES DE COMBATE PARA LOS UNIFORMES N.° 4 (TIPO SELVA) Y N4A TIPO ARIDO DEL PATRÓN DE CAMUFLAJE TERRESTRE “CAMALEÓN”. | C3: UNIDAD | D3: 372 | E3: 1785 | F3: =+E3*D3 -> 664020
A4: 2 | B4: PARCHE DE EJERCITO (SELVA) ESPECIFICACIONES TÉCNICAS Y DIMENSIONES DE ACUERDO A BOLETIN 004 ESTANDARIZACIÓN DE LOS PARCHES DE COMBATE PARA LOS UNIFORMES N.° 4 (TIPO SELVA) Y N4A TIPO ARIDO DEL PATRÓN DE CAMUFLAJE TERRESTRE “CAMALEÓN”. | C4: UNIDAD | D4: 186 | E4: 2101 | F4: =+E4*D4 -> 390786
A5: 3 | B5: PARCHES DE LA UNIDAD SUPERIOR (02 UND) Y UNIDAD SUBALTERNA (02 UNID) SELVA Numeral ESPECIFICACIONES TECNICAS Y DIMENSIONES DE ACUERDO A BOLETIN 004 ESTANDARIZACION DE LOS PARCHES DE COMBATE PARA LOS UNIFORMES N 4 TIPO SELVA Y N 4A TIPO ARIDO DEL PATRON DE CAMUFLAJE TERRESTRE CAMALEON. | C5: UNIDAD | D5: 372 | E5: 5117 | F5: =+E5*D5 -> 1903524
A6: 4 | B6: BANDERA DE IDENTIFICACION (SELVA) ESPECIFICACIONES TÉCNICAS Y DIMENSIONES DE ACUERDO A BOLETIN 001 FEBRERO 2025 (DISDI) ESTANDARIZACIÓN DE LA BANDERA DE IDENTIFICACION EMPLEADA EN EL UNIFORME N.° 4 (TIPO SELVA) Y N.° 4A (TIPO ÁRIDO) DEL PATRÓN DE CAMUFLAJE TERRESTRE “CAMALEÓN”. | C6: UNIDAD | D6: 186 | E6: 2270 | F6: =+E6*D6 -> 422220
A7: 5 | B7: PARCHE DE IDENTIFICACION GRUPO SANGUINEO, (SELVA) ESPECIFICACIONES TÉCNICAS Y DIMENSIONES DE ACUERDO A BOLETIN 004 ESTANDARIZACIÓN DE LOS PARCHES DE COMBATE PARA LOS UNIFORMES N.° 4 (TIPO SELVA) Y N.° 4A (TIPO ÁRIDO) DEL PATRÓN DE CAMUFLAJE TERRESTRE “CAMALEÓN”. | C7: UNIDAD | D7: 186 | E7: 2099 | F7: =+E7*D7 -> 390414
A8: 6 | B8: INSIGNIA DE GRADO SOLDADOS (SELVA) ESPECIFICACIONES TÉCNICAS Y DIMENSIONES DE ACUERDO A BOLETIN 004 ESTANDARIZACIÓN DE LOS PARCHES DE COMBATE PARA LOS UNIFORMES N.° 4 (TIPO SELVA) Y N.° 4A (TIPO ÁRIDO) DEL PATRÓN DE CAMUFLAJE TERRESTRE “CAMALEÓN”. | C8: JUEGO | D8: 186 | E8: 5080 | F8: =+E8*D8 -> 944880
A9: 7 | B9: BRAZALETES TACTICOS x JUEGO DE 04 (COLOR NARANJA, VERDE, AZUL Y MORADO) ESPECIFICACIONES TÉCNICAS Y DIMENSIONES DE ACUERDO A NORMA TÉCNICA NTMD 0356-A2. | C9: JUEGO | D9: 93 | E9: 4165 | F9: =+E9*D9 -> 387345
A10: 8 | B10: OJOS DE GATO. ESPECIFICACIONES TÉCNICAS Y DIMENSIONES DE ACUERDO A NORMA TÉCNICA NTMD 0356 - BOLETIN 004 ESTANDARIZACIÓN DE LOS PARCHES DE COMBATE PARA LOS UNIFORMES N.° 4 (TIPO SELVA) Y N.° 4A (TIPO ÁRIDO) DEL PATRÓN DE CAMUFLAJE TERRESTRE “CAMALEÓN”. | C10: UNIDAD | D10: 186 | E10: 1964 | F10: =+E10*D10 -> 365304
A11: 9 | B11: JUEGO DE LIGAS PARA BOTAS MANGA PANTALON CAMUFLADO (SELVA) ESPECIFICACIONES TÉCNICAS Y DIMENSIONES DE ACUERDO A NORMA TÉCNICA NTMD 0356-A2 | C11: PAR | D11: 93 | E11: 2559 | F11: =+E11*D11 -> 237987
A12: 10 | B12: PAÑUELOS ESPECIFICACIONES TÉCNICAS Y DIMENSIONES DE ACUERDO A NORMA TÉCNICA NTMD 0356-A2 | C12: UNIDAD | D12: 186 | E12: 2499 | F12: =+E12*D12 -> 464814
A13: 11 | B13: BOLSO UTILES DE ASEO ESPECIFICACIONES TÉCNICAS Y DIMENSIONES DE ACUERDO A NORMA TÉCNICA NTMD 0356-A2 | C13: UNIDAD | D13: 93 | E13: 5791 | F13: =+E13*D13 -> 538563
A14: 12 | B14: MALLA PARA CABELLO NEGRA MOÑA SEGÚN NORMA TECNICA No. CEDE 4-DIETE-ET-04937/INT-0 | C14: UNIDAD | D14: 0 | E14: 3373 | F14: =+E14*D14 -> 0
B15: TOTAL A-02-02-01-002-007 ARTÍCULOS TEXTILES (EXCEPTO PRENDAS DE VESTIR) | F15: =SUM(F3:F14) -> 6709857
B16: A-02-02-01-002-08 DOTACIÓN (PRENDAS DE VESTIR Y CALZADO)
A17: 13 | B17: CALCETIN COLOR BLANCO PARA DEPORTE ESPECIFICACIONES TÉCNICAS Y DIMENSIONES DE ACUERDO A NORMA TÉCNICA NTMD 0356-A2 | C17: PAR | D17: 93 | E17: 5016 | F17: =+E17*D17 -> 466488
A18: 14 | B18: UNIFORME DE DEPORTES COMPLETO - PANTALONETA Y CAMISETA ESPECIFICACIONES TÉCNICAS Y DIMENSIONES DE ACUERDO A NORMA TÉCNICA NTMD 0356-A2 | C18: UNIDAD | D18: 93 | E18: 41055 | F18: =+E18*D18 -> 3818115
A19: 15 | B19: CHANCLAS NEGRAS ESPECIFICACIONES TÉCNICAS Y DIMENSIONES DE ACUERDO A NORMA TÉCNICA NTMD 0356-A2 | C19: PAR | D19: 93 | E19: 7140 | F19: =+E19*D19 -> 664020
A20: 16 | B20: JUEGO DE ROPA INTERIOR (TOP Y CACHETERO) SEGÚN NORMA TECNICA No. JEMPP-CEDE4-DIETE-ET-05573/INT-0 | C20: JUEGO | D20: 0 | E20: 45855 | F20: =+E20*D20 -> 0
A21: 17 | B21: BICICLETERO NEGRO CORTO SEGÚN NORMA TECNICA No. JEMPP-CEDE4-DIETE-ET-05595/INT-0 | C21: UNIDAD | D21: 0 | E21: 25521 | F21: =+E21*D21 -> 0
B22: TOTAL A-02-02-01-002-08 DOTACIÓN (PRENDAS DE VESTIR Y CALZADO) | F22: =SUM(F17:F21) -> 4948623
B23: A-02-02-01-003-002 PASTA O PULPA, PAPEL Y PRODUCTOS DE PAPEL; IMPRESOS Y ARTÍCULOS RELACIONADOS
A24: 18 | B24: CUADERNO DE 100 HOJAS COCIDO PASTA BLANDA ESPECIFICACIONES TÉCNICAS Y DIMENSIONES DE ACUERDO A NORMA TÉCNICA NTMD 0356-A2 | C24: UNIDAD | D24: 93 | E24: 2570 | F24: =+E24*D24 -> 239010
A25: 19 | B25: PAPEL HIGIENICO TRIPLE HOJA ESPECIFICACIONES TÉCNICAS Y DIMENSIONES DE ACUERDO A NORMA TÉCNICA NTMD 0356-A2 | C25: UNIDAD | D25: 186 | E25: 2701 | F25: =+E25*D25 -> 502386
A26: 20 | B26: TOALLAS SANITARIAS SEGÚN NORMA TECNICA No. NTC 3604-2006 PAQUETE X 24 UNIDADES | C26: PAQUETE | D26: 0 | E26: 14380 | F26: =+E26*D26 -> 0
B27: TOTAL A-02-02-01-003-002 PASTA O PULPA, PAPEL Y PRODUCTOS DE PAPEL; IMPRESOS Y ARTÍCULOS RELACIONADOS | F27: =SUM(F24:F26) -> 741396
B28: A-02-02-01-003-005 OTROS PRODUCTOS QUÍMICOS; FIBRAS ARTIFICIALES (O FIBRAS INDUSTRIALES HECHAS POR EL HOMBRE)
A29: 21 | B29: CAJA DE BETUN NEGRO ESPECIFICACIONES TÉCNICAS Y DIMENSIONES DE ACUERDO A NORMA TÉCNICA NTMD 0356-A2 | C29: UNIDAD | D29: 93 | E29: 6819 | F29: =+E29*D29 -> 634167
A30: 22 | B30: TALCOS ESPECIFICACIONES TÉCNICAS Y DIMENSIONES DE ACUERDO A NORMA TÉCNICA NTMD 0356-A2 | C30: UNIDAD | D30: 93 | E30: 6819 | F30: =+E30*D30 -> 634167
A31: 23 | B31: CREMA DENTAL ESPECIFICACIONES TÉCNICAS Y DIMENSIONES DE ACUERDO A NORMA TÉCNICA NTDM 0356-A2 | C31: UNIDAD | D31: 186 | E31: 6319 | F31: =+E31*D31 -> 1175334
A32: 24 | B32: DESODORANTE ANTITRASPIRANTE PARA MUJER- ESPECIFICACIONES TÉCNICAS Y DIMENSIONES DE ACUERDO A NORMA TÉCNICA NTMD 0356-A2 | C32: UNIDAD | D32: 0 | E32: 8961 | F32: =+E32*D32 -> 0
A33: 25 | B33: DESODORANTE MASCULINO ESPECIFICACIONES TÉCNICAS Y DIMENSIONES DE ACUERDO A NORMA TÉCNICA NTMD 0356-A2 | C33: UNIDAD | D33: 93 | E33: 8961 | F33: =+E33*D33 -> 833373
A34: 26 | B34: JABON DE BAÑO ANTIBACTERIAL ESPECIFICACIONES TÉCNICAS Y DIMENSIONES DE ACUERDO A NORMA TÉCNICA NTDM 0356-A2 | C34: UNIDAD | D34: 186 | E34: 3705 | F34: =+E34*D34 -> 689130
A35: 27 | B35: JABON EN PASTA PARA LAVAR ROPA ESPECIFICACIONES TÉCNICAS Y DIMENSIONES DE ACUERDO A NORMA TÉCNICA NTMD 0356-A2 | C35: UNIDAD | D35: 93 | E35: 2832 | F35: =+E35*D35 -> 263376
B36: TOTAL A-02-02-01-003-005 OTROS PRODUCTOS QUÍMICOS; FIBRAS ARTIFICIALES (O FIBRAS INDUSTRIALES HECHAS POR EL HOMBRE) | F36: =SUM(F29:F35) -> 4229547
B37: A-02-02-01-003-006 PRODUCTOS DE CAUCHO Y PLÁSTICO
A38: 28 | B38: PROTECTORES AUDITIVOS ESPECIFICACIONES TÉCNICAS Y DIMENSIONES DE ACUERDO A NORMA TÉCNICA NTMD 0356-A2 | C38: UNIDAD | D38: 93 | E38: 2213 | F38: =+E38*D38 -> 205809
A39: 29 | B39: JABONERA PLASTICA VERDE ESPECIFICACIONES TÉCNICAS Y DIMENSIONES DE ACUERDO A NORMA TÉCNICA NTMD 0356-A2 | C39: UNIDAD | D39: 93 | E39: 1488 | F39: =+E39*D39 -> 138384
A40: 30 | B40: PORTA CEPILLO DE DIENTES ESPECIFICACIONES TÉCNICAS Y DIMENSIONES DE ACUERDO A NORMA TÉCNICA NTMD 0356-A2 | C40: UNIDAD | D40: 93 | E40: 2324 | F40: =+E40*D40 -> 216132
B41: TOTAL A-02-02-01-003-006 PRODUCTOS DE CAUCHO Y PLÁSTICO | F41: =SUM(F38:F40) -> 560325
B42: A-02-02-01-003-008 OTROS BIENES TRANSPORTABLES N.C.P.
A43: 31 | B43: CEPILLO DENTAL CON LIMPIADOR DE LENGUA ESPECIFICACIONES TÉCNICAS Y DIMENSIONES DE ACUERDO A NORMA TÉCNICA NTMD 0356-A2 | C43: UNIDAD | D43: 93 | E43: 3167 | F43: =+E43*D43 -> 294531
A44: 32 | B44: PEINILLA NEGRA ESPECIFICACIONES TÉCNICAS Y DIMENSIONES DE ACUERDO A NORMA TÉCNICA NTMD 0356-A2 | C44: UNIDAD | D44: 93 | E44: 1252 | F44: =+E44*D44 -> 116436
A45: 33 | B45: JUEGO CEPILLOS PARA BRILLAR CALZADO X02 (01 UNO GRANDE Y 01 UNO PEQUEÑO) ESPECIFICACIONES TÉCNICAS Y DIMENSIONES DE ACUERDO A NORMA TÉCNICA NTMD 0356-A2 | C45: JUEGO | D45: 93 | E45: 5593 | F45: =+E45*D45 -> 520149
A46: 34 | B46: LAPICERO SIN MECANISMO RETRACTIL ESPECIFICACIONES TÉCNICAS Y DIMENSIONES DE ACUERDO A NORMA TÉCNICA NTMD 0356-A2 | C46: UNIDAD | D46: 93 | E46: 1328 | F46: =+E46*D46 -> 123504
B47: TOTAL A-02-02-01-003-008 OTROS BIENES TRANSPORTABLES N.C.P. | F47: =SUM(F43:F46) -> 1054620
B48: A-02-02-01-004-002 PRODUCTOS METÁLICOS ELABORADOS (EXCEPTO MAQUINARIA Y EQUIPO)
A49: 35 | B49: CANDADO ESPECIFICACIONES TÉCNICAS Y DIMENSIONES DE ACUERDO A NORMA TÉCNICA NTMD 0356-A2 | C49: UNIDAD | D49: 93 | E49: 4379 | F49: =+E49*D49 -> 407247
A50: 36 | B50: MAQUINA DE AFEITAR TRIPLE HOJA ESPECIFICACIONES TÉCNICAS Y DIMENSIONES DE ACUERDO A NORMA TÉCNICA NTMD 0356-A2 | C50: JUEGO | D50: 279 | E50: 2368 | F50: =+E50*D50 -> 660672
A51: 37 | B51: CORTAUÑAS ESPECIFICACIONES TÉCNICAS Y DIMENSIONES DE ACUERDO A NORMA TÉCNICA NTMD 0356 -A2 | C51: UNIDAD | D51: 93 | E51: 4641 | F51: =+E51*D51 -> 431613
A52: 38 | B52: JUEGO DE (02) PLACAS DE IDENTIFICACION, (01) PLACA PARA CUELLO Y (01) PLACA PARA BOTA, ESPECIFICACIONES TÉCNICAS Y DIMENSIONES DE ACUERDO A NORMA TÉCNICA NTMD 0356-A2 | C52: JUEGO | D52: 93 | E52: 11071 | F52: =+E52*D52 -> 1029603
B53: TOTAL A-02-02-01-004-002 PRODUCTOS METÁLICOS ELABORADOS (EXCEPTO MAQUINARIA Y EQUIPO) | F53: =SUM(F49:F52) -> 2529135
A54: TOTAL | F54: =+F53+F47+F41+F36+F27+F22+F15 -> 20773503

Sheet BAMAI
A1: ITEM | B1: DESCRIPCIÓN DEL BIEN Y/O SERVICIO | C1: UNIDAD MEDIDA | D1: CANTIDAD | E1: VALOR UNITARIO DE REFERENCIA | F1: VALOR TOTAL DE REFERENCIA
B2: A-02-02-01-002-007 ARTÍCULOS TEXTILES (EXCEPTO PRENDAS DE VESTIR)
A3: 1 | B3: PARCHE DE IDENTIFICACION PERSONAL (SELVA) ESPECIFICACIONES TÉCNICAS Y DIMENSIONES DE ACUERDO A BOLETIN 004 ESTANDARIZACIÓN DE LOS PARCHES DE COMBATE PARA LOS UNIFORMES N.° 4 (TIPO SELVA) Y N4A TIPO ARIDO DEL PATRÓN DE CAMUFLAJE TERRESTRE “CAMALEÓN”. | C3: UNIDAD | D3: 372 | E3: 1785 | F3: =+E3*D3 -> 664020
A4: 2 | B4: PARCHE DE EJERCITO (SELVA) ESPECIFICACIONES TÉCNICAS Y DIMENSIONES DE ACUERDO A BOLETIN 004 ESTANDARIZACIÓN DE LOS PARCHES DE COMBATE PARA LOS UNIFORMES N.° 4 (TIPO SELVA) Y N4A TIPO ARIDO DEL PATRÓN DE CAMUFLAJE TERRESTRE “CAMALEÓN”. | C4: UNIDAD | D4: 186 | E4: 2101 | F4: =+E4*D4 -> 390786
A5: 3 | B5: PARCHES DE LA UNIDAD SUPERIOR (02 UND) Y UNIDAD SUBALTERNA (02 UNID) SELVA Numeral ESPECIFICACIONES TECNICAS Y DIMENSIONES DE ACUERDO A BOLETIN 004 ESTANDARIZACION DE LOS PARCHES DE COMBATE PARA LOS UNIFORMES N 4 TIPO SELVA Y N 4A TIPO ARIDO DEL PATRON DE CAMUFLAJE TERRESTRE CAMALEON. | C5: UNIDAD | D5: 372 | E5: 5117 | F5: =+E5*D5 -> 1903524
A6: 4 | B6: BANDERA DE IDENTIFICACION (SELVA) ESPECIFICACIONES TÉCNICAS Y DIMENSIONES DE ACUERDO A BOLETIN 001 FEBRERO 2025 (DISDI) ESTANDARIZACIÓN DE LA BANDERA DE IDENTIFICACION EMPLEADA EN EL UNIFORME N.° 4 (TIPO SELVA) Y N.° 4A (TIPO ÁRIDO) DEL PATRÓN DE CAMUFLAJE TERRESTRE “CAMALEÓN”. | C6: UNIDAD | D6: 186 | E6: 2270 | F6: =+E6*D6 -> 422220
A7: 5 | B7: PARCHE DE IDENTIFICACION GRUPO SANGUINEO, (SELVA) ESPECIFICACIONES TÉCNICAS Y DIMENSIONES DE ACUERDO A BOLETIN 004 ESTANDARIZACIÓN DE LOS PARCHES DE COMBATE PARA LOS UNIFORMES N.° 4 (TIPO SELVA) Y N.° 4A (TIPO ÁRIDO) DEL PATRÓN DE CAMUFLAJE TERRESTRE “CAMALEÓN”. | C7: UNIDAD | D7: 186 | E7: 2099 | F7: =+E7*D7 -> 390414
A8: 6 | B8: INSIGNIA DE GRADO SOLDADOS (SELVA) ESPECIFICACIONES TÉCNICAS Y DIMENSIONES DE ACUERDO A BOLETIN 004 ESTANDARIZACIÓN DE LOS PARCHES DE COMBATE PARA LOS UNIFORMES N.° 4 (TIPO SELVA) Y N.° 4A (TIPO ÁRIDO) DEL PATRÓN DE CAMUFLAJE TERRESTRE “CAMALEÓN”. | C8: JUEGO | D8: 186 | E8: 5080 | F8: =+E8*D8 -> 944880
A9: 7 | B9: BRAZALETES TACTICOS x JUEGO DE 04 (COLOR NARANJA, VERDE, AZUL Y MORADO) ESPECIFICACIONES TÉCNICAS Y DIMENSIONES DE ACUERDO A NORMA TÉCNICA NTMD 0356-A2. | C9: JUEGO | D9: 93 | E9: 4165 | F9: =+E9*D9 -> 387345
A10: 8 | B10: OJOS DE GATO. ESPECIFICACIONES TÉCNICAS Y DIMENSIONES DE ACUERDO A NORMA TÉCNICA NTMD 0356 - BOLETIN 004 ESTANDARIZACIÓN DE LOS PARCHES DE COMBATE PARA LOS UNIFORMES N.° 4 (TIPO SELVA) Y N.° 4A (TIPO ÁRIDO) DEL PATRÓN DE CAMUFLAJE TERRESTRE “CAMALEÓN”. | C10: UNIDAD | D10: 186 | E10: 1964 | F10: =+E10*D10 -> 365304
A11: 9 | B11: JUEGO DE LIGAS PARA BOTAS MANGA PANTALON CAMUFLADO (SELVA) ESPECIFICACIONES TÉCNICAS Y DIMENSIONES DE ACUERDO A NORMA TÉCNICA NTMD 0356-A2 | C11: PAR | D11: 93 | E11: 2559 | F11: =+E11*D11 -> 237987
A12: 10 | B12: PAÑUELOS ESPECIFICACIONES TÉCNICAS Y DIMENSIONES DE ACUERDO A NORMA TÉCNICA NTMD 0356-A2 | C12: UNIDAD | D12: 186 | E12: 2499 | F12: =+E12*D12 -> 464814
A13: 11 | B13: BOLSO UTILES DE ASEO ESPECIFICACIONES TÉCNICAS Y DIMENSIONES DE ACUERDO A NORMA TÉCNICA NTMD 0356-A2 | C13: UNIDAD | D13: 93 | E13: 5791 | F13: =+E13*D13 -> 538563
A14: 12 | B14: MALLA PARA CABELLO NEGRA MOÑA SEGÚN NORMA TECNICA No. CEDE 4-DIETE-ET-04937/INT-0 | C14: UNIDAD | D14: 31 | E14: 3373 | F14: =+E14*D14 -> 104563
B15: TOTAL A-02-02-01-002-007 ARTÍCULOS TEXTILES (EXCEPTO PRENDAS DE VESTIR) | F15: =SUM(F3:F14) -> 6814420
B16: A-02-02-01-002-08 DOTACIÓN (PRENDAS DE VESTIR Y CALZADO)
A17: 13 | B17: CALCETIN COLOR BLANCO PARA DEPORTE ESPECIFICACIONES TÉCNICAS Y DIMENSIONES DE ACUERDO A NORMA TÉCNICA NTMD 0356-A2 | C17: PAR | D17: 93 | E17: 5016 | F17: =+E17*D17 -> 466488
A18: 14 | B18: UNIFORME DE DEPORTES COMPLETO - PANTALONETA Y CAMISETA ESPECIFICACIONES TÉCNICAS Y DIMENSIONES DE ACUERDO A NORMA TÉCNICA NTMD 0356-A2 | C18: UNIDAD | D18: 93 | E18: 41055 | F18: =+E18*D18 -> 3818115
A19: 15 | B19: CHANCLAS NEGRAS ESPECIFICACIONES TÉCNICAS Y DIMENSIONES DE ACUERDO A NORMA TÉCNICA NTMD 0356-A2 | C19: PAR | D19: 93 | E19: 7140 | F19: =+E19*D19 -> 664020
A20: 16 | B20: JUEGO DE ROPA INTERIOR (TOP Y CACHETERO) SEGÚN NORMA TECNICA No. JEMPP-CEDE4-DIETE-ET-05573/INT-0 | C20: JUEGO | D20: 31 | E20: 45855 | F20: =+E20*D20 -> 1421505
A21: 17 | B21: BICICLETERO NEGRO CORTO SEGÚN NORMA TECNICA No. JEMPP-CEDE4-DIETE-ET-05595/INT-0 | C21: UNIDAD | D21: 31 | E21: 25521 | F21: =+E21*D21 -> 791151
B22: TOTAL A-02-02-01-002-08 DOTACIÓN (PRENDAS DE VESTIR Y CALZADO) | F22: =SUM(F17:F21) -> 7161279
B23: A-02-02-01-003-002 PASTA O PULPA, PAPEL Y PRODUCTOS DE PAPEL; IMPRESOS Y ARTÍCULOS RELACIONADOS
A24: 18 | B24: CUADERNO DE 100 HOJAS COCIDO PASTA BLANDA ESPECIFICACIONES TÉCNICAS Y DIMENSIONES DE ACUERDO A NORMA TÉCNICA NTMD 0356-A2 | C24: UNIDAD | D24: 93 | E24: 2570 | F24: =+E24*D24 -> 239010
A25: 19 | B25: PAPEL HIGIENICO TRIPLE HOJA ESPECIFICACIONES TÉCNICAS Y DIMENSIONES DE ACUERDO A NORMA TÉCNICA NTMD 0356-A2 | C25: UNIDAD | D25: 186 | E25: 2701 | F25: =+E25*D25 -> 502386
A26: 20 | B26: TOALLAS SANITARIAS SEGÚN NORMA TECNICA No. NTC 3604-2006 PAQUETE X 24 UNIDADES | C26: PAQUETE | D26: 28 | E26: 14380 | F26: =+E26*D26 -> 402640
B27: TOTAL A-02-02-01-003-002 PASTA O PULPA, PAPEL Y PRODUCTOS DE PAPEL; IMPRESOS Y ARTÍCULOS RELACIONADOS | F27: =SUM(F24:F26) -> 1144036
B28: A-02-02-01-003-005 OTROS PRODUCTOS QUÍMICOS; FIBRAS ARTIFICIALES (O FIBRAS INDUSTRIALES HECHAS POR EL HOMBRE)
A29: 21 | B29: CAJA DE BETUN NEGRO ESPECIFICACIONES TÉCNICAS Y DIMENSIONES DE ACUERDO A NORMA TÉCNICA NTMD 0356-A2 | C29: UNIDAD | D29: 93 | E29: 6819 | F29: =+E29*D29 -> 634167
A30: 22 | B30: TALCOS ESPECIFICACIONES TÉCNICAS Y DIMENSIONES DE ACUERDO A NORMA TÉCNICA NTMD 0356-A2 | C30: UNIDAD | D30: 93 | E30: 6819 | F30: =+E30*D30 -> 634167
A31: 23 | B31: CREMA DENTAL ESPECIFICACIONES TÉCNICAS Y DIMENSIONES DE ACUERDO A NORMA TÉCNICA NTDM 0356-A2 | C31: UNIDAD | D31: 186 | E31: 6319 | F31: =+E31*D31 -> 1175334
A32: 24 | B32: DESODORANTE ANTITRASPIRANTE PARA MUJER- ESPECIFICACIONES TÉCNICAS Y DIMENSIONES DE ACUERDO A NORMA TÉCNICA NTMD 0356-A2 | C32: UNIDAD | D32: 31 | E32: 8961 | F32: =+E32*D32 -> 277791
A33: 25 | B33: DESODORANTE MASCULINO ESPECIFICACIONES TÉCNICAS Y DIMENSIONES DE ACUERDO A NORMA TÉCNICA NTMD 0356-A2 | C33: UNIDAD | D33: 62 | E33: 8961 | F33: =+E33*D33 -> 555582
A34: 26 | B34: JABON DE BAÑO ANTIBACTERIAL ESPECIFICACIONES TÉCNICAS Y DIMENSIONES DE ACUERDO A NORMA TÉCNICA NTDM 0356-A2 | C34: UNIDAD | D34: 186 | E34: 3705 | F34: =+E34*D34 -> 689130
A35: 27 | B35: JABON EN PASTA PARA LAVAR ROPA ESPECIFICACIONES TÉCNICAS Y DIMENSIONES DE ACUERDO A NORMA TÉCNICA NTMD 0356-A2 | C35: UNIDAD | D35: 93 | E35: 2832 | F35: =+E35*D35 -> 263376
B36: TOTAL A-02-02-01-003-005 OTROS PRODUCTOS QUÍMICOS; FIBRAS ARTIFICIALES (O FIBRAS INDUSTRIALES HECHAS POR EL HOMBRE) | F36: =SUM(F29:F35) -> 4229547
B37: A-02-02-01-003-006 PRODUCTOS DE CAUCHO Y PLÁSTICO
A38: 28 | B38: PROTECTORES AUDITIVOS ESPECIFICACIONES TÉCNICAS Y DIMENSIONES DE ACUERDO A NORMA TÉCNICA NTMD 0356-A2 | C38: UNIDAD | D38: 93 | E38: 2213 | F38: =+E38*D38 -> 205809
A39: 29 | B39: JABONERA PLASTICA VERDE ESPECIFICACIONES TÉCNICAS Y DIMENSIONES DE ACUERDO A NORMA TÉCNICA NTMD 0356-A2 | C39: UNIDAD | D39: 93 | E39: 1488 | F39: =+E39*D39 -> 138384
A40: 30 | B40: PORTA CEPILLO DE DIENTES ESPECIFICACIONES TÉCNICAS Y DIMENSIONES DE ACUERDO A NORMA TÉCNICA NTMD 0356-A2 | C40: UNIDAD | D40: 93 | E40: 2324 | F40: =+E40*D40 -> 216132
B41: TOTAL A-02-02-01-003-006 PRODUCTOS DE CAUCHO Y PLÁSTICO | F41: =SUM(F38:F40) -> 560325
B42: A-02-02-01-003-008 OTROS BIENES TRANSPORTABLES N.C.P.
A43: 31 | B43: CEPILLO DENTAL CON LIMPIADOR DE LENGUA ESPECIFICACIONES TÉCNICAS Y DIMENSIONES DE ACUERDO A NORMA TÉCNICA NTMD 0356-A2 | C43: UNIDAD | D43: 93 | E43: 3167 | F43: =+E43*D43 -> 294531
A44: 32 | B44: PEINILLA NEGRA ESPECIFICACIONES TÉCNICAS Y DIMENSIONES DE ACUERDO A NORMA TÉCNICA NTMD 0356-A2 | C44: UNIDAD | D44: 93 | E44: 1252 | F44: =+E44*D44 -> 116436
A45: 33 | B45: JUEGO CEPILLOS PARA BRILLAR CALZADO X02 (01 UNO GRANDE Y 01 UNO PEQUEÑO) ESPECIFICACIONES TÉCNICAS Y DIMENSIONES DE ACUERDO A NORMA TÉCNICA NTMD 0356-A2 | C45: JUEGO | D45: 93 | E45: 5593 | F45: =+E45*D45 -> 520149
A46: 34 | B46: LAPICERO SIN MECANISMO RETRACTIL ESPECIFICACIONES TÉCNICAS Y DIMENSIONES DE ACUERDO A NORMA TÉCNICA NTMD 0356-A2 | C46: UNIDAD | D46: 93 | E46: 1328 | F46: =+E46*D46 -> 123504
B47: TOTAL A-02-02-01-003-008 OTROS BIENES TRANSPORTABLES N.C.P. | F47: =SUM(F43:F46) -> 1054620
B48: A-02-02-01-004-002 PRODUCTOS METÁLICOS ELABORADOS (EXCEPTO MAQUINARIA Y EQUIPO)
A49: 35 | B49: CANDADO ESPECIFICACIONES TÉCNICAS Y DIMENSIONES DE ACUERDO A NORMA TÉCNICA NTMD 0356-A2 | C49: UNIDAD | D49: 93 | E49: 4379 | F49: =+E49*D49 -> 407247
A50: 36 | B50: MAQUINA DE AFEITAR TRIPLE HOJA ESPECIFICACIONES TÉCNICAS Y DIMENSIONES DE ACUERDO A NORMA TÉCNICA NTMD 0356-A2 | C50: JUEGO | D50: 279 | E50: 2368 | F50: =+E50*D50 -> 660672
A51: 37 | B51: CORTAUÑAS ESPECIFICACIONES TÉCNICAS Y DIMENSIONES DE ACUERDO A NORMA TÉCNICA NTMD 0356 -A2 | C51: UNIDAD | D51: 93 | E51: 4641 | F51: =+E51*D51 -> 431613
A52: 38 | B52: JUEGO DE (02) PLACAS DE IDENTIFICACION, (01) PLACA PARA CUELLO Y (01) PLACA PARA BOTA, ESPECIFICACIONES TÉCNICAS Y DIMENSIONES DE ACUERDO A NORMA TÉCNICA NTMD 0356-A2 | C52: JUEGO | D52: 93 | E52: 11071 | F52: =+E52*D52 -> 1029603
B53: TOTAL A-02-02-01-004-002 PRODUCTOS METÁLICOS ELABORADOS (EXCEPTO MAQUINARIA Y EQUIPO) | F53: =SUM(F49:F52) -> 2529135
A54: TOTAL | F54: =+F53+F47+F41+F36+F27+F22+F15 -> 23493362

Sheet USA BRING
A1: ITEM | B1: DESCRIPCIÓN DEL BIEN Y/O SERVICIO | C1: UNIDAD MEDIDA | D1: CANTIDAD | E1: VALOR UNITARIO DE REFERENCIA | F1: VALOR TOTAL DE REFERENCIA
B2: A-02-02-01-002-007 ARTÍCULOS TEXTILES (EXCEPTO PRENDAS DE VESTIR)
A3: 1 | B3: PARCHE DE IDENTIFICACION PERSONAL (SELVA) ESPECIFICACIONES TÉCNICAS Y DIMENSIONES DE ACUERDO A BOLETIN 004 ESTANDARIZACIÓN DE LOS PARCHES DE COMBATE PARA LOS UNIFORMES N.° 4 (TIPO SELVA) Y N4A TIPO ARIDO DEL PATRÓN DE CAMUFLAJE TERRESTRE “CAMALEÓN”. | C3: UNIDAD | D3: 124 | E3: 1785 | F3: =+E3*D3 -> 221340
A4: 2 | B4: PARCHE DE EJERCITO (SELVA) ESPECIFICACIONES TÉCNICAS Y DIMENSIONES DE ACUERDO A BOLETIN 004 ESTANDARIZACIÓN DE LOS PARCHES DE COMBATE PARA LOS UNIFORMES N.° 4 (TIPO SELVA) Y N4A TIPO ARIDO DEL PATRÓN DE CAMUFLAJE TERRESTRE “CAMALEÓN”. | C4: UNIDAD | D4: 62 | E4: 2101 | F4: =+E4*D4 -> 130262
A5: 3 | B5: PARCHES DE LA UNIDAD SUPERIOR (02 UND) Y UNIDAD SUBALTERNA (02 UNID) SELVA Numeral ESPECIFICACIONES TECNICAS Y DIMENSIONES DE ACUERDO A BOLETIN 004 ESTANDARIZACION DE LOS PARCHES DE COMBATE PARA LOS UNIFORMES N 4 TIPO SELVA Y N 4A TIPO ARIDO DEL PATRON DE CAMUFLAJE TERRESTRE CAMALEON. | C5: UNIDAD | D5: 124 | E5: 5117 | F5: =+E5*D5 -> 634508
A6: 4 | B6: BANDERA DE IDENTIFICACION (SELVA) ESPECIFICACIONES TÉCNICAS Y DIMENSIONES DE ACUERDO A BOLETIN 001 FEBRERO 2025 (DISDI) ESTANDARIZACIÓN DE LA BANDERA DE IDENTIFICACION EMPLEADA EN EL UNIFORME N.° 4 (TIPO SELVA) Y N.° 4A (TIPO ÁRIDO) DEL PATRÓN DE CAMUFLAJE TERRESTRE “CAMALEÓN”. | C6: UNIDAD | D6: 62 | E6: 2270 | F6: =+E6*D6 -> 140740
A7: 5 | B7: PARCHE DE IDENTIFICACION GRUPO SANGUINEO, (SELVA) ESPECIFICACIONES TÉCNICAS Y DIMENSIONES DE ACUERDO A BOLETIN 004 ESTANDARIZACIÓN DE LOS PARCHES DE COMBATE PARA LOS UNIFORMES N.° 4 (TIPO SELVA) Y N.° 4A (TIPO ÁRIDO) DEL PATRÓN DE CAMUFLAJE TERRESTRE “CAMALEÓN”. | C7: UNIDAD | D7: 62 | E7: 2099 | F7: =+E7*D7 -> 130138
A8: 6 | B8: INSIGNIA DE GRADO SOLDADOS (SELVA) ESPECIFICACIONES TÉCNICAS Y DIMENSIONES DE ACUERDO A BOLETIN 004 ESTANDARIZACIÓN DE LOS PARCHES DE COMBATE PARA LOS UNIFORMES N.° 4 (TIPO SELVA) Y N.° 4A (TIPO ÁRIDO) DEL PATRÓN DE CAMUFLAJE TERRESTRE “CAMALEÓN”. | C8: JUEGO | D8: 62 | E8: 5080 | F8: =+E8*D8 -> 314960
A9: 7 | B9: BRAZALETES TACTICOS x JUEGO DE 04 (COLOR NARANJA, VERDE, AZUL Y MORADO) ESPECIFICACIONES TÉCNICAS Y DIMENSIONES DE ACUERDO A NORMA TÉCNICA NTMD 0356-A2. | C9: JUEGO | D9: 31 | E9: 4165 | F9: =+E9*D9 -> 129115
A10: 8 | B10: OJOS DE GATO. ESPECIFICACIONES TÉCNICAS Y DIMENSIONES DE ACUERDO A NORMA TÉCNICA NTMD 0356 - BOLETIN 004 ESTANDARIZACIÓN DE LOS PARCHES DE COMBATE PARA LOS UNIFORMES N.° 4 (TIPO SELVA) Y N.° 4A (TIPO ÁRIDO) DEL PATRÓN DE CAMUFLAJE TERRESTRE “CAMALEÓN”. | C10: UNIDAD | D10: 62 | E10: 1964 | F10: =+E10*D10 -> 121768
A11: 9 | B11: JUEGO DE LIGAS PARA BOTAS MANGA PANTALON CAMUFLADO (SELVA) ESPECIFICACIONES TÉCNICAS Y DIMENSIONES DE ACUERDO A NORMA TÉCNICA NTMD 0356-A2 | C11: PAR | D11: 31 | E11: 2559 | F11: =+E11*D11 -> 79329
A12: 10 | B12: PAÑUELOS ESPECIFICACIONES TÉCNICAS Y DIMENSIONES DE ACUERDO A NORMA TÉCNICA NTMD 0356-A2 | C12: UNIDAD | D12: 62 | E12: 2499 | F12: =+E12*D12 -> 154938
A13: 11 | B13: BOLSO UTILES DE ASEO ESPECIFICACIONES TÉCNICAS Y DIMENSIONES DE ACUERDO A NORMA TÉCNICA NTMD 0356-A2 | C13: UNIDAD | D13: 31 | E13: 5791 | F13: =+E13*D13 -> 179521
A14: 12 | B14: MALLA PARA CABELLO NEGRA MOÑA SEGÚN NORMA TECNICA No. CEDE 4-DIETE-ET-04937/INT-0 | C14: UNIDAD | D14: 0 | E14: 3373 | F14: =+E14*D14 -> 0
B15: TOTAL A-02-02-01-002-007 ARTÍCULOS TEXTILES (EXCEPTO PRENDAS DE VESTIR) | F15: =SUM(F3:F14) -> 2236619 | I15: =+#REF!-F15 -> #REF!
B16: A-02-02-01-002-08 DOTACIÓN (PRENDAS DE VESTIR Y CALZADO)
A17: 13 | B17: CALCETIN COLOR BLANCO PARA DEPORTE ESPECIFICACIONES TÉCNICAS Y DIMENSIONES DE ACUERDO A NORMA TÉCNICA NTMD 0356-A2 | C17: PAR | D17: 31 | E17: 5016 | F17: =+E17*D17 -> 155496
A18: 14 | B18: UNIFORME DE DEPORTES COMPLETO - PANTALONETA Y CAMISETA ESPECIFICACIONES TÉCNICAS Y DIMENSIONES DE ACUERDO A NORMA TÉCNICA NTMD 0356-A2 | C18: UNIDAD | D18: 31 | E18: 41055 | F18: =+E18*D18 -> 1272705
A19: 15 | B19: CHANCLAS NEGRAS ESPECIFICACIONES TÉCNICAS Y DIMENSIONES DE ACUERDO A NORMA TÉCNICA NTMD 0356-A2 | C19: PAR | D19: 31 | E19: 7140 | F19: =+E19*D19 -> 221340
A20: 16 | B20: JUEGO DE ROPA INTERIOR (TOP Y CACHETERO) SEGÚN NORMA TECNICA No. JEMPP-CEDE4-DIETE-ET-05573/INT-0 | C20: JUEGO | D20: 0 | E20: 45855 | F20: =+E20*D20 -> 0
A21: 17 | B21: BICICLETERO NEGRO CORTO SEGÚN NORMA TECNICA No. JEMPP-CEDE4-DIETE-ET-05595/INT-0 | C21: UNIDAD | D21: 0 | E21: 25521 | F21: =+E21*D21 -> 0
B22: TOTAL A-02-02-01-002-08 DOTACIÓN (PRENDAS DE VESTIR Y CALZADO) | F22: =SUM(F17:F21) -> 1649541
B23: A-02-02-01-003-002 PASTA O PULPA, PAPEL Y PRODUCTOS DE PAPEL; IMPRESOS Y ARTÍCULOS RELACIONADOS
A24: 18 | B24: CUADERNO DE 100 HOJAS COCIDO PASTA BLANDA ESPECIFICACIONES TÉCNICAS Y DIMENSIONES DE ACUERDO A NORMA TÉCNICA NTMD 0356-A2 | C24: UNIDAD | D24: 31 | E24: 2570 | F24: =+E24*D24 -> 79670
A25: 19 | B25: PAPEL HIGIENICO TRIPLE HOJA ESPECIFICACIONES TÉCNICAS Y DIMENSIONES DE ACUERDO A NORMA TÉCNICA NTMD 0356-A2 | C25: UNIDAD | D25: 62 | E25: 2701 | F25: =+E25*D25 -> 167462
A26: 20 | B26: TOALLAS SANITARIAS SEGÚN NORMA TECNICA No. NTC 3604-2006 PAQUETE X 24 UNIDADES | C26: PAQUETE | D26: 0 | E26: 14380 | F26: =+E26*D26 -> 0
B27: TOTAL A-02-02-01-003-002 PASTA O PULPA, PAPEL Y PRODUCTOS DE PAPEL; IMPRESOS Y ARTÍCULOS RELACIONADOS | F27: =SUM(F24:F26) -> 247132
B28: A-02-02-01-003-005 OTROS PRODUCTOS QUÍMICOS; FIBRAS ARTIFICIALES (O FIBRAS INDUSTRIALES HECHAS POR EL HOMBRE)
A29: 21 | B29: CAJA DE BETUN NEGRO ESPECIFICACIONES TÉCNICAS Y DIMENSIONES DE ACUERDO A NORMA TÉCNICA NTMD 0356-A2 | C29: UNIDAD | D29: 31 | E29: 6819 | F29: =+E29*D29 -> 211389
A30: 22 | B30: TALCOS ESPECIFICACIONES TÉCNICAS Y DIMENSIONES DE ACUERDO A NORMA TÉCNICA NTMD 0356-A2 | C30: UNIDAD | D30: 31 | E30: 6819 | F30: =+E30*D30 -> 211389
A31: 23 | B31: CREMA DENTAL ESPECIFICACIONES TÉCNICAS Y DIMENSIONES DE ACUERDO A NORMA TÉCNICA NTDM 0356-A2 | C31: UNIDAD | D31: 62 | E31: 6319 | F31: =+E31*D31 -> 391778
A32: 24 | B32: DESODORANTE ANTITRASPIRANTE PARA MUJER- ESPECIFICACIONES TÉCNICAS Y DIMENSIONES DE ACUERDO A NORMA TÉCNICA NTMD 0356-A2 | C32: UNIDAD | D32: 0 | E32: 8961 | F32: =+E32*D32 -> 0
A33: 25 | B33: DESODORANTE MASCULINO ESPECIFICACIONES TÉCNICAS Y DIMENSIONES DE ACUERDO A NORMA TÉCNICA NTMD 0356-A2 | C33: UNIDAD | D33: 31 | E33: 8961 | F33: =+E33*D33 -> 277791
A34: 26 | B34: JABON DE BAÑO ANTIBACTERIAL ESPECIFICACIONES TÉCNICAS Y DIMENSIONES DE ACUERDO A NORMA TÉCNICA NTDM 0356-A2 | C34: UNIDAD | D34: 62 | E34: 3705 | F34: =+E34*D34 -> 229710
A35: 27 | B35: JABON EN PASTA PARA LAVAR ROPA ESPECIFICACIONES TÉCNICAS Y DIMENSIONES DE ACUERDO A NORMA TÉCNICA NTMD 0356-A2 | C35: UNIDAD | D35: 31 | E35: 2832 | F35: =+E35*D35 -> 87792
B36: TOTAL A-02-02-01-003-005 OTROS PRODUCTOS QUÍMICOS; FIBRAS ARTIFICIALES (O FIBRAS INDUSTRIALES HECHAS POR EL HOMBRE) | F36: =SUM(F29:F35) -> 1409849
B37: A-02-02-01-003-006 PRODUCTOS DE CAUCHO Y PLÁSTICO
A38: 28 | B38: PROTECTORES AUDITIVOS ESPECIFICACIONES TÉCNICAS Y DIMENSIONES DE ACUERDO A NORMA TÉCNICA NTMD 0356-A2 | C38: UNIDAD | D38: 31 | E38: 2213 | F38: =+E38*D38 -> 68603
A39: 29 | B39: JABONERA PLASTICA VERDE ESPECIFICACIONES TÉCNICAS Y DIMENSIONES DE ACUERDO A NORMA TÉCNICA NTMD 0356-A2 | C39: UNIDAD | D39: 31 | E39: 1488 | F39: =+E39*D39 -> 46128
A40: 30 | B40: PORTA CEPILLO DE DIENTES ESPECIFICACIONES TÉCNICAS Y DIMENSIONES DE ACUERDO A NORMA TÉCNICA NTMD 0356-A2 | C40: UNIDAD | D40: 31 | E40: 2324 | F40: =+E40*D40 -> 72044
B41: TOTAL A-02-02-01-003-006 PRODUCTOS DE CAUCHO Y PLÁSTICO | F41: =SUM(F38:F40) -> 186775
B42: A-02-02-01-003-008 OTROS BIENES TRANSPORTABLES N.C.P.
A43: 31 | B43: CEPILLO DENTAL CON LIMPIADOR DE LENGUA ESPECIFICACIONES TÉCNICAS Y DIMENSIONES DE ACUERDO A NORMA TÉCNICA NTMD 0356-A2 | C43: UNIDAD | D43: 31 | E43: 3167 | F43: =+E43*D43 -> 98177
A44: 32 | B44: PEINILLA NEGRA ESPECIFICACIONES TÉCNICAS Y DIMENSIONES DE ACUERDO A NORMA TÉCNICA NTMD 0356-A2 | C44: UNIDAD | D44: 31 | E44: 1252 | F44: =+E44*D44 -> 38812
A45: 33 | B45: JUEGO CEPILLOS PARA BRILLAR CALZADO X02 (01 UNO GRANDE Y 01 UNO PEQUEÑO) ESPECIFICACIONES TÉCNICAS Y DIMENSIONES DE ACUERDO A NORMA TÉCNICA NTMD 0356-A2 | C45: JUEGO | D45: 31 | E45: 5593 | F45: =+E45*D45 -> 173383
A46: 34 | B46: LAPICERO SIN MECANISMO RETRACTIL ESPECIFICACIONES TÉCNICAS Y DIMENSIONES DE ACUERDO A NORMA TÉCNICA NTMD 0356-A2 | C46: UNIDAD | D46: 31 | E46: 1328 | F46: =+E46*D46 -> 41168
B47: TOTAL A-02-02-01-003-008 OTROS BIENES TRANSPORTABLES N.C.P. | F47: =SUM(F43:F46) -> 351540
B48: A-02-02-01-004-002 PRODUCTOS METÁLICOS ELABORADOS (EXCEPTO MAQUINARIA Y EQUIPO)
A49: 35 | B49: CANDADO ESPECIFICACIONES TÉCNICAS Y DIMENSIONES DE ACUERDO A NORMA TÉCNICA NTMD 0356-A2 | C49: UNIDAD | D49: 31 | E49: 4379 | F49: =+E49*D49 -> 135749
A50: 36 | B50: MAQUINA DE AFEITAR TRIPLE HOJA ESPECIFICACIONES TÉCNICAS Y DIMENSIONES DE ACUERDO A NORMA TÉCNICA NTMD 0356-A2 | C50: JUEGO | D50: 93 | E50: 2368 | F50: =+E50*D50 -> 220224
A51: 37 | B51: CORTAUÑAS ESPECIFICACIONES TÉCNICAS Y DIMENSIONES DE ACUERDO A NORMA TÉCNICA NTMD 0356 -A2 | C51: UNIDAD | D51: 31 | E51: 4641 | F51: =+E51*D51 -> 143871
A52: 38 | B52: JUEGO DE (02) PLACAS DE IDENTIFICACION, (01) PLACA PARA CUELLO Y (01) PLACA PARA BOTA, ESPECIFICACIONES TÉCNICAS Y DIMENSIONES DE ACUERDO A NORMA TÉCNICA NTMD 0356-A2 | C52: JUEGO | D52: 31 | E52: 11071 | F52: =+E52*D52 -> 343201
B53: TOTAL A-02-02-01-004-002 PRODUCTOS METÁLICOS ELABORADOS (EXCEPTO MAQUINARIA Y EQUIPO) | F53: =SUM(F49:F52) -> 843045
A54: TOTAL | F54: =+F53+F47+F41+F36+F27+F22+F15 -> 6924501

Sheet BITER21
A1: ITEM | B1: DESCRIPCIÓN DEL BIEN Y/O SERVICIO | C1: UNIDAD MEDIDA | D1: CANTIDAD | E1: VALOR UNITARIO DE REFERENCIA | F1: VALOR TOTAL DE REFERENCIA
B2: A-02-02-01-002-007 ARTÍCULOS TEXTILES (EXCEPTO PRENDAS DE VESTIR)
A3: 1 | B3: PARCHE DE IDENTIFICACION PERSONAL (SELVA) ESPECIFICACIONES TÉCNICAS Y DIMENSIONES DE ACUERDO A BOLETIN 004 ESTANDARIZACIÓN DE LOS PARCHES DE COMBATE PARA LOS UNIFORMES N.° 4 (TIPO SELVA) Y N4A TIPO ARIDO DEL PATRÓN DE CAMUFLAJE TERRESTRE “CAMALEÓN”. | C3: UNIDAD | D3: 60 | E3: 1785 | F3: =+E3*D3 -> 107100
A4: 2 | B4: PARCHE DE EJERCITO (SELVA) ESPECIFICACIONES TÉCNICAS Y DIMENSIONES DE ACUERDO A BOLETIN 004 ESTANDARIZACIÓN DE LOS PARCHES DE COMBATE PARA LOS UNIFORMES N.° 4 (TIPO SELVA) Y N4A TIPO ARIDO DEL PATRÓN DE CAMUFLAJE TERRESTRE “CAMALEÓN”. | C4: UNIDAD | D4: 30 | E4: 2101 | F4: =+E4*D4 -> 63030
A5: 3 | B5: PARCHES DE LA UNIDAD SUPERIOR (02 UND) Y UNIDAD SUBALTERNA (02 UNID) SELVA Numeral ESPECIFICACIONES TECNICAS Y DIMENSIONES DE ACUERDO A BOLETIN 004 ESTANDARIZACION DE LOS PARCHES DE COMBATE PARA LOS UNIFORMES N 4 TIPO SELVA Y N 4A TIPO ARIDO DEL PATRON DE CAMUFLAJE TERRESTRE CAMALEON. | C5: UNIDAD | D5: 60 | E5: 5117 | F5: =+E5*D5 -> 307020
A6: 4 | B6: BANDERA DE IDENTIFICACION (SELVA) ESPECIFICACIONES TÉCNICAS Y DIMENSIONES DE ACUERDO A BOLETIN 001 FEBRERO 2025 (DISDI) ESTANDARIZACIÓN DE LA BANDERA DE IDENTIFICACION EMPLEADA EN EL UNIFORME N.° 4 (TIPO SELVA) Y N.° 4A (TIPO ÁRIDO) DEL PATRÓN DE CAMUFLAJE TERRESTRE “CAMALEÓN”. | C6: UNIDAD | D6: 30 | E6: 2270 | F6: =+E6*D6 -> 68100
A7: 5 | B7: PARCHE DE IDENTIFICACION GRUPO SANGUINEO, (SELVA) ESPECIFICACIONES TÉCNICAS Y DIMENSIONES DE ACUERDO A BOLETIN 004 ESTANDARIZACIÓN DE LOS PARCHES DE COMBATE PARA LOS UNIFORMES N.° 4 (TIPO SELVA) Y N.° 4A (TIPO ÁRIDO) DEL PATRÓN DE CAMUFLAJE TERRESTRE “CAMALEÓN”. | C7: UNIDAD | D7: 30 | E7: 2099 | F7: =+E7*D7 -> 62970
A8: 6 | B8: INSIGNIA DE GRADO SOLDADOS (SELVA) ESPECIFICACIONES TÉCNICAS Y DIMENSIONES DE ACUERDO A BOLETIN 004 ESTANDARIZACIÓN DE LOS PARCHES DE COMBATE PARA LOS UNIFORMES N.° 4 (TIPO SELVA) Y N.° 4A (TIPO ÁRIDO) DEL PATRÓN DE CAMUFLAJE TERRESTRE “CAMALEÓN”. | C8: JUEGO | D8: 30 | E8: 5080 | F8: =+E8*D8 -> 152400
A9: 7 | B9: BRAZALETES TACTICOS x JUEGO DE 04 (COLOR NARANJA, VERDE, AZUL Y MORADO) ESPECIFICACIONES TÉCNICAS Y DIMENSIONES DE ACUERDO A NORMA TÉCNICA NTMD 0356-A2. | C9: JUEGO | D9: 15 | E9: 4165 | F9: =+E9*D9 -> 62475
A10: 8 | B10: OJOS DE GATO. ESPECIFICACIONES TÉCNICAS Y DIMENSIONES DE ACUERDO A NORMA TÉCNICA NTMD 0356 - BOLETIN 004 ESTANDARIZACIÓN DE LOS PARCHES DE COMBATE PARA LOS UNIFORMES N.° 4 (TIPO SELVA) Y N.° 4A (TIPO ÁRIDO) DEL PATRÓN DE CAMUFLAJE TERRESTRE “CAMALEÓN”. | C10: UNIDAD | D10: 30 | E10: 1964 | F10: =+E10*D10 -> 58920
A11: 9 | B11: JUEGO DE LIGAS PARA BOTAS MANGA PANTALON CAMUFLADO (SELVA) ESPECIFICACIONES TÉCNICAS Y DIMENSIONES DE ACUERDO A NORMA TÉCNICA NTMD 0356-A2 | C11: PAR | D11: 15 | E11: 2559 | F11: =+E11*D11 -> 38385
A12: 10 | B12: PAÑUELOS ESPECIFICACIONES TÉCNICAS Y DIMENSIONES DE ACUERDO A NORMA TÉCNICA NTMD 0356-A2 | C12: UNIDAD | D12: 30 | E12: 2499 | F12: =+E12*D12 -> 74970
A13: 11 | B13: BOLSO UTILES DE ASEO ESPECIFICACIONES TÉCNICAS Y DIMENSIONES DE ACUERDO A NORMA TÉCNICA NTMD 0356-A2 | C13: UNIDAD | D13: 15 | E13: 5791 | F13: =+E13*D13 -> 86865
A14: 12 | B14: MALLA PARA CABELLO NEGRA MOÑA SEGÚN NORMA TECNICA No. CEDE 4-DIETE-ET-04937/INT-0 | C14: UNIDAD | D14: 0 | E14: 3373 | F14: =+E14*D14 -> 0
B15: TOTAL A-02-02-01-002-007 ARTÍCULOS TEXTILES (EXCEPTO PRENDAS DE VESTIR) | F15: =SUM(F3:F14) -> 1082235
B16: A-02-02-01-002-08 DOTACIÓN (PRENDAS DE VESTIR Y CALZADO)
A17: 13 | B17: CALCETIN COLOR BLANCO PARA DEPORTE ESPECIFICACIONES TÉCNICAS Y DIMENSIONES DE ACUERDO A NORMA TÉCNICA NTMD 0356-A2 | C17: PAR | D17: 15 | E17: 5016 | F17: =+E17*D17 -> 75240
A18: 14 | B18: UNIFORME DE DEPORTES COMPLETO - PANTALONETA Y CAMISETA ESPECIFICACIONES TÉCNICAS Y DIMENSIONES DE ACUERDO A NORMA TÉCNICA NTMD 0356-A2 | C18: UNIDAD | D18: 15 | E18: 41055 | F18: =+E18*D18 -> 615825
A19: 15 | B19: CHANCLAS NEGRAS ESPECIFICACIONES TÉCNICAS Y DIMENSIONES DE ACUERDO A NORMA TÉCNICA NTMD 0356-A2 | C19: PAR | D19: 15 | E19: 7140 | F19: =+E19*D19 -> 107100
A20: 16 | B20: JUEGO DE ROPA INTERIOR (TOP Y CACHETERO) SEGÚN NORMA TECNICA No. JEMPP-CEDE4-DIETE-ET-05573/INT-0 | C20: JUEGO | D20: 0 | E20: 45855 | F20: =+E20*D20 -> 0
A21: 17 | B21: BICICLETERO NEGRO CORTO SEGÚN NORMA TECNICA No. JEMPP-CEDE4-DIETE-ET-05595/INT-0 | C21: UNIDAD | D21: 0 | E21: 25521 | F21: =+E21*D21 -> 0
B22: TOTAL A-02-02-01-002-08 DOTACIÓN (PRENDAS DE VESTIR Y CALZADO) | F22: =SUM(F17:F21) -> 798165
B23: A-02-02-01-003-002 PASTA O PULPA, PAPEL Y PRODUCTOS DE PAPEL; IMPRESOS Y ARTÍCULOS RELACIONADOS
A24: 18 | B24: CUADERNO DE 100 HOJAS COCIDO PASTA BLANDA ESPECIFICACIONES TÉCNICAS Y DIMENSIONES DE ACUERDO A NORMA TÉCNICA NTMD 0356-A2 | C24: UNIDAD | D24: 15 | E24: 2570 | F24: =+E24*D24 -> 38550
A25: 19 | B25: PAPEL HIGIENICO TRIPLE HOJA ESPECIFICACIONES TÉCNICAS Y DIMENSIONES DE ACUERDO A NORMA TÉCNICA NTMD 0356-A2 | C25: UNIDAD | D25: 30 | E25: 2701 | F25: =+E25*D25 -> 81030
A26: 20 | B26: TOALLAS SANITARIAS SEGÚN NORMA TECNICA No. NTC 3604-2006 PAQUETE X 24 UNIDADES | C26: PAQUETE | D26: 0 | E26: 14380 | F26: =+E26*D26 -> 0
B27: TOTAL A-02-02-01-003-002 PASTA O PULPA, PAPEL Y PRODUCTOS DE PAPEL; IMPRESOS Y ARTÍCULOS RELACIONADOS | F27: =SUM(F24:F26) -> 119580
B28: A-02-02-01-003-005 OTROS PRODUCTOS QUÍMICOS; FIBRAS ARTIFICIALES (O FIBRAS INDUSTRIALES HECHAS POR EL HOMBRE)
A29: 21 | B29: CAJA DE BETUN NEGRO ESPECIFICACIONES TÉCNICAS Y DIMENSIONES DE ACUERDO A NORMA TÉCNICA NTMD 0356-A2 | C29: UNIDAD | D29: 15 | E29: 6819 | F29: =+E29*D29 -> 102285
A30: 22 | B30: TALCOS ESPECIFICACIONES TÉCNICAS Y DIMENSIONES DE ACUERDO A NORMA TÉCNICA NTMD 0356-A2 | C30: UNIDAD | D30: 15 | E30: 6819 | F30: =+E30*D30 -> 102285
A31: 23 | B31: CREMA DENTAL ESPECIFICACIONES TÉCNICAS Y DIMENSIONES DE ACUERDO A NORMA TÉCNICA NTDM 0356-A2 | C31: UNIDAD | D31: 30 | E31: 6319 | F31: =+E31*D31 -> 189570
A32: 24 | B32: DESODORANTE ANTITRASPIRANTE PARA MUJER- ESPECIFICACIONES TÉCNICAS Y DIMENSIONES DE ACUERDO A NORMA TÉCNICA NTMD 0356-A2 | C32: UNIDAD | D32: 0 | E32: 8961 | F32: =+E32*D32 -> 0
A33: 25 | B33: DESODORANTE MASCULINO ESPECIFICACIONES TÉCNICAS Y DIMENSIONES DE ACUERDO A NORMA TÉCNICA NTMD 0356-A2 | C33: UNIDAD | D33: 15 | E33: 8961 | F33: =+E33*D33 -> 134415
A34: 26 | B34: JABON DE BAÑO ANTIBACTERIAL ESPECIFICACIONES TÉCNICAS Y DIMENSIONES DE ACUERDO A NORMA TÉCNICA NTDM 0356-A2 | C34: UNIDAD | D34: 30 | E34: 3705 | F34: =+E34*D34 -> 111150
A35: 27 | B35: JABON EN PASTA PARA LAVAR ROPA ESPECIFICACIONES TÉCNICAS Y DIMENSIONES DE ACUERDO A NORMA TÉCNICA NTMD 0356-A2 | C35: UNIDAD | D35: 15 | E35: 2832 | F35: =+E35*D35 -> 42480
B36: TOTAL A-02-02-01-003-005 OTROS PRODUCTOS QUÍMICOS; FIBRAS ARTIFICIALES (O FIBRAS INDUSTRIALES HECHAS POR EL HOMBRE) | F36: =SUM(F29:F35) -> 682185
B37: A-02-02-01-003-006 PRODUCTOS DE CAUCHO Y PLÁSTICO
A38: 28 | B38: PROTECTORES AUDITIVOS ESPECIFICACIONES TÉCNICAS Y DIMENSIONES DE ACUERDO A NORMA TÉCNICA NTMD 0356-A2 | C38: UNIDAD | D38: 15 | E38: 2213 | F38: =+E38*D38 -> 33195
A39: 29 | B39: JABONERA PLASTICA VERDE ESPECIFICACIONES TÉCNICAS Y DIMENSIONES DE ACUERDO A NORMA TÉCNICA NTMD 0356-A2 | C39: UNIDAD | D39: 15 | E39: 1488 | F39: =+E39*D39 -> 22320
A40: 30 | B40: PORTA CEPILLO DE DIENTES ESPECIFICACIONES TÉCNICAS Y DIMENSIONES DE ACUERDO A NORMA TÉCNICA NTMD 0356-A2 | C40: UNIDAD | D40: 15 | E40: 2324 | F40: =+E40*D40 -> 34860
B41: TOTAL A-02-02-01-003-006 PRODUCTOS DE CAUCHO Y PLÁSTICO | F41: =SUM(F38:F40) -> 90375
B42: A-02-02-01-003-008 OTROS BIENES TRANSPORTABLES N.C.P.
A43: 31 | B43: CEPILLO DENTAL CON LIMPIADOR DE LENGUA ESPECIFICACIONES TÉCNICAS Y DIMENSIONES DE ACUERDO A NORMA TÉCNICA NTMD 0356-A2 | C43: UNIDAD | D43: 15 | E43: 3167 | F43: =+E43*D43 -> 47505
A44: 32 | B44: PEINILLA NEGRA ESPECIFICACIONES TÉCNICAS Y DIMENSIONES DE ACUERDO A NORMA TÉCNICA NTMD 0356-A2 | C44: UNIDAD | D44: 15 | E44: 1252 | F44: =+E44*D44 -> 18780
A45: 33 | B45: JUEGO CEPILLOS PARA BRILLAR CALZADO X02 (01 UNO GRANDE Y 01 UNO PEQUEÑO) ESPECIFICACIONES TÉCNICAS Y DIMENSIONES DE ACUERDO A NORMA TÉCNICA NTMD 0356-A2 | C45: JUEGO | D45: 15 | E45: 5593 | F45: =+E45*D45 -> 83895
A46: 34 | B46: LAPICERO SIN MECANISMO RETRACTIL ESPECIFICACIONES TÉCNICAS Y DIMENSIONES DE ACUERDO A NORMA TÉCNICA NTMD 0356-A2 | C46: UNIDAD | D46: 15 | E46: 1328 | F46: =+E46*D46 -> 19920
B47: TOTAL A-02-02-01-003-008 OTROS BIENES TRANSPORTABLES N.C.P. | F47: =SUM(F43:F46) -> 170100
B48: A-02-02-01-004-002 PRODUCTOS METÁLICOS ELABORADOS (EXCEPTO MAQUINARIA Y EQUIPO)
A49: 35 | B49: CANDADO ESPECIFICACIONES TÉCNICAS Y DIMENSIONES DE ACUERDO A NORMA TÉCNICA NTMD 0356-A2 | C49: UNIDAD | D49: 15 | E49: 4379 | F49: =+E49*D49 -> 65685
A50: 36 | B50: MAQUINA DE AFEITAR TRIPLE HOJA ESPECIFICACIONES TÉCNICAS Y DIMENSIONES DE ACUERDO A NORMA TÉCNICA NTMD 0356-A2 | C50: JUEGO | D50: 45 | E50: 2368 | F50: =+E50*D50 -> 106560
A51: 37 | B51: CORTAUÑAS ESPECIFICACIONES TÉCNICAS Y DIMENSIONES DE ACUERDO A NORMA TÉCNICA NTMD 0356 -A2 | C51: UNIDAD | D51: 15 | E51: 4641 | F51: =+E51*D51 -> 69615
A52: 38 | B52: JUEGO DE (02) PLACAS DE IDENTIFICACION, (01) PLACA PARA CUELLO Y (01) PLACA PARA BOTA, ESPECIFICACIONES TÉCNICAS Y DIMENSIONES DE ACUERDO A NORMA TÉCNICA NTMD 0356-A2 | C52: JUEGO | D52: 15 | E52: 11071 | F52: =+E52*D52 -> 166065
B53: TOTAL A-02-02-01-004-002 PRODUCTOS METÁLICOS ELABORADOS (EXCEPTO MAQUINARIA Y EQUIPO) | F53: =SUM(F49:F52) -> 407925
A54: TOTAL | F54: =+F53+F47+F41+F36+F27+F22+F15 -> 3350565

Sheet USA ESPRO
A1: ITEM | B1: DESCRIPCIÓN DEL BIEN Y/O SERVICIO | C1: UNIDAD MEDIDA | D1: CANTIDAD | E1: VALOR UNITARIO DE REFERENCIA | F1: VALOR TOTAL DE REFERENCIA
B2: A-02-02-01-002-007 ARTÍCULOS TEXTILES (EXCEPTO PRENDAS DE VESTIR)
A3: 1 | B3: PARCHE DE IDENTIFICACION PERSONAL (SELVA) ESPECIFICACIONES TÉCNICAS Y DIMENSIONES DE ACUERDO A BOLETIN 004 ESTANDARIZACIÓN DE LOS PARCHES DE COMBATE PARA LOS UNIFORMES N.° 4 (TIPO SELVA) Y N4A TIPO ARIDO DEL PATRÓN DE CAMUFLAJE TERRESTRE “CAMALEÓN”. | C3: UNIDAD | D3: 248 | E3: 1785 | F3: =+E3*D3 -> 442680
A4: 2 | B4: PARCHE DE EJERCITO (SELVA) ESPECIFICACIONES TÉCNICAS Y DIMENSIONES DE ACUERDO A BOLETIN 004 ESTANDARIZACIÓN DE LOS PARCHES DE COMBATE PARA LOS UNIFORMES N.° 4 (TIPO SELVA) Y N4A TIPO ARIDO DEL PATRÓN DE CAMUFLAJE TERRESTRE “CAMALEÓN”. | C4: UNIDAD | D4: 124 | E4: 2101 | F4: =+E4*D4 -> 260524
A5: 3 | B5: PARCHES DE LA UNIDAD SUPERIOR (02 UND) Y UNIDAD SUBALTERNA (02 UNID) SELVA Numeral ESPECIFICACIONES TECNICAS Y DIMENSIONES DE ACUERDO A BOLETIN 004 ESTANDARIZACION DE LOS PARCHES DE COMBATE PARA LOS UNIFORMES N 4 TIPO SELVA Y N 4A TIPO ARIDO DEL PATRON DE CAMUFLAJE TERRESTRE CAMALEON. | C5: UNIDAD | D5: 248 | E5: 5117 | F5: =+E5*D5 -> 1269016
A6: 4 | B6: BANDERA DE IDENTIFICACION (SELVA) ESPECIFICACIONES TÉCNICAS Y DIMENSIONES DE ACUERDO A BOLETIN 001 FEBRERO 2025 (DISDI) ESTANDARIZACIÓN DE LA BANDERA DE IDENTIFICACION EMPLEADA EN EL UNIFORME N.° 4 (TIPO SELVA) Y N.° 4A (TIPO ÁRIDO) DEL PATRÓN DE CAMUFLAJE TERRESTRE “CAMALEÓN”. | C6: UNIDAD | D6: 124 | E6: 2270 | F6: =+E6*D6 -> 281480
A7: 5 | B7: PARCHE DE IDENTIFICACION GRUPO SANGUINEO, (SELVA) ESPECIFICACIONES TÉCNICAS Y DIMENSIONES DE ACUERDO A BOLETIN 004 ESTANDARIZACIÓN DE LOS PARCHES DE COMBATE PARA LOS UNIFORMES N.° 4 (TIPO SELVA) Y N.° 4A (TIPO ÁRIDO) DEL PATRÓN DE CAMUFLAJE TERRESTRE “CAMALEÓN”. | C7: UNIDAD | D7: 124 | E7: 2099 | F7: =+E7*D7 -> 260276
A8: 6 | B8: INSIGNIA DE GRADO SOLDADOS (SELVA) ESPECIFICACIONES TÉCNICAS Y DIMENSIONES DE ACUERDO A BOLETIN 004 ESTANDARIZACIÓN DE LOS PARCHES DE COMBATE PARA LOS UNIFORMES N.° 4 (TIPO SELVA) Y N.° 4A (TIPO ÁRIDO) DEL PATRÓN DE CAMUFLAJE TERRESTRE “CAMALEÓN”. | C8: JUEGO | D8: 124 | E8: 5080 | F8: =+E8*D8 -> 629920
A9: 7 | B9: BRAZALETES TACTICOS x JUEGO DE 04 (COLOR NARANJA, VERDE, AZUL Y MORADO) ESPECIFICACIONES TÉCNICAS Y DIMENSIONES DE ACUERDO A NORMA TÉCNICA NTMD 0356-A2. | C9: JUEGO | D9: 62 | E9: 4165 | F9: =+E9*D9 -> 258230
A10: 8 | B10: OJOS DE GATO. ESPECIFICACIONES TÉCNICAS Y DIMENSIONES DE ACUERDO A NORMA TÉCNICA NTMD 0356 - BOLETIN 004 ESTANDARIZACIÓN DE LOS PARCHES DE COMBATE PARA LOS UNIFORMES N.° 4 (TIPO SELVA) Y N.° 4A (TIPO ÁRIDO) DEL PATRÓN DE CAMUFLAJE TERRESTRE “CAMALEÓN”. | C10: UNIDAD | D10: 124 | E10: 1964 | F10: =+E10*D10 -> 243536
A11: 9 | B11: JUEGO DE LIGAS PARA BOTAS MANGA PANTALON CAMUFLADO (SELVA) ESPECIFICACIONES TÉCNICAS Y DIMENSIONES DE ACUERDO A NORMA TÉCNICA NTMD 0356-A2 | C11: PAR | D11: 62 | E11: 2559 | F11: =+E11*D11 -> 158658
A12: 10 | B12: PAÑUELOS ESPECIFICACIONES TÉCNICAS Y DIMENSIONES DE ACUERDO A NORMA TÉCNICA NTMD 0356-A2 | C12: UNIDAD | D12: 124 | E12: 2499 | F12: =+E12*D12 -> 309876
A13: 11 | B13: BOLSO UTILES DE ASEO ESPECIFICACIONES TÉCNICAS Y DIMENSIONES DE ACUERDO A NORMA TÉCNICA NTMD 0356-A2 | C13: UNIDAD | D13: 62 | E13: 5791 | F13: =+E13*D13 -> 359042
A14: 12 | B14: MALLA PARA CABELLO NEGRA MOÑA SEGÚN NORMA TECNICA No. CEDE 4-DIETE-ET-04937/INT-0 | C14: UNIDAD | D14: 0 | E14: 3373 | F14: =+E14*D14 -> 0
B15: TOTAL A-02-02-01-002-007 ARTÍCULOS TEXTILES (EXCEPTO PRENDAS DE VESTIR) | F15: =SUM(F3:F14) -> 4473238
B16: A-02-02-01-002-08 DOTACIÓN (PRENDAS DE VESTIR Y CALZADO)
A17: 13 | B17: CALCETIN COLOR BLANCO PARA DEPORTE ESPECIFICACIONES TÉCNICAS Y DIMENSIONES DE ACUERDO A NORMA TÉCNICA NTMD 0356-A2 | C17: PAR | D17: 62 | E17: 5016 | F17: =+E17*D17 -> 310992
A18: 14 | B18: UNIFORME DE DEPORTES COMPLETO - PANTALONETA Y CAMISETA ESPECIFICACIONES TÉCNICAS Y DIMENSIONES DE ACUERDO A NORMA TÉCNICA NTMD 0356-A2 | C18: UNIDAD | D18: 62 | E18: 41055 | F18: =+E18*D18 -> 2545410
A19: 15 | B19: CHANCLAS NEGRAS ESPECIFICACIONES TÉCNICAS Y DIMENSIONES DE ACUERDO A NORMA TÉCNICA NTMD 0356-A2 | C19: PAR | D19: 62 | E19: 7140 | F19: =+E19*D19 -> 442680
A20: 16 | B20: JUEGO DE ROPA INTERIOR (TOP Y CACHETERO) SEGÚN NORMA TECNICA No. JEMPP-CEDE4-DIETE-ET-05573/INT-0 | C20: JUEGO | D20: 0 | E20: 45855 | F20: =+E20*D20 -> 0
A21: 17 | B21: BICICLETERO NEGRO CORTO SEGÚN NORMA TECNICA No. JEMPP-CEDE4-DIETE-ET-05595/INT-0 | C21: UNIDAD | D21: 0 | E21: 25521 | F21: =+E21*D21 -> 0
B22: TOTAL A-02-02-01-002-08 DOTACIÓN (PRENDAS DE VESTIR Y CALZADO) | F22: =SUM(F17:F21) -> 3299082
B23: A-02-02-01-003-002 PASTA O PULPA, PAPEL Y PRODUCTOS DE PAPEL; IMPRESOS Y ARTÍCULOS RELACIONADOS
A24: 18 | B24: CUADERNO DE 100 HOJAS COCIDO PASTA BLANDA ESPECIFICACIONES TÉCNICAS Y DIMENSIONES DE ACUERDO A NORMA TÉCNICA NTMD 0356-A2 | C24: UNIDAD | D24: 62 | E24: 2570 | F24: =+E24*D24 -> 159340
A25: 19 | B25: PAPEL HIGIENICO TRIPLE HOJA ESPECIFICACIONES TÉCNICAS Y DIMENSIONES DE ACUERDO A NORMA TÉCNICA NTMD 0356-A2 | C25: UNIDAD | D25: 124 | E25: 2701 | F25: =+E25*D25 -> 334924
A26: 20 | B26: TOALLAS SANITARIAS SEGÚN NORMA TECNICA No. NTC 3604-2006 PAQUETE X 24 UNIDADES | C26: PAQUETE | D26: 0 | E26: 14380 | F26: =+E26*D26 -> 0
B27: TOTAL A-02-02-01-003-002 PASTA O PULPA, PAPEL Y PRODUCTOS DE PAPEL; IMPRESOS Y ARTÍCULOS RELACIONADOS | F27: =SUM(F24:F26) -> 494264
B28: A-02-02-01-003-005 OTROS PRODUCTOS QUÍMICOS; FIBRAS ARTIFICIALES (O FIBRAS INDUSTRIALES HECHAS POR EL HOMBRE)
A29: 21 | B29: CAJA DE BETUN NEGRO ESPECIFICACIONES TÉCNICAS Y DIMENSIONES DE ACUERDO A NORMA TÉCNICA NTMD 0356-A2 | C29: UNIDAD | D29: 62 | E29: 6819 | F29: =+E29*D29 -> 422778
A30: 22 | B30: TALCOS ESPECIFICACIONES TÉCNICAS Y DIMENSIONES DE ACUERDO A NORMA TÉCNICA NTMD 0356-A2 | C30: UNIDAD | D30: 62 | E30: 6819 | F30: =+E30*D30 -> 422778
A31: 23 | B31: CREMA DENTAL ESPECIFICACIONES TÉCNICAS Y DIMENSIONES DE ACUERDO A NORMA TÉCNICA NTDM 0356-A2 | C31: UNIDAD | D31: 124 | E31: 6319 | F31: =+E31*D31 -> 783556
A32: 24 | B32: DESODORANTE ANTITRASPIRANTE PARA MUJER- ESPECIFICACIONES TÉCNICAS Y DIMENSIONES DE ACUERDO A NORMA TÉCNICA NTMD 0356-A2 | C32: UNIDAD | D32: 0 | E32: 8961 | F32: =+E32*D32 -> 0
A33: 25 | B33: DESODORANTE MASCULINO ESPECIFICACIONES TÉCNICAS Y DIMENSIONES DE ACUERDO A NORMA TÉCNICA NTMD 0356-A2 | C33: UNIDAD | D33: 62 | E33: 8961 | F33: =+E33*D33 -> 555582
A34: 26 | B34: JABON DE BAÑO ANTIBACTERIAL ESPECIFICACIONES TÉCNICAS Y DIMENSIONES DE ACUERDO A NORMA TÉCNICA NTDM 0356-A2 | C34: UNIDAD | D34: 124 | E34: 3705 | F34: =+E34*D34 -> 459420
A35: 27 | B35: JABON EN PASTA PARA LAVAR ROPA ESPECIFICACIONES TÉCNICAS Y DIMENSIONES DE ACUERDO A NORMA TÉCNICA NTMD 0356-A2 | C35: UNIDAD | D35: 62 | E35: 2832 | F35: =+E35*D35 -> 175584
B36: TOTAL A-02-02-01-003-005 OTROS PRODUCTOS QUÍMICOS; FIBRAS ARTIFICIALES (O FIBRAS INDUSTRIALES HECHAS POR EL HOMBRE) | F36: =SUM(F29:F35) -> 2819698
B37: A-02-02-01-003-006 PRODUCTOS DE CAUCHO Y PLÁSTICO
A38: 28 | B38: PROTECTORES AUDITIVOS ESPECIFICACIONES TÉCNICAS Y DIMENSIONES DE ACUERDO A NORMA TÉCNICA NTMD 0356-A2 | C38: UNIDAD | D38: 62 | E38: 2213 | F38: =+E38*D38 -> 137206
A39: 29 | B39: JABONERA PLASTICA VERDE ESPECIFICACIONES TÉCNICAS Y DIMENSIONES DE ACUERDO A NORMA TÉCNICA NTMD 0356-A2 | C39: UNIDAD | D39: 62 | E39: 1488 | F39: =+E39*D39 -> 92256
A40: 30 | B40: PORTA CEPILLO DE DIENTES ESPECIFICACIONES TÉCNICAS Y DIMENSIONES DE ACUERDO A NORMA TÉCNICA NTMD 0356-A2 | C40: UNIDAD | D40: 62 | E40: 2324 | F40: =+E40*D40 -> 144088
B41: TOTAL A-02-02-01-003-006 PRODUCTOS DE CAUCHO Y PLÁSTICO | F41: =SUM(F38:F40) -> 373550
B42: A-02-02-01-003-008 OTROS BIENES TRANSPORTABLES N.C.P.
A43: 31 | B43: CEPILLO DENTAL CON LIMPIADOR DE LENGUA ESPECIFICACIONES TÉCNICAS Y DIMENSIONES DE ACUERDO A NORMA TÉCNICA NTMD 0356-A2 | C43: UNIDAD | D43: 62 | E43: 3167 | F43: =+E43*D43 -> 196354
A44: 32 | B44: PEINILLA NEGRA ESPECIFICACIONES TÉCNICAS Y DIMENSIONES DE ACUERDO A NORMA TÉCNICA NTMD 0356-A2 | C44: UNIDAD | D44: 62 | E44: 1252 | F44: =+E44*D44 -> 77624
A45: 33 | B45: JUEGO CEPILLOS PARA BRILLAR CALZADO X02 (01 UNO GRANDE Y 01 UNO PEQUEÑO) ESPECIFICACIONES TÉCNICAS Y DIMENSIONES DE ACUERDO A NORMA TÉCNICA NTMD 0356-A2 | C45: JUEGO | D45: 62 | E45: 5593 | F45: =+E45*D45 -> 346766
A46: 34 | B46: LAPICERO SIN MECANISMO RETRACTIL ESPECIFICACIONES TÉCNICAS Y DIMENSIONES DE ACUERDO A NORMA TÉCNICA NTMD 0356-A2 | C46: UNIDAD | D46: 62 | E46: 1328 | F46: =+E46*D46 -> 82336
B47: TOTAL A-02-02-01-003-008 OTROS BIENES TRANSPORTABLES N.C.P. | F47: =SUM(F43:F46) -> 703080
B48: A-02-02-01-004-002 PRODUCTOS METÁLICOS ELABORADOS (EXCEPTO MAQUINARIA Y EQUIPO)
A49: 35 | B49: CANDADO ESPECIFICACIONES TÉCNICAS Y DIMENSIONES DE ACUERDO A NORMA TÉCNICA NTMD 0356-A2 | C49: UNIDAD | D49: 62 | E49: 4379 | F49: =+E49*D49 -> 271498
A50: 36 | B50: MAQUINA DE AFEITAR TRIPLE HOJA ESPECIFICACIONES TÉCNICAS Y DIMENSIONES DE ACUERDO A NORMA TÉCNICA NTMD 0356-A2 | C50: JUEGO | D50: 186 | E50: 2368 | F50: =+E50*D50 -> 440448
A51: 37 | B51: CORTAUÑAS ESPECIFICACIONES TÉCNICAS Y DIMENSIONES DE ACUERDO A NORMA TÉCNICA NTMD 0356 -A2 | C51: UNIDAD | D51: 62 | E51: 4641 | F51: =+E51*D51 -> 287742
A52: 38 | B52: JUEGO DE (02) PLACAS DE IDENTIFICACION, (01) PLACA PARA CUELLO Y (01) PLACA PARA BOTA, ESPECIFICACIONES TÉCNICAS Y DIMENSIONES DE ACUERDO A NORMA TÉCNICA NTMD 0356-A2 | C52: JUEGO | D52: 62 | E52: 11071 | F52: =+E52*D52 -> 686402
B53: TOTAL A-02-02-01-004-002 PRODUCTOS METÁLICOS ELABORADOS (EXCEPTO MAQUINARIA Y EQUIPO) | F53: =SUM(F49:F52) -> 1686090
A54: TOTAL | F54: =+F53+F47+F41+F36+F27+F22+F15 -> 13849002

Sheet BASEN
A1: ITEM | B1: DESCRIPCIÓN DEL BIEN Y/O SERVICIO | C1: UNIDAD MEDIDA | D1: CANTIDAD | E1: VALOR UNITARIO DE REFERENCIA | F1: VALOR TOTAL DE REFERENCIA
B2: A-02-02-01-002-007 ARTÍCULOS TEXTILES (EXCEPTO PRENDAS DE VESTIR)
A3: 1 | B3: PARCHE DE IDENTIFICACION PERSONAL (SELVA) ESPECIFICACIONES TÉCNICAS Y DIMENSIONES DE ACUERDO A BOLETIN 004 ESTANDARIZACIÓN DE LOS PARCHES DE COMBATE PARA LOS UNIFORMES N.° 4 (TIPO SELVA) Y N4A TIPO ARIDO DEL PATRÓN DE CAMUFLAJE TERRESTRE “CAMALEÓN”. | C3: UNIDAD | D3: 144 | E3: 1785 | F3: =+E3*D3 -> 257040
A4: 2 | B4: PARCHE DE EJERCITO (SELVA) ESPECIFICACIONES TÉCNICAS Y DIMENSIONES DE ACUERDO A BOLETIN 004 ESTANDARIZACIÓN DE LOS PARCHES DE COMBATE PARA LOS UNIFORMES N.° 4 (TIPO SELVA) Y N4A TIPO ARIDO DEL PATRÓN DE CAMUFLAJE TERRESTRE “CAMALEÓN”. | C4: UNIDAD | D4: 72 | E4: 2101 | F4: =+E4*D4 -> 151272
A5: 3 | B5: PARCHES DE LA UNIDAD SUPERIOR (02 UND) Y UNIDAD SUBALTERNA (02 UNID) SELVA Numeral ESPECIFICACIONES TECNICAS Y DIMENSIONES DE ACUERDO A BOLETIN 004 ESTANDARIZACION DE LOS PARCHES DE COMBATE PARA LOS UNIFORMES N 4 TIPO SELVA Y N 4A TIPO ARIDO DEL PATRON DE CAMUFLAJE TERRESTRE CAMALEON. | C5: UNIDAD | D5: 144 | E5: 5117 | F5: =+E5*D5 -> 736848
A6: 4 | B6: BANDERA DE IDENTIFICACION (SELVA) ESPECIFICACIONES TÉCNICAS Y DIMENSIONES DE ACUERDO A BOLETIN 001 FEBRERO 2025 (DISDI) ESTANDARIZACIÓN DE LA BANDERA DE IDENTIFICACION EMPLEADA EN EL UNIFORME N.° 4 (TIPO SELVA) Y N.° 4A (TIPO ÁRIDO) DEL PATRÓN DE CAMUFLAJE TERRESTRE “CAMALEÓN”. | C6: UNIDAD | D6: 72 | E6: 2270 | F6: =+E6*D6 -> 163440
A7: 5 | B7: PARCHE DE IDENTIFICACION GRUPO SANGUINEO, (SELVA) ESPECIFICACIONES TÉCNICAS Y DIMENSIONES DE ACUERDO A BOLETIN 004 ESTANDARIZACIÓN DE LOS PARCHES DE COMBATE PARA LOS UNIFORMES N.° 4 (TIPO SELVA) Y N.° 4A (TIPO ÁRIDO) DEL PATRÓN DE CAMUFLAJE TERRESTRE “CAMALEÓN”. | C7: UNIDAD | D7: 72 | E7: 2099 | F7: =+E7*D7 -> 151128
A8: 6 | B8: INSIGNIA DE GRADO SOLDADOS (SELVA) ESPECIFICACIONES TÉCNICAS Y DIMENSIONES DE ACUERDO A BOLETIN 004 ESTANDARIZACIÓN DE LOS PARCHES DE COMBATE PARA LOS UNIFORMES N.° 4 (TIPO SELVA) Y N.° 4A (TIPO ÁRIDO) DEL PATRÓN DE CAMUFLAJE TERRESTRE “CAMALEÓN”. | C8: JUEGO | D8: 72 | E8: 5080 | F8: =+E8*D8 -> 365760
A9: 7 | B9: BRAZALETES TACTICOS x JUEGO DE 04 (COLOR NARANJA, VERDE, AZUL Y MORADO) ESPECIFICACIONES TÉCNICAS Y DIMENSIONES DE ACUERDO A NORMA TÉCNICA NTMD 0356-A2. | C9: JUEGO | D9: 36 | E9: 4165 | F9: =+E9*D9 -> 149940
A10: 8 | B10: OJOS DE GATO. ESPECIFICACIONES TÉCNICAS Y DIMENSIONES DE ACUERDO A NORMA TÉCNICA NTMD 0356 - BOLETIN 004 ESTANDARIZACIÓN DE LOS PARCHES DE COMBATE PARA LOS UNIFORMES N.° 4 (TIPO SELVA) Y N.° 4A (TIPO ÁRIDO) DEL PATRÓN DE CAMUFLAJE TERRESTRE “CAMALEÓN”. | C10: UNIDAD | D10: 72 | E10: 1964 | F10: =+E10*D10 -> 141408
A11: 9 | B11: JUEGO DE LIGAS PARA BOTAS MANGA PANTALON CAMUFLADO (SELVA) ESPECIFICACIONES TÉCNICAS Y DIMENSIONES DE ACUERDO A NORMA TÉCNICA NTMD 0356-A2 | C11: PAR | D11: 36 | E11: 2559 | F11: =+E11*D11 -> 92124
A12: 10 | B12: PAÑUELOS ESPECIFICACIONES TÉCNICAS Y DIMENSIONES DE ACUERDO A NORMA TÉCNICA NTMD 0356-A2 | C12: UNIDAD | D12: 72 | E12: 2499 | F12: =+E12*D12 -> 179928
A13: 11 | B13: BOLSO UTILES DE ASEO ESPECIFICACIONES TÉCNICAS Y DIMENSIONES DE ACUERDO A NORMA TÉCNICA NTMD 0356-A2 | C13: UNIDAD | D13: 36 | E13: 5791 | F13: =+E13*D13 -> 208476
A14: 12 | B14: MALLA PARA CABELLO NEGRA MOÑA SEGÚN NORMA TECNICA No. CEDE 4-DIETE-ET-04937/INT-0 | C14: UNIDAD | D14: 36 | E14: 3373 | F14: =+E14*D14 -> 121428
B15: TOTAL A-02-02-01-002-007 ARTÍCULOS TEXTILES (EXCEPTO PRENDAS DE VESTIR) | F15: =SUM(F3:F14) -> 2718792
B16: A-02-02-01-002-08 DOTACIÓN (PRENDAS DE VESTIR Y CALZADO)
A17: 13 | B17: CALCETIN COLOR BLANCO PARA DEPORTE ESPECIFICACIONES TÉCNICAS Y DIMENSIONES DE ACUERDO A NORMA TÉCNICA NTMD 0356-A2 | C17: PAR | D17: 36 | E17: 5016 | F17: =+E17*D17 -> 180576
A18: 14 | B18: UNIFORME DE DEPORTES COMPLETO - PANTALONETA Y CAMISETA ESPECIFICACIONES TÉCNICAS Y DIMENSIONES DE ACUERDO A NORMA TÉCNICA NTMD 0356-A2 | C18: UNIDAD | D18: 36 | E18: 41055 | F18: =+E18*D18 -> 1477980
A19: 15 | B19: CHANCLAS NEGRAS ESPECIFICACIONES TÉCNICAS Y DIMENSIONES DE ACUERDO A NORMA TÉCNICA NTMD 0356-A2 | C19: PAR | D19: 36 | E19: 7140 | F19: =+E19*D19 -> 257040
A20: 16 | B20: JUEGO DE ROPA INTERIOR (TOP Y CACHETERO) SEGÚN NORMA TECNICA No. JEMPP-CEDE4-DIETE-ET-05573/INT-0 | C20: JUEGO | D20: 36 | E20: 45855 | F20: =+E20*D20 -> 1650780
A21: 17 | B21: BICICLETERO NEGRO CORTO SEGÚN NORMA TECNICA No. JEMPP-CEDE4-DIETE-ET-05595/INT-0 | C21: UNIDAD | D21: 36 | E21: 25521 | F21: =+E21*D21 -> 918756
B22: TOTAL A-02-02-01-002-08 DOTACIÓN (PRENDAS DE VESTIR Y CALZADO) | F22: =SUM(F17:F21) -> 4485132
B23: A-02-02-01-003-002 PASTA O PULPA, PAPEL Y PRODUCTOS DE PAPEL; IMPRESOS Y ARTÍCULOS RELACIONADOS
A24: 18 | B24: CUADERNO DE 100 HOJAS COCIDO PASTA BLANDA ESPECIFICACIONES TÉCNICAS Y DIMENSIONES DE ACUERDO A NORMA TÉCNICA NTMD 0356-A2 | C24: UNIDAD | D24: 36 | E24: 2570 | F24: =+E24*D24 -> 92520
A25: 19 | B25: PAPEL HIGIENICO TRIPLE HOJA ESPECIFICACIONES TÉCNICAS Y DIMENSIONES DE ACUERDO A NORMA TÉCNICA NTMD 0356-A2 | C25: UNIDAD | D25: 72 | E25: 2701 | F25: =+E25*D25 -> 194472
A26: 20 | B26: TOALLAS SANITARIAS SEGÚN NORMA TECNICA No. NTC 3604-2006 PAQUETE X 24 UNIDADES | C26: PAQUETE | D26: 30 | E26: 14380 | F26: =+E26*D26 -> 431400
B27: TOTAL A-02-02-01-003-002 PASTA O PULPA, PAPEL Y PRODUCTOS DE PAPEL; IMPRESOS Y ARTÍCULOS RELACIONADOS | F27: =SUM(F24:F26) -> 718392
B28: A-02-02-01-003-005 OTROS PRODUCTOS QUÍMICOS; FIBRAS ARTIFICIALES (O FIBRAS INDUSTRIALES HECHAS POR EL HOMBRE)
A29: 21 | B29: CAJA DE BETUN NEGRO ESPECIFICACIONES TÉCNICAS Y DIMENSIONES DE ACUERDO A NORMA TÉCNICA NTMD 0356-A2 | C29: UNIDAD | D29: 36 | E29: 6819 | F29: =+E29*D29 -> 245484
A30: 22 | B30: TALCOS ESPECIFICACIONES TÉCNICAS Y DIMENSIONES DE ACUERDO A NORMA TÉCNICA NTMD 0356-A2 | C30: UNIDAD | D30: 36 | E30: 6819 | F30: =+E30*D30 -> 245484
A31: 23 | B31: CREMA DENTAL ESPECIFICACIONES TÉCNICAS Y DIMENSIONES DE ACUERDO A NORMA TÉCNICA NTDM 0356-A2 | C31: UNIDAD | D31: 72 | E31: 6319 | F31: =+E31*D31 -> 454968
A32: 24 | B32: DESODORANTE ANTITRASPIRANTE PARA MUJER- ESPECIFICACIONES TÉCNICAS Y DIMENSIONES DE ACUERDO A NORMA TÉCNICA NTMD 0356-A2 | C32: UNIDAD | D32: 36 | E32: 8961 | F32: =+E32*D32 -> 322596
A33: 25 | B33: DESODORANTE MASCULINO ESPECIFICACIONES TÉCNICAS Y DIMENSIONES DE ACUERDO A NORMA TÉCNICA NTMD 0356-A2 | C33: UNIDAD | D33: 0 | E33: 8961 | F33: =+E33*D33 -> 0
A34: 26 | B34: JABON DE BAÑO ANTIBACTERIAL ESPECIFICACIONES TÉCNICAS Y DIMENSIONES DE ACUERDO A NORMA TÉCNICA NTDM 0356-A2 | C34: UNIDAD | D34: 72 | E34: 3705 | F34: =+E34*D34 -> 266760
A35: 27 | B35: JABON EN PASTA PARA LAVAR ROPA ESPECIFICACIONES TÉCNICAS Y DIMENSIONES DE ACUERDO A NORMA TÉCNICA NTMD 0356-A2 | C35: UNIDAD | D35: 36 | E35: 2832 | F35: =+E35*D35 -> 101952
B36: TOTAL A-02-02-01-003-005 OTROS PRODUCTOS QUÍMICOS; FIBRAS ARTIFICIALES (O FIBRAS INDUSTRIALES HECHAS POR EL HOMBRE) | F36: =SUM(F29:F35) -> 1637244
B37: A-02-02-01-003-006 PRODUCTOS DE CAUCHO Y PLÁSTICO
A38: 28 | B38: PROTECTORES AUDITIVOS ESPECIFICACIONES TÉCNICAS Y DIMENSIONES DE ACUERDO A NORMA TÉCNICA NTMD 0356-A2 | C38: UNIDAD | D38: 36 | E38: 2213 | F38: =+E38*D38 -> 79668
A39: 29 | B39: JABONERA PLASTICA VERDE ESPECIFICACIONES TÉCNICAS Y DIMENSIONES DE ACUERDO A NORMA TÉCNICA NTMD 0356-A2 | C39: UNIDAD | D39: 36 | E39: 1488 | F39: =+E39*D39 -> 53568
A40: 30 | B40: PORTA CEPILLO DE DIENTES ESPECIFICACIONES TÉCNICAS Y DIMENSIONES DE ACUERDO A NORMA TÉCNICA NTMD 0356-A2 | C40: UNIDAD | D40: 36 | E40: 2324 | F40: =+E40*D40 -> 83664
B41: TOTAL A-02-02-01-003-006 PRODUCTOS DE CAUCHO Y PLÁSTICO | F41: =SUM(F38:F40) -> 216900
B42: A-02-02-01-003-008 OTROS BIENES TRANSPORTABLES N.C.P.
A43: 31 | B43: CEPILLO DENTAL CON LIMPIADOR DE LENGUA ESPECIFICACIONES TÉCNICAS Y DIMENSIONES DE ACUERDO A NORMA TÉCNICA NTMD 0356-A2 | C43: UNIDAD | D43: 36 | E43: 3167 | F43: =+E43*D43 -> 114012
A44: 32 | B44: PEINILLA NEGRA ESPECIFICACIONES TÉCNICAS Y DIMENSIONES DE ACUERDO A NORMA TÉCNICA NTMD 0356-A2 | C44: UNIDAD | D44: 36 | E44: 1252 | F44: =+E44*D44 -> 45072
A45: 33 | B45: JUEGO CEPILLOS PARA BRILLAR CALZADO X02 (01 UNO GRANDE Y 01 UNO PEQUEÑO) ESPECIFICACIONES TÉCNICAS Y DIMENSIONES DE ACUERDO A NORMA TÉCNICA NTMD 0356-A2 | C45: JUEGO | D45: 36 | E45: 5593 | F45: =+E45*D45 -> 201348
A46: 34 | B46: LAPICERO SIN MECANISMO RETRACTIL ESPECIFICACIONES TÉCNICAS Y DIMENSIONES DE ACUERDO A NORMA TÉCNICA NTMD 0356-A2 | C46: UNIDAD | D46: 36 | E46: 1328 | F46: =+E46*D46 -> 47808
B47: TOTAL A-02-02-01-003-008 OTROS BIENES TRANSPORTABLES N.C.P. | F47: =SUM(F43:F46) -> 408240
B48: A-02-02-01-004-002 PRODUCTOS METÁLICOS ELABORADOS (EXCEPTO MAQUINARIA Y EQUIPO)
A49: 35 | B49: CANDADO ESPECIFICACIONES TÉCNICAS Y DIMENSIONES DE ACUERDO A NORMA TÉCNICA NTMD 0356-A2 | C49: UNIDAD | D49: 36 | E49: 4379 | F49: =+E49*D49 -> 157644
A50: 36 | B50: MAQUINA DE AFEITAR TRIPLE HOJA ESPECIFICACIONES TÉCNICAS Y DIMENSIONES DE ACUERDO A NORMA TÉCNICA NTMD 0356-A2 | C50: JUEGO | D50: 108 | E50: 2368 | F50: =+E50*D50 -> 255744
A51: 37 | B51: CORTAUÑAS ESPECIFICACIONES TÉCNICAS Y DIMENSIONES DE ACUERDO A NORMA TÉCNICA NTMD 0356 -A2 | C51: UNIDAD | D51: 36 | E51: 4641 | F51: =+E51*D51 -> 167076
A52: 38 | B52: JUEGO DE (02) PLACAS DE IDENTIFICACION, (01) PLACA PARA CUELLO Y (01) PLACA PARA BOTA, ESPECIFICACIONES TÉCNICAS Y DIMENSIONES DE ACUERDO A NORMA TÉCNICA NTMD 0356-A2 | C52: JUEGO | D52: 36 | E52: 11071 | F52: =+E52*D52 -> 398556
B53: TOTAL A-02-02-01-004-002 PRODUCTOS METÁLICOS ELABORADOS (EXCEPTO MAQUINARIA Y EQUIPO) | F53: =SUM(F49:F52) -> 979020
A54: TOTAL | F54: =+F53+F47+F41+F36+F27+F22+F15 -> 11163720

Sheet BAPOM5
A1: ITEM | B1: DESCRIPCIÓN DEL BIEN Y/O SERVICIO | C1: UNIDAD MEDIDA | D1: CANTIDAD | E1: VALOR UNITARIO DE REFERENCIA | F1: VALOR TOTAL DE REFERENCIA
B2: A-02-02-01-002-007 ARTÍCULOS TEXTILES (EXCEPTO PRENDAS DE VESTIR)
A3: 1 | B3: PARCHE DE IDENTIFICACION PERSONAL (SELVA) ESPECIFICACIONES TÉCNICAS Y DIMENSIONES DE ACUERDO A BOLETIN 004 ESTANDARIZACIÓN DE LOS PARCHES DE COMBATE PARA LOS UNIFORMES N.° 4 (TIPO SELVA) Y N4A TIPO ARIDO DEL PATRÓN DE CAMUFLAJE TERRESTRE “CAMALEÓN”. | C3: UNIDAD | D3: 720 | E3: 1785 | F3: =+E3*D3 -> 1285200
A4: 2 | B4: PARCHE DE EJERCITO (SELVA) ESPECIFICACIONES TÉCNICAS Y DIMENSIONES DE ACUERDO A BOLETIN 004 ESTANDARIZACIÓN DE LOS PARCHES DE COMBATE PARA LOS UNIFORMES N.° 4 (TIPO SELVA) Y N4A TIPO ARIDO DEL PATRÓN DE CAMUFLAJE TERRESTRE “CAMALEÓN”. | C4: UNIDAD | D4: 360 | E4: 2101 | F4: =+E4*D4 -> 756360
A5: 3 | B5: PARCHES DE LA UNIDAD SUPERIOR (02 UND) Y UNIDAD SUBALTERNA (02 UNID) SELVA Numeral ESPECIFICACIONES TECNICAS Y DIMENSIONES DE ACUERDO A BOLETIN 004 ESTANDARIZACION DE LOS PARCHES DE COMBATE PARA LOS UNIFORMES N 4 TIPO SELVA Y N 4A TIPO ARIDO DEL PATRON DE CAMUFLAJE TERRESTRE CAMALEON. | C5: UNIDAD | D5: 720 | E5: 5117 | F5: =+E5*D5 -> 3684240
A6: 4 | B6: BANDERA DE IDENTIFICACION (SELVA) ESPECIFICACIONES TÉCNICAS Y DIMENSIONES DE ACUERDO A BOLETIN 001 FEBRERO 2025 (DISDI) ESTANDARIZACIÓN DE LA BANDERA DE IDENTIFICACION EMPLEADA EN EL UNIFORME N.° 4 (TIPO SELVA) Y N.° 4A (TIPO ÁRIDO) DEL PATRÓN DE CAMUFLAJE TERRESTRE “CAMALEÓN”. | C6: UNIDAD | D6: 360 | E6: 2270 | F6: =+E6*D6 -> 817200
A7: 5 | B7: PARCHE DE IDENTIFICACION GRUPO SANGUINEO, (SELVA) ESPECIFICACIONES TÉCNICAS Y DIMENSIONES DE ACUERDO A BOLETIN 004 ESTANDARIZACIÓN DE LOS PARCHES DE COMBATE PARA LOS UNIFORMES N.° 4 (TIPO SELVA) Y N.° 4A (TIPO ÁRIDO) DEL PATRÓN DE CAMUFLAJE TERRESTRE “CAMALEÓN”. | C7: UNIDAD | D7: 360 | E7: 2099 | F7: =+E7*D7 -> 755640
A8: 6 | B8: INSIGNIA DE GRADO SOLDADOS (SELVA) ESPECIFICACIONES TÉCNICAS Y DIMENSIONES DE ACUERDO A BOLETIN 004 ESTANDARIZACIÓN DE LOS PARCHES DE COMBATE PARA LOS UNIFORMES N.° 4 (TIPO SELVA) Y N.° 4A (TIPO ÁRIDO) DEL PATRÓN DE CAMUFLAJE TERRESTRE “CAMALEÓN”. | C8: JUEGO | D8: 360 | E8: 5080 | F8: =+E8*D8 -> 1828800
A9: 7 | B9: BRAZALETES TACTICOS x JUEGO DE 04 (COLOR NARANJA, VERDE, AZUL Y MORADO) ESPECIFICACIONES TÉCNICAS Y DIMENSIONES DE ACUERDO A NORMA TÉCNICA NTMD 0356-A2. | C9: JUEGO | D9: 180 | E9: 4165 | F9: =+E9*D9 -> 749700
A10: 8 | B10: OJOS DE GATO. ESPECIFICACIONES TÉCNICAS Y DIMENSIONES DE ACUERDO A NORMA TÉCNICA NTMD 0356 - BOLETIN 004 ESTANDARIZACIÓN DE LOS PARCHES DE COMBATE PARA LOS UNIFORMES N.° 4 (TIPO SELVA) Y N.° 4A (TIPO ÁRIDO) DEL PATRÓN DE CAMUFLAJE TERRESTRE “CAMALEÓN”. | C10: UNIDAD | D10: 360 | E10: 1964 | F10: =+E10*D10 -> 707040
A11: 9 | B11: JUEGO DE LIGAS PARA BOTAS MANGA PANTALON CAMUFLADO (SELVA) ESPECIFICACIONES TÉCNICAS Y DIMENSIONES DE ACUERDO A NORMA TÉCNICA NTMD 0356-A2 | C11: PAR | D11: 180 | E11: 2559 | F11: =+E11*D11 -> 460620
A12: 10 | B12: PAÑUELOS ESPECIFICACIONES TÉCNICAS Y DIMENSIONES DE ACUERDO A NORMA TÉCNICA NTMD 0356-A2 | C12: UNIDAD | D12: 360 | E12: 2499 | F12: =+E12*D12 -> 899640
A13: 11 | B13: BOLSO UTILES DE ASEO ESPECIFICACIONES TÉCNICAS Y DIMENSIONES DE ACUERDO A NORMA TÉCNICA NTMD 0356-A2 | C13: UNIDAD | D13: 180 | E13: 5791 | F13: =+E13*D13 -> 1042380
A14: 12 | B14: MALLA PARA CABELLO NEGRA MOÑA SEGÚN NORMA TECNICA No. CEDE 4-DIETE-ET-04937/INT-0 | C14: UNIDAD | D14: 36 | E14: 3373 | F14: =+E14*D14 -> 121428
B15: TOTAL A-02-02-01-002-007 ARTÍCULOS TEXTILES (EXCEPTO PRENDAS DE VESTIR) | F15: =SUM(F3:F14) -> 13108248
B16: A-02-02-01-002-08 DOTACIÓN (PRENDAS DE VESTIR Y CALZADO)
A17: 13 | B17: CALCETIN COLOR BLANCO PARA DEPORTE ESPECIFICACIONES TÉCNICAS Y DIMENSIONES DE ACUERDO A NORMA TÉCNICA NTMD 0356-A2 | C17: PAR | D17: 180 | E17: 5016 | F17: =+E17*D17 -> 902880
A18: 14 | B18: UNIFORME DE DEPORTES COMPLETO - PANTALONETA Y CAMISETA ESPECIFICACIONES TÉCNICAS Y DIMENSIONES DE ACUERDO A NORMA TÉCNICA NTMD 0356-A2 | C18: UNIDAD | D18: 180 | E18: 41055 | F18: =+E18*D18 -> 7389900
A19: 15 | B19: CHANCLAS NEGRAS ESPECIFICACIONES TÉCNICAS Y DIMENSIONES DE ACUERDO A NORMA TÉCNICA NTMD 0356-A2 | C19: PAR | D19: 180 | E19: 7140 | F19: =+E19*D19 -> 1285200
A20: 16 | B20: JUEGO DE ROPA INTERIOR (TOP Y CACHETERO) SEGÚN NORMA TECNICA No. JEMPP-CEDE4-DIETE-ET-05573/INT-0 | C20: JUEGO | D20: 36 | E20: 45855 | F20: =+E20*D20 -> 1650780
A21: 17 | B21: BICICLETERO NEGRO CORTO SEGÚN NORMA TECNICA No. JEMPP-CEDE4-DIETE-ET-05595/INT-0 | C21: UNIDAD | D21: 36 | E21: 25521 | F21: =+E21*D21 -> 918756
B22: TOTAL A-02-02-01-002-08 DOTACIÓN (PRENDAS DE VESTIR Y CALZADO) | F22: =SUM(F17:F21) -> 12147516
B23: A-02-02-01-003-002 PASTA O PULPA, PAPEL Y PRODUCTOS DE PAPEL; IMPRESOS Y ARTÍCULOS RELACIONADOS
A24: 18 | B24: CUADERNO DE 100 HOJAS COCIDO PASTA BLANDA ESPECIFICACIONES TÉCNICAS Y DIMENSIONES DE ACUERDO A NORMA TÉCNICA NTMD 0356-A2 | C24: UNIDAD | D24: 180 | E24: 2570 | F24: =+E24*D24 -> 462600
A25: 19 | B25: PAPEL HIGIENICO TRIPLE HOJA ESPECIFICACIONES TÉCNICAS Y DIMENSIONES DE ACUERDO A NORMA TÉCNICA NTMD 0356-A2 | C25: UNIDAD | D25: 360 | E25: 2701 | F25: =+E25*D25 -> 972360
A26: 20 | B26: TOALLAS SANITARIAS SEGÚN NORMA TECNICA No. NTC 3604-2006 PAQUETE X 24 UNIDADES | C26: PAQUETE | D26: 34 | E26: 14380 | F26: =+E26*D26 -> 488920
B27: TOTAL A-02-02-01-003-002 PASTA O PULPA, PAPEL Y PRODUCTOS DE PAPEL; IMPRESOS Y ARTÍCULOS RELACIONADOS | F27: =SUM(F24:F26) -> 1923880
B28: A-02-02-01-003-005 OTROS PRODUCTOS QUÍMICOS; FIBRAS ARTIFICIALES (O FIBRAS INDUSTRIALES HECHAS POR EL HOMBRE)
A29: 21 | B29: CAJA DE BETUN NEGRO ESPECIFICACIONES TÉCNICAS Y DIMENSIONES DE ACUERDO A NORMA TÉCNICA NTMD 0356-A2 | C29: UNIDAD | D29: 180 | E29: 6819 | F29: =+E29*D29 -> 1227420
A30: 22 | B30: TALCOS ESPECIFICACIONES TÉCNICAS Y DIMENSIONES DE ACUERDO A NORMA TÉCNICA NTMD 0356-A2 | C30: UNIDAD | D30: 180 | E30: 6819 | F30: =+E30*D30 -> 1227420
A31: 23 | B31: CREMA DENTAL ESPECIFICACIONES TÉCNICAS Y DIMENSIONES DE ACUERDO A NORMA TÉCNICA NTDM 0356-A2 | C31: UNIDAD | D31: 360 | E31: 6319 | F31: =+E31*D31 -> 2274840
A32: 24 | B32: DESODORANTE ANTITRASPIRANTE PARA MUJER- ESPECIFICACIONES TÉCNICAS Y DIMENSIONES DE ACUERDO A NORMA TÉCNICA NTMD 0356-A2 | C32: UNIDAD | D32: 36 | E32: 8961 | F32: =+E32*D32 -> 322596
A33: 25 | B33: DESODORANTE MASCULINO ESPECIFICACIONES TÉCNICAS Y DIMENSIONES DE ACUERDO A NORMA TÉCNICA NTMD 0356-A2 | C33: UNIDAD | D33: 144 | E33: 8961 | F33: =+E33*D33 -> 1290384
A34: 26 | B34: JABON DE BAÑO ANTIBACTERIAL ESPECIFICACIONES TÉCNICAS Y DIMENSIONES DE ACUERDO A NORMA TÉCNICA NTDM 0356-A2 | C34: UNIDAD | D34: 360 | E34: 3705 | F34: =+E34*D34 -> 1333800
A35: 27 | B35: JABON EN PASTA PARA LAVAR ROPA ESPECIFICACIONES TÉCNICAS Y DIMENSIONES DE ACUERDO A NORMA TÉCNICA NTMD 0356-A2 | C35: UNIDAD | D35: 180 | E35: 2832 | F35: =+E35*D35 -> 509760
B36: TOTAL A-02-02-01-003-005 OTROS PRODUCTOS QUÍMICOS; FIBRAS ARTIFICIALES (O FIBRAS INDUSTRIALES HECHAS POR EL HOMBRE) | F36: =SUM(F29:F35) -> 8186220
B37: A-02-02-01-003-006 PRODUCTOS DE CAUCHO Y PLÁSTICO
A38: 28 | B38: PROTECTORES AUDITIVOS ESPECIFICACIONES TÉCNICAS Y DIMENSIONES DE ACUERDO A NORMA TÉCNICA NTMD 0356-A2 | C38: UNIDAD | D38: 180 | E38: 2213 | F38: =+E38*D38 -> 398340
A39: 29 | B39: JABONERA PLASTICA VERDE ESPECIFICACIONES TÉCNICAS Y DIMENSIONES DE ACUERDO A NORMA TÉCNICA NTMD 0356-A2 | C39: UNIDAD | D39: 180 | E39: 1488 | F39: =+E39*D39 -> 267840
A40: 30 | B40: PORTA CEPILLO DE DIENTES ESPECIFICACIONES TÉCNICAS Y DIMENSIONES DE ACUERDO A NORMA TÉCNICA NTMD 0356-A2 | C40: UNIDAD | D40: 180 | E40: 2324 | F40: =+E40*D40 -> 418320
B41: TOTAL A-02-02-01-003-006 PRODUCTOS DE CAUCHO Y PLÁSTICO | F41: =SUM(F38:F40) -> 1084500
B42: A-02-02-01-003-008 OTROS BIENES TRANSPORTABLES N.C.P.
A43: 31 | B43: CEPILLO DENTAL CON LIMPIADOR DE LENGUA ESPECIFICACIONES TÉCNICAS Y DIMENSIONES DE ACUERDO A NORMA TÉCNICA NTMD 0356-A2 | C43: UNIDAD | D43: 180 | E43: 3167 | F43: =+E43*D43 -> 570060
A44: 32 | B44: PEINILLA NEGRA ESPECIFICACIONES TÉCNICAS Y DIMENSIONES DE ACUERDO A NORMA TÉCNICA NTMD 0356-A2 | C44: UNIDAD | D44: 180 | E44: 1252 | F44: =+E44*D44 -> 225360
A45: 33 | B45: JUEGO CEPILLOS PARA BRILLAR CALZADO X02 (01 UNO GRANDE Y 01 UNO PEQUEÑO) ESPECIFICACIONES TÉCNICAS Y DIMENSIONES DE ACUERDO A NORMA TÉCNICA NTMD 0356-A2 | C45: JUEGO | D45: 180 | E45: 5593 | F45: =+E45*D45 -> 1006740
A46: 34 | B46: LAPICERO SIN MECANISMO RETRACTIL ESPECIFICACIONES TÉCNICAS Y DIMENSIONES DE ACUERDO A NORMA TÉCNICA NTMD 0356-A2 | C46: UNIDAD | D46: 180 | E46: 1328 | F46: =+E46*D46 -> 239040
B47: TOTAL A-02-02-01-003-008 OTROS BIENES TRANSPORTABLES N.C.P. | F47: =SUM(F43:F46) -> 2041200
B48: A-02-02-01-004-002 PRODUCTOS METÁLICOS ELABORADOS (EXCEPTO MAQUINARIA Y EQUIPO)
A49: 35 | B49: CANDADO ESPECIFICACIONES TÉCNICAS Y DIMENSIONES DE ACUERDO A NORMA TÉCNICA NTMD 0356-A2 | C49: UNIDAD | D49: 180 | E49: 4379 | F49: =+E49*D49 -> 788220
A50: 36 | B50: MAQUINA DE AFEITAR TRIPLE HOJA ESPECIFICACIONES TÉCNICAS Y DIMENSIONES DE ACUERDO A NORMA TÉCNICA NTMD 0356-A2 | C50: JUEGO | D50: 540 | E50: 2368 | F50: =+E50*D50 -> 1278720
A51: 37 | B51: CORTAUÑAS ESPECIFICACIONES TÉCNICAS Y DIMENSIONES DE ACUERDO A NORMA TÉCNICA NTMD 0356 -A2 | C51: UNIDAD | D51: 180 | E51: 4641 | F51: =+E51*D51 -> 835380
A52: 38 | B52: JUEGO DE (02) PLACAS DE IDENTIFICACION, (01) PLACA PARA CUELLO Y (01) PLACA PARA BOTA, ESPECIFICACIONES TÉCNICAS Y DIMENSIONES DE ACUERDO A NORMA TÉCNICA NTMD 0356-A2 | C52: JUEGO | D52: 180 | E52: 11071 | F52: =+E52*D52 -> 1992780
B53: TOTAL A-02-02-01-004-002 PRODUCTOS METÁLICOS ELABORADOS (EXCEPTO MAQUINARIA Y EQUIPO) | F53: =SUM(F49:F52) -> 4895100
A54: TOTAL | F54: =+F53+F47+F41+F36+F27+F22+F15 -> 43386664

Sheet ESLAN
A1: ITEM | B1: DESCRIPCIÓN DEL BIEN Y/O SERVICIO | C1: UNIDAD MEDIDA | D1: CANTIDAD | E1: VALOR UNITARIO DE REFERENCIA | F1: VALOR TOTAL DE REFERENCIA
B2: A-02-02-01-002-007 ARTÍCULOS TEXTILES (EXCEPTO PRENDAS DE VESTIR)
A3: 1 | B3: PARCHE DE IDENTIFICACION PERSONAL (SELVA) ESPECIFICACIONES TÉCNICAS Y DIMENSIONES DE ACUERDO A BOLETIN 004 ESTANDARIZACIÓN DE LOS PARCHES DE COMBATE PARA LOS UNIFORMES N.° 4 (TIPO SELVA) Y N4A TIPO ARIDO DEL PATRÓN DE CAMUFLAJE TERRESTRE “CAMALEÓN”. | C3: UNIDAD | D3: 248 | E3: 1785 | F3: =+E3*D3 -> 442680
A4: 2 | B4: PARCHE DE EJERCITO (SELVA) ESPECIFICACIONES TÉCNICAS Y DIMENSIONES DE ACUERDO A BOLETIN 004 ESTANDARIZACIÓN DE LOS PARCHES DE COMBATE PARA LOS UNIFORMES N.° 4 (TIPO SELVA) Y N4A TIPO ARIDO DEL PATRÓN DE CAMUFLAJE TERRESTRE “CAMALEÓN”. | C4: UNIDAD | D4: 124 | E4: 2101 | F4: =+E4*D4 -> 260524
A5: 3 | B5: PARCHES DE LA UNIDAD SUPERIOR (02 UND) Y UNIDAD SUBALTERNA (02 UNID) SELVA Numeral ESPECIFICACIONES TECNICAS Y DIMENSIONES DE ACUERDO A BOLETIN 004 ESTANDARIZACION DE LOS PARCHES DE COMBATE PARA LOS UNIFORMES N 4 TIPO SELVA Y N 4A TIPO ARIDO DEL PATRON DE CAMUFLAJE TERRESTRE CAMALEON. | C5: UNIDAD | D5: 248 | E5: 5117 | F5: =+E5*D5 -> 1269016
A6: 4 | B6: BANDERA DE IDENTIFICACION (SELVA) ESPECIFICACIONES TÉCNICAS Y DIMENSIONES DE ACUERDO A BOLETIN 001 FEBRERO 2025 (DISDI) ESTANDARIZACIÓN DE LA BANDERA DE IDENTIFICACION EMPLEADA EN EL UNIFORME N.° 4 (TIPO SELVA) Y N.° 4A (TIPO ÁRIDO) DEL PATRÓN DE CAMUFLAJE TERRESTRE “CAMALEÓN”. | C6: UNIDAD | D6: 124 | E6: 2270 | F6: =+E6*D6 -> 281480
A7: 5 | B7: PARCHE DE IDENTIFICACION GRUPO SANGUINEO, (SELVA) ESPECIFICACIONES TÉCNICAS Y DIMENSIONES DE ACUERDO A BOLETIN 004 ESTANDARIZACIÓN DE LOS PARCHES DE COMBATE PARA LOS UNIFORMES N.° 4 (TIPO SELVA) Y N.° 4A (TIPO ÁRIDO) DEL PATRÓN DE CAMUFLAJE TERRESTRE “CAMALEÓN”. | C7: UNIDAD | D7: 124 | E7: 2099 | F7: =+E7*D7 -> 260276
A8: 6 | B8: INSIGNIA DE GRADO SOLDADOS (SELVA) ESPECIFICACIONES TÉCNICAS Y DIMENSIONES DE ACUERDO A BOLETIN 004 ESTANDARIZACIÓN DE LOS PARCHES DE COMBATE PARA LOS UNIFORMES N.° 4 (TIPO SELVA) Y N.° 4A (TIPO ÁRIDO) DEL PATRÓN DE CAMUFLAJE TERRESTRE “CAMALEÓN”. | C8: JUEGO | D8: 124 | E8: 5080 | F8: =+E8*D8 -> 629920
A9: 7 | B9: BRAZALETES TACTICOS x JUEGO DE 04 (COLOR NARANJA, VERDE, AZUL Y MORADO) ESPECIFICACIONES TÉCNICAS Y DIMENSIONES DE ACUERDO A NORMA TÉCNICA NTMD 0356-A2. | C9: JUEGO | D9: 62 | E9: 4165 | F9: =+E9*D9 -> 258230
A10: 8 | B10: OJOS DE GATO. ESPECIFICACIONES TÉCNICAS Y DIMENSIONES DE ACUERDO A NORMA TÉCNICA NTMD 0356 - BOLETIN 004 ESTANDARIZACIÓN DE LOS PARCHES DE COMBATE PARA LOS UNIFORMES N.° 4 (TIPO SELVA) Y N.° 4A (TIPO ÁRIDO) DEL PATRÓN DE CAMUFLAJE TERRESTRE “CAMALEÓN”. | C10: UNIDAD | D10: 124 | E10: 1964 | F10: =+E10*D10 -> 243536
A11: 9 | B11: JUEGO DE LIGAS PARA BOTAS MANGA PANTALON CAMUFLADO (SELVA) ESPECIFICACIONES TÉCNICAS Y DIMENSIONES DE ACUERDO A NORMA TÉCNICA NTMD 0356-A2 | C11: PAR | D11: 62 | E11: 2559 | F11: =+E11*D11 -> 158658
A12: 10 | B12: PAÑUELOS ESPECIFICACIONES TÉCNICAS Y DIMENSIONES DE ACUERDO A NORMA TÉCNICA NTMD 0356-A2 | C12: UNIDAD | D12: 124 | E12: 2499 | F12: =+E12*D12 -> 309876
A13: 11 | B13: BOLSO UTILES DE ASEO ESPECIFICACIONES TÉCNICAS Y DIMENSIONES DE ACUERDO A NORMA TÉCNICA NTMD 0356-A2 | C13: UNIDAD | D13: 62 | E13: 5791 | F13: =+E13*D13 -> 359042
A14: 12 | B14: MALLA PARA CABELLO NEGRA MOÑA SEGÚN NORMA TECNICA No. CEDE 4-DIETE-ET-04937/INT-0 | C14: UNIDAD | D14: 0 | E14: 3373 | F14: =+E14*D14 -> 0
B15: TOTAL A-02-02-01-002-007 ARTÍCULOS TEXTILES (EXCEPTO PRENDAS DE VESTIR) | F15: =SUM(F3:F14) -> 4473238
B16: A-02-02-01-002-08 DOTACIÓN (PRENDAS DE VESTIR Y CALZADO)
A17: 13 | B17: CALCETIN COLOR BLANCO PARA DEPORTE ESPECIFICACIONES TÉCNICAS Y DIMENSIONES DE ACUERDO A NORMA TÉCNICA NTMD 0356-A2 | C17: PAR | D17: 62 | E17: 5016 | F17: =+E17*D17 -> 310992
A18: 14 | B18: UNIFORME DE DEPORTES COMPLETO - PANTALONETA Y CAMISETA ESPECIFICACIONES TÉCNICAS Y DIMENSIONES DE ACUERDO A NORMA TÉCNICA NTMD 0356-A2 | C18: UNIDAD | D18: 62 | E18: 41055 | F18: =+E18*D18 -> 2545410
A19: 15 | B19: CHANCLAS NEGRAS ESPECIFICACIONES TÉCNICAS Y DIMENSIONES DE ACUERDO A NORMA TÉCNICA NTMD 0356-A2 | C19: PAR | D19: 62 | E19: 7140 | F19: =+E19*D19 -> 442680
A20: 16 | B20: JUEGO DE ROPA INTERIOR (TOP Y CACHETERO) SEGÚN NORMA TECNICA No. JEMPP-CEDE4-DIETE-ET-05573/INT-0 | C20: JUEGO | D20: 0 | E20: 45855 | F20: =+E20*D20 -> 0
A21: 17 | B21: BICICLETERO NEGRO CORTO SEGÚN NORMA TECNICA No. JEMPP-CEDE4-DIETE-ET-05595/INT-0 | C21: UNIDAD | D21: 0 | E21: 25521 | F21: =+E21*D21 -> 0
B22: TOTAL A-02-02-01-002-08 DOTACIÓN (PRENDAS DE VESTIR Y CALZADO) | F22: =SUM(F17:F21) -> 3299082
B23: A-02-02-01-003-002 PASTA O PULPA, PAPEL Y PRODUCTOS DE PAPEL; IMPRESOS Y ARTÍCULOS RELACIONADOS
A24: 18 | B24: CUADERNO DE 100 HOJAS COCIDO PASTA BLANDA ESPECIFICACIONES TÉCNICAS Y DIMENSIONES DE ACUERDO A NORMA TÉCNICA NTMD 0356-A2 | C24: UNIDAD | D24: 62 | E24: 2570 | F24: =+E24*D24 -> 159340
A25: 19 | B25: PAPEL HIGIENICO TRIPLE HOJA ESPECIFICACIONES TÉCNICAS Y DIMENSIONES DE ACUERDO A NORMA TÉCNICA NTMD 0356-A2 | C25: UNIDAD | D25: 124 | E25: 2701 | F25: =+E25*D25 -> 334924
A26: 20 | B26: TOALLAS SANITARIAS SEGÚN NORMA TECNICA No. NTC 3604-2006 PAQUETE X 24 UNIDADES | C26: PAQUETE | D26: 0 | E26: 14380 | F26: =+E26*D26 -> 0
B27: TOTAL A-02-02-01-003-002 PASTA O PULPA, PAPEL Y PRODUCTOS DE PAPEL; IMPRESOS Y ARTÍCULOS RELACIONADOS | F27: =SUM(F24:F26) -> 494264
B28: A-02-02-01-003-005 OTROS PRODUCTOS QUÍMICOS; FIBRAS ARTIFICIALES (O FIBRAS INDUSTRIALES HECHAS POR EL HOMBRE)
A29: 21 | B29: CAJA DE BETUN NEGRO ESPECIFICACIONES TÉCNICAS Y DIMENSIONES DE ACUERDO A NORMA TÉCNICA NTMD 0356-A2 | C29: UNIDAD | D29: 62 | E29: 6819 | F29: =+E29*D29 -> 422778
A30: 22 | B30: TALCOS ESPECIFICACIONES TÉCNICAS Y DIMENSIONES DE ACUERDO A NORMA TÉCNICA NTMD 0356-A2 | C30: UNIDAD | D30: 62 | E30: 6819 | F30: =+E30*D30 -> 422778
A31: 23 | B31: CREMA DENTAL ESPECIFICACIONES TÉCNICAS Y DIMENSIONES DE ACUERDO A NORMA TÉCNICA NTDM 0356-A2 | C31: UNIDAD | D31: 124 | E31: 6319 | F31: =+E31*D31 -> 783556
A32: 24 | B32: DESODORANTE ANTITRASPIRANTE PARA MUJER- ESPECIFICACIONES TÉCNICAS Y DIMENSIONES DE ACUERDO A NORMA TÉCNICA NTMD 0356-A2 | C32: UNIDAD | D32: 0 | E32: 8961 | F32: =+E32*D32 -> 0
A33: 25 | B33: DESODORANTE MASCULINO ESPECIFICACIONES TÉCNICAS Y DIMENSIONES DE ACUERDO A NORMA TÉCNICA NTMD 0356-A2 | C33: UNIDAD | D33: 62 | E33: 8961 | F33: =+E33*D33 -> 555582
A34: 26 | B34: JABON DE BAÑO ANTIBACTERIAL ESPECIFICACIONES TÉCNICAS Y DIMENSIONES DE ACUERDO A NORMA TÉCNICA NTDM 0356-A2 | C34: UNIDAD | D34: 124 | E34: 3705 | F34: =+E34*D34 -> 459420
A35: 27 | B35: JABON EN PASTA PARA LAVAR ROPA ESPECIFICACIONES TÉCNICAS Y DIMENSIONES DE ACUERDO A NORMA TÉCNICA NTMD 0356-A2 | C35: UNIDAD | D35: 62 | E35: 2832 | F35: =+E35*D35 -> 175584
B36: TOTAL A-02-02-01-003-005 OTROS PRODUCTOS QUÍMICOS; FIBRAS ARTIFICIALES (O FIBRAS INDUSTRIALES HECHAS POR EL HOMBRE) | F36: =SUM(F29:F35) -> 2819698
B37: A-02-02-01-003-006 PRODUCTOS DE CAUCHO Y PLÁSTICO
A38: 28 | B38: PROTECTORES AUDITIVOS ESPECIFICACIONES TÉCNICAS Y DIMENSIONES DE ACUERDO A NORMA TÉCNICA NTMD 0356-A2 | C38: UNIDAD | D38: 62 | E38: 2213 | F38: =+E38*D38 -> 137206
A39: 29 | B39: JABONERA PLASTICA VERDE ESPECIFICACIONES TÉCNICAS Y DIMENSIONES DE ACUERDO A NORMA TÉCNICA NTMD 0356-A2 | C39: UNIDAD | D39: 62 | E39: 1488 | F39: =+E39*D39 -> 92256
A40: 30 | B40: PORTA CEPILLO DE DIENTES ESPECIFICACIONES TÉCNICAS Y DIMENSIONES DE ACUERDO A NORMA TÉCNICA NTMD 0356-A2 | C40: UNIDAD | D40: 62 | E40: 2324 | F40: =+E40*D40 -> 144088
B41: TOTAL A-02-02-01-003-006 PRODUCTOS DE CAUCHO Y PLÁSTICO | F41: =SUM(F38:F40) -> 373550
B42: A-02-02-01-003-008 OTROS BIENES TRANSPORTABLES N.C.P.
A43: 31 | B43: CEPILLO DENTAL CON LIMPIADOR DE LENGUA ESPECIFICACIONES TÉCNICAS Y DIMENSIONES DE ACUERDO A NORMA TÉCNICA NTMD 0356-A2 | C43: UNIDAD | D43: 62 | E43: 3167 | F43: =+E43*D43 -> 196354
A44: 32 | B44: PEINILLA NEGRA ESPECIFICACIONES TÉCNICAS Y DIMENSIONES DE ACUERDO A NORMA TÉCNICA NTMD 0356-A2 | C44: UNIDAD | D44: 62 | E44: 1252 | F44: =+E44*D44 -> 77624
A45: 33 | B45: JUEGO CEPILLOS PARA BRILLAR CALZADO X02 (01 UNO GRANDE Y 01 UNO PEQUEÑO) ESPECIFICACIONES TÉCNICAS Y DIMENSIONES DE ACUERDO A NORMA TÉCNICA NTMD 0356-A2 | C45: JUEGO | D45: 62 | E45: 5593 | F45: =+E45*D45 -> 346766
A46: 34 | B46: LAPICERO SIN MECANISMO RETRACTIL ESPECIFICACIONES TÉCNICAS Y DIMENSIONES DE ACUERDO A NORMA TÉCNICA NTMD 0356-A2 | C46: UNIDAD | D46: 62 | E46: 1328 | F46: =+E46*D46 -> 82336
B47: TOTAL A-02-02-01-003-008 OTROS BIENES TRANSPORTABLES N.C.P. | F47: =SUM(F43:F46) -> 703080
B48: A-02-02-01-004-002 PRODUCTOS METÁLICOS ELABORADOS (EXCEPTO MAQUINARIA Y EQUIPO)
A49: 35 | B49: CANDADO ESPECIFICACIONES TÉCNICAS Y DIMENSIONES DE ACUERDO A NORMA TÉCNICA NTMD 0356-A2 | C49: UNIDAD | D49: 62 | E49: 4379 | F49: =+E49*D49 -> 271498
A50: 36 | B50: MAQUINA DE AFEITAR TRIPLE HOJA ESPECIFICACIONES TÉCNICAS Y DIMENSIONES DE ACUERDO A NORMA TÉCNICA NTMD 0356-A2 | C50: JUEGO | D50: 186 | E50: 2368 | F50: =+E50*D50 -> 440448
A51: 37 | B51: CORTAUÑAS ESPECIFICACIONES TÉCNICAS Y DIMENSIONES DE ACUERDO A NORMA TÉCNICA NTMD 0356 -A2 | C51: UNIDAD | D51: 62 | E51: 4641 | F51: =+E51*D51 -> 287742
A52: 38 | B52: JUEGO DE (02) PLACAS DE IDENTIFICACION, (01) PLACA PARA CUELLO Y (01) PLACA PARA BOTA, ESPECIFICACIONES TÉCNICAS Y DIMENSIONES DE ACUERDO A NORMA TÉCNICA NTMD 0356-A2 | C52: JUEGO | D52: 62 | E52: 11071 | F52: =+E52*D52 -> 686402
B53: TOTAL A-02-02-01-004-002 PRODUCTOS METÁLICOS ELABORADOS (EXCEPTO MAQUINARIA Y EQUIPO) | F53: =SUM(F49:F52) -> 1686090
A54: TOTAL | F54: =+F53+F47+F41+F36+F27+F22+F15 -> 13849002

Sheet ESPAM
A1: ITEM | B1: DESCRIPCIÓN DEL BIEN Y/O SERVICIO | C1: UNIDAD MEDIDA | D1: CANTIDAD | E1: VALOR UNITARIO DE REFERENCIA | F1: VALOR TOTAL DE REFERENCIA
B2: A-02-02-01-002-007 ARTÍCULOS TEXTILES (EXCEPTO PRENDAS DE VESTIR)
A3: 1 | B3: PARCHE DE IDENTIFICACION PERSONAL (SELVA) ESPECIFICACIONES TÉCNICAS Y DIMENSIONES DE ACUERDO A BOLETIN 004 ESTANDARIZACIÓN DE LOS PARCHES DE COMBATE PARA LOS UNIFORMES N.° 4 (TIPO SELVA) Y N4A TIPO ARIDO DEL PATRÓN DE CAMUFLAJE TERRESTRE “CAMALEÓN”. | C3: UNIDAD | D3: 48 | E3: 1785 | F3: =+E3*D3 -> 85680
A4: 2 | B4: PARCHE DE EJERCITO (SELVA) ESPECIFICACIONES TÉCNICAS Y DIMENSIONES DE ACUERDO A BOLETIN 004 ESTANDARIZACIÓN DE LOS PARCHES DE COMBATE PARA LOS UNIFORMES N.° 4 (TIPO SELVA) Y N4A TIPO ARIDO DEL PATRÓN DE CAMUFLAJE TERRESTRE “CAMALEÓN”. | C4: UNIDAD | D4: 24 | E4: 2101 | F4: =+E4*D4 -> 50424
A5: 3 | B5: PARCHES DE LA UNIDAD SUPERIOR (02 UND) Y UNIDAD SUBALTERNA (02 UNID) SELVA Numeral ESPECIFICACIONES TECNICAS Y DIMENSIONES DE ACUERDO A BOLETIN 004 ESTANDARIZACION DE LOS PARCHES DE COMBATE PARA LOS UNIFORMES N 4 TIPO SELVA Y N 4A TIPO ARIDO DEL PATRON DE CAMUFLAJE TERRESTRE CAMALEON. | C5: UNIDAD | D5: 48 | E5: 5117 | F5: =+E5*D5 -> 245616
A6: 4 | B6: BANDERA DE IDENTIFICACION (SELVA) ESPECIFICACIONES TÉCNICAS Y DIMENSIONES DE ACUERDO A BOLETIN 001 FEBRERO 2025 (DISDI) ESTANDARIZACIÓN DE LA BANDERA DE IDENTIFICACION EMPLEADA EN EL UNIFORME N.° 4 (TIPO SELVA) Y N.° 4A (TIPO ÁRIDO) DEL PATRÓN DE CAMUFLAJE TERRESTRE “CAMALEÓN”. | C6: UNIDAD | D6: 24 | E6: 2270 | F6: =+E6*D6 -> 54480
A7: 5 | B7: PARCHE DE IDENTIFICACION GRUPO SANGUINEO, (SELVA) ESPECIFICACIONES TÉCNICAS Y DIMENSIONES DE ACUERDO A BOLETIN 004 ESTANDARIZACIÓN DE LOS PARCHES DE COMBATE PARA LOS UNIFORMES N.° 4 (TIPO SELVA) Y N.° 4A (TIPO ÁRIDO) DEL PATRÓN DE CAMUFLAJE TERRESTRE “CAMALEÓN”. | C7: UNIDAD | D7: 24 | E7: 2099 | F7: =+E7*D7 -> 50376
A8: 6 | B8: INSIGNIA DE GRADO SOLDADOS (SELVA) ESPECIFICACIONES TÉCNICAS Y DIMENSIONES DE ACUERDO A BOLETIN 004 ESTANDARIZACIÓN DE LOS PARCHES DE COMBATE PARA LOS UNIFORMES N.° 4 (TIPO SELVA) Y N.° 4A (TIPO ÁRIDO) DEL PATRÓN DE CAMUFLAJE TERRESTRE “CAMALEÓN”. | C8: JUEGO | D8: 24 | E8: 5080 | F8: =+E8*D8 -> 121920
A9: 7 | B9: BRAZALETES TACTICOS x JUEGO DE 04 (COLOR NARANJA, VERDE, AZUL Y MORADO) ESPECIFICACIONES TÉCNICAS Y DIMENSIONES DE ACUERDO A NORMA TÉCNICA NTMD 0356-A2. | C9: JUEGO | D9: 12 | E9: 4165 | F9: =+E9*D9 -> 49980
A10: 8 | B10: OJOS DE GATO. ESPECIFICACIONES TÉCNICAS Y DIMENSIONES DE ACUERDO A NORMA TÉCNICA NTMD 0356 - BOLETIN 004 ESTANDARIZACIÓN DE LOS PARCHES DE COMBATE PARA LOS UNIFORMES N.° 4 (TIPO SELVA) Y N.° 4A (TIPO ÁRIDO) DEL PATRÓN DE CAMUFLAJE TERRESTRE “CAMALEÓN”. | C10: UNIDAD | D10: 24 | E10: 1964 | F10: =+E10*D10 -> 47136
A11: 9 | B11: JUEGO DE LIGAS PARA BOTAS MANGA PANTALON CAMUFLADO (SELVA) ESPECIFICACIONES TÉCNICAS Y DIMENSIONES DE ACUERDO A NORMA TÉCNICA NTMD 0356-A2 | C11: PAR | D11: 12 | E11: 2559 | F11: =+E11*D11 -> 30708
A12: 10 | B12: PAÑUELOS ESPECIFICACIONES TÉCNICAS Y DIMENSIONES DE ACUERDO A NORMA TÉCNICA NTMD 0356-A2 | C12: UNIDAD | D12: 24 | E12: 2499 | F12: =+E12*D12 -> 59976
A13: 11 | B13: BOLSO UTILES DE ASEO ESPECIFICACIONES TÉCNICAS Y DIMENSIONES DE ACUERDO A NORMA TÉCNICA NTMD 0356-A2 | C13: UNIDAD | D13: 12 | E13: 5791 | F13: =+E13*D13 -> 69492
A14: 12 | B14: MALLA PARA CABELLO NEGRA MOÑA SEGÚN NORMA TECNICA No. CEDE 4-DIETE-ET-04937/INT-0 | C14: UNIDAD | D14: 0 | E14: 3373 | F14: =+E14*D14 -> 0
B15: TOTAL A-02-02-01-002-007 ARTÍCULOS TEXTILES (EXCEPTO PRENDAS DE VESTIR) | F15: =SUM(F3:F14) -> 865788
B16: A-02-02-01-002-08 DOTACIÓN (PRENDAS DE VESTIR Y CALZADO)
A17: 13 | B17: CALCETIN COLOR BLANCO PARA DEPORTE ESPECIFICACIONES TÉCNICAS Y DIMENSIONES DE ACUERDO A NORMA TÉCNICA NTMD 0356-A2 | C17: PAR | D17: 12 | E17: 5016 | F17: =+E17*D17 -> 60192
A18: 14 | B18: UNIFORME DE DEPORTES COMPLETO - PANTALONETA Y CAMISETA ESPECIFICACIONES TÉCNICAS Y DIMENSIONES DE ACUERDO A NORMA TÉCNICA NTMD 0356-A2 | C18: UNIDAD | D18: 12 | E18: 41055 | F18: =+E18*D18 -> 492660
A19: 15 | B19: CHANCLAS NEGRAS ESPECIFICACIONES TÉCNICAS Y DIMENSIONES DE ACUERDO A NORMA TÉCNICA NTMD 0356-A2 | C19: PAR | D19: 12 | E19: 7140 | F19: =+E19*D19 -> 85680
A20: 16 | B20: JUEGO DE ROPA INTERIOR (TOP Y CACHETERO) SEGÚN NORMA TECNICA No. JEMPP-CEDE4-DIETE-ET-05573/INT-0 | C20: JUEGO | D20: 0 | E20: 45855 | F20: =+E20*D20 -> 0
A21: 17 | B21: BICICLETERO NEGRO CORTO SEGÚN NORMA TECNICA No. JEMPP-CEDE4-DIETE-ET-05595/INT-0 | C21: UNIDAD | D21: 0 | E21: 25521 | F21: =+E21*D21 -> 0
B22: TOTAL A-02-02-01-002-08 DOTACIÓN (PRENDAS DE VESTIR Y CALZADO) | F22: =SUM(F17:F21) -> 638532
B23: A-02-02-01-003-002 PASTA O PULPA, PAPEL Y PRODUCTOS DE PAPEL; IMPRESOS Y ARTÍCULOS RELACIONADOS
A24: 18 | B24: CUADERNO DE 100 HOJAS COCIDO PASTA BLANDA ESPECIFICACIONES TÉCNICAS Y DIMENSIONES DE ACUERDO A NORMA TÉCNICA NTMD 0356-A2 | C24: UNIDAD | D24: 12 | E24: 2570 | F24: =+E24*D24 -> 30840
A25: 19 | B25: PAPEL HIGIENICO TRIPLE HOJA ESPECIFICACIONES TÉCNICAS Y DIMENSIONES DE ACUERDO A NORMA TÉCNICA NTMD 0356-A2 | C25: UNIDAD | D25: 24 | E25: 2701 | F25: =+E25*D25 -> 64824
A26: 20 | B26: TOALLAS SANITARIAS SEGÚN NORMA TECNICA No. NTC 3604-2006 PAQUETE X 24 UNIDADES | C26: PAQUETE | D26: 0 | E26: 14380 | F26: =+E26*D26 -> 0
B27: TOTAL A-02-02-01-003-002 PASTA O PULPA, PAPEL Y PRODUCTOS DE PAPEL; IMPRESOS Y ARTÍCULOS RELACIONADOS | F27: =SUM(F24:F26) -> 95664
B28: A-02-02-01-003-005 OTROS PRODUCTOS QUÍMICOS; FIBRAS ARTIFICIALES (O FIBRAS INDUSTRIALES HECHAS POR EL HOMBRE)
A29: 21 | B29: CAJA DE BETUN NEGRO ESPECIFICACIONES TÉCNICAS Y DIMENSIONES DE ACUERDO A NORMA TÉCNICA NTMD 0356-A2 | C29: UNIDAD | D29: 12 | E29: 6819 | F29: =+E29*D29 -> 81828
A30: 22 | B30: TALCOS ESPECIFICACIONES TÉCNICAS Y DIMENSIONES DE ACUERDO A NORMA TÉCNICA NTMD 0356-A2 | C30: UNIDAD | D30: 12 | E30: 6819 | F30: =+E30*D30 -> 81828
A31: 23 | B31: CREMA DENTAL ESPECIFICACIONES TÉCNICAS Y DIMENSIONES DE ACUERDO A NORMA TÉCNICA NTDM 0356-A2 | C31: UNIDAD | D31: 24 | E31: 6319 | F31: =+E31*D31 -> 151656
A32: 24 | B32: DESODORANTE ANTITRASPIRANTE PARA MUJER- ESPECIFICACIONES TÉCNICAS Y DIMENSIONES DE ACUERDO A NORMA TÉCNICA NTMD 0356-A2 | C32: UNIDAD | D32: 0 | E32: 8961 | F32: =+E32*D32 -> 0
A33: 25 | B33: DESODORANTE MASCULINO ESPECIFICACIONES TÉCNICAS Y DIMENSIONES DE ACUERDO A NORMA TÉCNICA NTMD 0356-A2 | C33: UNIDAD | D33: 12 | E33: 8961 | F33: =+E33*D33 -> 107532
A34: 26 | B34: JABON DE BAÑO ANTIBACTERIAL ESPECIFICACIONES TÉCNICAS Y DIMENSIONES DE ACUERDO A NORMA TÉCNICA NTDM 0356-A2 | C34: UNIDAD | D34: 24 | E34: 3705 | F34: =+E34*D34 -> 88920
A35: 27 | B35: JABON EN PASTA PARA LAVAR ROPA ESPECIFICACIONES TÉCNICAS Y DIMENSIONES DE ACUERDO A NORMA TÉCNICA NTMD 0356-A2 | C35: UNIDAD | D35: 12 | E35: 2832 | F35: =+E35*D35 -> 33984
B36: TOTAL A-02-02-01-003-005 OTROS PRODUCTOS QUÍMICOS; FIBRAS ARTIFICIALES (O FIBRAS INDUSTRIALES HECHAS POR EL HOMBRE) | F36: =SUM(F29:F35) -> 545748
B37: A-02-02-01-003-006 PRODUCTOS DE CAUCHO Y PLÁSTICO
A38: 28 | B38: PROTECTORES AUDITIVOS ESPECIFICACIONES TÉCNICAS Y DIMENSIONES DE ACUERDO A NORMA TÉCNICA NTMD 0356-A2 | C38: UNIDAD | D38: 12 | E38: 2213 | F38: =+E38*D38 -> 26556
A39: 29 | B39: JABONERA PLASTICA VERDE ESPECIFICACIONES TÉCNICAS Y DIMENSIONES DE ACUERDO A NORMA TÉCNICA NTMD 0356-A2 | C39: UNIDAD | D39: 12 | E39: 1488 | F39: =+E39*D39 -> 17856
A40: 30 | B40: PORTA CEPILLO DE DIENTES ESPECIFICACIONES TÉCNICAS Y DIMENSIONES DE ACUERDO A NORMA TÉCNICA NTMD 0356-A2 | C40: UNIDAD | D40: 12 | E40: 2324 | F40: =+E40*D40 -> 27888
B41: TOTAL A-02-02-01-003-006 PRODUCTOS DE CAUCHO Y PLÁSTICO | F41: =SUM(F38:F40) -> 72300
B42: A-02-02-01-003-008 OTROS BIENES TRANSPORTABLES N.C.P.
A43: 31 | B43: CEPILLO DENTAL CON LIMPIADOR DE LENGUA ESPECIFICACIONES TÉCNICAS Y DIMENSIONES DE ACUERDO A NORMA TÉCNICA NTMD 0356-A2 | C43: UNIDAD | D43: 12 | E43: 3167 | F43: =+E43*D43 -> 38004
A44: 32 | B44: PEINILLA NEGRA ESPECIFICACIONES TÉCNICAS Y DIMENSIONES DE ACUERDO A NORMA TÉCNICA NTMD 0356-A2 | C44: UNIDAD | D44: 12 | E44: 1252 | F44: =+E44*D44 -> 15024
A45: 33 | B45: JUEGO CEPILLOS PARA BRILLAR CALZADO X02 (01 UNO GRANDE Y 01 UNO PEQUEÑO) ESPECIFICACIONES TÉCNICAS Y DIMENSIONES DE ACUERDO A NORMA TÉCNICA NTMD 0356-A2 | C45: JUEGO | D45: 12 | E45: 5593 | F45: =+E45*D45 -> 67116
A46: 34 | B46: LAPICERO SIN MECANISMO RETRACTIL ESPECIFICACIONES TÉCNICAS Y DIMENSIONES DE ACUERDO A NORMA TÉCNICA NTMD 0356-A2 | C46: UNIDAD | D46: 12 | E46: 1328 | F46: =+E46*D46 -> 15936
B47: TOTAL A-02-02-01-003-008 OTROS BIENES TRANSPORTABLES N.C.P. | F47: =SUM(F43:F46) -> 136080
B48: A-02-02-01-004-002 PRODUCTOS METÁLICOS ELABORADOS (EXCEPTO MAQUINARIA Y EQUIPO)
A49: 35 | B49: CANDADO ESPECIFICACIONES TÉCNICAS Y DIMENSIONES DE ACUERDO A NORMA TÉCNICA NTMD 0356-A2 | C49: UNIDAD | D49: 12 | E49: 4379 | F49: =+E49*D49 -> 52548
A50: 36 | B50: MAQUINA DE AFEITAR TRIPLE HOJA ESPECIFICACIONES TÉCNICAS Y DIMENSIONES DE ACUERDO A NORMA TÉCNICA NTMD 0356-A2 | C50: JUEGO | D50: 36 | E50: 2368 | F50: =+E50*D50 -> 85248
A51: 37 | B51: CORTAUÑAS ESPECIFICACIONES TÉCNICAS Y DIMENSIONES DE ACUERDO A NORMA TÉCNICA NTMD 0356 -A2 | C51: UNIDAD | D51: 12 | E51: 4641 | F51: =+E51*D51 -> 55692
A52: 38 | B52: JUEGO DE (02) PLACAS DE IDENTIFICACION, (01) PLACA PARA CUELLO Y (01) PLACA PARA BOTA, ESPECIFICACIONES TÉCNICAS Y DIMENSIONES DE ACUERDO A NORMA TÉCNICA NTMD 0356-A2 | C52: JUEGO | D52: 12 | E52: 11071 | F52: =+E52*D52 -> 132852
B53: TOTAL A-02-02-01-004-002 PRODUCTOS METÁLICOS ELABORADOS (EXCEPTO MAQUINARIA Y EQUIPO) | F53: =SUM(F49:F52) -> 326340
A54: TOTAL | F54: =+F53+F47+F41+F36+F27+F22+F15 -> 2680452

Sheet ESFER
A1: ITEM | B1: DESCRIPCIÓN DEL BIEN Y/O SERVICIO | C1: UNIDAD MEDIDA | D1: CANTIDAD | E1: VALOR UNITARIO DE REFERENCIA | F1: VALOR TOTAL DE REFERENCIA
B2: A-02-02-01-002-007 ARTÍCULOS TEXTILES (EXCEPTO PRENDAS DE VESTIR)
A3: 1 | B3: PARCHE DE IDENTIFICACION PERSONAL (SELVA) ESPECIFICACIONES TÉCNICAS Y DIMENSIONES DE ACUERDO A BOLETIN 004 ESTANDARIZACIÓN DE LOS PARCHES DE COMBATE PARA LOS UNIFORMES N.° 4 (TIPO SELVA) Y N4A TIPO ARIDO DEL PATRÓN DE CAMUFLAJE TERRESTRE “CAMALEÓN”. | C3: UNIDAD | D3: 48 | E3: 1785 | F3: =+E3*D3 -> 85680
A4: 2 | B4: PARCHE DE EJERCITO (SELVA) ESPECIFICACIONES TÉCNICAS Y DIMENSIONES DE ACUERDO A BOLETIN 004 ESTANDARIZACIÓN DE LOS PARCHES DE COMBATE PARA LOS UNIFORMES N.° 4 (TIPO SELVA) Y N4A TIPO ARIDO DEL PATRÓN DE CAMUFLAJE TERRESTRE “CAMALEÓN”. | C4: UNIDAD | D4: 24 | E4: 2101 | F4: =+E4*D4 -> 50424
A5: 3 | B5: PARCHES DE LA UNIDAD SUPERIOR (02 UND) Y UNIDAD SUBALTERNA (02 UNID) SELVA Numeral ESPECIFICACIONES TECNICAS Y DIMENSIONES DE ACUERDO A BOLETIN 004 ESTANDARIZACION DE LOS PARCHES DE COMBATE PARA LOS UNIFORMES N 4 TIPO SELVA Y N 4A TIPO ARIDO DEL PATRON DE CAMUFLAJE TERRESTRE CAMALEON. | C5: UNIDAD | D5: 48 | E5: 5117 | F5: =+E5*D5 -> 245616
A6: 4 | B6: BANDERA DE IDENTIFICACION (SELVA) ESPECIFICACIONES TÉCNICAS Y DIMENSIONES DE ACUERDO A BOLETIN 001 FEBRERO 2025 (DISDI) ESTANDARIZACIÓN DE LA BANDERA DE IDENTIFICACION EMPLEADA EN EL UNIFORME N.° 4 (TIPO SELVA) Y N.° 4A (TIPO ÁRIDO) DEL PATRÓN DE CAMUFLAJE TERRESTRE “CAMALEÓN”. | C6: UNIDAD | D6: 24 | E6: 2270 | F6: =+E6*D6 -> 54480
A7: 5 | B7: PARCHE DE IDENTIFICACION GRUPO SANGUINEO, (SELVA) ESPECIFICACIONES TÉCNICAS Y DIMENSIONES DE ACUERDO A BOLETIN 004 ESTANDARIZACIÓN DE LOS PARCHES DE COMBATE PARA LOS UNIFORMES N.° 4 (TIPO SELVA) Y N.° 4A (TIPO ÁRIDO) DEL PATRÓN DE CAMUFLAJE TERRESTRE “CAMALEÓN”. | C7: UNIDAD | D7: 24 | E7: 2099 | F7: =+E7*D7 -> 50376
A8: 6 | B8: INSIGNIA DE GRADO SOLDADOS (SELVA) ESPECIFICACIONES TÉCNICAS Y DIMENSIONES DE ACUERDO A BOLETIN 004 ESTANDARIZACIÓN DE LOS PARCHES DE COMBATE PARA LOS UNIFORMES N.° 4 (TIPO SELVA) Y N.° 4A (TIPO ÁRIDO) DEL PATRÓN DE CAMUFLAJE TERRESTRE “CAMALEÓN”. | C8: JUEGO | D8: 24 | E8: 5080 | F8: =+E8*D8 -> 121920
A9: 7 | B9: BRAZALETES TACTICOS x JUEGO DE 04 (COLOR NARANJA, VERDE, AZUL Y MORADO) ESPECIFICACIONES TÉCNICAS Y DIMENSIONES DE ACUERDO A NORMA TÉCNICA NTMD 0356-A2. | C9: JUEGO | D9: 12 | E9: 4165 | F9: =+E9*D9 -> 49980
A10: 8 | B10: OJOS DE GATO. ESPECIFICACIONES TÉCNICAS Y DIMENSIONES DE ACUERDO A NORMA TÉCNICA NTMD 0356 - BOLETIN 004 ESTANDARIZACIÓN DE LOS PARCHES DE COMBATE PARA LOS UNIFORMES N.° 4 (TIPO SELVA) Y N.° 4A (TIPO ÁRIDO) DEL PATRÓN DE CAMUFLAJE TERRESTRE “CAMALEÓN”. | C10: UNIDAD | D10: 24 | E10: 1964 | F10: =+E10*D10 -> 47136
A11: 9 | B11: JUEGO DE LIGAS PARA BOTAS MANGA PANTALON CAMUFLADO (SELVA) ESPECIFICACIONES TÉCNICAS Y DIMENSIONES DE ACUERDO A NORMA TÉCNICA NTMD 0356-A2 | C11: PAR | D11: 12 | E11: 2559 | F11: =+E11*D11 -> 30708
A12: 10 | B12: PAÑUELOS ESPECIFICACIONES TÉCNICAS Y DIMENSIONES DE ACUERDO A NORMA TÉCNICA NTMD 0356-A2 | C12: UNIDAD | D12: 24 | E12: 2499 | F12: =+E12*D12 -> 59976
A13: 11 | B13: BOLSO UTILES DE ASEO ESPECIFICACIONES TÉCNICAS Y DIMENSIONES DE ACUERDO A NORMA TÉCNICA NTMD 0356-A2 | C13: UNIDAD | D13: 12 | E13: 5791 | F13: =+E13*D13 -> 69492
A14: 12 | B14: MALLA PARA CABELLO NEGRA MOÑA SEGÚN NORMA TECNICA No. CEDE 4-DIETE-ET-04937/INT-0 | C14: UNIDAD | D14: 0 | E14: 3373 | F14: =+E14*D14 -> 0
B15: TOTAL A-02-02-01-002-007 ARTÍCULOS TEXTILES (EXCEPTO PRENDAS DE VESTIR) | F15: =SUM(F3:F14) -> 865788
B16: A-02-02-01-002-08 DOTACIÓN (PRENDAS DE VESTIR Y CALZADO)
A17: 13 | B17: CALCETIN COLOR BLANCO PARA DEPORTE ESPECIFICACIONES TÉCNICAS Y DIMENSIONES DE ACUERDO A NORMA TÉCNICA NTMD 0356-A2 | C17: PAR | D17: 12 | E17: 5016 | F17: =+E17*D17 -> 60192
A18: 14 | B18: UNIFORME DE DEPORTES COMPLETO - PANTALONETA Y CAMISETA ESPECIFICACIONES TÉCNICAS Y DIMENSIONES DE ACUERDO A NORMA TÉCNICA NTMD 0356-A2 | C18: UNIDAD | D18: 12 | E18: 41055 | F18: =+E18*D18 -> 492660
A19: 15 | B19: CHANCLAS NEGRAS ESPECIFICACIONES TÉCNICAS Y DIMENSIONES DE ACUERDO A NORMA TÉCNICA NTMD 0356-A2 | C19: PAR | D19: 12 | E19: 7140 | F19: =+E19*D19 -> 85680
A20: 16 | B20: JUEGO DE ROPA INTERIOR (TOP Y CACHETERO) SEGÚN NORMA TECNICA No. JEMPP-CEDE4-DIETE-ET-05573/INT-0 | C20: JUEGO | D20: 0 | E20: 45855 | F20: =+E20*D20 -> 0
A21: 17 | B21: BICICLETERO NEGRO CORTO SEGÚN NORMA TECNICA No. JEMPP-CEDE4-DIETE-ET-05595/INT-0 | C21: UNIDAD | D21: 0 | E21: 25521 | F21: =+E21*D21 -> 0
B22: TOTAL A-02-02-01-002-08 DOTACIÓN (PRENDAS DE VESTIR Y CALZADO) | F22: =SUM(F17:F21) -> 638532
B23: A-02-02-01-003-002 PASTA O PULPA, PAPEL Y PRODUCTOS DE PAPEL; IMPRESOS Y ARTÍCULOS RELACIONADOS
A24: 18 | B24: CUADERNO DE 100 HOJAS COCIDO PASTA BLANDA ESPECIFICACIONES TÉCNICAS Y DIMENSIONES DE ACUERDO A NORMA TÉCNICA NTMD 0356-A2 | C24: UNIDAD | D24: 12 | E24: 2570 | F24: =+E24*D24 -> 30840
A25: 19 | B25: PAPEL HIGIENICO TRIPLE HOJA ESPECIFICACIONES TÉCNICAS Y DIMENSIONES DE ACUERDO A NORMA TÉCNICA NTMD 0356-A2 | C25: UNIDAD | D25: 24 | E25: 2701 | F25: =+E25*D25 -> 64824
A26: 20 | B26: TOALLAS SANITARIAS SEGÚN NORMA TECNICA No. NTC 3604-2006 PAQUETE X 24 UNIDADES | C26: PAQUETE | D26: 0 | E26: 14380 | F26: =+E26*D26 -> 0
B27: TOTAL A-02-02-01-003-002 PASTA O PULPA, PAPEL Y PRODUCTOS DE PAPEL; IMPRESOS Y ARTÍCULOS RELACIONADOS | F27: =SUM(F24:F26) -> 95664
B28: A-02-02-01-003-005 OTROS PRODUCTOS QUÍMICOS; FIBRAS ARTIFICIALES (O FIBRAS INDUSTRIALES HECHAS POR EL HOMBRE)
A29: 21 | B29: CAJA DE BETUN NEGRO ESPECIFICACIONES TÉCNICAS Y DIMENSIONES DE ACUERDO A NORMA TÉCNICA NTMD 0356-A2 | C29: UNIDAD | D29: 12 | E29: 6819 | F29: =+E29*D29 -> 81828
A30: 22 | B30: TALCOS ESPECIFICACIONES TÉCNICAS Y DIMENSIONES DE ACUERDO A NORMA TÉCNICA NTMD 0356-A2 | C30: UNIDAD | D30: 12 | E30: 6819 | F30: =+E30*D30 -> 81828
A31: 23 | B31: CREMA DENTAL ESPECIFICACIONES TÉCNICAS Y DIMENSIONES DE ACUERDO A NORMA TÉCNICA NTDM 0356-A2 | C31: UNIDAD | D31: 24 | E31: 6319 | F31: =+E31*D31 -> 151656
A32: 24 | B32: DESODORANTE ANTITRASPIRANTE PARA MUJER- ESPECIFICACIONES TÉCNICAS Y DIMENSIONES DE ACUERDO A NORMA TÉCNICA NTMD 0356-A2 | C32: UNIDAD | D32: 0 | E32: 8961 | F32: =+E32*D32 -> 0
A33: 25 | B33: DESODORANTE MASCULINO ESPECIFICACIONES TÉCNICAS Y DIMENSIONES DE ACUERDO A NORMA TÉCNICA NTMD 0356-A2 | C33: UNIDAD | D33: 12 | E33: 8961 | F33: =+E33*D33 -> 107532
A34: 26 | B34: JABON DE BAÑO ANTIBACTERIAL ESPECIFICACIONES TÉCNICAS Y DIMENSIONES DE ACUERDO A NORMA TÉCNICA NTDM 0356-A2 | C34: UNIDAD | D34: 24 | E34: 3705 | F34: =+E34*D34 -> 88920
A35: 27 | B35: JABON EN PASTA PARA LAVAR ROPA ESPECIFICACIONES TÉCNICAS Y DIMENSIONES DE ACUERDO A NORMA TÉCNICA NTMD 0356-A2 | C35: UNIDAD | D35: 12 | E35: 2832 | F35: =+E35*D35 -> 33984
B36: TOTAL A-02-02-01-003-005 OTROS PRODUCTOS QUÍMICOS; FIBRAS ARTIFICIALES (O FIBRAS INDUSTRIALES HECHAS POR EL HOMBRE) | F36: =SUM(F29:F35) -> 545748
B37: A-02-02-01-003-006 PRODUCTOS DE CAUCHO Y PLÁSTICO
A38: 28 | B38: PROTECTORES AUDITIVOS ESPECIFICACIONES TÉCNICAS Y DIMENSIONES DE ACUERDO A NORMA TÉCNICA NTMD 0356-A2 | C38: UNIDAD | D38: 12 | E38: 2213 | F38: =+E38*D38 -> 26556
A39: 29 | B39: JABONERA PLASTICA VERDE ESPECIFICACIONES TÉCNICAS Y DIMENSIONES DE ACUERDO A NORMA TÉCNICA NTMD 0356-A2 | C39: UNIDAD | D39: 12 | E39: 1488 | F39: =+E39*D39 -> 17856
A40: 30 | B40: PORTA CEPILLO DE DIENTES ESPECIFICACIONES TÉCNICAS Y DIMENSIONES DE ACUERDO A NORMA TÉCNICA NTMD 0356-A2 | C40: UNIDAD | D40: 12 | E40: 2324 | F40: =+E40*D40 -> 27888
B41: TOTAL A-02-02-01-003-006 PRODUCTOS DE CAUCHO Y PLÁSTICO | F41: =SUM(F38:F40) -> 72300
B42: A-02-02-01-003-008 OTROS BIENES TRANSPORTABLES N.C.P.
A43: 31 | B43: CEPILLO DENTAL CON LIMPIADOR DE LENGUA ESPECIFICACIONES TÉCNICAS Y DIMENSIONES DE ACUERDO A NORMA TÉCNICA NTMD 0356-A2 | C43: UNIDAD | D43: 12 | E43: 3167 | F43: =+E43*D43 -> 38004
A44: 32 | B44: PEINILLA NEGRA ESPECIFICACIONES TÉCNICAS Y DIMENSIONES DE ACUERDO A NORMA TÉCNICA NTMD 0356-A2 | C44: UNIDAD | D44: 12 | E44: 1252 | F44: =+E44*D44 -> 15024
A45: 33 | B45: JUEGO CEPILLOS PARA BRILLAR CALZADO X02 (01 UNO GRANDE Y 01 UNO PEQUEÑO) ESPECIFICACIONES TÉCNICAS Y DIMENSIONES DE ACUERDO A NORMA TÉCNICA NTMD 0356-A2 | C45: JUEGO | D45: 12 | E45: 5593 | F45: =+E45*D45 -> 67116
A46: 34 | B46: LAPICERO SIN MECANISMO RETRACTIL ESPECIFICACIONES TÉCNICAS Y DIMENSIONES DE ACUERDO A NORMA TÉCNICA NTMD 0356-A2 | C46: UNIDAD | D46: 12 | E46: 1328 | F46: =+E46*D46 -> 15936
B47: TOTAL A-02-02-01-003-008 OTROS BIENES TRANSPORTABLES N.C.P. | F47: =SUM(F43:F46) -> 136080
B48: A-02-02-01-004-002 PRODUCTOS METÁLICOS ELABORADOS (EXCEPTO MAQUINARIA Y EQUIPO)
A49: 35 | B49: CANDADO ESPECIFICACIONES TÉCNICAS Y DIMENSIONES DE ACUERDO A NORMA TÉCNICA NTMD 0356-A2 | C49: UNIDAD | D49: 12 | E49: 4379 | F49: =+E49*D49 -> 52548
A50: 36 | B50: MAQUINA DE AFEITAR TRIPLE HOJA ESPECIFICACIONES TÉCNICAS Y DIMENSIONES DE ACUERDO A NORMA TÉCNICA NTMD 0356-A2 | C50: JUEGO | D50: 36 | E50: 2368 | F50: =+E50*D50 -> 85248
A51: 37 | B51: CORTAUÑAS ESPECIFICACIONES TÉCNICAS Y DIMENSIONES DE ACUERDO A NORMA TÉCNICA NTMD 0356 -A2 | C51: UNIDAD | D51: 12 | E51: 4641 | F51: =+E51*D51 -> 55692
A52: 38 | B52: JUEGO DE (02) PLACAS DE IDENTIFICACION, (01) PLACA PARA CUELLO Y (01) PLACA PARA BOTA, ESPECIFICACIONES TÉCNICAS Y DIMENSIONES DE ACUERDO A NORMA TÉCNICA NTMD 0356-A2 | C52: JUEGO | D52: 12 | E52: 11071 | F52: =+E52*D52 -> 132852
B53: TOTAL A-02-02-01-004-002 PRODUCTOS METÁLICOS ELABORADOS (EXCEPTO MAQUINARIA Y EQUIPO) | F53: =SUM(F49:F52) -> 326340
A54: TOTAL | F54: =+F53+F47+F41+F36+F27+F22+F15 -> 2680452

Sheet BAABS2
A1: ITEM | B1: DESCRIPCIÓN DEL BIEN Y/O SERVICIO | C1: UNIDAD MEDIDA | D1: CANTIDAD | E1: VALOR UNITARIO DE REFERENCIA | F1: VALOR TOTAL DE REFERENCIA
B2: A-02-02-01-002-007 ARTÍCULOS TEXTILES (EXCEPTO PRENDAS DE VESTIR)
A3: 1 | B3: PARCHE DE IDENTIFICACION PERSONAL (SELVA) ESPECIFICACIONES TÉCNICAS Y DIMENSIONES DE ACUERDO A BOLETIN 004 ESTANDARIZACIÓN DE LOS PARCHES DE COMBATE PARA LOS UNIFORMES N.° 4 (TIPO SELVA) Y N4A TIPO ARIDO DEL PATRÓN DE CAMUFLAJE TERRESTRE “CAMALEÓN”. | C3: UNIDAD | D3: 124 | E3: 1785 | F3: =+E3*D3 -> 221340
A4: 2 | B4: PARCHE DE EJERCITO (SELVA) ESPECIFICACIONES TÉCNICAS Y DIMENSIONES DE ACUERDO A BOLETIN 004 ESTANDARIZACIÓN DE LOS PARCHES DE COMBATE PARA LOS UNIFORMES N.° 4 (TIPO SELVA) Y N4A TIPO ARIDO DEL PATRÓN DE CAMUFLAJE TERRESTRE “CAMALEÓN”. | C4: UNIDAD | D4: 62 | E4: 2101 | F4: =+E4*D4 -> 130262
A5: 3 | B5: PARCHES DE LA UNIDAD SUPERIOR (02 UND) Y UNIDAD SUBALTERNA (02 UNID) SELVA Numeral ESPECIFICACIONES TECNICAS Y DIMENSIONES DE ACUERDO A BOLETIN 004 ESTANDARIZACION DE LOS PARCHES DE COMBATE PARA LOS UNIFORMES N 4 TIPO SELVA Y N 4A TIPO ARIDO DEL PATRON DE CAMUFLAJE TERRESTRE CAMALEON. | C5: UNIDAD | D5: 124 | E5: 5117 | F5: =+E5*D5 -> 634508
A6: 4 | B6: BANDERA DE IDENTIFICACION (SELVA) ESPECIFICACIONES TÉCNICAS Y DIMENSIONES DE ACUERDO A BOLETIN 001 FEBRERO 2025 (DISDI) ESTANDARIZACIÓN DE LA BANDERA DE IDENTIFICACION EMPLEADA EN EL UNIFORME N.° 4 (TIPO SELVA) Y N.° 4A (TIPO ÁRIDO) DEL PATRÓN DE CAMUFLAJE TERRESTRE “CAMALEÓN”. | C6: UNIDAD | D6: 62 | E6: 2270 | F6: =+E6*D6 -> 140740
A7: 5 | B7: PARCHE DE IDENTIFICACION GRUPO SANGUINEO, (SELVA) ESPECIFICACIONES TÉCNICAS Y DIMENSIONES DE ACUERDO A BOLETIN 004 ESTANDARIZACIÓN DE LOS PARCHES DE COMBATE PARA LOS UNIFORMES N.° 4 (TIPO SELVA) Y N.° 4A (TIPO ÁRIDO) DEL PATRÓN DE CAMUFLAJE TERRESTRE “CAMALEÓN”. | C7: UNIDAD | D7: 62 | E7: 2099 | F7: =+E7*D7 -> 130138
A8: 6 | B8: INSIGNIA DE GRADO SOLDADOS (SELVA) ESPECIFICACIONES TÉCNICAS Y DIMENSIONES DE ACUERDO A BOLETIN 004 ESTANDARIZACIÓN DE LOS PARCHES DE COMBATE PARA LOS UNIFORMES N.° 4 (TIPO SELVA) Y N.° 4A (TIPO ÁRIDO) DEL PATRÓN DE CAMUFLAJE TERRESTRE “CAMALEÓN”. | C8: JUEGO | D8: 62 | E8: 5080 | F8: =+E8*D8 -> 314960
A9: 7 | B9: BRAZALETES TACTICOS x JUEGO DE 04 (COLOR NARANJA, VERDE, AZUL Y MORADO) ESPECIFICACIONES TÉCNICAS Y DIMENSIONES DE ACUERDO A NORMA TÉCNICA NTMD 0356-A2. | C9: JUEGO | D9: 31 | E9: 4165 | F9: =+E9*D9 -> 129115
A10: 8 | B10: OJOS DE GATO. ESPECIFICACIONES TÉCNICAS Y DIMENSIONES DE ACUERDO A NORMA TÉCNICA NTMD 0356 - BOLETIN 004 ESTANDARIZACIÓN DE LOS PARCHES DE COMBATE PARA LOS UNIFORMES N.° 4 (TIPO SELVA) Y N.° 4A (TIPO ÁRIDO) DEL PATRÓN DE CAMUFLAJE TERRESTRE “CAMALEÓN”. | C10: UNIDAD | D10: 62 | E10: 1964 | F10: =+E10*D10 -> 121768
A11: 9 | B11: JUEGO DE LIGAS PARA BOTAS MANGA PANTALON CAMUFLADO (SELVA) ESPECIFICACIONES TÉCNICAS Y DIMENSIONES DE ACUERDO A NORMA TÉCNICA NTMD 0356-A2 | C11: PAR | D11: 31 | E11: 2559 | F11: =+E11*D11 -> 79329
A12: 10 | B12: PAÑUELOS ESPECIFICACIONES TÉCNICAS Y DIMENSIONES DE ACUERDO A NORMA TÉCNICA NTMD 0356-A2 | C12: UNIDAD | D12: 62 | E12: 2499 | F12: =+E12*D12 -> 154938
A13: 11 | B13: BOLSO UTILES DE ASEO ESPECIFICACIONES TÉCNICAS Y DIMENSIONES DE ACUERDO A NORMA TÉCNICA NTMD 0356-A2 | C13: UNIDAD | D13: 31 | E13: 5791 | F13: =+E13*D13 -> 179521
A14: 12 | B14: MALLA PARA CABELLO NEGRA MOÑA SEGÚN NORMA TECNICA No. CEDE 4-DIETE-ET-04937/INT-0 | C14: UNIDAD | D14: 31 | E14: 3373 | F14: =+E14*D14 -> 104563
B15: TOTAL A-02-02-01-002-007 ARTÍCULOS TEXTILES (EXCEPTO PRENDAS DE VESTIR) | F15: =SUM(F3:F14) -> 2341182
B16: A-02-02-01-002-08 DOTACIÓN (PRENDAS DE VESTIR Y CALZADO)
A17: 13 | B17: CALCETIN COLOR BLANCO PARA DEPORTE ESPECIFICACIONES TÉCNICAS Y DIMENSIONES DE ACUERDO A NORMA TÉCNICA NTMD 0356-A2 | C17: PAR | D17: 31 | E17: 5016 | F17: =+E17*D17 -> 155496
A18: 14 | B18: UNIFORME DE DEPORTES COMPLETO - PANTALONETA Y CAMISETA ESPECIFICACIONES TÉCNICAS Y DIMENSIONES DE ACUERDO A NORMA TÉCNICA NTMD 0356-A2 | C18: UNIDAD | D18: 31 | E18: 41055 | F18: =+E18*D18 -> 1272705
A19: 15 | B19: CHANCLAS NEGRAS ESPECIFICACIONES TÉCNICAS Y DIMENSIONES DE ACUERDO A NORMA TÉCNICA NTMD 0356-A2 | C19: PAR | D19: 31 | E19: 7140 | F19: =+E19*D19 -> 221340
A20: 16 | B20: JUEGO DE ROPA INTERIOR (TOP Y CACHETERO) SEGÚN NORMA TECNICA No. JEMPP-CEDE4-DIETE-ET-05573/INT-0 | C20: JUEGO | D20: 31 | E20: 45855 | F20: =+E20*D20 -> 1421505
A21: 17 | B21: BICICLETERO NEGRO CORTO SEGÚN NORMA TECNICA No. JEMPP-CEDE4-DIETE-ET-05595/INT-0 | C21: UNIDAD | D21: 31 | E21: 25521 | F21: =+E21*D21 -> 791151
B22: TOTAL A-02-02-01-002-08 DOTACIÓN (PRENDAS DE VESTIR Y CALZADO) | F22: =SUM(F17:F21) -> 3862197
B23: A-02-02-01-003-002 PASTA O PULPA, PAPEL Y PRODUCTOS DE PAPEL; IMPRESOS Y ARTÍCULOS RELACIONADOS
A24: 18 | B24: CUADERNO DE 100 HOJAS COCIDO PASTA BLANDA ESPECIFICACIONES TÉCNICAS Y DIMENSIONES DE ACUERDO A NORMA TÉCNICA NTMD 0356-A2 | C24: UNIDAD | D24: 31 | E24: 2570 | F24: =+E24*D24 -> 79670
A25: 19 | B25: PAPEL HIGIENICO TRIPLE HOJA ESPECIFICACIONES TÉCNICAS Y DIMENSIONES DE ACUERDO A NORMA TÉCNICA NTMD 0356-A2 | C25: UNIDAD | D25: 62 | E25: 2701 | F25: =+E25*D25 -> 167462
A26: 20 | B26: TOALLAS SANITARIAS SEGÚN NORMA TECNICA No. NTC 3604-2006 PAQUETE X 24 UNIDADES | C26: PAQUETE | D26: 26 | E26: 14380 | F26: =+E26*D26 -> 373880
B27: TOTAL A-02-02-01-003-002 PASTA O PULPA, PAPEL Y PRODUCTOS DE PAPEL; IMPRESOS Y ARTÍCULOS RELACIONADOS | F27: =SUM(F24:F26) -> 621012
B28: A-02-02-01-003-005 OTROS PRODUCTOS QUÍMICOS; FIBRAS ARTIFICIALES (O FIBRAS INDUSTRIALES HECHAS POR EL HOMBRE)
A29: 21 | B29: CAJA DE BETUN NEGRO ESPECIFICACIONES TÉCNICAS Y DIMENSIONES DE ACUERDO A NORMA TÉCNICA NTMD 0356-A2 | C29: UNIDAD | D29: 31 | E29: 6819 | F29: =+E29*D29 -> 211389
A30: 22 | B30: TALCOS ESPECIFICACIONES TÉCNICAS Y DIMENSIONES DE ACUERDO A NORMA TÉCNICA NTMD 0356-A2 | C30: UNIDAD | D30: 31 | E30: 6819 | F30: =+E30*D30 -> 211389
A31: 23 | B31: CREMA DENTAL ESPECIFICACIONES TÉCNICAS Y DIMENSIONES DE ACUERDO A NORMA TÉCNICA NTDM 0356-A2 | C31: UNIDAD | D31: 62 | E31: 6319 | F31: =+E31*D31 -> 391778
A32: 24 | B32: DESODORANTE ANTITRASPIRANTE PARA MUJER- ESPECIFICACIONES TÉCNICAS Y DIMENSIONES DE ACUERDO A NORMA TÉCNICA NTMD 0356-A2 | C32: UNIDAD | D32: 31 | E32: 8961 | F32: =+E32*D32 -> 277791
A33: 25 | B33: DESODORANTE MASCULINO ESPECIFICACIONES TÉCNICAS Y DIMENSIONES DE ACUERDO A NORMA TÉCNICA NTMD 0356-A2 | C33: UNIDAD | D33: 0 | E33: 8961 | F33: =+E33*D33 -> 0
A34: 26 | B34: JABON DE BAÑO ANTIBACTERIAL ESPECIFICACIONES TÉCNICAS Y DIMENSIONES DE ACUERDO A NORMA TÉCNICA NTDM 0356-A2 | C34: UNIDAD | D34: 62 | E34: 3705 | F34: =+E34*D34 -> 229710
A35: 27 | B35: JABON EN PASTA PARA LAVAR ROPA ESPECIFICACIONES TÉCNICAS Y DIMENSIONES DE ACUERDO A NORMA TÉCNICA NTMD 0356-A2 | C35: UNIDAD | D35: 31 | E35: 2832 | F35: =+E35*D35 -> 87792
B36: TOTAL A-02-02-01-003-005 OTROS PRODUCTOS QUÍMICOS; FIBRAS ARTIFICIALES (O FIBRAS INDUSTRIALES HECHAS POR EL HOMBRE) | F36: =SUM(F29:F35) -> 1409849
B37: A-02-02-01-003-006 PRODUCTOS DE CAUCHO Y PLÁSTICO
A38: 28 | B38: PROTECTORES AUDITIVOS ESPECIFICACIONES TÉCNICAS Y DIMENSIONES DE ACUERDO A NORMA TÉCNICA NTMD 0356-A2 | C38: UNIDAD | D38: 31 | E38: 2213 | F38: =+E38*D38 -> 68603
A39: 29 | B39: JABONERA PLASTICA VERDE ESPECIFICACIONES TÉCNICAS Y DIMENSIONES DE ACUERDO A NORMA TÉCNICA NTMD 0356-A2 | C39: UNIDAD | D39: 31 | E39: 1488 | F39: =+E39*D39 -> 46128
A40: 30 | B40: PORTA CEPILLO DE DIENTES ESPECIFICACIONES TÉCNICAS Y DIMENSIONES DE ACUERDO A NORMA TÉCNICA NTMD 0356-A2 | C40: UNIDAD | D40: 31 | E40: 2324 | F40: =+E40*D40 -> 72044
B41: TOTAL A-02-02-01-003-006 PRODUCTOS DE CAUCHO Y PLÁSTICO | F41: =SUM(F38:F40) -> 186775
B42: A-02-02-01-003-008 OTROS BIENES TRANSPORTABLES N.C.P.
A43: 31 | B43: CEPILLO DENTAL CON LIMPIADOR DE LENGUA ESPECIFICACIONES TÉCNICAS Y DIMENSIONES DE ACUERDO A NORMA TÉCNICA NTMD 0356-A2 | C43: UNIDAD | D43: 31 | E43: 3167 | F43: =+E43*D43 -> 98177
A44: 32 | B44: PEINILLA NEGRA ESPECIFICACIONES TÉCNICAS Y DIMENSIONES DE ACUERDO A NORMA TÉCNICA NTMD 0356-A2 | C44: UNIDAD | D44: 31 | E44: 1252 | F44: =+E44*D44 -> 38812
A45: 33 | B45: JUEGO CEPILLOS PARA BRILLAR CALZADO X02 (01 UNO GRANDE Y 01 UNO PEQUEÑO) ESPECIFICACIONES TÉCNICAS Y DIMENSIONES DE ACUERDO A NORMA TÉCNICA NTMD 0356-A2 | C45: JUEGO | D45: 31 | E45: 5593 | F45: =+E45*D45 -> 173383
A46: 34 | B46: LAPICERO SIN MECANISMO RETRACTIL ESPECIFICACIONES TÉCNICAS Y DIMENSIONES DE ACUERDO A NORMA TÉCNICA NTMD 0356-A2 | C46: UNIDAD | D46: 31 | E46: 1328 | F46: =+E46*D46 -> 41168
B47: TOTAL A-02-02-01-003-008 OTROS BIENES TRANSPORTABLES N.C.P. | F47: =SUM(F43:F46) -> 351540
B48: A-02-02-01-004-002 PRODUCTOS METÁLICOS ELABORADOS (EXCEPTO MAQUINARIA Y EQUIPO)
A49: 35 | B49: CANDADO ESPECIFICACIONES TÉCNICAS Y DIMENSIONES DE ACUERDO A NORMA TÉCNICA NTMD 0356-A2 | C49: UNIDAD | D49: 31 | E49: 4379 | F49: =+E49*D49 -> 135749
A50: 36 | B50: MAQUINA DE AFEITAR TRIPLE HOJA ESPECIFICACIONES TÉCNICAS Y DIMENSIONES DE ACUERDO A NORMA TÉCNICA NTMD 0356-A2 | C50: JUEGO | D50: 93 | E50: 2368 | F50: =+E50*D50 -> 220224
A51: 37 | B51: CORTAUÑAS ESPECIFICACIONES TÉCNICAS Y DIMENSIONES DE ACUERDO A NORMA TÉCNICA NTMD 0356 -A2 | C51: UNIDAD | D51: 31 | E51: 4641 | F51: =+E51*D51 -> 143871
A52: 38 | B52: JUEGO DE (02) PLACAS DE IDENTIFICACION, (01) PLACA PARA CUELLO Y (01) PLACA PARA BOTA, ESPECIFICACIONES TÉCNICAS Y DIMENSIONES DE ACUERDO A NORMA TÉCNICA NTMD 0356-A2 | C52: JUEGO | D52: 31 | E52: 11071 | F52: =+E52*D52 -> 343201
B53: TOTAL A-02-02-01-004-002 PRODUCTOS METÁLICOS ELABORADOS (EXCEPTO MAQUINARIA Y EQUIPO) | F53: =SUM(F49:F52) -> 843045
A54: TOTAL | F54: =+F53+F47+F41+F36+F27+F22+F15 -> 9615600

Sheet BAMAD2
A1: ITEM | B1: DESCRIPCIÓN DEL BIEN Y/O SERVICIO | C1: UNIDAD MEDIDA | D1: CANTIDAD | E1: VALOR UNITARIO DE REFERENCIA | F1: VALOR TOTAL DE REFERENCIA
B2: A-02-02-01-002-007 ARTÍCULOS TEXTILES (EXCEPTO PRENDAS DE VESTIR)
A3: 1 | B3: PARCHE DE IDENTIFICACION PERSONAL (SELVA) ESPECIFICACIONES TÉCNICAS Y DIMENSIONES DE ACUERDO A BOLETIN 004 ESTANDARIZACIÓN DE LOS PARCHES DE COMBATE PARA LOS UNIFORMES N.° 4 (TIPO SELVA) Y N4A TIPO ARIDO DEL PATRÓN DE CAMUFLAJE TERRESTRE “CAMALEÓN”. | C3: UNIDAD | D3: 44 | E3: 1785 | F3: =+E3*D3 -> 78540
A4: 2 | B4: PARCHE DE EJERCITO (SELVA) ESPECIFICACIONES TÉCNICAS Y DIMENSIONES DE ACUERDO A BOLETIN 004 ESTANDARIZACIÓN DE LOS PARCHES DE COMBATE PARA LOS UNIFORMES N.° 4 (TIPO SELVA) Y N4A TIPO ARIDO DEL PATRÓN DE CAMUFLAJE TERRESTRE “CAMALEÓN”. | C4: UNIDAD | D4: 22 | E4: 2101 | F4: =+E4*D4 -> 46222
A5: 3 | B5: PARCHES DE LA UNIDAD SUPERIOR (02 UND) Y UNIDAD SUBALTERNA (02 UNID) SELVA Numeral ESPECIFICACIONES TECNICAS Y DIMENSIONES DE ACUERDO A BOLETIN 004 ESTANDARIZACION DE LOS PARCHES DE COMBATE PARA LOS UNIFORMES N 4 TIPO SELVA Y N 4A TIPO ARIDO DEL PATRON DE CAMUFLAJE TERRESTRE CAMALEON. | C5: UNIDAD | D5: 44 | E5: 5117 | F5: =+E5*D5 -> 225148
A6: 4 | B6: BANDERA DE IDENTIFICACION (SELVA) ESPECIFICACIONES TÉCNICAS Y DIMENSIONES DE ACUERDO A BOLETIN 001 FEBRERO 2025 (DISDI) ESTANDARIZACIÓN DE LA BANDERA DE IDENTIFICACION EMPLEADA EN EL UNIFORME N.° 4 (TIPO SELVA) Y N.° 4A (TIPO ÁRIDO) DEL PATRÓN DE CAMUFLAJE TERRESTRE “CAMALEÓN”. | C6: UNIDAD | D6: 22 | E6: 2270 | F6: =+E6*D6 -> 49940
A7: 5 | B7: PARCHE DE IDENTIFICACION GRUPO SANGUINEO, (SELVA) ESPECIFICACIONES TÉCNICAS Y DIMENSIONES DE ACUERDO A BOLETIN 004 ESTANDARIZACIÓN DE LOS PARCHES DE COMBATE PARA LOS UNIFORMES N.° 4 (TIPO SELVA) Y N.° 4A (TIPO ÁRIDO) DEL PATRÓN DE CAMUFLAJE TERRESTRE “CAMALEÓN”. | C7: UNIDAD | D7: 22 | E7: 2099 | F7: =+E7*D7 -> 46178
A8: 6 | B8: INSIGNIA DE GRADO SOLDADOS (SELVA) ESPECIFICACIONES TÉCNICAS Y DIMENSIONES DE ACUERDO A BOLETIN 004 ESTANDARIZACIÓN DE LOS PARCHES DE COMBATE PARA LOS UNIFORMES N.° 4 (TIPO SELVA) Y N.° 4A (TIPO ÁRIDO) DEL PATRÓN DE CAMUFLAJE TERRESTRE “CAMALEÓN”. | C8: JUEGO | D8: 22 | E8: 5080 | F8: =+E8*D8 -> 111760
A9: 7 | B9: BRAZALETES TACTICOS x JUEGO DE 04 (COLOR NARANJA, VERDE, AZUL Y MORADO) ESPECIFICACIONES TÉCNICAS Y DIMENSIONES DE ACUERDO A NORMA TÉCNICA NTMD 0356-A2. | C9: JUEGO | D9: 11 | E9: 4165 | F9: =+E9*D9 -> 45815
A10: 8 | B10: OJOS DE GATO. ESPECIFICACIONES TÉCNICAS Y DIMENSIONES DE ACUERDO A NORMA TÉCNICA NTMD 0356 - BOLETIN 004 ESTANDARIZACIÓN DE LOS PARCHES DE COMBATE PARA LOS UNIFORMES N.° 4 (TIPO SELVA) Y N.° 4A (TIPO ÁRIDO) DEL PATRÓN DE CAMUFLAJE TERRESTRE “CAMALEÓN”. | C10: UNIDAD | D10: 22 | E10: 1964 | F10: =+E10*D10 -> 43208
A11: 9 | B11: JUEGO DE LIGAS PARA BOTAS MANGA PANTALON CAMUFLADO (SELVA) ESPECIFICACIONES TÉCNICAS Y DIMENSIONES DE ACUERDO A NORMA TÉCNICA NTMD 0356-A2 | C11: PAR | D11: 11 | E11: 2559 | F11: =+E11*D11 -> 28149
A12: 10 | B12: PAÑUELOS ESPECIFICACIONES TÉCNICAS Y DIMENSIONES DE ACUERDO A NORMA TÉCNICA NTMD 0356-A2 | C12: UNIDAD | D12: 22 | E12: 2499 | F12: =+E12*D12 -> 54978
A13: 11 | B13: BOLSO UTILES DE ASEO ESPECIFICACIONES TÉCNICAS Y DIMENSIONES DE ACUERDO A NORMA TÉCNICA NTMD 0356-A2 | C13: UNIDAD | D13: 11 | E13: 5791 | F13: =+E13*D13 -> 63701
A14: 12 | B14: MALLA PARA CABELLO NEGRA MOÑA SEGÚN NORMA TECNICA No. CEDE 4-DIETE-ET-04937/INT-0 | C14: UNIDAD | D14: 0 | E14: 3373 | F14: =+E14*D14 -> 0
B15: TOTAL A-02-02-01-002-007 ARTÍCULOS TEXTILES (EXCEPTO PRENDAS DE VESTIR) | F15: =SUM(F3:F14) -> 793639
B16: A-02-02-01-002-08 DOTACIÓN (PRENDAS DE VESTIR Y CALZADO)
A17: 13 | B17: CALCETIN COLOR BLANCO PARA DEPORTE ESPECIFICACIONES TÉCNICAS Y DIMENSIONES DE ACUERDO A NORMA TÉCNICA NTMD 0356-A2 | C17: PAR | D17: 11 | E17: 5016 | F17: =+E17*D17 -> 55176
A18: 14 | B18: UNIFORME DE DEPORTES COMPLETO - PANTALONETA Y CAMISETA ESPECIFICACIONES TÉCNICAS Y DIMENSIONES DE ACUERDO A NORMA TÉCNICA NTMD 0356-A2 | C18: UNIDAD | D18: 11 | E18: 41055 | F18: =+E18*D18 -> 451605
