Workbook
Name contratación: 'IDENTIFICACION Y ANALISIS'!$B$39:$B$43
Name ejecución: 'IDENTIFICACION Y ANALISIS'!$B$45:$B$68
Name OPCIONES: 'ASIGNACION Y TRATAMIENTO'!$B$49:$B$51
Name planeación: 'IDENTIFICACION Y ANALISIS'!$B$19:$B$29
Name selección: 'IDENTIFICACION Y ANALISIS'!$B$31:$B$37

Sheet CONTEXTO
C2: MATRIZ DE RIESGOS EN CONTRATACIÓN | F2: Código: GCO-GCI-F164 Versión: 02 Vigencia: 01 de diciembre de 2022 Caso HOLA: 280117
B6: ESTABLECER EL CONTEXTO
B7: El punto inicial es identificar el contexto en el cual interactúa la Entidad Estatal para conocer el ambiente social, económico y político, e identificar (i) sus propios Riesgos; (ii) los Riesgos comunes a sus Procesos de Contratación; y (iii) los Riesgos del Proceso de Contratación en particular. (Aplica igual para contratos interadministrativos) En este paso la Entidad Estatal debe identificar los aspectos que se mencionan a continuación y los posibles efectos adversos que estos pueden generar.
B8: Objeto del Proceso de Contratación: El contrato que se pretende celebrar tendrá por objeto “PRESTAR LOS SERVICIOS PARA LA ORGANIZACIÓN Y EJECUCIÓN DE EVENTOS, ASÍ COMO EL DESARROLLO DE ACTIVIDADES LOGÍSTICAS EN EL MARCO DE LA ESTRATEGIA DE PRESUPUESTOS PARTICIPATIVOS DE LA LOCALIDAD DE ANTONIO NARIÑO, EN ATENCIÓN A LOS PROYECTOS NO. 2340, 2264, 2335, 2320, 2353, 2465, 2260, 2353 Y 2296, DANDO CUMPLIMIENTO A LAS METAS ESTABLECIDAS EN LA VIGENCIA 2025 DEL PLAN DE DESARROLLO LOCAL.”
B9: Partícipes del Proceso de Contratación:
B10: Ciudadanía que se beneficia del Proceso de Contratación: Agentes internos (funcionarios, pasantes) y externos (contratistas, visitantes y usuarios externos en general) Agentes externos (Organismos de control, veedurías ciudadanas), agentes internos (supervisores, funcionarios y demás usuarios).
B11: Capacidad de la Entidad Estatal entendida como la disponibilidad de recursos y conocimientos para el Proceso de Contratación: La disponibilidad de la Entidad de sus recursos y el conocimiento de su equipo humano se refleja en los diferentes funcionarios que participarán en las diversas etapas del proceso de selección: participan las áreas que requieren los procesos de contratación (Etapa de Planeación), Dirección de Contratación, Comité Evaluador (Etapa de selección), Dirección de Contratación (Etapa de contratación) y la supervisión y apoyos a la misma (Estapa de Ejecución).
B12: Suficiencia del presupuesto oficial del Proceso de Contratación: De acuerdo al Plan Anual de Adquisiciones se deben estimar los recursos necesarios para el desarrollo del proceso de la contratación, el cual tendrá el soporte presupuestal suficiente para su desarrollo.
B13: Condiciones geográficas y de acceso del lugar en el cual se debe cumplir el objeto del Proceso de Contratación: El suministro, obra o servicio se prestará principalmente en las Sedes de la Entidad, o en el lugar indicado en los estudios previos del proceso.
B14: Entorno socio ambiental: Si aplican
B15: Condiciones políticas: Si aplican
B16: Factores ambientales.
B17: Sector del objeto del Proceso de Contratación y su mercado.
... B19: Experiencia propia y de otras Entidades Estatales en Procesos de Contratación del mismo tipo.

Sheet IDENTIFICACION Y ANALISIS
C2: MATRIZ DE RIESGOS DE CONTRATACIÓN | F2: Código: GCO-GCI-F164 Versión: 02 Vigencia: 01 de diciembre de 2022 Caso HOLA: 280117
B6: DEFINICIONES
B7: RIESGO: Evento que puede generar efectos adversos y de distinta magnitud en el logro de los objetivos del Proceso de Contratación o en la ejecución de un contrato RIESGOS PREVISIBLES: Son los posibles hechos o circunstancias que por la naturaleza del contrato y de la actividad a ejecutar es factible su ocurrencia. ETAPA DE PLANEACIÓN: Está comprendida desde el momento en que se identifican las necesidades que debe satisfacer la Secretaría Distrital de Gobierno y los Fondos de Desarrollo Local, a través del abastecimiento de bienes, obras o servicios, la elaboración del Plan Anual de Adquisiciones y la estructuración de los documentos y estudios previos. ETAPA DE SELECCIÓN: Está comprendida entre el acto de Apertura del Proceso de Contratación y la Adjudicación o la declaración de desierto del Proceso de Contratación ETAPA DE CONTRATACIÓN: Una vez adjudicado el contrato objeto del Proceso de Contratación, inicia la etapa para la celebración del contrato y el cumplimiento de los requisitos para de perfeccionamiento y ejecución. ETAPA DE EJECUCIÓN: Inicia una vez cumplidos los requisitos previstos para iniciar la ejecución del contrato respectivo y termina con el vencimiento del plazo del contrato o la fecha de liquidación si hay lugar a ella. RIESGO GENERAL: Es un riesgo de todos los procesos de contratación adelantados por la Entidad Estatal, por lo cual está presente en toda su actividad contractual. RIEGO ESPECIFICO: Es un riesgo propio del proceso de contratación objeto de análisis. RIESGOS ECONÓMICOS: Son los derivados del comportamiento del mercado, tales como la fluctuación de los precios de los insumos, desabastecimiento y especulación de los mismos, entre otros. RIESGOS SOCIALES O POLÍTICOS: son los derivados de los cambios de las políticas gubernamentales y de cambios en las condiciones sociales que tengan impacto en la ejecución del contrato. RIESGOS OPERACIONALES: Son los asociados a la operatividad del contrato, tales como la suficiencia del presupuesto oficial, del plazo o los derivados de procesos, procedimientos, parámetros, sistemas de información y tecnológicos, equipos humanos o técnicos inadecuados o insuficientes. RIESGOS FINANCIEROS: Son (i) el riesgo de consecución de financiación o riesgo de liquidez para obtener recursos para cumplir con el objeto del contrato, y (ii) el riesgo de las condiciones financieras establecidas para la obtención de los recursos, tales como plazos, tasas, garantías, contragarantías, y refinanciaciones, entre otros. RIESGOS REGULATORIOS: Derivados de cambios regulatorios o reglamentarios que afecten la ecuación económica del contrato. RIESGOS DE LA NATURALEZA: Son los eventos naturales previsibles en los cuales no hay intervención humana que puedan tener impacto en la ejecución del contrato, por ejemplo los temblores, inundaciones, lluvias, sequías, entre otros. RIESGOS AMBIENTALES: Son los derivados de las obligaciones legales o reglamentarias de carácter ambiental, así como de las licencias, planes de manejo o de permisos y autorizaciones ambientales, incluyendo tasas retributivas y compensatorias, obligaciones de mitigación, tareas de monitoreo y control, entre otras. RIESGOS TECNOLÓGICOS: Son los derivados de fallas en los sistemas de comunicación de voz y de datos, suspensión de servicios públicos, nuevos desarrollos tecnológicos o estándares que deben ser tenidos en cuenta para la ejecución del contrato, obsolescencia tecnológica.
B15: INSTRUCCIONES PARA LA IDENTIFICACIÓN, ANALISIS, EVALUACIÓN , ASIGNACIÓN Y TRATAMIENTO DE RIESGOS EN LA CONTRATACIÓN
B16: 1) Identifique los riesgos previsibles que le apliquen al objeto contractual que se adelante. Los relacionados a continuación se establecen de manera general y como proforma. No obstante, si del objeto contractual se identifican otros riesgos diferentes a los aquí determinados, por favor reemplace el texto de la casilla teniendo en cuenta la etapa del proceso. Así mismo, seleccione la clase, fuente y el tipo (Operacional, Económico, Sociales o Políticos, Regulatorios, Financieros, Tecnológicos, De la naturaleza, Ambientales) 2) Continúe en la hoja de "EVALUACIÓN" (SI EXISTEN DUDAS CONCEPTUALES PARA LA ELABORACIÓN DE LA MATRIZ DE RIESGO CONSULTE EL MANUAL PARA LA IDENTIFICACIÓN Y COBERTURA DEL RIESGO EN LOS PROCESOS DE CONTRATACIÓN EXPEDIDO POR COLOMBIA COMPRA EFICIENTE Y LA GUÍA DE RIESGOS PREVISIBLES CONTRACTUALES, EXPEDIDA POR LA VEEDURÍA DISTRITAL)
C17: ETAPAS | D17: CLASE | E17: FUENTE | F17: TIPO
C18: PLANEACIÓN
B19: Inadecuada escogencia de la modalidad de contratación | D19: Especifico | E19: Interno | F19: Operacionales
B20: Requisitos habilitantes inapropiados para el proceso de selección | D20: Especifico | E20: Interno | F20: Operacionales
B21: Inadecuado análisis económico estimativo del valor del contrato | D21: Especifico | E21: Interno | F21: Economicos
B22: Inconvenientes y/o situaciones adversas en la ejecucion del servicio requerido | D22: Especifico | E22: Interno | F22: Operacionales
B23: Inadecuada elaboración de estudios y diseños | F23: Operacionales
B24: Requisitos habilitantes que impidan la selección objetiva | D24: Especifico | E24: Interno | F24: Operacionales
B25: Falta de profundidad en el estudio de sector no identificandose claramente aspectos de oferta y demanda | F25: Economicos
B26: Ausencia de fundamentación de la justificación y conveniencia de la contratación | F26: Operacionales
B27: Inadecuada identificación de las condiciones contractuales | F27: Operacionales
B28: No aprobación o demoras en la expedición vigencias futuras | F28: Operacionales
B29: Apertura de procesos sin disponibilidad presupuestal | F29: Operacionales
C30: SELECCIÓN
B31: Inadecuada evaluación de las ofertas y/o verificación de requisitos habilitantes | D31: Especifico | E31: Interno | F31: Operacionales
B32: Inadecuado manejo administrativo del proceso contractual | D32: Especifico | E32: Interno | F32: Operacionales
B33: Falta de claridad en la elaboración de los actos administrativos | F33: Operacionales
B34: Contestación inoportuna a todas las observaciones formuladas a los documentos de la contratación | F34: Operacionales
B35: No publicación de la documentación del proceso de selección en el SECOP | F35: Operacionales
B36: Confabulacion de los proponentes (Colusión) | D36: Especifico | E36: Externo | F36: Operacionales
B37: Selección de ofertas con precios artificialmente bajos. | D37: Especifico | E37: Interno | F37: Operacionales
C38: CONTRATACIÓN
B39: Riesgo de que no se firme el contrato. | D39: Especifico | E39: Externo | F39: Operacionales
B40: Falta de constitución o constitución tardía de la garantía única. Aceptación de garantías que no se ajustan a lo contemplado en el contrato | D40: Especifico | E40: Externo | F40: Operacionales
B41: Falta de solicitud o solicitud tardía del registro presupuestal | F41: Operacionales
B42: No publicación de la documentación del proceso de selección en el SECOP | F42: Operacionales
B43: Presentación de reclamos de terceros sobre la selección del oferente que retrasen el perfeccionamiento del contrato. | D43: Especifico | E43: Externo | F43: Operacionales
C44: EJECUCIÓN
B45: Fluctuaciones del valor de la moneda | F45: Economicos
B46: Cambio de precios en factores de producción. | F46: Economicos
B47: Variación de los precios del mercado | F47: Economicos
B48: Factores políticos o macroeconómicos. | F48: Sociales o Políticos
B49: Cancelación de pedidos. | F49: Economicos
B50: Variación en la disponibilidad o en el costo de los insumos necesarios para prestar los servicios. | D50: Especifico | E50: Externo | F50: Economicos
B51: Incumplimiento de compromisos adquiridos por el contratista seleccionado con sus subcontratistas, suministradores de bienes y servicios. | D51: Especifico | E51: Externo | F51: Economicos
...

Sheet EVALUACION
C2: MATRIZ DE RIESGOS DE CONTRATACIÓN | K2: Código: GCO-GCI-F164 Versión: 02 Vigencia: 01 de diciembre de 2022 Caso HOLA: 280117
B6: Objeto Contractual: “PRESTAR LOS SERVICIOS PARA LA ORGANIZACIÓN Y EJECUCIÓN DE EVENTOS, ASÍ COMO EL DESARROLLO DE ACTIVIDADES LOGÍSTICAS EN EL MARCO DE LA ESTRATEGIA DE PRESUPUESTOS PARTICIPATIVOS DE LA LOCALIDAD DE ANTONIO NARIÑO, EN ATENCIÓN A LOS PROYECTOS NO. 2340, 2264, 2335, 2320, 2353, 2465, 2260, 2353 Y 2296, DANDO CUMPLIMIENTO A LAS METAS ESTABLECIDAS EN LA VIGENCIA 2025 DEL PLAN DE DESARROLLO LOCAL.”
B7: INSTRUCCIONES PARA LA IDENTIFICACIÓN, ANALISIS, EVALUACIÓN , ASIGNACIÓN Y TRATAMIENTO DE RIESGOS EN LA CONTRATACIÓN
B8: 1) Diligencie el objeto contractual y seleccione la(s) etapas y los riesgos que aplican al objeto contractual, de acuerdo a lo definido en la hoja de "IDENTIFICACIÓN Y ANÁLISIS"
B9: 2) Describa las consecuencias de la ocurrencia del Riesgo/evento.
B10: 3) Asigne la probabilidad de ocurrencia del riesgo, de conformidad con la tabla de probabilidad y la valoración del riesgo (Cualitativa o Monetaria)
B11: 4) Asigne el impacto que generaría la materialización del riesgo, de conformidad con la tabla de impacto y la valoración del riesgo (Cualitativa o Monetaria)
B12: 5) Al realizar las anteriores actividades se obtendrá la calificación total y la valoración del riesgo (prioridad).
B13: 6) Continúe en la hoja de "EVALUACIÓN DE CONTROLES"
B15: CALIFICACIÓN | H15: Cualitativa
B16: ETAPA | C16: Descripción (Que puede pasar y, cómo puede ocurrir) | H16: Consecuencias de la ocurrencia del evento | I16: Probabilidad de Ocurrencia | J16: Impacto | K16: Calificación Total | L16: Prioridad
B17: PLANEACIÓN | C17: Inadecuada escogencia de la modalidad de contratación | H17: No ejecución del PAA 2025 y metas PDLAN | I17: 1 | J17: 5 | K17: =I17+J17 -> 6 | L17: =IF(K17<=4,"BAJO",IF(K17=5,"MEDIO",IF(K17=6,"ALTO",IF(K17=7,"ALTO","EXTREMO")))) -> ALTO
B18: PLANEACIÓN | C18: Requisitos habilitantes inapropiados para el proceso de selección | H18: Retrazos para la selección del contratista | I18: 1 | J18: 3 | K18: =+I18+J18 -> 4 | L18: =IF(K18<=4,"BAJO",IF(K18=5,"MEDIO",IF(K18=6,"ALTO",IF(K18=7,"ALTO","EXTREMO")))) -> BAJO
B19: PLANEACIÓN | C19: Inadecuado análisis económico estimativo del valor del contrato | H19: Desequilibrio económico del contrato. | I19: 1 | J19: 4 | K19: =+I19+J19 -> 5 | L19: =IF(K19<=4,"BAJO",IF(K19=5,"MEDIO",IF(K19=6,"ALTO",IF(K19=7,"ALTO","EXTREMO")))) -> MEDIO
B20: PLANEACIÓN | C20: Inconvenientes y/o situaciones adversas en la ejecucion del sservicio requerido | H20: Retrazo en la ejecución del contrato, por inasistencia de los funcionarios y/o por situacion de orden publico | I20: 1 | J20: 3 | K20: 4 | L20: =IF(K20<=4,"BAJO",IF(K20=5,"MEDIO",IF(K20=6,"ALTO",IF(K20=7,"ALTO","EXTREMO")))) -> BAJO
B21: PLANEACIÓN | C21: Requisitos habilitantes que impidan la selección objetiva | H21: Retrazos para la selección del contratista | I21: 1 | J21: 3 | K21: 4 | L21: =IF(K21<=4,"BAJO",IF(K21=5,"MEDIO",IF(K21=6,"ALTO",IF(K21=7,"ALTO","EXTREMO")))) -> BAJO
B22: SELECCIÓN | C22: Inadecuada evaluación de las ofertas y/o verificación de requisitos habilitantes | H22: Incumplimiento del objeto contractual | I22: 1 | J22: 5 | K22: =+I22+J22 -> 6 | L22: =IF(K22<=4,"BAJO",IF(K22=5,"MEDIO",IF(K22=6,"ALTO",IF(K22=7,"ALTO","EXTREMO")))) -> ALTO
B23: SELECCIÓN | C23: Inadecuado manejo administrativo del proceso contractual | H23: Baja calidad en el servicio contratado | I23: 1 | J23: 5 | K23: =+I23+J23 -> 6 | L23: =IF(K23<=4,"BAJO",IF(K23=5,"MEDIO",IF(K23=6,"ALTO",IF(K23=7,"ALTO","EXTREMO")))) -> ALTO
B24: SELECCIÓN | C24: Confabulacion de los proponentes (Colusión) | H24: Declaratoria del proceso de selección desierto | I24: 1 | J24: 3 | K24: =+I24+J24 -> 4 | L24: =IF(K24<=4,"BAJO",IF(K24=5,"MEDIO",IF(K24=6,"ALTO",IF(K24=7,"ALTO","EXTREMO")))) -> BAJO
B25: SELECCIÓN | C25: Selección de ofertas con precios artificialmente bajos. | H25: Afectación económica del presupuesto asignado al contrato | I25: 1 | J25: 3 | K25: =+I25+J25 -> 4 | L25: =IF(K25<=4,"BAJO",IF(K25=5,"MEDIO",IF(K25=6,"ALTO",IF(K25=7,"ALTO","EXTREMO")))) -> BAJO
B26: CONTRATACIÓN | C26: Riesgo de que no se firme el contrato. | H26: Retrazo en el inicio de ejecución del contrato | I26: 1 | J26: 4 | K26: =+I26+J26 -> 5 | L26: =IF(K26<=4,"BAJO",IF(K26=5,"MEDIO",IF(K26=6,"ALTO",IF(K26=7,"ALTO","EXTREMO")))) -> MEDIO
B27: CONTRATACIÓN | C27: Falta de constitución o constitución tardía de la garantía única. Aceptación de garantías que no se ajustan a lo contemplado en el contrato | H27: Retrazo en el inicio de ejecución del contrato. | I27: 1 | J27: 3 | K27: =+I27+J27 -> 4 | L27: =IF(K27<=4,"BAJO",IF(K27=5,"MEDIO",IF(K27=6,"ALTO",IF(K27=7,"ALTO","EXTREMO")))) -> BAJO
B28: CONTRATACIÓN | C28: Presentación de reclamos de terceros sobre la selección del oferente que retrasen el perfeccionamiento del contrato. | H28: Retrazo en el inicio de ejecución del contrato | I28: 1 | J28: 3 | K28: =+I28+J28 -> 4 | L28: =IF(K28<=4,"BAJO",IF(K28=5,"MEDIO",IF(K28=6,"ALTO",IF(K28=7,"ALTO","EXTREMO")))) -> BAJO
B29: EJECUCIÓN | C29: Variación en la disponibilidad o en el costo de los insumos necesarios para prestar los servicios. | H29: Afectación al aspecto económico del contrato. | I29: 2 | J29: 4 | K29: =+I29+J29 -> 6 | L29: =IF(K29<=4,"BAJO",IF(K29=5,"MEDIO",IF(K29=6,"ALTO",IF(K29=7,"ALTO","EXTREMO")))) -> ALTO
B30: EJECUCIÓN | C30: Incumplimiento de compromisos adquiridos por el contratista seleccionado con sus subcontratistas, suministradores de bienes y servicios. | H30: Afectación en la calidad del servicio prestado. | I30: 4 | J30: 4 | K30: =+I30+J30 -> 8 | L30: =IF(K30<=4,"BAJO",IF(K30=5,"MEDIO",IF(K30=6,"ALTO",IF(K30=7,"ALTO","EXTREMO")))) -> EXTREMO
B31: EJECUCIÓN | C31: Obsolecencia técnologica | H31: Afectación en la calidad del servicio prestado. | I31: 4 | J31: 4 | K31: =+I31+J31 -> 8 | L31: =IF(K31<=4,"BAJO",IF(K31=5,"MEDIO",IF(K31=6,"ALTO",IF(K31=7,"ALTO","EXTREMO")))) -> EXTREMO
B32: EJECUCIÓN | C32: Defectos en los equipos. | H32: Afectación en la calidad del servicio prestado. | I32: 3 | J32: 4 | K32: =+I32+J32 -> 7 | L32: =IF(K32<=4,"BAJO",IF(K32=5,"MEDIO",IF(K32=6,"ALTO",IF(K32=7,"ALTO","EXTREMO")))) -> ALTO
B33: EJECUCIÓN | C33: Eventos naturales tales como lluvias, inundaciones y sequias entre otros | H33: Afectación en la realización de actividades | I33: 3 | J33: 3 | K33: =I33+J33 -> 6 | L33: =IF(K33<=4,"BAJO",IF(K33=5,"MEDIO",IF(K33=6,"ALTO",IF(K33=7,"ALTO","EXTREMO")))) -> ALTO
B42: Probabilidad | C42: Catagoria | E42: Valoración | G42: Impacto | H42: Categoria | I42: Valoración
C43: Raro (puede ocurrir excepcionalmente) | E43: 1 | H43: Insignificante | I43: 1
C44: Improbable (puede ocurrir ocasionalmente) | E44: 2 | H44: Menor | I44: 2
C45: Posible (puede ocurrir en cualquier momento futuro) | E45: 3 | H45: Moderado | I45: 3
C46: Probable (probablemente va a ocurrir) | E46: 4 | H46: Mayor | I46: 4
C47: Casi cierto (ocurre en la mayoria de circunstancias) | E47: 5 | H47: Catastrófico | I47: 5
C49: Valoración del Riesgo
C50: Calificación Cualitativa | F50: Obstruye la ejecución del contrato de manera intrascendente. | G50: Dificulta la ejecución del contrato de manera baja, aplicando medidas mínimas se pueden lograr el objeto contractual | H50: Afecta la ejecución del contrato sin alterar el beneficio para las partes | I50: Obstruye la ejecución del contrato sustancialmente pero aun así permite la consecución del objeto contractual | K50: Perturba la ejecución del contrato de manera grave imposibilitando la consecución del objeto contractual.
C51: Calificación Monetaria | F51: Los sobrecostos no representan más del uno por ciento (1%) del valor del contrato. | G51: Los sobrecostos no representan más del cinco por ciento (5%) del valor del contrato. | H51: Genera un impacto sobre el valor del contrato entre el cinco (5%) y el quince por ciento (15%). | I51: Incrementa el valor del contrato entre el quince (15%) y el treinta por ciento (30%). | K51: Impacto sobre el valor del contrato en más del treinta por ciento (30%).
C52: Categoría | E52: Valoración | F52: Insignificante | G52: Menor | H52: Moderado | I52: Mayor | K52: Catastrófico
F53: 1 | G53: 2 | H53: 3 | I53: 4 | K53: 5
C54: Raro (puede ocurrir excepcionalmente) | E54: 1 | F54: 2 | G54: 3 | H54: 4 | I54: 5 | K54: 6
...

Sheet EVALUACION CON CONTROLES
C2: MATRIZ DE RIESGOS DE CONTRATACIÓN | Q2: Código: GCO-GCI-F164 Versión: 02 Vigencia: 01 de diciembre de 2022 Caso HOLA: 280117
B6: =+EVALUACION!B6 -> Objeto Contractual: “PRESTAR LOS SERVICIOS PARA LA ORGANIZACIÓN Y EJECUCIÓN DE EVENTOS, ASÍ COMO EL DESARROLLO DE ACTIVIDADES LOGÍSTICAS EN EL MARCO DE LA ESTRATEGIA DE PRESUPUESTOS PARTICIPATIVOS DE LA LOCALIDAD DE ANTONIO NARIÑO, EN ATENCIÓN A LOS PROYECTOS NO. 2340, 2264, 2335, 2320, 2353, 2465, 2260, 2353 Y 2296, DANDO CUMPLIMIENTO A LAS METAS ESTABLECIDAS EN LA VIGENCIA 2025 DEL PLAN DE DESARROLLO LOCAL.”
B7: INSTRUCCIONES PARA LA IDENTIFICACIÓN, ANALISIS, EVALUACIÓN , ASIGNACIÓN Y TRATAMIENTO DE RIESGOS EN LA CONTRATACIÓN
B8: 1) Describa el tratamiento/controles a ser implementados
B9: 2) Diligencie la información de las siguientes columnas, de acuerdo con el análisis realizado a cada riesgo: Afecta el equilibrio económico, persona responsable de implementar el tratamiento, fecha estimada de inicio del tratamiento, fecha estimada en la que se completa el tratamiento, cómo se realiza el monitoreo y la periodicidad.
B10: 3) Continúe en la hoja de "ASIGNACIÓN Y TRATAMIENTO" y diligencie las siguientes casillas: A quien se le asigna y el porcentaje que asume cada una de las partes en caso de que sea compartido.
B15: ETAPA | C15: Descripción (Que puede pasar y, cómo puede ocurrir) | G15: Tratamiento/Controles a ser implementados | I15: Probabilidad de Ocurrencia | J15: Impacto | K15: Calificación Total | L15: Prioridad | M15: ¿Afecta el equilibrio económico del contrato? | N15: Persona responsable por implementar el tratamiento | O15: Fecha estimada en que se inicia el tratamiento | P15: Fecha estimada en que se completa el tratamiento | Q15: ¿Cómo se realiza el monitoreo? | R15: Periodicidad ¿Cuándo?
B16: =+EVALUACION!B17 -> PLANEACIÓN | C16: =+EVALUACION!C17 -> Inadecuada escogencia de la modalidad de contratación | G16: Estudio previo de la modalidad de contratación a seleccionar | I16: =+EVALUACION!I17 -> 1 | J16: =+EVALUACION!J17 -> 5 | K16: =+I16+J16 -> 6 | L16: =IF(K16<=4,"BAJO",IF(K16=5,"MEDIO",IF(K16=6,"ALTO",IF(K16=7,"ALTO","EXTREMO")))) -> ALTO | M16: No | N16: Oficina de Planeación FDLAN | O16: Etapa de planeación | P16: Etapa de planeación | Q16: Etapa de planeación | R16: Dentro del período de la etapa de planeación
B17: =+EVALUACION!B18 -> PLANEACIÓN | C17: =+EVALUACION!C18 -> Requisitos habilitantes inapropiados para el proceso de selección | G17: Adecuada identificacion de los requisitos habilitantes | I17: =+EVALUACION!I18 -> 1 | J17: =+EVALUACION!J18 -> 3 | K17: =+I17+J17 -> 4 | L17: =IF(K17<=4,"BAJO",IF(K17=5,"MEDIO",IF(K17=6,"ALTO",IF(K17=7,"ALTO","EXTREMO")))) -> BAJO | M17: No | N17: Oficina de Planeación FDLAN | O17: Etapa de planeación | P17: Etapa de planeación | Q17: Etapa de planeación | R17: Dentro del período de la etapa de planeación
B18: =+EVALUACION!B19 -> PLANEACIÓN | C18: =+EVALUACION!C19 -> Inadecuado análisis económico estimativo del valor del contrato | G18: Objetividad en la planeación de los requisitos habilitantes | I18: =+EVALUACION!I19 -> 1 | J18: =+EVALUACION!J19 -> 4 | K18: =+I18+J18 -> 5 | L18: =IF(K18<=4,"BAJO",IF(K18=5,"MEDIO",IF(K18=6,"ALTO",IF(K18=7,"ALTO","EXTREMO")))) -> MEDIO | M18: Si | N18: Oficina de Planeación FDLAN | O18: Etapa de planeación | P18: Etapa de planeación | Q18: Etapa de planeación | R18: Dentro del período de la etapa de planeación
B19: =+EVALUACION!B20 -> PLANEACIÓN | C19: =+EVALUACION!C20 -> Inconvenientes y/o situaciones adversas en la ejecucion del sservicio requerido | G19: Objetividad en la planeación de los requisitos habilitantes | I19: =+EVALUACION!I20 -> 1 | J19: =+EVALUACION!J20 -> 3 | K19: =+I19+J19 -> 4 | L19: =IF(K19<=4,"BAJO",IF(K19=5,"MEDIO",IF(K19=6,"ALTO",IF(K19=7,"ALTO","EXTREMO")))) -> BAJO | M19: Si | N19: Oficina de Planeación FDLAN | O19: Etapa de planeación | P19: Etapa de planeación | Q19: Etapa de planeación | R19: Dentro del período de la etapa de planeación
B20: =+EVALUACION!B21 -> PLANEACIÓN | C20: =+EVALUACION!C21 -> Requisitos habilitantes que impidan la selección objetiva | G20: Objetividad en la planeación de los requisitos habilitantes | I20: =+EVALUACION!I21 -> 1 | J20: =+EVALUACION!J21 -> 3 | K20: =+I20+J20 -> 4 | L20: =IF(K20<=4,"BAJO",IF(K20=5,"MEDIO",IF(K20=6,"ALTO",IF(K20=7,"ALTO","EXTREMO")))) -> BAJO | M20: No | N20: Oficina de Planeación FDLAN | O20: Etapa de planeación | P20: Etapa de planeación | Q20: Etapa de planeación | R20: Dentro del período de la etapa de planeación
B21: =+EVALUACION!B22 -> SELECCIÓN | C21: =+EVALUACION!C22 -> Inadecuada evaluación de las ofertas y/o verificación de requisitos habilitantes | G21: Mayor énfasis en la revisión de estos temas. | I21: =+EVALUACION!I22 -> 1 | J21: =+EVALUACION!J22 -> 5 | K21: =+I21+J21 -> 6 | L21: =IF(K21<=4,"BAJO",IF(K21=5,"MEDIO",IF(K21=6,"ALTO",IF(K21=7,"ALTO","EXTREMO")))) -> ALTO | M21: No | N21: Oficina de Planeación FDLAN | O21: Etapa de selección | P21: Etapa de selección | Q21: Etapa de selección | R21: Dentro del período de la etapa de selección
B22: =+EVALUACION!B23 -> SELECCIÓN | C22: =+EVALUACION!C23 -> Inadecuado manejo administrativo del proceso contractual | G22: Manejo del proceso por especialistas en el área de contratación pública | I22: =+EVALUACION!I23 -> 1 | J22: =+EVALUACION!J23 -> 5 | K22: =+I22+J22 -> 6 | L22: =IF(K22<=4,"BAJO",IF(K22=5,"MEDIO",IF(K22=6,"ALTO",IF(K22=7,"ALTO","EXTREMO")))) -> ALTO | M22: No | N22: Oficina de Planeación FDLAN / Oficina de Contratación FDLAN | O22: Etapa de selección | P22: Etapa de selección | Q22: Etapa de selección | R22: Dentro del período de la etapa de selección
B23: =+EVALUACION!B24 -> SELECCIÓN | C23: =+EVALUACION!C24 -> Confabulacion de los proponentes (Colusión) | G23: Estudio detallado de los proponentes (análisis de material probatorio allegado por estos) | I23: =+EVALUACION!I24 -> 1 | J23: =+EVALUACION!J24 -> 3 | K23: =+I23+J23 -> 4 | L23: =IF(K23<=4,"BAJO",IF(K23=5,"MEDIO",IF(K23=6,"ALTO",IF(K23=7,"ALTO","EXTREMO")))) -> BAJO | M23: Sí | N23: Oficina de Planeación FDLAN / Oficina de Contratación FDLAN | O23: Etapa de selección | P23: Etapa de selección | Q23: Etapa de selección | R23: Dentro del período de la etapa de selección
B24: =+EVALUACION!B25 -> SELECCIÓN | C24: =+EVALUACION!C25 -> Selección de ofertas con precios artificialmente bajos. | G24: Estudio detallado de los proponentes (análisis de material probatorio allegado por estos) | I24: =+EVALUACION!I25 -> 1 | J24: =+EVALUACION!J25 -> 3 | K24: =+I24+J24 -> 4 | L24: =IF(K24<=4,"BAJO",IF(K24=5,"MEDIO",IF(K24=6,"ALTO",IF(K24=7,"ALTO","EXTREMO")))) -> BAJO | M24: Sí | N24: Oficina de Planeación FDLAN / Oficina de Contratación FDLAN | O24: Etapa de selección | P24: Etapa de selección | Q24: Etapa de selección | R24: Dentro del período de la etapa de selección
B25: =+EVALUACION!B26 -> CONTRATACIÓN | C25: =+EVALUACION!C26 -> Riesgo de que no se firme el contrato. | G25: Manejo del proceso por especialistas en el área de contratación pública | I25: =+EVALUACION!I26 -> 1 | J25: =+EVALUACION!J26 -> 4 | K25: =+I25+J25 -> 5 | L25: =IF(K25<=4,"BAJO",IF(K25=5,"MEDIO",IF(K25=6,"ALTO",IF(K25=7,"ALTO","EXTREMO")))) -> MEDIO | M25: No | N25: Oficina de Planeación FDLAN / Oficina de Contratación FDLAN | O25: Etapa de contratación | P25: Etapa de contratación | Q25: Etapa de contratación | R25: Dentro del período de la etapa de contratación
B26: =+EVALUACION!B27 -> CONTRATACIÓN | C26: =+EVALUACION!C27 -> Falta de constitución o constitución tardía de la garantía única. Aceptación de garantías que no se ajustan a lo contemplado en el contrato | G26: Mayor exigencia en el cumplimiento de los requisitos al contratista. | I26: =+EVALUACION!I27 -> 1 | J26: =+EVALUACION!J27 -> 3 | K26: =+I26+J26 -> 4 | L26: =IF(K26<=4,"BAJO",IF(K26=5,"MEDIO",IF(K26=6,"ALTO",IF(K26=7,"ALTO","EXTREMO")))) -> BAJO | M26: No | N26: Oficina de Planeación FDLAN / Oficina de Contratación FDLAN | O26: Etapa de contratación | P26: Etapa de contratación | Q26: Etapa de contratación | R26: Dentro del período de la etapa de contratación
B27: =+EVALUACION!B28 -> CONTRATACIÓN | C27: Presentación de reclamos de terceros sobre la selección del oferente que retrasen el perfeccionamiento del contrato. | G27: Imparcialidad en el proceso de contratación | I27: =+EVALUACION!I28 -> 1 | J27: =+EVALUACION!J28 -> 3 | K27: =+I27+J27 -> 4 | L27: =IF(K27<=4,"BAJO",IF(K27=5,"MEDIO",IF(K27=6,"ALTO",IF(K27=7,"ALTO","EXTREMO")))) -> BAJO | M27: No | N27: Oficina de Planeación FDLAN / Oficina de Contratación FDLAN | O27: Etapa de contratación | P27: Etapa de contratación | Q27: Etapa de contratación | R27: Dentro del período de la etapa de contratación
B28: =+EVALUACION!B29 -> EJECUCIÓN | C28: =+EVALUACION!C29 -> Variación en la disponibilidad o en el costo de los insumos necesarios para prestar los servicios. | G28: Seguimiento permanente a las labores de ejecución del contrato. | I28: =+EVALUACION!I29 -> 2 | J28: =+EVALUACION!J29 -> 4 | K28: =+I28+J28 -> 6 | L28: =IF(K28<=4,"BAJO",IF(K28=5,"MEDIO",IF(K28=6,"ALTO",IF(K28=7,"ALTO","EXTREMO")))) -> ALTO | M28: No | N28: Supervisión y Apoyo a la Supervisión FDLAN | O28: Etapa de ejecución | P28: Etapa de ejecución | Q28: Etapa de ejecución | R28: Dentro del período de la etapa de ejecución
B29: =+EVALUACION!B30 -> EJECUCIÓN | C29: =+EVALUACION!C30 -> Incumplimiento de compromisos adquiridos por el contratista seleccionado con sus subcontratistas, suministradores de bienes y servicios. | G29: Seguimiento permanente a las labores de ejecución del contrato. | I29: =+EVALUACION!I30 -> 4 | J29: =+EVALUACION!J30 -> 4 | K29: =+I29+J29 -> 8 | L29: =IF(K29<=4,"BAJO",IF(K29=5,"MEDIO",IF(K29=6,"ALTO",IF(K29=7,"ALTO","EXTREMO")))) -> EXTREMO | M29: No | N29: Supervisión y Apoyo a la Supervisión FDLAN | O29: Etapa de ejecución | P29: Etapa de ejecución | Q29: Etapa de ejecución | R29: Dentro del período de la etapa de ejecución
B30: =+EVALUACION!B31 -> EJECUCIÓN | C30: =+EVALUACION!C31 -> Obsolecencia técnologica | G30: Seguimiento permanente a las labores de ejecución del contrato. | I30: =+EVALUACION!I31 -> 4 | J30: =+EVALUACION!J31 -> 4 | K30: =+I30+J30 -> 8 | L30: =IF(K30<=4,"BAJO",IF(K30=5,"MEDIO",IF(K30=6,"ALTO",IF(K30=7,"ALTO","EXTREMO")))) -> EXTREMO | M30: No | N30: Supervisión y Apoyo a la Supervisión FDLAN | O30: Etapa de ejecución | P30: Etapa de ejecución | Q30: Etapa de ejecución | R30: Dentro del período de la etapa de ejecución
B31: =+EVALUACION!B32 -> EJECUCIÓN | C31: =+EVALUACION!C32 -> Defectos en los equipos. | G31: Son hechos impredecibles | I31: 3 | J31: 3 | K31: =+I31+J31 -> 6 | L31: =IF(K31<=4,"BAJO",IF(K31=5,"MEDIO",IF(K31=6,"ALTO",IF(K31=7,"ALTO","EXTREMO")))) -> ALTO | M31: No | N31: Supervisión y Apoyo a la Supervisión FDLAN | O31: Etapa de ejecución | P31: Etapa de ejecución | Q31: Etapa de ejecución | R31: Dentro del período de la etapa de ejecución
B32: =EVALUACION!B33 -> EJECUCIÓN | C32: =EVALUACION!C33 -> Eventos naturales tales como lluvias, inundaciones y sequias entre otros | G32: =EVALUACION!H33 -> Afectación en la realización de actividades | I32: =EVALUACION!I33 -> 3 | J32: =EVALUACION!J33 -> 3 | K32: =EVALUACION!K33 -> 6 | L32: =IF(K32<=4,"BAJO",IF(K32=5,"MEDIO",IF(K32=6,"ALTO",IF(K32=7,"ALTO","EXTREMO")))) -> ALTO | M32: No | N32: Supervisión y Apoyo a la Supervisión FDLAN y contratista | O32: Etapa de ejecución | P32: Etapa de ejecución | Q32: Etapa de ejecución | R32: Dentro del período de la etapa de ejecución
C35: Categoria del Riesgo | H35: Impacto del Riesgo
B36: Probabilidad | C36: Catagoria | F36: Valoración | H36: Categoria | J36: Valoración | N36: Categoria del Riesgo
C37: Raro (puede ocurrir excepcionalmente) | F37: 1 | H37: Insignificante | J37: 1 | N37: Valoración del Riesgo | P37: Categoría
C38: Improbable (puede ocurrir ocasionalmente) | F38: 2 | H38: Menor | J38: 2 | N38: 8, 9 y 10 | P38: Riesgo extremo
C39: Posible (puede ocurrir en cualquier momento futuro) | F39: 3 | H39: Moderado | J39: 3 | N39: 6 y 7 | P39: Riesgo alto
C40: Probable (probablemente va a ocurrir) | F40: 4 | H40: Mayor | J40: 4 | N40: 5 | P40: Riesgo medio
C41: Casi cierto (ocurre en la mayoria de circunstancias) | F41: 5 | H41: Catastrófico | J41: 5 | N41: 2, 3 y 4 | P41: Riesgo bajo
C43: Valoración del Riesgo
C44: Calificación Cualitativa | G44: Obstruye la ejecución del contrato de manera intrascendente. | I44: Dificulta la ejecución del contrato de manera baja, aplicando medidas mínimas se pueden lograr el objeto contractual | L44: Afecta la ejecución del contrato sin alterar el beneficio para las partes | N44: Obstruye la ejecución del contrato sustancialmente pero aun así permite la consecución del objeto contractual | P44: Perturba la ejecución del contrato de manera grave imposibilitando la consecución del objeto contractual.
C45: Calificación Monetaria | G45: Los sobrecostos no representan más del uno por ciento (1%) del valor del contrato. | I45: Los sobrecostos no representan más del cinco por ciento (5%) del valor del contrato. | L45: Genera un impacto sobre el valor del contrato entre el cinco (5%) y el quince por ciento (15%). | N45: Incrementa el valor del contrato entre el quince (15%) y el treinta por ciento (30%). | P45: Impacto sobre el valor del contrato en más del treinta por ciento (30%).
C46: Catagoria | F46: Valoración | G46: Insignificante | I46: Menor | L46: Moderado | N46: Mayor | P46: Catastrófico
G47: 1 | I47: 2 | L47: 3 | N47: 4 | P47: 5
C48: Raro (puede ocurrir excepcionalmente) | F48: 1 | G48: 2 | I48: 3 | L48: 4 | N48: 5 | P48: 6
C49: Improbable (puede ocurrir ocasionalmente) | F49: 2 | G49: 3 | I49: 4 | L49: 5 | N49: 6 | P49: 7
C50: Posible (puede ocurrir en cualquier momento futuro) | F50: 3 | G50: 4 | I50: 5 | L50: 6 | N50: 7 | P50: 8
C51: Probable (probablemente va a ocurrir) | F51: 4 | G51: 5 | I51: 6 | L51: 7 | N51: 8 | P51: 9
...

Sheet ASIGNACION Y TRATAMIENTO
C2: MATRIZ DE RIESGOS DE CONTRATACIÓN | W2: Código: GCO-GCI-F164 Versión: 02 Vigencia: 01 de diciembre de 2022 Caso HOLA: 280117
B6: =+EVALUACION!B6 -> Objeto Contractual: “PRESTAR LOS SERVICIOS PARA LA ORGANIZACIÓN Y EJECUCIÓN DE EVENTOS, ASÍ COMO EL DESARROLLO DE ACTIVIDADES LOGÍSTICAS EN EL MARCO DE LA ESTRATEGIA DE PRESUPUESTOS PARTICIPATIVOS DE LA LOCALIDAD DE ANTONIO NARIÑO, EN ATENCIÓN A LOS PROYECTOS NO. 2340, 2264, 2335, 2320, 2353, 2465, 2260, 2353 Y 2296, DANDO CUMPLIMIENTO A LAS METAS ESTABLECIDAS EN LA VIGENCIA 2025 DEL PLAN DE DESARROLLO LOCAL.”
B7: Esta matriz es un documento anexo del Estudio Previo
B10: No | C10: Descripción (Que puede pasar y, cómo puede ocurrir) | D10: Etapa | E10: Clase | F10: Fuente | G10: Consecuencias de la ocurrencia del evento | H10: Probabilidad | I10: Impacto | J10: Calificación total | K10: Prioridad | L10: ¿A quien se le asigna? | M10: % | N10: Tratamiento/Controles a ser implementados | O10: Probabilidad | P10: Impacto | Q10: Calificación total | R10: Prioridad | S10: ¿Afecta el equilibrio económico del contrato? | T10: Persona responsable por implementar el tratamiento | U10: Fecha estimada en que se inicia el tratamiento | V10: Fecha estimada en que se completa el tratamiento | W10: ¿Cómo se realiza el monitoreo | X10: Periodicidad ¿Cuándo?
B11: 1 | C11: =+'EVALUACION CON CONTROLES'!C16:F16 -> Inadecuada escogencia de la modalidad de contratación | D11: =+'EVALUACION CON CONTROLES'!B16 -> PLANEACIÓN | E11: =VLOOKUP(C11,'IDENTIFICACION Y ANALISIS'!$B$19:$F$68,3,FALSE) -> Especifico | F11: =VLOOKUP(C11,'IDENTIFICACION Y ANALISIS'!$B$19:$F$68,4,FALSE) -> Interno | G11: =+EVALUACION!H17 -> No ejecución del PAA 2025 y metas PDLAN | H11: =+EVALUACION!I17 -> 1 | I11: =+EVALUACION!J17 -> 5 | J11: =+EVALUACION!K17 -> 6 | K11: =+EVALUACION!L17 -> ALTO | L11: SDG | M11: 1 | N11: =+'EVALUACION CON CONTROLES'!G16 -> Estudio previo de la modalidad de contratación a seleccionar | O11: =+'EVALUACION CON CONTROLES'!I16 -> 1 | P11: =+'EVALUACION CON CONTROLES'!J16 -> 5 | Q11: =+'EVALUACION CON CONTROLES'!K16 -> 6 | R11: =+'EVALUACION CON CONTROLES'!L16 -> ALTO | S11: =+'EVALUACION CON CONTROLES'!M16 -> No | T11: =+'EVALUACION CON CONTROLES'!N16 -> Oficina de Planeación FDLAN | U11: =+'EVALUACION CON CONTROLES'!O16 -> Etapa de planeación | V11: =+'EVALUACION CON CONTROLES'!P16 -> Etapa de planeación | ... X11: =+'EVALUACION CON CONTROLES'!R16 -> Dentro del período de la etapa de planeación
B12: 2 | C12: =+'EVALUACION CON CONTROLES'!C17:F17 -> Requisitos habilitantes inapropiados para el proceso de selección | D12: =+'EVALUACION CON CONTROLES'!B17 -> PLANEACIÓN | E12: =VLOOKUP(C12,'IDENTIFICACION Y ANALISIS'!$B$19:$F$68,3,FALSE) -> Especifico | F12: =VLOOKUP(C12,'IDENTIFICACION Y ANALISIS'!$B$19:$F$68,4,FALSE) -> Interno | G12: =+EVALUACION!H18 -> Retrazos para la selección del contratista | H12: =+EVALUACION!I18 -> 1 | I12: =+EVALUACION!J18 -> 3 | J12: =+EVALUACION!K18 -> 4 | K12: =+EVALUACION!L18 -> BAJO | L12: SDG | M12: 1 | N12: =+'EVALUACION CON CONTROLES'!G17 -> Adecuada identificacion de los requisitos habilitantes | O12: =+'EVALUACION CON CONTROLES'!I17 -> 1 | P12: =+'EVALUACION CON CONTROLES'!J17 -> 3 | Q12: =+'EVALUACION CON CONTROLES'!K17 -> 4 | R12: =+'EVALUACION CON CONTROLES'!L17 -> BAJO | S12: =+'EVALUACION CON CONTROLES'!M17 -> No | T12: =+'EVALUACION CON CONTROLES'!N17 -> Oficina de Planeación FDLAN | U12: =+'EVALUACION CON CONTROLES'!O17 -> Etapa de planeación | V12: =+'EVALUACION CON CONTROLES'!P17 -> Etapa de planeación | ... X12: =+'EVALUACION CON CONTROLES'!R17 -> Dentro del período de la etapa de planeación
B13: 3 | C13: =+'EVALUACION CON CONTROLES'!C18:F18 -> Inadecuado análisis económico estimativo del valor del contrato | D13: =+'EVALUACION CON CONTROLES'!B18 -> PLANEACIÓN | E13: =VLOOKUP(C13,'IDENTIFICACION Y ANALISIS'!$B$19:$F$68,3,FALSE) -> Especifico | F13: =VLOOKUP(C13,'IDENTIFICACION Y ANALISIS'!$B$19:$F$68,4,FALSE) -> Interno | G13: =+EVALUACION!H19 -> Desequilibrio económico del contrato. | H13: =+EVALUACION!I19 -> 1 | I13: =+EVALUACION!J19 -> 4 | J13: =+EVALUACION!K19 -> 5 | K13: =+EVALUACION!L19 -> MEDIO | L13: SDG | M13: 1 | N13: =+'EVALUACION CON CONTROLES'!G18 -> Objetividad en la planeación de los requisitos habilitantes | O13: =+'EVALUACION CON CONTROLES'!I18 -> 1 | P13: =+'EVALUACION CON CONTROLES'!J18 -> 4 | Q13: =+'EVALUACION CON CONTROLES'!K18 -> 5 | R13: =+'EVALUACION CON CONTROLES'!L18 -> MEDIO | S13: =+'EVALUACION CON CONTROLES'!M18 -> Si | T13: =+'EVALUACION CON CONTROLES'!N18 -> Oficina de Planeación FDLAN | U13: =+'EVALUACION CON CONTROLES'!O18 -> Etapa de planeación | V13: =+'EVALUACION CON CONTROLES'!P18 -> Etapa de planeación | ... X13: =+'EVALUACION CON CONTROLES'!R18 -> Dentro del período de la etapa de planeación
B14: 4 | C14: Inconvenientes y/o situaciones adversas en la ejecucion del sservicio requerido | D14: =+'EVALUACION CON CONTROLES'!B19 -> PLANEACIÓN | E14: =VLOOKUP(C14,'IDENTIFICACION Y ANALISIS'!$B$19:$F$68,3,FALSE) -> #N/A | F14: =VLOOKUP(C14,'IDENTIFICACION Y ANALISIS'!$B$19:$F$68,4,FALSE) -> #N/A | G14: Retrazo en la ejecución del contrato, por inasistencia de los funcionarios y/o por situacion de orden publico | H14: =+EVALUACION!I22 -> 1 | I14: 3 | J14: 4 | K14: =+EVALUACION!L20 -> BAJO | L14: SDG | M14: 1 | N14: =+'EVALUACION CON CONTROLES'!G19 -> Objetividad en la planeación de los requisitos habilitantes | O14: 1 | P14: 3 | Q14: 4 | R14: =+'EVALUACION CON CONTROLES'!L19 -> BAJO | S14: =+'EVALUACION CON CONTROLES'!M19 -> Si | T14: =+'EVALUACION CON CONTROLES'!N19 -> Oficina de Planeación FDLAN | U14: =+'EVALUACION CON CONTROLES'!O19 -> Etapa de planeación | V14: =+'EVALUACION CON CONTROLES'!P19 -> Etapa de planeación | W14: =+'EVALUACION CON CONTROLES'!Q19 -> Etapa de planeación | X14: =+'EVALUACION CON CONTROLES'!R19 -> Dentro del período de la etapa de planeación
B15: 5 | C15: Requisitos habilitantes que impidan la selección objetiva | D15: =+'EVALUACION CON CONTROLES'!B20 -> PLANEACIÓN | E15: =VLOOKUP(C15,'IDENTIFICACION Y ANALISIS'!$B$19:$F$68,3,FALSE) -> Especifico | F15: =VLOOKUP(C15,'IDENTIFICACION Y ANALISIS'!$B$19:$F$68,4,FALSE) -> Interno | G15: Retrazos para la selección del contratista | H15: 1 | I15: 3 | J15: 4 | K15: =+EVALUACION!L21 -> BAJO | L15: SDG | M15: 1 | N15: =+'EVALUACION CON CONTROLES'!G20 -> Objetividad en la planeación de los requisitos habilitantes | O15: 1 | P15: 3 | Q15: 4 | R15: =+'EVALUACION CON CONTROLES'!L20 -> BAJO | S15: No | T15: =+'EVALUACION CON CONTROLES'!N20 -> Oficina de Planeación FDLAN | U15: =+'EVALUACION CON CONTROLES'!O20 -> Etapa de planeación | V15: =+'EVALUACION CON CONTROLES'!P20 -> Etapa de planeación | W15: =+'EVALUACION CON CONTROLES'!Q20 -> Etapa de planeación | X15: =+'EVALUACION CON CONTROLES'!R20 -> Dentro del período de la etapa de planeación
B16: 6 | C16: Inadecuada evaluación de las ofertas y/o verificación de requisitos habilitantes | D16: =+'EVALUACION CON CONTROLES'!B21 -> SELECCIÓN | E16: =VLOOKUP(C16,'IDENTIFICACION Y ANALISIS'!$B$19:$F$68,3,FALSE) -> Especifico | F16: =VLOOKUP(C16,'IDENTIFICACION Y ANALISIS'!$B$19:$F$68,4,FALSE) -> Interno | G16: Incumplimiento en el objeto contractual | H16: =+EVALUACION!I22 -> 1 | I16: =+EVALUACION!J22 -> 5 | J16: =+EVALUACION!K22 -> 6 | K16: =+EVALUACION!L22 -> ALTO | L16: SDG | M16: 1 | N16: Mayor énfasis en la revisión de estos temas. | O16: =+'EVALUACION CON CONTROLES'!I21 -> 1 | P16: =+'EVALUACION CON CONTROLES'!J21 -> 5 | Q16: =+'EVALUACION CON CONTROLES'!K21 -> 6 | R16: =+'EVALUACION CON CONTROLES'!L21 -> ALTO | S16: =+'EVALUACION CON CONTROLES'!M21 -> No | T16: =+'EVALUACION CON CONTROLES'!N21 -> Oficina de Planeación FDLAN | U16: =+'EVALUACION CON CONTROLES'!O21 -> Etapa de selección | V16: =+'EVALUACION CON CONTROLES'!P21 -> Etapa de selección | ... X16: =+'EVALUACION CON CONTROLES'!R21 -> Dentro del período de la etapa de selección
B17: 7 | C17: =+'EVALUACION CON CONTROLES'!C22:F22 -> Inadecuado manejo administrativo del proceso contractual | D17: =+'EVALUACION CON CONTROLES'!B22 -> SELECCIÓN | E17: =VLOOKUP(C17,'IDENTIFICACION Y ANALISIS'!$B$19:$F$68,3,FALSE) -> Especifico | F17: =VLOOKUP(C17,'IDENTIFICACION Y ANALISIS'!$B$19:$F$68,4,FALSE) -> Interno | G17: =+EVALUACION!H23 -> Baja calidad en el servicio contratado | H17: =+EVALUACION!I23 -> 1 | I17: =+EVALUACION!J23 -> 5 | J17: =+EVALUACION!K23 -> 6 | K17: =+EVALUACION!L23 -> ALTO | L17: SDG | M17: 1 | N17: =+'EVALUACION CON CONTROLES'!G22 -> Manejo del proceso por especialistas en el área de contratación pública | O17: =+'EVALUACION CON CONTROLES'!I22 -> 1 | P17: =+'EVALUACION CON CONTROLES'!J22 -> 5 | Q17: =+'EVALUACION CON CONTROLES'!K22 -> 6 | R17: =+'EVALUACION CON CONTROLES'!L22 -> ALTO | S17: =+'EVALUACION CON CONTROLES'!M22 -> No | T17: =+'EVALUACION CON CONTROLES'!N22 -> Oficina de Planeación FDLAN / Oficina de Contratación FDLAN | U17: =+'EVALUACION CON CONTROLES'!O22 -> Etapa de selección | V17: =+'EVALUACION CON CONTROLES'!P22 -> Etapa de selección | ... X17: =+'EVALUACION CON CONTROLES'!R22 -> Dentro del período de la etapa de selección
B18: 8 | C18: =+'EVALUACION CON CONTROLES'!C23:F23 -> Confabulacion de los proponentes (Colusión) | D18: =+'EVALUACION CON CONTROLES'!B23 -> SELECCIÓN | E18: =VLOOKUP(C18,'IDENTIFICACION Y ANALISIS'!$B$19:$F$68,3,FALSE) -> Especifico | F18: =VLOOKUP(C18,'IDENTIFICACION Y ANALISIS'!$B$19:$F$68,4,FALSE) -> Externo | G18: =+EVALUACION!H24 -> Declaratoria del proceso de selección desierto | H18: =+EVALUACION!I24 -> 1 | I18: =+EVALUACION!J24 -> 3 | J18: =+EVALUACION!K24 -> 4 | K18: =+EVALUACION!L24 -> BAJO | L18: CONTRATISTA Y SDG | M18: 1 | N18: =+'EVALUACION CON CONTROLES'!G23 -> Estudio detallado de los proponentes (análisis de material probatorio allegado por estos) | O18: =+'EVALUACION CON CONTROLES'!I23 -> 1 | P18: =+'EVALUACION CON CONTROLES'!J23 -> 3 | Q18: =+'EVALUACION CON CONTROLES'!K23 -> 4 | R18: =+'EVALUACION CON CONTROLES'!L23 -> BAJO | S18: =+'EVALUACION CON CONTROLES'!M23 -> Sí | T18: =+'EVALUACION CON CONTROLES'!N23 -> Oficina de Planeación FDLAN / Oficina de Contratación FDLAN | U18: =+'EVALUACION CON CONTROLES'!O23 -> Etapa de selección | V18: =+'EVALUACION CON CONTROLES'!P23 -> Etapa de selección | ... X18: =+'EVALUACION CON CONTROLES'!R23 -> Dentro del período de la etapa de selección
B19: 9 | C19: =+'EVALUACION CON CONTROLES'!C24:F24 -> Selección de ofertas con precios artificialmente bajos. | D19: =+'EVALUACION CON CONTROLES'!B24 -> SELECCIÓN | E19: =VLOOKUP(C19,'IDENTIFICACION Y ANALISIS'!$B$19:$F$68,3,FALSE) -> Especifico | F19: =VLOOKUP(C19,'IDENTIFICACION Y ANALISIS'!$B$19:$F$68,4,FALSE) -> Interno | G19: =+EVALUACION!H25 -> Afectación económica del presupuesto asignado al contrato | H19: =+EVALUACION!I25 -> 1 | I19: =+EVALUACION!J25 -> 3 | J19: =+EVALUACION!K25 -> 4 | K19: =+EVALUACION!L25 -> BAJO | L19: SDG | M19: 1 | N19: =+'EVALUACION CON CONTROLES'!G24 -> Estudio detallado de los proponentes (análisis de material probatorio allegado por estos) | O19: =+'EVALUACION CON CONTROLES'!I24 -> 1 | P19: =+'EVALUACION CON CONTROLES'!J24 -> 3 | Q19: =+'EVALUACION CON CONTROLES'!K24 -> 4 | R19: =+'EVALUACION CON CONTROLES'!L24 -> BAJO | S19: =+'EVALUACION CON CONTROLES'!M24 -> Sí | T19: =+'EVALUACION CON CONTROLES'!N24 -> Oficina de Planeación FDLAN / Oficina de Contratación FDLAN | U19: =+'EVALUACION CON CONTROLES'!O24 -> Etapa de selección | V19: =+'EVALUACION CON CONTROLES'!P24 -> Etapa de selección | ... X19: =+'EVALUACION CON CONTROLES'!R24 -> Dentro del período de la etapa de selección
B20: 10 | C20: =+'EVALUACION CON CONTROLES'!C25:F25 -> Riesgo de que no se firme el contrato. | D20: =+'EVALUACION CON CONTROLES'!B25 -> CONTRATACIÓN | E20: =VLOOKUP(C20,'IDENTIFICACION Y ANALISIS'!$B$19:$F$68,3,FALSE) -> Especifico | F20: =VLOOKUP(C20,'IDENTIFICACION Y ANALISIS'!$B$19:$F$68,4,FALSE) -> Externo | G20: =+EVALUACION!H26 -> Retrazo en el inicio de ejecución del contrato | H20: =+EVALUACION!I26 -> 1 | I20: =+EVALUACION!J26 -> 4 | J20: =+EVALUACION!K26 -> 5 | K20: =+EVALUACION!L26 -> MEDIO | L20: CONTRATISTA Y SDG | M20: 1 | N20: =+'EVALUACION CON CONTROLES'!G25 -> Manejo del proceso por especialistas en el área de contratación pública | O20: =+'EVALUACION CON CONTROLES'!I25 -> 1 | P20: =+'EVALUACION CON CONTROLES'!J25 -> 4 | Q20: =+'EVALUACION CON CONTROLES'!K25 -> 5 | R20: =+'EVALUACION CON CONTROLES'!L25 -> MEDIO | S20: =+'EVALUACION CON CONTROLES'!M25 -> No | T20: =+'EVALUACION CON CONTROLES'!N25 -> Oficina de Planeación FDLAN / Oficina de Contratación FDLAN | U20: =+'EVALUACION CON CONTROLES'!O25 -> Etapa de contratación | V20: =+'EVALUACION CON CONTROLES'!P25 -> Etapa de contratación | ... X20: =+'EVALUACION CON CONTROLES'!R25 -> Dentro del período de la etapa de contratación
B21: 11 | C21: =+'EVALUACION CON CONTROLES'!C26:F26 -> Falta de constitución o constitución tardía de la garantía única. Aceptación de garantías que no se ajustan a lo contemplado en el contrato | D21: =+'EVALUACION CON CONTROLES'!B26 -> CONTRATACIÓN | E21: =VLOOKUP(C21,'IDENTIFICACION Y ANALISIS'!$B$19:$F$68,3,FALSE) -> Especifico | F21: =VLOOKUP(C21,'IDENTIFICACION Y ANALISIS'!$B$19:$F$68,4,FALSE) -> Externo | G21: =+EVALUACION!H27 -> Retrazo en el inicio de ejecución del contrato. | H21: =+EVALUACION!I27 -> 1 | I21: =+EVALUACION!J27 -> 3 | J21: =+EVALUACION!K27 -> 4 | K21: =+EVALUACION!L27 -> BAJO | L21: CONTRATISTA | M21: 1 | N21: =+'EVALUACION CON CONTROLES'!G26 -> Mayor exigencia en el cumplimiento de los requisitos al contratista. | O21: =+'EVALUACION CON CONTROLES'!I26 -> 1 | P21: =+'EVALUACION CON CONTROLES'!J26 -> 3 | Q21: =+'EVALUACION CON CONTROLES'!K26 -> 4 | R21: =+'EVALUACION CON CONTROLES'!L26 -> BAJO | S21: =+'EVALUACION CON CONTROLES'!M26 -> No | T21: =+'EVALUACION CON CONTROLES'!N26 -> Oficina de Planeación FDLAN / Oficina de Contratación FDLAN | U21: =+'EVALUACION CON CONTROLES'!O26 -> Etapa de contratación | V21: =+'EVALUACION CON CONTROLES'!P26 -> Etapa de contratación | ... X21: =+'EVALUACION CON CONTROLES'!R26 -> Dentro del período de la etapa de contratación
B22: 12 | C22: Presentación de reclamos de terceros sobre la selección del oferente que retrasen el perfeccionamiento del contrato. | D22: =+'EVALUACION CON CONTROLES'!B27 -> CONTRATACIÓN | E22: =VLOOKUP(C22,'IDENTIFICACION Y ANALISIS'!$B$19:$F$68,3,FALSE) -> Especifico | F22: =VLOOKUP(C22,'IDENTIFICACION Y ANALISIS'!$B$19:$F$68,4,FALSE) -> Externo | G22: Retrazo en el inicio de ejecución del contrato | H22: =+EVALUACION!I28 -> 1 | I22: =+EVALUACION!J28 -> 3 | J22: =+EVALUACION!K28 -> 4 | K22: =+EVALUACION!L28 -> BAJO | L22: CONTRATISTA Y SDG | M22: 1 | N22: Imparcialidad en el proceso de contratación | O22: 1 | P22: 3 | Q22: 4 | R22: =+'EVALUACION CON CONTROLES'!L27 -> BAJO | S22: =+'EVALUACION CON CONTROLES'!M27 -> No | T22: =+'EVALUACION CON CONTROLES'!N27 -> Oficina de Planeación FDLAN / Oficina de Contratación FDLAN | U22: =+'EVALUACION CON CONTROLES'!O27 -> Etapa de contratación | V22: =+'EVALUACION CON CONTROLES'!P27 -> Etapa de contratación | W22: =+'EVALUACION CON CONTROLES'!Q27 -> Etapa de contratación | X22: =+'EVALUACION CON CONTROLES'!R27 -> Dentro del período de la etapa de contratación
B23: 13 | C23: =+'EVALUACION CON CONTROLES'!C28:F28 -> Variación en la disponibilidad o en el costo de los insumos necesarios para prestar los servicios. | D23: =+'EVALUACION CON CONTROLES'!B28 -> EJECUCIÓN | E23: =VLOOKUP(C23,'IDENTIFICACION Y ANALISIS'!$B$19:$F$68,3,FALSE) -> Especifico | F23: =VLOOKUP(C23,'IDENTIFICACION Y ANALISIS'!$B$19:$F$68,4,FALSE) -> Externo | G23: =+EVALUACION!H29 -> Afectación al aspecto económico del contrato. | H23: =+EVALUACION!I29 -> 2 | I23: =+EVALUACION!J29 -> 4 | J23: =+EVALUACION!K29 -> 6 | K23: =+EVALUACION!L29 -> ALTO | L23: CONTRATISTA Y SDG | M23: 1 | N23: =+'EVALUACION CON CONTROLES'!G28 -> Seguimiento permanente a las labores de ejecución del contrato. | O23: =+'EVALUACION CON CONTROLES'!I28 -> 2 | P23: =+'EVALUACION CON CONTROLES'!J28 -> 4 | Q23: =+'EVALUACION CON CONTROLES'!K28 -> 6 | R23: =+'EVALUACION CON CONTROLES'!L28 -> ALTO | S23: =+'EVALUACION CON CONTROLES'!M28 -> No | T23: =+'EVALUACION CON CONTROLES'!N28 -> Supervisión y Apoyo a la Supervisión FDLAN | U23: =+'EVALUACION CON CONTROLES'!O28 -> Etapa de ejecución | V23: =+'EVALUACION CON CONTROLES'!P28 -> Etapa de ejecución | ... X23: =+'EVALUACION CON CONTROLES'!R28 -> Dentro del período de la etapa de ejecución
B24: 14 | C24: =+'EVALUACION CON CONTROLES'!C29:F29 -> Incumplimiento de compromisos adquiridos por el contratista seleccionado con sus subcontratistas, suministradores de bienes y servicios. | D24: =+'EVALUACION CON CONTROLES'!B29 -> EJECUCIÓN | E24: =VLOOKUP(C24,'IDENTIFICACION Y ANALISIS'!$B$19:$F$68,3,FALSE) -> Especifico | F24: =VLOOKUP(C24,'IDENTIFICACION Y ANALISIS'!$B$19:$F$68,4,FALSE) -> Externo | G24: =+EVALUACION!H30 -> Afectación en la calidad del servicio prestado. | H24: =+EVALUACION!I30 -> 4 | I24: =+EVALUACION!J30 -> 4 | J24: =+EVALUACION!K30 -> 8 | K24: =+EVALUACION!L30 -> EXTREMO | L24: CONTRATISTA | M24: 1 | N24: =+'EVALUACION CON CONTROLES'!G29 -> Seguimiento permanente a las labores de ejecución del contrato. | O24: =+'EVALUACION CON CONTROLES'!I29 -> 4 | P24: =+'EVALUACION CON CONTROLES'!J29 -> 4 | Q24: =+'EVALUACION CON CONTROLES'!K29 -> 8 | R24: =+'EVALUACION CON CONTROLES'!L29 -> EXTREMO | S24: =+'EVALUACION CON CONTROLES'!M29 -> No | T24: =+'EVALUACION CON CONTROLES'!N29 -> Supervisión y Apoyo a la Supervisión FDLAN | U24: =+'EVALUACION CON CONTROLES'!O29 -> Etapa de ejecución | V24: =+'EVALUACION CON CONTROLES'!P29 -> Etapa de ejecución | ... X24: =+'EVALUACION CON CONTROLES'!R29 -> Dentro del período de la etapa de ejecución
B25: 15 | C25: =+'EVALUACION CON CONTROLES'!C30:F30 -> Obsolecencia técnologica | D25: =+'EVALUACION CON CONTROLES'!B30 -> EJECUCIÓN | E25: =VLOOKUP(C25,'IDENTIFICACION Y ANALISIS'!$B$19:$F$68,3,FALSE) -> Especifico | F25: =VLOOKUP(C25,'IDENTIFICACION Y ANALISIS'!$B$19:$F$68,4,FALSE) -> Externo | G25: =+EVALUACION!H31 -> Afectación en la calidad del servicio prestado. | H25: =+EVALUACION!I31 -> 4 | I25: =+EVALUACION!J31 -> 4 | J25: =+EVALUACION!K31 -> 8 | K25: =+EVALUACION!L31 -> EXTREMO | L25: CONTRATISTA | M25: 1 | N25: =+'EVALUACION CON CONTROLES'!G30 -> Seguimiento permanente a las labores de ejecución del contrato. | O25: =+'EVALUACION CON CONTROLES'!I30 -> 4 | P25: =+'EVALUACION CON CONTROLES'!J30 -> 4 | Q25: =+'EVALUACION CON CONTROLES'!K30 -> 8 | R25: =+'EVALUACION CON CONTROLES'!L30 -> EXTREMO | S25: =+'EVALUACION CON CONTROLES'!M30 -> No | T25: =+'EVALUACION CON CONTROLES'!N30 -> Supervisión y Apoyo a la Supervisión FDLAN | U25: =+'EVALUACION CON CONTROLES'!O30 -> Etapa de ejecución | V25: =+'EVALUACION CON CONTROLES'!P30 -> Etapa de ejecución | ... X25: =+'EVALUACION CON CONTROLES'!R30 -> Dentro del período de la etapa de ejecución
B26: 16 | C26: =+'EVALUACION CON CONTROLES'!C31:F31 -> Defectos en los equipos. | D26: =+'EVALUACION CON CONTROLES'!B31 -> EJECUCIÓN | E26: =VLOOKUP(C26,'IDENTIFICACION Y ANALISIS'!$B$19:$F$68,3,FALSE) -> 0 | F26: =VLOOKUP(C26,'IDENTIFICACION Y ANALISIS'!$B$19:$F$68,4,FALSE) -> 0 | G26: =+EVALUACION!H32 -> Afectación en la calidad del servicio prestado. | H26: =+EVALUACION!I32 -> 3 | I26: =+EVALUACION!J32 -> 4 | J26: =+EVALUACION!K32 -> 7 | K26: =+EVALUACION!L32 -> ALTO | L26: CONTRATISTA | M26: 1 | N26: =+'EVALUACION CON CONTROLES'!G31 -> Son hechos impredecibles | O26: =+'EVALUACION CON CONTROLES'!I31 -> 3 | P26: =+'EVALUACION CON CONTROLES'!J31 -> 3 | Q26: =+'EVALUACION CON CONTROLES'!K31 -> 6 | R26: =+'EVALUACION CON CONTROLES'!L31 -> ALTO | S26: No | T26: =+'EVALUACION CON CONTROLES'!N31 -> Supervisión y Apoyo a la Supervisión FDLAN | U26: Etapa de ejecución | V26: Etapa de ejecución | W26: Etapa de ejecución | X26: Dentro del período de la etapa de ejecución
F29: Categoria | J29: Impacto del Riesgo
E30: Probabilidad | F30: Catagoria | G30: Valoración | J30: Categoria | L30: Valoración
F31: Raro (puede ocurrir excepcionalmente) | G31: 1 | J31: Insignificante | L31: 1
F32: Improbable (puede ocurrir ocasionalmente) | G32: 2 | J32: Menor | L32: 2
F33: Posible (puede ocurrir en cualquier momento futuro) | G33: 3 | J33: Moderado | L33: 3
F34: Probable (probablemente va a ocurrir) | G34: 4 | J34: Mayor | L34: 4
F35: Casi cierto (ocurre en la mayoria de circunstancias) | G35: 5 | J35: Catastrófico | L35: 5
D37: Valoración del Riesgo
D38: Catagoria | E38: Valoración | F38: Insignificante | H38: Menor | J38: Moderado | K38: Mayor | L38: Catastrófico | P38: Categoria del Riesgo
F39: 1 | H39: 2 | J39: 3 | K39: 4 | L39: 5 | P39: Valoración del Riesgo | S39: Categoría
D40: Raro (puede ocurrir excepcionalmente) | E40: 1 | F40: 2 | H40: 3 | J40: 4 | K40: 5 | L40: 6 | P40: 8, 9 y 10 | S40: Riesgo extremo
D41: Improbable (puede ocurrir ocasionalmente) | E41: 2 | F41: 3 | H41: 4 | J41: 5 | K41: 6 | L41: 7 | P41: 6 y 7 | S41: Riesgo alto
D42: Posible (puede ocurrir en cualquier momento futuro) | E42: 3 | F42: 4 | H42: 5 | J42: 6 | K42: 7 | L42: 8 | P42: 5 | S42: Riesgo medio
D43: Probable (probablemente va a ocurrir) | E43: 4 | F43: 5 | H43: 6 | J43: 7 | K43: 8 | L43: 9 | P43: 2, 3 y 4 | S43: Riesgo bajo
D44: Casi cierto (ocurre en la mayoria de circunstancias) | E44: 5 | F44: 6 | H44: 7 | J44: 8 | K44: 9 | L44: 10
B49: CONTRATISTA
B50: SDG
B51: CONTRATISTA Y SDG
