Workbook
Name centro_gestor: Listados!$C$2:$C$29
Name excepcional: Listados!$A$17:$A$23
Name fondo: Listados!$T$2:$T$955
Name gasto_publico: Listados!$AA$2:$AA$7
Name grupos_vulnerables: Listados!$A$26:$A$32
Name meta_plan: Listados!$I$2:$I$354
Name meta_territorio: Listados!$L$2:$L$399
Name movilizador: Listados!$A$35:$A$63
Name politica_publica: Listados!$Y$2:$Y$21
Name pospre: Listados!$P$2:$P$475
Name producto_mga: Listados!$AC$2:$AC$2382
Name Programa_PDD: Listados!$F$2:$F$22
Name ruta: Listados!$A$2:$A$3
Name sector_mga: Listados!$W$2:$W$32

Sheet Listados
A1: DECISIÓN | C1: Centro Gestor | D1: Denominación Centro Gestor | F1: Código Programa PDD | G1: Programa PDD | I1: Meta Plan de Desarrollo | L1: Metal Plan de Desarrollo Comuna o Corregimiento | O1: Codigo POSPRE sin puntos | P1: Codigo POSPRE | Q1: Denominación POSPRE | S1: Codigo Fondo sin puntos | T1: Codigo Fondo | U1: Denominación Fondo | W1: Sector MGA | Y1: POLÍTICAS PÚBLICAS | AA1: SECTORES GASTO PUBLICO SOCIAL | AC1: Código del Producto | AD1: Producto | AE1: Código del Indicador de Producto | AF1: Indicador de Producto | AG1: Unidad de medida | AI1: Códogo PE | AJ1: Proyecto Estratégico | AK1: Area Funcional | AL1: Organismo | AM1: Para cadena de Valor 20240702
A2: Si | C2: 4112 | D2: Secretaría de Gobierno | F2: 6101001 | G2: Espacios públicos seguros | I2: 61010010001 | J2: Zonas públicas WiFi operando en el Distrito de Santiago de Cali | L2: 62020010013-0101 | M2: A diciembre de 2027, se han adecuado o rehabilitado 2 parques y zonas verdes para la conservación ambiental de la comuna | O2: NO* 2-3 | P2: NO* 2.3 | Q2: Inversión | S2: 121000 | T2: 1.2.1.0.00 | U2: Ingresos corrientes de Libre Destinación | W2: 01-Congreso | Y2: Acuerdo 539 de 2022 Por el cual se adopta la política pública para las mujeres de Cali: reconocimiento, equidad de género e igualdad de oportunidades 2022 - 2031 y se dictan otras disposiciones | AA2: Salud | AC2: 0401001 | AD2: Bases de datos de la temática de Demografía y Población | AE2: 040100100 | AF2: Bases de datos de la temática de Demografía y Población anonimizadas producidas | AG2: Número | AI2: 0001-(PE-ASITM) | AJ2: Ampliación del Sistema Integrado de Transporte Masivo MIO | AK2: 62010030028 | AL2: 5103_Metro Cali | AM2: =Tabla1[[#This Row],[Códogo PE]]&": "&Tabla1[[#This Row],[Proyecto Estratégico]] -> 0001-(PE-ASITM): Ampliación del Sistema Integrado de Transporte Masivo MIO
A3: No | C3: 4121 | D3: Departamento Administrativo de Gestión Jurídica Pública | F3: 6101002 | G3: Prevención y resolución de conflictos | I3: 61010010002 | J3: Alumbrado público modernizado y eficiente | L3: 62010040006-0102 | M3: A diciembre de 2027, se han capacitado 150 personas en conociemiento ambiental en el marco de la Política Pública de Educacón Ambiental | O3: NO* 2-31 | P3: NO* 2.3.1 | Q3: Gastos de personal | S3: 121000 | T3: 1.2.1.0.00 | U3: Ingresos corrientes de Libre Destinación | W3: 02-Presidencia de la república | Y3: Acuerdo 392 de 2015 Por medio del cual se adopta la política pública de primera infancia, infancia y adolescencia 2015 - 2024, Cali, municipio responsable y amigo de los niños, niñas y adolescentes y se dictan otras disposiciones | AA3: Educacion | AC3: 0401004 | AD3: Bases de Datos de la temática de Mercado Laboral | AE3: 040100400 | AF3: Bases de datos de la temática de Mercado Laboral producidas en el archivo nacional de datos | AG3: Número | AI3: 0001-(PE-ASITM) | AJ3: Ampliación del Sistema Integrado de Transporte Masivo MIO | AK3: 62010030029 | AL3: 5103_Metro Cali | AM3: =Tabla1[[#This Row],[Códogo PE]]&": "&Tabla1[[#This Row],[Proyecto Estratégico]] -> 0001-(PE-ASITM): Ampliación del Sistema Integrado de Transporte Masivo MIO
C4: 4123 | D4: Departamento Administrativo de Control Interno | F4: 6101003 | G4: Proyectos de vida para los jóvenes | I4: 61010010003 | J4: Intervenciones integrales para la mejora del área de espacio público afectada por residuos sólidos realizadas. | L4: 62020010002-0103 | M4: A diciembre de 2027, se han establecido 27 procesos de restauración en areas de ecosistema | O4: NO* 2-3101 | P4: NO* 2.3.1.01 | Q4: Planta de personal permanente | S4: 12200001 | T4: 1.2.2.0.00.01 | U4: Servicios de expedición de permisos, conceptos ambientales | W4: 03-Planeación | Y4: Acuerdo 420 de 2017 Por el cual se adopta la política pública de envejecimiento y vejez para las personas mayores en el municipio de Santiago de Cali 2017 - 2027 | AA4: Saneamiento ambiental | AC4: 0401005 | AD4: Bases de Datos de la temática de Pobreza y Condiciones de Vida | AE4: 040100500 | AF4: Bases de Datos de la temática de Pobreza y Condiciones de Vida publicadas | AG4: Número | AI4: 0001-(PE-ASITM) | AJ4: Ampliación del Sistema Integrado de Transporte Masivo MIO | AK4: 62010030032 | AL4: 5103_Metro Cali | AM4: =Tabla1[[#This Row],[Códogo PE]]&": "&Tabla1[[#This Row],[Proyecto Estratégico]] -> 0001-(PE-ASITM): Ampliación del Sistema Integrado de Transporte Masivo MIO
A5: TIPO DE RECURSO | C5: 4124 | D5: Departamento Administrativo de Control Disciplinario Interno de Instrucción | F5: 6101004 | G5: Vigilancia y Prevención del Delito | I5: 61010010004 | J5: Luminarias instaladas LED en fuentes, monumentos y bienes de interés cultural con sistemas de iluminación ornamental conservadas | L5: 62020010021-0104 | M5: A diciembre de 2027, se han realizado 9 asistencias técnicas en la implementación de alternativas de aprovechamiento de residuos sólidos orgánicos en la comuna | O5: NO* 2-310101 | P5: NO* 2.3.1.01.01 | Q5: Factores constitutivos de salario | S5: 12200002 | T5: 1.2.2.0.00.02 | U5: Contribución y recargos valorización | W5: 04-Información estadística | Y5: Acuerdo 411 de 2017 Por el cual se adopta la política pública de mejoramiento integral del hábitat de los asentamientos humanos precarios en el municipio de Santiago de Cali - mi hábitat y se dictan otras disposiciones | AA5: Agua potable | AC5: 0401006 | AD5: Bases de Datos de la temática de Salud | AE5: 040100600 | AF5: Bases de Datos de la temática de Salud publicadas | AG5: Número | AI5: 0001-(PE-ASITM) | AJ5: Ampliación del Sistema Integrado de Transporte Masivo MIO | AK5: 62010030033 | AL5: 5103_Metro Cali | AM5: =Tabla1[[#This Row],[Códogo PE]]&": "&Tabla1[[#This Row],[Proyecto Estratégico]] -> 0001-(PE-ASITM): Ampliación del Sistema Integrado de Transporte Masivo MIO
A6: Propios | C6: 4125 | D6: Departamento Administrativo de Control Disciplinario Interno de Juzgamiento | F6: 6102001 | G6: Cali Educada | I6: 61010010005 | J6: Sistema de telegestión para alumbrado públlico implementado | L6: 61020030022-0105 | M6: A diciembre de 2027, se han vinculado 3200 niñas, niños, adolescentes, jóvenes, adultos y adultos mayores (incluidos con discapacidad) a actividades deportivas y aprovechamiento del tiempo libre. | O6: NO* 2-310101001 | P6: NO* 2.3.1.01.01.001 | Q6: Factores salariales comunes | S6: 12200003 | T6: 1.2.2.0.00.03 | U6: Impuesto de Circulación y Tránsito Sobre Vehículos de Servicio Público - S.I.T.MIO | W6: 05-Empleo público | Y6: Acuerdo 424 de 2017 Por medio del cual se adopta la política pública de regulación y organización de ventas informales en el espacio público en el municipio de Santiago de Cali | AA6: Deporte y recreación | AC6: 0401007 | AD6: Boletines Técnicos de la Temática Agropecuaria | AE6: 040100700 | AF6: Boletines Técnicos de la Temática Agropecuaria producidos | AG6: Número | AI6: 0002-(PE- BAS) | AJ6: Bulevar de la avenida sexta | AK6: 62010030001 | AL6: 4151_Infraestructura | AM6: =Tabla1[[#This Row],[Códogo PE]]&": "&Tabla1[[#This Row],[Proyecto Estratégico]] -> 0002-(PE- BAS): Bulevar de la avenida sexta
A7: SGP Educación | C7: 4131 | D7: Departamento Administrativo de Hacienda | F7: 6102002 | G7: Desarrollo productivo | I7: 61010020001 | J7: Jóvenes asistidos técnicamente en prácticas organizativas en el territorio | L7: 62010010014-0106 | M7: A diciembre de 2027, se ha realizado 1 intervenciones de adecuación o mantenimiento a escenarios deportivos y recreativos de la comuna (previo concepto técnico) | O7: NO* 2-31010100101 | P7: NO* 2.3.1.01.01.001.01 | Q7: Sueldo básico | S7: 12200004 | T7: 1.2.2.0.00.04 | U7: Conceptos técnicos aprovechamiento de las aguas subterráneas y superficiales | W7: 11-Relaciones exteriores | Y7: Acuerdo 422 de 2017 Por el cual se adopta la política pública municipal de educación ambiental de Santiago de Cali 2017 - 2036 | AA7: Vivienda | AC7: 0401008 | AD7: Boletines Técnicos de la Temática Ambiental | AE7: 040100800 | AF7: Boletines Técnicos de la Temática Ambiental producidos | AG7: Número | AI7: 0003-(PE-CF) | AJ7: Canal Figueroa | AK7: 62010020003 | AL7: 4147_Vivienda Social y Hábitat | AM7: =Tabla1[[#This Row],[Códogo PE]]&": "&Tabla1[[#This Row],[Proyecto Estratégico]] -> 0003-(PE-CF): Canal Figueroa
A8: SGP Salud | C8: 4132 | D8: Departamento Administrativo de Planeación | F8: 6102003 | G8: Cali Distrito Deportivo, Cultural y Turístico | I8: 61010020002 | J8: Mujeres víctimas de violencias basadas en género y su núcleo familiar vinculadas a servicios de atención integral | L8: 61020030017-0107 | M8: A diciembre de 2027, se han realizado 2 eventos deportivos y recreativos en la comuna 1 | O8: NO* 2-3101010010101 | P8: NO* 2.3.1.01.01.001.01.01 | Q8: Sueldo básico Docente | S8: 12200005 | T8: 1.2.2.0.00.05 | U8: Sanciones por Violación de Normas - DAGMA | W8: 12-Justicia y del derecho | Y8: Acuerdo 463 de 2019 Por el cual se adopta la política pública de desarrollo económico de Santiago de Cali y se dictan otras disposiciones | AC8: 0401010 | AD8: Boletines Técnicos Temática Construcción | AE8: 040101000 | AF8: Boletines Técnicos Temática Construcción producidos | AG8: Número | AI8: 0004-(PE-CAR) | AJ8: Centro de Alto Rendimiento | AK8: 62010010014 | AL8: 4162_Deporte y la Recreación | AM8: =Tabla1[[#This Row],[Códogo PE]]&": "&Tabla1[[#This Row],[Proyecto Estratégico]] -> 0004-(PE-CAR): Centro de Alto Rendimiento
A9: SGP Agua Potable y Saneamiento Básico | C9: 4133 | D9: Departamento Administrativo de Gestión del Medio Ambiente | F9: 6102004 | G9: Salud Integral y de Calidad | I9: 61010020003 | J9: Personas beneficiadas con la oferta de servicios del plan de migrantes y flujos migratorios mixtos | L9: 61020020016-0108 | M9: A diciembre de 2027, se han fortalecido 300 personas del ecosistema empresarial | O9: 2-310101001010101 | P9: 2.3.1.01.01.001.01.01.01 | Q9: Sueldo Docente Csf | S9: 12200006 | T9: 1.2.2.0.00.06 | U9: Seguimiento plan de saneamiento y manejo de vertimientos | W9: 13-Hacienda | Y9: Acuerdo 470 de 2019 Por el cual se adopta la política pública de soberanía y seguridad alimentaria y nutricional del distrito especial de Santiago de Cali y se dictan otras disposiciones | AC9: 0401011 | AD9: Boletines Técnicos Temática Transporte | AE9: 040101100 | AF9: Boletines Técnicos Temática Transporte producidos | AG9: Número | AI9: 0005-(PE-CCAT) | AJ9: Centro de Ciencia, Arte y Tecnología | AK9: 61020020011 | AL9: 4171_Desarrollo Económico | AM9: =Tabla1[[#This Row],[Códogo PE]]&": "&Tabla1[[#This Row],[Proyecto Estratégico]] -> 0005-(PE-CCAT): Centro de Ciencia, Arte y Tecnología
A10: SGP Alimentación Escolar | C10: 4134 | D10: Departamento Administrativo de Tecnologías de la Información y las Comunicaciones | F10: 6102005 | G10: Hambre Cero | I10: 61010020004 | J10: Personas Jóvenes beneficiadas de servicios de atención integral con enfoque de derechos, poblacional, vocacional e interseccional | L10: 61020020018-0109 | M10: A diciembre de 2027, se han formado 20 personas de la comuna 1 en competencias laborales para cierre de brechas | O10: 2-310101001010102 | P10: 2.3.1.01.01.001.01.01.02 | Q10: Sueldo Docente Ssf | S10: 12200007 | T10: 1.2.2.0.00.07 | U10: Contribucion valorización nuevo plan de obras | W10: 15-Defensa y policía | Y10: Acuerdo 461 de 2019 Por medio del cual se adopta la política pública "Cali diversidad" para la garantía del ejercicio efectivo de los derechos de las personas de los sectores sociales LGBTI, y de personas con orientaciones sexuales e identidades de género diversas en Santiago de Cali y se dictan otras disposiciones | AC10: 0401014 | AD10: Boletines Técnicos de la Temática Cultura | AE10: 040101400 | AF10: Boletines Técnicos de la Temática Cultura Producidos | AG10: Número | AI10: 0005-(PE-CCAT) | AJ10: Centro de Ciencia, Arte y Tecnología | AK10: 61020020012 | AL10: 4171_Desarrollo Económico | AM10: =Tabla1[[#This Row],[Códogo PE]]&": "&Tabla1[[#This Row],[Proyecto Estratégico]] -> 0005-(PE-CCAT): Centro de Ciencia, Arte y Tecnología
A11: SGP Primera Infancia | C11: 4135 | D11: Departamento Administrativo de Contratación Pública | F11: 6102006 | G11: Atención integral a poblaciones | I11: 61010020005 | J11: Personas vinculadas a estrategias de promoción de derechos y prevención de las violencias basadas en género | L11: 61020030031-0110 | M11: A diciembre de 2027, se han apoyado 4, iniciativas de turismo de la comuna 1 para el desarrollo local | O11: NO* 2-3101010010102 | P11: NO* 2.3.1.01.01.001.01.02 | Q11: Sueldo básico Directivo Docente | S11: 12200008 | T11: 1.2.2.0.00.08 | U11: Aportes urbanísticos por mayor edificabilidad | W11: 17-Agricultura y desarrollo rural | Y11: Acuerdo 464 de 2019 Por el cual se adopta la política pública de juventudes de santiago de Cali y se dictan otras disposiciones | AC11: 0401015 | AD11: Boletines Técnicos para la temática de servicios | AE11: 040101500 | AF11: Boletines Técnicos Temática Servicio producidos | AG11: Número | AI11: 0006-(PE-CIGRED | AJ11: Centro Integral para la Gestión del Riesgo de Emergencias y Desastres - CIGRED | AK11: 62020020012 | AL11: 4163_Gestión del Riesgo | AM11: =Tabla1[[#This Row],[Códogo PE]]&": "&Tabla1[[#This Row],[Proyecto Estratégico]] -> 0006-(PE-CIGRED: Centro Integral para la Gestión del Riesgo de Emergencias y Desastres - CIGRED
A12: SGP Propósito General Cultura | C12: 4137 | D12: Departamento Administrativo de Desarrollo e Innovación Institucional | F12: 6201001 | G12: Ordenamiento Territorial e Integración Regional | I12: 61010020006 | J12: Casos atendidos en la ruta de riesgo por amenaza (mujeres en riesgo de feminicidio, líderes y lideresas defensores, DD.HH., víctimas del conflicto armado y población vulnerable amenazada en Cali) | L12: 61020010015-0111 | M12: A diciembre de 2027, se ha beneficiado con 4 dotaciones a las sedes educativas oficiales de la comuna 1 | O12: 2-310101001010201 | P12: 2.3.1.01.01.001.01.02.01 | Q12: Sueldo Directivo Docente Csf | S12: 12200009 | T12: 1.2.2.0.00.09 | U12: Expedición de Licencias de funcionamiento de establecimientos educativos para el trabajo y el desarrollo humano | W12: 19-Salud y protección social | Y12: Acuerdo 459 de 2019 Por el cual se adopta la política pública afrocolombiana, negra, palenquera y raizal de santiago de Cali - CaliAfro | AC12: 0401017 | AD12: Boletines Técnicos de la Temática Educación | AE12: 040101700 | AF12: Boletines Técnicos de la Temática Educación Producidos | AG12: Número | AI12: 0007-(PE-CV) | AJ12: Conectividad vial | AK12: 62010030005 | AL12: 4151_Infraestructura | AM12: =Tabla1[[#This Row],[Códogo PE]]&": "&Tabla1[[#This Row],[Proyecto Estratégico]] -> 0007-(PE-CV): Conectividad vial
A13: SGP Propósito General Deporte | C13: 4143 | D13: Secretaría de Educación | F13: 6201002 | G13: Vivienda sostenible, saneamiento básico y servicios públicos | I13: 61010020007 | J13: Personas beneficiadas a través de estrategia para la atención y prevención de violencias basadas en género | L13: 61020010017-0112 | M13: A diciembre de 2027, se ha realizado 2 intervención de adecuación o mantenimiento, en sede educativa pública de la comuna 1 (previo concepto de viabilidad técnica) | O13: 2-310101001010202 | P13: 2.3.1.01.01.001.01.02.02 | Q13: Sueldo Directivo Docente Ssf | S13: 12200010 | T13: 1.2.2.0.00.10 | U13: Fondo de Promoción de la Movilidad Sostenible | W13: 21-Minas y energía | Y13: Decreto 411.2.010.20.0507 de 2017 Por el cual se da cumplimiento a la Sentencia T-291 de 20 de abril de 2009 y Auto A-117 de 6 de mayo de 2014 y se dictan otras disposiciones - política pública de recicladores de oficio | AC13: 0401019 | AD13: Boletines Técnicos de la Temática Industria | AE13: 040101900 | AF13: Boletines Técnicos de la Temática Industria producidos | AG13: Número | AI13: 0007-(PE-CV) | AJ13: Conectividad vial | AK13: 62010030011 | AL13: 4151_Infraestructura | AM13: =Tabla1[[#This Row],[Códogo PE]]&": "&Tabla1[[#This Row],[Proyecto Estratégico]] -> 0007-(PE-CV): Conectividad vial
A14: SGP Propósito General Otros Sectores | C14: 4145 | D14: Secretaría de Salud Pública | F14: 6201003 | G14: Movilidad segura y sostenible | I14: 61010020008 | J14: Personas beneficiadas a través de la promoción de los servicios de acceso a la justicia | L14: 62010010012-0113 | M14: A diciembre de 2027, se ha dotado 1 espacio cultural de la comuna | O14: NO* 2-3101010010103 | P14: NO* 2.3.1.01.01.001.01.03 | Q14: Sueldo básico Administrativo | S14: 12200011 | T14: 1.2.2.0.00.11 | U14: Recursos Convenio Municipio CDAV | W14: 22-Educación | Y14: Acuerdo 549 de 2022 Por el cual se adopta la política pública de turismo de Santiago de Cali 2022 - 2023 y se dictan otras disposiciones | AC14: 0401020 | AD14: Boletines Técnicos de la Temática Mercado Laboral | AE14: 040102000 | AF14: Boletines Técnicos de la Temática Mercado Laboral producidos | AG14: Número | AI14: 0008-(PE-CAJRC) | AJ14: Corredor ambiental del Jarillón del Río Cauca | AK14: 62020010004 | AL14: 4133_DAGMA | AM14: =Tabla1[[#This Row],[Códogo PE]]&": "&Tabla1[[#This Row],[Proyecto Estratégico]] -> 0008-(PE-CAJRC): Corredor ambiental del Jarillón del Río Cauca
C15: 4146 | D15: Secretaría de Bienestar Social | F15: 6201004 | G15: Planificación para el desarrollo | I15: 61010020009 | J15: Niñas y niños de primera infancia con experiencias en juego, lúdica y recreación beneficiados. | L15: 61020030011-0114 | M15: A diciembre de 2027, se han vinculado en procesos de educación informal al sector artístico y cultural a 900 personas de diferentes grupos poblacionales de la comuna | O15: 2-310101001010301 | P15: 2.3.1.01.01.001.01.03.01 | Q15: Sueldo Administrativo | S15: 12200012 | T15: 1.2.2.0.00.12 | U15: Participación en la Plusvalía | W15: 23-Tecnologías de la información y las comunicaciones | Y15: Acuerdo 560 de 2022 Por el cual se adopta la política pública del deporte, la recreación y la actividad física "Cali ciudad deportiva" y se dictan otras disposiciones. | AC15: 0401021 | AD15: Boletines Técnicos de la Temática Pobreza y Condiciones de Vida | AE15: 040102100 | AF15: Boletines Técnicos de la Temática Pobreza y Condiciones de Vida Producidos | AG15: Número | AI15: 0009-(PE-CSDC) | AJ15: CuidARTE - Sistema Distrital de Cuidado | AK15: 61020060006 | AL15: 4146_Bienestar Social | AM15: =Tabla1[[#This Row],[Códogo PE]]&": "&Tabla1[[#This Row],[Proyecto Estratégico]] -> 0009-(PE-CSDC): CuidARTE - Sistema Distrital de Cuidado
A16: SITUACIONES EXCEPCIONALES | C16: 4147 | D16: Secretaría de Vivienda Social y Hábitat | F16: 6202001 | G16: Protección ambiental y mitigación del cambio climático | I16: 61010020010 | J16: Niñas, niños de infancia, adolescencia, juventud y sus cuidadores con experiencias en juego, lúdica y recreación beneficiados . | L16: 61020030004-0115 | M16: A diciembre de 2027, se han realizado 6 eventos artisticos y culturales para promover la identidad y vocación cultural de la comuna | O16: 2-310101001010302 | P16: 2.3.1.01.01.001.01.03.02 | Q16: Incremento Por Antigüedad Administrativo | S16: 12200013 | T16: 1.2.2.0.00.13 | U16: Impuesto de Circulación y Tránsito Sobre Vehículos de Servicio Público - Tradicional | W16: 24-Transporte | Y16: Acuerdo 562 de 2022 Por medio del cual se adopta la política pública de derechos humanos 2022 - 2031 del distrito especial, deportivo, cultural, turístico, empresarial y de servicios de Santiago de Cali y se dictan otras disposiciones | AC16: 0401022 | AD16: Boletines Técnicos de la Temática Precios y Costos | AE16: 040102200 | AF16: Boletines Técnicos de la Temática Precios y Costos producidos | AG16: Número | AI16: 0010-(PE-ECPAZRC) | AJ16: Esquema para consolidar el abastecimiento y comercialización de productos agrícolas de la zona rural de Cali | AK16: 61020050007 | AL16: 4171_Desarrollo Económico | AM16: =Tabla1[[#This Row],[Códogo PE]]&": "&Tabla1[[#This Row],[Proyecto Estratégico]] -> 0010-(PE-ECPAZRC): Esquema para consolidar el abastecimiento y comercialización de productos agrícolas de la zona rural de Cali
A17: Ninguna | C17: 4148 | D17: Secretaría de Cultura | F17: 6202002 | G17: Gestión del Riesgo y Atención de Desastres | I17: 61010020011 | J17: Acciones pedagógicas, artísticas y culturales realizadas para el fortalecimiento de buenas prácticas ciudadanas | L17: 61020010017-0201 | M17: A diciembre de 2027, se ha realizado 10 intervención de adecuación o mantenimiento, en sede educativa pública de la comuna (previo concepto de viabilidad técnica) | O17: NO* 2-31010100102 | P17: NO* 2.3.1.01.01.001.02 | Q17: Horas extras, dominicales, festivos y recargos | S17: 12200014 | T17: 1.2.2.0.00.14 | U17: Otros derechos de Tránsito | W17: 25-Organismos de control | Y17: Acuerdo 501 de 2021 Por el cual se adopta la política pública de salud mental, convivencia social y abordaje del consumo de sustancias psicoactivas en el distrito especial, deportivo, cultural, turístico, empresarial y de servicios de Santiago de Cali "Tejiendo Caleñidad y ciudadanía afectiva" | AC17: 0401023 | AD17: Boletines Técnicos Temática de la Seguridad y Defensa | AE17: 040102300 | AF17: Boletines Técnicos Temática de la Seguridad y Defensa Producidos | AG17: Número | AI17: 0011-(PE-GA) | AJ17: Galería Alameda | AK17: 61020050006 | AL17: 4171_Desarrollo Económico | AM17: =Tabla1[[#This Row],[Códogo PE]]&": "&Tabla1[[#This Row],[Proyecto Estratégico]] -> 0011-(PE-GA): Galería Alameda
A18: Asociadas a fenomenos de origen biologico: plagas, epidemias | C18: 4151 | D18: Secretaría de Infraestructura | F18: 6202003 | G18: Protección animal | I18: 61010020012 | J18: Espacios de mediación, diálogo y reconciliación promovidos | L18: 61020010015-0202 | M18: A diciembre de 2027, se ha beneficiado a 5 sedes educativas oficiales con dotación | O18: 2-3101010010201 | P18: 2.3.1.01.01.001.02.01 | Q18: Horas extras, dominicales, festivos y recargos Docente | S18: 12200015 | T18: 1.2.2.0.00.15 | U18: Participación del impuesto sobre vehículos automotores | W18: 27-Rama judicial | Y18: Acuerdo 568 de 2023 Por el cual se adopta la política pública en cultura ciudadana en Santiago de Cali 2023 - 2032 y se dictan otras disposiciones | AC18: 0401024 | AD18: Boletines Técnicos de la Temática Tecnología e Innovación | AE18: 040102400 | AF18: Boletines Técnicos de la Temática Tecnología e Innovación producidos | AG18: Número | AI18: 0011-(PE-GA) | AJ18: Galería Alameda | AK18: 61020050008 | AL18: 4181_Bienes y Servicios | AM18: =Tabla1[[#This Row],[Códogo PE]]&": "&Tabla1[[#This Row],[Proyecto Estratégico]] -> 0011-(PE-GA): Galería Alameda
A19: Asociadas a fenomenos de origen humano no intencionales: aglomeracion de publico | C19: 4152 | D19: Secretaría de Movilidad | F19: 6301001 | G19: Ciudadanía activa | I19: 61010020013 | J19: Iniciativas de promoción de la Cultura Ciudadana, la paz, la reconciliación y la Justicia Comunitaria y Restaurativa apoyadas o creadas | L19: 62010040006-0203 | M19: A diciembre de 2027, se han capacitado 100 personas en conociemiento ambiental en el marco de la Política Pública de Educacón Ambiental | O19: 2-3101010010202 | P19: 2.3.1.01.01.001.02.02 | Q19: Horas extras, dominicales, festivos y recargos Directivo Docente | S19: 12200016 | T19: 1.2.2.0.00.16 | U19: Cobros por Estacionamiento en Espacio Público o en Lotes de Parqueo | W19: 28-Registraduría | Y19: Acuerdo 565 de 2023 Por el cual se adopta la política pública de ciencia, tecnología e innovación y se dictan otras disposiciones. | AC19: 0401026 | AD19: Cuadros de resultados para la temática agropecuaria | AE19: 040102600 | AF19: Cuadros de resultados para la temática agropecuaria producidos | AG19: Número | AI19: 0012-(PE-HT) | AJ19: Hub de Tecnología | AK19: 61020020013 | AL19: 4171_Desarrollo Económico | AM19: =Tabla1[[#This Row],[Códogo PE]]&": "&Tabla1[[#This Row],[Proyecto Estratégico]] -> 0012-(PE-HT): Hub de Tecnología
A20: Asociadas a fenomenos de origen natural: atmosfericos, hidrologicos, geologicos, otros. | C20: 4161 | D20: Secretaría de Seguridad y Justicia | F20: 6301002 | G20: Gobierno abierto | I20: 61010020014 | J20: Instancias Territoriales de Promoción de la Cultura Ciudadana, Derechos Humanos y Construcción de Paz fortalecidas | L20: 63010020005-0204 | M20: A diciembre de 2027, se ha implementado 1 (una) Plataforma tecnológica de monitoreo ambiental y en operación. | O20: 2-3101010010203 | P20: 2.3.1.01.01.001.02.03 | Q20: Horas extras, dominicales, festivos y recargos Administrtivo | S20: 12200017 | T20: 1.2.2.0.00.17 | U20: Sobretasa Gasol malla vial | W20: 29-Fiscalía | Y20: Ley 1448 de 2011 Política pública para la atención integral a víctimas del comflicto armado | AC20: 0401029 | AD20: Cuadros de resultados para la temática de comercio interno | AE20: 040102900 | AF20: Cuadros de Resultados Temática Comercio Interno producidos | AG20: Número | AI20: 0013-(PE-MEUDA) | AJ20: Multicampus Educativo y Universidad del Distrito de Aguablanca | AK20: 61020010013 | AL20: 4143_Educación | AM20: =Tabla1[[#This Row],[Códogo PE]]&": "&Tabla1[[#This Row],[Proyecto Estratégico]] -> 0013-(PE-MEUDA): Multicampus Educativo y Universidad del Distrito de Aguablanca
A21: Asociadas a fenomenos de origen socianatural: inundaciones, movimientos en masa, incedios forestales. | C21: 4162 | D21: Secretaría del Deporte y la Recreación | F21: 6302001 | G21: Fortalecimiento institucional | I21: 61010020015 | J21: Personas que participan en procesos pedagógicos de derechos humanos, cultura ciudadana y construcción de paz | L21: 62020010013-0205 | M21: A diciembre de 2027, se han adecuado o rehabilitado 6 parques y zonas verdes para la conservación ambiental de la comuna. | O21: NO* 2-31010100104 | P21: NO* 2.3.1.01.01.001.04 | Q21: Subsidio de alimentación | S21: 12200018 | T21: 1.2.2.0.00.18 | U21: Sobt gasol 97%(15%) S.I.T.M. | W21: 32-Ambiente y desarrollo sostenible | Y21: Resolución 2063 de 2017 Por la cual se adopta la Política de participación social en salud - PPSS | AC21: 0401031 | AD21: Cuadros de resultados para la temática de cultura | AE21: 040103100 | AF21: Cuadros de resultados para la temática de cultura producidos | AG21: Número | AI21: 0014-(PE-NSAREC) | AJ21: Nuevo sistema de acueducto para atender la redensificación o la expansión de Cali | AK21: 62010040012 | AL21: 5104_EMCALI | AM21: =Tabla1[[#This Row],[Códogo PE]]&": "&Tabla1[[#This Row],[Proyecto Estratégico]] -> 0014-(PE-NSAREC): Nuevo sistema de acueducto para atender la redensificación o la expansión de Cali
A22: Asociadas a fenomenos de origen tecnologico: quimicos, electricos, mecoanicos, termicos. | C22: 4163 | D22: Secretaría de Gestión del Riesgo de Emergencias y Desastres | F22: 6302002 | G22: Trámites rápidos y sin complicaciones | I22: 61010020016 | J22: Política pública de Barrismo formulada y presentada | L22: 61020020016-0206 | M22: A diciembre de 2027, se han fortalecido 300 personas del ecosistema empresarial. | O22: 2-3101010010401 | P22: 2.3.1.01.01.001.04.01 | Q22: Subsidio de alimentación Docente | S22: 12200019 | T22: 1.2.2.0.00.19 | U22: Impuesto a la Telefonía Urbana | W22: 33-Cultura | AC22: 0401032 | AD22: Cuadros de resultados para la temática de demografía y población | AE22: 040103200 | AF22: Cuadros de resultados para la temática de demografía y población producidos | AG22: Número | AI22: 0015-(PE-PPS50) | AJ22: Parque Predio SAE en La 50 | AK22: 62010010014 | AL22: 4162_Deporte y la Recreación | AM22: =Tabla1[[#This Row],[Códogo PE]]&": "&Tabla1[[#This Row],[Proyecto Estratégico]] -> 0015-(PE-PPS50): Parque Predio SAE en La 50
A23: Otras | C23: 4164 | D23: Secretaría de Paz y Cultura Ciudadana | I23: 61010020017 | J23: Política pública de Reconciliación para la Paz formulada | L23: 61020020018-0207 | M23: A diciembre de 2027, se han formado 300 personas de la Comuna en competencias laborales para cierre de brechas. | O23: 2-3101010010402 | P23: 2.3.1.01.01.001.04.02 | Q23: Subsidio de alimentación Directivo Docente | S23: 12200025 | T23: 1.2.2.0.00.25 | U23: Contribución fondo especial de intervenidas | W23: 35-Comercio, industria y turismo | AC23: 0401033 | AD23: Cuadros de Resultados temática Educación | AE23: 040103300 | AF23: Cuadros de Resultados temática Educación producidos | AG23: Número | AI23: 0016-(PE-PJAR) | AJ23: Paseo de Jovita al Río | AK23: 62010030001 | AL23: 4151_Infraestructura | AM23: =Tabla1[[#This Row],[Códogo PE]]&": "&Tabla1[[#This Row],[Proyecto Estratégico]] -> 0016-(PE-PJAR): Paseo de Jovita al Río
C24: 4171 | D24: Secretaría de Desarrollo Económico | I24: 61010030001 | J24: Adolescentes y/o jóvenes vinculados al Sistema de Responsabilidad Penal atendidos en programas de justicia juvenil restaurativa y terapéutica | L24: 61020030031-0208 | M24: A diciembre de 2027, se han apoyado 4 iniciativas de turismo de la comuna para el desarrollo local | O24: 2-3101010010403 | P24: 2.3.1.01.01.001.04.03 | Q24: Subsidio de alimentación Administrativo | S24: 12200027 | T24: 1.2.2.0.00.27 | U24: Contribución por el servicio de parqueadero o de estacionamiento en vía | W24: 36-Trabajo | AC24: 0401035 | AD24: Cuadros de resultados para la temática de industria | AE24: 040103500 | AF24: Cuadros de resultados para la temática de industria producidos | AG24: Número | AI24: 0017-(PE-PEMPGSE) | AJ24: Plan Especial de Manejo y Protección de la Galería Santa Elena | AK24: 61020050006 | AL24: 4171_Desarrollo Económico | AM24: =Tabla1[[#This Row],[Códogo PE]]&": "&Tabla1[[#This Row],[Proyecto Estratégico]] -> 0017-(PE-PEMPGSE) : Plan Especial de Manejo y Protección de la Galería Santa Elena
A25: GRUPOS VULNERABLES | C25: 4172 | D25: Secretaría de Turismo | I25: 61010030002 | J25: Jóvenes atendidos con enfoque diferencial, territorial y de género en estrategias de prevención social de la violencia | L25: 61020060011-0209 | M25: A diciembre de 2027, se han beneficiado 300 personas con discapacidad, sus familias y cuidadores con servicios de atención integral en la comuna | O25: NO* 2-31010100105 | P25: NO* 2.3.1.01.01.001.05 | Q25: Auxilio de transporte | S25: 12200028 | T25: 1.2.2.0.00.28 | U25: Contraprestaciones por el uso del espacio público | W25: 37-Interior | AC25: 0401036 | AD25: Cuadros de resultados para la temática de mercado laboral | AE25: 040103600 | AF25: Cuadros de Resultados temática Mercado Laboral producidos | AG25: Número | AI25: 0017-(PE-PEMPGSE) | AJ25: Plan Especial de Manejo y Protección de la Galería Santa Elena | AK25: 61020050008 | AL25: 4181_Bienes y Servicios | AM25: =Tabla1[[#This Row],[Códogo PE]]&": "&Tabla1[[#This Row],[Proyecto Estratégico]] -> 0017-(PE-PEMPGSE) : Plan Especial de Manejo y Protección de la Galería Santa Elena
A26: Niños, Niñas, Adolecentes y Jóvenes | C26: 4173 | D26: Secretaría de Desarrollo Territorial y Participación Ciudadana | I26: 61010030003 | J26: Personas vinculadas a programas de construcción de paz y promoción de la cultura ciudadana para la generación de oportunidades | L26: 61020060015-0210 | M26: A diciembre de 2027, se han beneficiado 300 personas mayores con servicios de atención integral en la comuna | O26: 2-3101010010501 | P26: 2.3.1.01.01.001.05.01 | Q26: Auxilio de transporte Docente | S26: 12200029 | T26: 1.2.2.0.00.29 | U26: Sobretasa Gasolina S.I.T.M. MIO | W26: 39-Ciencia, tecnología e innovación | AC26: 0401037 | AD26: Cuadros de resultados para la temática de pobreza y condiciones de vida | AE26: 040103700 | AF26: Cuadros de resultados para la temática de pobreza y condiciones de vida producidos | AG26: Número | AI26: 0018-(PE-PF) | AJ26: Plan Farallones | AK26: 62020010020 | AL26: 4161_Seguridad y Justicia | AM26: =Tabla1[[#This Row],[Códogo PE]]&": "&Tabla1[[#This Row],[Proyecto Estratégico]] -> 0018-(PE-PF): Plan Farallones
A27: Adulto Mayor | C27: 4181 | D27: Unidad Administrativa Especial de Gestión de Bienes y Servicios | I27: 61010040001 | J27: Espacios generados para la consolidación del sistema local de justicia de Cali | L27: 61010030002-0211 | M27: A diciembre de 2027, se han atendido 60 personas en estrategias de prevención social de la violencia | O27: 2-3101010010502 | P27: 2.3.1.01.01.001.05.02 | Q27: Auxilio de transporte Directivo Docente | S27: 123101 | T27: 1.2.3.1.01 | U27: Sobretasa / participación ambiental - Corporaciones Autónomas Regionales | W27: 40-Vivienda, ciudad y territorio | AC27: 0401038 | AD27: Cuadros de resultados para la temática de precios y costos | AE27: 040103800 | AF27: Cuadros de resultados para la temática de precios y costos producidos | AG27: Número | AI27: 0019-(PE-PRCD) | AJ27: Planta Residuos de Construcción y Demolición | AK27: 62020010023 | AL27: 4182_UAESP | AM27: =Tabla1[[#This Row],[Códogo PE]]&": "&Tabla1[[#This Row],[Proyecto Estratégico]] -> 0019-(PE-PRCD): Planta Residuos de Construcción y Demolición
A28: Víctimas | C28: 4182 | D28: Unidad Administrativa Especial de Servicios Públicos | I28: 61010040002 | J28: Estrategias de fortalecimiento a funciones operativas, forenses, investigación y judicialización de las agencias de seguridad implementadas | L28: 62010010014-0212 | M28: A diciembre de 2027, se ha realizado 6 intervenciones de adecuación o mantenimiento a escenarios deportivos y recreativos de la comuna (previo concepto técnico). | O28: 2-3101010010503 | P28: 2.3.1.01.01.001.05.03 | Q28: Auxilio de transporte Administrativo | S28: 12310301 | T28: 1.2.3.1.03.01 | U28: Impuesto de Circulación y Tránsito Sobre Vehículos de Servicio Público - S.I.T.MIO | W28: 41-Inclusión social y reconciliación | AC28: 0401039 | AD28: Cuadros de resultados para la temática de salud | AE28: 040103900 | AF28: Cuadros de Resultados temática Salud producidos | AG28: Número | AI28: 0020-(PE-PC) | AJ28: PTAR Cañaveralejo | AK28: 62010020010 | AL28: 5104_EMCALI | AM28: =Tabla1[[#This Row],[Códogo PE]]&": "&Tabla1[[#This Row],[Proyecto Estratégico]] -> 0020-(PE-PC): PTAR Cañaveralejo
A29: Discapacidad | C29: 4183 | D29: Unidad Administrativa Especial de Protección Animal | I29: 61010040003 | J29: Estrategias implementadas para la gestión territorial de la seguridad y convivencia | L29: 61020030022-0213 | M29: A diciembre de 2027, se han vinculado 1500 Niñas, niños, adolescentes, jóvenes, adultos y adultos mayores (incluidos con discapacidad) a actividades deportivas y aprovechamiento del tiempo libre. | O29: NO* 2-31010100106 | P29: NO* 2.3.1.01.01.001.06 | Q29: Prima de servicio | S29: 12310302 | T29: 1.2.3.1.03.02 | U29: Impuesto de Circulación y Tránsito Sobre Vehículos de Servicio Público - Tradicional | W29: 42-Inteligencia | AC29: 0401040 | AD29: Cuadros de resultados para la temática de seguridad y defensa | AE29: 040104000 | AF29: Cuadros de resultados para la temática de seguridad y defensa producidos | AG29: Número | AI29: 0021-(PE-PS) | AJ29: PTAR sur | AK29: 62010020010 | AL29: 5104_EMCALI | AM29: =Tabla1[[#This Row],[Códogo PE]]&": "&Tabla1[[#This Row],[Proyecto Estratégico]] -> 0021-(PE-PS): PTAR sur
A30: Mujeres | I30: 61010040004 | J30: Estudios técnicos en seguridad y convivencia realizados | L30: 61020030017-0214 | M30: A diciembre de 2027 se han realizado 4 eventos deportivos y recreativos en la comuna. | O30: 2-3101010010601 | P30: 2.3.1.01.01.001.06.01 | Q30: Prima de servicio Docente | S30: 12310501 | T30: 1.2.3.1.05.01 | U30: Impuesto de Alumbrado Público - Predio Lotes | W30: 43-Deporte y recreación | AC30: 0401041 | AD30: Cuadros de resultados para la temática de servicios | AE30: 040104100 | AF30: Cuadros de resultados para la temática de Servicio producidos | AG30: Número | AI30: 0022-(PE-RIAP) | AJ30: Red inteligente de alumbrado público | AK30: 61010010002 | AL30: 4182_UAESP | AM30: =Tabla1[[#This Row],[Códogo PE]]&": "&Tabla1[[#This Row],[Proyecto Estratégico]] -> 0022-(PE-RIAP): Red inteligente de alumbrado público
A31: Etnias | I31: 61010040005 | J31: Infraestructura de seguridad y justicia mejorada | L31: 61020020016-0301 | M31: A diciembre de 2027, se han fortalecido 400 personas del ecosistema empresarial. | O31: 2-3101010010602 | P31: 2.3.1.01.01.001.06.02 | Q31: Prima de servicio Directivo Docente | S31: 12310502 | T31: 1.2.3.1.05.02 | U31: Impuesto de Alumbrado Público EMCALI y Otros Comercializadores | W31: 44-Sistema integral de verdad, justicia, reparación y no repetición | AC31: 0401042 | AD31: Cuadros de resultados para la temática de tecnología e innovación | AE31: 040104200 | AF31: Cuadros de Resultados temática Tecnología e Innovación producidos | AG31: Número | AI31: 0022-(PE-RIAP) | AJ31: Red inteligente de alumbrado público | AK31: 61010010004 | AL31: 4182_UAESP | AM31: =Tabla1[[#This Row],[Códogo PE]]&": "&Tabla1[[#This Row],[Proyecto Estratégico]] -> 0022-(PE-RIAP): Red inteligente de alumbrado público
A32: Equidad de Genero | I32: 61010040006 | J32: Personas beneficiadas con estrategia para la atención y garantía de derechos de la población privada de la libertad | L32: 61020020018-0302 | M32: A diciembre de 2027, se han formado 150 personas del corregimiento en competencias laborales para cierre de brechas. | O32: 2-3101010010603 | P32: 2.3.1.01.01.001.06.03 | Q32: Prima de servicio Administrativo | S32: 12310503 | T32: 1.2.3.1.05.03 | U32: Alumb Acdo 357 (10% navideño) | W32: 45-Gobierno territorial | AC32: 0401043 | AD32: Cuadros de resultados para la temática de transporte | AE32: 040104300 | AF32: Cuadros de resultados para la temática de transporte producidos | AG32: Número | AI32: 0023-(PE-RCH) | AJ32: Renovación del centro histórico | AK32: 62010030001 | AL32: 4151_Infraestructura | AM32: =Tabla1[[#This Row],[Códogo PE]]&": "&Tabla1[[#This Row],[Proyecto Estratégico]] -> 0023-(PE-RCH): Renovación del centro histórico
I33: 61010040007 | J33: Política Pública de Seguridad y Convivencia Ciudadana formulada y presentada | L33: 63010010006-0303 | M33: A diciembre de 2027, se han intervenido 4 sedes comunales de propiedad del Distrito. | O33: NO* 2-31010100107 | P33: NO* 2.3.1.01.01.001.07 | Q33: Bonificación por servicios prestados | S33: 12310504 | T33: 1.2.3.1.05.04 | U33: Impuesto de Alumbrado Público Liquidación Directa | AC33: 0401060 | AD33: Cuadros de Resultados para la temática construcción | AE33: 040106000 | AF33: Cuadros de Resultados para la temática construcción Producidos | AG33: Número | AI33: 0024-(PE-RMPU) | AJ33: Renovación y mejora de parques urbanos | AK33: 62020010013 | AL33: 4133_DAGMA | AM33: =Tabla1[[#This Row],[Códogo PE]]&": "&Tabla1[[#This Row],[Proyecto Estratégico]] -> 0024-(PE-RMPU): Renovación y mejora de parques urbanos
A34: ESTRATÉGICOS | I34: 61010040008 | J34: Subsistema de videovigilancia fortalecido y funcionando | L34: 61010020011-0304 | M34: A diciembre de 2027, se han realizado 4 acciones pedagógicas, artísticas y culturales para el fortalecimiento de buenas prácticas de Cultura Ciudadana en la comuna | O34: 2-3101010010701 | P34: 2.3.1.01.01.001.07.01 | Q34: Bonificación por servicios prestados Docente | S34: 123112 | T34: 1.2.3.1.12 | U34: Impuesto de espectáculos públicos nacional con destino al deporte | AC34: 0401061 | AD34: Bases de datos de la Temática Agropecuaria | AE34: 040106100 | AF34: Bases de datos de la Temática Agropecuaria Generadas | AG34: Número | AI34: 0025-(PE-RTM) | AJ34: Restauración del Teatro Municipal | AK34: 62010010011 | AL34: 4148_Cultura | AM34: =Tabla1[[#This Row],[Códogo PE]]&": "&Tabla1[[#This Row],[Proyecto Estratégico]] -> 0025-(PE-RTM): Restauración del Teatro Municipal
A35: 0001-(PE-ASITM): Ampliación del Sistema Integrado de Transporte Masivo MIO | I35: 61020010001 | J35: Personas formadas en el uso y apropiación de tecnologías de la información y las comunicaciones (TIC) en el Distrito de Santiago de Cali | L35: 61020030022-0305 | M35: A diciembre de 2027, se han vinculado 1890 Niñas, niños, adolescentes, jóvenes, adultos y adultos mayores (incluidos con discapacidad) a actividades deportivas y aprovechamiento del tiempo libre. | O35: 2-3101010010702 | P35: 2.3.1.01.01.001.07.02 | Q35: Bonificación por servicios prestados Directivo Docente | S35: 123114 | T35: 1.2.3.1.14 | U35: Sobretasa Bomberil | AC35: 0401062 | AD35: Bases de datos de la Temática Ambiental | AE35: 040106200 | AF35: Bases de datos de la Temática Ambiental Generadas | AG35: Número | AI35: 0026-(PE-RIESL) | AJ35: Restauración Institución Educativa Santa Librada | AK35: 61020010016 | AL35: 4143_Educación | AM35: =Tabla1[[#This Row],[Códogo PE]]&": "&Tabla1[[#This Row],[Proyecto Estratégico]] -> 0026-(PE-RIESL): Restauración Institución Educativa Santa Librada
A36: 0002-(PE- BAS): Bulevar de la avenida sexta | I36: 61020010002 | J36: Observatorio de educación en operación | L36: 61020030017-0306 | M36: A diciembre de 2027 se han realizado 7 eventos deportivos y recreativos en la comuna | O36: 2-3101010010703 | P36: 2.3.1.01.01.001.07.03 | Q36: Bonificación por servicios prestados Administrativo | S36: 12311401 | T36: 1.2.3.1.14.01 | U36: Impuesto de Alumbrado Público - Predio Lotes | AC36: 0401064 | AD36: Bases de datos de la Temática de Comercio Interno | AE36: 040106400 | AF36: Bases de datos de la Temática de Comercio interno Generadas | AG36: Número | AI36: 0027-(PE-RSBO) | AJ36: Ruta de la Salsa del Barrio Obrero | AK36: 61020030005 | AL36: 4148_Cultura | AM36: =Tabla1[[#This Row],[Códogo PE]]&": "&Tabla1[[#This Row],[Proyecto Estratégico]] -> 0027-(PE-RSBO): Ruta de la Salsa del Barrio Obrero
A37: 0003-(PE-CF): Canal Figueroa | I37: 61020010003 | J37: Establecimientos educativos en operación | L37: 61020030011-0307 | M37: A diciembre de 2027, se han vinculado en procesos de educación informal del sector artistico y cultural a 1442 personas de diferentes grupos poblacionales de la comuna | O37: NO* 2-31010100108 | P37: NO* 2.3.1.01.01.001.08 | Q37: Prestaciones sociales | S37: 12311402 | T37: 1.2.3.1.14.02 | U37: Impuesto de Alumbrado Público EMCALI y Otros Comercializadores | AC37: 0401065 | AD37: Bases de datos de la Temática de Construcción | AE37: 040106500 | AF37: Bases de datos de la Temática de Construcción Generadas | AG37: Número | AI37: 0028-(PE-SENA) | AJ37: SENA - campus centro | AK37: 61020020018 | AL37: 4171_Desarrollo Económico | AM37: =Tabla1[[#This Row],[Códogo PE]]&": "&Tabla1[[#This Row],[Proyecto Estratégico]] -> 0028-(PE-SENA): SENA - campus centro
A38: 0004-(PE-CAR): Centro de Alto Rendimiento | I38: 61020010004 | J38: Estudiantes atendidos a través de Metodologías Educativas Flexibles para la población en extraedad, educación formal de jóvenes y adultos y apoyo académico especial y emocional | L38: 61020030004-0308 | M38: A diciembre de 2027, se han realizado 7 eventos artísticos y culturales para promover la identidad y vocación cultural de la comuna | O38: NO* 2-3101010010801 | P38: NO* 2.3.1.01.01.001.08.01 | Q38: Prima de navidad | S38: 12311403 | T38: 1.2.3.1.14.03 | U38: Alumb Acdo 357 (10% navideño) | AC38: 0401066 | AD38: Bases de datos de la Temática de Cultura | AE38: 040106600 | AF38: Bases de datos de la Temática de Cultura Generadas | AG38: Número | AI38: 0029-(PE-TDC) | AJ38: Tren de Cercanías | AK38: 62010040005 | AL38: 4132_Planeación | AM38: =Tabla1[[#This Row],[Códogo PE]]&": "&Tabla1[[#This Row],[Proyecto Estratégico]] -> 0029-(PE-TDC): Tren de Cercanías
A39: 0005-(PE-CCAT): Centro de Ciencia, Arte y Tecnología | I39: 61020010005 | J39: Estudiantes de las IEO con apoyo financiero para el ingreso y permanencia a programas técnicos, técnico profesional, tecnólogicos y/o profesional | L39: 61020010017-0309 | M39: A diciembre de 2027, se ha realizado 9 intervención de adecuación o mantenimiento en sedes educativa pública de la comuna (previo concepto de viabilidad técnica) | O39: 2-310101001080101 | P39: 2.3.1.01.01.001.08.01.01 | Q39: Prima de Navidad Docente | S39: 12311404 | T39: 1.2.3.1.14.04 | U39: Impuesto de Alumbrado Público Liquidación Directa | AC39: 0401068 | AD39: Bases de datos de la Temática de Educación | AE39: 040106800 | AF39: Bases de datos de la Temática de Educación Generadas | AG39: Número | AI39: 0029-(PE-TDC) | AJ39: Tren de Cercanías | AK39: 62010030004 | AL39: 4151_Infraestructura | AM39: =Tabla1[[#This Row],[Códogo PE]]&": "&Tabla1[[#This Row],[Proyecto Estratégico]] -> 0029-(PE-TDC): Tren de Cercanías
A40: 0006-(PE-CIGRED): Centro Integral para la Gestión del Riesgo de Emergencias y Desastres - CIGRED | I40: 61020010006 | J40: Estudiantes de las Instituciones Educativas Oficiales beneficiados con estrategia de Transporte Escolar. | L40: 61020020016-0401 | M40: A diciembre de 2027, se han fortalecido 480 personas del ecosistema empresarial. | O40: 2-310101001080102 | P40: 2.3.1.01.01.001.08.01.02 | Q40: Prima de Navidad Directivo Docente | S40: 123115 | T40: 1.2.3.1.15 | U40: Sobretasa bomberil | AC40: 0401069 | AD40: Bases de datos de la Temática de Gobierno | AE40: 040106900 | AF40: Bases de datos de la Temática de Gobierno Generadas | AG40: Número | AI40: 0029-(PE-TDC) | AJ40: Tren de Cercanías | AK40: 62010030010 | AL40: 4151_Infraestructura | AM40: =Tabla1[[#This Row],[Códogo PE]]&": "&Tabla1[[#This Row],[Proyecto Estratégico]] -> 0029-(PE-TDC): Tren de Cercanías
...

Sheet  ACTIVIDADES PPTO PROYECTADA
A8: Código BP | B8: BP-26005396 | D8: Código BPIN | F8: 2024760010098 | I8: Versión PPM: | K8: VER03BP-26005396 | N8: Vigencia | P8: 2025 | R8: Meta PDD CC | W8: Programa PDD | X8: 6301001 | AB8: Código BP | AC8: BP-26005396 | AE8: Código BPIN | AG8: 2024760010098 | AJ8: Versión PPM: | AL8: VER04BP-26005396 | AO8: Vigencia | AQ8: 2025 | AS8: Meta PDD CC | AX8: Programa PDD | AY8: 6301001 | BD8: Código BP | BE8: BP-26005396 | BG8: Código BPIN | BI8: 2024760010098 | BL8: Versión PPM: | BN8: VER05BP-26005396 | BQ8: Vigencia | BS8: 2025 | BU8: Meta PDD CC | BZ8: Programa PDD | CA8: 6301001 | CF8: Código BP | CG8: BP-26005396 | CI8: Código BPIN | CK8: 2024760010098 | CN8: Versión PPM: | CP8: VER06BP-26005396 | CS8: Vigencia | CU8: 2025 | CW8: Meta PDD CC | DB8: Programa PDD | DC8: 6301001 | DL8: Código BP | DM8: BP-26005396 | DO8: Código BPIN | DQ8: 2024760010098 | DT8: Versión PPM: | DV8: VER07BP-26005396 | DY8: Vigencia | EA8: 2025 | EC8: Meta PDD CC | EH8: Programa PDD | EI8: 6301001 | EM8: Código BP | EN8: BP-26005396 | EP8: Código BPIN | ER8: 2024760010098 | EU8: Versión PPM: | EW8: VER09BP-26005396 | EZ8: Vigencia | FB8: 2025 | FD8: Meta PDD CC | FI8: Programa PDD | FJ8: 6301001 | FN8: Código BP | FO8: BP-26005396 | FQ8: Código BPIN | FS8: 2024760010098 | FV8: Versión PPM: | FX8: VER10BP-26005396 | GA8: Vigencia | GC8: 2025 | GE8: Meta PDD CC | GJ8: Programa PDD | GK8: 6301001 | GO8: Código BP | GP8: BP-26005396 | GR8: Código BPIN | GT8: 2024760010098 | GW8: Versión PPM: | GY8: VER11BP-26005396 | HB8: Vigencia | HD8: 2025 | HF8: Meta PDD CC | HK8: Programa PDD | HL8: 6301001 | HP8: Código BP | HQ8: BP-26005396 | HS8: Código BPIN | HU8: 2024760010098 | HX8: Versión PPM: | HZ8: 000 | IC8: Vigencia | IE8: 2025 | IG8: Meta PDD CC | IL8: Programa PDD | IM8: 6301001
I9: Versión PS: | K9: 000 | N9: Población Objetivo | P9: 11800 | X9: =IF(X8=""," ",VLOOKUP(X8,[1]Listados!$F$1:$G$65536,2,0)) -> Ciudadanía activa | AJ9: Versión PS: | AL9: 26005396V002 | AO9: Población Objetivo | AQ9: 11800 | AY9: =IF(AY8=""," ",VLOOKUP(AY8,[1]Listados!$F$1:$G$65536,2,0)) -> Ciudadanía activa | BL9: Versión PS: | BN9: 26005396V003 | BQ9: Población Objetivo | BS9: 11800 | CA9: =IF(CA8=""," ",VLOOKUP(CA8,[1]Listados!$F$1:$G$65536,2,0)) -> Ciudadanía activa | CN9: Versión PS: | CP9: 26005396V004 | CS9: Población Objetivo | CU9: 11800 | DC9: =IF(DC8=""," ",VLOOKUP(DC8,Listados!$F:$G,2,0)) -> Ciudadanía activa | DT9: Versión PS: | DV9: 000 | DY9: Población Objetivo | EA9: 11800 | EI9: =IF(EI8=""," ",VLOOKUP(EI8,Listados!$F:$G,2,0)) -> Ciudadanía activa | EU9: Versión PS: | EW9: 26005396V008 | EZ9: Población Objetivo | FB9: 11800 | FJ9: =IF(FJ8=""," ",VLOOKUP(FJ8,Listados!$F:$G,2,0)) -> Ciudadanía activa | FV9: Versión PS: | FX9: 26005396V009 | GA9: Población Objetivo | GC9: 11800 | GK9: =IF(GK8=""," ",VLOOKUP(GK8,Listados!$F:$G,2,0)) -> Ciudadanía activa | GW9: Versión PS: | GY9: 26005396V010 | HB9: Población Objetivo | HD9: 11800 | HL9: =IF(HL8=""," ",VLOOKUP(HL8,Listados!$F:$G,2,0)) -> Ciudadanía activa | HX9: Versión PS: | HZ9: 000 | IC9: Población Objetivo | IE9: 11800 | IM9: =IF(IM8=""," ",VLOOKUP(IM8,Listados!$F:$G,2,0)) -> Ciudadanía activa
A10: Nombre del Proyecto | B10: FORTALECIMIENTO DE LA GOBERNANZA TERRITORIAL EN PARTICIPACIÓN CIUDADANA EN SANTIAGO DE CALI. | I10: Centro Gestor | K10: 4173 | L10: =IF(K10=""," ",VLOOKUP(K10,[1]Listados!$C$1:$D$65536,2,0)) -> Secretaría de Desarrollo Territorial y Participación Ciudadana | R10: Denominación Meta PDD CC | W10: Validador Programa PDD | AB10: Nombre del Proyecto | AC10: FORTALECIMIENTO DE LA GOBERNANZA TERRITORIAL EN PARTICIPACIÓN CIUDADANA EN SANTIAGO DE CALI. | AJ10: Centro Gestor | AL10: 4173 | AM10: =IF(AL10=""," ",VLOOKUP(AL10,[1]Listados!$C$1:$D$65536,2,0)) -> Secretaría de Desarrollo Territorial y Participación Ciudadana | AS10: Denominación Meta PDD CC | AX10: Validador Programa PDD | BD10: Nombre del Proyecto | BE10: FORTALECIMIENTO DE LA GOBERNANZA TERRITORIAL EN PARTICIPACIÓN CIUDADANA EN SANTIAGO DE CALI. | BL10: Centro Gestor | BN10: 4173 | BO10: =IF(BN10=""," ",VLOOKUP(BN10,[1]Listados!$C$1:$D$65536,2,0)) -> Secretaría de Desarrollo Territorial y Participación Ciudadana | BU10: Denominación Meta PDD CC | BZ10: Validador Programa PDD | CF10: Nombre del Proyecto | CG10: FORTALECIMIENTO DE LA GOBERNANZA TERRITORIAL EN PARTICIPACIÓN CIUDADANA EN SANTIAGO DE CALI. | CN10: Centro Gestor | CP10: 4173 | CQ10: =IF(CP10=""," ",VLOOKUP(CP10,Listados!$C:$D,2,0)) -> Secretaría de Desarrollo Territorial y Participación Ciudadana | CW10: Denominación Meta PDD CC | DB10: Validador Programa PDD | DL10: Nombre del Proyecto | DM10: FORTALECIMIENTO DE LA GOBERNANZA TERRITORIAL EN PARTICIPACIÓN CIUDADANA EN SANTIAGO DE CALI. | DT10: Centro Gestor | DV10: 4173 | DW10: =IF(DV10=""," ",VLOOKUP(DV10,Listados!$C:$D,2,0)) -> Secretaría de Desarrollo Territorial y Participación Ciudadana | EC10: Denominación Meta PDD CC | EH10: Validador Programa PDD | EM10: Nombre del Proyecto | EN10: FORTALECIMIENTO DE LA GOBERNANZA TERRITORIAL EN PARTICIPACIÓN CIUDADANA EN SANTIAGO DE CALI. | EU10: Centro Gestor | EW10: 4173 | EX10: =IF(EW10=""," ",VLOOKUP(EW10,Listados!$C:$D,2,0)) -> Secretaría de Desarrollo Territorial y Participación Ciudadana | FD10: Denominación Meta PDD CC | FI10: Validador Programa PDD | FN10: Nombre del Proyecto | FO10: FORTALECIMIENTO DE LA GOBERNANZA TERRITORIAL EN PARTICIPACIÓN CIUDADANA EN SANTIAGO DE CALI. | FV10: Centro Gestor | FX10: 4173 | FY10: =IF(FX10=""," ",VLOOKUP(FX10,Listados!$C:$D,2,0)) -> Secretaría de Desarrollo Territorial y Participación Ciudadana | GE10: Denominación Meta PDD CC | GJ10: Validador Programa PDD | GO10: Nombre del Proyecto | GP10: FORTALECIMIENTO DE LA GOBERNANZA TERRITORIAL EN PARTICIPACIÓN CIUDADANA EN SANTIAGO DE CALI. | GW10: Centro Gestor | GY10: 4173 | GZ10: =IF(GY10=""," ",VLOOKUP(GY10,Listados!$C:$D,2,0)) -> Secretaría de Desarrollo Territorial y Participación Ciudadana | HF10: Denominación Meta PDD CC | HK10: Validador Programa PDD | HP10: Nombre del Proyecto | HQ10: FORTALECIMIENTO DE LA GOBERNANZA TERRITORIAL EN PARTICIPACIÓN CIUDADANA EN SANTIAGO DE CALI. | HX10: Centro Gestor | HZ10: 4173 | IA10: =IF(HZ10=""," ",VLOOKUP(HZ10,Listados!$C:$D,2,0)) -> Secretaría de Desarrollo Territorial y Participación Ciudadana | IG10: Denominación Meta PDD CC | IL10: Validador Programa PDD
R11: =IF(R9=""," ",VLOOKUP(R9,[1]Listados!$L$1:$M$65536,2,0)) | W11: {=IF(AND(COUNTIF(O14:O49, "<>")>0, SUMPRODUCT((ISNUMBER(VALUE(IFERROR(O14:O49, ""))))*(LEN(O14:O49)=11)*(LEFT(O14:O49, 7)=$X$8&""))=COUNTA(O14:O49)), "CORRECTO", "REVISAR META PDD")} -> CORRECTO | AS11: =IF(AS9=""," ",VLOOKUP(AS9,[1]Listados!$L$1:$M$65536,2,0)) | AX11: {=IF(AND(COUNTIF(AP14:AP49, "<>")>0, SUMPRODUCT((ISNUMBER(VALUE(IFERROR(AP14:AP49, ""))))*(LEN(AP14:AP49)=11)*(LEFT(AP14:AP49, 7)=$X$8&""))=COUNTA(AP14:AP49)), "CORRECTO", "REVISAR META PDD")} -> CORRECTO | BU11: =IF(BU9=""," ",VLOOKUP(BU9,[1]Listados!$L$1:$M$65536,2,0)) | BZ11: {=IF(AND(COUNTIF(BR14:BR49, "<>")>0, SUMPRODUCT((ISNUMBER(VALUE(IFERROR(BR14:BR49, ""))))*(LEN(BR14:BR49)=11)*(LEFT(BR14:BR49, 7)=$X$8&""))=COUNTA(BR14:BR49)), "CORRECTO", "REVISAR META PDD")} -> CORRECTO | CW11: =IF(CW9=""," ",VLOOKUP(CW9,Listados!$L:$M,2,0)) | DB11: {=IF(AND(COUNTIF(CT14:CT46, "<>")>0, SUMPRODUCT((ISNUMBER(VALUE(IFERROR(CT14:CT46, ""))))*(LEN(CT14:CT46)=11)*(LEFT(CT14:CT46, 7)=$DC$8&""))=COUNTA(CT14:CT46)), "CORRECTO", "REVISAR META PDD")} -> CORRECTO | EC11: =IF(EC9=""," ",VLOOKUP(EC9,Listados!$L:$M,2,0)) | EH11: {=IF(AND(COUNTIF(DZ14:DZ46, "<>")>0, SUMPRODUCT((ISNUMBER(VALUE(IFERROR(DZ14:DZ46, ""))))*(LEN(DZ14:DZ46)=11)*(LEFT(DZ14:DZ46, 7)=$DC$8&""))=COUNTA(DZ14:DZ46)), "CORRECTO", "REVISAR META PDD")} -> CORRECTO | FD11: =IF(FD9=""," ",VLOOKUP(FD9,Listados!$L:$M,2,0)) | FI11: {=IF(AND(COUNTIF(FA14:FA46, "<>")>0, SUMPRODUCT((ISNUMBER(VALUE(IFERROR(FA14:FA46, ""))))*(LEN(FA14:FA46)=11)*(LEFT(FA14:FA46, 7)=$DC$8&""))=COUNTA(FA14:FA46)), "CORRECTO", "REVISAR META PDD")} -> CORRECTO | GE11: =IF(GE9=""," ",VLOOKUP(GE9,Listados!$L:$M,2,0)) | GJ11: {=IF(AND(COUNTIF(GB14:GB46, "<>")>0, SUMPRODUCT((ISNUMBER(VALUE(IFERROR(GB14:GB46, ""))))*(LEN(GB14:GB46)=11)*(LEFT(GB14:GB46, 7)=$DC$8&""))=COUNTA(GB14:GB46)), "CORRECTO", "REVISAR META PDD")} -> CORRECTO | HF11: =IF(HF9=""," ",VLOOKUP(HF9,Listados!$L:$M,2,0)) | HK11: {=IF(AND(COUNTIF(HC14:HC46, "<>")>0, SUMPRODUCT((ISNUMBER(VALUE(IFERROR(HC14:HC46, ""))))*(LEN(HC14:HC46)=11)*(LEFT(HC14:HC46, 7)=$DC$8&""))=COUNTA(HC14:HC46)), "CORRECTO", "REVISAR META PDD")} -> CORRECTO | IG11: =IF(IG9=""," ",VLOOKUP(IG9,Listados!$L:$M,2,0)) | IL11: {=IF(AND(COUNTIF(ID14:ID46, "<>")>0, SUMPRODUCT((ISNUMBER(VALUE(IFERROR(ID14:ID46, ""))))*(LEN(ID14:ID46)=11)*(LEFT(ID14:ID46, 7)=$DC$8&""))=COUNTA(ID14:ID46)), "CORRECTO", "REVISAR META PDD")} -> CORRECTO
