Workbook
Name contratación: 'IDENTIFICACION Y ANALISIS'!#REF!
Name ejecución: 'IDENTIFICACION Y ANALISIS'!$B$24:$B$33
Name OPCIONES: 'ASIGNACION Y TRATAMIENTO'!$B$44:$B$46
Name planeación: 'IDENTIFICACION Y ANALISIS'!$B$19:$B$19
Name selección: 'IDENTIFICACION Y ANALISIS'!$B$22:$B$22

Sheet CONTEXTO
C1: MATRIZ DE RIESGOS EN CONTRATACIÓN | F1: Código: GCO-GCI-F164 Versión: 02 Vigencia: 01 de diciembre de 2022 Caso HOLA: 280117
B5: ESTABLECER EL CONTEXTO
B6: El punto inicial es identificar el contexto en el cual interactúa la Entidad Estatal para conocer el ambiente social, económico y político, e identificar (i) sus propios Riesgos; (ii) los Riesgos comunes a sus Procesos de Contratación; y (iii) los Riesgos del Proceso de Contratación en particular. (Aplica igual para contratos interadministrativos) En este paso la Entidad Estatal debe identificar los aspectos que se mencionan a continuación y los posibles efectos adversos que estos pueden generar.
B7: Objeto del Proceso de Contratación: Escriba acá el objeto del proceso de contratación
B8: Partícipes del Proceso de Contratación: Agentes externos (Organismos de control, veedurías ciudadanas), agentes internos (supervisores, funcionarios y demás usuarios).
B9: Ciudadanía que se beneficia del Proceso de Contratación: Agentes internos (funcionarios, pasantes) y externos (contratistas, visitantes y usuarios externos en general)
B10: Capacidad de la Entidad Estatal entendida como la disponibilidad de recursos y conocimientos para el Proceso de Contratación: La disponibilidad de la Entidad de sus recursos y el conocimiento de su equipo humano se refleja en los diferentes funcionarios que participarán en las diversas etapas del proceso de selección: participan las áreas que requieren los procesos de contratación (Etapa de Estudios previos), el área de Contratos de la Secretaría General (Etapa contractual), los evaluadores designados, idóneos y con experiencia en el tema.
B11: Suficiencia del presupuesto oficial del Proceso de Contratación: De acuerdo al Plan de contratación para la vigencia (2023), se estimaron los recursos necesarios para el desarrollo del proceso de la contratación, el cual tendrá el soporte presupuestal suficiente para su desarrollo.
B12: Condiciones geográficas y de acceso del lugar en el cual se debe cumplir el objeto del Proceso de Contratación: El suministro, obra o servicio se prestará principalmente en las Sedes de la Entidad, o en el lugar indicado en los estudios previos del proceso.
B13: Entorno socio ambiental: Si aplican
B14: Condiciones políticas: Si aplican
B15: Factores ambientales: El contratista debe manejar normas ambientales para el destino final de algunos repuestos que se retiran cuando se hace mantenimiento correctivo al sistema.
B16: Sector del objeto del Proceso de Contratación y su mercado: Todos los clientes (entidades privadas, Estatales y Gubernamentales), alrededor en todo el Territorio Nacional Colombiano y el exterior, quienes solicitan equipos y servicios de seguridad y control de acceso, con niveles elevados de flujo peatonal.
... B18: Experiencia propia y de otras Entidades Estatales en Procesos de Contratación del mismo tipo: -Explicar brevemente la experiencia de la Entidad en el tipo de contratación que se va a adelantar-, A manera de ejemplo se deja el siguiente texto que aplicaría en el caso de la contratación de los seguros: " La Entidad contrata anualmente el programa de seguros necesario para su funcionamiento, por lo cual es un proceso que ha sido adelantado de manera permanente; así las cosas se cuenta con la experiencia adquirida en el adelantamiento de este tipo de procesos que ha sido la necesaria para prevenir circunstancias inesperadas y lograr el cumplimiento de los fines de la contratación".

Sheet IDENTIFICACION Y ANALISIS
C2: MATRIZ DE RIESGOS DE CONTRATACIÓN | F2: Código: GCO-GCI-F164 Versión: 02 Vigencia: 01 de diciembre de 2022 Caso HOLA: 280117
B6: DEFINICIONES
B7: RIESGO: evento que puede generar efectos adversos y de distinta magnitud en el logro de los objetivos del Proceso de Contratación o en la ejecución de un contrato
B8: RIESGOS PREVISIBLES: Son los posibles hechos o circunstancias que por la naturaleza del contrato y de la actividad a ejecutar es factible su ocurrencia.
B9: ETAPA DE PLANEACIÓN: Está comprendida entre la elaboración del Plan Anual de Adquisiciones y la fecha en la cual decide continuar o no con el Proceso de Contratación
B10: ETAPA DE SELECCIÓN: Está comprendida entre el acto de Apertura del Proceso de Contratación y la Adjudicación o la declaración de desierto del Proceso de Contratación
B11: ETAPA DE CONTRATACIÓN: Una vez adjudicado el contrato objeto del Proceso de Contratación, inicia la etapa de contratación en la cual se debe cumplir con el cronograma previsto para la celebración del contrato, el registro presupuestal, la publicación en el SECOP y el cumplimiento de los requisitos para el perfeccionamiento, ejecución y pago.
B12: ETAPA DE EJECUCIÓN: Inicia una vez cumplidos los requisitos previstos para iniciar la ejecución del contrato respectivo y termina con el vencimiento del plazo del contrato o la fecha de liquidación si hay lugar a ella.
B13: RIESGO GENERAL: Es un riesgo de todos los procesos de contratación adelantados por la Entidad Estatal, por lo cual está presente en toda su actividad contractual.
B14: RIEGO ESPECIFICO: Es un riesgo propio del proceso de contratación objeto de análisis.
B15: INSTRUCCIONES PARA LA IDENTIFICACIÓN, ANALISIS, EVALUACIÓN , ASIGNACIÓN Y TRATAMIENTO DE RIESGOS EN LA CONTRATACIÓN
B16: 1) Identifique los riesgos previsibles que le apliquen al objeto contractual que se adelante; En caso de identificar otro riesgo inclúyalo en la proforma e informe al Área de Contratos de la Secretaría General para que sea actualizada en el SIG.
C17: ETAPAS | D17: CLASE | E17: FUENTE | F17: TIPO
C18: PLANEACIÓN
B19: Cambio en la normatividad que modifique o imponga nuevas obligaciones al contratista. | D19: Especifico | E19: Externo | F19: Regulatorio
C20: SELECCIÓN
B21: Estimación inadecuada de costos por el oferente. | D21: General | E21: Externo | F21: Economico
B22: Errores cometidos por los proponentes en la elaboración de las propuestas o en los documentos requeridos en el proceso de selección | D22: General | E22: Externo | F22: Operacionales
C23: EJECUCIÓN
B24: Contagio de un trabajador por COVID 19 u otra enfermedad | D24: Especifico | E24: Interno | F24: Financieros
B25: El interventor asumirá los efectos favorables o desfavorables, derivados de las variaciones en la rentabilidad esperada del negocio y obtención de utilidades o generación de perdidas. | D25: General | E25: Interno | F25: Economico
B26: Fallas en las telecomunicaciones, suspensión de servicios públicos, advenimiento de nuevos desarrollos tecnologicos o estándares que deben ser tenidos en cuenta para la ejecución del contrato y que tengan impacto directo con la debida ejecución del mismo. | D26: General | E26: Interno | F26: Operacionales
B27: Demora en el trámite de adquisición de permisos y/o licencias | D27: Especifico | E27: Interno | F27: Operacionales
B28: Inundaciones, lluvias, sequías, entre otros climaticos o ambientales, siempre y cuando los mismos puedan preverse. | D28: General | E28: Externo | F28: Naturaleza
B29: No culminación del proyecto en el plazo establecido debido a incumplimientos del contratista de obra | D29: Especifico | E29: Interno | F29: Operacionales
B30: Muerte del contratista o la persona natural | D30: Especifico | E30: Interno | F30: Operacionales
B31: Disolución del Consorcio o unión temporal | D31: General | E31: Externo | F31: Operacionales
B32: Demoras en la aprobación de documentación presentada por el contratista a la interventoría | D32: General | E32: Interno | F32: Operacionales
B33: Demoras en la respuesta por parte del FONDO / Alcaldía a los requerimientos del interventor | D33: Especifico | E33: Interno | F33: Operacionales
B38: General
B39: Estatal
B40: Especifico
B42: Interno
B43: Externo

Sheet EVALUACION
D1: MATRIZ DE RIESGOS DE CONTRATACIÓN | K1: Código: GCO-GCI-F164 Versión: 02 Vigencia: 01 de diciembre de 2022 Caso HOLA: 280117
B5: Objeto Contractual: “REALIZAR LA INTERVENTORIA TECNICA, ADMINISTRATIVA, LEGAL, FINANCIERA, SOCIAL, AMBIENTAL Y SISTEMA DE SEGURIDAD Y SALUD EN EL TRABAJO PARA EL CONTRATO DE OBRA QUE SE DERIVE DE LA LICITACION PUBLICA FDLPA-LP-032-2025, CUYO OBJETO ES: “Ejecutar a precios unitarios fijos y a monto agotable las obras de mantenimiento de las unidades operativas de atención a la primera infancia jardines infantiles, CDC José Antonio Galán y Centro Crecer, de la localidad de Puente Aranda en la ciudad de Bogotá D.C.”
B6: INSTRUCCIONES PARA LA IDENTIFICACIÓN, ANALISIS, EVALUACIÓN , ASIGNACIÓN Y TRATAMIENTO DE RIESGOS EN LA CONTRATACIÓN
B7: 1) Seleccione el tipo de calificación (Cualitativa ó Monetaria)
B8: 2) Seleccione la(s) etapas y los riesgos que aplican al objeto contractual
B9: 3) Asigne la probabilidad de ocurrencia del riesgo, de conformidad con la tabla de probabilidad
B10: 4) Asigne el impacto que generaría la materialización del riesgo, de conformidad con la tabla de impacto
B11: 5) Al realizar las anteriores actividades se obtendrá la calificación total y la valoración del riesgo (prioridad) , traslde al formato evaluación con controles, los que tengan un nivel de criticidad diferente a bajo.
B12: 6) Continúe en la hoja de evaluación de controles
B14: CALIFICACIÓN | H14: Cualitativa
B15: ETAPA | C15: Descripción (Que puede pasar y, cómo puede ocurrir) | H15: Consecuencias de la ocurrencia del evento | I15: Probabilidad de Ocurrencia | J15: Impacto | K15: Calificación Total | L15: Prioridad
B16: PLANEACIÓN | C16: Falta de claridad en las condiciones técnicas, financieras, económicas jurídicas, establecidos en el proyecto de pliegos y los pliegos de condiciones definitivos | D16: Proceso de contratación desierto, por diferentes factores incluso errores cometidos por los proponentes en la elaboración de las propuestas y/o en los documentos requeridos que lleven a la declaratoria desierta del proceso | E16: Proceso de contratación desierto, por diferentes factores incluso errores cometidos por los proponentes en la elaboración de las propuestas y/o en los documentos requeridos que lleven a la declaratoria desierta del proceso | F16: Proceso de contratación desierto, por diferentes factores incluso errores cometidos por los proponentes en la elaboración de las propuestas y/o en los documentos requeridos que lleven a la declaratoria desierta del proceso | G16: Proceso de contratación desierto, por diferentes factores incluso errores cometidos por los proponentes en la elaboración de las propuestas y/o en los documentos requeridos que lleven a la declaratoria desierta del proceso | H16: Declaratoria de desierta por falta o poca participación de oferentes | I16: 2 | J16: 2 | K16: 4 | L16: =IF(K16<=4,"BAJO",IF(K16=5,"MEDIO",IF(K16=6,"ALTO",IF(K16=7,"ALTO","EXTREMO")))) -> BAJO
B17: SELECCIÓN | C17: Errores cometidos por los proponentes en la elaboración de las propuestas o en los documentos requeridos en el proceso de selección | D17: Demora en los tiempos establecidos para la adjudicación del contrato | E17: Demora en los tiempos establecidos para la adjudicación del contrato | F17: Demora en los tiempos establecidos para la adjudicación del contrato | G17: Demora en los tiempos establecidos para la adjudicación del contrato | H17: Atraso en el inicio del contrato de obra | I17: 3 | J17: 2 | K17: 5 | L17: =IF(K17<=4,"BAJO",IF(K17=5,"MEDIO",IF(K17=6,"ALTO",IF(K17=7,"ALTO","EXTREMO")))) -> MEDIO
B18: SELECCIÓN | C18: Demoras en la liquidación del contrato por causas atribuibles al contratista. | D18: Modificación en cargas tributarias de origen Nacional y/o distrital, mediante la expedición de nuevas normas y/ o modificacoines al regimen de aportes al sistema de seguridad social. | E18: Modificación en cargas tributarias de origen Nacional y/o distrital, mediante la expedición de nuevas normas y/ o modificacoines al regimen de aportes al sistema de seguridad social. | F18: Modificación en cargas tributarias de origen Nacional y/o distrital, mediante la expedición de nuevas normas y/ o modificacoines al regimen de aportes al sistema de seguridad social. | G18: Modificación en cargas tributarias de origen Nacional y/o distrital, mediante la expedición de nuevas normas y/ o modificacoines al regimen de aportes al sistema de seguridad social. | H18: Demora en la liquidación del contrato, necesidad de personal. | I18: 3 | J18: 2 | K18: 5 | L18: =IF(K18<=4,"BAJO",IF(K18=5,"MEDIO",IF(K18=6,"ALTO",IF(K18=7,"ALTO","EXTREMO")))) -> MEDIO
B19: EJECUCIÓN | C19: Contagio de un trabajador por COVID 19 | H19: Atrasos en el desarrollo del contrato Reprogramación de cronogramas | I19: 4 | J19: 4 | K19: 8 | L19: =IF(K19<=4,"BAJO",IF(K19=5,"MEDIO",IF(K19=6,"ALTO",IF(K19=7,"ALTO","EXTREMO")))) -> EXTREMO
B20: EJECUCIÓN | C20: El interventor asumirá los efectos favorables o desfavorables, derivados de las variaciones en la rentabilidad esperada del negocio y obtención de utilidades o generación de perdidas. | H20: Atrasos en el desarrollo del contrato Reprogramación de cronogramas | I20: 2 | J20: 4 | K20: 6 | L20: =IF(K20<=4,"BAJO",IF(K20=5,"MEDIO",IF(K20=6,"ALTO",IF(K20=7,"ALTO","EXTREMO")))) -> ALTO
B21: EJECUCIÓN | C21: Fallas en las telecomunicaciones, suspensión de servicios públicos, advenimiento de nuevos desarrollos tecnologicos o estándares que deben ser tenidos en cuenta para la ejecución del contrato y que tengan impacto directo con la debida ejecución del mismo. | H21: Supervisión inadecuada del uso que le da el contratista al anticipo. Desconocimiento del contratista de la obligación en el cumplimiento con la póliza del buen manejo del anticipo. | I21: 2 | J21: 3 | K21: 5 | L21: =IF(K21<=4,"BAJO",IF(K21=5,"MEDIO",IF(K21=6,"ALTO",IF(K21=7,"ALTO","EXTREMO")))) -> MEDIO
B22: EJECUCIÓN | C22: Demora en el trámite de adquisición de permisos y/o licencias | H22: Se rechaza la propuesta presentada | I22: 3 | J22: 3 | K22: 6 | L22: =IF(K22<=4,"BAJO",IF(K22=5,"MEDIO",IF(K22=6,"ALTO",IF(K22=7,"ALTO","EXTREMO")))) -> ALTO
B23: EJECUCIÓN | C23: Inundaciones, lluvias, sequías, entre otros climaticos o ambientales, siempre y cuando los mismos puedan preverse. | H23: Retraso del cronograma del Proyecto o sobrecostos | I23: 1 | J23: 4 | K23: 5 | L23: =IF(K23<=4,"BAJO",IF(K23=5,"MEDIO",IF(K23=6,"ALTO",IF(K23=7,"ALTO","EXTREMO")))) -> MEDIO
B24: EJECUCIÓN | C24: No culminación del proyecto en el plazo establecido debido a incumplimientos del contratista de obra | H24: Modificaciones contractuales | I24: 3 | J24: 2 | K24: 5 | L24: =IF(K24<=4,"BAJO",IF(K24=5,"MEDIO",IF(K24=6,"ALTO",IF(K24=7,"ALTO","EXTREMO")))) -> MEDIO
B25: EJECUCIÓN | C25: Muerte del contratista o la persona natural | H25: Desequilibrio contractual que afecte la ejecucion del contrato. | I25: 1 | J25: 4 | K25: 5 | L25: =IF(K25<=4,"BAJO",IF(K25=5,"MEDIO",IF(K25=6,"ALTO",IF(K25=7,"ALTO","EXTREMO")))) -> MEDIO
B26: EJECUCIÓN | C26: Disolución del Consorcio o unión temporal | H26: No se puede iniciar la obra Genera retrasos en el proyecto Sobrecostos por cambios de Vigencia. | I26: 1 | J26: 4 | K26: 5 | L26: =IF(K26<=4,"BAJO",IF(K26=5,"MEDIO",IF(K26=6,"ALTO",IF(K26=7,"ALTO","EXTREMO")))) -> MEDIO
B27: EJECUCIÓN | C27: Demoras en la aprobación de documentación presentada por el contratista a la interventoría | H27: Genera retrasos en el proyecto | I27: 1 | J27: 4 | K27: 5 | L27: =IF(K27<=4,"BAJO",IF(K27=5,"MEDIO",IF(K27=6,"ALTO",IF(K27=7,"ALTO","EXTREMO")))) -> MEDIO
B28: EJECUCIÓN | C28: Demoras en la respuesta por parte del FONDO / Alcaldía a los requerimientos del interventor | H28: Que el contratista alegue con posteridad a la adjudicación o durante la ejecución desequilibrio económico | I28: 1 | J28: 3 | K28: 4 | L28: =IF(K28<=4,"BAJO",IF(K28=5,"MEDIO",IF(K28=6,"ALTO",IF(K28=7,"ALTO","EXTREMO")))) -> BAJO
B31: Probabilidad | C31: Catagoria | E31: Valoración | G31: Impacto | H31: Categoria | I31: Valoración
C32: Raro (puede ocurrir excepcionalmente) | E32: 1 | H32: Insignificante | I32: 1
C33: Improbable (puede ocurrir ocasionalmente) | E33: 2 | H33: Menor | I33: 2
C34: Posible (puede ocurrir en cualquier momento futuro) | E34: 3 | H34: Moderado | I34: 3
C35: Probable (probablemente va a ocurrir) | E35: 4 | H35: Mayor | I35: 4
C36: Casi cierto (ocurre en la mayoria de circunstancias) | E36: 5 | H36: Catastrófico | I36: 5
C38: Valoración del Riesgo
C39: Calificación Cualitativa | F39: Obstruye la ejecución del contrato de manera intrascendente. | G39: Dificulta la ejecución del contrato de manera baja, aplicando medidas mínimas se pueden lograr el objeto contractual | H39: Afecta la ejecución del contrato sin alterar el beneficio para las partes | I39: Obstruye la ejecución del contrato sustancialmente pero aun así permite la consecución del objeto contractual | K39: Perturba la ejecución del contrato de manera grave imposibilitando la consecución del objeto contractual.
C40: Calificación Monetaria | F40: Los sobrecostos no representan más del uno por ciento (1%) del valor del contrato. | G40: Los sobrecostos no representan más del cinco por ciento (5%) del valor del contrato. | H40: Genera un impacto sobre el valor del contrato entre el cinco (5%) y el quince por ciento (15%). | I40: Incrementa el valor del contrato entre el quince (15%) y el treinta por ciento (30%). | K40: Impacto sobre el valor del contrato en más del treinta por ciento (30%).
C41: Categoría | E41: Valoración | F41: Insignificante | G41: Menor | H41: Moderado | I41: Mayor | K41: Catastrófico
F42: 1 | G42: 2 | H42: 3 | I42: 4 | K42: 5
C43: Raro (puede ocurrir excepcionalmente) | E43: 1 | F43: 2 | G43: 3 | H43: 4 | I43: 5 | K43: 6
C44: Improbable (puede ocurrir ocasionalmente) | E44: 2 | F44: 3 | G44: 4 | H44: 5 | I44: 6 | K44: 7
C45: Posible (puede ocurrir en cualquier momento futuro) | E45: 3 | F45: 4 | G45: 5 | H45: 6 | I45: 7 | K45: 8
C46: Probable (probablemente va a ocurrir) | E46: 4 | F46: 5 | G46: 6 | H46: 7 | I46: 8 | K46: 9
C47: Casi cierto (ocurre en la mayoria de circunstancias) | E47: 5 | F47: 6 | G47: 7 | H47: 8 | I47: 9 | K47: 10
...

Sheet EVALUACION CON CONTROLES
D2: MATRIZ DE RIESGOS DE CONTRATACIÓN | P2: Código: GCO-GCI-F164 Versión: 02 Vigencia: 01 de diciembre de 2022 Caso HOLA: 280117
A6: =+EVALUACION!B5 -> Objeto Contractual: “REALIZAR LA INTERVENTORIA TECNICA, ADMINISTRATIVA, LEGAL, FINANCIERA, SOCIAL, AMBIENTAL Y SISTEMA DE SEGURIDAD Y SALUD EN EL TRABAJO PARA EL CONTRATO DE OBRA QUE SE DERIVE DE LA LICITACION PUBLICA FDLPA-LP-032-2025, CUYO OBJETO ES: “Ejecutar a precios unitarios fijos y a monto agotable las obras de mantenimiento de las unidades operativas de atención a la primera infancia jardines infantiles, CDC José Antonio Galán y Centro Crecer, de la localidad de Puente Aranda en la ciudad de Bogotá D.C.”
A7: INSTRUCCIONES PARA LA IDENTIFICACIÓN, ANALISIS, EVALUACIÓN , ASIGNACIÓN Y TRATAMIENTO DE RIESGOS EN LA CONTRATACIÓN
A8: 1) Describa el tratamiento/controles a ser implementados
A9: 2) Teniendo en cuenta el tratamiento descrito, asigne la probabilidad de ocurrencia del riesgo, de conformidad con la tabla de probabilidad
A10: 3) Teniendo en cuenta el tratamiento descrito, asigne el impacto que generaría la materialización del riesgo, de conformidad con la tabla de impacto
A11: 4) Al realizar las anteriores actividades se obtendrá la calificación total y la valoración del riesgo (prioridad)
A12: 5) Diligencie la información de las démas columnas
A13: 7) Continúe en la hoja de asignación y tratamiento
A15: ETAPA | B15: Descripción (Que puede pasar y, cómo puede ocurrir) | F15: Tratamiento/Controles a ser implementados | H15: Probabilidad de Ocurrencia | I15: Impacto | J15: Calificación Total | K15: Prioridad | L15: ¿Afecta el equilibrio económico del contrato? | M15: Persona responsable por implementar el tratamiento | N15: Fecha estimada en que se inicia el tratamiento | O15: Fecha estimada en que se completa el tratamiento | P15: ¿Cómo se realiza el monitoreo? | Q15: Periodicidad ¿Cuándo?
A16: =+EVALUACION!B16 -> PLANEACIÓN | B16: =+EVALUACION!C16 -> Falta de claridad en las condiciones técnicas, financieras, económicas jurídicas, establecidos en el proyecto de pliegos y los pliegos de condiciones definitivos | F16: *Mayor convocatoria o publicidad para promover la participación de los posibles oferentes a la audiencia de aclaración de pliegos y asignación de riesgos | H16: 2 | I16: 2 | J16: 4 | K16: =IF(J16<=4,"BAJO",IF(J16=5,"MEDIO",IF(J16=6,"ALTO",IF(J16=7,"ALTO","EXTREMO")))) -> BAJO | L16: Si | M16: FDLPA / Contratista | N16: Aviso de convocatoria | O16: 1, Etapa de diagnostico 2, Fecha de inicio | P16: Retroalimentación en visitas de campo y comités de seguimiento, | Q16: Semanal
A17: =+EVALUACION!B17 -> SELECCIÓN | B17: =+EVALUACION!C17 -> Errores cometidos por los proponentes en la elaboración de las propuestas o en los documentos requeridos en el proceso de selección | F17: *Incumplimiento al contratista de interventoría. *Adjudicación el proponente en segundo lugar. | H17: =+EVALUACION!I17 -> 3 | I17: =+EVALUACION!J17 -> 2 | J17: =+H17+I17 -> 5 | K17: =IF(J17<=4,"BAJO",IF(J17=5,"MEDIO",IF(J17=6,"ALTO",IF(J17=7,"ALTO","EXTREMO")))) -> MEDIO | L17: Si | M17: FDLPA | N17: Desde la fecha de cierre o presentación de propuestas | O17: Inicio del Proceso de Selección | P17: Revisión de las propuestas presentadas, implementando una lista de chequeo. | Q17: Diaria
A18: =+EVALUACION!B18 -> SELECCIÓN | B18: =+EVALUACION!C18 -> Demoras en la liquidación del contrato por causas atribuibles al contratista. | F18: Requerir al contratista por el incumplimiento | H18: 3 | I18: 2 | J18: 5 | K18: =IF(J18<=4,"BAJO",IF(J18=5,"MEDIO",IF(J18=6,"ALTO",IF(J18=7,"ALTO","EXTREMO")))) -> MEDIO | L18: Si | M18: FDLPA | N18: Desde el Acta de Inicio | O18: Inicio del Proceso de Selección | P18: Audiencia de Riesgos | Q18: Diaria
A19: =+EVALUACION!B19 -> EJECUCIÓN | B19: =+EVALUACION!C19 -> Contagio de un trabajador por COVID 19 | F19: *Hacer requerimientos al contratista . *Verificar las condiciones de seguridad y uso de las herrmaientas y maquinaria para acciones de mejora | H19: =+EVALUACION!I19 -> 4 | I19: =+EVALUACION!J19 -> 4 | J19: =+H19+I19 -> 8 | K19: =IF(J19<=4,"BAJO",IF(J19=5,"MEDIO",IF(J19=6,"ALTO",IF(J19=7,"ALTO","EXTREMO")))) -> EXTREMO | L19: Si | M19: Contratista | N19: Una vez ocurrido el evento | O19: Evaluación de las propuestas | P19: seguimiento diario y atendiendo todas las recomendaciones propias del covid 19 | Q19: Durante la ejecución del contrato
A20: =+EVALUACION!B20 -> EJECUCIÓN | B20: =+EVALUACION!C20 -> El interventor asumirá los efectos favorables o desfavorables, derivados de las variaciones en la rentabilidad esperada del negocio y obtención de utilidades o generación de perdidas. | F20: *Implementación de PMT considerando rutas alternas. *Identificación de fuentes de materiales y escombreras por rutas que permitan mitigar el riesgo de que se presenten obras que limiten el libre tránsito. | H20: =+EVALUACION!I20 -> 2 | I20: =+EVALUACION!J20 -> 4 | J20: =+H20+I20 -> 6 | K20: =IF(J20<=4,"BAJO",IF(J20=5,"MEDIO",IF(J20=6,"ALTO",IF(J20=7,"ALTO","EXTREMO")))) -> ALTO | L20: Si | M20: Contratista | N20: Desde la publicacion del proceso de selección. | O20: Acta de inicio | P20: Revisión de la propuesta económica en comparación con el presupuesto oficial estimado de la entidad para el presente proceso | Q20: Unica vez
A21: =+EVALUACION!B21 -> EJECUCIÓN | B21: =+EVALUACION!C21 -> Fallas en las telecomunicaciones, suspensión de servicios públicos, advenimiento de nuevos desarrollos tecnologicos o estándares que deben ser tenidos en cuenta para la ejecución del contrato y que tengan impacto directo con la debida ejecución del mismo. | F21: *Realizar actividades dirigidas a mitigar las posibles fallas tecnicas que presenten para regular el normal desarrollo del contrato. | H21: =+EVALUACION!I21 -> 2 | I21: =+EVALUACION!J21 -> 3 | J21: =+H21+I21 -> 5 | K21: =IF(J21<=4,"BAJO",IF(J21=5,"MEDIO",IF(J21=6,"ALTO",IF(J21=7,"ALTO","EXTREMO")))) -> MEDIO | L21: Si | M21: Contratista | N21: Desde el Acta de Inicio | O21: Hasta la terminación del contrato | P21: Verificar este indicador cuando se requiera | Q21: Cuando se requiera el tramite
A22: =+EVALUACION!B22 -> EJECUCIÓN | B22: =+EVALUACION!C22 -> Demora en el trámite de adquisición de permisos y/o licencias | F22: *Revisar la información o documentación digital y física presentada por los proponente durante el proceso de selección. *Realizar las verificaciones con los terceros que expiden la información o suscriban los documentos aportados. *Efectuar observaciones o solicitudes de aclaración de forma oportuna para evitar inconsistencias. *Remitir a entes de control o de investigación penal para lo de su competencia, de evidenciarse inconsistencias de la información o documentos entregada por los proponentes. | H22: =+EVALUACION!I22 -> 3 | I22: =+EVALUACION!J22 -> 3 | J22: =+H22+I22 -> 6 | K22: =IF(J22<=4,"BAJO",IF(J22=5,"MEDIO",IF(J22=6,"ALTO",IF(J22=7,"ALTO","EXTREMO")))) -> ALTO | L22: Si | M22: FDLPA / Contratista | N22: Desde la suscripción del acta de inicio | O22: 1, Etapa de diagnostico | P22: Seguimiento al programa de trabajo de acuerdo a cronograma evaluando la efectividad de los indicadores de cumplimiento de cada permiso y/o licencia obtenida. | Q22: semanalmente
A23: =+EVALUACION!B23 -> EJECUCIÓN | B23: =+EVALUACION!C23 -> Inundaciones, lluvias, sequías, entre otros climaticos o ambientales, siempre y cuando los mismos puedan preverse. | F23: *Ajuste de documentos de conformidad con las observaciones presentadas. | H23: =+EVALUACION!I23 -> 1 | I23: =+EVALUACION!J23 -> 4 | J23: =+H23+I23 -> 5 | K23: =IF(J23<=4,"BAJO",IF(J23=5,"MEDIO",IF(J23=6,"ALTO",IF(J23=7,"ALTO","EXTREMO")))) -> MEDIO | L23: Si | M23: FDLPA / Contratista | N23: Una vez ocurrido el evento | O23: Hasta la terminación del contrato | P23: Seguimiento y visita de campo de las acciones de mitigación implementadas. | Q23: Semanal
A24: =+EVALUACION!B24 -> EJECUCIÓN | B24: =+EVALUACION!C24 -> No culminación del proyecto en el plazo establecido debido a incumplimientos del contratista de obra | F24: *El contratista debera acreditar ante la interventoria el punto de perdida, para que la entidad proceda con el restablecimiento del equilibrio economico del contrato | H24: =+EVALUACION!I24 -> 3 | I24: =+EVALUACION!J24 -> 2 | J24: =+H24+I24 -> 5 | K24: =IF(J24<=4,"BAJO",IF(J24=5,"MEDIO",IF(J24=6,"ALTO",IF(J24=7,"ALTO","EXTREMO")))) -> MEDIO | L24: Si | M24: FDLPA / Contratista | N24: Desde la suscripción del acta de inicio | O24: Hasta la terminación del contrato | P24: Seguimiento en la ejecución de la totalidad de las labores realizadas por el contratista de obra por parte de la interventoría del proyecto | Q24: Semanal
A25: =+EVALUACION!B25 -> EJECUCIÓN | B25: =+EVALUACION!C25 -> Muerte del contratista o la persona natural | F25: * Determinar el impacto del cambio en el alcance contractual y realizar ajuste al contrato en caso de requerirse. | H25: =+EVALUACION!I25 -> 1 | I25: =+EVALUACION!J25 -> 4 | J25: =+H25+I25 -> 5 | K25: =IF(J25<=4,"BAJO",IF(J25=5,"MEDIO",IF(J25=6,"ALTO",IF(J25=7,"ALTO","EXTREMO")))) -> MEDIO | L25: Si | M25: Contratista | N25: Una vez ocurrido el evento | O25: Hasta la terminación del contrato | P25: En el momento de la ocurrencia la Entidad deberá ejercer las acciones respectivas. | Q25: En caso de ocurrencia
A26: =+EVALUACION!B26 -> EJECUCIÓN | B26: =+EVALUACION!C26 -> Disolución del Consorcio o unión temporal | F26: *En caso de generarse disolucion del consorciado o union temporal, informarlo oportunamente, con el fin de implementar las medidas correctivas necesarias. | H26: =+EVALUACION!I26 -> 1 | I26: =+EVALUACION!J26 -> 4 | J26: =+H26+I26 -> 5 | K26: =IF(J26<=4,"BAJO",IF(J26=5,"MEDIO",IF(J26=6,"ALTO",IF(J26=7,"ALTO","EXTREMO")))) -> MEDIO | L26: Si | M26: FDLPA | N26: Desde el Acta de Inicio | O26: Hasta la terminación del contrato | P26: Cuantificar tiempo de retraso por disolución de la asociación, | Q26: En caso de ocurrencia
A27: =+EVALUACION!B27 -> EJECUCIÓN | B27: =+EVALUACION!C27 -> Demoras en la aprobación de documentación presentada por el contratista a la interventoría | F27: *En caso de generarse atrasos en la obtencionn de permisos, informarlo oportunamente, con el fin de implementar las medidas correctivas necesarias. *Es responsabilidad del contratista y la Interventoria implementar alternativas de contingencia que permitan dar continuidad a la ejecucion. * Seguimiento por parte de la interventoría del contrato para que se adelanten los tramites ante las entidades o empresas correspondientes de manera oportuna. | H27: =+EVALUACION!I27 -> 1 | I27: =+EVALUACION!J27 -> 4 | J27: =+H27+I27 -> 5 | K27: =IF(J27<=4,"BAJO",IF(J27=5,"MEDIO",IF(J27=6,"ALTO",IF(J27=7,"ALTO","EXTREMO")))) -> MEDIO | L27: Si | M27: Contratista | N27: Desde el Acta de Inicio | O27: Hasta la terminación del contrato | P27: La interventoría está en custodia de los documentos del contrato y deberá digitalizar la información periodicamente y esta deberá ser enviada al Fondo. | Q27: Mensual
A28: =+EVALUACION!B28 -> EJECUCIÓN | B28: =+EVALUACION!C28 -> Demoras en la respuesta por parte del FONDO / Alcaldía a los requerimientos del interventor | F28: *En caso de generarse retrasos por parte de la entidad, en los comites de seguimiento e debn informar por parte de los contratistas como obligacion de la entidad o apoyo a la supervision. | H28: =+EVALUACION!I28 -> 1 | I28: =+EVALUACION!J28 -> 3 | J28: =+H28+I28 -> 4 | K28: =IF(J28<=4,"BAJO",IF(J28=5,"MEDIO",IF(J28=6,"ALTO",IF(J28=7,"ALTO","EXTREMO")))) -> BAJO | L28: Si | M28: FDLPA / Contratista | N28: Desde el Acta de Inicio | O28: Hasta la terminación del contrato | P28: La Interventoria debe realizar junto al supervisor el seguiminetos a los radicados enviados y sus respuestas | Q28: Mensual
B30: Categoria del Riesgo | G30: Impacto del Riesgo
A31: Probabilidad | B31: Catagoria | E31: Valoración | G31: Categoria | I31: Valoración | M31: Categoria del Riesgo
B32: Raro (puede ocurrir excepcionalmente) | E32: 1 | G32: Insignificante | I32: 1 | M32: Valoración del Riesgo | O32: Categoría
B33: Improbable (puede ocurrir ocasionalmente) | E33: 2 | G33: Menor | I33: 2 | M33: 8, 9 y 10 | O33: Riesgo extremo
B34: Posible (puede ocurrir en cualquier momento futuro) | E34: 3 | G34: Moderado | I34: 3 | M34: 6 y 7 | O34: Riesgo alto
B35: Probable (probablemente va a ocurrir) | E35: 4 | G35: Mayor | I35: 4 | M35: 5 | O35: Riesgo medio
B36: Casi cierto (ocurre en la mayoria de circunstancias) | E36: 5 | G36: Catastrófico | I36: 5 | M36: 2, 3 y 4 | O36: Riesgo bajo
B38: Valoración del Riesgo
B39: Calificación Cualitativa | F39: Obstruye la ejecución del contrato de manera intrascendente. | H39: Dificulta la ejecución del contrato de manera baja, aplicando medidas mínimas se pueden lograr el objeto contractual | K39: Afecta la ejecución del contrato sin alterar el beneficio para las partes | M39: Obstruye la ejecución del contrato sustancialmente pero aun así permite la consecución del objeto contractual | O39: Perturba la ejecución del contrato de manera grave imposibilitando la consecución del objeto contractual.
B40: Calificación Monetaria | F40: Los sobrecostos no representan más del uno por ciento (1%) del valor del contrato. | H40: Los sobrecostos no representan más del cinco por ciento (5%) del valor del contrato. | K40: Genera un impacto sobre el valor del contrato entre el cinco (5%) y el quince por ciento (15%). | M40: Incrementa el valor del contrato entre el quince (15%) y el treinta por ciento (30%). | O40: Impacto sobre el valor del contrato en más del treinta por ciento (30%).
B41: Catagoria | E41: Valoración | F41: Insignificante | H41: Menor | K41: Moderado | M41: Mayor | O41: Catastrófico
F42: 1 | H42: 2 | K42: 3 | M42: 4 | O42: 5
B43: Raro (puede ocurrir excepcionalmente) | E43: 1 | F43: 2 | H43: 3 | K43: 4 | M43: 5 | O43: 6
B44: Improbable (puede ocurrir ocasionalmente) | E44: 2 | F44: 3 | H44: 4 | K44: 5 | M44: 6 | O44: 7
B45: Posible (puede ocurrir en cualquier momento futuro) | E45: 3 | F45: 4 | H45: 5 | K45: 6 | M45: 7 | O45: 8
B46: Probable (probablemente va a ocurrir) | E46: 4 | F46: 5 | H46: 6 | K46: 7 | M46: 8 | O46: 9
B47: Casi cierto (ocurre en la mayoria de circunstancias) | E47: 5 | F47: 6 | H47: 7 | K47: 8 | M47: 9 | O47: 10

Sheet ASIGNACION Y TRATAMIENTO
D2: MATRIZ DE RIESGOS DE CONTRATACIÓN | W2: Código: GCO-GCI-F164 Versión: 02 Vigencia: 01 de diciembre de 2022 Caso HOLA: 280117
B6: =+EVALUACION!B5 -> Objeto Contractual: “REALIZAR LA INTERVENTORIA TECNICA, ADMINISTRATIVA, LEGAL, FINANCIERA, SOCIAL, AMBIENTAL Y SISTEMA DE SEGURIDAD Y SALUD EN EL TRABAJO PARA EL CONTRATO DE OBRA QUE SE DERIVE DE LA LICITACION PUBLICA FDLPA-LP-032-2025, CUYO OBJETO ES: “Ejecutar a precios unitarios fijos y a monto agotable las obras de mantenimiento de las unidades operativas de atención a la primera infancia jardines infantiles, CDC José Antonio Galán y Centro Crecer, de la localidad de Puente Aranda en la ciudad de Bogotá D.C.”
B7: IDENTIFICACIÓN, ANALISIS, EVALUACIÓN , ASIGNACIÓN Y TRATAMIENTO DE RIESGOS EN LA CONTRATACIÓN
B8: Esta matriz es un documento anexo del Estudio Previo
B10: No | C10: Descripción (Que puede pasar y, cómo puede ocurrir) | D10: Etapa | E10: Clase | F10: Fuente | G10: Consecuencias de la ocurrencia del evento | H10: Probabilidad | I10: Impacto | J10: Calificación total | K10: Prioridad | L10: ¿A quien se le asigna? | M10: % | N10: Tratamiento/Controles a ser implementados | O10: Probabilidad | P10: Impacto | Q10: Calificación total | R10: Prioridad | S10: ¿Afecta el equilibrio económico del contrato? | T10: Persona responsable por implementar el tratamiento | U10: Fecha estimada en que se inicia el tratamiento | V10: Fecha estimada en que se completa el tratamiento | W10: ¿Cómo se realiza el monitoreo | X10: Periodicidad ¿Cuándo?
B11: 1 | C11: =+'EVALUACION CON CONTROLES'!B16 -> Falta de claridad en las condiciones técnicas, financieras, económicas jurídicas, establecidos en el proyecto de pliegos y los pliegos de condiciones definitivos | D11: =+'EVALUACION CON CONTROLES'!A16 -> PLANEACIÓN | E11: General | F11: Interno | G11: =+EVALUACION!H16 -> Declaratoria de desierta por falta o poca participación de oferentes | H11: =+EVALUACION!I16 -> 2 | I11: =+EVALUACION!J16 -> 2 | J11: =+EVALUACION!K16 -> 4 | K11: =+EVALUACION!L16 -> BAJO | L11: CONTRATISTA Y FDLPA | M11: 100 | N11: =+'EVALUACION CON CONTROLES'!F16 -> *Mayor convocatoria o publicidad para promover la participación de los posibles oferentes a la audiencia de aclaración de pliegos y asignación de riesgos | O11: =+'EVALUACION CON CONTROLES'!H16 -> 2 | P11: =+'EVALUACION CON CONTROLES'!I16 -> 2 | Q11: =+'EVALUACION CON CONTROLES'!J16 -> 4 | R11: =+'EVALUACION CON CONTROLES'!K16 -> BAJO | S11: =+'EVALUACION CON CONTROLES'!L16 -> Si | T11: =+'EVALUACION CON CONTROLES'!M16 -> FDLPA / Contratista | U11: =+'EVALUACION CON CONTROLES'!N16 -> Aviso de convocatoria | V11: =+'EVALUACION CON CONTROLES'!O16 -> 1, Etapa de diagnostico 2, Fecha de inicio | ... X11: =+'EVALUACION CON CONTROLES'!Q16 -> Semanal
B12: 2 | C12: =+'EVALUACION CON CONTROLES'!B17 -> Errores cometidos por los proponentes en la elaboración de las propuestas o en los documentos requeridos en el proceso de selección | D12: =+'EVALUACION CON CONTROLES'!A17 -> SELECCIÓN | E12: General | F12: Interno | G12: =+EVALUACION!H17 -> Atraso en el inicio del contrato de obra | H12: =+EVALUACION!I17 -> 3 | I12: =+EVALUACION!J17 -> 2 | J12: =+EVALUACION!K17 -> 5 | K12: =+EVALUACION!L17 -> MEDIO | L12: CONTRATISTA Y FDLPA | M12: 50/50 | N12: =+'EVALUACION CON CONTROLES'!F17 -> *Incumplimiento al contratista de interventoría. *Adjudicación el proponente en segundo lugar. | O12: =+'EVALUACION CON CONTROLES'!H17 -> 3 | P12: =+'EVALUACION CON CONTROLES'!I17 -> 2 | Q12: =+'EVALUACION CON CONTROLES'!J17 -> 5 | R12: =+'EVALUACION CON CONTROLES'!K17 -> MEDIO | S12: =+'EVALUACION CON CONTROLES'!L17 -> Si | T12: =+'EVALUACION CON CONTROLES'!M17 -> FDLPA | U12: =+'EVALUACION CON CONTROLES'!N17 -> Desde la fecha de cierre o presentación de propuestas | V12: =+'EVALUACION CON CONTROLES'!O17 -> Inicio del Proceso de Selección | ... X12: =+'EVALUACION CON CONTROLES'!Q17 -> Diaria
B13: 3 | C13: =+'EVALUACION CON CONTROLES'!B18 -> Demoras en la liquidación del contrato por causas atribuibles al contratista. | D13: =+'EVALUACION CON CONTROLES'!A18 -> SELECCIÓN | E13: General | F13: Externo | G13: =+EVALUACION!H18 -> Demora en la liquidación del contrato, necesidad de personal. | H13: =+EVALUACION!I18 -> 3 | I13: =+EVALUACION!J18 -> 2 | J13: =+EVALUACION!K18 -> 5 | K13: =+EVALUACION!L18 -> MEDIO | L13: CONTRATISTA | M13: 100 | N13: =+'EVALUACION CON CONTROLES'!F18 -> Requerir al contratista por el incumplimiento | O13: =+'EVALUACION CON CONTROLES'!H18 -> 3 | P13: =+'EVALUACION CON CONTROLES'!I18 -> 2 | Q13: =+'EVALUACION CON CONTROLES'!J18 -> 5 | R13: =+'EVALUACION CON CONTROLES'!K18 -> MEDIO | S13: =+'EVALUACION CON CONTROLES'!L18 -> Si | T13: =+'EVALUACION CON CONTROLES'!M18 -> FDLPA | U13: =+'EVALUACION CON CONTROLES'!N18 -> Desde el Acta de Inicio | V13: =+'EVALUACION CON CONTROLES'!O18 -> Inicio del Proceso de Selección | ... X13: =+'EVALUACION CON CONTROLES'!Q18 -> Diaria
B14: 4 | C14: =+'EVALUACION CON CONTROLES'!B20 -> El interventor asumirá los efectos favorables o desfavorables, derivados de las variaciones en la rentabilidad esperada del negocio y obtención de utilidades o generación de perdidas. | D14: =+'EVALUACION CON CONTROLES'!A20 -> EJECUCIÓN | E14: Específico | F14: Externo | G14: =+EVALUACION!H20 -> Atrasos en el desarrollo del contrato Reprogramación de cronogramas | H14: =+EVALUACION!I20 -> 2 | I14: =+EVALUACION!J20 -> 4 | J14: =+EVALUACION!K20 -> 6 | K14: =+EVALUACION!L20 -> ALTO | L14: CONTRATISTA | M14: 100 | N14: =+'EVALUACION CON CONTROLES'!F20 -> *Implementación de PMT considerando rutas alternas. *Identificación de fuentes de materiales y escombreras por rutas que permitan mitigar el riesgo de que se presenten obras que limiten el libre tránsito. | O14: =+'EVALUACION CON CONTROLES'!H20 -> 2 | P14: =+'EVALUACION CON CONTROLES'!I20 -> 4 | Q14: =+'EVALUACION CON CONTROLES'!J20 -> 6 | R14: =+'EVALUACION CON CONTROLES'!K20 -> ALTO | S14: =+'EVALUACION CON CONTROLES'!L20 -> Si | T14: =+'EVALUACION CON CONTROLES'!M20 -> Contratista | U14: =+'EVALUACION CON CONTROLES'!N20 -> Desde la publicacion del proceso de selección. | V14: =+'EVALUACION CON CONTROLES'!O20 -> Acta de inicio | ... X14: =+'EVALUACION CON CONTROLES'!Q20 -> Unica vez
B15: 5 | C15: =+'EVALUACION CON CONTROLES'!B21 -> Fallas en las telecomunicaciones, suspensión de servicios públicos, advenimiento de nuevos desarrollos tecnologicos o estándares que deben ser tenidos en cuenta para la ejecución del contrato y que tengan impacto directo con la debida ejecución del mismo. | D15: =+'EVALUACION CON CONTROLES'!A21 -> EJECUCIÓN | E15: Específico | F15: Externo | G15: =+EVALUACION!H21 -> Supervisión inadecuada del uso que le da el contratista al anticipo. Desconocimiento del contratista de la obligación en el cumplimiento con la póliza del buen manejo del anticipo. | H15: =+EVALUACION!I21 -> 2 | I15: =+EVALUACION!J21 -> 3 | J15: =+EVALUACION!K21 -> 5 | K15: =+EVALUACION!L21 -> MEDIO | L15: CONTRATISTA | M15: 100 | N15: =+'EVALUACION CON CONTROLES'!F21 -> *Realizar actividades dirigidas a mitigar las posibles fallas tecnicas que presenten para regular el normal desarrollo del contrato. | O15: =+'EVALUACION CON CONTROLES'!H21 -> 2 | P15: =+'EVALUACION CON CONTROLES'!I21 -> 3 | Q15: =+'EVALUACION CON CONTROLES'!J21 -> 5 | R15: =+'EVALUACION CON CONTROLES'!K21 -> MEDIO | S15: =+'EVALUACION CON CONTROLES'!L21 -> Si | T15: =+'EVALUACION CON CONTROLES'!M21 -> Contratista | U15: =+'EVALUACION CON CONTROLES'!N21 -> Desde el Acta de Inicio | V15: =+'EVALUACION CON CONTROLES'!O21 -> Hasta la terminación del contrato | ... X15: =+'EVALUACION CON CONTROLES'!Q21 -> Cuando se requiera el tramite
B16: 6 | C16: =+'EVALUACION CON CONTROLES'!B22 -> Demora en el trámite de adquisición de permisos y/o licencias | D16: =+'EVALUACION CON CONTROLES'!A22 -> EJECUCIÓN | E16: Específico | F16: Externo | G16: =+EVALUACION!H22 -> Se rechaza la propuesta presentada | H16: =+EVALUACION!I22 -> 3 | I16: =+EVALUACION!J22 -> 3 | J16: =+EVALUACION!K22 -> 6 | K16: =+EVALUACION!L22 -> ALTO | L16: PROPONENTE | M16: 100 | N16: =+'EVALUACION CON CONTROLES'!F22 -> *Revisar la información o documentación digital y física presentada por los proponente durante el proceso de selección. *Realizar las verificaciones con los terceros que expiden la información o suscriban los documentos aportados. *Efectuar observaciones o solicitudes de aclaración de forma oportuna para evitar inconsistencias. *Remitir a entes de control o de investigación penal para lo de su competencia, de evidenciarse inconsistencias de la información o documentos entregada por los proponentes. | O16: =+'EVALUACION CON CONTROLES'!H22 -> 3 | P16: =+'EVALUACION CON CONTROLES'!I22 -> 3 | Q16: =+'EVALUACION CON CONTROLES'!J22 -> 6 | R16: =+'EVALUACION CON CONTROLES'!K22 -> ALTO | S16: =+'EVALUACION CON CONTROLES'!L22 -> Si | T16: =+'EVALUACION CON CONTROLES'!M22 -> FDLPA / Contratista | U16: =+'EVALUACION CON CONTROLES'!N22 -> Desde la suscripción del acta de inicio | V16: =+'EVALUACION CON CONTROLES'!O22 -> 1, Etapa de diagnostico | ... X16: =+'EVALUACION CON CONTROLES'!Q22 -> semanalmente
B17: 7 | C17: =+'EVALUACION CON CONTROLES'!B23 -> Inundaciones, lluvias, sequías, entre otros climaticos o ambientales, siempre y cuando los mismos puedan preverse. | D17: =+'EVALUACION CON CONTROLES'!A23 -> EJECUCIÓN | E17: Específico | F17: Externo | G17: =+EVALUACION!H23 -> Retraso del cronograma del Proyecto o sobrecostos | H17: =+EVALUACION!I23 -> 1 | I17: =+EVALUACION!J23 -> 4 | J17: =+EVALUACION!K23 -> 5 | K17: =+EVALUACION!L23 -> MEDIO | L17: CONTRATISTA Y FDLPA | M17: 100 | N17: =+'EVALUACION CON CONTROLES'!F23 -> *Ajuste de documentos de conformidad con las observaciones presentadas. | O17: =+'EVALUACION CON CONTROLES'!H23 -> 1 | P17: =+'EVALUACION CON CONTROLES'!I23 -> 4 | Q17: =+'EVALUACION CON CONTROLES'!J23 -> 5 | R17: =+'EVALUACION CON CONTROLES'!K23 -> MEDIO | S17: =+'EVALUACION CON CONTROLES'!L23 -> Si | T17: =+'EVALUACION CON CONTROLES'!M23 -> FDLPA / Contratista | U17: =+'EVALUACION CON CONTROLES'!N23 -> Una vez ocurrido el evento | V17: =+'EVALUACION CON CONTROLES'!O23 -> Hasta la terminación del contrato | ... X17: =+'EVALUACION CON CONTROLES'!Q23 -> Semanal
B18: 8 | C18: =+'EVALUACION CON CONTROLES'!B24 -> No culminación del proyecto en el plazo establecido debido a incumplimientos del contratista de obra | D18: =+'EVALUACION CON CONTROLES'!A24 -> EJECUCIÓN | E18: Específico | F18: Externo | G18: =+EVALUACION!H24 -> Modificaciones contractuales | H18: =+EVALUACION!I24 -> 3 | I18: =+EVALUACION!J24 -> 2 | J18: =+EVALUACION!K24 -> 5 | K18: =+EVALUACION!L24 -> MEDIO | L18: CONTRATISTA Y FDLPA | M18: 100 | N18: =+'EVALUACION CON CONTROLES'!F24 -> *El contratista debera acreditar ante la interventoria el punto de perdida, para que la entidad proceda con el restablecimiento del equilibrio economico del contrato | O18: =+'EVALUACION CON CONTROLES'!H24 -> 3 | P18: =+'EVALUACION CON CONTROLES'!I24 -> 2 | Q18: =+'EVALUACION CON CONTROLES'!J24 -> 5 | R18: =+'EVALUACION CON CONTROLES'!K24 -> MEDIO | S18: =+'EVALUACION CON CONTROLES'!L24 -> Si | T18: =+'EVALUACION CON CONTROLES'!M24 -> FDLPA / Contratista | U18: =+'EVALUACION CON CONTROLES'!N24 -> Desde la suscripción del acta de inicio | V18: =+'EVALUACION CON CONTROLES'!P24 -> Seguimiento en la ejecución de la totalidad de las labores realizadas por el contratista de obra por parte de la interventoría del proyecto | W18: =+'EVALUACION CON CONTROLES'!P24 -> Seguimiento en la ejecución de la totalidad de las labores realizadas por el contratista de obra por parte de la interventoría del proyecto | X18: =+'EVALUACION CON CONTROLES'!Q24 -> Semanal
B19: 9 | C19: =+'EVALUACION CON CONTROLES'!B25 -> Muerte del contratista o la persona natural | D19: =+'EVALUACION CON CONTROLES'!A25 -> EJECUCIÓN | E19: General | F19: Externo | G19: =+EVALUACION!H25 -> Desequilibrio contractual que afecte la ejecucion del contrato. | H19: =+EVALUACION!I25 -> 1 | I19: =+EVALUACION!J25 -> 4 | J19: =+EVALUACION!K25 -> 5 | K19: =+EVALUACION!L25 -> MEDIO | L19: CONTRATISTA Y FDLPA | M19: 80/20 | N19: =+'EVALUACION CON CONTROLES'!F25 -> * Determinar el impacto del cambio en el alcance contractual y realizar ajuste al contrato en caso de requerirse. | O19: =+'EVALUACION CON CONTROLES'!H25 -> 1 | P19: =+'EVALUACION CON CONTROLES'!I25 -> 4 | Q19: =+'EVALUACION CON CONTROLES'!J25 -> 5 | R19: =+'EVALUACION CON CONTROLES'!K25 -> MEDIO | S19: =+'EVALUACION CON CONTROLES'!L25 -> Si | T19: =+'EVALUACION CON CONTROLES'!M25 -> Contratista | U19: =+'EVALUACION CON CONTROLES'!N25 -> Una vez ocurrido el evento | V19: =+'EVALUACION CON CONTROLES'!O25 -> Hasta la terminación del contrato | ... X19: =+'EVALUACION CON CONTROLES'!Q25 -> En caso de ocurrencia
B20: 10 | C20: =+'EVALUACION CON CONTROLES'!B26 -> Disolución del Consorcio o unión temporal | D20: =+'EVALUACION CON CONTROLES'!A26 -> EJECUCIÓN | E20: Específico | F20: Externo | G20: =+EVALUACION!H26 -> No se puede iniciar la obra Genera retrasos en el proyecto Sobrecostos por cambios de Vigencia. | H20: =+EVALUACION!I26 -> 1 | I20: =+EVALUACION!J26 -> 4 | J20: =+EVALUACION!K26 -> 5 | K20: =+EVALUACION!L26 -> MEDIO | L20: FDLPA | M20: 100 | N20: =+'EVALUACION CON CONTROLES'!F26 -> *En caso de generarse disolucion del consorciado o union temporal, informarlo oportunamente, con el fin de implementar las medidas correctivas necesarias. | O20: =+'EVALUACION CON CONTROLES'!H26 -> 1 | P20: =+'EVALUACION CON CONTROLES'!I26 -> 4 | Q20: =+'EVALUACION CON CONTROLES'!J26 -> 5 | R20: =+'EVALUACION CON CONTROLES'!K26 -> MEDIO | S20: =+'EVALUACION CON CONTROLES'!L26 -> Si | T20: =+'EVALUACION CON CONTROLES'!M26 -> FDLPA | U20: =+'EVALUACION CON CONTROLES'!N26 -> Desde el Acta de Inicio | V20: =+'EVALUACION CON CONTROLES'!O26 -> Hasta la terminación del contrato | ... X20: =+'EVALUACION CON CONTROLES'!Q26 -> En caso de ocurrencia
B21: 11 | C21: =+'EVALUACION CON CONTROLES'!B27 -> Demoras en la aprobación de documentación presentada por el contratista a la interventoría | D21: =+'EVALUACION CON CONTROLES'!A27 -> EJECUCIÓN | E21: Específico | F21: Externo | G21: =+EVALUACION!H27 -> Genera retrasos en el proyecto | H21: =+EVALUACION!I27 -> 1 | I21: =+EVALUACION!J27 -> 4 | J21: =+EVALUACION!K27 -> 5 | K21: =+EVALUACION!L27 -> MEDIO | L21: FDLPA | M21: 100 | N21: =+'EVALUACION CON CONTROLES'!F27 -> *En caso de generarse atrasos en la obtencionn de permisos, informarlo oportunamente, con el fin de implementar las medidas correctivas necesarias. *Es responsabilidad del contratista y la Interventoria implementar alternativas de contingencia que permitan dar continuidad a la ejecucion. * Seguimiento por parte de la interventoría del contrato para que se adelanten los tramites ante las entidades o empresas correspondientes de manera oportuna. | O21: =+'EVALUACION CON CONTROLES'!H27 -> 1 | P21: =+'EVALUACION CON CONTROLES'!I27 -> 4 | Q21: =+'EVALUACION CON CONTROLES'!J27 -> 5 | R21: =+'EVALUACION CON CONTROLES'!K27 -> MEDIO | S21: =+'EVALUACION CON CONTROLES'!L27 -> Si | T21: =+'EVALUACION CON CONTROLES'!M27 -> Contratista | U21: =+'EVALUACION CON CONTROLES'!N27 -> Desde el Acta de Inicio | V21: =+'EVALUACION CON CONTROLES'!O27 -> Hasta la terminación del contrato | ... X21: =+'EVALUACION CON CONTROLES'!Q27 -> Mensual
B22: 12 | C22: =+'EVALUACION CON CONTROLES'!B28 -> Demoras en la respuesta por parte del FONDO / Alcaldía a los requerimientos del interventor | D22: =+'EVALUACION CON CONTROLES'!A28 -> EJECUCIÓN | E22: Específico | F22: Externo | G22: =+EVALUACION!H28 -> Que el contratista alegue con posteridad a la adjudicación o durante la ejecución desequilibrio económico | H22: =+EVALUACION!I28 -> 1 | I22: =+EVALUACION!J28 -> 3 | J22: =+EVALUACION!K28 -> 4 | K22: =+EVALUACION!L28 -> BAJO | L22: CONTRATISTA | M22: 100 | N22: =+'EVALUACION CON CONTROLES'!F28 -> *En caso de generarse retrasos por parte de la entidad, en los comites de seguimiento e debn informar por parte de los contratistas como obligacion de la entidad o apoyo a la supervision. | O22: =+'EVALUACION CON CONTROLES'!H28 -> 1 | P22: =+'EVALUACION CON CONTROLES'!I28 -> 3 | Q22: =+'EVALUACION CON CONTROLES'!J28 -> 4 | R22: =+'EVALUACION CON CONTROLES'!K28 -> BAJO | S22: =+'EVALUACION CON CONTROLES'!L28 -> Si | T22: =+'EVALUACION CON CONTROLES'!M28 -> FDLPA / Contratista | U22: =+'EVALUACION CON CONTROLES'!N28 -> Desde el Acta de Inicio | V22: =+'EVALUACION CON CONTROLES'!O28 -> Hasta la terminación del contrato | ... X22: =+'EVALUACION CON CONTROLES'!Q28 -> Mensual
F24: Categoria | J24: Impacto del Riesgo
E25: Probabilidad | F25: Catagoria | G25: Valoración | J25: Categoria | L25: Valoración
F26: Raro (puede ocurrir excepcionalmente) | G26: 1 | J26: Insignificante | L26: 1
F27: Improbable (puede ocurrir ocasionalmente) | G27: 2 | J27: Menor | L27: 2
F28: Posible (puede ocurrir en cualquier momento futuro) | G28: 3 | J28: Moderado | L28: 3
F29: Probable (probablemente va a ocurrir) | G29: 4 | J29: Mayor | L29: 4
F30: Casi cierto (ocurre en la mayoria de circunstancias) | G30: 5 | J30: Catastrófico | L30: 5
D32: Valoración del Riesgo
D33: Catagoria | E33: Valoración | F33: Insignificante | H33: Menor | J33: Moderado | K33: Mayor | L33: Catastrófico | P33: Categoria del Riesgo
F34: 1 | H34: 2 | J34: 3 | K34: 4 | L34: 5 | P34: Valoración del Riesgo | S34: Categoría
D35: Raro (puede ocurrir excepcionalmente) | E35: 1 | F35: 2 | H35: 3 | J35: 4 | K35: 5 | L35: 6 | P35: 8, 9 y 10 | S35: Riesgo extremo
D36: Improbable (puede ocurrir ocasionalmente) | E36: 2 | F36: 3 | H36: 4 | J36: 5 | K36: 6 | L36: 7 | P36: 6 y 7 | S36: Riesgo alto
D37: Posible (puede ocurrir en cualquier momento futuro) | E37: 3 | F37: 4 | H37: 5 | J37: 6 | K37: 7 | L37: 8 | P37: 5 | S37: Riesgo medio
D38: Probable (probablemente va a ocurrir) | E38: 4 | F38: 5 | H38: 6 | J38: 7 | K38: 8 | L38: 9 | P38: 2, 3 y 4 | S38: Riesgo bajo
D39: Casi cierto (ocurre en la mayoria de circunstancias) | E39: 5 | F39: 6 | H39: 7 | J39: 8 | K39: 9 | L39: 10
B44: CONTRATISTA
B45: FDLPA
B46: CONTRATISTA Y FDLPA
