Workbook
Name a.vtas.cim: #REF!
Name a.vtas.cim: #REF!
Name A_IMPRESIÓN_IM: #REF!
Name A_nuevo: #REF!
Name AAa: #REF!
Name aaaa: #REF!
Name AAAAAAA: [1]COMPRA!#REF!
Name absc: [2]!absc
Name ACCESORIOS: [3]Materiales!$D$559:$D$570
Name Accesorios_de_1_2: #REF!
Name Accesorios_de_1_2: #REF!
Name Accesorios_de_3_4: #REF!
Name Accesorios_de_3_4: #REF!
Name Acero_de_Refuerzo_Figurado_de_60.000_P.S.I.: #REF!
Name Acero_de_Refuerzo_Figurado_de_60.000_P.S.I.: #REF!
Name Acido_Muriatico: #REF!
Name Acido_Muriatico: #REF!
Name Acoflex_1_2: #REF!
Name Acoflex_1_2: #REF!
Name Acometida_en_2_3___350_kcmil___1___250_kcmil_AWG__THHN_en_Ø_4: #REF!
Name Acometida_en_2_3___350_kcmil___1___250_kcmil_AWG__THHN_en_Ø_4: #REF!
Name Acometida_en_3___1_0___1___2___1___6_T_AWG__THHN_en_1Ø_3: #REF!
Name Acometida_en_3___1_0___1___2___1___6_T_AWG__THHN_en_1Ø_3: #REF!
Name Acometida_en_3___250_kcmil___1___2_0___1___2_T_AWG__THHN_en_1Ø_3: #REF!
Name Acometida_en_3___250_kcmil___1___2_0___1___2_T_AWG__THHN_en_1Ø_3: #REF!
Name Acometida_en_3___4_0___1___2_0___1___2_T_AWG__THHN_en_1Ø_3: #REF!
Name Acometida_en_3___4_0___1___2_0___1___2_T_AWG__THHN_en_1Ø_3: #REF!
Name Acometida_en_3___6___1___8___1___8_T_AWG__THHN_en_1Ø_1: #REF!
Name Acometida_en_3___6___1___8___1___8_T_AWG__THHN_en_1Ø_1: #REF!
Name Acometida_en_3___6_en_1Ø_2: #REF!
Name Acometida_en_3___6_en_1Ø_2: #REF!
Name Acometida_en_3___8___1___10___1___8_T_AWG__THHN_en_1Ø_1: #REF!
Name Acometida_en_3___8___1___10___1___8_T_AWG__THHN_en_1Ø_1: #REF!
Name Acometida_en_Conductor_de_Cobre_3___2_0_AWG_XLEP_15_Kv: #REF!
Name Acometida_en_Conductor_de_Cobre_3___2_0_AWG_XLEP_15_Kv: #REF!
Name AD: #REF!
Name Agua: #REF!
Name Agua: #REF!
Name AHER: [4]HER!$B:$D
Name aiu: #REF!
Name Alambre_Negro_No.18: #REF!
Name Alambre_Negro_No.18: #REF!
Name Alcaparro_2.00_m: #REF!
Name Alcaparro_2.00_m: #REF!
Name aleros: [3]Materiales!$D$267:$D$281
Name ALFAJIAS: [3]Materiales!$D$457:$D$465
Name Almacenista: #REF!
Name Almacenista: #REF!
Name AMAT: [4]MAT!$B:$D
Name Andamio_Sección: #REF!
Name Andamio_Sección: #REF!
Name Andamios: #REF!
Name Andamios: #REF!
Name Angulo_en_aluminio_1_2__x_1_2__x_1_16: #REF!
Name Angulo_en_aluminio_1_2__x_1_2__x_1_16: #REF!
Name Angulo_hierro_2_1_2__x_3_13: #REF!
Name Angulo_hierro_2_1_2__x_3_13: #REF!
Name Anticorrosivo_Rojo_Claro: #REF!
Name Anticorrosivo_Rojo_Claro: #REF!
Name APARATOS: [3]Materiales!$D$528:$D$543

Sheet 2. PPTO CONSOLIDADO
B1: LICITACIÓN DE OBRA PÚBLICA No. USPEC-LP-029-2020
B2: FORMATO No. 7 OFERTA ECONÓMICA
A5: DISEÑO DE REDES EXTERNAS
A6: ÍTEM | B6: DESCRIPCIÓN | C6: UNIDAD | D6: CANTIDAD | E6: VR. UNITARIO | F6: VR. UNITARIO OFERTADO | G6: VR. PARCIAL
A7: 1 | B7: Diseño de redes externas de acueducto, alcantarillado y energía eléctrica para la conexión a los servicios publicos del municipio. Incluye evantamiento topografico, estudios de suelos, ensayos y apiques y tramites ante las empresas prestadoras de los servicios publicos. | C7: u | D7: 1 | E7: 165328330 | G7: =ROUND(F7*D7,0) -> 0
B8: I.V.A. / UTILIDAD | C8: % | D8: 0.19 | E8: 31412383 | F8: =ROUND(G7*D8,0) -> 0 | G8: =ROUND(G7*D8,0) -> 0
A9: 2 | B9: Pagos a terceros por concepto de permisos y/o licencias requeridas para la ejecución del proyecto. | C9: u | D9: 1 | E9: 50000000 | G9: =ROUND(F9*D9,0) -> 0
B10: TOTAL | G10: =SUM(G7:G9) -> 0
B12: TOTAL PRECONSTRUCCION DISEÑO REDES EXTERNAS
A14: PRESUPUESTO DETALLADO DE OBRA
A15: ÍTEM | B15: DESCRIPCIÓN | C15: UNIDAD | D15: CANTIDAD | E15: VR. UNITARIO | F15: VR. UNITARIO OFERTADO | G15: VR. PARCIAL
A16: 1 | B16: PRELIMINARES, PROVISIONALES DE OBRA Y DEMOLICIONES.
A17: 1.1 | B17: ACTIVIDADES PRELIMINARES.
A18: 1.1.6 | B18: Cerramiento provisional en polisombra densidad 80% de retención de luz h.=2,00 m, con estructura en durmientes de madera 4,0x4,0 cm distanciadas cada 2,00 m. Incluye dados de concreto f'c=2500 PSI 10x10x20 cm para los durmientes. El pago por metro lineal será medido en planta. | C18: m | D18: 606 | E18: 8737 | G18: =ROUND(F18*D18,0) -> 0
A19: 1.2 | B19: INSTALACIONES Y TRÁMITES DE SERVICIOS PROVISIONALES. | F19: =+E19 -> 0 | G19: =ROUND(F19*D19,0) -> 0
A20: 1.2.1 | B20: Instalaciones interiores provisionales de acueducto. Incluye excavación, retiro de sobrantes, tuberías, accesorios, adecuaciones de todas las instalaciones necesarias al interior del lote para ejecución del proyecto. Incluye habilitación del servicio para campamentos y ejecución total de obra. No incluye aparatos sanitarios, ni tramitología, ni obras relacionadas a la TPO. | C20: u | D20: 30 | E20: 268723 | G20: =ROUND(F20*D20,0) -> 0
A21: 1.2.3 | B21: Instalaciones interiores provisionales de Energía. Incluye excavación, retiro de sobrantes, tuberías, accesorios, estructuras provisionales, tableros, cables, ducteria, salidas, adecuaciones de todas las instalaciones necesarias al interior del lote para ejecución del proyecto. Incluye habilitación del servicio para campamentos y ejecución total de obra. No incluye aparatos eléctricos, ni tramitología, ni obras relacionadas a la TPO. | C21: u | D21: 15 | E21: 115848 | G21: =ROUND(F21*D21,0) -> 0
A22: 1. | B22: SUBTOTAL 1. PRELIMINARES, PROVISIONALES DE OBRA Y DEMOLICIONES. | F22: =+E22 -> 0 | G22: =ROUND(F22*D22,0) -> 0
A23: 2 | B23: MOVIMIENTOS DE TIERRAS, CIMENTACIONES, Y OTROS ENTERRADOS / SUBTERRÁNEOS DE TIPO ESTRUCTURAL. | F23: =+E23 -> 0 | G23: =ROUND(F23*D23,0) -> 0
A24: 2.1 | B24: EXCAVACIONES, RELLENOS Y REEMPLAZOS. | F24: =+E24 -> 0 | G24: =ROUND(F24*D24,0) -> 0
A25: 2.1.1 | B25: Descapote mecánico de capa vegetal h.prom <=30 cm. Incluye cargue, retiro, disposición de escombros a sitio aprobado por la autoridad ambiental. | C25: m2 | D25: 38495 | E25: 6711 | G25: =ROUND(F25*D25,0) -> 0
A26: 2.1.3 | B26: Excavación mecánica en material común. Incluye cargue, retiro, disposición de escombros a sitio aprobado por la autoridad ambiental. | C26: m3 | D26: 46261 | E26: 29480 | G26: =ROUND(F26*D26,0) -> 0
A27: 2.1.4 | B27: Excavación manual en material común h.<=2,00m. Incluye entibado en ambos costados, cargue, retiro, disposición de escombros a sitio aprobado por la autoridad ambiental. | C27: m3 | D27: 4534 | E27: 50267 | G27: =ROUND(F27*D27,0) -> 0
A28: 2.1.10 | B28: Relleno manual con material seleccionado de sitio. Incluye extendido, humedecimiento y compactación. | C28: m3 | D28: 1096 | E28: 18809 | G28: =ROUND(F28*D28,0) -> 0
A29: 2.1.11 | B29: Relleno manual con recebo común compactado. Incluye extendido, humedecimiento y compactación. | C29: m3 | D29: 7323 | E29: 61038 | G29: =ROUND(F29*D29,0) -> 0
A30: 2.1.12 | B30: Relleno mecánico con recebo común compactado. Incluye extendido, humedecimiento y compactación. | C30: m3 | D30: 44793 | E30: 44902 | G30: =ROUND(F30*D30,0) -> 0
A31: 2.1.13 | B31: Relleno piedra rajon con sello (afirmado norma invias 311). Incluye extendido, humedecimiento y compactación. | C31: m3 | D31: 796 | E31: 80766 | G31: =ROUND(F31*D31,0) -> 0
A32: 2.2 | B32: CONCRETOS PARA CIMENTACIÓN. | F32: =+E32 -> 0 | G32: =ROUND(F32*D32,0) -> 0
A33: 2.2.1 | B33: CIMENTACIÓN SUPERFICIAL. | F33: =+E33 -> 0 | G33: =ROUND(F33*D33,0) -> 0
A34: 2.2.1.1 | B34: Concreto pobre de limpieza / solado e.= 5 cm f'c=2000 PSI. | C34: m2 | D34: 48915 | E34: 29273 | G34: =ROUND(F34*D34,0) -> 0
A35: 2.2.1.29 | B35: Dados en concreto f'c=4000 PSI. Incluye porcentaje de formaletería ordinaria para los sitios donde no se funda contra terreno. No incluye acero de refuerzo. | C35: m3 | D35: 505 | E35: 688809 | G35: =ROUND(F35*D35,0) -> 0
A36: 2.2.1.31 | B36: Zapatas en concreto f'c=4000 PSI. Incluye porcentaje de formaletería ordinaria para los sitios donde no se funda contra terreno. No incluye acero de refuerzo. | C36: m3 | D36: 2038 | E36: 688809 | G36: =ROUND(F36*D36,0) -> 0
A37: 2.2.1.32 | B37: Vigas de cimentación en concreto f'c=4000 PSI. Incluye porcentaje de formaletería ordinaria para los sitios donde no se funda contra terreno. No incluye acero de refuerzo. | C37: m3 | D37: 3027 | E37: 651275 | G37: =ROUND(F37*D37,0) -> 0
A38: 2.2.1.33 | B38: Placa de contrapiso en concreto f'c=4000 PSI. Incluye porcentaje de formaletería ordinaria para los sitios donde no se funda contra terreno. No incluye acero de refuerzo | C38: m3 | D38: 2128 | E38: 624374 | G38: =ROUND(F38*D38,0) -> 0
A39: 2.3 | B39: CONCRETOS PARA OTROS ELEMENTOS ESTRUCTURALES ENTERRADOS / SUBTERRÁNEOS. | F39: =+E39 -> 0 | G39: =ROUND(F39*D39,0) -> 0
A40: 2.3.1 | B40: TANQUE DE ALMACENAMIENTO DE AGUA - POTABLE, CONTRA-INCENDIO, SISTEMA MIXTO, RECICLADA. | F40: =+E40 -> 0 | G40: =ROUND(F40*D40,0) -> 0
A41: 2.3.1.1 | B41: Vigas de cimentación en concreto f'c=4000 PSI para tanque de almacenamiento. Incluye porcentaje de formaletería ordinaria para los sitios donde no se funda contra terreno. No incluye acero de refuerzo. | C41: m3 | D41: 263 | E41: 677065 | G41: =ROUND(F41*D41,0) -> 0
A42: 2.3.1.2 | B42: Suministro e instalación de concreto f'c 4.000 psi para placa de contrapiso tanques de almacenamiento. Incluye impermeabilización, formaleta, desmoldante, curado, vibrado. No incluye acero de refuerzo | C42: m3 | D42: 398 | E42: 708932 | G42: =ROUND(F42*D42,0) -> 0
A43: 2.3.1.3 | B43: Suministro e instalación de concreto f'c 4.000 psi para columnas de tanques de almacenamiento. Incluye impermeabilización, formaleta, desmoldante, curado, vibrado. No incluye acero de refuerzo | C43: m3 | D43: 70 | E43: 819982 | G43: =ROUND(F43*D43,0) -> 0
A44: 2.3.1.4 | B44: Suministro e instalación de concreto f'c 4.000 psi para muros de tanques de almacenamiento. Incluye impermeabilización, formaleta, desmoldante, curado, vibrado. No incluye acero de refuerzo | C44: m3 | D44: 354 | E44: 841235 | G44: =ROUND(F44*D44,0) -> 0
...

Sheet Pareto
A1: Ítem | B1: Nombre | C1: Vr | D1: Porcentaje
A2: =+'2. PPTO CONSOLIDADO'!#REF! -> #REF! | B2: =+'2. PPTO CONSOLIDADO'!#REF! -> #REF! | C2: =+IF('2. PPTO CONSOLIDADO'!#REF!="","",'2. PPTO CONSOLIDADO'!#REF!) -> #REF! | D2: =+IFERROR(C2/'2. PPTO CONSOLIDADO'!$G$1307,"")
A3: =+'2. PPTO CONSOLIDADO'!#REF! -> #REF! | B3: =+'2. PPTO CONSOLIDADO'!#REF! -> #REF! | C3: =+IF('2. PPTO CONSOLIDADO'!#REF!="","",'2. PPTO CONSOLIDADO'!#REF!) -> #REF! | D3: =+IFERROR(C3/'2. PPTO CONSOLIDADO'!$G$1307,"")
A4: =+'2. PPTO CONSOLIDADO'!#REF! -> #REF! | B4: =+'2. PPTO CONSOLIDADO'!#REF! -> #REF! | C4: =+IF('2. PPTO CONSOLIDADO'!#REF!="","",'2. PPTO CONSOLIDADO'!#REF!) -> #REF! | D4: =+IFERROR(C4/'2. PPTO CONSOLIDADO'!$G$1307,"")
A5: =+'2. PPTO CONSOLIDADO'!A23 -> 2 | B5: =+'2. PPTO CONSOLIDADO'!B23 -> MOVIMIENTOS DE TIERRAS, CIMENTACIONES, Y OTROS ENTERRADOS / SUBTERRÁNEOS DE TIPO ESTRUCTURAL. | C5: =+IF('2. PPTO CONSOLIDADO'!G23="","",'2. PPTO CONSOLIDADO'!G23) -> 0 | D5: =+IFERROR(C5/'2. PPTO CONSOLIDADO'!$G$1307,"")
A6: =+'2. PPTO CONSOLIDADO'!A24 -> 2.1 | B6: =+'2. PPTO CONSOLIDADO'!B24 -> EXCAVACIONES, RELLENOS Y REEMPLAZOS. | C6: =+IF('2. PPTO CONSOLIDADO'!G24="","",'2. PPTO CONSOLIDADO'!G24) -> 0 | D6: =+IFERROR(C6/'2. PPTO CONSOLIDADO'!$G$1307,"")
A7: =+'2. PPTO CONSOLIDADO'!A32 -> 2.2 | B7: =+'2. PPTO CONSOLIDADO'!B32 -> CONCRETOS PARA CIMENTACIÓN. | C7: =+IF('2. PPTO CONSOLIDADO'!G32="","",'2. PPTO CONSOLIDADO'!G32) -> 0 | D7: =+IFERROR(C7/'2. PPTO CONSOLIDADO'!$G$1307,"")
A8: =+'2. PPTO CONSOLIDADO'!A33 -> 2.2.1 | B8: =+'2. PPTO CONSOLIDADO'!B33 -> CIMENTACIÓN SUPERFICIAL. | C8: =+IF('2. PPTO CONSOLIDADO'!G33="","",'2. PPTO CONSOLIDADO'!G33) -> 0 | D8: =+IFERROR(C8/'2. PPTO CONSOLIDADO'!$G$1307,"")
A9: =+'2. PPTO CONSOLIDADO'!A39 -> 2.3 | B9: =+'2. PPTO CONSOLIDADO'!B39 -> CONCRETOS PARA OTROS ELEMENTOS ESTRUCTURALES ENTERRADOS / SUBTERRÁNEOS. | C9: =+IF('2. PPTO CONSOLIDADO'!G39="","",'2. PPTO CONSOLIDADO'!G39) -> 0 | D9: =+IFERROR(C9/'2. PPTO CONSOLIDADO'!$G$1307,"")
A10: =+'2. PPTO CONSOLIDADO'!A40 -> 2.3.1 | B10: =+'2. PPTO CONSOLIDADO'!B40 -> TANQUE DE ALMACENAMIENTO DE AGUA - POTABLE, CONTRA-INCENDIO, SISTEMA MIXTO, RECICLADA. | C10: =+IF('2. PPTO CONSOLIDADO'!G40="","",'2. PPTO CONSOLIDADO'!G40) -> 0 | D10: =+IFERROR(C10/'2. PPTO CONSOLIDADO'!$G$1307,"")
A11: =+'2. PPTO CONSOLIDADO'!A53 -> 2.4 | B11: =+'2. PPTO CONSOLIDADO'!B53 -> ACEROS DE REFUERZO PARA ELEMENTOS ESTRUCTURALES ENTERRADOS / SUBTERRÁNEOS. | C11: =+IF('2. PPTO CONSOLIDADO'!G53="","",'2. PPTO CONSOLIDADO'!G53) -> 0 | D11: =+IFERROR(C11/'2. PPTO CONSOLIDADO'!$G$1307,"")
A12: =+'2. PPTO CONSOLIDADO'!A57 -> 3 | B12: =+'2. PPTO CONSOLIDADO'!B57 -> REDES SUBTERRÁNEAS (hidrosanitarias, gas, eléctricas, comunicaciones, calderas, lavandería, ventilación, ambientales, etc.). | C12: =+IF('2. PPTO CONSOLIDADO'!G57="","",'2. PPTO CONSOLIDADO'!G57) -> 0 | D12: =+IFERROR(C12/'2. PPTO CONSOLIDADO'!$G$1307,"")
A13: =+'2. PPTO CONSOLIDADO'!A58 -> 3.1 | B13: =+'2. PPTO CONSOLIDADO'!B58 -> EXCAVACIONES, RELLENOS Y REEMPLAZOS. | C13: =+IF('2. PPTO CONSOLIDADO'!G58="","",'2. PPTO CONSOLIDADO'!G58) -> 0 | D13: =+IFERROR(C13/'2. PPTO CONSOLIDADO'!$G$1307,"")
A14: =+'2. PPTO CONSOLIDADO'!A67 -> 3.2 | B14: =+'2. PPTO CONSOLIDADO'!B67 -> REDES HÚMEDAS. | C14: =+IF('2. PPTO CONSOLIDADO'!G67="","",'2. PPTO CONSOLIDADO'!G67) -> 0 | D14: =+IFERROR(C14/'2. PPTO CONSOLIDADO'!$G$1307,"")
A15: =+'2. PPTO CONSOLIDADO'!A69 -> 3.2.1 | B15: =+'2. PPTO CONSOLIDADO'!B69 -> REDES DE SUMINISTRO DE AGUA POTABLE | C15: =+IF('2. PPTO CONSOLIDADO'!G69="","",'2. PPTO CONSOLIDADO'!G69) -> 0 | D15: =+IFERROR(C15/'2. PPTO CONSOLIDADO'!$G$1307,"")
A16: =+'2. PPTO CONSOLIDADO'!A139 -> 3.2.2 | B16: =+'2. PPTO CONSOLIDADO'!B139 -> DESAGÜE AGUAS RESIDUALES. | C16: =+IF('2. PPTO CONSOLIDADO'!G139="","",'2. PPTO CONSOLIDADO'!G139) -> 0 | D16: =+IFERROR(C16/'2. PPTO CONSOLIDADO'!$G$1307,"")
A17: =+'2. PPTO CONSOLIDADO'!A147 -> 3.2.3 | B17: =+'2. PPTO CONSOLIDADO'!B147 -> DESAGÜE AGUAS LLUVIAS. | C17: =+IF('2. PPTO CONSOLIDADO'!G147="","",'2. PPTO CONSOLIDADO'!G147) -> 0 | D17: =+IFERROR(C17/'2. PPTO CONSOLIDADO'!$G$1307,"")
A18: =+'2. PPTO CONSOLIDADO'!A152 -> 3.2.4 | B18: =+'2. PPTO CONSOLIDADO'!B152 -> OBRAS CIVILES HIDROSANITARIAS. | C18: =+IF('2. PPTO CONSOLIDADO'!G152="","",'2. PPTO CONSOLIDADO'!G152) -> 0 | D18: =+IFERROR(C18/'2. PPTO CONSOLIDADO'!$G$1307,"")
A19: =+'2. PPTO CONSOLIDADO'!A161 -> 3.2.5 | B19: =+'2. PPTO CONSOLIDADO'!B161 -> TANQUES DE SUMINISTRO Y RESERVA | C19: =+IF('2. PPTO CONSOLIDADO'!G161="","",'2. PPTO CONSOLIDADO'!G161) -> 0 | D19: =+IFERROR(C19/'2. PPTO CONSOLIDADO'!$G$1307,"")
A20: =+'2. PPTO CONSOLIDADO'!A279 -> 3.2.6 | B20: =+'2. PPTO CONSOLIDADO'!B279 -> RED SUBTERRÁNEA PARA SISTEMA CONTRAINCENDIO | C20: =+IF('2. PPTO CONSOLIDADO'!G279="","",'2. PPTO CONSOLIDADO'!G279) -> 0 | D20: =+IFERROR(C20/'2. PPTO CONSOLIDADO'!$G$1307,"")
A21: =+'2. PPTO CONSOLIDADO'!A289 -> 4 | B21: =+'2. PPTO CONSOLIDADO'!B289 -> ESTRUCTURAS (Concreto, metal, madera) Y CONCRETOS ARQUITECTÓNICOS. | C21: =+IF('2. PPTO CONSOLIDADO'!G289="","",'2. PPTO CONSOLIDADO'!G289) -> 0 | D21: =+IFERROR(C21/'2. PPTO CONSOLIDADO'!$G$1307,"")
A22: =+'2. PPTO CONSOLIDADO'!A290 -> 4.1 | B22: =+'2. PPTO CONSOLIDADO'!B290 -> ESTRUCTURAS DE CONCRETO. | C22: =+IF('2. PPTO CONSOLIDADO'!G290="","",'2. PPTO CONSOLIDADO'!G290) -> 0 | D22: =+IFERROR(C22/'2. PPTO CONSOLIDADO'!$G$1307,"")
A23: =+'2. PPTO CONSOLIDADO'!A291 -> 4.1.1 | B23: =+'2. PPTO CONSOLIDADO'!B291 -> ELEMENTOS VERTICALES ESTRUCTURALES DE CONCRETO. | C23: =+IF('2. PPTO CONSOLIDADO'!G291="","",'2. PPTO CONSOLIDADO'!G291) -> 0 | D23: =+IFERROR(C23/'2. PPTO CONSOLIDADO'!$G$1307,"")
A24: =+'2. PPTO CONSOLIDADO'!A296 -> 4.1.3 | B24: =+'2. PPTO CONSOLIDADO'!B296 -> PLACAS ESTRUCTURALES DE CONCRETO. | C24: =+IF('2. PPTO CONSOLIDADO'!G296="","",'2. PPTO CONSOLIDADO'!G296) -> 0 | D24: =+IFERROR(C24/'2. PPTO CONSOLIDADO'!$G$1307,"")
A25: =+'2. PPTO CONSOLIDADO'!A298 -> 4.1.4 | B25: =+'2. PPTO CONSOLIDADO'!B298 -> OTROS ELEMENTOS ESTRUCTURALES DE CONCRETO. | C25: =+IF('2. PPTO CONSOLIDADO'!G298="","",'2. PPTO CONSOLIDADO'!G298) -> 0 | D25: =+IFERROR(C25/'2. PPTO CONSOLIDADO'!$G$1307,"")
A26: =+'2. PPTO CONSOLIDADO'!A301 -> 4.2 | B26: =+'2. PPTO CONSOLIDADO'!B301 -> CONCRETOS ARQUITECTÓNICOS. | C26: =+IF('2. PPTO CONSOLIDADO'!G301="","",'2. PPTO CONSOLIDADO'!G301) -> 0 | D26: =+IFERROR(C26/'2. PPTO CONSOLIDADO'!$G$1307,"")
A27: =+'2. PPTO CONSOLIDADO'!A302 -> 4.2.1 | B27: =+'2. PPTO CONSOLIDADO'!B302 -> ELEMENTOS VERTICALES ARQUITECTÓNICOS DE CONCRETO. | C27: =+IF('2. PPTO CONSOLIDADO'!G302="","",'2. PPTO CONSOLIDADO'!G302) -> 0 | D27: =+IFERROR(C27/'2. PPTO CONSOLIDADO'!$G$1307,"")
A28: =+'2. PPTO CONSOLIDADO'!A305 -> 4.3 | B28: =+'2. PPTO CONSOLIDADO'!B305 -> ACEROS DE REFUERZO PARA ESTRUCTURAS EN CONCRETO Y RELACIONADOS. | C28: =+IF('2. PPTO CONSOLIDADO'!G305="","",'2. PPTO CONSOLIDADO'!G305) -> 0 | D28: =+IFERROR(C28/'2. PPTO CONSOLIDADO'!$G$1307,"")
A29: =+'2. PPTO CONSOLIDADO'!A308 -> 5 | B29: =+'2. PPTO CONSOLIDADO'!B308 -> MAMPOSTERÍAS Y RELACIONADOS. | C29: =+IF('2. PPTO CONSOLIDADO'!G308="","",'2. PPTO CONSOLIDADO'!G308) -> 0 | D29: =+IFERROR(C29/'2. PPTO CONSOLIDADO'!$G$1307,"")
A30: =+'2. PPTO CONSOLIDADO'!A309 -> 5.1 | B30: =+'2. PPTO CONSOLIDADO'!B309 -> MAMPOSTERÍA DE CONCRETO. | C30: =+IF('2. PPTO CONSOLIDADO'!G309="","",'2. PPTO CONSOLIDADO'!G309) -> 0 | D30: =+IFERROR(C30/'2. PPTO CONSOLIDADO'!$G$1307,"")
A31: =+'2. PPTO CONSOLIDADO'!A311 -> 5.2 | B31: =+'2. PPTO CONSOLIDADO'!B311 -> MAMPOSTERÍA DE ARCILLA. | C31: =+IF('2. PPTO CONSOLIDADO'!G311="","",'2. PPTO CONSOLIDADO'!G311) -> 0 | D31: =+IFERROR(C31/'2. PPTO CONSOLIDADO'!$G$1307,"")
A32: =+'2. PPTO CONSOLIDADO'!A313 -> 5.3 | B32: =+'2. PPTO CONSOLIDADO'!B313 -> OTROS MAMPUESTOS. | C32: =+IF('2. PPTO CONSOLIDADO'!G313="","",'2. PPTO CONSOLIDADO'!G313) -> 0 | D32: =+IFERROR(C32/'2. PPTO CONSOLIDADO'!$G$1307,"")
A33: =+'2. PPTO CONSOLIDADO'!A319 -> 6 | B33: =+'2. PPTO CONSOLIDADO'!B319 -> ELEMENTOS NO ESTRUCTURALES PREFABRICADOS Y/O FUNDIDOS EN SITIO. | C33: =+IF('2. PPTO CONSOLIDADO'!G319="","",'2. PPTO CONSOLIDADO'!G319) -> 0 | D33: =+IFERROR(C33/'2. PPTO CONSOLIDADO'!$G$1307,"")
A34: =+'2. PPTO CONSOLIDADO'!A320 -> 6.1 | B34: =+'2. PPTO CONSOLIDADO'!B320 -> PREFABRICADOS EN OBRA O FUNDIDOS EN SITIO. | C34: =+IF('2. PPTO CONSOLIDADO'!G320="","",'2. PPTO CONSOLIDADO'!G320) -> 0 | D34: =+IFERROR(C34/'2. PPTO CONSOLIDADO'!$G$1307,"")
A35: =+'2. PPTO CONSOLIDADO'!A321 -> 6.1.8 | B35: =+'2. PPTO CONSOLIDADO'!B321 -> MESONES EN CONCRETO. | C35: =+IF('2. PPTO CONSOLIDADO'!G321="","",'2. PPTO CONSOLIDADO'!G321) -> 0 | D35: =+IFERROR(C35/'2. PPTO CONSOLIDADO'!$G$1307,"")
A36: =+'2. PPTO CONSOLIDADO'!A327 -> 6.1.9 | B36: =+'2. PPTO CONSOLIDADO'!B327 -> POYOS PARA MUEBLES. | C36: =+IF('2. PPTO CONSOLIDADO'!G327="","",'2. PPTO CONSOLIDADO'!G327) -> 0 | D36: =+IFERROR(C36/'2. PPTO CONSOLIDADO'!$G$1307,"")
A37: =+'2. PPTO CONSOLIDADO'!A329 -> 6.1.11 | B37: =+'2. PPTO CONSOLIDADO'!B329 -> CONDUCTORES DE AGUA. | C37: =+IF('2. PPTO CONSOLIDADO'!G329="","",'2. PPTO CONSOLIDADO'!G329) -> 0 | D37: =+IFERROR(C37/'2. PPTO CONSOLIDADO'!$G$1307,"")
A38: =+'2. PPTO CONSOLIDADO'!A331 -> 6.1.12 | B38: =+'2. PPTO CONSOLIDADO'!B331 -> BANCAS PREFABRICADAS EN CONCRETO. | C38: =+IF('2. PPTO CONSOLIDADO'!G331="","",'2. PPTO CONSOLIDADO'!G331) -> 0 | D38: =+IFERROR(C38/'2. PPTO CONSOLIDADO'!$G$1307,"")
A39: =+'2. PPTO CONSOLIDADO'!A1273 -> 25.4.5 | B39: =+'2. PPTO CONSOLIDADO'!B1273 -> OTROS COMPLEMENTARIOS. | C39: =+IF('2. PPTO CONSOLIDADO'!G1273="","",'2. PPTO CONSOLIDADO'!G1273) -> 0 | D39: =+IFERROR(C39/'2. PPTO CONSOLIDADO'!$G$1307,"")
A40: =+'2. PPTO CONSOLIDADO'!A339 -> 7 | B40: =+'2. PPTO CONSOLIDADO'!B339 -> CONSTRUCCIÓN LIVIANA EN SECO (Cielos rasos, divisiones, otros). | C40: =+IF('2. PPTO CONSOLIDADO'!G339="","",'2. PPTO CONSOLIDADO'!G339) -> 0 | D40: =+IFERROR(C40/'2. PPTO CONSOLIDADO'!$G$1307,"")
...

Sheet 3B. SALARIOS
B2: CATEGORÍA | C2: EMPLEADOS PÚBLICOS | D2: GRADO | E2: INGRESO BÁSICO MENSUAL | F2: PERFILES
E3: ABM
C4: DESPACHO SECRETARIO
B5: S1 | C5: Secretario Despacho | D5: 09 | E5: 8334929
B6: S2 | C6: Asesor | D6: 07 | E6: 6635162
B7: S3 | C7: Asesor *** | D7: 05 | E7: 5429970
B8: S4 | C8: Asesor | D8: 04 | E8: 4920068
B9: S5 | C9: Asesor | D9: 03 | E9: 4368356
B10: S6 | C10: Asesor | D10: 02 | E10: 4252552
B11: S7 | C11: Asesor | D11: 01 | E11: 4034913
C12: NIVEL DIRECTIVO | E12: 1
B13: D1 | C13: Subsecretario de Despacho | D13: 08 | E13: 7432874
B14: D2 | C14: Director Técnico | D14: 08 | E14: 7432874
B15: D3 | C15: Subdirector Técnico | D15: 05 | E15: 5429970
B16: D4 | C16: Jefe Oficina Control Interno y Asuntos Disciplinarios | D16: 06 | E16: 6054883
C17: NIVEL ASESOR | E17: 1
B18: E1 | C18: Jefe de Oficina Asesora de Jurídica | D18: 08 | E18: 7432874
B19: E2 | C19: Jefe de Oficina Asesora de Comunicaciones | D19: 06 | E19: 6054883
C20: NIVEL PROFESIONAL | E20: 1
B21: P1 | C21: Comisario de Familia | D21: 28 | E21: 4368356 | F21: Título profesional, título de posgrado en la modalidad de maestría y ochenta y cuatro (84) meses de experiencia profesional relacionada o título de posgrado en la modalidad de especialización y noventa y seis (96) meses de experiencia relacionada.
B22: P2 | C22: Profesional Especializado | D22: 28 | E22: 4368356 | F22: Título profesional, título de posgrado en la modalidad de maestría y ochenta y cuatro (84) meses de experiencia profesional relacionada o título de posgrado en la modalidad de especialización y noventa y seis (96) meses de experiencia relacionada.
B23: P3 | C23: Profesional Especializado | D23: 25 | E23: 4069095 | F23: Título profesional, Título de postgrado en la modalidad de maestría y setenta y dos (72) meses de experiencia profesional relacionada o Título de postgrado en la modalidad de especialización y ochenta y cuatro (84) meses de experiencia profesional relacionada.
B24: P4 | C24: Profesional Especializado | D24: 23 | E24: 3957142 | F24: Título profesional, título de posgrado en la modalidad de especialización y cuarenta (40) meses de experiencia profesional relacionada
B25: P5 | C25: Profesional Especializado | D25: 22 | E25: 3935376 | F25: Título profesional, título de posgrado en la modalidad de especialización y treinta y siete (37) meses de experiencia profesional relacionada
B26: P6 | C26: Profesional Especializado | D26: 21 | E26: 3826886 | F26: Título profesional, título de posgrado en la modalidad de especialización y treinta y cuatro (34) meses de experiencia profesional relacionada
B27: P7 | C27: Profesional Universitario | D27: 17 | E27: 3421027 | F27: Título profesional, título de posgrado en la modalidad de especialización y veintidós (22) meses de experiencia profesional relacionada.
B28: P8 | C28: Profesional Universitario | D28: 16 | E28: 3399806 | F28: Título profesional, título de posgrado en la modalidad de especialización y diecinueve (19) meses de experiencia profesional relacionada.
B29: P9 | C29: Profesional Universitario | D29: 15 | E29: 3363596 | F29: Título profesional, título de posgrado en la modalidad de especialización y dieciséis (16) meses de experiencia profesional relacionada.
B30: P10 | C30: Profesional Universitario | D30: 12 | E30: 3108993 | F30: Título profesional y título de posgrado en la modalidad de especialización y siete (7) meses de experiencia profesional relacionada.
B31: P11 | C31: Profesional Universitario | D31: 11 | E31: 3021518 | F31: Título profesional y treinta (30) meses de experiencia profesional relacionada.
B32: P12 | C32: Profesional Universitario | D32: 09 | E32: 2854198 | F32: Título profesional y veinticuatro (24) meses de experiencia profesional relacionada.
... B35: M3 | C35: Médico General | D35: 11 | E35: 3021518 | F35: Título profesional y treinta (30) meses de experiencia profesional relacionada
C36: NIVEL TÉCNICO | E36: 1
B37: I1 | C37: Instructor | D37: 14 | E37: 2450455 | F37: Título de formación tecnológica o aprobación de tres (3) años de educación superior en la modalidad de formación tecnológica o profesional o universitaria y nueve (9) meses de experiencia relacionada o laboral.
B38: I2 | C38: Instructor | D38: 11 | E38: 2288227 | F38: Título de formación técnica profesional y tres (3) meses de experiencia relacionada o laboral o aprobación de dos (2) años de educación superior de pregrado y doce (12) meses de experiencia relacionada o laboral.
B39: I3 | C39: Instructor | D39: 08 | E39: 2067806 | F39: Aprobación de dos (2) años de educación superior de pregrado y tres (3) meses de experiencia relacionada o laboral.
B40: I4 | C40: Instructor | D40: 05 | E40: 1872411 | F40: Diploma de bachiller y dieciséis (16) meses de experiencia relacionada o laboral
B41: T1 | C41: Técnico Operativo | D41: 22 | E41: 2681383 | F41: Titulo de formación Tecnica Profesional o Titulo de Formación Tecnologica, o Terminación y aprobación del pénsum académico de educación superior en formación profesional. Seis (6) años de experiencia relacionada.
B42: T2 | C42: Técnico Operativo | D42: 15 | E42: 2463273 | F42: Titulo de formación Tecnica Profesional o Titulo de Formación Tecnologica, o Terminación y aprobación del pénsum académico de educación superior en formación profesional. Dieciocho (18) meses de experiencia relacionada.
B43: T3 | C43: Técnico Operativo | D43: 14 | E43: 2450455 | F43: Titulo de formación Tecnica Profesional o Titulo de Formación Tecnologica, o Terminación y aprobación del pénsum académico de educación superior en formación profesional. Uno (1) año de experiencia relacionada.
...

Sheet 6. mem cant estructu
C1: 1 | D1: 2 | E1: 3 | F1: 4 | G1: 5 | H1: 6 | I1: 7 | J1: 8 | K1: 9 | L1: 10 | M1: 11 | N1: 12 | O1: 13 | P1: 14 | S1: 15 | T1: 16 | U1: 17 | V1: 18 | W1: 19 | X1: 20 | Y1: 21 | Z1: 22 | AA1: 23 | AB1: 24 | AC1: 25 | AD1: 26 | AE1: 27 | AF1: 28 | AG1: 29 | AH1: 30
C2: Ed.01 Portal de Acceso | D2: Ed.02 Taller de Mantenimiento | E2: Ed.03 Técnicos Bombas y Tanques en superficie | F2: Ed.04 Caniles | G2: Ed. 05 Administrativo - Auditorio | H2: Ed.06 Acopio | I2: Ed.07 Alojamientos Guardia | J2: Ed.08 Residencias Fiscales | K2: Ed.09 Subestación y plantas ELE. | L2: Ed.10 Depòsito de Basuras | M2: Ed.11 Guardia Externa | N2: Ed.12 Jurídica | O2: Ed.13 Reseña | P2: Ed.14 Sanidad | Q2: Ed.14 rampa Sanidad | R2: Ed.14 Sanidad | S2: Ed.15 Visitas | T2: Ed.16 Rancho Hombres y Lavanderia | U2: Ed.17 Guardia Interna | V2: Ed.18 Rancho - At. Y Tratamento RM - CDI | W2: Ed.19 Atención y Tratamiento Talleres | X2: Ed.20 Atención y Tratamiento Aulas | Y2: Ed.21 Pabellón 1 Hombres | Z2: Ed.22 Pabellón 6 Mujeres con celdas UTE | AA2: Ed.23 Pabellón 7 Etnias | AB2: Ed.24 Armonizaciòn | AC2: Ed.25 Pabellón 2 Hombres | AD2: Ed.26 Pabellón 3 Hombres | AE2: Ed.27 Pabellón 4 Hombres | AF2: Ed.28 Pabellón 5 Hombres | AG2: Ed.29 Celdas UTE | AH2: Ed.30 Garita suministrado por LA USPEC
A3: HIERROS | B3: fy= 4200 kg/cm2 | C3: 21519 | D3: 6290 | F3: 10928 | G3: 56426 | H3: 21200 | I3: 74361 | J3: 13794 | K3: 12889 | L3: 8955 | M3: 16473 | N3: 23083 | O3: 13441 | P3: =+Q3+R3 -> 80508 | Q3: 40964 | R3: 39544 | S3: 49396 | T3: 49566 | U3: 1361 | V3: 52144 | W3: 15599 | X3: 12257 | Y3: 107893 | Z3: 12454 | AB3: 13955 | AG3: 40089 | AH3: 15800
B4: fy= 2400 kg/cm2 | C4: 392 | G4: 327 | H4: 162 | I4: 633 | J4: 92 | K4: 91 | L4: 226 | N4: 197 | O4: 121 | P4: =+Q4+R4 -> 416 | R4: 416 | S4: 454 | T4: 479 | V4: 436 | W4: 138 | X4: 88 | Y4: 418 | AG4: 47
A6: concreto | B6: zapatas | C6: 12 | D6: 3.1 | F6: 6.5 | G6: 43.7 | H6: 17.8 | I6: 75.7 | J6: 9.6 | K6: 20.9 | L6: 11.4 | M6: 11.6 | N6: 19.1 | O6: 8.4 | P6: =+Q6+R6 -> 55.7 | Q6: 24.5 | R6: 31.2 | S6: 44.5 | T6: 33.8 | U6: 1.4 | V6: 32.2 | W6: 9.39 | X6: 7.2 | Y6: 83.7 | Z6: 27.3 | AB6: 5.6 | AG6: 129.4
A7: 280 kg/cm2 | B7: vigas cimentación | C7: 41 | D7: 11.9 | F7: 20.6 | G7: 69.7 | H7: 43.1 | I7: 63.3 | J7: 11.9 | K7: 24.1 | L7: 17.2 | M7: 32.3 | N7: 31.6 | O7: 26.3 | P7: =+Q7+R7 -> 54.3 | Q7: 5.1 | R7: 49.2 | S7: 57.6 | T7: 50.1 | U7: 2.2 | V7: 57.5 | W7: 30.9 | X7: 25.2 | Y7: 275.6 | Z7: 41.7 | AB7: 15.9 | AG7: 154.9
B8: carcamo inspeccion | C8: 6 | D8: 6.5 | M8: 9.7 | P8: =+Q8+R8 -> 0
B9: columnas | C9: 20 | D9: 5.4 | F9: 9.8 | G9: 33.3 | H9: 11.7 | I9: 36.5 | J9: 16.8 | K9: 4.8 | L9: 4.8 | M9: 9.3 | N9: 10.6 | O9: 9.7 | P9: =+Q9+R9 -> 72.2 | Q9: 47.9 | R9: 24.3 | S9: 31.8 | T9: 40.7 | U9: 1.5 | V9: 53.9 | W9: 10.4 | X9: 8.3 | Y9: 16.2 | AB9: 8.15 | AH9: 13.7
B10: muros estructurales | G10: 74.5 | H10: 13.4 | I10: 49.1 | K10: 32.1 | L10: 16.2 | M10: 8.8 | N10: 34.9 | P10: =+Q10+R10 -> 25.4 | R10: 25.4 | S10: 33.7 | T10: 28 | V10: 33.6 | Y10: 280.2 | Z10: 84.8 | AG10: 258.6 | AH10: 12.1
B11: piso 2 | G11: 138.2 | I11: 137.6 | J11: 38.8 | N11: 74.5 | P11: =+Q11+R11 -> 115 | R11: 115 | S11: 145.8 | T11: 143.3 | V11: 95.4 | Y11: 222.1 | AH11: 1.2
B12: piso 3 | G12: 165.2 | I12: 137.6 | P12: =+Q12+R12 -> 0 | V12: 146.5 | AH12: 1.2
B13: piso 4 | P13: =+Q13+R13 -> 0 | AH13: 1.2
B14: piso 5 | P14: =+Q14+R14 -> 0 | AH14: 9.9
B15: cubierta | C15: 129 | D15: 33 | F15: 49.6 | G15: 58.9 | H15: 136.9 | I15: 140.1 | J15: 35.5 | K15: 86.6 | L15: 62.1 | M15: 102.9 | N15: 76.9 | O15: 83.3 | P15: =+Q15+R15 -> 118.3 | R15: 118.3 | S15: 149.6 | T15: 149.4 | U15: 6.9 | W15: 94.1 | X15: 74.3 | Y15: 312.16 | Z15: 40 | AB15: 98.5 | AG15: 108.6 | AH15: 12.4
B16: escalera | G16: 7.9 | I16: 12.9 | J16: 5.8 | N16: 7.9 | P16: =+Q16+R16 -> 7.9 | R16: 7.9 | S16: 7.8 | T16: 7.7 | V16: 5.9 | Y16: 9.8 | AH16: 5
B17: Rampa | P17: =+Q17+R17 -> 71.3 | Q17: 71.3
B18: cubierta rampa | P18: =+Q18+R18 -> 34.1 | Q18: 34.1

Sheet 6. 032 Mem

Sheet 6. 033 Mem
