Workbook
Name _Hlk144447402: 'IDENTIFICACION Y ANALISIS'!#REF!
Name contratación: 'IDENTIFICACION Y ANALISIS'!$B$31:$B$32
Name ejecución: 'IDENTIFICACION Y ANALISIS'!$B$36:$B$42
Name OPCIONES: 'ASIGNACION Y TRATAMIENTO'!$B$53:$B$55
Name planeación: 'IDENTIFICACION Y ANALISIS'!$B$19:$B$24
Name selección: 'IDENTIFICACION Y ANALISIS'!$B$26:$B$29

Sheet CONTEXTO
C2: MATRIZ DE RIESGOS EN CONTRATACIÓN | F2: Código: FDLT-XXX-2025 Versión: 02 Vigencia: 01 de diciembre de 2022
B6: ESTABLECER EL CONTEXTO
B7: El punto inicial es identificar el contexto en el cual interactúa la Entidad Estatal para conocer el ambiente social, económico y político, e identificar (i) sus propios Riesgos; (ii) los Riesgos comunes a sus Procesos de Contratación; y (iii) los Riesgos del Proceso de Contratación en particular. (Aplica igual para contratos interadministrativos) En este paso la Entidad Estatal debe identificar los aspectos que se mencionan a continuación y los posibles efectos adversos que estos pueden generar.
B8: Objeto del Proceso de Contratación: “REALIZAR LA ADECUACIÓN Y MANTENIMIENTO DE JARDINES INFANTILES UBICADOS EN LA LOCALIDAD DE TUNJUELITO EN BOGOTÁ D.C Y A MONTO AGOTABLE”.
B9: Partícipes del Proceso de Contratación: Alcaldía Local de Tunjuelito, responsables del área de planeación para la formulación del proyecto, supervisores y delegados del alcalde para el proceso de ejecución, equipo de acompañamiento jurídico del contrato, funcionarios administrativos relacionados con el proyecto, proponentes partícipes del proceso de selección, contratista adjudicatario, organismos de control, de la casa de cultura de la Localidad y todos quienes hagan parte o se beneficien de estos.
B10: Ciudadanía que se beneficia del Proceso de Contratación: Comunidad en general de la localidad de tunjuelito, especialmente la comunidad de los barrios Tunjuelito y Fatima
B11: Capacidad de la Entidad Estatal entendida como la disponibilidad de recursos y conocimientos para el Proceso de Contratación: Área de infraestructura formulación del proyecto (Etapa de Planeación), Dirección de Contratación, Comité Evaluador (Etapa de selección), Dirección de Contratación (Etapa de contratación) y la supervisión y apoyos a la supervisión delegados por el Alcalde, referentes de participación.
B12: Condiciones geográficas y de acceso del lugar en el cual se debe cumplir el objeto del Proceso de Contratación: El Fondo pretende intervenir los jardines infantiles intervención integral de los jardines Infantiles el Rincón de las Ardillas y Rafael Barberi, ubicada en la Barberi ubicados en la calle 53 SUR # 13 C – 56 y carrera 36 # 50 B - 35 SUR, en el barrio Tunjuelito y Fatima de la localidad el cual se encuentra en un estado de deterioro, con el objetivo de brindar mejores escenarios para el desarrollo social de la comunidad, así mismo se considera como un proyecto de gran impacto toda vez que la comunidad de los barrios en mención no cuenta con ningún escenario para realizar las actividades de aprendizaje y cuidado infantil el cual se prestan en los jardines infantiles.a.
B13: Entorno socio ambiental: Si aplican
B14: Condiciones políticas: La constitución política de Colombia, en su preámbulo señala que “El pueblo colombiano en ejercicio de su poder soberano, representado por sus delegatarios a la Asamblea Nacional Constituyente, invocando la protección de Dios, y con el fin de fortalecer la unidad de la Nación y asegurar a sus integrantes la vida, la convivencia, el trabajo, la justicia, la igualdad, el conocimiento, la libertad y la paz, dentro de un marco jurídico, democrático y participativo que garantice un orden político, económico y social justo, y comprometido a impulsar la integración de la comunidad latinoamericana decreta, sanciona y promulga la siguiente” y en su articulo 270 faculta a la ciudadanía para que intervenga en la gestión pública “La ley organizará las formas y los sistemas de participación ciudadana que permitan vigilar la gestión pública que se cumpla en los diversos niveles administrativos y sus resultados”. El articulo 1° de la ley 134 de 1994, señala que “La presente Ley Estatutaria de los mecanismos de participación del pueblo regula la iniciativa popular legislativa y normativa; el referendo; la consulta Popular, del orden nacional, departamental, distrital, municipal y local; la revocatoria del mandato; el plebiscito y el cabildo abierto”, además de establecer las normas fundamentales para la participación democrática. La ley Estatutaria 1757 de 2015, mediante la cual se dictan disposiciones para la promoción y protección del derecho a la participación, en su artículo uno determina que el objeto de la misma ley será “promover, proteger y garantizar modalidades del derecho a participar en la vida política, administrativa, económica, social y cultural, y así mismo a controlar el poder político. La presente ley regula la iniciativa popular y normativa ante las corporaciones públicas, el referendo, la consulta popular, la revocatoria del mandato, el plebiscito y el cabildo abierto; y establece las normas fundamentales por las que se regirá la participación democrática de las organizaciones civiles. La regulación de estos mecanismos no impedirá el desarrollo de otras formas de participación democrática en la vida política, económica, social y cultural, ni el ejercicio de otros derechos políticos no mencionados en esta ley”. La misma ley en su articulo 2 dispone que “Todo plan de desarrollo debe incluir medidas específicas orientadas a promover la participación de todas las personas en las decisiones que los afectan y el apoyo a las diferentes formas de organización de la sociedad”, y su articulo 3 explica que los mecanismos de participación son “de origen popular o de autoridad pública, según sean promovidos o presentados directamente mediante solicitud avalada por firmas ciudadanas o por autoridad pública en los términos de la presente ley. Son de origen popular la iniciativa popular legislativa y normativa ante las corporaciones públicas, el cabildo abierto y la revocatoria del mandato; es de origen en autoridad pública el plebiscito; y pueden tener origen en autoridad pública o popular el referendo y la consulta popular. La participación de la sociedad civil se expresa a través de aquellas instancias y mecanismos que permiten su intervención en la conformación, ejercicio y control de los asuntos públicos. Pueden tener su origen en la oferta institucional o en la iniciativa ciudadana”. De conformidad con el Artículo 15 del Acuerdo Distrital 637 de 2016 el cual modifica el artículo 52 del Acuerdo Distrital 257 de 2006, que a su tenor literal nos indica “La Secretaría Distrital de Gobierno es un organismo del Sector Central con autonomía administrativa y financiera que tiene por objeto orientar y liderar la formulación y seguimiento de las políticas encaminadas al fortalecimiento de la gobernabilidad democrática en el ámbito distrital y local, mediante la garantía de los derechos humanos y constitucionales, la convivencia pacífica, el ejercicio de la ciudadanía, la promoción de la paz y la cultura democrática, el uso del espacio público, la promoción de la organización y de la participación ciudadana y la coordinación de las relaciones políticas de la Administración Distrital en sus distintos niveles.” Es así como la Alcaldía Local tiene la misión de “ser una dependencia de la Secretaría Distrital de Gobierno responsable de apoyar la ejecución de las competencias asignadas a los Alcaldes o Alcaldesas Locales. En este sentido, deberán coordinar la acción del Distrito en las localidades y participar en la definición de las políticas de promoción y gestión del desarrollo de su territorio. Asimismo, fomentar la organización de las comunidades, la participación ciudadana en los procesos de la gestión pública, la promoción de la convivencia y la resolución de conflictos.”. Dentro de las funciones básicas de la Secretaría Distrital de Gobierno, establecidas por el decreto 411 de 2016, se encuentran, entre otras, liderar, orientar y coordinar la formulación de políticas, planes y programas encaminados a garantizar la participación de los habitantes en las decisiones que les afecten y en el control social a la gestión pública en el marco del Sistema Distrital de Participación. Corresponde a las Alcaldías Locales, de acuerdo con el decreto 411 de 2016, en su articulo 5, “Desarrollar los procesos asociados a la formulación, ejecución y seguimiento de los proyectos de inversión con cargo a los recursos de los Fondos de Desarrollo Local, cuando la delegación de la facultad de ejecución del gasto recaiga en el Alcalde Local.” En este sentido, el artículo primero del Acuerdo Distrital No. 740 de 2019, establece respecto de las competencias de las Alcaldías Locales lo siguiente: (…) ARTÍCULO 1 - Las Localidades en las que se organiza el territorio del Distrito Capital, como Sector de la Estructura Administrativa, son divisiones de carácter territorial, cuya finalidad es el bienestar general y el mejoramiento de la calidad de vida de la población en su respectiva jurisdicción. ARTÍCULO 2.- Ejercicio de Competencias. Las competencias otorgadas a los Alcaldes Locales del Distrito Capital tienen como finalidad promover el desarrollo integral de la Ciudad y sus localidades, y facilitar la participación efectiva de la comunidad en la gestión de los asuntos locales. (…) ARTÍCULO 3.- Principios. Las autoridades locales ejercerán sus competencias en consonancia con el interés general de la ciudadanía y los fines del Estado Social de Derecho, con arreglo a las disposiciones del artículo 63 del Decreto Ley 1421 de 1993 y atendiendo los principios constitucionales y legales de la función administrativa. ARTÍCULO 4.- Presupuestos participativos. Con el fin de procurar una participación efectiva de la ciudadanía, la Administración Distrital destinará mínimo un 10% del presupuesto asignado a cada localidad para presupuestos participativos en los Fondos de Desarrollo Local, Parágrafo 1. La implementación de presupuestos participativos se realizará atendiendo las políticas y el plan de inversiones del Plan de Desarrollo Distrital, del cual se desprenderán los Planes de Desarrollo Local y las líneas de inversión local. ARTICULO 5.- Competencias de los alcaldes locales. En consonancia con los principios de concurrencia, subsidiariedad, complementariedad y coordinación los alcaldes Locales tienen las siguientes competencias que se desarrollarán en el ámbito local. 1. Administrar las alcaldías locales y los Fondos de Desarrollo Local. 2. Realizar inversiones complementarias a las realizadas por el sector en la prestación de servicios culturales, recreativos y deportivos locales. 3. Adelantar el diseño, construcción y conservación de la malla vial local e intermedia, del espacio público y peatonal local e intermedio; así como de los puentes peatonales y/o vehiculares que pertenezcan a la malla vial local e intermedia, incluyendo los ubicados sobre cuerpos de agua. Así mismo, podrán coordinar con las entidades del sector movilidad su participación en la conservación de la malla vial y espacio público arterial, sin transporte masivo. 4. Adelantar la construcción y mantenimiento de parques vecinales y de bolsillo. 5. Desarrollar acciones que promuevan los derechos de las mujeres, desde los enfoques de género, de derechos, diferencial y territorial.6. Promover la seguridad y convivencia ciudadanas. 7. Orientar la gestión ambiental. 8. Atender y prevenir riesgos de desastres naturales. 9. Fomentar la participación ciudadana. 10. Coordinar la inspección, vigilancia y control. 11. Realizar inversiones complementarias a los programas y proyectos de la Administración Distrital en los sectores de Salud, Integración Social, Educación, Mujer, poblaciones, ruralidad, de conformidad con la reglamentación que se expida para el efecto. 12. Realizar inversiones complementarias a las realizadas por la Administración Central y desarrollar acciones en el ámbito social que promuevan la prevención del embarazo en adolescentes, así como de los factores de riesgo frente al consumo de sustancias psicoactivas. Corresponde a la Administración de las alcaldías locales y de los Fondos de Desarrollo Local la ejecución de las inversiones contenidas en el Plan de Desarrollo Local en concurrencia con el Plan Distrital de Desarrollo, las cuales deben responder a los principios administrativos de concurrencia, subsidiariedad, complementariedad y de coordinación del nivel central con el local. Parágrafo 1. Las competencias se ejercerán de acuerdo con las funciones y atribuciones asignadas por la Administración Distrital y las líneas de inversión para localidades definidas en el Consejo Distrital de Política Económica y Fiscal -CONFIS, enmarcadas según lo dispuesto en este Acuerdo. Parágrafo 2. Siempre que se deleguen o asignen competencias y/o funciones a los Alcaldes Locales estas deberán ir acompañadas de los recursos necesarios para su adecuado cumplimiento, de conformidad con el artículo 63 y 89 del Decreto Ley 1421 de 1993. (…) (subrayado propio) La norma citada, en su artículo 6 señala como misión de la Alcaldía Local, lo siguiente: “ARTÍCULO 6.- Misión de la Alcaldía Local. La Alcaldía Local es una dependencia de la Secretaría Distrital de Gobierno responsable de las competencias asignadas a los Alcaldes Locales. En este sentido, se ocupa de facilitar la acción del Distrito Capital en las localidades y ejecutar las funciones delegadas por el Alcalde Mayor, o desconcentradas según las disposiciones legales, en cumplimiento de los fines del Distrito Capital.” Que mediante el Decreto 374 de 2019 la Alcaldía de Bogotá, delegó en los Alcaldes locales la facultad para contratar, ordenar los gastos y pagos con cargo al presupuesto de los Fondos de Desarrollo Local, de conformidad con las disposiciones que regulan las inversiones y gastos con cargo a tales Fondos. Que el Plan de Desarrollo Económico, Social, Ambiental y de Obras Públicas para Bogotá D.C. 2020 - 2024 “UN NUEVO CONTRATO SOCIAL Y AMBIENTAL PARA LA BOGOTÁ DEL SIGLO XXI,” como política pública referente de las acciones de la Administración Distrital en el cuatrienio que comprende desde junio de 2020 hasta junio de 2024, contempla dentro del Acuerdo Distrital No. 761 de 2020, establece en su propósito 5 “Alcanzar este propósito implica implementar las estrategias que permiten a la administración caracterizarse por ser proba, transparente e íntegra y por ejecutar procesos de participación ciudadana programas y proyectos de gobierno abierto y de territorios inteligentes, así como alianzas públicas y privadas y de integración regional para el logro de sus propósitos”. Que el plan de Desarrollo Local de Tunjuelito, denominado “UN NUEVO CONTRATO SOCIAL Y AMBIENTAL PARA TUNJUELITO”, adoptado mediante el Acuerdo Local Número 001-2020, establece la adopción de un Plan de Desarrollo Económico, Social, Ambiental y de obras públicas para la localidad de Tunjuelito para el periodo 2021-2024 “Un nuevo contrato social y ambiental para Tunjuelito”, el cual constituye el referente de las acciones y políticas de la administración local. Y que dentro de este plan tiene como propósito número 5. Construir Bogotá-región con gobierno abierto, transparente y ciudadanía consciente. Dentro del propósito 5, se encuentra la meta plan de desarrollo local “Fortalecer 150 Organizaciones, JAC e Instancias de participación ciudadana.” que tiene como objetivos “Implementar acciones de fortalecimiento de la ciudadanía y organizaciones locales para la incidencia en los procesos de presupuestos participativos anuales, en ciudadanos, ciudadanas y organizaciones locales” y “Empoderar a las organizaciones sociales de base con el fin de fortalecer su participación e incidencia en la toma de decisiones con la Alcaldía Local y hacia la ciudadanía”. Este proyecto de inversión pasa por el componente de la línea de inversión de presupuestos participativos, por lo cual le ejecución de este debe dar cumplimiento a las propuestas priorizadas para la vigencia, a saber, la propuesta “Dotando las escuelas” con código 22735. Que el Fondo de Desarrollo Local de Tunjuelito cuenta con el Proyecto de Inversión 2069 Fortaleciendo a Tunjuelito desde lo Social, registrado en el Banco de Proyectos de inversión Local BPP-L, cuyo objetivo general es empoderar a las organizaciones sociales de base con el fin de fortalecer su participación, incidencia en la toma de decisiones con la alcaldía local hacia la ciudadanía. El proceso de participación ciudadana a través de organizaciones, mesas, redes e instancias debidamente reconocidas, requiere del apoyo y acompañamiento de la institucionalidad, con el objetivo de ser más activos en las acciones del gobierno; su fortalecimiento se puede desarrollar a través de diferentes mecanismos, tales como formación, dotación, acompañamiento técnico, suministro de espacios, insumos y herramientas técnicas y/o tecnológicas que aporten a su fortalecimiento y a su capacidad de apropiación en el que hacer público.
B15: Factores ambientales: La Alcaldía Local de Tunjuelito, cumple la normatividad ambiental, mejora continuamente sus procesos para liderar, prevenir, mitigar, proteger, conservar y hacer un uso racional de los recursos naturales y del medio ambiente, siendo modelo de responsabilidad ambiental en la gestión pública. La Política Ambiental Operativa de La Alcaldía Local de Tunjuelito, forma parte de la Política del Sistema Integrado de Gestión de la Entidad y está orientada por la Norma ISO 14001 de 2004. En consecuencia, la Entidad desarrolla los lineamientos sectoriales contenidos en el Plan Institucional de Gestión Ambiental –PIGA-, que se concreta a través de los Programas de Gestión en Residuos, Agua, Energía, Condiciones Internas, Buenas Prácticas y Gestión Contractual. Dichos Programas están sujetos al mejoramiento continuo, por parte de la Entidad, para el beneficio general.
B16: Sector del objeto del Proceso de Contratación y su mercado: Participación Ciudadana y fortalecimiento a organizaciones sociales.
B17: Normativa aplicable al objeto del Proceso de Contratación: • Constitución Política de 1991. • CONFIS N° 03 de 2020 se aprobó la modificación de los lineamientos de política para las líneas de inversión local 2021-2024 y presupuestos participativos, estableciendo las líneas de inversión desde el componente de Presupuestos Participativos; los cuales deben ser ejecutados por las Alcaldías Locales con el fin de complementar y fortalecer las inversiones estratégicas de la administración distrital, dentro de estas líneas se encuentra la línea de inversión de Otras líneas de inversión con el concepto de gasto de Reconocimiento de los saberes ancestrales en medicina. • Plan de Desarrollo Económico, Social, Ambiental y de Obras Públicas para Bogotá D.C. 2020 – 2024, ACUERDO No. 761 DE 2020, titulado “UN NUEVO CONTRATO SOCIAL Y AMBIENTAL PARA LA BOGOTÁ DEL SIGLO XXI” • Resolución 2063 de 2017 del Ministerio de Salud y Protección Social, bajo la que se adopta la Política de participación social en salud (PPSS), se señala que el Sistema General de Seguridad Social en Salud estimulará la participación de los usuarios en la organización y la vigilancia de las comunidades sobre las entidades que lo conforman. • Resolución 66/288 del 27 de julio de 2012, con la que se adoptó la Agenda 2030 para el desarrollo sostenible, con 169 metas que abarcan aspectos económicos, sociales y ambientales, creando el compromiso de los Estados por movilizar sus medios para crear alianzas que atiendan especialmente las necesidades de la población más pobre y vulnerable •CONPES 3918 de 2018 se crea la estrategia para la implementación de los Objetivos de Desarrollo Sostenible (ODS) en Colombia, y se definen las líneas estratégicas de acompañamiento del Gobierno Nacional a los gobiernos locales. • Documentos Conpes 14 (2021), Política Pública de Mujeres y Equidad de Género 2020-2030, Consejo Distrital de Política Económica y Social del Distrito Capital. • Documento Conpes 16 (2021), Política Pública para la Garantía Plena de los Derechos de las personas Lesbianas, Gays, Bisexuales, Transgeneristas e Intersexuales 2021-2032, Consejo Distrital de Política Económica y Social del Distrito Capital. • Acuerdo No. 761 de 2020, Concejo de Bogotá, D.C.
B18: Experiencia propia y de otras Entidades Estatales en Procesos de Contratación del mismo tipo: Implementación del proyecto de inversión 2069 en el cuatrienio 2021-2024. Sumado a esto, en relación al antecedente de contratación de servicios identificados con código UNSPSC y descripción: 72102900 - Servicios de mantenimiento y reparación de instalaciones, 72154000 –Servicios de remodelación de cocinas y baños, 72152000 - Servicio de instalación y reparación de drywall, 72152600 - Servicio de techo y paredes externas y láminas de metal, 72153600 - Servicios de terminado interior, dotación y remodelación.

Sheet IDENTIFICACION Y ANALISIS
C2: MATRIZ DE RIESGOS DE CONTRATACIÓN | F2: Código: FDLT-SAMC-XXX-202X Versión: 02 Vigencia: 01 de diciembre de 202
B6: DEFINICIONES
B7: RIESGO: Evento que puede generar efectos adversos y de distinta magnitud en el logro de los objetivos del Proceso de Contratación o en la ejecución de un contrato RIESGOS PREVISIBLES: Son los posibles hechos o circunstancias que por la naturaleza del contrato y de la actividad a ejecutar es factible su ocurrencia. ETAPA DE PLANEACIÓN: Está comprendida desde el momento en que se identifican las necesidades que debe satisfacer la Secretaría Distrital de Gobierno y los Fondos de Desarrollo Local, a través del abastecimiento de bienes, obras o servicios, la elaboración del Plan Anual de Adquisiciones y la estructuración de los documentos y estudios previos. ETAPA DE SELECCIÓN: Está comprendida entre el acto de Apertura del Proceso de Contratación y la Adjudicación o la declaración de desierto del Proceso de Contratación ETAPA DE CONTRATACIÓN: Una vez adjudicado el contrato objeto del Proceso de Contratación, inicia la etapa para la celebración del contrato y el cumplimiento de los requisitos para de perfeccionamiento y ejecución. ETAPA DE EJECUCIÓN: Inicia una vez cumplidos los requisitos previstos para iniciar la ejecución del contrato respectivo y termina con el vencimiento del plazo del contrato o la fecha de liquidación si hay lugar a ella. RIESGO GENERAL: Es un riesgo de todos los procesos de contratación adelantados por la Entidad Estatal, por lo cual está presente en toda su actividad contractual. RIEGO ESPECIFICO: Es un riesgo propio del proceso de contratación objeto de análisis. RIESGOS ECONÓMICOS: Son los derivados del comportamiento del mercado, tales como la fluctuación de los precios de los insumos, desabastecimiento y especulación de los mismos, entre otros. RIESGOS SOCIALES O POLÍTICOS: son los derivados de los cambios de las políticas gubernamentales y de cambios en las condiciones sociales que tengan impacto en la ejecución del contrato. RIESGOS OPERACIONALES: Son los asociados a la operatividad del contrato, tales como la suficiencia del presupuesto oficial, del plazo o los derivados de procesos, procedimientos, parámetros, sistemas de información y tecnológicos, equipos humanos o técnicos inadecuados o insuficientes. RIESGOS FINANCIEROS: Son (i) el riesgo de consecución de financiación o riesgo de liquidez para obtener recursos para cumplir con el objeto del contrato, y (ii) el riesgo de las condiciones financieras establecidas para la obtención de los recursos, tales como plazos, tasas, garantías, contragarantías, y refinanciaciones, entre otros. RIESGOS REGULATORIOS: Derivados de cambios regulatorios o reglamentarios que afecten la ecuación económica del contrato. RIESGOS DE LA NATURALEZA: Son los eventos naturales previsibles en los cuales no hay intervención humana que puedan tener impacto en la ejecución del contrato, por ejemplo los temblores, inundaciones, lluvias, sequías, entre otros. RIESGOS AMBIENTALES: Son los derivados de las obligaciones legales o reglamentarias de carácter ambiental, así como de las licencias, planes de manejo o de permisos y autorizaciones ambientales, incluyendo tasas retributivas y compensatorias, obligaciones de mitigación, tareas de monitoreo y control, entre otras. RIESGOS TECNOLÓGICOS: Son los derivados de fallas en los sistemas de comunicación de voz y de datos, suspensión de servicios públicos, nuevos desarrollos tecnológicos o estándares que deben ser tenidos en cuenta para la ejecución del contrato, obsolescencia tecnológica.
B15: INSTRUCCIONES PARA LA IDENTIFICACIÓN, ANALISIS, EVALUACIÓN , ASIGNACIÓN Y TRATAMIENTO DE RIESGOS EN LA CONTRATACIÓN
B16: 1) Identifique los riesgos previsibles que le apliquen al objeto contractual que se adelante. Los relacionados a continuación se establecen de manera general y como proforma. No obstante, si del objeto contractual se identifican otros riesgos diferentes a los aquí determinados, por favor reemplace el texto de la casilla teniendo en cuenta la etapa del proceso. Así mismo, seleccione la clase, fuente y el tipo (Operacional, Económico, Sociales o Políticos, Regulatorios, Financieros, Tecnológicos, De la naturaleza, Ambientales) 2) Continúe en la hoja de "EVALUACIÓN" (SI EXISTEN DUDAS CONCEPTUALES PARA LA ELABORACIÓN DE LA MATRIZ DE RIESGO CONSULTE EL MANUAL PARA LA IDENTIFICACIÓN Y COBERTURA DEL RIESGO EN LOS PROCESOS DE CONTRATACIÓN EXPEDIDO POR COLOMBIA COMPRA EFICIENTE Y LA GUÍA DE RIESGOS PREVISIBLES CONTRACTUALES, EXPEDIDA POR LA VEEDURÍA DISTRITAL)
B17: ETAPAS | D17: CLASE | E17: FUENTE | F17: TIPO
B18: PLANEACIÓN
B19: Requisitos habilitantes inapropiados para el proceso de selección | D19: General | E19: Interno | F19: Operacionales
B20: Inadecuado análisis económico estimativo del valor del contrato | D20: General | E20: Interno | F20: Economicos
B21: Inadecuada descripción del bien o servicio requerido | D21: General | E21: Interno | F21: Operacionales
B22: Falta de profundidad en el estudio de sector no identificandose claramente aspectos de oferta y demanda | D22: General | E22: Interno | F22: Economicos
B23: Ausencia de fundamentación de la justificación y conveniencia de la contratación | D23: General | E23: Interno | F23: Operacionales
B24: Errores involuntarios en los Estudios Previos, Pliegos de Condiciones, Estudio de Sector y en general cualquier documento que sea parte integral del mismo. | D24: General | E24: Interno | F24: Operacionales
B25: SELECCIÓN
B26: Inadecuada evaluación de las ofertas y/o verificación de requisitos habilitantes | D26: General | E26: Interno | F26: Operacionales
B27: Confabulacion de los proponentes (Colusión) | D27: General | E27: Externo | F27: Operacionales
B28: Que ninguno de los proponentes cumplan los requisitos habilitantes establecidos en el pliego de condiciones | D28: General | E28: Interno | F28: Operacionales
B29: Proyección económica por parte del proponente que conlleve a pérdidas o baja utilidad en la ejecución del contrato. | D29: General | E29: Externo | F29: Operacionales
B30: CONTRATACIÓN
B31: Demora en la iniciación del contrato debido a la no entrega oportuna de las Garantías exigidas para el proceso de contratación o que las mismas no cobijen lo establecido en los Estudios Previos. | D31: General | E31: Interno | F31: Operacionales
B32: Presentación de reclamos de terceros sobre la selección del oferente que retrasen el perfeccionamiento del contrato. | D32: General | E32: Externo | F32: Operacionales
B33: EJECUCIÓN
B34: No liquidar los contratos en los plazos acordados en el contrato o los establecidos por la Ley. | D34: General | E34: Interno | F34: Operacionales
B35: Incumplimiento en los tiempos de entrega y/o en la calidad de los Bienes y/o Servicios contratados. | D35: General | E35: Externo | F35: Operacionales
B36: Pérdida de elementos por robo a alguno de los proveedores de los elementos, antes o durante la entrega de los mismos. | D36: General | E36: Externo | F36: Operacionales
B37: Poca participación por parte las Juntas de Acción Comunal | D37: General | E37: Externo | F37: Operacionales
B38: Incumplimiento de los requisitos minimos de los Salones para acceder a las dotaciones | D38: General | E38: Externo | F38: Operacionales
B39: Variación de los precios del mercado | D39: General | E39: Externo | F39: Economicos
B40: Contingencias, accidentes o demás dificultades presentadas en los eventos y espacios desarrollados a la interperie y por fuera de las instalaciones de la Alcaldía Local de Tunjuelito | D40: Especifico | E40: Externo | F40: Operacionales
B41: Incumplimiento por parte del contratista en la entrega de los productos contemplados para cada actividad | D41: General | E41: Externo | F41: Operacionales
B42: Paros huelgas, situaciones de orden público o situaciones externas como pandemias que afecten el cumplimiento de obligaciones cuando se hace trabajo en campo | D42: General | E42: Externo | F42: Sociales o Políticos
B47: General
B48: Estatal
B49: Especifico
B51: Interno
B52: Externo

Sheet EVALUACION
C2: MATRIZ DE RIESGOS DE CONTRATACIÓN | K2: Código: FDLT-XXX-2025 Versión: 02 Vigencia: 01 de diciembre de 2022
B6: =CONTEXTO!B8 -> Objeto del Proceso de Contratación: “REALIZAR LA ADECUACIÓN Y MANTENIMIENTO DE JARDINES INFANTILES UBICADOS EN LA LOCALIDAD DE TUNJUELITO EN BOGOTÁ D.C Y A MONTO AGOTABLE”.
B7: INSTRUCCIONES PARA LA IDENTIFICACIÓN, ANALISIS, EVALUACIÓN , ASIGNACIÓN Y TRATAMIENTO DE RIESGOS EN LA CONTRATACIÓN
B8: 1) Diligencie el objeto contractual y seleccione la(s) etapas y los riesgos que aplican al objeto contractual, de acuerdo a lo definido en la hoja de "IDENTIFICACIÓN Y ANÁLISIS"
B9: 2) Describa las consecuencias de la ocurrencia del Riesgo/evento.
B10: 3) Asigne la probabilidad de ocurrencia del riesgo, de conformidad con la tabla de probabilidad y la valoración del riesgo (Cualitativa o Monetaria)
B11: 4) Asigne el impacto que generaría la materialización del riesgo, de conformidad con la tabla de impacto y la valoración del riesgo (Cualitativa o Monetaria)
B12: 5) Al realizar las anteriores actividades se obtendrá la calificación total y la valoración del riesgo (prioridad).
B13: 6) Continúe en la hoja de "EVALUACIÓN DE CONTROLES"
B15: CALIFICACIÓN | H15: Cualitativa
B16: ETAPA | C16: Descripción (Que puede pasar y, cómo puede ocurrir) | H16: Consecuencias de la ocurrencia del evento | I16: Probabilidad de Ocurrencia | J16: Impacto | K16: Calificación Total | L16: Prioridad
B17: PLANEACIÓN | C17: Requisitos habilitantes inapropiados para el proceso de selección | D17: Requisitos habilitantes inapropiados para el proceso de selección | E17: Requisitos habilitantes inapropiados para el proceso de selección | F17: Requisitos habilitantes inapropiados para el proceso de selección | G17: Requisitos habilitantes inapropiados para el proceso de selección | H17: 1. Distorsión del proceso de selección 2. Elección de un proponente que no cumpla requisitos legales y/o que no tenga la capacidad para la ejecución 3. Selección adversa 4. Necesidad de iniciar un nuevo proceso | I17: 2 | J17: 4 | K17: =I17+J17 -> 6 | L17: =IF(K17<=4,"BAJO",IF(K17=5,"MEDIO",IF(K17=6,"ALTO",IF(K17=7,"ALTO","EXTREMO")))) -> ALTO
B18: PLANEACIÓN | C18: Inadecuado análisis económico estimativo del valor del contrato | D18: Inadecuado análisis económico estimativo del valor del contrato | E18: Inadecuado análisis económico estimativo del valor del contrato | F18: Inadecuado análisis económico estimativo del valor del contrato | G18: Inadecuado análisis económico estimativo del valor del contrato | H18: 1. Sobrecostos o ineficiencia económica del proyecto 2. Pérdidas económica para el contratista o para el FDLT 3. Necesidade de iniciar un nuevo proceso | I18: 3 | J18: 4 | K18: =+I18+J18 -> 7 | L18: =IF(K18<=4,"BAJO",IF(K18=5,"MEDIO",IF(K18=6,"ALTO",IF(K18=7,"ALTO","EXTREMO")))) -> ALTO
B19: PLANEACIÓN | C19: Inadecuada descripción del bien o servicio requerido | D19: Inadecuada descripción del bien o servicio requerido | E19: Inadecuada descripción del bien o servicio requerido | F19: Inadecuada descripción del bien o servicio requerido | G19: Inadecuada descripción del bien o servicio requerido | H19: 1. Necesidad de iniciar un nuevo proceso 2. Distorsión del proceso de selección 3. Selección adversa | I19: 2 | J19: 4 | K19: =+I19+J19 -> 6 | L19: =IF(K19<=4,"BAJO",IF(K19=5,"MEDIO",IF(K19=6,"ALTO",IF(K19=7,"ALTO","EXTREMO")))) -> ALTO
B20: PLANEACIÓN | C20: Falta de profundidad en el estudio de sector no identificandose claramente aspectos de oferta y demanda | D20: Falta de profundidad en el estudio de sector no identificandose claramente aspectos de oferta y demanda | E20: Falta de profundidad en el estudio de sector no identificandose claramente aspectos de oferta y demanda | F20: Falta de profundidad en el estudio de sector no identificandose claramente aspectos de oferta y demanda | G20: Falta de profundidad en el estudio de sector no identificandose claramente aspectos de oferta y demanda | H20: 1. Sobrecostos o ineficiencia económica del proyecto 2. Selección adversa 3. No se puede satisfacer la necesidad de la entidad | I20: 3 | J20: 4 | K20: =+I20+J20 -> 7 | L20: =IF(K20<=4,"BAJO",IF(K20=5,"MEDIO",IF(K20=6,"ALTO",IF(K20=7,"ALTO","EXTREMO")))) -> ALTO
B21: PLANEACIÓN | C21: Ausencia de fundamentación de la justificación y conveniencia de la contratación | D21: Ausencia de fundamentación de la justificación y conveniencia de la contratación | E21: Ausencia de fundamentación de la justificación y conveniencia de la contratación | F21: Ausencia de fundamentación de la justificación y conveniencia de la contratación | G21: Ausencia de fundamentación de la justificación y conveniencia de la contratación | H21: 1. Necesidad de iniciar un nuevo proceso. 2. Selección adversa 3. No se puede satisfacer la necesidad de la entidad | I21: 2 | J21: 4 | K21: =+I21+J21 -> 6 | L21: =IF(K21<=4,"BAJO",IF(K21=5,"MEDIO",IF(K21=6,"ALTO",IF(K21=7,"ALTO","EXTREMO")))) -> ALTO
B22: PLANEACIÓN | C22: Errores involuntarios en los Estudios Previos, Pliegos de Condiciones, Estudio de Sector y en general cualquier documento que sea parte integral del mismo. | D22: Errores involuntarios en los Estudios Previos, Pliegos de Condiciones, Estudio de Sector y en general cualquier documento que sea parte integral del mismo. | E22: Errores involuntarios en los Estudios Previos, Pliegos de Condiciones, Estudio de Sector y en general cualquier documento que sea parte integral del mismo. | F22: Errores involuntarios en los Estudios Previos, Pliegos de Condiciones, Estudio de Sector y en general cualquier documento que sea parte integral del mismo. | G22: Errores involuntarios en los Estudios Previos, Pliegos de Condiciones, Estudio de Sector y en general cualquier documento que sea parte integral del mismo. | H22: 1. Necesidad de iniciar un nuevo proceso 2. No se puede satisfacer la necesidad de la entidad. | I22: 3 | J22: 3 | K22: =+I22+J22 -> 6 | L22: =IF(K22<=4,"BAJO",IF(K22=5,"MEDIO",IF(K22=6,"ALTO",IF(K22=7,"ALTO","EXTREMO")))) -> ALTO
B23: SELECCIÓN | C23: Inadecuada evaluación de las ofertas y/o verificación de requisitos habilitantes | H23: 1. Selecciónar un contratista que no esté en capacidad de cumplir con el objeto del contrato. 2. Selección adversa | I23: 3 | J23: 4 | K23: =+I23+J23 -> 7 | L23: =IF(K23<=4,"BAJO",IF(K23=5,"MEDIO",IF(K23=6,"ALTO",IF(K23=7,"ALTO","EXTREMO")))) -> ALTO
B24: SELECCIÓN | C24: Confabulacion de los proponentes (Colusión) | H24: 1. Selecciónar un contratista que no esté en capacidad de cumplir con el objeto del contrato. 2. Selección adversa | I24: 3 | J24: 4 | K24: =+I24+J24 -> 7 | L24: =IF(K24<=4,"BAJO",IF(K24=5,"MEDIO",IF(K24=6,"ALTO",IF(K24=7,"ALTO","EXTREMO")))) -> ALTO
B25: SELECCIÓN | C25: Que ninguno de los proponentes cumplan los requisitos habilitantes establecidos en el pliego de condiciones | H25: 1. Que se declare desierta la convocatoria 2. Necesidad de iniciar un nuevo proceso | I25: 2 | J25: 4 | K25: =+I25+J25 -> 6 | L25: =IF(K25<=4,"BAJO",IF(K25=5,"MEDIO",IF(K25=6,"ALTO",IF(K25=7,"ALTO","EXTREMO")))) -> ALTO
B26: SELECCIÓN | C26: Proyección económica por parte del proponente que conlleve a pérdidas o baja utilidad en la ejecución del contrato. | H26: 1. Pérdidas económicas para el contratista o propuestas artificialmente bajas. | I26: 2 | J26: 4 | K26: =+I26+J26 -> 6 | L26: =IF(K26<=4,"BAJO",IF(K26=5,"MEDIO",IF(K26=6,"ALTO",IF(K26=7,"ALTO","EXTREMO")))) -> ALTO
B27: CONTRATACIÓN | C27: Demora en la iniciación del contrato debido a la no entrega oportuna de las Garantías exigidas para el proceso de contratación o que las mismas no cobijen lo establecido en los Estudios Previ | H27: 1. Pérdida de Tiempo por no iniciar el contrato de forma oportuna 2. Falta de respaldo por parte de una aseguradora sobre los riesgos existentes durante la ejecución del Contrato | I27: 2 | J27: 3 | K27: =+I27+J27 -> 5 | L27: =IF(K27<=4,"BAJO",IF(K27=5,"MEDIO",IF(K27=6,"ALTO",IF(K27=7,"ALTO","EXTREMO")))) -> MEDIO
B28: CONTRATACIÓN | C28: Presentación de reclamos de terceros sobre la selección del oferente que retrasen el perfeccionamiento del contrato. | H28: 1. Pérdida de Tiempo por no iniciar el contrato de forma oportuna 2. Necesidad de iniciar un nuevo proceso | I28: 2 | J28: 2 | K28: =+I28+J28 -> 4 | L28: =IF(K28<=4,"BAJO",IF(K28=5,"MEDIO",IF(K28=6,"ALTO",IF(K28=7,"ALTO","EXTREMO")))) -> BAJO
B29: EJECUCIÓN | C29: No liquidar los contratos en los plazos acordados en el contrato o los establecidos por la Ley. | H29: 1. Pérdida de competencia para liquidar en sede administrativa. 2. Incertidumbre del estado del contrato. 3.Falta de paz y salvo por las partes. | I29: 1 | J29: 4 | K29: =+I29+J29 -> 5 | L29: =IF(K29<=4,"BAJO",IF(K29=5,"MEDIO",IF(K29=6,"ALTO",IF(K29=7,"ALTO","EXTREMO")))) -> MEDIO
B30: EJECUCIÓN | C30: Incumplimiento en los tiempos de entrega y/o en la calidad de los Bienes y/o Servicios contratados. | H30: 1. Mala ejecución del objeto contratado. 2.No se puede satisfacer la necesidad de la Entidad | I30: 4 | J30: 3 | K30: =+I30+J30 -> 7 | L30: =IF(K30<=4,"BAJO",IF(K30=5,"MEDIO",IF(K30=6,"ALTO",IF(K30=7,"ALTO","EXTREMO")))) -> ALTO
B31: EJECUCIÓN | C31: Pérdida de elementos por robo a alguno de los proveedores de los elementos, antes o durante la entrega de los mismos. | H31: 1. Daños ocasionados al FDLT. | I31: 2 | J31: 4 | K31: =+I31+J31 -> 6 | L31: =IF(K31<=4,"BAJO",IF(K31=5,"MEDIO",IF(K31=6,"ALTO",IF(K31=7,"ALTO","EXTREMO")))) -> ALTO
B32: EJECUCIÓN | C32: Poca participación por parte las Juntas de Acción Comunal | H32: 1. Incumplimiento de las metas dentro de la vigencia, y el alcance de las iniciativas participativas. | I32: 2 | J32: 3 | K32: =+I32+J32 -> 5 | L32: =IF(K32<=4,"BAJO",IF(K32=5,"MEDIO",IF(K32=6,"ALTO",IF(K32=7,"ALTO","EXTREMO")))) -> MEDIO
B33: EJECUCIÓN | C33: Incumplimiento de los requisitos minimos de los Salones para acceder a las dotaciones | H33: 1. No identificación de los beneficiarios del proyecto para el cumplimiento de la meta del plan de desarrollo | I33: 3 | J33: 2 | K33: 5 | L33: MEDIO
B34: EJECUCIÓN | C34: Variación de los precios del mercado | H34: 1. Variación presupuestal que afecte la capacidad de adquisición de bienes y servicios 2. Desfase presupuestal 3. reclamaciones de rompimiento del equilibrio económico por parte del contratista. | I34: 2 | J34: 3 | K34: =+I34+J34 -> 5 | L34: =IF(K34<=4,"BAJO",IF(K34=5,"MEDIO",IF(K34=6,"ALTO",IF(K34=7,"ALTO","EXTREMO")))) -> MEDIO
B35: EJECUCIÓN | C35: Contingencias, accidentes o demás dificultades presentadas en los eventos y espacios desarrollados a la interperie y por fuera de las instalaciones de la Alcaldía Local de Tunjuelito | H35: 1. Lesiones, afectaciones o pérdidas humanas. 2. Costos y/o sanciones para el contratista y el FDLT 3. Imposibilidad o dificultades para el desarrollo de las actividades | I35: 1 | J35: 2 | K35: =+I35+J35 -> 3 | L35: =IF(K35<=4,"BAJO",IF(K35=5,"MEDIO",IF(K35=6,"ALTO",IF(K35=7,"ALTO","EXTREMO")))) -> BAJO
B36: EJECUCIÓN | C36: Incumplimiento por parte del contratista en la entrega de los productos contemplados para cada actividad | H36: 1. Incumplimiento de las metas y objetivos del proyecto. 2. Afectación del cumplimiento del contrato dentro de la vigencia | I36: 3 | J36: 4 | K36: =+I36+J36 -> 7 | L36: =IF(K36<=4,"BAJO",IF(K36=5,"MEDIO",IF(K36=6,"ALTO",IF(K36=7,"ALTO","EXTREMO")))) -> ALTO
B37: EJECUCIÓN | C37: Paros huelgas, situaciones de orden público o situaciones externas como pandemias que afecten el cumplimiento de obligaciones cuando se hace trabajo en campo | H37: 1. Imposibilidad o dificultades para el desarrollo de las actividades 2. Afectación del cumplimiento del contrato dentro de la vigencia | I37: 2 | J37: 4 | K37: =+I37+J37 -> 6 | L37: =IF(K37<=4,"BAJO",IF(K37=5,"MEDIO",IF(K37=6,"ALTO",IF(K37=7,"ALTO","EXTREMO")))) -> ALTO
B40: Probabilidad | C40: Catagoria | E40: Valoración | G40: Impacto | H40: Categoria | I40: Valoración
C41: Raro (puede ocurrir excepcionalmente) | E41: 1 | H41: Insignificante | I41: 1
C42: Improbable (puede ocurrir ocasionalmente) | E42: 2 | H42: Menor | I42: 2
C43: Posible (puede ocurrir en cualquier momento futuro) | E43: 3 | H43: Moderado | I43: 3
C44: Probable (probablemente va a ocurrir) | E44: 4 | H44: Mayor | I44: 4
C45: Casi cierto (ocurre en la mayoria de circunstancias) | E45: 5 | H45: Catastrófico | I45: 5
C47: Valoración del Riesgo
C48: Calificación Cualitativa | F48: Obstruye la ejecución del contrato de manera intrascendente. | G48: Dificulta la ejecución del contrato de manera baja, aplicando medidas mínimas se pueden lograr el objeto contractual | H48: Afecta la ejecución del contrato sin alterar el beneficio para las partes | I48: Obstruye la ejecución del contrato sustancialmente pero aun así permite la consecución del objeto contractual | K48: Perturba la ejecución del contrato de manera grave imposibilitando la consecución del objeto contractual.
...

Sheet EVALUACION CON CONTROLES
C2: MATRIZ DE RIESGOS DE CONTRATACIÓN | Q2: Código:FDLT-XXX-2025 Versión: 02 Vigencia: 01 de diciembre de 2022
B6: =+EVALUACION!B6 -> Objeto del Proceso de Contratación: “REALIZAR LA ADECUACIÓN Y MANTENIMIENTO DE JARDINES INFANTILES UBICADOS EN LA LOCALIDAD DE TUNJUELITO EN BOGOTÁ D.C Y A MONTO AGOTABLE”.
B7: INSTRUCCIONES PARA LA IDENTIFICACIÓN, ANALISIS, EVALUACIÓN , ASIGNACIÓN Y TRATAMIENTO DE RIESGOS EN LA CONTRATACIÓN
B8: 1) Describa el tratamiento/controles a ser implementados
B9: 2) Diligencie la información de las siguientes columnas, de acuerdo con el análisis realizado a cada riesgo: Afecta el equilibrio económico, persona responsable de implementar el tratamiento, fecha estimada de inicio del tratamiento, fecha estimada en la que se completa el tratamiento, cómo se realiza el monitoreo y la periodicidad.
B10: 3) Continúe en la hoja de "ASIGNACIÓN Y TRATAMIENTO" y diligencie las siguientes casillas: A quien se le asigna y el porcentaje que asume cada una de las partes en caso de que sea compartido.
B15: ETAPA | C15: Descripción (Que puede pasar y, cómo puede ocurrir) | G15: Tratamiento/Controles a ser implementados | I15: Probabilidad de Ocurrencia | J15: Impacto | K15: Calificación Total | L15: Prioridad | M15: ¿Afecta el equilibrio económico del contrato? | N15: Persona responsable por implementar el tratamiento | O15: Fecha estimada en que se inicia el tratamiento | P15: Fecha estimada en que se completa el tratamiento | Q15: ¿Cómo se realiza el monitoreo? | R15: Periodicidad ¿Cuándo?
B16: =+EVALUACION!B17 -> PLANEACIÓN | C16: =+EVALUACION!C17 -> Requisitos habilitantes inapropiados para el proceso de selección | G16: Revisión jurídica y efectuar revisiones con los lineamientos de Colombia Compra Eficiente | I16: =+EVALUACION!I17 -> 2 | J16: =+EVALUACION!J17 -> 4 | K16: =+I16+J16 -> 6 | L16: =IF(K16<=4,"BAJO",IF(K16=5,"MEDIO",IF(K16=6,"ALTO",IF(K16=7,"ALTO","EXTREMO")))) -> ALTO | M16: NO | N16: PROFESIONALES DEL ÁREA DE GESTIÓN DEL DESARROLLO LOCAL DE TUNJUELITO (PLANEACIÓN Y CONTRATACIÓN) | O16: 2025 | P16: 2025 | Q16: SEGUIMIENTO AL PROCESO | R16: ETAPA DE PLANEACIÓN Y SELECCIÓN
B17: =+EVALUACION!B18 -> PLANEACIÓN | C17: =+EVALUACION!C18 -> Inadecuado análisis económico estimativo del valor del contrato | G17: Revisión exhaustiva en el proceso de estudio de mercado siguiendo los lineamientos de Colombia Compra Eficiente | I17: =+EVALUACION!I18 -> 3 | J17: =+EVALUACION!J18 -> 4 | K17: =+I17+J17 -> 7 | L17: =IF(K17<=4,"BAJO",IF(K17=5,"MEDIO",IF(K17=6,"ALTO",IF(K17=7,"ALTO","EXTREMO")))) -> ALTO | M17: SI | N17: PROFESIONALES DEL ÁREA DE GESTIÓN DEL DESARROLLO LOCAL DE TUNJUELITO (PLANEACIÓN) | O17: 2025 | P17: 2025 | Q17: SEGUIMIENTO AL PROCESO | R17: ETAPA DE PLANEACIÓN
B18: =+EVALUACION!B19 -> PLANEACIÓN | C18: =+EVALUACION!C19 -> Inadecuada descripción del bien o servicio requerido | G18: Reducir la probabilidad de ocurrencia del evento | I18: =+EVALUACION!I19 -> 2 | J18: =+EVALUACION!J19 -> 4 | K18: =+I18+J18 -> 6 | L18: =IF(K18<=4,"BAJO",IF(K18=5,"MEDIO",IF(K18=6,"ALTO",IF(K18=7,"ALTO","EXTREMO")))) -> ALTO | M18: NO | N18: PROFESIONALES DEL ÁREA DE GESTIÓN DEL DESARROLLO LOCAL DE TUNJUELITO (PLANEACIÓN) | O18: 2025 | P18: 2025 | Q18: SEGUIMIENTO AL PROCESO | R18: ETAPA DE PLANEACIÓN
B19: =+EVALUACION!B20 -> PLANEACIÓN | C19: =+EVALUACION!C20 -> Falta de profundidad en el estudio de sector no identificandose claramente aspectos de oferta y demanda | G19: Utilizar los lineamientos de Colombia Compra Eficiente y utilizar como referencia procesos similares | I19: =+EVALUACION!I20 -> 3 | J19: =+EVALUACION!J20 -> 4 | K19: =+I19+J19 -> 7 | L19: =IF(K19<=4,"BAJO",IF(K19=5,"MEDIO",IF(K19=6,"ALTO",IF(K19=7,"ALTO","EXTREMO")))) -> ALTO | M19: SI | N19: PROFESIONALES DEL ÁREA DE GESTIÓN DEL DESARROLLO LOCAL DE TUNJUELITO (PLANEACIÓN) | O19: 2025 | P19: 2025 | Q19: SEGUIMIENTO AL PROCESO | R19: ETAPA DE PLANEACIÓN
B20: =+EVALUACION!B21 -> PLANEACIÓN | C20: =+EVALUACION!C21 -> Ausencia de fundamentación de la justificación y conveniencia de la contratación | G20: Revisiones constantes por parte del área de planeación de la entidad tomando como referencia procesos similares | I20: =+EVALUACION!I21 -> 2 | J20: =+EVALUACION!J21 -> 4 | K20: =+I20+J20 -> 6 | L20: =IF(K20<=4,"BAJO",IF(K20=5,"MEDIO",IF(K20=6,"ALTO",IF(K20=7,"ALTO","EXTREMO")))) -> ALTO | M20: NO | N20: PROFESIONALES DEL ÁREA DE GESTIÓN DEL DESARROLLO LOCAL DE TUNJUELITO (PLANEACIÓN) | O20: 2025 | P20: 2025 | Q20: SEGUIMIENTO AL PROCESO | R20: ETAPA DE PLANEACIÓN
B21: =+EVALUACION!B22 -> PLANEACIÓN | C21: =+EVALUACION!C22 -> Errores involuntarios en los Estudios Previos, Pliegos de Condiciones, Estudio de Sector y en general cualquier documento que sea parte integral del mismo. | G21: Verificar los documentos en el proceso de observaciones y respuesta a estas mismas observaciones. Realizar las aclaraciones necesarias en el proceso de selección y evaluar las propuestas con los criterios sugeridos por Colombia Compra Eficiente. | I21: =+EVALUACION!I22 -> 3 | J21: =+EVALUACION!J22 -> 3 | K21: =+I21+J21 -> 6 | L21: =IF(K21<=4,"BAJO",IF(K21=5,"MEDIO",IF(K21=6,"ALTO",IF(K21=7,"ALTO","EXTREMO")))) -> ALTO | M21: SI | N21: PROFESIONALES DEL ÁREA DE GESTIÓN DEL DESARROLLO LOCAL DE TUNJUELITO (PLANEACIÓN Y CONTRATACIÓN) | O21: 2025 | P21: 2025 | Q21: SEGUIMIENTO AL PROCESO | R21: ETAPA DE PLANEACIÓN Y SELECCIÓN
B22: =+EVALUACION!B23 -> SELECCIÓN | C22: =+EVALUACION!C23 -> Inadecuada evaluación de las ofertas y/o verificación de requisitos habilitantes | G22: Efectuar verificaciones a los documentos y propuestas presentadas, con el apoyo de los profesionales del área y el equipo jurídico | I22: =+EVALUACION!I23 -> 3 | J22: =+EVALUACION!J23 -> 4 | K22: =+I22+J22 -> 7 | L22: =IF(K22<=4,"BAJO",IF(K22=5,"MEDIO",IF(K22=6,"ALTO",IF(K22=7,"ALTO","EXTREMO")))) -> ALTO | M22: NO | N22: PROFESIONALES DEL ÁREA DE GESTIÓN DEL DESARROLLO LOCAL DE TUNJUELITO (PLANEACIÓN Y CONTRATACIÓN) | O22: 2025 | P22: 2025 | Q22: SEGUIMIENTO AL PROCESO | R22: SEMANAL ETAPA DE SELECCIÓN
B23: =+EVALUACION!B24 -> SELECCIÓN | C23: =+EVALUACION!C24 -> Confabulacion de los proponentes (Colusión) | G23: Utilizar la metodología de Colombia Compra Eficiente y dar cumplimiento a la normatividad vigente. | I23: =+EVALUACION!I24 -> 3 | J23: =+EVALUACION!J24 -> 4 | K23: =+I23+J23 -> 7 | L23: =IF(K23<=4,"BAJO",IF(K23=5,"MEDIO",IF(K23=6,"ALTO",IF(K23=7,"ALTO","EXTREMO")))) -> ALTO | M23: SI | N23: PROFESIONALES DEL ÁREA DE GESTIÓN DEL DESARROLLO LOCAL DE TUNJUELITO (PLANEACIÓN Y CONTRATACIÓN) | O23: 2025 | P23: 2025 | Q23: MUESTREO ALEATORIO DE CALIDAD | R23: SEMANAL ETAPA DE SELECCIÓN
B24: =+EVALUACION!B25 -> SELECCIÓN | C24: =+EVALUACION!C25 -> Que ninguno de los proponentes cumplan los requisitos habilitantes establecidos en el pliego de condiciones | G24: Efectuar verificaciones a los documentos y propuestas presentadas por parte de los profesionales del área | I24: =+EVALUACION!I25 -> 2 | J24: =+EVALUACION!J25 -> 4 | K24: =+I24+J24 -> 6 | L24: =IF(K24<=4,"BAJO",IF(K24=5,"MEDIO",IF(K24=6,"ALTO",IF(K24=7,"ALTO","EXTREMO")))) -> ALTO | M24: SI | N24: PROFESIONALES DEL ÁREA DE GESTIÓN DEL DESARROLLO LOCAL DE TUNJUELITO (CONTRATACIÓN) | O24: 2025 | P24: 2025 | Q24: MUESTREO ALEATORIO DE CALIDAD | R24: SEMANAL ETAPA DE SELECCIÓN
B25: =+EVALUACION!B26 -> SELECCIÓN | C25: =+EVALUACION!C26 -> Proyección económica por parte del proponente que conlleve a pérdidas o baja utilidad en la ejecución del contrato. | G25: Realizar aclaraciones en el proceso de selección y evaluar las propuestas con los criterios sugeridos por Colombia Compra Eficiente. | I25: =+EVALUACION!I26 -> 2 | J25: =+EVALUACION!J26 -> 4 | K25: =+I25+J25 -> 6 | L25: =IF(K25<=4,"BAJO",IF(K25=5,"MEDIO",IF(K25=6,"ALTO",IF(K25=7,"ALTO","EXTREMO")))) -> ALTO | M25: SI | N25: PROFESIONALES DEL ÁREA DE GESTIÓN DEL DESARROLLO LOCAL DE TUNJUELITO (PLANEACIÓN Y CONTRATACIÓN) | O25: 2025 | P25: 2025 | Q25: MUESTREO ALEATORIO DE CALIDAD | R25: SEMANAL ETAPA DE SELECCIÓN
B26: =+EVALUACION!B27 -> CONTRATACIÓN | C26: =+EVALUACION!C27 -> Demora en la iniciación del contrato debido a la no entrega oportuna de las Garantías exigidas para el proceso de contratación o que las mismas no cobijen lo establecido en los Estudios Previ | G26: Efectuar verificaciones a los documentos entregados de acuerdo con la lista de chequeo sugeridas para la entidad. | I26: =+EVALUACION!I27 -> 2 | J26: =+EVALUACION!J27 -> 3 | K26: =+I26+J26 -> 5 | L26: =IF(K26<=4,"BAJO",IF(K26=5,"MEDIO",IF(K26=6,"ALTO",IF(K26=7,"ALTO","EXTREMO")))) -> MEDIO | M26: SI | N26: PROFESIONALES DEL ÁREA DE GESTIÓN DEL DESARROLLO LOCAL DE TUNJUELITO (PLANEACIÓN Y CONTRATACIÓN) | O26: 2025 | P26: 2025 | Q26: MUESTREO ALEATORIO DE CALIDAD | R26: ETAPA DE CONTRATACIÓN
B27: =+EVALUACION!B28 -> CONTRATACIÓN | C27: =+EVALUACION!C28 -> Presentación de reclamos de terceros sobre la selección del oferente que retrasen el perfeccionamiento del contrato. | G27: Dar trámite eficiente y oportuno de las PQRS presentadas por terceros | I27: =+EVALUACION!I28 -> 2 | J27: =+EVALUACION!J28 -> 2 | K27: =+I27+J27 -> 4 | L27: =IF(K27<=4,"BAJO",IF(K27=5,"MEDIO",IF(K27=6,"ALTO",IF(K27=7,"ALTO","EXTREMO")))) -> BAJO | M27: NO | N27: PROFESIONALES DEL ÁREA DE GESTIÓN DEL DESARROLLO LOCAL DE TUNJUELITO (PLANEACIÓN Y CONTRATACIÓN) | O27: 2025 | P27: 2025 | Q27: SEGUIMIENTO AL PROCESO | R27: ETAPA DE CONTRATACIÓN
... B36: =+EVALUACION!B37 -> EJECUCIÓN | C36: =+EVALUACION!C37 -> Paros huelgas, situaciones de orden público o situaciones externas como pandemias que afecten el cumplimiento de obligaciones cuando se hace trabajo en campo | G36: Seguimiento de la programación de las activades y verificación de las condiciones previsibles acerca del estado del clima | I36: =+EVALUACION!I37 -> 2 | J36: =+EVALUACION!J37 -> 4 | K36: =+I36+J36 -> 6 | L36: =IF(K36<=4,"BAJO",IF(K36=5,"MEDIO",IF(K36=6,"ALTO",IF(K36=7,"ALTO","EXTREMO")))) -> ALTO | M36: NO | N36: SUPERVISIÓN, APOYO A LA SUPERVISIÓN Y CONTRATISTA | O36: 2025 | P36: 2025 | Q36: SEGUIMIENTO AL PROCESO | R36: SEMANAL SEGÚN CRONOGRAMA DEL PROYECTO
C38: Categoria del Riesgo | H38: Impacto del Riesgo
B39: Probabilidad | C39: Catagoria | F39: Valoración | H39: Categoria | J39: Valoración | N39: Categoria del Riesgo
C40: Raro (puede ocurrir excepcionalmente) | F40: 1 | H40: Insignificante | J40: 1 | N40: Valoración del Riesgo | P40: Categoría
C41: Improbable (puede ocurrir ocasionalmente) | F41: 2 | H41: Menor | J41: 2 | N41: 8, 9 y 10 | P41: Riesgo extremo
C42: Posible (puede ocurrir en cualquier momento futuro) | F42: 3 | H42: Moderado | J42: 3 | N42: 6 y 7 | P42: Riesgo alto
C43: Probable (probablemente va a ocurrir) | F43: 4 | H43: Mayor | J43: 4 | N43: 5 | P43: Riesgo medio
C44: Casi cierto (ocurre en la mayoria de circunstancias) | F44: 5 | H44: Catastrófico | J44: 5 | N44: 2, 3 y 4 | P44: Riesgo bajo
C46: Valoración del Riesgo
C47: Calificación Cualitativa | G47: Obstruye la ejecución del contrato de manera intrascendente. | I47: Dificulta la ejecución del contrato de manera baja, aplicando medidas mínimas se pueden lograr el objeto contractual | L47: Afecta la ejecución del contrato sin alterar el beneficio para las partes | N47: Obstruye la ejecución del contrato sustancialmente pero aun así permite la consecución del objeto contractual | P47: Perturba la ejecución del contrato de manera grave imposibilitando la consecución del objeto contractual.
C48: Calificación Monetaria | G48: Los sobrecostos no representan más del uno por ciento (1%) del valor del contrato. | I48: Los sobrecostos no representan más del cinco por ciento (5%) del valor del contrato. | L48: Genera un impacto sobre el valor del contrato entre el cinco (5%) y el quince por ciento (15%). | N48: Incrementa el valor del contrato entre el quince (15%) y el treinta por ciento (30%). | P48: Impacto sobre el valor del contrato en más del treinta por ciento (30%).
C49: Catagoria | F49: Valoración | G49: Insignificante | I49: Menor | L49: Moderado | N49: Mayor | P49: Catastrófico
G50: 1 | I50: 2 | L50: 3 | N50: 4 | P50: 5
C51: Raro (puede ocurrir excepcionalmente) | F51: 1 | G51: 2 | I51: 3 | L51: 4 | N51: 5 | P51: 6
C52: Improbable (puede ocurrir ocasionalmente) | F52: 2 | G52: 3 | I52: 4 | L52: 5 | N52: 6 | P52: 7
C53: Posible (puede ocurrir en cualquier momento futuro) | F53: 3 | G53: 4 | I53: 5 | L53: 6 | N53: 7 | P53: 8
C54: Probable (probablemente va a ocurrir) | F54: 4 | G54: 5 | I54: 6 | L54: 7 | N54: 8 | P54: 9
C55: Casi cierto (ocurre en la mayoria de circunstancias) | F55: 5 | G55: 6 | I55: 7 | L55: 8 | N55: 9 | P55: 10

Sheet ASIGNACION Y TRATAMIENTO
C2: MATRIZ DE RIESGOS DE CONTRATACIÓN | V2: Código: FDLT-SAMC-XXX-202X Versión: 02 Vigencia: 01 de diciembre de 2022
B6: =CONTEXTO!B8 -> Objeto del Proceso de Contratación: “REALIZAR LA ADECUACIÓN Y MANTENIMIENTO DE JARDINES INFANTILES UBICADOS EN LA LOCALIDAD DE TUNJUELITO EN BOGOTÁ D.C Y A MONTO AGOTABLE”.
B7: Esta matriz es un documento anexo del Estudio Previo
B10: No | C10: Descripción (Que puede pasar y, cómo puede ocurrir) | D10: Etapa | E10: Clase | F10: Fuente | G10: Consecuencias de la ocurrencia del evento | H10: Probabilidad | I10: Impacto | J10: Valoracion de riesgo | K10: Categoria | L10: ¿A quien se le asigna? | M10: Tratamiento/Controles a ser implementados | N10: Probabilidad | O10: Impacto | P10: Valoracion de riesgo | Q10: Categoria | R10: ¿Afecta de la ejecucion del contrato? | S10: Persona responsable por implementar el tratamiento | T10: Fecha estimada en que se inicia el tratamiento | U10: Fecha estimada en que se completa el tratamiento | V10: ¿Cómo se realiza el monitoreo | W10: Periodicidad ¿Cuándo?
B11: 1 | C11: =+'EVALUACION CON CONTROLES'!C16:F16 -> Requisitos habilitantes inapropiados para el proceso de selección | D11: =+'EVALUACION CON CONTROLES'!B16 -> PLANEACIÓN | E11: =VLOOKUP(C11,'IDENTIFICACION Y ANALISIS'!$B$19:$F$42,3,FALSE) -> General | F11: =VLOOKUP(C11,'IDENTIFICACION Y ANALISIS'!$B$19:$F$42,4,FALSE) -> Interno | G11: =+EVALUACION!H17 -> 1. Distorsión del proceso de selección 2. Elección de un proponente que no cumpla requisitos legales y/o que no tenga la capacidad para la ejecución 3. Selección adversa 4. Necesidad de iniciar un nuevo proceso | H11: =+EVALUACION!I17 -> 2 | I11: =+EVALUACION!J17 -> 4 | J11: =+EVALUACION!K17 -> 6 | K11: =+EVALUACION!L17 -> ALTO | L11: FDLT | M11: =+'EVALUACION CON CONTROLES'!G16 -> Revisión jurídica y efectuar revisiones con los lineamientos de Colombia Compra Eficiente | N11: 1 | O11: 3 | P11: 4 | Q11: BAJO | R11: =+'EVALUACION CON CONTROLES'!M16 -> NO | S11: =+'EVALUACION CON CONTROLES'!N16 -> PROFESIONALES DEL ÁREA DE GESTIÓN DEL DESARROLLO LOCAL DE TUNJUELITO (PLANEACIÓN Y CONTRATACIÓN) | T11: 2025 | U11: 2025 | V11: =+'EVALUACION CON CONTROLES'!Q16 -> SEGUIMIENTO AL PROCESO | W11: =+'EVALUACION CON CONTROLES'!R16 -> ETAPA DE PLANEACIÓN Y SELECCIÓN
B12: 2 | C12: =+'EVALUACION CON CONTROLES'!C17:F17 -> Inadecuado análisis económico estimativo del valor del contrato | D12: =+'EVALUACION CON CONTROLES'!B17 -> PLANEACIÓN | E12: =VLOOKUP(C12,'IDENTIFICACION Y ANALISIS'!$B$19:$F$42,3,FALSE) -> General | F12: =VLOOKUP(C12,'IDENTIFICACION Y ANALISIS'!$B$19:$F$42,4,FALSE) -> Interno | G12: =+EVALUACION!H18 -> 1. Sobrecostos o ineficiencia económica del proyecto 2. Pérdidas económica para el contratista o para el FDLT 3. Necesidade de iniciar un nuevo proceso | H12: =+EVALUACION!I18 -> 3 | I12: =+EVALUACION!J18 -> 4 | J12: =+EVALUACION!K18 -> 7 | K12: =+EVALUACION!L18 -> ALTO | L12: FDLT | M12: =+'EVALUACION CON CONTROLES'!G17 -> Revisión exhaustiva en el proceso de estudio de mercado siguiendo los lineamientos de Colombia Compra Eficiente | N12: 2 | O12: 3 | P12: 5 | Q12: MEDIO | R12: =+'EVALUACION CON CONTROLES'!M17 -> SI | S12: =+'EVALUACION CON CONTROLES'!N17 -> PROFESIONALES DEL ÁREA DE GESTIÓN DEL DESARROLLO LOCAL DE TUNJUELITO (PLANEACIÓN) | T12: 2025 | U12: 2025 | V12: =+'EVALUACION CON CONTROLES'!Q17 -> SEGUIMIENTO AL PROCESO | W12: =+'EVALUACION CON CONTROLES'!R17 -> ETAPA DE PLANEACIÓN
B13: 3 | C13: =+'EVALUACION CON CONTROLES'!C18:F18 -> Inadecuada descripción del bien o servicio requerido | D13: =+'EVALUACION CON CONTROLES'!B18 -> PLANEACIÓN | E13: =VLOOKUP(C13,'IDENTIFICACION Y ANALISIS'!$B$19:$F$42,3,FALSE) -> General | F13: =VLOOKUP(C13,'IDENTIFICACION Y ANALISIS'!$B$19:$F$42,4,FALSE) -> Interno | G13: =+EVALUACION!H19 -> 1. Necesidad de iniciar un nuevo proceso 2. Distorsión del proceso de selección 3. Selección adversa | H13: =+EVALUACION!I19 -> 2 | I13: =+EVALUACION!J19 -> 4 | J13: =+EVALUACION!K19 -> 6 | K13: =+EVALUACION!L19 -> ALTO | L13: FDLT | M13: =+'EVALUACION CON CONTROLES'!G18 -> Reducir la probabilidad de ocurrencia del evento | N13: 2 | O13: 3 | P13: 5 | Q13: MEDIO | R13: =+'EVALUACION CON CONTROLES'!M18 -> NO | S13: =+'EVALUACION CON CONTROLES'!N18 -> PROFESIONALES DEL ÁREA DE GESTIÓN DEL DESARROLLO LOCAL DE TUNJUELITO (PLANEACIÓN) | T13: 2025 | U13: 2025 | V13: =+'EVALUACION CON CONTROLES'!Q18 -> SEGUIMIENTO AL PROCESO | W13: =+'EVALUACION CON CONTROLES'!R18 -> ETAPA DE PLANEACIÓN
