Workbook
Name Acero: #REF!
Name Acero: #REF!
Name Agregados: #REF!
Name Agregados: #REF!
Name Apar.Sanitarios: #REF!
Name Apar.Sanitarios: #REF!
Name Carp.Aluminio: #REF!
Name Carp.Aluminio: #REF!
Name Carp.Metalica: #REF!
Name Carp.Metalica: #REF!
Name Cerrajeria: #REF!
Name Cerrajeria: #REF!
Name Ciudades: #REF!
Name Ciudades: #REF!
Name Combustible: #REF!
Name Combustible: #REF!
Name Concretos: #REF!
Name Concretos: #REF!
Name Cuadrillas: #REF!
Name Cuadrillas: #REF!
Name Cubierta: #REF!
Name Cubierta: #REF!
Name Drywall: #REF!
Name Drywall: #REF!
Name Equipos: #REF!
Name Equipos: #REF!
Name EquiposEspeciales: #REF!
Name EquiposEspeciales: #REF!
Name Ferreteria: #REF!
Name Ferreteria: #REF!
Name Formaletas: #REF!
Name Formaletas: #REF!
Name Geosinteticos: #REF!
Name Geosinteticos: #REF!
Name Impermeabilizantes: #REF!
Name Impermeabilizantes: #REF!
Name Inst.Electricas: #REF!
Name Inst.Electricas: #REF!
Name Inst.Hidrosanitarias: #REF!
Name Inst.Hidrosanitarias: #REF!
Name INSUMOS: [1]INSUMOS!$A$1:$A$859
Name Ladrillos: #REF!
Name Ladrillos: #REF!
Name Leh: [2]Ins_EH!$B$2:$B$33
Name LiMo: [2]Ins_MO!$B$2:$B$14
Name Ltr: [2]Ins_TR!$B$2:$B$12
Name Maderas: #REF!
Name Maderas: #REF!
Name Pinturas: #REF!
Name Pinturas: #REF!
Name PisosEnchapes: #REF!
Name PisosEnchapes: #REF!
Name Prefabricados: #REF!
Name Prefabricados: #REF!
Name VariosAnalisis: #REF!
Name VariosAnalisis: #REF!

Sheet PRESUPUESTO TOTALIZADO
A2: PROYECTO. “REALIZAR LAS ACTIVIDADES PARA LA INSTALACIÓN DE ELEMENTOS DE SEÑALIZACIÓN VIAL EN DIFERENTES SECTORES CON EL FIN DE MEJORAR LA SEGURIDAD VIAL Y LA ORIENTACIÓN DEL TRÁNSITO EN EL MUNICIPIO DE PENSILVANIA. ”.
A5: ITEM | B5: ACTIVIDADES | C5: UN | D5: CANT. | E5: VALOR | F5: VALOR
E6: UNITARIO | F6: TOTAL
A7: 1 | B7: DESCRIPCIÓN
A8: 1.1. | B8: SUMINISTRO, TRANSPORTE E INSTALACIÓN HORIZONTAL DE VIAS PINTURA PLASTICO EN FRÍO | C8: M2 | D8: 99 | E8: 93000 | F8: =ROUND(D8*E8,0) -> 9207000 | G8: 620786
A9: 1.2. | B9: SUMINISTRO, TRANSPORTE E INSTALACIÓN DEMARCACIÓN PASOS PEATONALES, LINEAS DE PARE, SIMBOLOS, TEXTOS Y OTRAS CON PINTURA PLÁSTICO EN FRIO METODO LLANA | C9: M2 | D9: 90 | E9: 80900 | F9: =ROUND(D9*E9,0) -> 7281000 | G9: 3870
A10: 1.3. | B10: SUMINISTRO, TRANSPORTE E INSTALACIÓN DEMARCACIÓN LINEAS CENTRALES CON PINTURA PLÁSTICA EN FRIO APLICADA CON VEHICULO (DE BORDE, DE CARRIL Y OTRAS) ANCHO 12 CMS | C10: ML | D10: 21 | E10: 9450 | F10: =ROUND(D10*E10,0) -> 198450 | G10: 396567
A11: 1.4. | B11: FRESADO DE MARCAS VIALES | C11: ML | D11: 39 | E11: 13980 | F11: =ROUND(D11*E11,0) -> 545220 | G11: 369549
A12: 1.5. | B12: INSTALACIÓN DE REDUCTORES EXISTENTES (INCLUYE MANO DE OBRA, PEGANTE,PERNOS DE ANCLAJE, Y TODO LO NECESARIO PARA LA INSTALACIÓN) | C12: ML | D12: 20 | E12: 167000 | F12: =ROUND(D12*E12,0) -> 3340000 | G12: 1079929
A13: 1.6. | B13: SUMINISTRO, TRANSPORTE E INSTALACIÓN DE REDUCTORES PLÁSTICOS (INCLUYE MANO DE OBRA, PEGANTE,PERNOS DE ANCLAJE, Y TODO LO NECESARIO PARA LA INSTALACIÓN) | C13: ML | D13: 29 | E13: 321300 | F13: =ROUND(D13*E13,0) -> 9317700
B14: COSTO DIRECTO | F14: =+SUM(F8:F13) -> 29889370
B16: AIU | E16: =+AIU!J28 -> 0.3315 | F16: =ROUND(F14*E16,0) -> 9908326
B17: COSTO TOAL | F17: =+F16+F14 -> 39797696
B21: ALEJANDRO URREA GÓMEZ
B22: SECRETARIO DE PLANEACIÓN, INFRAESTRUCTURA, DESARROLLO SOCIAL Y MEDIO AMBIENTE MUNICIPAL

Sheet CRONOGRAMA Y FLUJO DE INVERSION
G2: ETAPA PRECONTRACTUAL | H2: ETAPA CONTRACTUAL
H4: MES 1 | L4: MES 2 | P4: MES 3 | T4: MES 4 | X4: MES 5 | AB4: MES 6
A5: ITEM | B5: ACTIVIDADES | C5: UN | D5: CANT. | E5: VALOR | F5: VALOR
A6: 1 | B6: OBRAS PRELIMINARES
A7: 1.1 | B7: LOCALIZACIÓN Y REPLANTEO DE INTERVENCIÓN, INCLUYE PLANO RECORD | C7: DÍA | D7: =+'PRESUPUESTO TOTALIZADO'!D8 -> 99 | E7: =+'PRESUPUESTO TOTALIZADO'!E8 -> 93000 | F7: =+'PRESUPUESTO TOTALIZADO'!F8 -> 9207000 | H7: =+H8*$F$7 -> 2762100 | I7: =+I8*$F$7 -> 2762100 | J7: =+J8*$F$7 -> 1841400 | K7: =+K8*$F$7 -> 1841400
H8: 0.3 | I8: 0.3 | J8: 0.2 | K8: 0.2
A9: 1.2 | B9: DESCAPOTE Y LIMPIEZA | C9: M2 | D9: =+'PRESUPUESTO TOTALIZADO'!D9 -> 90 | E9: =+'PRESUPUESTO TOTALIZADO'!E9 -> 80900 | F9: =+'PRESUPUESTO TOTALIZADO'!F9 -> 7281000 | I9: =+I10*$F$9 -> 3276450 | J9: =+J10*$F$9 -> 2548350 | K9: =+K10*$F$9 -> 1456200
I10: 0.45 | J10: 0.35 | K10: 0.2
A11: 2 | B11: MOVIMIENTO DE TIERRAS
A12: 2.1. | B12: EXCAVACIÓN MECANIZADA CIELO ABIERTO EN MAT COMÚN/CONGLOMERADO 0-6m | C12: M3 | D12: =+'PRESUPUESTO TOTALIZADO'!#REF! -> #REF! | E12: =+'PRESUPUESTO TOTALIZADO'!#REF! -> #REF! | F12: =+'PRESUPUESTO TOTALIZADO'!#REF! -> #REF! | I12: =+I13*$F$12 -> #REF! | J12: =+J13*$F$12 -> #REF! | K12: =+K13*$F$12 -> #REF! | L12: =+L13*$F$12 -> #REF!
I13: 0.35 | J13: 0.35 | K13: 0.2 | L13: 0.1
A14: 2.2. | B14: EXCAVACIÓN EN MATERIAL COMÚN DE 0-2m | C14: M3 | D14: =+'PRESUPUESTO TOTALIZADO'!#REF! -> #REF! | E14: =+'PRESUPUESTO TOTALIZADO'!#REF! -> #REF! | F14: =+'PRESUPUESTO TOTALIZADO'!#REF! -> #REF! | I14: =+I15*$F$14 -> #REF! | J14: =+J15*$F$14 -> #REF! | K14: =+K15*$F$14 -> #REF! | L14: =+L15*$F$14 -> #REF!
I15: 0.3 | J15: 0.3 | K15: 0.25 | L15: 0.15
A16: 2.3. | B16: LLENO COMPACTADO CON MATERIAL DE SITIO (CANGURO) | C16: M3 | D16: =+'PRESUPUESTO TOTALIZADO'!#REF! -> #REF! | E16: =+'PRESUPUESTO TOTALIZADO'!#REF! -> #REF! | F16: =+'PRESUPUESTO TOTALIZADO'!#REF! -> #REF! | J16: =+J17*$F$16 -> #REF! | K16: =+K17*$F$16 -> #REF! | L16: =+L17*$F$16 -> #REF!
J17: 0.33 | K17: 0.33 | L17: 0.34
A18: 2.4. | B18: RETIRO MATERIAL SOBRANTE EN VEHÍCULO AUTOMOTOR (HASTA 20 Km) | C18: M3 | D18: =+'PRESUPUESTO TOTALIZADO'!#REF! -> #REF! | E18: =+'PRESUPUESTO TOTALIZADO'!#REF! -> #REF! | F18: =+'PRESUPUESTO TOTALIZADO'!#REF! -> #REF! | K18: =+K19*$F$18 -> #REF! | L18: =+L19*$F$18 -> #REF! | M18: =+M19*$F$18 -> #REF!
K19: 0.4 | L19: 0.4 | M19: 0.2
A20: 2.5. | B20: NIVELACIÓN DE TERRENO CON MATERIAL DE SITIO | C20: M2 | D20: =+'PRESUPUESTO TOTALIZADO'!#REF! -> #REF! | E20: =+'PRESUPUESTO TOTALIZADO'!#REF! -> #REF! | F20: =+'PRESUPUESTO TOTALIZADO'!#REF! -> #REF! | K20: =+K21*$F$20 -> #REF! | L20: =+L21*$F$20 -> #REF! | M20: =+M21*$F$20 -> #REF!
K21: 0.35 | L21: 0.35 | M21: 0.3
A22: 2.6. | B22: CONFORMACIÓN DE TALUDES EN TIERRA Y EMPRADIZADO | C22: M2 | D22: =+'PRESUPUESTO TOTALIZADO'!#REF! -> #REF! | E22: =+'PRESUPUESTO TOTALIZADO'!#REF! -> #REF! | F22: =+'PRESUPUESTO TOTALIZADO'!#REF! -> #REF! | L22: =+L23*$F$22 -> #REF! | M22: =+M23*$F$22 -> #REF! | N22: =+N23*$F$22 -> #REF!
L23: 0.34 | M23: 0.33 | N23: 0.33
A24: 3 | B24: BORDILLOS, ANDENES VÍAS Y/O MUROS
A25: 3.1. | B25: SUMINISTRO TRANSPORTE E INSTALACIÓN AFIRMADO COMPACTADO | C25: M3 | D25: =+'PRESUPUESTO TOTALIZADO'!#REF! -> #REF! | E25: =+'PRESUPUESTO TOTALIZADO'!#REF! -> #REF! | F25: =+'PRESUPUESTO TOTALIZADO'!#REF! -> #REF! | L25: =+L26*$F$25 -> #REF! | M25: =+M26*$F$25 -> #REF! | N25: =+N26*$F$25 -> #REF!
L26: 0.35 | M26: 0.35 | N26: 0.3
A27: 3.2. | B27: SUMINISTRO TRANSPORTE E INSTALACIÓN BORDILLO CUNETA EN CONCRETO DE 3000 PSI (21 MPA) INCLUYE REFUERZO | C27: ML | D27: =+'PRESUPUESTO TOTALIZADO'!#REF! -> #REF! | E27: =+'PRESUPUESTO TOTALIZADO'!#REF! -> #REF! | F27: =+'PRESUPUESTO TOTALIZADO'!#REF! -> #REF! | M27: =+M28*$F$27 -> #REF! | N27: =+N28*$F$27 -> #REF! | O27: =+O28*$F$27 -> #REF!
M28: 0.33 | N28: 0.33 | O28: 0.34
A29: 3.3. | B29: SUMINISTRO TRANSPORTE E INSTALACIÓN ANDEN DE 2500 PSI (17.5 MPA) e=8cm. | C29: M2 | D29: =+'PRESUPUESTO TOTALIZADO'!#REF! -> #REF! | E29: =+'PRESUPUESTO TOTALIZADO'!#REF! -> #REF! | F29: =+'PRESUPUESTO TOTALIZADO'!#REF! -> #REF! | M29: =+M30*$F$29 -> #REF! | N29: =+N30*$F$29 -> #REF! | O29: =+O30*$F$29 -> #REF! | P29: =+P30*$F$29 -> #REF! | T29: |
M30: 0.3 | N30: 0.3 | O30: 0.25 | P30: 0.15
A31: 3.4. | B31: SUMINISTRO Y CONSTRUCCION DE MURO EN CONCRETO CICLOPEO PARA SUBMURACIÓN | C31: M3 | D31: =+'PRESUPUESTO TOTALIZADO'!#REF! -> #REF! | E31: =+'PRESUPUESTO TOTALIZADO'!#REF! -> #REF! | F31: =+'PRESUPUESTO TOTALIZADO'!#REF! -> #REF! | M31: =+M32*$F$31 -> #REF! | N31: =+N32*$F$31 -> #REF! | O31: =+O32*$F$31 -> #REF! | P31: =+P32*$F$31 -> #REF!
M32: 0.25 | N32: 0.25 | O32: 0.25 | P32: 0.25
A33: 4 | B33: REDES DE ACUEDUCTO, ALCANTARILLADO Y MANEJO DE AGUAS LLUVIAS.
A34: 4.1. | B34: SUMINISTRO TRANSPORTE E INSTALACIÓN DE EMPALME DE RED DE ACUEDUCTO DE 3" CON LÍNEA PRINCIPAL EXISTENTE. | C34: UN | D34: =+'PRESUPUESTO TOTALIZADO'!#REF! -> #REF! | E34: =+'PRESUPUESTO TOTALIZADO'!#REF! -> #REF! | F34: =+'PRESUPUESTO TOTALIZADO'!#REF! -> #REF! | N34: =+N35*$F$34 -> #REF! | O34: =+O35*$F$34 -> #REF!
N35: 0.7 | O35: 0.3
A36: 4.2. | B36: SUMINISTROTRANSPORTE E INSTALACIÓN TUBERÍA PVC UNIÓN PLATINO DE 3" RDE 21 | C36: ML | D36: =+'PRESUPUESTO TOTALIZADO'!#REF! -> #REF! | E36: =+'PRESUPUESTO TOTALIZADO'!#REF! -> #REF! | F36: =+'PRESUPUESTO TOTALIZADO'!#REF! -> #REF! | L36: =+L37*$F$36 -> #REF! | M36: =+M37*$F$36 -> #REF! | N36: =+N37*$F$36 -> #REF!
L37: 0.34 | M37: 0.34 | N37: 0.32
A38: 4.3. | B38: SUMINISTROTRANSPORTE E INSTALACIÓN DE VALVULAS DE COMPUERTA ELASTICA JH. DE 3" | C38: UN | D38: =+'PRESUPUESTO TOTALIZADO'!#REF! -> #REF! | E38: =+'PRESUPUESTO TOTALIZADO'!#REF! -> #REF! | F38: =+'PRESUPUESTO TOTALIZADO'!#REF! -> #REF! | M38: =+M39*F38 -> #REF!
M39: 1
A40: 4.4. | B40: SUMINISTROTRANSPORTE E INSTALACIÓN TUBERÍA PVC ALCANTARILLADO PARED ESTRUCTURAL 160mm (6"). (Incluye nivelación) | C40: ML | D40: =+'PRESUPUESTO TOTALIZADO'!#REF! -> #REF! | E40: =+'PRESUPUESTO TOTALIZADO'!#REF! -> #REF! | F40: =+'PRESUPUESTO TOTALIZADO'!#REF! -> #REF! | N40: =+N41*$F$40 -> #REF! | O40: =+O41*$F$40 -> #REF! | P40: =+P41*$F$40 -> #REF!
N41: 0.4 | O41: 0.3 | P41: 0.3
A42: 4.5. | B42: SUMINISTROTRANSPORTE E INSTALACIÓN TUBERÍA PVC ALCANTARILLADO PARED ESTRUCTURAL 200mm (8"). (Incluye nivelación) | C42: ML | D42: =+'PRESUPUESTO TOTALIZADO'!#REF! -> #REF! | E42: =+'PRESUPUESTO TOTALIZADO'!#REF! -> #REF! | F42: =+'PRESUPUESTO TOTALIZADO'!#REF! -> #REF! | N42: =+N43*$F$42 -> #REF! | O42: =+O43*$F$42 -> #REF! | P42: =+P43*$F$42 -> #REF!
...

Sheet PTO. PENSILVANIA
A1: PROYECTO. "CONSTRUCCIÓN DE SOLUCIONES HABITACIONALES PARA LA REUBICACIÓN DE POBLACIÓN UBICADA EN ZONAS DE ALTO RIESGO NO MITIGABLE EN EL TERRITORIO DE OPORTUNIDADES DEL DEPARTAMENTO DE CALDAS - ZONA URBANA". PRESUPUESTO VIVIENDAS A CONTRUIR EN EL MUNICIPIO PENSILVANIA-CALDAS. (25 SOLUCIONES HABITACIONALES)
A3: OBRAS DE ADECUACIONES DEL TERRENO, REDES Y URBANISMO
A5: ITEM | B5: ACTIVIDADES | C5: UN | D5: CANT. | E5: VALOR | F5: VALOR
E6: UITARIO | F6: TOTAL
A7: 1 | B7: OBRAS PRELIMINARES
A8: 1.1 | B8: =+#REF! -> #REF! | C8: DÍA | D8: =+#REF! -> #REF! | E8: =+#REF! -> #REF! | F8: =ROUND(D8*E8,0) -> #REF!
A9: 1.2 | B9: =+#REF! -> #REF! | C9: M2 | D9: =+#REF! -> #REF! | E9: =+#REF! -> #REF! | F9: =ROUND(D9*E9,0) -> #REF!
A11: 2 | B11: MOVIMIENTO DE TIERRAS
A12: 2.1. | B12: =+#REF! -> #REF! | C12: M3 | D12: =+#REF! -> #REF! | E12: =+#REF! -> #REF! | F12: =ROUND(D12*E12,0) -> #REF!
A13: 2.2. | B13: =+#REF! -> #REF! | C13: M3 | D13: =+#REF! -> #REF! | E13: =+#REF! -> #REF! | F13: =ROUND(D13*E13,0) -> #REF!
A14: 2.3. | B14: =+#REF! -> #REF! | C14: M3 | D14: =+#REF! -> #REF! | E14: =+#REF! -> #REF! | F14: =ROUND(D14*E14,0) -> #REF!
A15: 2.4. | B15: =+#REF! -> #REF! | C15: M3 | D15: =+#REF! -> #REF! | E15: =+#REF! -> #REF! | F15: =ROUND(D15*E15,0) -> #REF!
A16: 2.5. | B16: =+#REF! -> #REF! | C16: M2 | D16: =+#REF! -> #REF! | E16: =+#REF! -> #REF! | F16: =ROUND(D16*E16,0) -> #REF!
A17: 2.6. | B17: =+#REF! -> #REF! | C17: M2 | D17: =+#REF! -> #REF! | E17: =+#REF! -> #REF! | F17: =ROUND(D17*E17,0) -> #REF!
A18: 3 | B18: BORDILLOS, ANDENES VÍAS Y/O MUROS
A19: 3.1. | B19: =+#REF! -> #REF! | C19: M3 | D19: =+#REF! -> #REF! | E19: =+#REF! -> #REF! | F19: =ROUND(D19*E19,0) -> #REF!
A20: 3.2. | B20: =+#REF! -> #REF! | C20: ML | D20: =+#REF! -> #REF! | E20: =+#REF! -> #REF! | F20: =ROUND(D20*E20,0) -> #REF!
A21: 3.3. | B21: =+#REF! -> #REF! | C21: M2 | D21: =+#REF! -> #REF! | E21: =+#REF! -> #REF! | F21: =ROUND(D21*E21,0) -> #REF!
A22: 3.4. | B22: =+#REF! -> #REF! | C22: M3 | D22: =+#REF! -> #REF! | E22: =+#REF! -> #REF! | F22: =ROUND(D22*E22,0) -> #REF! | G22: =1.45*40 -> 58 | H22: =+G22*E22 -> #REF! | I22: =+H22*1.1 -> #REF! | J22: =+E22*1.1 -> #REF!
A25: 4 | B25: REDES DE ACUEDUCTO, ALCANTARILLADO Y MANEJO DE AGUAS LLUVIAS.
A26: 4.1. | B26: =+#REF! -> #REF! | C26: UN | D26: =+#REF! -> #REF! | E26: =+#REF! -> #REF! | F26: =ROUND(D26*E26,0) -> #REF!
A27: 4.2. | B27: =+#REF! -> #REF! | C27: ML | D27: =+#REF! -> #REF! | E27: =+#REF! -> #REF! | F27: =ROUND(D27*E27,0) -> #REF!
A28: 4.3. | B28: =+#REF! -> #REF! | C28: UN | D28: =+#REF! -> #REF! | E28: =+#REF! -> #REF! | F28: =ROUND(D28*E28,0) -> #REF!
A29: 4.4. | B29: =+#REF! -> #REF! | C29: ML | D29: =+#REF! -> #REF! | E29: =+#REF! -> #REF! | F29: =ROUND(D29*E29,0) -> #REF!
A30: 4.5. | B30: =+#REF! -> #REF! | C30: ML | D30: =+#REF! -> #REF! | E30: =+#REF! -> #REF! | F30: =ROUND(D30*E30,0) -> #REF!
A31: 4.6. | B31: =+#REF! -> #REF! | C31: ML | D31: =+#REF! -> #REF! | E31: =+#REF! -> #REF! | F31: =ROUND(D31*E31,0) -> #REF!
A32: 4.7. | B32: =+#REF! -> #REF! | C32: ML | D32: =+#REF! -> #REF! | E32: =+#REF! -> #REF! | F32: =ROUND(D32*E32,0) -> #REF!
A33: 4.8. | B33: =+#REF! -> #REF! | C33: ML | D33: =+#REF! -> #REF! | E33: =+#REF! -> #REF! | F33: =ROUND(D33*E33,0) -> #REF!
A34: 4.9. | B34: =+#REF! -> #REF! | C34: UN | D34: =+#REF! -> #REF! | E34: =+#REF! -> #REF! | F34: =ROUND(D34*E34,0) -> #REF!
A35: 4.10. | B35: =+#REF! -> #REF! | C35: ML | D35: =+#REF! -> #REF! | E35: =+#REF! -> #REF! | F35: =ROUND(D35*E35,0) -> #REF!
A36: 4.11 | B36: =+#REF! -> #REF! | C36: UN | D36: =+#REF! -> #REF! | E36: =+#REF! -> #REF! | F36: =ROUND(D36*E36,0) -> #REF!
A37: 4.12 | B37: =+#REF! -> #REF! | C37: UN | D37: =+#REF! -> #REF! | E37: =+#REF! -> #REF! | F37: =ROUND(D37*E37,0) -> #REF!
A38: 4.13 | B38: =+#REF! -> #REF! | C38: M3 | D38: =+#REF! -> #REF! | E38: =+#REF! -> #REF! | F38: =ROUND(D38*E38,0) -> #REF!
A39: 4.14 | B39: =+#REF! -> #REF! | C39: M3 | D39: =+#REF! -> #REF! | E39: =+#REF! -> #REF! | F39: =ROUND(D39*E39,0) -> #REF!
B41: COSTO DIRECTO OBRAS DE ADECUACIONES DEL TERRENO, REDES Y URBANISMO | F41: =+SUM(F8:F39) -> #REF!
B44: VIVIENDAS V.I.P UNIFAMILIARES | C44: UN | D44: 14 | E44: =+#REF! -> #REF! | F44: =+D44*E44 -> #REF! | G44: =+F44*1.4 -> #REF! | H44: =+G44/13 -> #REF!
B45: VIVIENDAS V.I.P BIFAMILIARES | C45: UN | D45: 0 | E45: =+'PTO VIVIENDA BIFAMILIAR'!F124 -> #REF! | F45: =+D45*E45 -> #REF!
H46: 20
H47: =+H46/1.4 -> 14.285714
B48: COSTO DIRECTO PROYECTO VIVIENDAS PENSILVANIA | F48: =+SUM(F41:F45) -> #REF! | H48: =+H47*13 -> 185.71429
...

Sheet PTO VIVIENDA BIFAMILIAR
A1: PROYECTO. "CONSTRUCCIÓN DE SOLUCIONES HABITACIONALES PARA LA REUBICACIÓN DE POBLACIÓN UBICADA EN ZONAS DE ALTO RIESGO NO MITIGABLE EN EL TERRITORIO DE OPORTUNIDADES DEL DEPARTAMENTO DE CALDAS - ZONA URBANA". PRESUPUESTO CONSTRUCCIÓN VIVIENDAS BIFAMILIARES TIPO
A4: OBRAS DE CONTRUCCIÓN POR VIVIENDA (1) UNIFAMILIAR
A5: ITEM | B5: ACTIVIDADES | C5: UN | D5: CANT. | E5: VALOR | F5: VALOR
E6: UITARIO | F6: TOTAL
A7: 5 | B7: CIMENTACIÓN
A8: 5.1. | B8: =+#REF! -> #REF! | C8: M3 | D8: =+#REF! -> #REF! | E8: =+#REF! -> #REF! | F8: =+D8*E8 -> #REF!
A9: 5.2. | B9: =+#REF! -> #REF! | C9: M3 | D9: =+#REF! -> #REF! | E9: =+#REF! -> #REF! | F9: =+D9*E9 -> #REF!
A10: 5.3. | B10: =+#REF! -> #REF! | C10: ML | D10: =+#REF! -> #REF! | E10: =+#REF! -> #REF! | F10: =+D10*E10 -> #REF!
A11: 5.4. | B11: =+#REF! -> #REF! | C11: ML | D11: 0 | E11: =+#REF! -> #REF! | F11: =+D11*E11 -> #REF!
A12: 5.5. | B12: =+#REF! -> #REF! | C12: ML | D12: =+#REF! -> #REF! | E12: =+#REF! -> #REF! | F12: =+D12*E12 -> #REF!
A13: 6 | B13: ESTRUCTURA EN CONCRETO
A14: 6.1. | B14: =+#REF! -> #REF! | C14: M2 | D14: =+#REF! -> #REF! | E14: =+#REF! -> #REF! | F14: =+D14*E14 -> #REF!
A15: 6.2. | B15: =+#REF! -> #REF! | C15: ML | D15: =+#REF! -> #REF! | E15: =+#REF! -> #REF! | F15: =+D15*E15 -> #REF!
A16: 6.3. | B16: =+#REF! -> #REF! | C16: ML | D16: =+#REF! -> #REF! | E16: =+#REF! -> #REF! | F16: =+D16*E16 -> #REF!
A17: 6.4. | B17: =+#REF! -> #REF! | C17: ML | D17: =+#REF! -> #REF! | E17: =+#REF! -> #REF! | F17: =+D17*E17 -> #REF!
A18: 6.5. | B18: =+#REF! -> #REF! | C18: ML | D18: =+#REF! -> #REF! | E18: =+#REF! -> #REF! | F18: =+D18*E18 -> #REF!
A19: 6.6. | B19: =+#REF! -> #REF! | C19: ML | D19: =+#REF! -> #REF! | E19: =+#REF! -> #REF! | F19: =+D19*E19 -> #REF!
A20: 6.7. | B20: =+#REF! -> #REF! | C20: M2 | D20: 0 | E20: =+#REF! -> #REF! | F20: =+D20*E20 -> #REF!
A21: 6.8. | B21: =+#REF! -> #REF! | C21: UN | D21: =+#REF! -> #REF! | E21: =+#REF! -> #REF! | F21: =+D21*E21 -> #REF!
A22: 7 | B22: MAMPOSTERIA
A23: 7.1 | B23: =+#REF! -> #REF! | C23: M2 | D23: =+#REF! -> #REF! | E23: =+#REF! -> #REF! | F23: =+D23*E23 -> #REF!
A24: 8 | B24: CUBIERTA
A25: 8.1. | B25: =+#REF! -> #REF! | C25: ML | D25: =+#REF! -> #REF! | E25: =+#REF! -> #REF! | F25: =+D25*E25 -> #REF!
A26: 8.2. | B26: =+#REF! -> #REF! | C26: M2 | D26: =+#REF! -> #REF! | E26: =+#REF! -> #REF! | F26: =+D26*E26 -> #REF!
A27: 9 | B27: ACABADOS
A28: 9.1. | B28: =+#REF! -> #REF! | C28: M2 | D28: =+#REF! -> #REF! | E28: =+#REF! -> #REF! | F28: =+D28*E28 -> #REF!
A29: 9.2. | B29: =+#REF! -> #REF! | C29: UN | D29: =+#REF! -> #REF! | E29: =+#REF! -> #REF! | F29: =+D29*E29 -> #REF!
A30: 9..3 | B30: =+#REF! -> #REF! | C30: M2 | D30: =+#REF! -> #REF! | E30: =+#REF! -> #REF! | F30: =+D30*E30 -> #REF!
A31: 9.4. | B31: =+#REF! -> #REF! | C31: M2 | D31: =+#REF! -> #REF! | E31: =+#REF! -> #REF! | F31: =+D31*E31 -> #REF!
A32: 9.5. | B32: =+#REF! -> #REF! | C32: M2 | D32: =+#REF! -> #REF! | E32: =+#REF! -> #REF! | F32: =+D32*E32 -> #REF!
A33: 10 | B33: CARPINTERIA METÁLICA
A34: 10.1. | B34: =+#REF! -> #REF! | C34: UN | D34: =+#REF! -> #REF! | E34: =+#REF! -> #REF! | F34: =+D34*E34 -> #REF!
A35: 10.2. | B35: =+#REF! -> #REF! | C35: UN | D35: =+#REF! -> #REF! | E35: =+#REF! -> #REF! | F35: =+D35*E35 -> #REF!
A36: 10.3. | B36: =+#REF! -> #REF! | C36: UN | D36: =+#REF! -> #REF! | E36: =+#REF! -> #REF! | F36: =+D36*E36 -> #REF!
A37: 10.4. | B37: =+#REF! -> #REF! | C37: UN | D37: =+#REF! -> #REF! | E37: =+#REF! -> #REF! | F37: =+D37*E37 -> #REF!
A38: 10.5. | B38: =+#REF! -> #REF! | C38: ML | D38: =+#REF! -> #REF! | E38: =+#REF! -> #REF! | F38: =+D38*E38 -> #REF!
A39: 11 | B39: APARATOS SANITARIOS
A40: 11.1. | B40: =+#REF! -> #REF! | C40: UN | D40: =+#REF! -> #REF! | E40: =+#REF! -> #REF! | F40: =+D40*E40 -> #REF!
A41: 11.2. | B41: =+#REF! -> #REF! | C41: UN | D41: =+#REF! -> #REF! | E41: =+#REF! -> #REF! | F41: =+D41*E41 -> #REF!
A42: 11.3. | B42: =+#REF! -> #REF! | C42: ML | D42: =+#REF! -> #REF! | E42: =+#REF! -> #REF! | F42: =+D42*E42 -> #REF!
...

Sheet AIU
A1: ANALISIS DEL AU
A3: Valor estimado de la Obra (Costo Directo). | D3: Valor | E3: =+'PRESUPUESTO TOTALIZADO'!F14 -> 29889370
A4: Plazo estimado de ejecución. | D4: Meses | E4: 1
A5: Contratista Persona Natural (SI o NO) | E5: NO
A7: CAPITULO | B7: TIPO DE GASTO | C7: UN | D7: CANTIDAD. | E7: DEDICACION | F7: VLOR UNITARIO (mes) | G7: FACTOR PRESTACIONAL O FACTOR AIU (PARA INDIRECTOS) | H7: VALOR TOTAL | I7: SUMA | J7: PORCENTAJE
A8: 1 | B8: GASTOS GENERALES. | J8: =+J9 -> 0.12676508
A9: 1.1 | B9: MANO DE OBRA Y GASTOS DE OFICINA | I9: =SUM(H10:H11) -> 3788928.5 | J9: =+I9/$E$3 -> 0.12676508
B10: Maestro de Obra | C10: Un | D10: 1 | E10: 1 | F10: 2200000 | G10: =+'[3]FACTOR PRESTACIONAL'!D25 -> 0.5655 | H10: =+D10*E10*$E$4*F10*(1+G10) -> 3444100 | J10: =+H10/$E$3 -> 0.11522826
B11: Secretaria con prestaciones | C11: Un | D11: 1 | E11: 0.15 | F11: 1423000 | G11: =+'[3]FACTOR PRESTACIONAL'!E25 -> 0.6155 | H11: =+D11*E11*$E$4*F11*(1+G11) -> 344828.47 | J11: =+H11/$E$3 -> 0.011536826
A12: 2 | B12: GASTOS INDIRECTOS. | J12: =+J13+J19 -> 0.15472926
A13: 2.1 | B13: POLIZAS | I13: =SUM(H14:H18) -> 246760 | J13: =+I13/$E$3 -> 0.0082557779
B14: Cumplimiento | C14: % | D14: 0.0009 | F14: 39800000 | G14: 1 | H14: =+F14*D14*G14 -> 35820 | J14: =+H14/$E$3 -> 0.0011984194
B15: Estabilidad | C15: % | D15: 0.0005 | F15: =+F14 -> 39800000 | G15: =+G14 -> 1 | H15: =+F15*D15*G15 -> 19900 | J15: =+H15/$E$3 -> 0.00066578854
B16: Calidad | C16: % | D16: 0.002 | F16: =+F15 -> 39800000 | G16: =+G15 -> 1 | H16: =+F16*D16*G16 -> 79600 | J16: =+H16/$E$3 -> 0.0026631542
B17: Prestaciones Sociales | C17: % | D17: 0.002 | F17: =+F16 -> 39800000 | G17: =+G16 -> 1 | H17: =+F17*D17*G17 -> 79600 | J17: =+H17/$E$3 -> 0.0026631542
B18: Responsabilidad Civil | C18: % | D18: 0.0008 | F18: =+F17 -> 39800000 | G18: =+G17 -> 1 | H18: =+F18*D18*G18 -> 31840 | J18: =+H18/$E$3 -> 0.0010652617
A19: 2.2 | B19: IMPUESTOS Y CONTRIBUCIONES | I19: =SUM(H20:H23) -> 4378000 | J19: =+I19/$E$3 -> 0.14647348
B20: Fondo de seguridad | C20: % | D20: 0.05 | F20: =+F18 -> 39800000 | G20: =+G18 -> 1 | H20: =+F20*D20*G20 -> 1990000 | J20: =+H20/$E$3 -> 0.066578854
B21: Tasa pro - deporte | C21: % | D21: 0.01 | F21: =+F20 -> 39800000 | G21: =+G20 -> 1 | H21: =+F21*D21*G21 -> 398000 | J21: =+H21/$E$3 -> 0.013315771
B22: Estampillas Pro - Cultura | C22: % | D22: 0.04 | F22: =+F21 -> 39800000 | G22: =+G21 -> 1 | H22: =+F22*D22*G22 -> 1592000 | J22: =+H22/$E$3 -> 0.053263083
B23: Estampillas Pro - Adulto Mayor | C23: % | D23: 0.01 | F23: =+F22 -> 39800000 | G23: =+G22 -> 1 | H23: =+F23*D23*G23 -> 398000 | J23: =+H23/$E$3 -> 0.013315771
B24: TOTAL GASTOS INDIRECTOS DE ADMINISTRACION. | I24: =SUM(I9:I23) -> 8413688.5 | J24: =+ROUND(SUM(J8:J23)/3,4) -> 0.2815
B25: UTILIDAD: | I25: =+J25*E3 -> 1494468.5 | J25: 0.05
B26: IMPREVISTOS | I26: =E3*J26 -> 0 | J26: 0
B28: A.I.U. | I28: =+I25+I24 -> 9908157 | J28: =SUM(J24:J26) -> 0.3315
B33: ALEJANDRO URREA GÓMEZ
B34: SECRETARIO DE PLANEACIÓN, INFRAESTRUCTURA, DESARROLLO SOCIAL Y MEDIO AMBIENTE MUNICIPAL

Sheet PTO VIVIENDA UNIFAMILIAR
A1: PROYECTO.
A4: OBRAS DE CONTRUCCIÓN POR VIVIENDA (1) UNIFAMILIAR
A5: ITEM | B5: ACTIVIDADES | C5: UN | D5: CANT. | E5: VALOR | F5: VALOR
E6: UITARIO | F6: TOTAL
A7: 5 | B7: CIMENTACIÓN
A8: 5.1. | B8: =+#REF! -> #REF! | C8: M3 | D8: =+#REF! -> #REF! | E8: =+#REF! -> #REF! | F8: =+D8*E8 -> #REF!
A9: 5.2. | B9: =+#REF! -> #REF! | C9: M3 | D9: =+#REF! -> #REF! | E9: =+#REF! -> #REF! | F9: =+D9*E9 -> #REF!
A10: 5.3. | B10: =+#REF! -> #REF! | C10: ML | D10: =+#REF! -> #REF! | E10: =+#REF! -> #REF! | F10: =+D10*E10 -> #REF!
A11: 5.4. | B11: =+#REF! -> #REF! | C11: ML | D11: 0 | E11: =+#REF! -> #REF! | F11: =+D11*E11 -> #REF!
A12: 5.5. | B12: =+#REF! -> #REF! | C12: ML | D12: =+#REF! -> #REF! | E12: =+#REF! -> #REF! | F12: =+D12*E12 -> #REF!
A13: 6 | B13: ESTRUCTURA EN CONCRETO
A14: 6.1. | B14: =+#REF! -> #REF! | C14: M2 | D14: =+#REF! -> #REF! | E14: =+#REF! -> #REF! | F14: =+D14*E14 -> #REF!
A15: 6.2. | B15: =+#REF! -> #REF! | C15: ML | D15: =+#REF! -> #REF! | E15: =+#REF! -> #REF! | F15: =+D15*E15 -> #REF!
A16: 6.3. | B16: =+#REF! -> #REF! | C16: ML | D16: =+#REF! -> #REF! | E16: =+#REF! -> #REF! | F16: =+D16*E16 -> #REF!
A17: 6.4. | B17: =+#REF! -> #REF! | C17: ML | D17: =+#REF! -> #REF! | E17: =+#REF! -> #REF! | F17: =+D17*E17 -> #REF!
A18: 6.5. | B18: =+#REF! -> #REF! | C18: ML | D18: =+#REF! -> #REF! | E18: =+#REF! -> #REF! | F18: =+D18*E18 -> #REF!
A19: 6.6. | B19: =+#REF! -> #REF! | C19: M2 | D19: 0 | E19: =+#REF! -> #REF! | F19: =+D19*E19 -> #REF!
A20: 6.7. | B20: =+#REF! -> #REF! | C20: UN | D20: =+#REF! -> #REF! | E20: =+#REF! -> #REF! | F20: =+D20*E20 -> #REF!
A21: 7 | B21: MAMPOSTERIA
A22: 7.1 | B22: =+#REF! -> #REF! | C22: M2 | D22: =+#REF! -> #REF! | E22: =+#REF! -> #REF! | F22: =+D22*E22 -> #REF!
A23: 8 | B23: CUBIERTA | F23: =ROUND(D23*E23,0) -> 0
A24: 8.1. | B24: =+#REF! -> #REF! | C24: ML | D24: =+#REF! -> #REF! | E24: =+#REF! -> #REF! | F24: =+D24*E24 -> #REF!
A25: 8.2. | B25: =+#REF! -> #REF! | C25: M2 | D25: =+#REF! -> #REF! | E25: =+#REF! -> #REF! | F25: =+D25*E25 -> #REF!
A26: 9 | B26: ACABADOS
A27: 9.1. | B27: =+#REF! -> #REF! | C27: M2 | D27: =+#REF! -> #REF! | E27: =+#REF! -> #REF! | F27: =+D27*E27 -> #REF!
A28: 9.2. | B28: =+#REF! -> #REF! | C28: UN | D28: =+#REF! -> #REF! | E28: =+#REF! -> #REF! | F28: =+D28*E28 -> #REF!
A29: 9..3 | B29: =+#REF! -> #REF! | C29: M2 | D29: =+#REF! -> #REF! | E29: =+#REF! -> #REF! | F29: =+D29*E29 -> #REF!
A30: 9.4. | B30: =+#REF! -> #REF! | C30: M2 | D30: =+#REF! -> #REF! | E30: =+#REF! -> #REF! | F30: =+D30*E30 -> #REF!
A31: 9.5. | B31: =+#REF! -> #REF! | C31: M2 | D31: =+#REF! -> #REF! | E31: =+#REF! -> #REF! | F31: =+D31*E31 -> #REF!
A32: 10 | B32: CARPINTERIA METÁLICA
A33: 10.1. | B33: =+#REF! -> #REF! | C33: UN | D33: =+#REF! -> #REF! | E33: =+#REF! -> #REF! | F33: =+D33*E33 -> #REF!
A34: 10.2. | B34: =+#REF! -> #REF! | C34: UN | D34: =+#REF! -> #REF! | E34: =+#REF! -> #REF! | F34: =+D34*E34 -> #REF!
A35: 10.3. | B35: =+#REF! -> #REF! | C35: UN | D35: =+#REF! -> #REF! | E35: =+#REF! -> #REF! | F35: =+D35*E35 -> #REF!
A36: 10.4. | B36: =+#REF! -> #REF! | C36: UN | D36: =+#REF! -> #REF! | E36: =+#REF! -> #REF! | F36: =+D36*E36 -> #REF!
A37: 10.5. | B37: =+#REF! -> #REF! | C37: ML | D37: =+#REF! -> #REF! | E37: =+#REF! -> #REF! | F37: =+D37*E37 -> #REF!
A38: 11 | B38: APARATOS SANITARIOS
A39: 11.1. | B39: =+#REF! -> #REF! | C39: UN | D39: =+#REF! -> #REF! | E39: =+#REF! -> #REF! | F39: =+D39*E39 -> #REF!
A40: 11.2. | B40: =+#REF! -> #REF! | C40: UN | D40: =+#REF! -> #REF! | E40: =+#REF! -> #REF! | F40: =+D40*E40 -> #REF!
A41: 11.3. | B41: =+#REF! -> #REF! | C41: ML | D41: =+#REF! -> #REF! | E41: =+#REF! -> #REF! | F41: =+D41*E41 -> #REF!
A42: 11.4. | B42: =+#REF! -> #REF! | C42: UN | D42: =+#REF! -> #REF! | E42: =+#REF! -> #REF! | F42: =+D42*E42 -> #REF!
...

Sheet PRESUPUESTO GENERAL
A1: PROYECTO. "CONSTRUCCIÓN DE SOLUCIONES HABITACIONALES PARA LA REUBICACIÓN DE POBLACIÓN UBICADA EN ZONAS DE ALTO RIESGO NO MITIGABLE EN EL TERRITORIO DE OPORTUNIDADES DEL DEPARTAMENTO DE CALDAS - ZONA URBANA". PRESUPUESTO VIVIENDAS MUNICIPIO DE PENSILVANIA (25 UNIDADES)
G2: NORCASIA | I2: PENSILVANIA | K2: DORADA | M2: AGUADAS | O2: MARMATO | Q2: RISARALDA | S2: LA MERCED | U2: MANZANARES
A3: OBRAS DE ADECUACIONES DEL TERRENO, REDES Y URBANISMO
A5: ITEM | B5: ACTIVIDADES | C5: UN | D5: CANT. | E5: VALOR | F5: VALOR | G5: CANT. | H5: VALOR | I5: CANT. | J5: VALOR | K5: CANT. | L5: VALOR | M5: CANT. | N5: VALOR | O5: CANT. | P5: VALOR | Q5: CANT. | R5: VALOR | S5: CANT. | T5: VALOR | U5: CANT. | V5: VALOR
E6: UITARIO | F6: TOTAL | H6: TOTAL | J6: TOTAL | L6: TOTAL | N6: TOTAL | P6: TOTAL | R6: TOTAL | T6: TOTAL | V6: TOTAL
A7: 1 | B7: OBRAS PRELIMINARES
A8: 1.1 | B8: =+#REF! -> #REF! | C8: DÍA | D8: =+#REF! -> #REF! | E8: =+#REF! -> #REF! | F8: =+D8*E8 -> #REF! | G8: =+'CANTIDADES URBANISMO NORCASIA'!D8 -> 4 | H8: =+G8*E8 -> #REF! | I8: =+#REF! -> #REF! | J8: =+I8*E8 -> #REF! | K8: =+'CANTIDADES URBANISMO LA DORADA'!D7 -> 2 | L8: =+K8*E8 -> #REF! | M8: =+'CANTIDADES URBANISMO AGUADAS'!D7 -> 3 | N8: =+M8*E8 -> #REF! | O8: =+#REF! -> #REF! | P8: =+O8*E8 -> #REF! | Q8: =+#REF! -> #REF! | R8: =+Q8*E8 -> #REF! | S8: =+'CANTIDADES URBANISMO LA MERCED'!D7 -> 4 | T8: =+S8*E8 -> #REF! | U8: =+'CANTIDADES URBANISMO MANZANARES'!D7 -> 2 | V8: =+U8*E8 -> #REF!
A9: 1.2 | B9: =+#REF! -> #REF! | C9: M2 | D9: =+#REF! -> #REF! | E9: =+#REF! -> #REF! | F9: =+D9*E9 -> #REF! | G9: =+'CANTIDADES URBANISMO NORCASIA'!D18 -> 2023 | H9: =+G9*E9 -> #REF! | I9: =+#REF! -> #REF! | J9: =+I9*E9 -> #REF! | K9: =+'CANTIDADES URBANISMO LA DORADA'!D16 -> 1020 | L9: =+K9*E9 -> #REF! | M9: =+'CANTIDADES URBANISMO AGUADAS'!D17 -> 661 | N9: =+M9*E9 -> #REF! | O9: =+#REF! -> #REF! | P9: =+O9*E9 -> #REF! | Q9: =+#REF! -> #REF! | R9: =+Q9*E9 -> #REF! | S9: =+'CANTIDADES URBANISMO LA MERCED'!D17 -> 870 | T9: =+S9*E9 -> #REF! | U9: =+'CANTIDADES URBANISMO MANZANARES'!D16 -> 300 | V9: =+U9*E9 -> #REF!
H10: =+G10*E10 -> 0 | J10: =+I10*E10 -> 0 | L10: =+K10*E10 -> 0 | N10: =+M10*E10 -> 0 | P10: =+O10*E10 -> 0 | R10: =+Q10*E10 -> 0 | T10: =+S10*E10 -> 0 | V10: =+U10*E10 -> 0
A11: 2 | B11: MOVIMIENTO DE TIERRAS | H11: =+G11*E11 -> 0 | J11: =+I11*E11 -> 0 | L11: =+K11*E11 -> 0 | N11: =+M11*E11 -> 0 | P11: =+O11*E11 -> 0 | R11: =+Q11*E11 -> 0 | T11: =+S11*E11 -> 0 | V11: =+U11*E11 -> 0
A12: 2.1. | B12: =+#REF! -> #REF! | C12: M3 | D12: =+#REF! -> #REF! | E12: =+#REF! -> #REF! | F12: =+D12*E12 -> #REF! | G12: =+'CANTIDADES URBANISMO NORCASIA'!D25 -> 1443.12 | H12: =+G12*E12 -> #REF! | I12: =+#REF! -> #REF! | J12: =+I12*E12 -> #REF! | K12: =+'CANTIDADES URBANISMO LA DORADA'!D23 -> 0 | L12: =+K12*E12 -> #REF! | M12: =+'CANTIDADES URBANISMO AGUADAS'!D24 -> 0 | N12: =+M12*E12 -> #REF! | O12: 0 | P12: =+O12*E12 -> #REF! | Q12: =+#REF! -> #REF! | R12: =+Q12*E12 -> #REF! | S12: =+'CANTIDADES URBANISMO LA MERCED'!D24 -> 1356.5 | T12: =+S12*E12 -> #REF! | U12: =+'CANTIDADES URBANISMO MANZANARES'!D23 -> 0 | V12: =+U12*E12 -> #REF!
A13: 2.2. | B13: =+#REF! -> #REF! | C13: M3 | D13: =+#REF! -> #REF! | E13: =+#REF! -> #REF! | F13: =+D13*E13 -> #REF! | G13: =+'CANTIDADES URBANISMO NORCASIA'!D43 -> 263.1 | H13: =+G13*E13 -> #REF! | I13: =+#REF! -> #REF! | J13: =+I13*E13 -> #REF! | K13: =+'CANTIDADES URBANISMO LA DORADA'!D28 -> 64.3 | L13: =+K13*E13 -> #REF! | M13: =+'CANTIDADES URBANISMO AGUADAS'!D29 -> 476.4 | N13: =+M13*E13 -> #REF! | O13: =+#REF! -> #REF! | P13: =+O13*E13 -> #REF! | Q13: =+#REF! -> #REF! | R13: =+Q13*E13 -> #REF! | S13: =+'CANTIDADES URBANISMO LA MERCED'!D42 -> 280.5 | T13: =+S13*E13 -> #REF! | U13: =+'CANTIDADES URBANISMO MANZANARES'!D28 -> 24.7 | V13: =+U13*E13 -> #REF!
A14: 2.3. | B14: =+#REF! -> #REF! | C14: M3 | D14: =+#REF! -> #REF! | E14: =+#REF! -> #REF! | F14: =+D14*E14 -> #REF! | G14: =+'CANTIDADES URBANISMO NORCASIA'!D65 -> 199.5 | H14: =+G14*E14 -> #REF! | I14: =+#REF! -> #REF! | J14: =+I14*E14 -> #REF! | K14: =+'CANTIDADES URBANISMO LA DORADA'!D36 -> 30 | L14: =+K14*E14 -> #REF! | M14: =+'CANTIDADES URBANISMO AGUADAS'!D68 -> 425.9 | N14: =+M14*E14 -> #REF! | O14: =+#REF! -> #REF! | P14: =+O14*E14 -> #REF! | Q14: =+#REF! -> #REF! | R14: =+Q14*E14 -> #REF! | S14: =+'CANTIDADES URBANISMO LA MERCED'!D59 -> 201.3 | T14: =+S14*E14 -> #REF! | U14: =+'CANTIDADES URBANISMO MANZANARES'!D36 -> 23.94 | V14: =+U14*E14 -> #REF!
A15: 2.4. | B15: =+#REF! -> #REF! | C15: M3 | D15: =+#REF! -> #REF! | E15: =+#REF! -> #REF! | F15: =+D15*E15 -> #REF! | G15: =+'CANTIDADES URBANISMO NORCASIA'!D81 -> 1506.72 | H15: =+G15*E15 -> #REF! | I15: =+#REF! -> #REF! | J15: =+I15*E15 -> #REF! | K15: =+'CANTIDADES URBANISMO LA DORADA'!D43 -> 34.3 | L15: =+K15*E15 -> #REF! | M15: =+'CANTIDADES URBANISMO AGUADAS'!D99 -> 50.5 | N15: =+M15*E15 -> #REF! | O15: =+#REF! -> #REF! | P15: =+O15*E15 -> #REF! | Q15: =+#REF! -> #REF! | R15: =+Q15*E15 -> #REF! | S15: =+'CANTIDADES URBANISMO LA MERCED'!D72 -> 1435.7 | T15: =+S15*E15 -> #REF! | U15: =+'CANTIDADES URBANISMO MANZANARES'!D43 -> 0.76 | V15: =+U15*E15 -> #REF!
A16: 2.5. | B16: =+#REF! -> #REF! | C16: M2 | D16: =+#REF! -> #REF! | E16: =+#REF! -> #REF! | F16: =+D16*E16 -> #REF! | G16: =+'CANTIDADES URBANISMO NORCASIA'!D85 -> 1250 | H16: =+G16*E16 -> #REF! | I16: =+#REF! -> #REF! | J16: =+I16*E16 -> #REF! | K16: =+'CANTIDADES URBANISMO LA DORADA'!E50 -> 1020 | L16: =+K16*E16 -> #REF! | M16: =+'CANTIDADES URBANISMO AGUADAS'!D103 -> 608 | N16: =+M16*E16 -> #REF! | O16: =+#REF! -> #REF! | P16: =+O16*E16 -> #REF! | Q16: =+#REF! -> #REF! | R16: =+Q16*E16 -> #REF! | S16: =+'CANTIDADES URBANISMO LA MERCED'!D76 -> 1149.4 | T16: =+S16*E16 -> #REF! | U16: =+'CANTIDADES URBANISMO MANZANARES'!D47 -> 300 | V16: =+U16*E16 -> #REF!
A17: 2.6. | B17: =+#REF! -> #REF! | C17: M2 | D17: =+#REF! -> #REF! | E17: =+#REF! -> #REF! | F17: =+D17*E17 -> #REF! | G17: =+'CANTIDADES URBANISMO NORCASIA'!D92 -> 578 | H17: =+G17*E17 -> #REF! | I17: =+#REF! -> #REF! | J17: =+I17*E17 -> #REF! | K17: =+'CANTIDADES URBANISMO LA DORADA'!D54 -> 0 | L17: =+K17*E17 -> #REF! | M17: =+'CANTIDADES URBANISMO AGUADAS'!D110 -> 104 | N17: =+M17*E17 -> #REF! | O17: =+#REF! -> #REF! | P17: =+O17*E17 -> #REF! | Q17: =+#REF! -> #REF! | R17: =+Q17*E17 -> #REF! | S17: =+'CANTIDADES URBANISMO LA MERCED'!D86 -> 90 | T17: =+S17*E17 -> #REF! | U17: =+'CANTIDADES URBANISMO MANZANARES'!D54 -> 0 | V17: =+U17*E17 -> #REF!
A18: 3 | B18: BORDILLOS, ANDENES VÍAS Y/O MUROS | H18: =+G18*E18 -> 0 | J18: =+I18*E18 -> 0 | L18: =+K18*E18 -> 0 | N18: =+M18*E18 -> 0 | P18: =+O18*E18 -> 0 | R18: =+Q18*E18 -> 0 | T18: =+S18*E18 -> 0 | V18: =+U18*E18 -> 0
A19: 3.1. | B19: =+#REF! -> #REF! | C19: M3 | D19: =+#REF! -> #REF! | E19: =+#REF! -> #REF! | F19: =+D19*E19 -> #REF! | G19: =+'CANTIDADES URBANISMO NORCASIA'!D100 -> 46.4 | H19: =+G19*E19 -> #REF! | I19: =+#REF! -> #REF! | J19: =+I19*E19 -> #REF! | K19: =+'CANTIDADES URBANISMO LA DORADA'!D59 -> 7.14 | L19: =+K19*E19 -> #REF! | M19: =+'CANTIDADES URBANISMO AGUADAS'!D115 -> 61.29 | N19: =+M19*E19 -> #REF! | O19: =+#REF! -> #REF! | P19: =+O19*E19 -> #REF! | Q19: =+#REF! -> #REF! | R19: =+Q19*E19 -> #REF! | S19: =+'CANTIDADES URBANISMO LA MERCED'!D91 -> 33.8 | T19: =+S19*E19 -> #REF! | U19: =+'CANTIDADES URBANISMO MANZANARES'!D59 -> 2.1 | V19: =+U19*E19 -> #REF!
A20: 3.2. | B20: =+#REF! -> #REF! | C20: ML | D20: =+#REF! -> #REF! | E20: =+#REF! -> #REF! | F20: =+D20*E20 -> #REF! | G20: =+'CANTIDADES URBANISMO NORCASIA'!D110 -> 45 | H20: =+G20*E20 -> #REF! | I20: =+#REF! -> #REF! | J20: =+I20*E20 -> #REF! | K20: =+'CANTIDADES URBANISMO LA DORADA'!D72 -> 102 | L20: =+K20*E20 -> #REF! | M20: =+'CANTIDADES URBANISMO AGUADAS'!D127 -> 0 | N20: =+M20*E20 -> #REF! | O20: =+#REF! -> #REF! | P20: =+O20*E20 -> #REF! | Q20: =+#REF! -> #REF! | R20: =+Q20*E20 -> #REF! | S20: =+'CANTIDADES URBANISMO LA MERCED'!D101 -> 0 | T20: =+S20*E20 -> #REF! | U20: =+'CANTIDADES URBANISMO MANZANARES'!D72 -> 30 | V20: =+U20*E20 -> #REF!
A21: 3.3. | B21: =+#REF! -> #REF! | C21: M2 | D21: =+#REF! -> #REF! | E21: =+#REF! -> #REF! | F21: =+D21*E21 -> #REF! | G21: =+'CANTIDADES URBANISMO NORCASIA'!D117 -> 152.4 | H21: =+G21*E21 -> #REF! | I21: =+#REF! -> #REF! | J21: =+I21*E21 -> #REF! | K21: =+'CANTIDADES URBANISMO LA DORADA'!D79 -> 122.4 | L21: =+K21*E21 -> #REF! | M21: =+'CANTIDADES URBANISMO AGUADAS'!D134 -> 91.32 | N21: =+M21*E21 -> #REF! | O21: =+#REF! -> #REF! | P21: =+O21*E21 -> #REF! | Q21: =+#REF! -> #REF! | R21: =+Q21*E21 -> #REF! | S21: =+'CANTIDADES URBANISMO LA MERCED'!D108 -> 98.4 | T21: =+S21*E21 -> #REF! | U21: =+'CANTIDADES URBANISMO MANZANARES'!D79 -> 36 | V21: =+U21*E21 -> #REF!
A22: 3.4. | B22: =+#REF! -> #REF! | C22: M3 | E22: =+#REF! -> #REF! | G22: =+'CANTIDADES URBANISMO NORCASIA'!D124 -> 0 | H22: =+G22*E22 -> #REF! | I22: =+#REF! -> #REF! | J22: =+I22*E22 -> #REF! | K22: =+'CANTIDADES URBANISMO LA DORADA'!D86 -> 0 | L22: =+K22*E22 -> #REF! | M22: =+'CANTIDADES URBANISMO AGUADAS'!D141 -> 37.7 | N22: =+M22*E22 -> #REF! | O22: 0 | P22: =+O22*E22 -> #REF! | Q22: =+#REF! -> #REF! | R22: =+Q22*E22 -> #REF! | S22: =+'CANTIDADES URBANISMO LA MERCED'!D115 -> 11.04 | T22: =+S22*E22 -> #REF! | U22: =+'CANTIDADES URBANISMO MANZANARES'!D86 -> 18 | V22: =+U22*E22 -> #REF!
H23: =+G23*E23 -> 0 | J23: =+I23*E23 -> 0 | L23: =+K23*E23 -> 0 | N23: =+M23*E23 -> 0 | P23: =+O23*E23 -> 0 | R23: =+Q23*E23 -> 0 | T23: =+S23*E23 -> 0 | V23: =+U23*E23 -> 0
H24: =+G24*E24 -> 0 | J24: =+I24*E24 -> 0 | L24: =+K24*E24 -> 0 | N24: =+M24*E24 -> 0 | P24: =+O24*E24 -> 0 | R24: =+Q24*E24 -> 0 | T24: =+S24*E24 -> 0 | V24: =+U24*E24 -> 0
A25: 4 | B25: REDES DE ACUEDUCTO, ALCANTARILLADO Y MANEJO DE AGUAS LLUVIAS. | H25: =+G25*E25 -> 0 | J25: =+I25*E25 -> 0 | L25: =+K25*E25 -> 0 | N25: =+M25*E25 -> 0 | P25: =+O25*E25 -> 0 | R25: =+Q25*E25 -> 0 | T25: =+S25*E25 -> 0 | V25: =+U25*E25 -> 0
A26: 4.1. | B26: =+#REF! -> #REF! | C26: UN | D26: 1 | E26: =+#REF! -> #REF! | G26: =+'CANTIDADES URBANISMO NORCASIA'!D132 -> 1 | H26: =+G26*E26 -> #REF! | I26: =+#REF! -> #REF! | J26: =+I26*E26 -> #REF! | K26: =+'CANTIDADES URBANISMO LA DORADA'!D94 -> 0 | L26: =+K26*E26 -> #REF! | M26: =+'CANTIDADES URBANISMO AGUADAS'!D152 -> 1 | N26: =+M26*E26 -> #REF! | O26: 0 | P26: =+O26*E26 -> #REF! | Q26: =+#REF! -> #REF! | R26: =+Q26*E26 -> #REF! | S26: =+'CANTIDADES URBANISMO LA MERCED'!D123 -> 1 | T26: =+S26*E26 -> #REF! | U26: =+'CANTIDADES URBANISMO MANZANARES'!D94 -> 0 | V26: =+U26*E26 -> #REF!
A27: 4.2. | B27: =+#REF! -> #REF! | C27: ML | D27: =+#REF! -> #REF! | E27: =+#REF! -> #REF! | F27: =+D27*E27 -> #REF! | G27: =+'CANTIDADES URBANISMO NORCASIA'!D136 -> 117.6 | H27: =+G27*E27 -> #REF! | I27: =+#REF! -> #REF! | J27: =+I27*E27 -> #REF! | K27: =+'CANTIDADES URBANISMO LA DORADA'!D98 -> 0 | L27: =+K27*E27 -> #REF! | M27: =+'CANTIDADES URBANISMO AGUADAS'!D156 -> 78 | N27: =+M27*E27 -> #REF! | O27: 0 | P27: =+O27*E27 -> #REF! | Q27: =+#REF! -> #REF! | R27: =+Q27*E27 -> #REF! | S27: =+'CANTIDADES URBANISMO LA MERCED'!D127 -> 73 | T27: =+S27*E27 -> #REF! | U27: =+'CANTIDADES URBANISMO MANZANARES'!D98 -> 0 | V27: =+U27*E27 -> #REF!
A28: 4.3. | B28: =+#REF! -> #REF! | C28: UN | D28: =+#REF! -> #REF! | E28: =+#REF! -> #REF! | F28: =+D28*E28 -> #REF! | G28: =+'CANTIDADES URBANISMO NORCASIA'!D143 -> 1 | H28: =+G28*E28 -> #REF! | I28: =+#REF! -> #REF! | J28: =+I28*E28 -> #REF! | K28: =+'CANTIDADES URBANISMO LA DORADA'!D105 -> 0 | L28: =+K28*E28 -> #REF! | M28: =+'CANTIDADES URBANISMO AGUADAS'!D163 -> 1 | N28: =+M28*E28 -> #REF! | O28: 0 | P28: =+O28*E28 -> #REF! | Q28: =+#REF! -> #REF! | R28: =+Q28*E28 -> #REF! | S28: =+'CANTIDADES URBANISMO LA MERCED'!D134 -> 1 | T28: =+S28*E28 -> #REF! | U28: =+'CANTIDADES URBANISMO MANZANARES'!D105 -> 0 | V28: =+U28*E28 -> #REF!
A29: 4.4. | B29: =+#REF! -> #REF! | C29: ML | D29: =+#REF! -> #REF! | E29: =+#REF! -> #REF! | F29: =+D29*E29 -> #REF! | G29: =+'CANTIDADES URBANISMO NORCASIA'!D147 -> 21.8 | H29: =+G29*E29 -> #REF! | I29: =+#REF! -> #REF! | J29: =+I29*E29 -> #REF! | K29: =+'CANTIDADES URBANISMO LA DORADA'!D109 -> 58.5 | L29: =+K29*E29 -> #REF! | M29: =+'CANTIDADES URBANISMO AGUADAS'!D167 -> 42.7 | N29: =+M29*E29 -> #REF! | O29: =+#REF! -> #REF! | P29: =+O29*E29 -> #REF! | Q29: =+#REF! -> #REF! | R29: =+Q29*E29 -> #REF! | S29: =+'CANTIDADES URBANISMO LA MERCED'!D138 -> 32 | T29: =+S29*E29 -> #REF! | U29: =+'CANTIDADES URBANISMO MANZANARES'!D109 -> 22.5 | V29: =+U29*E29 -> #REF!
A30: 4.5. | B30: =+#REF! -> #REF! | C30: ML | D30: =+#REF! -> #REF! | E30: =+#REF! -> #REF! | F30: =+D30*E30 -> #REF! | G30: =+'CANTIDADES URBANISMO NORCASIA'!D151 -> 79.2 | H30: =+G30*E30 -> #REF! | I30: =+#REF! -> #REF! | J30: =+I30*E30 -> #REF! | K30: =+'CANTIDADES URBANISMO LA DORADA'!D116 -> 0 | L30: =+K30*E30 -> #REF! | M30: =+'CANTIDADES URBANISMO AGUADAS'!D171 -> 67.8 | N30: =+M30*E30 -> #REF! | O30: 0 | P30: =+O30*E30 -> #REF! | Q30: =+#REF! -> #REF! | R30: =+Q30*E30 -> #REF! | S30: =+'CANTIDADES URBANISMO LA MERCED'!D142 -> 146.7 | T30: =+S30*E30 -> #REF! | U30: =+'CANTIDADES URBANISMO MANZANARES'!D116 -> 0 | V30: =+U30*E30 -> #REF!
A31: 4.6. | B31: =+#REF! -> #REF! | C31: ML | D31: 0 | E31: =+#REF! -> #REF! | F31: =+D31*E31 -> #REF! | G31: =+'CANTIDADES URBANISMO NORCASIA'!D160 -> 7 | H31: =+G31*E31 -> #REF! | I31: =+#REF! -> #REF! | J31: =+I31*E31 -> #REF! | K31: =+'CANTIDADES URBANISMO LA DORADA'!D120 -> 0 | L31: =+K31*E31 -> #REF! | M31: =+'CANTIDADES URBANISMO AGUADAS'!D181 -> 0 | N31: =+M31*E31 -> #REF! | O31: 0 | P31: =+O31*E31 -> #REF! | Q31: =+#REF! -> #REF! | R31: =+Q31*E31 -> #REF! | S31: =+'CANTIDADES URBANISMO LA MERCED'!D151 -> 0 | T31: =+S31*E31 -> #REF! | U31: =+'CANTIDADES URBANISMO MANZANARES'!D120 -> 0 | V31: =+U31*E31 -> #REF!
A32: 4.7. | B32: =+#REF! -> #REF! | C32: ML | D32: 0 | E32: =+#REF! -> #REF! | F32: =+D32*E32 -> #REF! | G32: =+'CANTIDADES URBANISMO NORCASIA'!D166 -> 0 | H32: =+G32*E32 -> #REF! | I32: =+#REF! -> #REF! | J32: =+I32*E32 -> #REF! | K32: =+'CANTIDADES URBANISMO LA DORADA'!D124 -> 0 | L32: =+K32*E32 -> #REF! | M32: =+'CANTIDADES URBANISMO AGUADAS'!D185 -> 0 | N32: =+M32*E32 -> #REF! | O32: 0 | P32: =+O32*E32 -> #REF! | Q32: =+#REF! -> #REF! | R32: =+Q32*E32 -> #REF! | S32: =+'CANTIDADES URBANISMO LA MERCED'!D155 -> 6 | T32: =+S32*E32 -> #REF! | U32: =+'CANTIDADES URBANISMO MANZANARES'!D120 -> 0 | V32: =+U32*E32 -> #REF!
A33: 4.8. | B33: =+#REF! -> #REF! | C33: ML | D33: =+#REF! -> #REF! | E33: =+#REF! -> #REF! | F33: =+D33*E33 -> #REF! | G33: =+'CANTIDADES URBANISMO NORCASIA'!D171 -> 0 | H33: =+G33*E33 -> #REF! | I33: =+#REF! -> #REF! | J33: =+I33*E33 -> #REF! | K33: =+'CANTIDADES URBANISMO LA DORADA'!D129 -> 0 | L33: =+K33*E33 -> #REF! | M33: =+'CANTIDADES URBANISMO AGUADAS'!D190 -> 0 | N33: =+M33*E33 -> #REF! | O33: 0 | P33: =+O33*E33 -> #REF! | Q33: =+#REF! -> #REF! | R33: =+Q33*E33 -> #REF! | S33: =+'CANTIDADES URBANISMO LA MERCED'!D160 -> 0 | T33: =+S33*E33 -> #REF! | U33: =+'CANTIDADES URBANISMO MANZANARES'!D129 -> 0 | V33: =+U33*E33 -> #REF!
A34: 4.9. | B34: =+#REF! -> #REF! | C34: UN | D34: =+#REF! -> #REF! | E34: =+#REF! -> #REF! | F34: =+D34*E34 -> #REF! | G34: =+'CANTIDADES URBANISMO NORCASIA'!D175 -> 13 | H34: =+G34*E34 -> #REF! | I34: =+#REF! -> #REF! | J34: =+I34*E34 -> #REF! | K34: =+'CANTIDADES URBANISMO LA DORADA'!D133 -> 13 | L34: =+K34*E34 -> #REF! | M34: =+'CANTIDADES URBANISMO AGUADAS'!D194 -> 6 | N34: =+M34*E34 -> #REF! | O34: =+#REF! -> #REF! | P34: =+O34*E34 -> #REF! | Q34: =+#REF! -> #REF! | R34: =+Q34*E34 -> #REF! | S34: =+'CANTIDADES URBANISMO LA MERCED'!D164 -> 10 | T34: =+S34*E34 -> #REF! | U34: =+'CANTIDADES URBANISMO MANZANARES'!D133 -> 5 | V34: =+U34*E34 -> #REF!
A35: 4.10. | B35: =+#REF! -> #REF! | C35: ML | D35: =+#REF! -> #REF! | E35: =+#REF! -> #REF! | F35: =+D35*E35 -> #REF! | G35: =+'CANTIDADES URBANISMO NORCASIA'!D179 -> 8.3 | H35: =+G35*E35 -> #REF! | I35: =+#REF! -> #REF! | J35: =+I35*E35 -> #REF! | K35: =+'CANTIDADES URBANISMO LA DORADA'!D137 -> 0 | L35: =+K35*E35 -> #REF! | M35: =+'CANTIDADES URBANISMO AGUADAS'!D198 -> 10.3 | N35: =+M35*E35 -> #REF! | O35: 0 | P35: =+O35*E35 -> #REF! | Q35: =+#REF! -> #REF! | R35: =+Q35*E35 -> #REF! | S35: =+'CANTIDADES URBANISMO LA MERCED'!D168 -> 7 | T35: =+S35*E35 -> #REF! | U35: =+'CANTIDADES URBANISMO MANZANARES'!D137 -> 0 | V35: =+U35*E35 -> #REF!
A36: 4.11 | B36: =+#REF! -> #REF! | C36: UN | D36: =+#REF! -> #REF! | E36: =+#REF! -> #REF! | F36: =+D36*E36 -> #REF! | G36: =+'CANTIDADES URBANISMO NORCASIA'!D191 -> 6 | H36: =+G36*E36 -> #REF! | I36: =+#REF! -> #REF! | J36: =+I36*E36 -> #REF! | K36: =+'CANTIDADES URBANISMO LA DORADA'!D142 -> 0 | L36: =+K36*E36 -> #REF! | M36: =+'CANTIDADES URBANISMO AGUADAS'!D209 -> 5 | N36: =+M36*E36 -> #REF! | O36: 0 | P36: =+O36*E36 -> #REF! | Q36: =+#REF! -> #REF! | R36: =+Q36*E36 -> #REF! | S36: =+'CANTIDADES URBANISMO LA MERCED'!D178 -> 4 | T36: =+S36*E36 -> #REF! | U36: =+'CANTIDADES URBANISMO MANZANARES'!D142 -> 0 | V36: =+U36*E36 -> #REF!
A37: 4.12 | B37: =+#REF! -> #REF! | C37: UN | D37: =+#REF! -> #REF! | E37: =+#REF! -> #REF! | F37: =+D37*E37 -> #REF! | G37: =+'CANTIDADES URBANISMO NORCASIA'!D203 -> 6 | H37: =+G37*E37 -> #REF! | I37: =+#REF! -> #REF! | J37: =+I37*E37 -> #REF! | K37: =+'CANTIDADES URBANISMO LA DORADA'!D146 -> 0 | L37: =+K37*E37 -> #REF! | M37: =+'CANTIDADES URBANISMO AGUADAS'!D220 -> 5 | N37: =+M37*E37 -> #REF! | O37: 0 | P37: =+O37*E37 -> #REF! | Q37: =+#REF! -> #REF! | R37: =+Q37*E37 -> #REF! | S37: =+'CANTIDADES URBANISMO LA MERCED'!D188 -> 4 | T37: =+S37*E37 -> #REF! | U37: =+'CANTIDADES URBANISMO MANZANARES'!D146 -> 0 | V37: =+U37*E37 -> #REF!
A38: 4.13 | B38: =+#REF! -> #REF! | C38: M3 | D38: =+#REF! -> #REF! | E38: =+#REF! -> #REF! | F38: =+D38*E38 -> #REF! | G38: =+'CANTIDADES URBANISMO NORCASIA'!D215 -> 11.64 | H38: =+G38*E38 -> #REF! | I38: =+#REF! -> #REF! | J38: =+I38*E38 -> #REF! | K38: =+'CANTIDADES URBANISMO LA DORADA'!D150 -> 0 | L38: =+K38*E38 -> #REF! | M38: =+'CANTIDADES URBANISMO AGUADAS'!D231 -> 4.6 | N38: =+M38*E38 -> #REF! | O38: =+#REF! -> #REF! | P38: =+O38*E38 -> #REF! | Q38: =+#REF! -> #REF! | R38: =+Q38*E38 -> #REF! | S38: =+'CANTIDADES URBANISMO LA MERCED'!D198 -> 17.2 | T38: =+S38*E38 -> #REF! | U38: =+'CANTIDADES URBANISMO MANZANARES'!D150 -> 0 | V38: =+U38*E38 -> #REF!
A39: 4.14 | B39: =+#REF! -> #REF! | C39: M3 | D39: =+#REF! -> #REF! | E39: =+#REF! -> #REF! | F39: =+D39*E39 -> #REF! | G39: =+'CANTIDADES URBANISMO NORCASIA'!D222 -> 13.1 | H39: =+G39*E39 -> #REF! | I39: =+#REF! -> #REF! | J39: =+I39*E39 -> #REF! | K39: =+'CANTIDADES URBANISMO LA DORADA'!D154 -> 0 | L39: =+K39*E39 -> #REF! | M39: =+'CANTIDADES URBANISMO AGUADAS'!D238 -> 4.8 | N39: =+M39*E39 -> #REF! | O39: 0 | P39: =+O39*E39 -> #REF! | Q39: =+#REF! -> #REF! | R39: =+Q39*E39 -> #REF! | S39: =+'CANTIDADES URBANISMO LA MERCED'!D205 -> 0 | T39: =+S39*E39 -> #REF! | U39: =+'CANTIDADES URBANISMO MANZANARES'!D154 -> 0 | V39: =+U39*E39 -> #REF!
A40: 4.15. | B40: =+#REF! -> #REF! | C40: UN | E40: =+#REF! -> #REF! | H40: =+G40*E40 -> #REF! | J40: =+I40*E40 -> #REF! | L40: =+K40*E40 -> #REF! | N40: =+M40*E40 -> #REF! | P40: =+O40*E40 -> #REF! | Q40: =+#REF! -> #REF! | R40: =+Q40*E40 -> #REF! | T40: =+S40*E40 -> #REF! | V40: =+U40*E40 -> #REF!
A41: 4.16. | B41: =+#REF! -> #REF! | C41: UN | E41: =+#REF! -> #REF! | H41: =+G41*E41 -> #REF! | I41: 1 | J41: =+I41*E41 -> #REF! | L41: =+K41*E41 -> #REF! | N41: =+M41*E41 -> #REF! | P41: =+O41*E41 -> #REF! | R41: =+Q41*E41 -> #REF! | T41: =+S41*E41 -> #REF! | V41: =+U41*E41 -> #REF!
...

Sheet PTO. MANZANARES
A1: PROYECTO. "CONSTRUCCIÓN DE SOLUCIONES HABITACIONALES PARA LA REUBICACIÓN DE POBLACIÓN UBICADA EN ZONAS DE ALTO RIESGO NO MITIGABLE EN EL TERRITORIO DE OPORTUNIDADES DEL DEPARTAMENTO DE CALDAS - ZONA URBANA". PRESUPUESTO VIVIENDAS A CONTRUIR EN EL MUNICIPIO DE MANZANARES-CALDAS. (10 SOLUCIONES HABITACIONALES)
A3: OBRAS DE ADECUACIONES DEL TERRENO, REDES Y URBANISMO
A5: ITEM | B5: ACTIVIDADES | C5: UN | D5: CANT. | E5: VALOR | F5: VALOR
E6: UITARIO | F6: TOTAL
A7: 1 | B7: OBRAS PRELIMINARES
A8: 1.1 | B8: =+#REF! -> #REF! | C8: DÍA | D8: =+'CANTIDADES URBANISMO MANZANARES'!D7 -> 2 | E8: =+#REF! -> #REF! | F8: =ROUND(D8*E8,0) -> #REF!
A9: 1.2 | B9: =+#REF! -> #REF! | C9: M2 | D9: =+'CANTIDADES URBANISMO MANZANARES'!D16 -> 300 | E9: =+#REF! -> #REF! | F9: =ROUND(D9*E9,0) -> #REF!
A11: 2 | B11: MOVIMIENTO DE TIERRAS
A12: 2.1. | B12: =+#REF! -> #REF! | C12: M3 | D12: =+'CANTIDADES URBANISMO MANZANARES'!D23 -> 0 | E12: =+#REF! -> #REF! | F12: =ROUND(D12*E12,0) -> #REF!
A13: 2.2. | B13: =+#REF! -> #REF! | C13: M3 | D13: =+'CANTIDADES URBANISMO MANZANARES'!D28 -> 24.7 | E13: =+#REF! -> #REF! | F13: =ROUND(D13*E13,0) -> #REF!
A14: 2.3. | B14: =+#REF! -> #REF! | C14: M3 | D14: =+'CANTIDADES URBANISMO MANZANARES'!D36 -> 23.94 | E14: =+#REF! -> #REF! | F14: =ROUND(D14*E14,0) -> #REF!
A15: 2.4. | B15: =+#REF! -> #REF! | C15: M3 | D15: =+'CANTIDADES URBANISMO MANZANARES'!D43 -> 0.76 | E15: =+#REF! -> #REF! | F15: =ROUND(D15*E15,0) -> #REF!
A16: 2.5. | B16: =+#REF! -> #REF! | C16: M2 | D16: =+'CANTIDADES URBANISMO MANZANARES'!D47 -> 300 | E16: =+#REF! -> #REF! | F16: =ROUND(D16*E16,0) -> #REF!
A17: 2.6. | B17: =+#REF! -> #REF! | C17: M2 | D17: =+'CANTIDADES URBANISMO MANZANARES'!D54 -> 0 | E17: =+#REF! -> #REF! | F17: =ROUND(D17*E17,0) -> #REF!
A18: 3 | B18: BORDILLOS, ANDENES VÍAS Y/O MUROS
A19: 3.1. | B19: =+#REF! -> #REF! | C19: M3 | D19: =+'CANTIDADES URBANISMO MANZANARES'!D59 -> 2.1 | E19: =+#REF! -> #REF! | F19: =ROUND(D19*E19,0) -> #REF!
A20: 3.2. | B20: =+#REF! -> #REF! | C20: ML | D20: =+'CANTIDADES URBANISMO MANZANARES'!D72 -> 30 | E20: =+#REF! -> #REF! | F20: =ROUND(D20*E20,0) -> #REF!
A21: 3.3. | B21: =+#REF! -> #REF! | C21: M2 | D21: =+'CANTIDADES URBANISMO MANZANARES'!D79 -> 36 | E21: =+#REF! -> #REF! | F21: =ROUND(D21*E21,0) -> #REF!
A22: 3.4. | B22: =+#REF! -> #REF! | C22: M3 | D22: =+'CANTIDADES URBANISMO MANZANARES'!D86 -> 18 | E22: =+#REF! -> #REF! | F22: =ROUND(D22*E22,0) -> #REF!
A25: 4 | B25: REDES DE ACUEDUCTO, ALCANTARILLADO Y MANEJO DE AGUAS LLUVIAS.
A26: 4.1. | B26: =+#REF! -> #REF! | C26: UN | D26: =+'CANTIDADES URBANISMO MANZANARES'!D94 -> 0 | E26: =+#REF! -> #REF! | F26: =ROUND(D26*E26,0) -> #REF!
A27: 4.2. | B27: =+#REF! -> #REF! | C27: ML | D27: =+'CANTIDADES URBANISMO MANZANARES'!D98 -> 0 | E27: =+#REF! -> #REF! | F27: =ROUND(D27*E27,0) -> #REF!
A28: 4.3. | B28: =+#REF! -> #REF! | C28: UN | D28: =+'CANTIDADES URBANISMO MANZANARES'!D105 -> 0 | E28: =+#REF! -> #REF! | F28: =ROUND(D28*E28,0) -> #REF!
A29: 4.4. | B29: =+#REF! -> #REF! | C29: ML | D29: =+'CANTIDADES URBANISMO MANZANARES'!D109 -> 22.5 | E29: =+#REF! -> #REF! | F29: =ROUND(D29*E29,0) -> #REF!
A30: 4.5. | B30: =+#REF! -> #REF! | C30: ML | D30: =+'CANTIDADES URBANISMO MANZANARES'!D116 -> 0 | E30: =+#REF! -> #REF! | F30: =ROUND(D30*E30,0) -> #REF!
A31: 4.6. | B31: =+#REF! -> #REF! | C31: ML | D31: =+'CANTIDADES URBANISMO MANZANARES'!D120 -> 0 | E31: =+#REF! -> #REF! | F31: =ROUND(D31*E31,0) -> #REF!
A32: 4.7. | B32: =+#REF! -> #REF! | C32: ML | D32: =+'CANTIDADES URBANISMO MANZANARES'!D120 -> 0 | E32: =+#REF! -> #REF! | F32: =ROUND(D32*E32,0) -> #REF!
A33: 4.8. | B33: =+#REF! -> #REF! | C33: ML | D33: =+'CANTIDADES URBANISMO MANZANARES'!D129 -> 0 | E33: =+#REF! -> #REF! | F33: =ROUND(D33*E33,0) -> #REF!
A34: 4.9. | B34: =+#REF! -> #REF! | C34: UN | D34: =+'CANTIDADES URBANISMO MANZANARES'!D133 -> 5 | E34: =+#REF! -> #REF! | F34: =ROUND(D34*E34,0) -> #REF!
A35: 4.10. | B35: =+#REF! -> #REF! | C35: ML | D35: =+'CANTIDADES URBANISMO MANZANARES'!D137 -> 0 | E35: =+#REF! -> #REF! | F35: =ROUND(D35*E35,0) -> #REF!
A36: 4.11 | B36: =+#REF! -> #REF! | C36: UN | D36: =+'CANTIDADES URBANISMO MANZANARES'!D142 -> 0 | E36: =+#REF! -> #REF! | F36: =ROUND(D36*E36,0) -> #REF!
A37: 4.12 | B37: =+#REF! -> #REF! | C37: UN | D37: =+'CANTIDADES URBANISMO MANZANARES'!D146 -> 0 | E37: =+#REF! -> #REF! | F37: =ROUND(D37*E37,0) -> #REF!
A38: 4.13 | B38: =+#REF! -> #REF! | C38: M3 | D38: =+'CANTIDADES URBANISMO MANZANARES'!D150 -> 0 | E38: =+#REF! -> #REF! | F38: =ROUND(D38*E38,0) -> #REF!
A39: 4.14 | B39: =+#REF! -> #REF! | C39: M3 | D39: =+'CANTIDADES URBANISMO MANZANARES'!D154 -> 0 | E39: =+#REF! -> #REF! | F39: =ROUND(D39*E39,0) -> #REF!
B41: COSTO DIRECTO OBRAS DE ADECUACIONES DEL TERRENO, REDES Y URBANISMO | F41: =+SUM(F8:F39) -> #REF!
B44: VIVIENDAS V.I.P UNIFAMILIARES | C44: UN | D44: 0 | E44: =+'PTO VIVIENDA UNIFAMILIAR'!F62 -> #REF! | F44: =+D44*E44 -> #REF!
B45: VIVIENDAS V.I.P BIFAMILIARES | C45: UN | D45: 5 | E45: =+'PTO VIVIENDA BIFAMILIAR'!F124 -> #REF! | F45: =+D45*E45 -> #REF!
B48: COSTO DIRECTO PROYECTO VIVIENDAS MANZANARES | F48: =+SUM(F41:F45) -> #REF!

Sheet PTO. LA MERCED
A1: PROYECTO. "CONSTRUCCIÓN DE SOLUCIONES HABITACIONALES PARA LA REUBICACIÓN DE POBLACIÓN UBICADA EN ZONAS DE ALTO RIESGO NO MITIGABLE EN EL TERRITORIO DE OPORTUNIDADES DEL DEPARTAMENTO DE CALDAS - ZONA URBANA". PRESUPUESTO VIVIENDAS A CONTRUIR EN EL MUNICIPIO DE LA MERCED-CALDAS. (20 SOLUCIONES HABITACIONALES)
A3: OBRAS DE ADECUACIONES DEL TERRENO, REDES Y URBANISMO
A5: ITEM | B5: ACTIVIDADES | C5: UN | D5: CANT. | E5: VALOR | F5: VALOR
E6: UITARIO | F6: TOTAL
A7: 1 | B7: OBRAS PRELIMINARES
A8: 1.1 | B8: =+#REF! -> #REF! | C8: DÍA | D8: =+'CANTIDADES URBANISMO LA MERCED'!D7 -> 4 | E8: =+#REF! -> #REF! | F8: =ROUND(D8*E8,0) -> #REF!
A9: 1.2 | B9: =+#REF! -> #REF! | C9: M2 | D9: =+'CANTIDADES URBANISMO LA MERCED'!D17 -> 870 | E9: =+#REF! -> #REF! | F9: =ROUND(D9*E9,0) -> #REF!
A11: 2 | B11: MOVIMIENTO DE TIERRAS
A12: 2.1. | B12: =+#REF! -> #REF! | C12: M3 | D12: =+'CANTIDADES URBANISMO LA MERCED'!D24 -> 1356.5 | E12: =+#REF! -> #REF! | F12: =ROUND(D12*E12,0) -> #REF!
A13: 2.2. | B13: =+#REF! -> #REF! | C13: M3 | D13: =+'CANTIDADES URBANISMO LA MERCED'!D42 -> 280.5 | E13: =+#REF! -> #REF! | F13: =ROUND(D13*E13,0) -> #REF!
A14: 2.3. | B14: =+#REF! -> #REF! | C14: M3 | D14: =+'CANTIDADES URBANISMO LA MERCED'!D59 -> 201.3 | E14: =+#REF! -> #REF! | F14: =ROUND(D14*E14,0) -> #REF!
A15: 2.4. | B15: =+#REF! -> #REF! | C15: M3 | D15: =+'CANTIDADES URBANISMO LA MERCED'!D72 -> 1435.7 | E15: =+#REF! -> #REF! | F15: =ROUND(D15*E15,0)+3 -> #REF!
A16: 2.5. | B16: =+#REF! -> #REF! | C16: M2 | D16: =+'CANTIDADES URBANISMO LA MERCED'!D76 -> 1149.4 | E16: =+#REF! -> #REF! | F16: =ROUND(D16*E16,0) -> #REF!
A17: 2.6. | B17: =+#REF! -> #REF! | C17: M2 | D17: =+'CANTIDADES URBANISMO LA MERCED'!D86 -> 90 | E17: =+#REF! -> #REF! | F17: =ROUND(D17*E17,0) -> #REF!
A18: 3 | B18: BORDILLOS, ANDENES VÍAS Y/O MUROS
A19: 3.1. | B19: =+#REF! -> #REF! | C19: M3 | D19: =+'CANTIDADES URBANISMO LA MERCED'!D91 -> 33.8 | E19: =+#REF! -> #REF! | F19: =ROUND(D19*E19,0) -> #REF!
A20: 3.2. | B20: =+#REF! -> #REF! | C20: ML | D20: =+'CANTIDADES URBANISMO LA MERCED'!D101 -> 0 | E20: =+#REF! -> #REF! | F20: =ROUND(D20*E20,0) -> #REF!
A21: 3.3. | B21: =+#REF! -> #REF! | C21: M2 | D21: =+'CANTIDADES URBANISMO LA MERCED'!D108 -> 98.4 | E21: =+#REF! -> #REF! | F21: =ROUND(D21*E21,0) -> #REF!
A22: 3.4. | B22: =+#REF! -> #REF! | C22: M3 | D22: =+'CANTIDADES URBANISMO LA MERCED'!D115 -> 11.04 | E22: =+#REF! -> #REF! | F22: =ROUND(D22*E22,0) -> #REF!
A25: 4 | B25: REDES DE ACUEDUCTO, ALCANTARILLADO Y MANEJO DE AGUAS LLUVIAS.
A26: 4.1. | B26: =+#REF! -> #REF! | C26: UN | D26: =+'CANTIDADES URBANISMO LA MERCED'!D123 -> 1 | E26: =+#REF! -> #REF! | F26: =ROUND(D26*E26,0) -> #REF!
A27: 4.2. | B27: =+#REF! -> #REF! | C27: ML | D27: =+'CANTIDADES URBANISMO LA MERCED'!D127 -> 73 | E27: =+#REF! -> #REF! | F27: =ROUND(D27*E27,0) -> #REF!
A28: 4.3. | B28: =+#REF! -> #REF! | C28: UN | D28: =+'CANTIDADES URBANISMO LA MERCED'!D134 -> 1 | E28: =+#REF! -> #REF! | F28: =ROUND(D28*E28,0) -> #REF!
A29: 4.4. | B29: =+#REF! -> #REF! | C29: ML | D29: =+'CANTIDADES URBANISMO LA MERCED'!D138 -> 32 | E29: =+#REF! -> #REF! | F29: =ROUND(D29*E29,0) -> #REF!
A30: 4.5. | B30: =+#REF! -> #REF! | C30: ML | D30: =+'CANTIDADES URBANISMO LA MERCED'!D142 -> 146.7 | E30: =+#REF! -> #REF! | F30: =ROUND(D30*E30,0) -> #REF!
A31: 4.6. | B31: =+#REF! -> #REF! | C31: ML | D31: =+'CANTIDADES URBANISMO LA MERCED'!D151 -> 0 | E31: =+#REF! -> #REF! | F31: =ROUND(D31*E31,0) -> #REF!
A32: 4.7. | B32: =+#REF! -> #REF! | C32: ML | D32: =+'CANTIDADES URBANISMO LA MERCED'!D155 -> 6 | E32: =+#REF! -> #REF! | F32: =ROUND(D32*E32,0) -> #REF!
A33: 4.8. | B33: =+#REF! -> #REF! | C33: ML | D33: =+'CANTIDADES URBANISMO LA MERCED'!D160 -> 0 | E33: =+#REF! -> #REF! | F33: =ROUND(D33*E33,0) -> #REF!
A34: 4.9. | B34: =+#REF! -> #REF! | C34: UN | D34: =+'CANTIDADES URBANISMO LA MERCED'!D164 -> 10 | E34: =+#REF! -> #REF! | F34: =ROUND(D34*E34,0) -> #REF!
A35: 4.10. | B35: =+#REF! -> #REF! | C35: ML | D35: =+'CANTIDADES URBANISMO LA MERCED'!D168 -> 7 | E35: =+#REF! -> #REF! | F35: =ROUND(D35*E35,0) -> #REF!
A36: 4.11 | B36: =+#REF! -> #REF! | C36: UN | D36: =+'CANTIDADES URBANISMO LA MERCED'!D178 -> 4 | E36: =+#REF! -> #REF! | F36: =ROUND(D36*E36,0) -> #REF!
A37: 4.12 | B37: =+#REF! -> #REF! | C37: UN | D37: =+'CANTIDADES URBANISMO LA MERCED'!D188 -> 4 | E37: =+#REF! -> #REF! | F37: =ROUND(D37*E37,0) -> #REF!
A38: 4.13 | B38: =+#REF! -> #REF! | C38: M3 | D38: =+'CANTIDADES URBANISMO LA MERCED'!D198 -> 17.2 | E38: =+#REF! -> #REF! | F38: =ROUND(D38*E38,0) -> #REF!
A39: 4.14 | B39: =+#REF! -> #REF! | C39: M3 | D39: =+'CANTIDADES URBANISMO LA MERCED'!D205 -> 0 | E39: =+#REF! -> #REF! | F39: =ROUND(D39*E39,0) -> #REF!
B41: COSTO DIRECTO OBRAS DE ADECUACIONES DEL TERRENO, REDES Y URBANISMO | F41: =+SUM(F8:F39) -> #REF!
B44: VIVIENDAS V.I.P UNIFAMILIARES | C44: UN | D44: 0 | E44: =+'PTO VIVIENDA UNIFAMILIAR'!F62 -> #REF! | F44: =+D44*E44 -> #REF!
B45: VIVIENDAS V.I.P BIFAMILIARES | C45: UN | D45: 10 | E45: =+'PTO VIVIENDA BIFAMILIAR'!F124 -> #REF! | F45: =+D45*E45 -> #REF!
B48: COSTO DIRECTO PROYECTO VIVIENDAS LA MERCED | F48: =+SUM(F41:F45) -> #REF!

Sheet PTO. AGUADAS
A1: PROYECTO. "CONSTRUCCIÓN DE SOLUCIONES HABITACIONALES PARA LA REUBICACIÓN DE POBLACIÓN UBICADA EN ZONAS DE ALTO RIESGO NO MITIGABLE EN EL TERRITORIO DE OPORTUNIDADES DEL DEPARTAMENTO DE CALDAS - ZONA URBANA". PRESUPUESTO VIVIENDAS A CONTRUIR EN EL MUNICIPIO AGUADAS-CALDAS. (11 SOLUCIONES HABITACIONALES)
A3: OBRAS DE ADECUACIONES DEL TERRENO, REDES Y URBANISMO
A5: ITEM | B5: ACTIVIDADES | C5: UN | D5: CANT. | E5: VALOR | F5: VALOR
E6: UITARIO | F6: TOTAL
A7: 1 | B7: OBRAS PRELIMINARES
A8: 1.1 | B8: =+#REF! -> #REF! | C8: DÍA | D8: =+'CANTIDADES URBANISMO AGUADAS'!D7 -> 3 | E8: =+#REF! -> #REF! | F8: =ROUND(D8*E8,0) -> #REF!
A9: 1.2 | B9: =+#REF! -> #REF! | C9: M2 | D9: =+'CANTIDADES URBANISMO AGUADAS'!D17 -> 661 | E9: =+#REF! -> #REF! | F9: =ROUND(D9*E9,0) -> #REF!
F10: =ROUND(D10*E10,0) -> 0
A11: 2 | B11: MOVIMIENTO DE TIERRAS
A12: 2.1. | B12: =+#REF! -> #REF! | C12: M3 | D12: =+'CANTIDADES URBANISMO AGUADAS'!D24 -> 0 | E12: =+#REF! -> #REF! | F12: =ROUND(D12*E12,0) -> #REF!
A13: 2.2. | B13: =+#REF! -> #REF! | C13: M3 | D13: =+'CANTIDADES URBANISMO AGUADAS'!D29 -> 476.4 | E13: =+#REF! -> #REF! | F13: =ROUND(D13*E13,0) -> #REF!
A14: 2.3. | B14: =+#REF! -> #REF! | C14: M3 | D14: =+'CANTIDADES URBANISMO AGUADAS'!D68 -> 425.9 | E14: =+#REF! -> #REF! | F14: =ROUND(D14*E14,0) -> #REF!
A15: 2.4. | B15: =+#REF! -> #REF! | C15: M3 | D15: =+'CANTIDADES URBANISMO AGUADAS'!D99 -> 50.5 | E15: =+#REF! -> #REF! | F15: =ROUND(D15*E15,0) -> #REF!
A16: 2.5. | B16: =+#REF! -> #REF! | C16: M2 | D16: =+'CANTIDADES URBANISMO AGUADAS'!D103 -> 608 | E16: =+#REF! -> #REF! | F16: =ROUND(D16*E16,0) -> #REF!
A17: 2.6. | B17: =+#REF! -> #REF! | C17: M2 | D17: =+'CANTIDADES URBANISMO AGUADAS'!D110 -> 104 | E17: =+#REF! -> #REF! | F17: =ROUND(D17*E17,0) -> #REF!
A18: 3 | B18: BORDILLOS, ANDENES VÍAS Y/O MUROS
A19: 3.1. | B19: =+#REF! -> #REF! | C19: M3 | D19: =+'CANTIDADES URBANISMO AGUADAS'!D115 -> 61.29 | E19: =+#REF! -> #REF! | F19: =ROUND(D19*E19,0) -> #REF!
A20: 3.2. | B20: =+#REF! -> #REF! | C20: ML | D20: =+'CANTIDADES URBANISMO AGUADAS'!D127 -> 0 | E20: =+#REF! -> #REF! | F20: =ROUND(D20*E20,0) -> #REF!
A21: 3.3. | B21: =+#REF! -> #REF! | C21: M2 | D21: =+'CANTIDADES URBANISMO AGUADAS'!D134 -> 91.32 | E21: =+#REF! -> #REF! | F21: =ROUND(D21*E21,0) -> #REF!
A22: 3.4. | B22: =+#REF! -> #REF! | C22: M3 | D22: =+'CANTIDADES URBANISMO AGUADAS'!D141 -> 37.7 | E22: =+#REF! -> #REF! | F22: =ROUND(D22*E22,0) -> #REF!
F23: =ROUND(D23*E23,0) -> 0
F24: =ROUND(D24*E24,0) -> 0
A25: 4 | B25: REDES DE ACUEDUCTO, ALCANTARILLADO Y MANEJO DE AGUAS LLUVIAS.
A26: 4.1. | B26: =+#REF! -> #REF! | C26: UN | D26: =+'CANTIDADES URBANISMO AGUADAS'!D152 -> 1 | E26: =+#REF! -> #REF! | F26: =ROUND(D26*E26,0) -> #REF!
A27: 4.2. | B27: =+#REF! -> #REF! | C27: ML | D27: =+'CANTIDADES URBANISMO AGUADAS'!D156 -> 78 | E27: =+#REF! -> #REF! | F27: =ROUND(D27*E27,0) -> #REF!
A28: 4.3. | B28: =+#REF! -> #REF! | C28: UN | D28: =+'CANTIDADES URBANISMO AGUADAS'!D163 -> 1 | E28: =+#REF! -> #REF! | F28: =ROUND(D28*E28,0) -> #REF!
A29: 4.4. | B29: =+#REF! -> #REF! | C29: ML | D29: =+'CANTIDADES URBANISMO AGUADAS'!D167 -> 42.7 | E29: =+#REF! -> #REF! | F29: =ROUND(D29*E29,0) -> #REF!
A30: 4.5. | B30: =+#REF! -> #REF! | C30: ML | D30: =+'CANTIDADES URBANISMO AGUADAS'!D171 -> 67.8 | E30: =+#REF! -> #REF! | F30: =ROUND(D30*E30,0) -> #REF!
A31: 4.6. | B31: =+#REF! -> #REF! | C31: ML | D31: =+'CANTIDADES URBANISMO AGUADAS'!D181 -> 0 | E31: =+#REF! -> #REF! | F31: =ROUND(D31*E31,0) -> #REF!
A32: 4.7. | B32: =+#REF! -> #REF! | C32: ML | D32: =+'CANTIDADES URBANISMO AGUADAS'!D185 -> 0 | E32: =+#REF! -> #REF! | F32: =ROUND(D32*E32,0) -> #REF!
A33: 4.8. | B33: =+#REF! -> #REF! | C33: ML | D33: =+'CANTIDADES URBANISMO AGUADAS'!D190 -> 0 | E33: =+#REF! -> #REF! | F33: =ROUND(D33*E33,0) -> #REF!
A34: 4.9. | B34: =+#REF! -> #REF! | C34: UN | D34: =+'CANTIDADES URBANISMO AGUADAS'!D194 -> 6 | E34: =+#REF! -> #REF! | F34: =ROUND(D34*E34,0) -> #REF!
A35: 4.10. | B35: =+#REF! -> #REF! | C35: ML | D35: =+'CANTIDADES URBANISMO AGUADAS'!D198 -> 10.3 | E35: =+#REF! -> #REF! | F35: =ROUND(D35*E35,0) -> #REF!
A36: 4.11 | B36: =+#REF! -> #REF! | C36: UN | D36: =+'CANTIDADES URBANISMO AGUADAS'!D209 -> 5 | E36: =+#REF! -> #REF! | F36: =ROUND(D36*E36,0) -> #REF!
A37: 4.12 | B37: =+#REF! -> #REF! | C37: UN | D37: =+'CANTIDADES URBANISMO AGUADAS'!D220 -> 5 | E37: =+#REF! -> #REF! | F37: =ROUND(D37*E37,0) -> #REF!
A38: 4.13 | B38: =+#REF! -> #REF! | C38: M3 | D38: =+'CANTIDADES URBANISMO AGUADAS'!D231 -> 4.6 | E38: =+#REF! -> #REF! | F38: =ROUND(D38*E38,0) -> #REF!
A39: 4.14 | B39: =+#REF! -> #REF! | C39: M3 | D39: =+'CANTIDADES URBANISMO AGUADAS'!D238 -> 4.8 | E39: =+#REF! -> #REF! | F39: =ROUND(D39*E39,0) -> #REF!
B41: COSTO DIRECTO OBRAS DE ADECUACIONES DEL TERRENO, REDES Y URBANISMO | F41: =+SUM(F8:F39) -> #REF!
