Workbook
Name Tram_Cons.: 'Costos Conservación'!$D$25
Name Vlr_Act: Variables!$C$3

Sheet Variables
B2: Variables del Modelo Financiero
B3: Valor Proyecto de Actualización | C3: =+'Costos Actualización'!H59 -> 4.0027349e+10
B4: Tir-Tasa Interna De Retorno Para La Inversión De Actualización Catastral | C4: 0.1083 | D4: =+(1+C4)^(1/12)-1 -> 0.008605761
B5: Plazo | C5: 21 años
B6: Ipc Proyectado | C6: 0.0374
B7: Incremento SMMLV | C7: =+C6+1.5% -> 0.0524
B8: Costo De Conservación Catastral Para El Primer Año De Operación | C8: =1735931250 -> 1735931250
B9: Costo De Plataforma Tecnologica Para El Primer Año De Operación | C9: 1655000000
B10: Costo De Observatorio Inmobiliario Para El Primer Año De Operación | C10: 488794500
B11: Costo De Conservación Dinamica | C11: 3307873310
B12: Sostenimiento de la SEM | C12: 840336000
B13: Costo De Interventoría Del Proyecto | C13: 0.053
B14: Ipp | C14: 0.0209
B15: % Crecimiento Predios | C15: 0.15
B16: % Crecimiento Recaudo | C16: 19,6% 1er Trienio – 7,7% posterior

Sheet Costos Actualización
B1: ETAPA | C1: ID | D1: ACTIVIDAD | E1: ID | F1: ENTREGABLE | G1: % | H1: VALOR
B2: E1. ETAPA PREOPERATIVA | C2: E1.1 | D2: Fase de Alistamiento | E2: E1.1.0. | F2: Insumos Técnicos Vectoriales y Raster | G2: 0.13 | H2: 4.2819052e+09
E3: E1.1.0.1. | F3: Ortofoto mosaico urbano (Escala 1:1000)
E4: E1.1.0.2. | F4: Ortofoto mosaico rural ( Escala 1:10.000)
E5: E1.1.0.3. | F5: Modelo Digital del Terreno (MDT)
E6: E1.1.1. | F6: Inventario de fuentes de información para la gestión catastral
E7: E.1.1.2. | F7: Plan de Contratación
E8: E.1.1.3. | F8: Plan Operativo del Proyecto
C9: E.1.2. | D9: Planeación del Proyecto | E9: E.1.2.1. | F9: Plan de Gestión Integral del Proyecto | G9: 0.03 | H9: 9.8813198e+08
E10: E.1.2.1. | F10: Cronograma
E11: E.1.2.2. | F11: Matriz de Riesgos
E12: E.1.2.3. | F12: Plan de Calidad
E13: E.1.2.4. | F13: Plan de Diálogo e Interlocución Social (PDIS)
E14: E.1.2.5. | F14: Plan de Comunicaciones
E15: E.1.2.6. | F15: Plan del Componente Económico
E16: E.1.2.7. | F16: Plan de Capacitaciones
B17: E2. ETAPA OPERATIVA | C17: E2.1. | D17: Interlocución Nivel 1 | E17: E2.1.1. | F17: Informe de interlocución institucional y comunitaria nivel 1. | G17: 0.031 | H17: 1.0210697e+09
E18: E2.1.2. | F18: Registro de asistencia institucional.
E19: E2.1.3. | F19: Registro de asistencia comunitario.
E20: E2.1.4. | F20: Registro fotográfico de la interlocución institucional y comunitaria nivel 1.
E21: E2.1.5. | F21: Evidencias de las convocatorias realizadas a cada una de las interlocuciones
C22: E.2.2. | D22: Interlocución Interna (Sec. Hacienda y TIcs) | E22: E.2.2.1. | F22: Socialización y mesas de trabajo con la secretaria de Hacienda y Tics para determinar los ajustes del software de hacienda en la adaptación de las variables del modelo LADM_COL. | G22: 0.0012 | H22: 39525279
C23: E.2.3. | D23: Interlocución Nivel 2 y 3 | E23: E2.3.1. | F23: Informes de interlocuciones niveles 2 y 3. | G23: 0.03 | H23: 9.8813198e+08
E24: E2.3.2. | F24: Registros de asistencia comunitaria de los niveles de interlocución 2 y 3.
E25: E2.3.3. | F25: Registro fotográfico de la interlocución comunitaria nivel 2 y 3
E26: E2.3.4. | F26: Evidencias de las convocatorias realizadas a cada una de las interlocuciones en los diferentes niveles
C27: E.2.4. | D27: Acta de precisión de perímetros urbanos | E27: E.2.4.1. | F27: Acta de estudio y precisión de perímetros urbanos (si aplica) | G27: 0.01 | H27: 3.2937733e+08
C28: E2.5. | D28: Identificación predial, registral y económica | E28: E2.5.1 | F28: Avance de Base catastral producto del levantamiento predial en el Modelo de Aplicación de Levantamiento Catastral del Modelo LADM_COL conforme al modelo Extendido Catastro Registro V4.1 | G28: 0.18 | H28: 5.9287919e+09
E29: E2.5.2. | F29: Archivos de levantamiento catastral (si aplica)
E30: E2.5.3. | F30: Archivo e informe con el avance del levantamiento por método directo, indirecto, declarativo, colaborativo o la combinación de estos.
E31: E2.5.4. | F31: Formatos de control de calidad interna y externa
E32: E2.5.5. | F32: Archivo del avance con la relación de la calidad jurídica de los interesados y la naturaleza jurídica de los predios
E33: E2.5.6. | F33: Caracterización y determinación inicial de las tablas de calificacion para construcciones convencionales y no convencionales.
E34: E2.5.7. | F34: Generación de variables y determinación de Zonas Homogéneas Físicas – ZHF . Insumos de las ZHF en formatos (GDB - SHP) debidamente georeferenciadas.
E35: E2.5.8. | F35: Generación de variables y determinación de Zonas Homogéneas Geoeconómicas – ZHG Insumos de las ZHG en formatos (GDB - SHP) debidamente georeferenciadas.
E36: E2.5.9. | F36: Análisis del comportamiento de valores y proyección de los escenarios de avalúos ,Avalúos de prueba (sensibilización, análisis estadístico Incrementos / Decrementos) socialización y envio a secretaria de hacienda.
B37: E2. ETAPA OPERATIVA | C37: E2.6. | D37: Procedimientos catastrales con efectos registrales | E37: E2.6.1. | F37: Identificación y reporte digital (si aplica) | G37: 0.03 | H37: 9.8813198e+08
C38: E2.7. | D38: Atención de Saldos de Conservación | E38: E2.7.1 | F38: Informe de atención de saldos de conservación catastral | G38: 0.03 | H38: 9.8813198e+08
E39: E.2.7.2. | F39: Informe de incorporación a la base de los trámites de conservación catastral con acto administrativo en firme
C40: E2.8. | D40: Consolidación de bases de datos de los componentes físico, jurídico y económico para validación de calidad | E40: E2.8.1 | F40: Base de datos físico-jurídico con zonas homogéneas físicas para la validación y control de calidad final de los componentes físico jurídico y económico (Alfanumerica y Geográfica) | G40: 0.11 | H40: 3.6231506e+09
...

Sheet Costos Conservación
B2: IPC | D2: =+Variables!$C$6 -> 0.0374
B4: COSTOS PRESTACIÓN DE SERVICIO DE CONSERVACIÓN | D4: Año 1
B6: Personal Profesional | D6: 364500000
B7: Personal Tecnico | D7: 324000000
B8: Personal De Apoyo | D8: 140400000
B9: Personal Administrativo | D9: 141750000
B10: Relativos de Personal | D10: =SUM(D6:D9) -> 970650000
B12: Mtto y Adecuaciones | D12: 108000000
B13: Mobiliario y adecuaciones loc. | D13: 105000000
B14: Servicios Publicos | D14: 45000000
B15: Aseo | D15: 7200000
B16: Papelería | D16: 5400000
B17: Dotación | D17: 7500000
B18: Equipos de Computo | D18: 180000000
B19: Bienes y Servicios | D19: =SUM(D12:D18) -> 458100000
B20: Subtotal | D20: =+SUM(D10,D19) -> 1428750000
B21: IVA | C21: 0.19 | D21: =+D20*$C21 -> 271462500
B22: Impuestos Municipales | C22: 0.025 | D22: =+D20*$C22 -> 35718750
B23: TOTAL | D23: =+D20+D21+D22 -> 1735931250
B25: No. de Trámites Estimados (Anuales) | D25: 1293
B26: No. de Trámites Estimados (Mensuales) | D26: =+D25/12 -> 107.75
B27: Costo Mensual para Proyección de Trámites Estimados | D27: =+D23/12 -> 1.4466094e+08

Sheet Modelo Financiero (Mensualizado
C1: =+C4&"-"&C5 -> 2025-10 | D1: =+D4&"-"&D5 -> 2025-11 | E1: =+E4&"-"&E5 -> 2025-12 | F1: =+F4&"-"&F5 -> 2026-1 | G1: =+G4&"-"&G5 -> 2026-2 | H1: =+H4&"-"&H5 -> 2026-3 | I1: =+I4&"-"&I5 -> 2026-4 | J1: =+J4&"-"&J5 -> 2026-5 | ... IK1: =+IK4&"-"&IK5 -> 2045-12
C3: =+D3+1 -> 242 | D3: =+E3+1 -> 241 | E3: =+F3+1 -> 240 | F3: =+G3+1 -> 239 | G3: =+H3+1 -> 238 | H3: =+I3+1 -> 237 | I3: =+J3+1 -> 236 | J3: =+K3+1 -> 235 | ... IJ3: =+IK3+1 -> 1 | IK3: 0
B4: Año | C4: 2025 | D4: 2025 | E4: 2025 | F4: 2026 | G4: 2026 | H4: 2026 | I4: 2026 | J4: 2026 | K4: 2026 | L4: 2026 | M4: 2026 | N4: 2026 | O4: 2026 | P4: 2026 | Q4: 2026 | R4: =+F4+1 -> 2027 | S4: =+G4+1 -> 2027 | T4: =+H4+1 -> 2027 | U4: =+I4+1 -> 2027 | V4: =+J4+1 -> 2027 | W4: =+K4+1 -> 2027 | X4: =+L4+1 -> 2027 | Y4: =+M4+1 -> 2027 | ... IK4: =+HY4+1 -> 2045
B5: Mes | C5: 10 | D5: 11 | E5: 12 | F5: 1 | G5: =+F5+1 -> 2 | H5: =+G5+1 -> 3 | I5: =+H5+1 -> 4 | J5: =+I5+1 -> 5 | K5: =+J5+1 -> 6 | L5: =+K5+1 -> 7 | M5: =+L5+1 -> 8 | N5: =+M5+1 -> 9 | ... Q5: =+P5+1 -> 12 | R5: =+F5 -> 1 | S5: =+G5 -> 2 | T5: =+H5 -> 3 | U5: =+I5 -> 4 | V5: =+J5 -> 5 | W5: =+K5 -> 6 | X5: =+L5 -> 7 | Y5: =+M5 -> 8 | ... IK5: =+HY5 -> 12
B6: Periodos (Mes) | C6: 1 | D6: =+C6+1 -> 2 | E6: =+D6+1 -> 3 | F6: =+E6+1 -> 4 | G6: =+F6+1 -> 5 | H6: =+G6+1 -> 6 | I6: =+H6+1 -> 7 | J6: =+I6+1 -> 8 | K6: =+J6+1 -> 9 | ... IK6: =+IJ6+1 -> 243
B8: Ejecución Proyecto de Actualización (%) | C8: 0 | D8: 0 | E8: 0 | F8: 0.11 | G8: 0.2 | H8: 0.2 | I8: 0.2 | J8: 0.2 | K8: 0.09 | L8: 0 | M8: 0 | N8: 0 | O8: 0 | P8: 0 | Q8: 0
B9: Acumulado | C9: 0 | D9: 0 | E9: =+D9+E8 -> 0 | F9: =+E9+F8 -> 0.11 | G9: =+F9+G8 -> 0.31 | H9: =+G9+H8 -> 0.51 | I9: =+H9+I8 -> 0.71 | J9: =+I9+J8 -> 0.91 | K9: =+J9+K8 -> 1 | L9: =+K9+L8 -> 1 | ... Q9: =+P9+Q8 -> 1
B10: Ejecución Proyecto de Actualización ($) | C10: =+Vlr_Act*C9 -> 0 | D10: =+Vlr_Act*D9 -> 0 | E10: =+Vlr_Act*E9 -> 0 | F10: =+Vlr_Act*F9 -> 4.4030084e+09 | G10: =+Vlr_Act*G9 -> 1.2408478e+10 | H10: =+Vlr_Act*H9 -> 2.0413948e+10 | I10: =+Vlr_Act*I9 -> 2.8419418e+10 | J10: =+Vlr_Act*J9 -> 3.6424888e+10 | ... Q10: =+Vlr_Act*Q9 -> 4.0027349e+10
B11: Avance en No. de Predios | C11: =+'Costos Actualización'!$H$60*C9 -> 0 | D11: =+'Costos Actualización'!$H$60*D9 -> 0 | E11: =+'Costos Actualización'!$H$60*E9 -> 0 | F11: =+'Costos Actualización'!$H$60*F9 -> 16107.751 | G11: =+'Costos Actualización'!$H$60*G9 -> 45394.571 | H11: =+'Costos Actualización'!$H$60*H9 -> 74681.391 | I11: =+'Costos Actualización'!$H$60*I9 -> 103968.21 | J11: =+'Costos Actualización'!$H$60*J9 -> 133255.03 | ... Q11: =+'Costos Actualización'!$H$60*Q9 -> 146434.1
B12: No. de Trámites Conservación | C12: 0 | D12: 0 | E12: 0 | F12: =ROUND(Tram_Cons./12,0) -> 108 | G12: =ROUND(Tram_Cons./12,0) -> 108 | H12: =ROUND(Tram_Cons./12,0) -> 108 | I12: =ROUND(Tram_Cons./12,0) -> 108 | J12: =ROUND(Tram_Cons./12,0) -> 108 | K12: =ROUND(Tram_Cons./12,0) -> 108 | L12: =ROUND(Tram_Cons./12,0) -> 108 | M12: =ROUND(Tram_Cons./12,0) -> 108 | ... IK12: =ROUND(Tram_Cons./12,0) -> 108
B13: Estimación de Predios Conservación Dinámica | AD13: =+(Q11/60)*(1+Variables!C15) -> 2806.6536 | AE13: =+AD13 -> 2806.6536 | AF13: =+AE13 -> 2806.6536 | AG13: =+AF13 -> 2806.6536 | AH13: =+AG13 -> 2806.6536 | AI13: =+AH13 -> 2806.6536 | AJ13: =+AI13 -> 2806.6536 | AK13: =+AJ13 -> 2806.6536 | AL13: =+AK13 -> 2806.6536 | ... CK13: =+CJ13 -> 2806.6536 | CL13: =+CK13*(1+Variables!$C$15) -> 3227.6516 | CM13: =+CL13 -> 3227.6516 | CN13: =+CM13 -> 3227.6516 | CO13: =+CN13 -> 3227.6516 | CP13: =+CO13 -> 3227.6516 | CQ13: =+CP13 -> 3227.6516 | CR13: =+CQ13 -> 3227.6516 | CS13: =+CR13 -> 3227.6516 | CT13: =+CS13 -> 3227.6516 | ... ES13: =+ER13 -> 3227.6516 | ET13: =+ES13*(1+Variables!$C$15) -> 3711.7994 | EU13: =+ET13 -> 3711.7994 | EV13: =+EU13 -> 3711.7994 | EW13: =+EV13 -> 3711.7994 | EX13: =+EW13 -> 3711.7994 | EY13: =+EX13 -> 3711.7994 | EZ13: =+EY13 -> 3711.7994 | FA13: =+EZ13 -> 3711.7994 | FB13: =+FA13 -> 3711.7994 | ... HA13: =+GZ13 -> 3711.7994 | HB13: =+HA13*(1+Variables!$C$15) -> 4268.5693 | HC13: =+HB13 -> 4268.5693 | HD13: =+HC13 -> 4268.5693 | HE13: =+HD13 -> 4268.5693 | HF13: =+HE13 -> 4268.5693 | HG13: =+HF13 -> 4268.5693 | HH13: =+HG13 -> 4268.5693 | HI13: =+HH13 -> 4268.5693 | HJ13: =+HI13 -> 4268.5693 | ... IK13: =+IJ13 -> 4268.5693
B15: Ingresos del Proyecto | C15: 0 | D15: 0 | E15: 0 | F15: 8.7209042e+08 | G15: 8.7209042e+08 | H15: 8.7209042e+08 | I15: 8.7209042e+08 | J15: 8.7209042e+08 | K15: 8.7209042e+08 | L15: 8.7209042e+08 | M15: 8.7209042e+08 | N15: 8.7209042e+08 | O15: 8.7209042e+08 | P15: 8.7209042e+08 | Q15: 8.7209042e+08 | R15: 8.3669557e+08 | S15: 8.3669557e+08 | T15: 8.3669557e+08 | U15: 8.3669557e+08 | V15: 8.3669557e+08 | W15: 8.3669557e+08 | X15: 8.3669557e+08 | Y15: 8.3669557e+08 | Z15: 8.3669557e+08 | AA15: 8.3669557e+08 | AB15: 8.3669557e+08 | AC15: 8.3669557e+08 | AD15: 1.2134924e+09 | AE15: 1.2134924e+09 | AF15: 1.2134924e+09 | AG15: 1.2134924e+09 | AH15: 1.2134924e+09 | AI15: 1.2134924e+09 | AJ15: 1.2134924e+09 | AK15: 1.2134924e+09 | AL15: 1.2134924e+09 | AM15: 1.2134924e+09 | AN15: 1.2134924e+09 | AO15: 1.2134924e+09 | AP15: 1.2590193e+09 | AQ15: 1.2590193e+09 | AR15: 1.2590193e+09 | AS15: 1.2590193e+09 | AT15: 1.2590193e+09 | AU15: 1.2590193e+09 | AV15: 1.2590193e+09 | AW15: 1.2590193e+09 | AX15: 1.2590193e+09 | AY15: 1.2590193e+09 | AZ15: 1.2590193e+09 | BA15: 1.2590193e+09 | BB15: 1.3071359e+09 | BC15: 1.3071359e+09 | BD15: 1.3071359e+09 | BE15: 1.3071359e+09 | BF15: 1.3071359e+09 | BG15: 1.3071359e+09 | BH15: 1.3071359e+09 | BI15: 1.3071359e+09 | BJ15: 1.3071359e+09 | BK15: 1.3071359e+09 | BL15: 1.3071359e+09 | BM15: 1.3071359e+09 | BN15: 1.4003408e+09 | BO15: 1.4003408e+09 | BP15: 1.4003408e+09 | BQ15: 1.4003408e+09 | BR15: 1.4003408e+09 | BS15: 1.4003408e+09 | BT15: 1.4003408e+09 | BU15: 1.4003408e+09 | BV15: 1.4003408e+09 | BW15: 1.4003408e+09 | BX15: 1.4003408e+09 | BY15: 1.4003408e+09 | BZ15: 1.4117358e+09 | CA15: 1.4117358e+09 | CB15: 1.4117358e+09 | CC15: 1.4117358e+09 | CD15: 1.4117358e+09 | CE15: 1.4117358e+09 | CF15: 1.4117358e+09 | CG15: 1.4117358e+09 | CH15: 1.4117358e+09 | CI15: 1.4117358e+09 | CJ15: 1.4117358e+09 | CK15: 1.4117358e+09 | CL15: 1.4685394e+09 | CM15: 1.4685394e+09 | CN15: 1.4685394e+09 | CO15: 1.4685394e+09 | CP15: 1.4685394e+09 | CQ15: 1.4685394e+09 | CR15: 1.4685394e+09 | CS15: 1.4685394e+09 | CT15: 1.4685394e+09 | CU15: 1.4685394e+09 | CV15: 1.4685394e+09 | CW15: 1.4685394e+09 | CX15: 1.5285741e+09 | CY15: 1.5285741e+09 | CZ15: 1.5285741e+09 | DA15: 1.5285741e+09 | DB15: 1.5285741e+09 | DC15: 1.5285741e+09 | DD15: 1.5285741e+09 | DE15: 1.5285741e+09 | DF15: 1.5285741e+09 | DG15: 1.5285741e+09 | DH15: 1.5285741e+09 | DI15: 1.5285741e+09 | DJ15: 1.5920237e+09 | DK15: 1.5920237e+09 | DL15: 1.5920237e+09 | DM15: 1.5920237e+09 | DN15: 1.5920237e+09 | DO15: 1.5920237e+09 | DP15: 1.5920237e+09 | DQ15: 1.5920237e+09 | DR15: 1.5920237e+09 | DS15: 1.5920237e+09 | DT15: 1.5920237e+09 | DU15: 1.5920237e+09 | DV15: 1.6590826e+09 | DW15: 1.6590826e+09 | DX15: 1.6590826e+09 | DY15: 1.6590826e+09 | DZ15: 1.6590826e+09 | EA15: 1.6590826e+09 | EB15: 1.6590826e+09 | EC15: 1.6590826e+09 | ED15: 1.6590826e+09 | EE15: 1.6590826e+09 | EF15: 1.6590826e+09 | EG15: 1.6590826e+09 | EH15: 1.8122163e+09 | EI15: 1.8122163e+09 | EJ15: 1.8122163e+09 | EK15: 1.8122163e+09 | EL15: 1.8122163e+09 | EM15: 1.8122163e+09 | EN15: 1.8122163e+09 | EO15: 1.8122163e+09 | EP15: 1.8122163e+09 | EQ15: 1.8122163e+09 | ER15: 1.8122163e+09 | ES15: 1.8122163e+09 | ET15: 1.8048609e+09 | EU15: 1.8048609e+09 | EV15: 1.8048609e+09 | EW15: 1.8048609e+09 | EX15: 1.8048609e+09 | EY15: 1.8048609e+09 | EZ15: 1.8048609e+09 | FA15: 1.8048609e+09 | FB15: 1.8048609e+09 | FC15: 1.8048609e+09 | FD15: 1.8048609e+09 | FE15: 1.8048609e+09 | FF15: 1.8840266e+09 | FG15: 1.8840266e+09 | FH15: 1.8840266e+09 | FI15: 1.8840266e+09 | FJ15: 1.8840266e+09 | FK15: 1.8840266e+09 | FL15: 1.8840266e+09 | FM15: 1.8840266e+09 | FN15: 1.8840266e+09 | FO15: 1.8840266e+09 | FP15: 1.8840266e+09 | FQ15: 1.8840266e+09 | FR15: 1.9676955e+09 | FS15: 1.9676955e+09 | FT15: 1.9676955e+09 | FU15: 1.9676955e+09 | FV15: 1.9676955e+09 | FW15: 1.9676955e+09 | FX15: 1.9676955e+09 | FY15: 1.9676955e+09 | FZ15: 1.9676955e+09 | GA15: 1.9676955e+09 | GB15: 1.9676955e+09 | GC15: 1.9676955e+09 | GD15: 2.0561237e+09 | GE15: 2.0561237e+09 | GF15: 2.0561237e+09 | GG15: 2.0561237e+09 | GH15: 2.0561237e+09 | GI15: 2.0561237e+09 | GJ15: 2.0561237e+09 | GK15: 2.0561237e+09 | GL15: 2.0561237e+09 | GM15: 2.0561237e+09 | GN15: 2.0561237e+09 | GO15: 2.0561237e+09 | GP15: 2.149582e+09 | GQ15: 2.149582e+09 | GR15: 2.149582e+09 | GS15: 2.149582e+09 | GT15: 2.149582e+09 | GU15: 2.149582e+09 | GV15: 2.149582e+09 | GW15: 2.149582e+09 | GX15: 2.149582e+09 | GY15: 2.149582e+09 | GZ15: 2.149582e+09 | HA15: 2.149582e+09 | HB15: 2.4710329e+09 | HC15: 2.4710329e+09 | HD15: 2.4710329e+09 | HE15: 2.4710329e+09 | HF15: 2.4710329e+09 | HG15: 2.4710329e+09 | HH15: 2.4710329e+09 | HI15: 2.4710329e+09 | HJ15: 2.4710329e+09 | HK15: 2.4710329e+09 | HL15: 2.4710329e+09 | HM15: 2.4710329e+09 | HN15: 2.3527495e+09 | HO15: 2.3527495e+09 | HP15: 2.3527495e+09 | HQ15: 2.3527495e+09 | HR15: 2.3527495e+09 | HS15: 2.3527495e+09 | HT15: 2.3527495e+09 | HU15: 2.3527495e+09 | HV15: 2.3527495e+09 | HW15: 2.3527495e+09 | HX15: 2.3527495e+09 | HY15: 2.3527495e+09 | HZ15: 2.4630808e+09 | IA15: 2.4630808e+09 | IB15: 2.4630808e+09 | IC15: 2.4630808e+09 | ID15: 2.4630808e+09 | IE15: 2.4630808e+09 | IF15: 2.4630808e+09 | IG15: 2.4630808e+09 | IH15: 2.4630808e+09 | II15: 2.4630808e+09 | IJ15: 2.4630808e+09 | IK15: 2.4630808e+09
B16: Total Ingresos del Proyecto | C16: =+C15 -> 0 | D16: =+D15 -> 0 | E16: =+E15 -> 0 | F16: =+F15 -> 8.7209042e+08 | G16: =+G15 -> 8.7209042e+08 | H16: =+H15 -> 8.7209042e+08 | I16: =+I15 -> 8.7209042e+08 | J16: =+J15 -> 8.7209042e+08 | ... IK16: =+IK15 -> 2.4630808e+09
B18: Costos Actualización Catastral | C18: 0 | D18: 0 | E18: 0 | F18: =+PMT(Variables!$D$4,'Modelo Financiero (Mensualizado'!E3,-'Modelo Financiero (Mensualizado'!E20) -> 0 | G18: =+PMT(Variables!$D$4,'Modelo Financiero (Mensualizado'!F3,-'Modelo Financiero (Mensualizado'!F20) -> 43502922 | H18: =+PMT(Variables!$D$4,'Modelo Financiero (Mensualizado'!G3,-'Modelo Financiero (Mensualizado'!G20) -> 1.2270008e+08 | I18: =+PMT(Variables!$D$4,'Modelo Financiero (Mensualizado'!H3,-'Modelo Financiero (Mensualizado'!H20) -> 2.0205489e+08 | J18: =+PMT(Variables!$D$4,'Modelo Financiero (Mensualizado'!I3,-'Modelo Financiero (Mensualizado'!I20) -> 2.8161567e+08 | K18: =+PMT(Variables!$D$4,'Modelo Financiero (Mensualizado'!J3,-'Modelo Financiero (Mensualizado'!J20) -> 3.6138582e+08 | L18: =+PMT(Variables!$D$4,'Modelo Financiero (Mensualizado'!K3,-'Modelo Financiero (Mensualizado'!K20) -> 3.9758205e+08 | M18: =+PMT(Variables!$D$4,'Modelo Financiero (Mensualizado'!L3,-'Modelo Financiero (Mensualizado'!L20) -> 3.9806246e+08 | ... IK18: =+PMT(Variables!$D$4,'Modelo Financiero (Mensualizado'!IJ3,-'Modelo Financiero (Mensualizado'!IJ20) -> 4.0079245e+08
B19: Ejecución de Costos | C19: =+C10 -> 0 | D19: =+D10 -> 0 | E19: =+E10 -> 0 | F19: =+F10 -> 4.4030084e+09 | G19: =+G10 -> 1.2408478e+10 | H19: =+H10 -> 2.0413948e+10 | I19: =+I10 -> 2.8419418e+10 | J19: =+J10 -> 3.6424888e+10 | ... IK19: =+IK10 -> 0
B20: Saldo por Cancelar | C20: =+C19 -> 0 | D20: =+D19 -> 0 | E20: =+E19 -> 0 | F20: =+F19-F22 -> 4.4030084e+09 | G20: =+G19-G22 -> 1.2402867e+10 | H20: =+H19-H22 -> 2.0397984e+10 | I20: =+I19-I22 -> 2.8392903e+10 | J20: =+J19-J22 -> 3.6387614e+10 | K20: =+K19-K22 -> 3.9979106e+10 | L20: =+L19-L22 -> 3.9973818e+10 | M20: =+M19-M22 -> 3.9973292e+10 | ... Q20: =+Q19-Q22 -> 3.9971102e+10 | R20: =+Q20-R22 -> 3.9914291e+10 | S20: =+R20-S22 -> 3.9856991e+10 | T20: =+S20-T22 -> 3.9799198e+10 | U20: =+T20-U22 -> 3.9740908e+10 | V20: =+U20-V22 -> 3.9682117e+10 | W20: =+V20-W22 -> 3.9622819e+10 | X20: =+W20-X22 -> 3.9563011e+10 | Y20: =+X20-Y22 -> 3.9502688e+10 | ... IK20: =+IJ20-IK22 -> 0
B21: Retorno de Inversión (10,83% E.A) | C21: 0 | D21: 0 | E21: 0 | F21: =+E20*Variables!$D$4 -> 0 | G21: =+F20*Variables!$D$4 -> 37891238 | H21: =+G20*Variables!$D$4 -> 1.067361e+08 | I21: =+H20*Variables!$D$4 -> 1.7554017e+08 | J21: =+I20*Variables!$D$4 -> 2.4434254e+08 | K21: =+J20*Variables!$D$4 -> 3.1314311e+08 | L21: =+K20*Variables!$D$4 -> 3.4405063e+08 | M21: =+L20*Variables!$D$4 -> 3.4400512e+08 | ... IK21: =+IJ20*Variables!$D$4 -> 3419695
B22: Amortización de Costos | C22: 0 | D22: 0 | E22: 0 | F22: =+F18-F21 -> 0 | G22: =+G18-G21 -> 5611684 | H22: =+H18-H21 -> 15963976 | I22: =+I18-I21 -> 26514720 | J22: =+J18-J21 -> 37273136 | K22: =+K18-K21 -> 48242706 | L22: =+L18-L21 -> 53531421 | M22: =+M18-M21 -> 54057339 | ... IK22: =+IK18-IK21 -> 3.9737276e+08
B23: Costos Conservación Catastral | F23: =(Variables!C8/12)*(1+Variables!$C$6) -> 1.5007126e+08 | G23: =+F23 -> 1.5007126e+08 | H23: =+G23 -> 1.5007126e+08 | I23: =+H23 -> 1.5007126e+08 | J23: =+I23 -> 1.5007126e+08 | K23: =+J23 -> 1.5007126e+08 | L23: =+K23 -> 1.5007126e+08 | M23: =+L23 -> 1.5007126e+08 | N23: =+M23 -> 1.5007126e+08 | ... Q23: =+P23 -> 1.5007126e+08 | R23: =+F23*(1+Variables!$C$6) -> 1.5568392e+08 | S23: =+G23*(1+Variables!$C$6) -> 1.5568392e+08 | T23: =+H23*(1+Variables!$C$6) -> 1.5568392e+08 | U23: =+I23*(1+Variables!$C$6) -> 1.5568392e+08 | V23: =+J23*(1+Variables!$C$6) -> 1.5568392e+08 | W23: =+K23*(1+Variables!$C$6) -> 1.5568392e+08 | X23: =+L23*(1+Variables!$C$6) -> 1.5568392e+08 | Y23: =+M23*(1+Variables!$C$6) -> 1.5568392e+08 | ... IK23: =+HY23*(1+Variables!$C$6) -> 3.0149225e+08
B24: Costos Herramientas Tecnologicas | F24: =+(Variables!C9/12)*(1+Variables!$C$6) -> 143074750 | G24: =+F24 -> 143074750 | H24: =+G24 -> 143074750 | I24: =+H24 -> 143074750 | J24: =+I24 -> 143074750 | K24: =+J24 -> 143074750 | L24: =+K24 -> 143074750 | M24: =+L24 -> 143074750 | N24: =+M24 -> 143074750 | O24: =+F24*(1+Variables!$C$6) -> 1.4842575e+08 | P24: =+O24 -> 1.4842575e+08 | Q24: =+P24 -> 1.4842575e+08 | R24: =+F24*(1+Variables!$C$6) -> 1.4842575e+08 | S24: =+G24*(1+Variables!$C$6) -> 1.4842575e+08 | T24: =+H24*(1+Variables!$C$6) -> 1.4842575e+08 | U24: =+I24*(1+Variables!$C$6) -> 1.4842575e+08 | V24: =+J24*(1+Variables!$C$6) -> 1.4842575e+08 | W24: =+K24*(1+Variables!$C$6) -> 1.4842575e+08 | X24: =+L24*(1+Variables!$C$6) -> 1.4842575e+08 | Y24: =+M24*(1+Variables!$C$6) -> 1.4842575e+08 | ... IK24: =+HY24*(1+Variables!$C$6) -> 2.9818643e+08
B25: Costos Conservación Dinámica | F25: 0 | G25: 0 | H25: 0 | I25: 0 | J25: 0 | K25: 0 | L25: 0 | M25: 0 | N25: 0 | O25: 0 | P25: 0 | Q25: 0 | R25: 0 | S25: 0 | T25: 0 | U25: 0 | V25: 0 | W25: 0 | X25: 0 | Y25: 0 | Z25: 0 | AA25: 0 | AB25: 0 | AC25: 0 | AD25: =+Variables!$C$11/12 -> 2.7565611e+08 | AE25: =+AD25 -> 2.7565611e+08 | AF25: =+AE25 -> 2.7565611e+08 | AG25: =+AF25 -> 2.7565611e+08 | AH25: =+AG25 -> 2.7565611e+08 | AI25: =+AH25 -> 2.7565611e+08 | AJ25: =+AI25 -> 2.7565611e+08 | AK25: =+AJ25 -> 2.7565611e+08 | AL25: =+AK25 -> 2.7565611e+08 | ... AO25: =+AN25 -> 2.7565611e+08 | AP25: =+AD25*(1+Variables!$C$6) -> 2.8596565e+08 | AQ25: =+AE25*(1+Variables!$C$6) -> 2.8596565e+08 | AR25: =+AF25*(1+Variables!$C$6) -> 2.8596565e+08 | AS25: =+AG25*(1+Variables!$C$6) -> 2.8596565e+08 | AT25: =+AH25*(1+Variables!$C$6) -> 2.8596565e+08 | AU25: =+AI25*(1+Variables!$C$6) -> 2.8596565e+08 | AV25: =+AJ25*(1+Variables!$C$6) -> 2.8596565e+08 | AW25: =+AK25*(1+Variables!$C$6) -> 2.8596565e+08 | ... IK25: =+HY25*(1+Variables!$C$6) -> 5.1458102e+08
B26: Costos Observatorio Inmobiliario | F26: 0 | G26: 0 | H26: 0 | I26: 0 | J26: 0 | K26: 0 | L26: 0 | M26: 0 | N26: 0 | O26: 0 | P26: 0 | Q26: 0 | R26: =+Variables!C10/12 -> 40732875 | S26: =+R26 -> 40732875 | T26: =+S26 -> 40732875 | U26: =+T26 -> 40732875 | V26: =+U26 -> 40732875 | W26: =+V26 -> 40732875 | X26: =+W26 -> 40732875 | Y26: =+X26 -> 40732875 | Z26: =+Y26 -> 40732875 | ... AC26: =+AB26 -> 40732875 | AD26: =+R26*(1+Variables!$C$6) -> 42256285 | AE26: =+S26*(1+Variables!$C$6) -> 42256285 | AF26: =+T26*(1+Variables!$C$6) -> 42256285 | AG26: =+U26*(1+Variables!$C$6) -> 42256285 | AH26: =+V26*(1+Variables!$C$6) -> 42256285 | AI26: =+W26*(1+Variables!$C$6) -> 42256285 | AJ26: =+X26*(1+Variables!$C$6) -> 42256285 | AK26: =+Y26*(1+Variables!$C$6) -> 42256285 | ... IK26: =+HY26*(1+Variables!$C$6) -> 78881916
B27: Sostenimiento SEM | F27: =+SUM(F28:F29) -> 70028000 | G27: =+SUM(G28:G29) -> 70028000 | H27: =+SUM(H28:H29) -> 70028000 | I27: =+SUM(I28:I29) -> 70028000 | J27: =+SUM(J28:J29) -> 70028000 | K27: =+SUM(K28:K29) -> 70028000 | L27: =+SUM(L28:L29) -> 70028000 | M27: =+SUM(M28:M29) -> 70028000 | ... IK27: =+SUM(IK28:IK29) -> 1.8480243e+08
B28: Relativos de Personal | F28: =47128000 -> 47128000 | G28: =47128000 -> 47128000 | H28: =47128000 -> 47128000 | I28: =47128000 -> 47128000 | J28: =47128000 -> 47128000 | K28: =47128000 -> 47128000 | L28: =47128000 -> 47128000 | M28: =47128000 -> 47128000 | ... Q28: =47128000 -> 47128000 | R28: =+Q28*(1+Variables!$C$7) -> 49597507 | S28: =+R28 -> 49597507 | T28: =+S28 -> 49597507 | U28: =+T28 -> 49597507 | V28: =+U28 -> 49597507 | W28: =+V28 -> 49597507 | X28: =+W28 -> 49597507 | Y28: =+X28 -> 49597507 | Z28: =+Y28 -> 49597507 | ... AC28: =+AB28 -> 49597507 | AD28: =+AC28*(1+Variables!$C$7) -> 52196417 | AE28: =+AD28 -> 52196417 | AF28: =+AE28 -> 52196417 | AG28: =+AF28 -> 52196417 | AH28: =+AG28 -> 52196417 | AI28: =+AH28 -> 52196417 | AJ28: =+AI28 -> 52196417 | AK28: =+AJ28 -> 52196417 | AL28: =+AK28 -> 52196417 | ... AO28: =+AN28 -> 52196417 | AP28: =+AO28*(1+Variables!$C$7) -> 54931509 | AQ28: =+AP28 -> 54931509 | AR28: =+AQ28 -> 54931509 | AS28: =+AR28 -> 54931509 | AT28: =+AS28 -> 54931509 | AU28: =+AT28 -> 54931509 | AV28: =+AU28 -> 54931509 | AW28: =+AV28 -> 54931509 | AX28: =+AW28 -> 54931509 | ... BA28: =+AZ28 -> 54931509 | BB28: =+BA28*(1+Variables!$C$7) -> 57809920 | BC28: =+BB28 -> 57809920 | BD28: =+BC28 -> 57809920 | BE28: =+BD28 -> 57809920 | BF28: =+BE28 -> 57809920 | BG28: =+BF28 -> 57809920 | BH28: =+BG28 -> 57809920 | BI28: =+BH28 -> 57809920 | BJ28: =+BI28 -> 57809920 | ... BM28: =+BL28 -> 57809920 | BN28: =+BM28*(1+Variables!$C$7) -> 60839160 | BO28: =+BN28 -> 60839160 | BP28: =+BO28 -> 60839160 | BQ28: =+BP28 -> 60839160 | BR28: =+BQ28 -> 60839160 | BS28: =+BR28 -> 60839160 | BT28: =+BS28 -> 60839160 | BU28: =+BT28 -> 60839160 | BV28: =+BU28 -> 60839160 | ... BY28: =+BX28 -> 60839160 | BZ28: =+BY28*(1+Variables!$C$7) -> 64027132 | CA28: =+BZ28 -> 64027132 | CB28: =+CA28 -> 64027132 | CC28: =+CB28 -> 64027132 | CD28: =+CC28 -> 64027132 | CE28: =+CD28 -> 64027132 | CF28: =+CE28 -> 64027132 | CG28: =+CF28 -> 64027132 | CH28: =+CG28 -> 64027132 | ... CK28: =+CJ28 -> 64027132 | CL28: =+CK28*(1+Variables!$C$7) -> 67382153 | CM28: =+CL28 -> 67382153 | CN28: =+CM28 -> 67382153 | CO28: =+CN28 -> 67382153 | CP28: =+CO28 -> 67382153 | CQ28: =+CP28 -> 67382153 | CR28: =+CQ28 -> 67382153 | CS28: =+CR28 -> 67382153 | CT28: =+CS28 -> 67382153 | ... CW28: =+CV28 -> 67382153 | CX28: =+CW28*(1+Variables!$C$7) -> 70912978 | CY28: =+CX28 -> 70912978 | CZ28: =+CY28 -> 70912978 | DA28: =+CZ28 -> 70912978 | DB28: =+DA28 -> 70912978 | DC28: =+DB28 -> 70912978 | DD28: =+DC28 -> 70912978 | DE28: =+DD28 -> 70912978 | DF28: =+DE28 -> 70912978 | ... DI28: =+DH28 -> 70912978 | DJ28: =+DI28*(1+Variables!$C$7) -> 74628818 | DK28: =+DJ28 -> 74628818 | DL28: =+DK28 -> 74628818 | DM28: =+DL28 -> 74628818 | DN28: =+DM28 -> 74628818 | DO28: =+DN28 -> 74628818 | DP28: =+DO28 -> 74628818 | DQ28: =+DP28 -> 74628818 | DR28: =+DQ28 -> 74628818 | ... DU28: =+DT28 -> 74628818 | DV28: =+DU28*(1+Variables!$C$7) -> 78539368 | DW28: =+DV28 -> 78539368 | DX28: =+DW28 -> 78539368 | DY28: =+DX28 -> 78539368 | DZ28: =+DY28 -> 78539368 | EA28: =+DZ28 -> 78539368 | EB28: =+EA28 -> 78539368 | EC28: =+EB28 -> 78539368 | ED28: =+EC28 -> 78539368 | ... EG28: =+EF28 -> 78539368 | EH28: =+EG28*(1+Variables!$C$7) -> 82654831 | EI28: =+EH28 -> 82654831 | EJ28: =+EI28 -> 82654831 | EK28: =+EJ28 -> 82654831 | EL28: =+EK28 -> 82654831 | EM28: =+EL28 -> 82654831 | EN28: =+EM28 -> 82654831 | EO28: =+EN28 -> 82654831 | EP28: =+EO28 -> 82654831 | ... ES28: =+ER28 -> 82654831 | ET28: =+ES28*(1+Variables!$C$7) -> 86985944 | EU28: =+ET28 -> 86985944 | EV28: =+EU28 -> 86985944 | EW28: =+EV28 -> 86985944 | EX28: =+EW28 -> 86985944 | EY28: =+EX28 -> 86985944 | EZ28: =+EY28 -> 86985944 | FA28: =+EZ28 -> 86985944 | FB28: =+FA28 -> 86985944 | ... FE28: =+FD28 -> 86985944 | FF28: =+FE28*(1+Variables!$C$7) -> 91544008 | FG28: =+FF28 -> 91544008 | FH28: =+FG28 -> 91544008 | FI28: =+FH28 -> 91544008 | FJ28: =+FI28 -> 91544008 | FK28: =+FJ28 -> 91544008 | FL28: =+FK28 -> 91544008 | FM28: =+FL28 -> 91544008 | FN28: =+FM28 -> 91544008 | ... FQ28: =+FP28 -> 91544008 | FR28: =+FQ28*(1+Variables!$C$7) -> 96340914 | FS28: =+FR28 -> 96340914 | FT28: =+FS28 -> 96340914 | FU28: =+FT28 -> 96340914 | FV28: =+FU28 -> 96340914 | FW28: =+FV28 -> 96340914 | FX28: =+FW28 -> 96340914 | FY28: =+FX28 -> 96340914 | FZ28: =+FY28 -> 96340914 | ... GC28: =+GB28 -> 96340914 | GD28: =+GC28*(1+Variables!$C$7) -> 1.0138918e+08 | GE28: =+GD28 -> 1.0138918e+08 | GF28: =+GE28 -> 1.0138918e+08 | GG28: =+GF28 -> 1.0138918e+08 | GH28: =+GG28 -> 1.0138918e+08 | GI28: =+GH28 -> 1.0138918e+08 | GJ28: =+GI28 -> 1.0138918e+08 | GK28: =+GJ28 -> 1.0138918e+08 | GL28: =+GK28 -> 1.0138918e+08 | ... GO28: =+GN28 -> 1.0138918e+08 | GP28: =+GO28*(1+Variables!$C$7) -> 1.0670197e+08 | GQ28: =+GP28 -> 1.0670197e+08 | GR28: =+GQ28 -> 1.0670197e+08 | GS28: =+GR28 -> 1.0670197e+08 | GT28: =+GS28 -> 1.0670197e+08 | GU28: =+GT28 -> 1.0670197e+08 | GV28: =+GU28 -> 1.0670197e+08 | GW28: =+GV28 -> 1.0670197e+08 | GX28: =+GW28 -> 1.0670197e+08 | ... HA28: =+GZ28 -> 1.0670197e+08 | HB28: =+HA28*(1+Variables!$C$7) -> 1.1229315e+08 | HC28: =+HB28 -> 1.1229315e+08 | HD28: =+HC28 -> 1.1229315e+08 | HE28: =+HD28 -> 1.1229315e+08 | HF28: =+HE28 -> 1.1229315e+08 | HG28: =+HF28 -> 1.1229315e+08 | HH28: =+HG28 -> 1.1229315e+08 | HI28: =+HH28 -> 1.1229315e+08 | HJ28: =+HI28 -> 1.1229315e+08 | ... HM28: =+HL28 -> 1.1229315e+08 | HN28: =+HM28*(1+Variables!$C$7) -> 1.1817732e+08 | HO28: =+HN28 -> 1.1817732e+08 | HP28: =+HO28 -> 1.1817732e+08 | HQ28: =+HP28 -> 1.1817732e+08 | HR28: =+HQ28 -> 1.1817732e+08 | HS28: =+HR28 -> 1.1817732e+08 | HT28: =+HS28 -> 1.1817732e+08 | HU28: =+HT28 -> 1.1817732e+08 | HV28: =+HU28 -> 1.1817732e+08 | ... HY28: =+HX28 -> 1.1817732e+08 | HZ28: =+HY28*(1+Variables!$C$7) -> 1.2436981e+08 | IA28: =+HZ28 -> 1.2436981e+08 | IB28: =+IA28 -> 1.2436981e+08 | IC28: =+IB28 -> 1.2436981e+08 | ID28: =+IC28 -> 1.2436981e+08 | IE28: =+ID28 -> 1.2436981e+08 | IF28: =+IE28 -> 1.2436981e+08 | IG28: =+IF28 -> 1.2436981e+08 | IH28: =+IG28 -> 1.2436981e+08 | ... IK28: =+IJ28 -> 1.2436981e+08
B29: Compras y Contrataciones | F29: =22900000 -> 22900000 | G29: =22900000 -> 22900000 | H29: =22900000 -> 22900000 | I29: =22900000 -> 22900000 | J29: =22900000 -> 22900000 | K29: =22900000 -> 22900000 | L29: =22900000 -> 22900000 | M29: =22900000 -> 22900000 | ... Q29: =22900000 -> 22900000 | R29: =+Q29*(1+Variables!$C$7) -> 24099960 | S29: =+R29 -> 24099960 | T29: =+S29 -> 24099960 | U29: =+T29 -> 24099960 | V29: =+U29 -> 24099960 | W29: =+V29 -> 24099960 | X29: =+W29 -> 24099960 | Y29: =+X29 -> 24099960 | Z29: =+Y29 -> 24099960 | ... AC29: =+AB29 -> 24099960 | AD29: =+AC29*(1+Variables!$C$7) -> 25362798 | AE29: =+AD29 -> 25362798 | AF29: =+AE29 -> 25362798 | AG29: =+AF29 -> 25362798 | AH29: =+AG29 -> 25362798 | AI29: =+AH29 -> 25362798 | AJ29: =+AI29 -> 25362798 | AK29: =+AJ29 -> 25362798 | AL29: =+AK29 -> 25362798 | ... AO29: =+AN29 -> 25362798 | AP29: =+AO29*(1+Variables!$C$7) -> 26691809 | AQ29: =+AP29 -> 26691809 | AR29: =+AQ29 -> 26691809 | AS29: =+AR29 -> 26691809 | AT29: =+AS29 -> 26691809 | AU29: =+AT29 -> 26691809 | AV29: =+AU29 -> 26691809 | AW29: =+AV29 -> 26691809 | AX29: =+AW29 -> 26691809 | ... BA29: =+AZ29 -> 26691809 | BB29: =+BA29*(1+Variables!$C$7) -> 28090459 | BC29: =+BB29 -> 28090459 | BD29: =+BC29 -> 28090459 | BE29: =+BD29 -> 28090459 | BF29: =+BE29 -> 28090459 | BG29: =+BF29 -> 28090459 | BH29: =+BG29 -> 28090459 | BI29: =+BH29 -> 28090459 | BJ29: =+BI29 -> 28090459 | ... BM29: =+BL29 -> 28090459 | BN29: =+BM29*(1+Variables!$C$7) -> 29562399 | BO29: =+BN29 -> 29562399 | BP29: =+BO29 -> 29562399 | BQ29: =+BP29 -> 29562399 | BR29: =+BQ29 -> 29562399 | BS29: =+BR29 -> 29562399 | BT29: =+BS29 -> 29562399 | BU29: =+BT29 -> 29562399 | BV29: =+BU29 -> 29562399 | ... BY29: =+BX29 -> 29562399 | BZ29: =+BY29*(1+Variables!$C$7) -> 31111469 | CA29: =+BZ29 -> 31111469 | CB29: =+CA29 -> 31111469 | CC29: =+CB29 -> 31111469 | CD29: =+CC29 -> 31111469 | CE29: =+CD29 -> 31111469 | CF29: =+CE29 -> 31111469 | CG29: =+CF29 -> 31111469 | CH29: =+CG29 -> 31111469 | ... CK29: =+CJ29 -> 31111469 | CL29: =+CK29*(1+Variables!$C$7) -> 32741710 | CM29: =+CL29 -> 32741710 | CN29: =+CM29 -> 32741710 | CO29: =+CN29 -> 32741710 | CP29: =+CO29 -> 32741710 | CQ29: =+CP29 -> 32741710 | CR29: =+CQ29 -> 32741710 | CS29: =+CR29 -> 32741710 | CT29: =+CS29 -> 32741710 | ... CW29: =+CV29 -> 32741710 | CX29: =+CW29*(1+Variables!$C$7) -> 34457376 | CY29: =+CX29 -> 34457376 | CZ29: =+CY29 -> 34457376 | DA29: =+CZ29 -> 34457376 | DB29: =+DA29 -> 34457376 | DC29: =+DB29 -> 34457376 | DD29: =+DC29 -> 34457376 | DE29: =+DD29 -> 34457376 | DF29: =+DE29 -> 34457376 | ... DI29: =+DH29 -> 34457376 | DJ29: =+DI29*(1+Variables!$C$7) -> 36262942 | DK29: =+DJ29 -> 36262942 | DL29: =+DK29 -> 36262942 | DM29: =+DL29 -> 36262942 | DN29: =+DM29 -> 36262942 | DO29: =+DN29 -> 36262942 | DP29: =+DO29 -> 36262942 | DQ29: =+DP29 -> 36262942 | DR29: =+DQ29 -> 36262942 | ... DU29: =+DT29 -> 36262942 | DV29: =+DU29*(1+Variables!$C$7) -> 38163120 | DW29: =+DV29 -> 38163120 | DX29: =+DW29 -> 38163120 | DY29: =+DX29 -> 38163120 | DZ29: =+DY29 -> 38163120 | EA29: =+DZ29 -> 38163120 | EB29: =+EA29 -> 38163120 | EC29: =+EB29 -> 38163120 | ED29: =+EC29 -> 38163120 | ... EG29: =+EF29 -> 38163120 | EH29: =+EG29*(1+Variables!$C$7) -> 40162868 | EI29: =+EH29 -> 40162868 | EJ29: =+EI29 -> 40162868 | EK29: =+EJ29 -> 40162868 | EL29: =+EK29 -> 40162868 | EM29: =+EL29 -> 40162868 | EN29: =+EM29 -> 40162868 | EO29: =+EN29 -> 40162868 | EP29: =+EO29 -> 40162868 | ... ES29: =+ER29 -> 40162868 | ET29: =+ES29*(1+Variables!$C$7) -> 42267402 | EU29: =+ET29 -> 42267402 | EV29: =+EU29 -> 42267402 | EW29: =+EV29 -> 42267402 | EX29: =+EW29 -> 42267402 | EY29: =+EX29 -> 42267402 | EZ29: =+EY29 -> 42267402 | FA29: =+EZ29 -> 42267402 | FB29: =+FA29 -> 42267402 | ... FE29: =+FD29 -> 42267402 | FF29: =+FE29*(1+Variables!$C$7) -> 44482214 | FG29: =+FF29 -> 44482214 | FH29: =+FG29 -> 44482214 | FI29: =+FH29 -> 44482214 | FJ29: =+FI29 -> 44482214 | FK29: =+FJ29 -> 44482214 | FL29: =+FK29 -> 44482214 | FM29: =+FL29 -> 44482214 | FN29: =+FM29 -> 44482214 | ... FQ29: =+FP29 -> 44482214 | FR29: =+FQ29*(1+Variables!$C$7) -> 46813082 | FS29: =+FR29 -> 46813082 | FT29: =+FS29 -> 46813082 | FU29: =+FT29 -> 46813082 | FV29: =+FU29 -> 46813082 | FW29: =+FV29 -> 46813082 | FX29: =+FW29 -> 46813082 | FY29: =+FX29 -> 46813082 | FZ29: =+FY29 -> 46813082 | ... GC29: =+GB29 -> 46813082 | GD29: =+GC29*(1+Variables!$C$7) -> 49266087 | GE29: =+GD29 -> 49266087 | GF29: =+GE29 -> 49266087 | GG29: =+GF29 -> 49266087 | GH29: =+GG29 -> 49266087 | GI29: =+GH29 -> 49266087 | GJ29: =+GI29 -> 49266087 | GK29: =+GJ29 -> 49266087 | GL29: =+GK29 -> 49266087 | ... GO29: =+GN29 -> 49266087 | GP29: =+GO29*(1+Variables!$C$7) -> 51847630 | GQ29: =+GP29 -> 51847630 | GR29: =+GQ29 -> 51847630 | GS29: =+GR29 -> 51847630 | GT29: =+GS29 -> 51847630 | GU29: =+GT29 -> 51847630 | GV29: =+GU29 -> 51847630 | GW29: =+GV29 -> 51847630 | GX29: =+GW29 -> 51847630 | ... HA29: =+GZ29 -> 51847630 | HB29: =+HA29*(1+Variables!$C$7) -> 54564446 | HC29: =+HB29 -> 54564446 | HD29: =+HC29 -> 54564446 | HE29: =+HD29 -> 54564446 | HF29: =+HE29 -> 54564446 | HG29: =+HF29 -> 54564446 | HH29: =+HG29 -> 54564446 | HI29: =+HH29 -> 54564446 | HJ29: =+HI29 -> 54564446 | ... HM29: =+HL29 -> 54564446 | HN29: =+HM29*(1+Variables!$C$7) -> 57423623 | HO29: =+HN29 -> 57423623 | HP29: =+HO29 -> 57423623 | HQ29: =+HP29 -> 57423623 | HR29: =+HQ29 -> 57423623 | HS29: =+HR29 -> 57423623 | HT29: =+HS29 -> 57423623 | HU29: =+HT29 -> 57423623 | HV29: =+HU29 -> 57423623 | ... HY29: =+HX29 -> 57423623 | HZ29: =+HY29*(1+Variables!$C$7) -> 60432621 | IA29: =+HZ29 -> 60432621 | IB29: =+IA29 -> 60432621 | IC29: =+IB29 -> 60432621 | ID29: =+IC29 -> 60432621 | IE29: =+ID29 -> 60432621 | IF29: =+IE29 -> 60432621 | IG29: =+IF29 -> 60432621 | IH29: =+IG29 -> 60432621 | ... IK29: =+IJ29 -> 60432621
B30: Costos Interventoría del Proyecto | F30: =+SUM(F18,F23:F26)*Variables!$C$13 -> 15536738 | G30: =+SUM(G18,G23:G26)*Variables!$C$13 -> 17842393 | H30: =+SUM(H18,H23:H26)*Variables!$C$13 -> 22039843 | I30: =+SUM(I18,I23:I26)*Variables!$C$13 -> 26245648 | J30: =+SUM(J18,J23:J26)*Variables!$C$13 -> 30462369 | K30: =+SUM(K18,K23:K26)*Variables!$C$13 -> 34690187 | L30: =+SUM(L18,L23:L26)*Variables!$C$13 -> 36608587 | M30: =+SUM(M18,M23:M26)*Variables!$C$13 -> 36634049 | ... IK30: =+SUM(IK18,IK23:IK26)*Variables!$C$13 -> 84478505
B31: Total Egresos del Proyecto | F31: =+SUM(F18,F23,F24,F25,F26,F27,F30) -> 3.7871074e+08 | G31: =+SUM(G18,G23,G24,G25,G26,G27,G30) -> 4.2451932e+08 | H31: =+SUM(H18,H23,H24,H25,H26,H27,H30) -> 5.0791393e+08 | I31: =+SUM(I18,I23,I24,I25,I26,I27,I30) -> 5.9147455e+08 | J31: =+SUM(J18,J23,J24,J25,J26,J27,J30) -> 6.7525205e+08 | K31: =+SUM(K18,K23,K24,K25,K26,K27,K30) -> 7.5925001e+08 | L31: =+SUM(L18,L23,L24,L25,L26,L27,L30) -> 7.9736465e+08 | M31: =+SUM(M18,M23,M24,M25,M26,M27,M30) -> 7.9787051e+08 | ... IK31: =+SUM(IK18,IK23,IK24,IK25,IK26,IK27,IK30) -> 1.863215e+09

Sheet Modelo Financiero (Anualizado)
C3: 21 | D3: =+C3-1 -> 20 | E3: =+D3-1 -> 19 | F3: =+E3-1 -> 18 | G3: =+F3-1 -> 17 | H3: =+G3-1 -> 16 | I3: =+H3-1 -> 15 | J3: =+I3-1 -> 14 | K3: =+J3-1 -> 13 | ... W3: =+V3-1 -> 1
B4: Año | C4: 2025 | D4: =+C4+1 -> 2026 | E4: =+D4+1 -> 2027 | F4: =+E4+1 -> 2028 | G4: =+F4+1 -> 2029 | H4: =+G4+1 -> 2030 | I4: =+H4+1 -> 2031 | J4: =+I4+1 -> 2032 | K4: =+J4+1 -> 2033 | ... W4: =+V4+1 -> 2045
B6: Ejecución Proyecto de Actualización (%) | C6: =+SUMIF('Modelo Financiero (Mensualizado'!$C$4:$IK$4,'Modelo Financiero (Anualizado)'!C4,'Modelo Financiero (Mensualizado'!$C$8:$IK$8) -> 0 | D6: =+SUMIF('Modelo Financiero (Mensualizado'!$C$4:$IK$4,'Modelo Financiero (Anualizado)'!D4,'Modelo Financiero (Mensualizado'!$C$8:$IK$8) -> 1
B7: Acumulado | C7: =+SUM($C6:C6) -> 0 | D7: =+SUM($C6:D6) -> 1
B8: Ejecución Proyecto de Actualización ($) | C8: =+Vlr_Act*C7 -> 0 | D8: =+Vlr_Act*D7 -> 4.0027349e+10 | E8: =+Vlr_Act*E7 -> 0 | F8: =+Vlr_Act*F7 -> 0 | G8: =+Vlr_Act*G7 -> 0 | H8: =+Vlr_Act*H7 -> 0 | I8: =+Vlr_Act*I7 -> 0 | J8: =+Vlr_Act*J7 -> 0 | ... Q8: =+Vlr_Act*Q7 -> 0
B9: Avance en No. de Predios | C9: =+'Costos Actualización'!$H$60*C7 -> 0 | D9: =+'Costos Actualización'!$H$60*D7 -> 146434.1 | E9: =+'Costos Actualización'!$H$60*E7 -> 0 | F9: =+'Costos Actualización'!$H$60*F7 -> 0 | G9: =+'Costos Actualización'!$H$60*G7 -> 0 | H9: =+'Costos Actualización'!$H$60*H7 -> 0 | I9: =+'Costos Actualización'!$H$60*I7 -> 0 | J9: =+'Costos Actualización'!$H$60*J7 -> 0 | ... Q9: =+'Costos Actualización'!$H$60*Q7 -> 0
B10: No. de Trámites Conservación | C10: 0 | D10: 1293 | E10: 1293 | F10: 1293 | G10: 1293 | H10: 1293 | I10: 1293 | J10: 1293 | K10: 1293 | L10: 1293 | M10: 1293 | N10: 1293 | O10: 1293 | P10: 1293 | Q10: 1293 | R10: 1293 | S10: 1293 | T10: 1293 | U10: 1293 | V10: 1293 | W10: 1293
B12: Ingresos del Proyecto | C12: =+SUMIF('Modelo Financiero (Mensualizado'!$C$4:$IK$4,'Modelo Financiero (Anualizado)'!C$4,'Modelo Financiero (Mensualizado'!$C15:$IK15) -> 0 | D12: =+SUMIF('Modelo Financiero (Mensualizado'!$C$4:$IK$4,'Modelo Financiero (Anualizado)'!D$4,'Modelo Financiero (Mensualizado'!$C15:$IK15) -> 1.0465085e+10 | E12: =+SUMIF('Modelo Financiero (Mensualizado'!$C$4:$IK$4,'Modelo Financiero (Anualizado)'!E$4,'Modelo Financiero (Mensualizado'!$C15:$IK15) -> 1.0040347e+10 | F12: =+SUMIF('Modelo Financiero (Mensualizado'!$C$4:$IK$4,'Modelo Financiero (Anualizado)'!F$4,'Modelo Financiero (Mensualizado'!$C15:$IK15) -> 1.4561909e+10 | G12: =+SUMIF('Modelo Financiero (Mensualizado'!$C$4:$IK$4,'Modelo Financiero (Anualizado)'!G$4,'Modelo Financiero (Mensualizado'!$C15:$IK15) -> 1.5108231e+10 | H12: =+SUMIF('Modelo Financiero (Mensualizado'!$C$4:$IK$4,'Modelo Financiero (Anualizado)'!H$4,'Modelo Financiero (Mensualizado'!$C15:$IK15) -> 1.568563e+10 | I12: =+SUMIF('Modelo Financiero (Mensualizado'!$C$4:$IK$4,'Modelo Financiero (Anualizado)'!I$4,'Modelo Financiero (Mensualizado'!$C15:$IK15) -> 1.680409e+10 | J12: =+SUMIF('Modelo Financiero (Mensualizado'!$C$4:$IK$4,'Modelo Financiero (Anualizado)'!J$4,'Modelo Financiero (Mensualizado'!$C15:$IK15) -> 1.6940829e+10 | ... W12: =+SUMIF('Modelo Financiero (Mensualizado'!$C$4:$IK$4,'Modelo Financiero (Anualizado)'!W$4,'Modelo Financiero (Mensualizado'!$C15:$IK15) -> 2.9556969e+10
B13: Total Ingresos del Proyecto | C13: =+C12 -> 0 | D13: =+D12 -> 1.0465085e+10 | E13: =+E12 -> 1.0040347e+10 | F13: =+F12 -> 1.4561909e+10 | G13: =+G12 -> 1.5108231e+10 | H13: =+H12 -> 1.568563e+10 | I13: =+I12 -> 1.680409e+10 | J13: =+J12 -> 1.6940829e+10 | ... W13: =+W12 -> 2.9556969e+10
B15: Egresos de Proyecto
B16: Costos Actualización Catastral | C16: =+SUMIF('Modelo Financiero (Mensualizado'!$C$4:$IK$4,'Modelo Financiero (Anualizado)'!C$4,'Modelo Financiero (Mensualizado'!$C18:$IK18) -> 0 | D16: =+SUMIF('Modelo Financiero (Mensualizado'!$C$4:$IK$4,'Modelo Financiero (Anualizado)'!D$4,'Modelo Financiero (Mensualizado'!$C18:$IK18) -> 3.4045521e+09 | E16: =+SUMIF('Modelo Financiero (Mensualizado'!$C$4:$IK$4,'Modelo Financiero (Anualizado)'!E$4,'Modelo Financiero (Mensualizado'!$C18:$IK18) -> 4.8095094e+09 | F16: =+SUMIF('Modelo Financiero (Mensualizado'!$C$4:$IK$4,'Modelo Financiero (Anualizado)'!F$4,'Modelo Financiero (Mensualizado'!$C18:$IK18) -> 4.8095094e+09 | G16: =+SUMIF('Modelo Financiero (Mensualizado'!$C$4:$IK$4,'Modelo Financiero (Anualizado)'!G$4,'Modelo Financiero (Mensualizado'!$C18:$IK18) -> 4.8095094e+09 | H16: =+SUMIF('Modelo Financiero (Mensualizado'!$C$4:$IK$4,'Modelo Financiero (Anualizado)'!H$4,'Modelo Financiero (Mensualizado'!$C18:$IK18) -> 4.8095094e+09 | I16: =+SUMIF('Modelo Financiero (Mensualizado'!$C$4:$IK$4,'Modelo Financiero (Anualizado)'!I$4,'Modelo Financiero (Mensualizado'!$C18:$IK18) -> 4.8095094e+09 | J16: =+SUMIF('Modelo Financiero (Mensualizado'!$C$4:$IK$4,'Modelo Financiero (Anualizado)'!J$4,'Modelo Financiero (Mensualizado'!$C18:$IK18) -> 4.8095094e+09 | ... W16: =+SUMIF('Modelo Financiero (Mensualizado'!$C$4:$IK$4,'Modelo Financiero (Anualizado)'!W$4,'Modelo Financiero (Mensualizado'!$C18:$IK18) -> 4.8095094e+09
B17: Ejecución de Costos | C17: =+C8 -> 0 | D17: =+D8 -> 4.0027349e+10 | E17: =+E8 -> 0 | F17: =+F8 -> 0 | G17: =+G8 -> 0 | H17: =+H8 -> 0 | I17: =+I8 -> 0 | J17: =+J8 -> 0 | ... W17: =+W8 -> 0
B18: Saldo por Cancelar | C18: =+HLOOKUP((C4&"-"&"12"),'Modelo Financiero (Mensualizado'!1:20,20,FALSE) -> 0 | D18: =+HLOOKUP((D4&"-"&"12"),'Modelo Financiero (Mensualizado'!1:20,20,FALSE) -> 3.9971102e+10 | E18: =+HLOOKUP((E4&"-"&"12"),'Modelo Financiero (Mensualizado'!1:20,20,FALSE) -> 3.9256162e+10 | F18: =+HLOOKUP((F4&"-"&"12"),'Modelo Financiero (Mensualizado'!1:20,20,FALSE) -> 3.8463794e+10 | G18: =+HLOOKUP((G4&"-"&"12"),'Modelo Financiero (Mensualizado'!1:20,20,FALSE) -> 3.7585613e+10 | H18: =+HLOOKUP((H4&"-"&"12"),'Modelo Financiero (Mensualizado'!1:20,20,FALSE) -> 3.6612325e+10 | I18: =+HLOOKUP((I4&"-"&"12"),'Modelo Financiero (Mensualizado'!1:20,20,FALSE) -> 3.553363e+10 | J18: =+HLOOKUP((J4&"-"&"12"),'Modelo Financiero (Mensualizado'!1:20,20,FALSE) -> 3.4338112e+10 | ... W18: =+HLOOKUP((W4&"-"&"12"),'Modelo Financiero (Mensualizado'!1:20,20,FALSE) -> 0
B19: Retorno de Inversión (10,83% E.A) | C19: =+SUMIF('Modelo Financiero (Mensualizado'!$C$4:$IK$4,'Modelo Financiero (Anualizado)'!C$4,'Modelo Financiero (Mensualizado'!$C$21:$IK$21) -> 0 | D19: =+SUMIF('Modelo Financiero (Mensualizado'!$C$4:$IK$4,'Modelo Financiero (Anualizado)'!D$4,'Modelo Financiero (Mensualizado'!$C$21:$IK$21) -> 2.9416833e+09 | E19: =+SUMIF('Modelo Financiero (Mensualizado'!$C$4:$IK$4,'Modelo Financiero (Anualizado)'!E$4,'Modelo Financiero (Mensualizado'!$C$21:$IK$21) -> 4.0945698e+09 | F19: =+SUMIF('Modelo Financiero (Mensualizado'!$C$4:$IK$4,'Modelo Financiero (Anualizado)'!F$4,'Modelo Financiero (Mensualizado'!$C$21:$IK$21) -> 4.0171418e+09 | G19: =+SUMIF('Modelo Financiero (Mensualizado'!$C$4:$IK$4,'Modelo Financiero (Anualizado)'!G$4,'Modelo Financiero (Mensualizado'!$C$21:$IK$21) -> 3.9313284e+09 | H19: =+SUMIF('Modelo Financiero (Mensualizado'!$C$4:$IK$4,'Modelo Financiero (Anualizado)'!H$4,'Modelo Financiero (Mensualizado'!$C$21:$IK$21) -> 3.8362214e+09 | I19: =+SUMIF('Modelo Financiero (Mensualizado'!$C$4:$IK$4,'Modelo Financiero (Anualizado)'!I$4,'Modelo Financiero (Mensualizado'!$C$21:$IK$21) -> 3.7308143e+09 | J19: =+SUMIF('Modelo Financiero (Mensualizado'!$C$4:$IK$4,'Modelo Financiero (Anualizado)'!J$4,'Modelo Financiero (Mensualizado'!$C$21:$IK$21) -> 3.6139916e+09 | ... W19: =+SUMIF('Modelo Financiero (Mensualizado'!$C$4:$IK$4,'Modelo Financiero (Anualizado)'!W$4,'Modelo Financiero (Mensualizado'!$C$21:$IK$21) -> 2.5856661e+08
B20: Amortización de Costos | C20: =+SUMIF('Modelo Financiero (Mensualizado'!$C$4:$IK$4,'Modelo Financiero (Anualizado)'!C$4,'Modelo Financiero (Mensualizado'!$C$22:$IK$22) -> 0 | D20: =+SUMIF('Modelo Financiero (Mensualizado'!$C$4:$IK$4,'Modelo Financiero (Anualizado)'!D$4,'Modelo Financiero (Mensualizado'!$C$22:$IK$22) -> 4.6286886e+08 | E20: =+SUMIF('Modelo Financiero (Mensualizado'!$C$4:$IK$4,'Modelo Financiero (Anualizado)'!E$4,'Modelo Financiero (Mensualizado'!$C$22:$IK$22) -> 7.1493965e+08 | F20: =+SUMIF('Modelo Financiero (Mensualizado'!$C$4:$IK$4,'Modelo Financiero (Anualizado)'!F$4,'Modelo Financiero (Mensualizado'!$C$22:$IK$22) -> 7.9236761e+08 | G20: =+SUMIF('Modelo Financiero (Mensualizado'!$C$4:$IK$4,'Modelo Financiero (Anualizado)'!G$4,'Modelo Financiero (Mensualizado'!$C$22:$IK$22) -> 8.7818102e+08 | H20: =+SUMIF('Modelo Financiero (Mensualizado'!$C$4:$IK$4,'Modelo Financiero (Anualizado)'!H$4,'Modelo Financiero (Mensualizado'!$C$22:$IK$22) -> 9.7328803e+08 | I20: =+SUMIF('Modelo Financiero (Mensualizado'!$C$4:$IK$4,'Modelo Financiero (Anualizado)'!I$4,'Modelo Financiero (Mensualizado'!$C$22:$IK$22) -> 1.0786951e+09 | J20: =+SUMIF('Modelo Financiero (Mensualizado'!$C$4:$IK$4,'Modelo Financiero (Anualizado)'!J$4,'Modelo Financiero (Mensualizado'!$C$22:$IK$22) -> 1.1955178e+09 | ... W20: =+SUMIF('Modelo Financiero (Mensualizado'!$C$4:$IK$4,'Modelo Financiero (Anualizado)'!W$4,'Modelo Financiero (Mensualizado'!$C$22:$IK$22) -> 4.5509428e+09
B21: Costos Conservación Catastral | C21: =+SUMIF('Modelo Financiero (Mensualizado'!$C$4:$IK$4,'Modelo Financiero (Anualizado)'!C$4,'Modelo Financiero (Mensualizado'!$C23:$IK23) -> 0 | D21: =+SUMIF('Modelo Financiero (Mensualizado'!$C$4:$IK$4,'Modelo Financiero (Anualizado)'!D$4,'Modelo Financiero (Mensualizado'!$C23:$IK23) -> 1.8008551e+09 | E21: =+SUMIF('Modelo Financiero (Mensualizado'!$C$4:$IK$4,'Modelo Financiero (Anualizado)'!E$4,'Modelo Financiero (Mensualizado'!$C23:$IK23) -> 1.8682071e+09 | F21: =+SUMIF('Modelo Financiero (Mensualizado'!$C$4:$IK$4,'Modelo Financiero (Anualizado)'!F$4,'Modelo Financiero (Mensualizado'!$C23:$IK23) -> 1.938078e+09 | G21: =+SUMIF('Modelo Financiero (Mensualizado'!$C$4:$IK$4,'Modelo Financiero (Anualizado)'!G$4,'Modelo Financiero (Mensualizado'!$C23:$IK23) -> 2.0105621e+09 | H21: =+SUMIF('Modelo Financiero (Mensualizado'!$C$4:$IK$4,'Modelo Financiero (Anualizado)'!H$4,'Modelo Financiero (Mensualizado'!$C23:$IK23) -> 2.0857571e+09 | I21: =+SUMIF('Modelo Financiero (Mensualizado'!$C$4:$IK$4,'Modelo Financiero (Anualizado)'!I$4,'Modelo Financiero (Mensualizado'!$C23:$IK23) -> 2.1637645e+09 | J21: =+SUMIF('Modelo Financiero (Mensualizado'!$C$4:$IK$4,'Modelo Financiero (Anualizado)'!J$4,'Modelo Financiero (Mensualizado'!$C23:$IK23) -> 2.2446893e+09 | ... W21: =+SUMIF('Modelo Financiero (Mensualizado'!$C$4:$IK$4,'Modelo Financiero (Anualizado)'!W$4,'Modelo Financiero (Mensualizado'!$C23:$IK23) -> 3.617907e+09
B22: Costos Herramientas Tecnologicas | C22: =+SUMIF('Modelo Financiero (Mensualizado'!$C$4:$IK$4,'Modelo Financiero (Anualizado)'!C$4,'Modelo Financiero (Mensualizado'!$C24:$IK24) -> 0 | D22: =+SUMIF('Modelo Financiero (Mensualizado'!$C$4:$IK$4,'Modelo Financiero (Anualizado)'!D$4,'Modelo Financiero (Mensualizado'!$C24:$IK24) -> 1.73295e+09 | E22: =+SUMIF('Modelo Financiero (Mensualizado'!$C$4:$IK$4,'Modelo Financiero (Anualizado)'!E$4,'Modelo Financiero (Mensualizado'!$C24:$IK24) -> 1.7977623e+09 | F22: =+SUMIF('Modelo Financiero (Mensualizado'!$C$4:$IK$4,'Modelo Financiero (Anualizado)'!F$4,'Modelo Financiero (Mensualizado'!$C24:$IK24) -> 1.8649986e+09 | G22: =+SUMIF('Modelo Financiero (Mensualizado'!$C$4:$IK$4,'Modelo Financiero (Anualizado)'!G$4,'Modelo Financiero (Mensualizado'!$C24:$IK24) -> 1.9347496e+09 | H22: =+SUMIF('Modelo Financiero (Mensualizado'!$C$4:$IK$4,'Modelo Financiero (Anualizado)'!H$4,'Modelo Financiero (Mensualizado'!$C24:$IK24) -> 2.0071092e+09 | I22: =+SUMIF('Modelo Financiero (Mensualizado'!$C$4:$IK$4,'Modelo Financiero (Anualizado)'!I$4,'Modelo Financiero (Mensualizado'!$C24:$IK24) -> 2.0821751e+09 | J22: =+SUMIF('Modelo Financiero (Mensualizado'!$C$4:$IK$4,'Modelo Financiero (Anualizado)'!J$4,'Modelo Financiero (Mensualizado'!$C24:$IK24) -> 2.1600484e+09 | ... W22: =+SUMIF('Modelo Financiero (Mensualizado'!$C$4:$IK$4,'Modelo Financiero (Anualizado)'!W$4,'Modelo Financiero (Mensualizado'!$C24:$IK24) -> 3.481486e+09
B23: Costos Conservación Dinámica | C23: =+SUMIF('Modelo Financiero (Mensualizado'!$C$4:$IK$4,'Modelo Financiero (Anualizado)'!C$4,'Modelo Financiero (Mensualizado'!$C25:$IK25) -> 0 | D23: =+SUMIF('Modelo Financiero (Mensualizado'!$C$4:$IK$4,'Modelo Financiero (Anualizado)'!D$4,'Modelo Financiero (Mensualizado'!$C25:$IK25) -> 0 | E23: =+SUMIF('Modelo Financiero (Mensualizado'!$C$4:$IK$4,'Modelo Financiero (Anualizado)'!E$4,'Modelo Financiero (Mensualizado'!$C25:$IK25) -> 0 | F23: =+SUMIF('Modelo Financiero (Mensualizado'!$C$4:$IK$4,'Modelo Financiero (Anualizado)'!F$4,'Modelo Financiero (Mensualizado'!$C25:$IK25) -> 3.3078733e+09 | G23: =+SUMIF('Modelo Financiero (Mensualizado'!$C$4:$IK$4,'Modelo Financiero (Anualizado)'!G$4,'Modelo Financiero (Mensualizado'!$C25:$IK25) -> 3.4315878e+09 | H23: =+SUMIF('Modelo Financiero (Mensualizado'!$C$4:$IK$4,'Modelo Financiero (Anualizado)'!H$4,'Modelo Financiero (Mensualizado'!$C25:$IK25) -> 3.5599292e+09 | I23: =+SUMIF('Modelo Financiero (Mensualizado'!$C$4:$IK$4,'Modelo Financiero (Anualizado)'!I$4,'Modelo Financiero (Mensualizado'!$C25:$IK25) -> 3.6930705e+09 | J23: =+SUMIF('Modelo Financiero (Mensualizado'!$C$4:$IK$4,'Modelo Financiero (Anualizado)'!J$4,'Modelo Financiero (Mensualizado'!$C25:$IK25) -> 3.8311913e+09 | ... W23: =+SUMIF('Modelo Financiero (Mensualizado'!$C$4:$IK$4,'Modelo Financiero (Anualizado)'!W$4,'Modelo Financiero (Mensualizado'!$C25:$IK25) -> 6.1749722e+09
B24: Costos Observatorio Inmobiliario | C24: =+SUMIF('Modelo Financiero (Mensualizado'!$C$4:$IK$4,'Modelo Financiero (Anualizado)'!C$4,'Modelo Financiero (Mensualizado'!$C26:$IK26) -> 0 | D24: =+SUMIF('Modelo Financiero (Mensualizado'!$C$4:$IK$4,'Modelo Financiero (Anualizado)'!D$4,'Modelo Financiero (Mensualizado'!$C26:$IK26) -> 0 | E24: =+SUMIF('Modelo Financiero (Mensualizado'!$C$4:$IK$4,'Modelo Financiero (Anualizado)'!E$4,'Modelo Financiero (Mensualizado'!$C26:$IK26) -> 488794500 | F24: =+SUMIF('Modelo Financiero (Mensualizado'!$C$4:$IK$4,'Modelo Financiero (Anualizado)'!F$4,'Modelo Financiero (Mensualizado'!$C26:$IK26) -> 5.0707541e+08 | G24: =+SUMIF('Modelo Financiero (Mensualizado'!$C$4:$IK$4,'Modelo Financiero (Anualizado)'!G$4,'Modelo Financiero (Mensualizado'!$C26:$IK26) -> 5.2604003e+08 | H24: =+SUMIF('Modelo Financiero (Mensualizado'!$C$4:$IK$4,'Modelo Financiero (Anualizado)'!H$4,'Modelo Financiero (Mensualizado'!$C26:$IK26) -> 5.4571393e+08 | I24: =+SUMIF('Modelo Financiero (Mensualizado'!$C$4:$IK$4,'Modelo Financiero (Anualizado)'!I$4,'Modelo Financiero (Mensualizado'!$C26:$IK26) -> 5.6612363e+08 | J24: =+SUMIF('Modelo Financiero (Mensualizado'!$C$4:$IK$4,'Modelo Financiero (Anualizado)'!J$4,'Modelo Financiero (Mensualizado'!$C26:$IK26) -> 5.8729666e+08 | ... W24: =+SUMIF('Modelo Financiero (Mensualizado'!$C$4:$IK$4,'Modelo Financiero (Anualizado)'!W$4,'Modelo Financiero (Mensualizado'!$C26:$IK26) -> 9.4658299e+08
B25: Sostenimiento SEM | C25: =+SUMIF('Modelo Financiero (Mensualizado'!$C$4:$IK$4,'Modelo Financiero (Anualizado)'!C$4,'Modelo Financiero (Mensualizado'!$C27:$IK27) -> 0 | D25: =+SUMIF('Modelo Financiero (Mensualizado'!$C$4:$IK$4,'Modelo Financiero (Anualizado)'!D$4,'Modelo Financiero (Mensualizado'!$C27:$IK27) -> 840336000 | E25: =+SUMIF('Modelo Financiero (Mensualizado'!$C$4:$IK$4,'Modelo Financiero (Anualizado)'!E$4,'Modelo Financiero (Mensualizado'!$C27:$IK27) -> 8.8436961e+08 | F25: =+SUMIF('Modelo Financiero (Mensualizado'!$C$4:$IK$4,'Modelo Financiero (Anualizado)'!F$4,'Modelo Financiero (Mensualizado'!$C27:$IK27) -> 9.3071057e+08 | G25: =+SUMIF('Modelo Financiero (Mensualizado'!$C$4:$IK$4,'Modelo Financiero (Anualizado)'!G$4,'Modelo Financiero (Mensualizado'!$C27:$IK27) -> 9.7947981e+08 | H25: =+SUMIF('Modelo Financiero (Mensualizado'!$C$4:$IK$4,'Modelo Financiero (Anualizado)'!H$4,'Modelo Financiero (Mensualizado'!$C27:$IK27) -> 1.0308045e+09 | I25: =+SUMIF('Modelo Financiero (Mensualizado'!$C$4:$IK$4,'Modelo Financiero (Anualizado)'!I$4,'Modelo Financiero (Mensualizado'!$C27:$IK27) -> 1.0848187e+09 | J25: =+SUMIF('Modelo Financiero (Mensualizado'!$C$4:$IK$4,'Modelo Financiero (Anualizado)'!J$4,'Modelo Financiero (Mensualizado'!$C27:$IK27) -> 1.1416632e+09 | ... W25: =+SUMIF('Modelo Financiero (Mensualizado'!$C$4:$IK$4,'Modelo Financiero (Anualizado)'!W$4,'Modelo Financiero (Mensualizado'!$C27:$IK27) -> 2.2176291e+09
B26: Costos Interventoría del Proyecto | C26: =+SUMIF('Modelo Financiero (Mensualizado'!$C$4:$IK$4,'Modelo Financiero (Anualizado)'!C$4,'Modelo Financiero (Mensualizado'!$C30:$IK30) -> 0 | D26: =+SUMIF('Modelo Financiero (Mensualizado'!$C$4:$IK$4,'Modelo Financiero (Anualizado)'!D$4,'Modelo Financiero (Mensualizado'!$C30:$IK30) -> 3.6773293e+08 | E26: =+SUMIF('Modelo Financiero (Mensualizado'!$C$4:$IK$4,'Modelo Financiero (Anualizado)'!E$4,'Modelo Financiero (Mensualizado'!$C30:$IK30) -> 4.7510649e+08 | F26: =+SUMIF('Modelo Financiero (Mensualizado'!$C$4:$IK$4,'Modelo Financiero (Anualizado)'!F$4,'Modelo Financiero (Mensualizado'!$C30:$IK30) -> 6.5865934e+08 | G26: =+SUMIF('Modelo Financiero (Mensualizado'!$C$4:$IK$4,'Modelo Financiero (Anualizado)'!G$4,'Modelo Financiero (Mensualizado'!$C30:$IK30) -> 6.7375979e+08 | H26: =+SUMIF('Modelo Financiero (Mensualizado'!$C$4:$IK$4,'Modelo Financiero (Anualizado)'!H$4,'Modelo Financiero (Mensualizado'!$C30:$IK30) -> 6.89425e+08 | I26: =+SUMIF('Modelo Financiero (Mensualizado'!$C$4:$IK$4,'Modelo Financiero (Anualizado)'!I$4,'Modelo Financiero (Mensualizado'!$C30:$IK30) -> 7.0567609e+08 | J26: =+SUMIF('Modelo Financiero (Mensualizado'!$C$4:$IK$4,'Modelo Financiero (Anualizado)'!J$4,'Modelo Financiero (Mensualizado'!$C30:$IK30) -> 7.2253496e+08 | ... W26: =+SUMIF('Modelo Financiero (Mensualizado'!$C$4:$IK$4,'Modelo Financiero (Anualizado)'!W$4,'Modelo Financiero (Mensualizado'!$C30:$IK30) -> 1.0086143e+09
B27: Total Egresos del Proyecto | C27: =+SUM(C16,C21,C22,C23,C24,C25,C26) -> 0 | D27: =+SUM(D16,D21,D22,D23,D24,D25,D26) -> 8.1464261e+09 | E27: =+SUM(E16,E21,E22,E23,E24,E25,E26) -> 1.0323749e+10 | F27: =+SUM(F16,F21,F22,F23,F24,F25,F26) -> 1.4016905e+10 | G27: =+SUM(G16,G21,G22,G23,G24,G25,G26) -> 1.4365689e+10 | H27: =+SUM(H16,H21,H22,H23,H24,H25,H26) -> 1.4728248e+10 | I27: =+SUM(I16,I21,I22,I23,I24,I25,I26) -> 1.5105138e+10 | J27: =+SUM(J16,J21,J22,J23,J24,J25,J26) -> 1.5496933e+10 | ... W27: =+SUM(W16,W21,W22,W23,W24,W25,W26) -> 2.2256701e+10
B29: Recaudo IPU | C29: 6.1784832e+10 | D29: =+C29*(1+19.6%) -> 7.3894659e+10 | E29: =+D29*(1+19.6%) -> 8.8378012e+10 | F29: =+E29*(1+19.6%) -> 1.057001e+11 | G29: =+F29*(1+7.7%) -> 1.1383901e+11 | H29: =+G29*(1+7.7%) -> 1.2260461e+11 | I29: =+H29*(1+7.7%) -> 1.3204517e+11 | J29: =+I29*(1+7.7%) -> 1.4221265e+11 | K29: =+J29*(1+7.7%) -> 1.5316302e+11 | L29: =+K29*(1+7.7%) -> 1.6495657e+11 | M29: =+L29*(1+7.7%) -> 1.7765823e+11 | N29: =+M29*(1+7.7%) -> 1.9133791e+11 | ... W29: =+V29*(1+7.7%) -> 3.730288e+11

Sheet Hoja1
C2: Semestre 1 | D2: Año
B3: 2023 | C3: 24343340641 | D3: 38613879484 | E3: =+D3/C3 -> 1.5862194
B4: 2024 | C4: 37270564671 | D4: 49167755678 | E4: =+D4/C4 -> 1.3192115
B5: 2025 | C5: 42530581487 | D5: =+C5*E5 -> 6.1784832e+10 | E5: =+AVERAGE(E3:E4) -> 1.4527154
