Workbook

Sheet PRESUPUESTO OFICIAL (Entidad)
A1: FORMULARIO 1
A4: PRESUPUESTO OFICIAL
A6: [La entidad puede utilizar este formulario de detalle del presupuesto oficial para determinar las condiciones bajo las cuales los proponentes analizarán y presentarán su propuesta económica de forma detallada, sin perjuicio que la entidad pueda modificarlo o establecer la presentación de la oferta económica con un formulario distinto al indicado.]
A8: Adicionalmente, cuando el proceso de contratación es estructurado por precios unitarios, la Entidad debe aplicar las notas 1, 2 y 3 del presente formulario y las casillas de "Descripción", "Porcentaje" de la Administración, Imprevisto, Utilidad y total A.I.U. resaltadas en colo amarillo. Tratándose de otras modalidades de precio, la Entidad puede o no configurar los mismos aspectos.
A12: ' CONSTRUCCION DE PLACA HUELLAS EN SECTORES RURALES DEL MUNICIPIO DE SESQUILÉ CUNDINAMARCA.''
A14: ÍTEM | B14: ÍTEM ICCU | C14: DESCRIPCIÓN | D14: UNIDAD | E14: CANTIDADES | F14: VALOR UNITARIO | G14: VALOR TOTAL
A15: NESCUATÁ SECTOR LA JORLA | G15: =SUM(G16,G18,G20,G22) -> 85846384
A16: 1 | C16: MANTENIMIENTO VIAL | G16: =SUM(G17:G17,0) -> 554034
A17: 1.1 | B17: 6.1 | C17: CONFORMACIÓN DE LA CALZADA EXISTENTE | D17: M2 | E17: =+'Memorias de cantidades'!$I$6+'Memorias de cantidades'!$I$7 -> 481.35 | F17: 1151 | G17: =+ROUND(E17*F17,0) -> 554034
A18: 2 | C18: ESTRUCTURA DE PAVIMENTO | G18: =SUM(G19:G19,0) -> 8121842.6
A19: 2.1 | B19: 3.15 | C19: AFIRMADO | D19: M3 | E19: =+'Memorias de cantidades'!$I$24+'Memorias de cantidades'!$I$25 -> 72.2025 | F19: 112487 | G19: =+E19*F19 -> 8121842.6
A20: 3 | C20: EXPLANACIÓN Y EXCAVACIONES | G20: =SUM(G21:G21,0) -> 666039.11
A21: 3.1 | B21: 2.13 | C21: EXCAVACIONES VARIAS EN MATERIAL COMÚN SECO A MANO (INCLUYE RETIRO DE SOBRANTES A UNA DISTANCIA MENOR DE 5 KM) | D21: M3 | E21: =+SUM('Memorias de cantidades'!I49:I54) -> 10.1925 | F21: 65346 | G21: =E21*F21 -> 666039.11
A22: 4 | C22: OBRAS DE ARTE | G22: =SUM(G23:G26,0) -> 76504468
A23: 4.1 | B23: 4.6 | C23: CONCRETOS CLASE D, f´c =3000 PSI (BASES) | D23: M3 | E23: =+SUM('Memorias de cantidades'!I93:I98) -> 35.04075 | F23: 769961 | G23: =E23*F23 -> 26980011
A24: 4.2 | B24: 4.25 | C24: CONCRETO CICLÓPEO CLASE G, 2000 PSI 40% RAJON PARA BASES | D24: M3 | E24: =+SUM('Memorias de cantidades'!I126:I129) -> 18.3825 | F24: 551205 | G24: =E24*F24 -> 10132526
A25: 4.3 | B25: 4.21 | C25: CUNETA DE CONCRETO CLASE E, 2500 PSI FUNDIDA EN EL LUGAR | D25: M3 | E25: =+SUM('Memorias de cantidades'!I156:I159) -> 21.2598 | F25: 625846 | G25: =E25*F25 -> 13305361
A26: 4.4 | B26: 4.52 | C26: SUMINISTRO FIGURADO Y ARMADO DE ACERO DE REFUERZO 60000 PSI | D26: KG | E26: =+SUM('Memorias de cantidades'!I182:I203) -> 3281.3296 | F26: 7950 | G26: =E26*F26 -> 26086570
A27: EL HATO SECTOR LA QUINTA | G27: =SUM(G28,G30,G32,G34) -> 77367432
A28: 1 | C28: MANTENIMIENTO VIAL | G28: =SUM(G29:G29,0) -> 529086
A29: 1.1 | B29: 6.1 | C29: CONFORMACIÓN DE LA CALZADA EXISTENTE | D29: M2 | E29: =+'Memorias de cantidades'!$I$9 -> 459.675 | F29: 1151 | G29: =+ROUND(E29*F29,0) -> 529086
A30: 2 | C30: ESTRUCTURA DE PAVIMENTO | G30: =SUM(G31:G31,0) -> 7756119.3
A31: 2.1 | B31: 3.15 | C31: AFIRMADO | D31: M3 | E31: =+'Memorias de cantidades'!I27 -> 68.95125 | F31: 112487 | G31: =+E31*F31 -> 7756119.3
A32: 3 | C32: EXPLANACIÓN Y EXCAVACIONES | G32: =SUM(G33:G33,0) -> 562236.98
A33: 3.1 | B33: 2.13 | C33: EXCAVACIONES VARIAS EN MATERIAL COMÚN SECO A MANO (INCLUYE RETIRO DE SOBRANTES A UNA DISTANCIA MENOR DE 5 KM) | D33: M3 | E33: =+SUM('Memorias de cantidades'!I56:I58) -> 8.604 | F33: 65346 | G33: =E33*F33 -> 562236.98
A34: 4 | C34: OBRAS DE ARTE | G34: =SUM(G35:G38,0) -> 68519990
A35: 4.1 | B35: 4.6 | C35: CONCRETOS CLASE D, f´c =3000 PSI (BASES) | D35: M3 | E35: =+SUM('Memorias de cantidades'!I100:I102) -> 31.086 | F35: 769961 | G35: =E35*F35 -> 23935008
A36: 4.2 | B36: 4.25 | C36: CONCRETO CICLÓPEO CLASE G, 2000 PSI 40% RAJON PARA BASES | D36: M3 | E36: =+SUM('Memorias de cantidades'!I131:I132) -> 21.16125 | F36: 551205 | G36: =E36*F36 -> 11664187
A37: 4.3 | B37: 4.21 | C37: CUNETA DE CONCRETO CLASE E, 2500 PSI FUNDIDA EN EL LUGAR | D37: M3 | E37: =+SUM('Memorias de cantidades'!I161:I162) -> 18.9999 | F37: 625846 | G37: =E37*F37 -> 11891011
A38: 4.4 | B38: 4.52 | C38: SUMINISTRO FIGURADO Y ARMADO DE ACERO DE REFUERZO 60000 PSI | D38: KG | E38: =+SUM('Memorias de cantidades'!I217:I227) -> 2645.2558 | F38: 7950 | G38: =E38*F38 -> 21029784
A39: RANCHERIA SECTOR LAS CUCHILLAS | G39: =SUM(G40,G42,G44,G46) -> 72081035
A40: 1 | C40: MANTENIMIENTO VIAL | G40: =SUM(G41:G41,0) -> 482470
A41: 1.1 | B41: 6.1 | C41: CONFORMACIÓN DE LA CALZADA EXISTENTE | D41: M2 | E41: =+'Memorias de cantidades'!I11 -> 419.175 | F41: 1151 | G41: =+ROUND(E41*F41,0) -> 482470
A42: 2 | C42: ESTRUCTURA DE PAVIMENTO | G42: =SUM(G43:G43,0) -> 7072760.7
A43: 2.1 | B43: 3.15 | C43: AFIRMADO | D43: M3 | E43: =+'Memorias de cantidades'!I29 -> 62.87625 | F43: 112487 | G43: =+E43*F43 -> 7072760.7
A44: 3 | C44: EXPLANACIÓN Y EXCAVACIONES | G44: =SUM(G45:G45,0) -> 526950.14
A45: 3.1 | B45: 2.13 | C45: EXCAVACIONES VARIAS EN MATERIAL COMÚN SECO A MANO (INCLUYE RETIRO DE SOBRANTES A UNA DISTANCIA MENOR DE 5 KM) | D45: M3 | E45: =+SUM('Memorias de cantidades'!I60:I62) -> 8.064 | F45: 65346 | G45: =E45*F45 -> 526950.14
A46: 4 | C46: OBRAS DE ARTE | G46: =SUM(G47:G50,0) -> 63998854
A47: 4.1 | B47: 4.6 | C47: CONCRETOS CLASE D, f´c =3000 PSI (BASES) | D47: M3 | E47: =+SUM('Memorias de cantidades'!I104:I106) -> 28.40625 | F47: 769961 | G47: =E47*F47 -> 21871705
A48: 4.2 | B48: 4.25 | C48: CONCRETO CICLÓPEO CLASE G, 2000 PSI 40% RAJON PARA BASES | D48: M3 | E48: =+SUM('Memorias de cantidades'!I134:I135) -> 19.2375 | F48: 551205 | G48: =E48*F48 -> 10603806
...

Sheet Memorias de cantidades
A1: ='PRESUPUESTO OFICIAL (Entidad)'!A12:G13 -> #VALUE!
A3: ITEM | B3: LOCALIZACION | C3: DIMENSIONES | F3: AREA | G3: UNIDADES TOTALES | H3: CANT | I3: PARCIAL | J3: TOTAL | K3: UNID.
A4: =+'PRESUPUESTO OFICIAL (Entidad)'!A17 -> 1.1 | C4: LARGO/RADIO PROM | D4: ANCHO PROM | E4: ALTO/ESP
A5: =+'PRESUPUESTO OFICIAL (Entidad)'!C17 -> CONFORMACIÓN DE LA CALZADA EXISTENTE | B5: LA JORLA
B6: TRAMO 1 | C6: 90.15 | D6: 4 | F6: =+PRODUCT(C6:E6) -> 360.6 | H6: 1 | I6: =+F6*H6 -> 360.6
B7: TRAMO 2 | C7: 24.15 | D7: 5 | F7: =+PRODUCT(C7:E7) -> 120.75 | H7: 1 | I7: =+H7*F7 -> 120.75
B8: El hato CORLHASES
B9: El hato CORLHASES | C9: 102.15 | D9: 4.5 | F9: =+PRODUCT(C9:E9) -> 459.675 | H9: 1 | I9: =+F9*H9 -> 459.675
B10: RANCHERIA LAGUNETA
B11: RANCHERIA LAGUNETA | C11: 93.15 | D11: 4.5 | F11: =+PRODUCT(C11:E11) -> 419.175 | H11: 1 | I11: =+F11*H11 -> 419.175
B12: LA RINCONADA EL HATO
B13: LA RINCONADA EL HATO | C13: 72.15 | D13: 5.9 | F13: =+PRODUCT(C13:E13) -> 425.685 | H13: 1 | I13: =+F13*H13 -> 425.685
J19: =SUM(I6:I18,0) -> 1785.885 | K19: M2
A21: ITEM | B21: LOCALIZACION | C21: DIMENSIONES | F21: VOL | G21: UNIDADES TOTALES | H21: CANT | I21: PARCIAL | J21: TOTAL | K21: UNID.
A22: =+'PRESUPUESTO OFICIAL (Entidad)'!A19 -> 2.1 | C22: LARGO/RADIO PROM | D22: ANCHO PROM | E22: ALTO/ESP
A23: =+'PRESUPUESTO OFICIAL (Entidad)'!C19 -> AFIRMADO | B23: LA JORLA
B24: TRAMO 1 | C24: 90.15 | D24: 4 | E24: 0.15 | F24: =+PRODUCT(C24:E24) -> 54.09 | H24: 1 | I24: =+F24*H24 -> 54.09
B25: TRAMO 2 | C25: 24.15 | D25: 5 | E25: 0.15 | F25: =+PRODUCT(C25:E25) -> 18.1125 | H25: 1 | I25: =+H25*F25 -> 18.1125
B26: El hato CORLHASES
B27: El hato CORLHASES | C27: 102.15 | D27: 4.5 | E27: 0.15 | F27: =+PRODUCT(C27:E27) -> 68.95125 | H27: 1 | I27: =+F27*H27 -> 68.95125
B28: RANCHERIA LAGUNETA
B29: RANCHERIA LAGUNETA | C29: 93.15 | D29: 4.5 | E29: 0.15 | F29: =+PRODUCT(C29:E29) -> 62.87625 | H29: 1 | I29: =+F29*H29 -> 62.87625
B30: LA RINCONADA EL HATO
B31: LA RINCONADA EL HATO | C31: 72.15 | D31: 5.9 | E31: 0.15 | F31: =+PRODUCT(C31:E31) -> 63.85275 | H31: 1 | I31: =+F31*H31 -> 63.85275
J44: =SUM(I24:I43,0) -> 267.88275 | K44: M3
A46: ITEM | B46: LOCALIZACION | C46: DIMENSIONES | F46: VOL | G46: UNIDADES TOTALES | H46: CANT | I46: PARCIAL | J46: TOTAL | K46: UNID.
A47: =+'PRESUPUESTO OFICIAL (Entidad)'!A21 -> 3.1 | C47: LARGO/RADIO PROM | D47: ANCHO PROM | E47: ALTO/ESP
A48: =+'PRESUPUESTO OFICIAL (Entidad)'!C21 -> EXCAVACIONES VARIAS EN MATERIAL COMÚN SECO A MANO (INCLUYE RETIRO DE SOBRANTES A UNA DISTANCIA MENOR DE 5 KM) | B48: LA JORLA
B49: VIGAS TRAMO 1 | C49: 2.85 | D49: 0.15 | E49: 0.1 | F49: =+PRODUCT(C49:E49) -> 0.04275 | H49: 30 | I49: =+F49*H49 -> 1.2825
B50: CUNETAS TRAMO 1 | C50: 90.15 | D50: 0.6 | E50: 0.05 | F50: =+PRODUCT(C50:E50) -> 2.7045 | H50: 2 | I50: =+F50*H50 -> 5.409
B51: RAMPAS TRAMO 1 | C51: 3 | D51: 2.85 | E51: 0.08 | F51: =+PRODUCT(C51:E51) -> 0.684 | H51: 1 | I51: =+F51*H51 -> 0.684
B52: VIGAS TRAMO 2 | C52: 3.8 | D52: 0.15 | E52: 0.1 | F52: =+PRODUCT(C52:E52) -> 0.057 | H52: 8 | I52: =+F52*H52 -> 0.456
B53: CUNETAS TRAMO 2 | C53: 24.15 | D53: 0.6 | E53: 0.05 | F53: =+PRODUCT(C53:E53) -> 0.7245 | H53: 2 | I53: =+F53*H53 -> 1.449
B54: RAMPAS TRAMO 2 | C54: 3 | D54: 3.8 | E54: 0.08 | F54: =+PRODUCT(C54:E54) -> 0.912 | H54: 1 | I54: =+F54*H54 -> 0.912
B55: El hato CORLHASES
B56: vigas | C56: 3.3 | D56: 0.15 | E56: 0.1 | F56: =+PRODUCT(C56:E56) -> 0.0495 | H56: 34 | I56: =+F56*H56 -> 1.683
B57: cunetas | C57: 102.15 | D57: 0.6 | E57: 0.05 | F57: =+PRODUCT(C57:E57) -> 3.0645 | H57: 2 | I57: =+F57*H57 -> 6.129
B58: rampas | C58: 3 | D58: 3.3 | E58: 0.08 | F58: =+PRODUCT(C58:E58) -> 0.792 | H58: 1 | I58: =+F58*H58 -> 0.792
B59: RANCHERIA LAGUNETA
B60: vigas | C60: 3.3 | D60: 0.15 | E60: 0.1 | F60: =+PRODUCT(C60:E60) -> 0.0495 | H60: 34 | I60: =+F60*H60 -> 1.683
...

Sheet PROPUESTA ECONOMICA(Proponente)
A1: FORMULARIO 1
A4: PROPUESTA ECONOMICA
A6: [La entidad puede utilizar este formulario de presentación de propuesta económica de forma detallada, sin perjuicio que la entidad pueda modificarlo o establecer la presentación de la oferta económica con un formulario distinto al indicado.]
A8: Adicionalmente, cuando el proceso de contratación es estructurado por precios unitarios, la Entidad debe aplicar las notas 1, 2 y 3 del presente formulario y las casillas de "Descripción", "Porcentaje" de la Administración, Imprevisto, Utilidad y total A.I.U. resaltadas en colo amarillo. Tratándose de otras modalidades de precio, la Entidad puede o no configurar los mismos aspectos.
A12: ' CONSTRUCCION DE PLACA HUELLAS EN SECTORES RURALES DEL MUNICIPIO DE SESQUILÉ CUNDINAMARCA.''
A14: ÍTEM | B14: ÍTEM ICCU | C14: DESCRIPCIÓN | D14: UNIDAD | E14: CANTIDADES | F14: VALOR UNITARIO | G14: VALOR TOTAL
A15: NESCUATÁ SECTOR LA JORLA
A16: 1 | C16: MANTENIMIENTO VIAL | G16: =SUM(G17:G17,0) -> 0
A17: 1.1 | B17: 6.1 | C17: CONFORMACIÓN DE LA CALZADA EXISTENTE | D17: M2 | E17: =+'Memorias de cantidades'!$I$6+'Memorias de cantidades'!$I$7 -> 481.35
A18: 2 | C18: ESTRUCTURA DE PAVIMENTO
A19: 2.1 | B19: 3.15 | C19: AFIRMADO | D19: M3 | E19: =+'Memorias de cantidades'!$I$24+'Memorias de cantidades'!$I$25 -> 72.2025
A20: 3 | C20: EXPLANACIÓN Y EXCAVACIONES
A21: 3.1 | B21: 2.13 | C21: EXCAVACIONES VARIAS EN MATERIAL COMÚN SECO A MANO (INCLUYE RETIRO DE SOBRANTES A UNA DISTANCIA MENOR DE 5 KM) | D21: M3 | E21: =+SUM('Memorias de cantidades'!I49:I54) -> 10.1925
A22: 4 | C22: OBRAS DE ARTE
A23: 4.1 | B23: 4.6 | C23: CONCRETOS CLASE D, f´c =3000 PSI (BASES) | D23: M3 | E23: =+SUM('Memorias de cantidades'!I93:I98) -> 35.04075
A24: 4.2 | B24: 4.25 | C24: CONCRETO CICLÓPEO CLASE G, 2000 PSI 40% RAJON PARA BASES | D24: M3 | E24: =+SUM('Memorias de cantidades'!I126:I129) -> 18.3825
A25: 4.3 | B25: 4.21 | C25: CUNETA DE CONCRETO CLASE E, 2500 PSI FUNDIDA EN EL LUGAR | D25: M3 | E25: =+SUM('Memorias de cantidades'!I156:I159) -> 21.2598
A26: 4.4 | B26: 4.52 | C26: SUMINISTRO FIGURADO Y ARMADO DE ACERO DE REFUERZO 60000 PSI | D26: KG | E26: =+SUM('Memorias de cantidades'!I182:I203) -> 3281.3296
A27: EL HATO SECTOR LA QUINTA
A28: 1 | C28: MANTENIMIENTO VIAL
A29: 1.1 | B29: 6.1 | C29: CONFORMACIÓN DE LA CALZADA EXISTENTE | D29: M2 | E29: =+'Memorias de cantidades'!$I$9 -> 459.675
A30: 2 | C30: ESTRUCTURA DE PAVIMENTO
A31: 2.1 | B31: 3.15 | C31: AFIRMADO | D31: M3 | E31: =+'Memorias de cantidades'!I27 -> 68.95125
A32: 3 | C32: EXPLANACIÓN Y EXCAVACIONES
A33: 3.1 | B33: 2.13 | C33: EXCAVACIONES VARIAS EN MATERIAL COMÚN SECO A MANO (INCLUYE RETIRO DE SOBRANTES A UNA DISTANCIA MENOR DE 5 KM) | D33: M3 | E33: =+SUM('Memorias de cantidades'!I56:I58) -> 8.604
A34: 4 | C34: OBRAS DE ARTE
A35: 4.1 | B35: 4.6 | C35: CONCRETOS CLASE D, f´c =3000 PSI (BASES) | D35: M3 | E35: =+SUM('Memorias de cantidades'!I100:I102) -> 31.086
A36: 4.2 | B36: 4.25 | C36: CONCRETO CICLÓPEO CLASE G, 2000 PSI 40% RAJON PARA BASES | D36: M3 | E36: =+SUM('Memorias de cantidades'!I131:I132) -> 21.16125
A37: 4.3 | B37: 4.21 | C37: CUNETA DE CONCRETO CLASE E, 2500 PSI FUNDIDA EN EL LUGAR | D37: M3 | E37: =+SUM('Memorias de cantidades'!I161:I162) -> 18.9999
A38: 4.4 | B38: 4.52 | C38: SUMINISTRO FIGURADO Y ARMADO DE ACERO DE REFUERZO 60000 PSI | D38: KG | E38: =+SUM('Memorias de cantidades'!I217:I227) -> 2645.2558
A39: RANCHERIA SECTOR LAS CUCHILLAS
A40: 1 | C40: MANTENIMIENTO VIAL
A41: 1.1 | B41: 6.1 | C41: CONFORMACIÓN DE LA CALZADA EXISTENTE | D41: M2 | E41: =+'Memorias de cantidades'!I11 -> 419.175
A42: 2 | C42: ESTRUCTURA DE PAVIMENTO
A43: 2.1 | B43: 3.15 | C43: AFIRMADO | D43: M3 | E43: =+'Memorias de cantidades'!I29 -> 62.87625
A44: 3 | C44: EXPLANACIÓN Y EXCAVACIONES
A45: 3.1 | B45: 2.13 | C45: EXCAVACIONES VARIAS EN MATERIAL COMÚN SECO A MANO (INCLUYE RETIRO DE SOBRANTES A UNA DISTANCIA MENOR DE 5 KM) | D45: M3 | E45: =+SUM('Memorias de cantidades'!I60:I62) -> 8.064
A46: 4 | C46: OBRAS DE ARTE
A47: 4.1 | B47: 4.6 | C47: CONCRETOS CLASE D, f´c =3000 PSI (BASES) | D47: M3 | E47: =+SUM('Memorias de cantidades'!I104:I106) -> 28.40625
A48: 4.2 | B48: 4.25 | C48: CONCRETO CICLÓPEO CLASE G, 2000 PSI 40% RAJON PARA BASES | D48: M3 | E48: =+SUM('Memorias de cantidades'!I134:I135) -> 19.2375
...
