Workbook

Sheet CONSOLIDADO
A2: ALCALDIA LOCAL DE USAQUEN
C4: OBJETO DE CONTRATO | E4: ='DATOS INICIALES'!D2 -> "INTERVENTORÍA TÉCNICA, ADMINISTRATIVA, FINANCIERA, JURÍDICA, AMBIENTAL Y SOCIAL AL CONTRATO DE OBRA PÚBLICA RESULTANTE DEL PROCESO DE LICITACIÓN PÚBLICA CUYO OBJETO ES: CONTRATAR POR EL SISTEMA DE PRECIOS UNITARIOS Y A MONTO AGOTABLE LA INTERVENCIÓN DE LOS ELEMENTOS DE LA MALLA VIAL LOCAL E INTERMEDIA Y/O ESPACIO PÚBLICO DE LA LOCALIDAD DE USAQUÉN EN BOGOTÁ CON OBRAS Y ACTIVIDADES DE CONSERVACIÓN"
C5: VALOR DEL CONTRATO | E5: ='DATOS INICIALES'!G4 -> FDLUSA-CMA-003-2025 | J5: ='DATOS INICIALES'!C5 -> 1404008910
A7: =CONCATENATE("RESUMEN DE EVALUACIÓN REQUISITOS HABILITANTES - ",'DATOS INICIALES'!G4) -> RESUMEN DE EVALUACIÓN REQUISITOS HABILITANTES - FDLUSA-CMA-003-2025
A9: No. | B9: NOMBRE DEL PROPONENTE | C9: CANTIDAD DE INTEGRANTES | D9: % PARTICIPACION | E9: EVALUACIÓN TÉCNICA | G9: EVALUACIÓN JURÍDICA | H9: EVALUACIÓN FINANCIERA | I9: OFERTA ECONOMICA | J9: RESULTADO EVALUACIÓN | K9: OBSERVACIONES
A11: 1 | B11: =+PROPONENTES!B10 -> GRUPO METRO COLOMBIA SAS | C11: =+PROPONENTES!M10 -> 1 | D11: =+PROPONENTES!N10 -> 1 | E11: =+'1'!$I$11 -> CUMPLE | G11: CUMPLE | H11: CUMPLE | I11: CUMPLE | J11: =IF(AND(E11="",G11="",H11="",I11=""),"",IF(AND(E11="CUMPLE",G11="CUMPLE",H11="CUMPLE",I11="CUMPLE"),"HABILITADO","INHABILITADO")) -> HABILITADO
A12: 2 | B12: =+PROPONENTES!B11 -> CONSORCIO INTERVIAS USAQUEN AI | C12: =+PROPONENTES!M11 -> 2 | D12: =+PROPONENTES!N11 -> 1 | E12: =+'2'!$I$11 -> CUMPLE | G12: CUMPLE | H12: CUMPLE | I12: CUMPLE | J12: =IF(AND(E12="",G12="",H12="",I12=""),"",IF(AND(E12="CUMPLE",G12="CUMPLE",H12="CUMPLE",I12="CUMPLE"),"HABILITADO","INHABILITADO")) -> HABILITADO
A13: 3 | B13: =+PROPONENTES!B12 -> CONSORCIO PROYECTA VIAL | C13: =+PROPONENTES!M12 -> 2 | D13: =+PROPONENTES!N12 -> 1 | E13: =+'3'!$I$11 -> CUMPLE | G13: CUMPLE | H13: CUMPLE | I13: CUMPLE | J13: =IF(AND(E13="",G13="",H13="",I13=""),"",IF(AND(E13="CUMPLE",G13="CUMPLE",H13="CUMPLE",I13="CUMPLE"),"HABILITADO","INHABILITADO")) -> HABILITADO
A14: 4 | B14: =+PROPONENTES!B13 -> PROYECTOS E INTERVENTORIAS S.A.S. | C14: =+PROPONENTES!M13 -> 1 | D14: =+PROPONENTES!N13 -> 1 | E14: =+'4'!$I$11 -> CUMPLE | G14: CUMPLE | H14: CUMPLE | I14: CUMPLE | J14: =IF(AND(E14="",G14="",H14="",I14=""),"",IF(AND(E14="CUMPLE",G14="CUMPLE",H14="CUMPLE",I14="CUMPLE"),"HABILITADO","INHABILITADO")) -> HABILITADO
A15: 5 | B15: =+PROPONENTES!B14 -> CONSORCIO GAB VIAL USAQUEN 2025 | C15: =+PROPONENTES!M14 -> 2 | D15: =+PROPONENTES!N14 -> 1 | E15: =+'5'!$I$11 -> CUMPLE | G15: CUMPLE | H15: CUMPLE | I15: CUMPLE | J15: =IF(AND(E15="",G15="",H15="",I15=""),"",IF(AND(E15="CUMPLE",G15="CUMPLE",H15="CUMPLE",I15="CUMPLE"),"HABILITADO","INHABILITADO")) -> HABILITADO
A16: 6 | B16: =+PROPONENTES!B15 -> CONSORCIO INTER TS 03 | C16: =+PROPONENTES!M15 -> 2 | D16: =+PROPONENTES!N15 -> 1 | E16: =+'6'!$I$11 -> CUMPLE | G16: CUMPLE | H16: CUMPLE | I16: CUMPLE | J16: =IF(AND(E16="",G16="",H16="",I16=""),"",IF(AND(E16="CUMPLE",G16="CUMPLE",H16="CUMPLE",I16="CUMPLE"),"HABILITADO","INHABILITADO")) -> HABILITADO
A17: 7 | B17: =+PROPONENTES!B16 -> CONSORCIO PB | C17: =+PROPONENTES!M16 -> 2 | D17: =+PROPONENTES!N16 -> 1 | E17: =+'7'!$I$11 -> NO CUMPLE | G17: CUMPLE | H17: CUMPLE | I17: NO CUMPLE | J17: =IF(AND(E17="",G17="",H17="",I17=""),"",IF(AND(E17="CUMPLE",G17="CUMPLE",H17="CUMPLE",I17="CUMPLE"),"HABILITADO","INHABILITADO")) -> INHABILITADO | K17: No subsano
A18: 8 | B18: =+PROPONENTES!B17 -> Inveler Consultoría S.A.S. | C18: =+PROPONENTES!M17 -> 1 | D18: =+PROPONENTES!N17 -> 1 | E18: =+'8'!$I$11 -> NO CUMPLE | G18: CUMPLE | H18: CUMPLE | I18: NO CUMPLE | J18: =IF(AND(E18="",G18="",H18="",I18=""),"",IF(AND(E18="CUMPLE",G18="CUMPLE",H18="CUMPLE",I18="CUMPLE"),"HABILITADO","INHABILITADO")) -> INHABILITADO | K18: No subsano
A19: 9 | B19: =+PROPONENTES!B18 -> CONSORCIO VYE USAQUÉN | C19: =+PROPONENTES!M18 -> 2 | D19: =+PROPONENTES!N18 -> 1 | E19: =+'9'!$I$11 -> CUMPLE | G19: CUMPLE | H19: CUMPLE | I19: CUMPLE | J19: =IF(AND(E19="",G19="",H19="",I19=""),"",IF(AND(E19="CUMPLE",G19="CUMPLE",H19="CUMPLE",I19="CUMPLE"),"HABILITADO","INHABILITADO")) -> HABILITADO
A20: 10 | B20: =+PROPONENTES!B19 -> CONSORCIO INGENIERIA PROES LATAM | C20: =+PROPONENTES!M19 -> 2 | D20: =+PROPONENTES!N19 -> 1 | E20: =+'10'!$I$11 -> CUMPLE | G20: CUMPLE | H20: CUMPLE | I20: CUMPLE | J20: =IF(AND(E20="",G20="",H20="",I20=""),"",IF(AND(E20="CUMPLE",G20="CUMPLE",H20="CUMPLE",I20="CUMPLE"),"HABILITADO","INHABILITADO")) -> HABILITADO
A21: 11 | B21: =+PROPONENTES!B20 -> COMPAÑÍA DE PROYECTOS TÉCNICOS CPT S.A. | C21: =+PROPONENTES!M20 -> 1 | D21: =+PROPONENTES!N20 -> 1 | E21: =+'11'!$I$11 -> CUMPLE | G21: CUMPLE | H21: CUMPLE | I21: CUMPLE | J21: =IF(AND(E21="",G21="",H21="",I21=""),"",IF(AND(E21="CUMPLE",G21="CUMPLE",H21="CUMPLE",I21="CUMPLE"),"HABILITADO","INHABILITADO")) -> HABILITADO
A22: 12 | B22: =+PROPONENTES!B21 -> CONSORCIO 3797 KAPROY USAQUEN | C22: =+PROPONENTES!M21 -> 2 | D22: =+PROPONENTES!N21 -> 1 | E22: =+'12'!$I$11 -> CUMPLE | G22: CUMPLE | H22: CUMPLE | I22: CUMPLE | J22: =IF(AND(E22="",G22="",H22="",I22=""),"",IF(AND(E22="CUMPLE",G22="CUMPLE",H22="CUMPLE",I22="CUMPLE"),"HABILITADO","INHABILITADO")) -> HABILITADO
A23: 13 | B23: =+PROPONENTES!B22 -> CONSORCIO MIRALTA | C23: =+PROPONENTES!M22 -> 2 | D23: =+PROPONENTES!N22 -> 1 | E23: =+'13'!$I$11 -> CUMPLE | G23: CUMPLE | H23: CUMPLE | I23: CUMPLE | J23: =IF(AND(E23="",G23="",H23="",I23=""),"",IF(AND(E23="CUMPLE",G23="CUMPLE",H23="CUMPLE",I23="CUMPLE"),"HABILITADO","INHABILITADO")) -> HABILITADO
A24: 14 | B24: =+PROPONENTES!B23 -> INT TERRA | C24: =+PROPONENTES!M23 -> 1 | D24: =+PROPONENTES!N23 -> 1 | E24: =+'14'!$I$11 -> CUMPLE | G24: CUMPLE | H24: CUMPLE | I24: CUMPLE | J24: =IF(AND(E24="",G24="",H24="",I24=""),"",IF(AND(E24="CUMPLE",G24="CUMPLE",H24="CUMPLE",I24="CUMPLE"),"HABILITADO","INHABILITADO")) -> HABILITADO
A25: 15 | B25: =+PROPONENTES!B24 -> CONSORCIO SAN RAFAEL | C25: =+PROPONENTES!M24 -> 2 | D25: =+PROPONENTES!N24 -> 1 | E25: =+'15'!$I$11 -> CUMPLE | G25: CUMPLE | H25: CUMPLE | I25: CUMPLE | J25: =IF(AND(E25="",G25="",H25="",I25=""),"",IF(AND(E25="CUMPLE",G25="CUMPLE",H25="CUMPLE",I25="CUMPLE"),"HABILITADO","INHABILITADO")) -> HABILITADO
A26: 16 | B26: =+PROPONENTES!B25 -> CONSORCIO INTER MALLA USAQUEN | C26: =+PROPONENTES!M25 -> 2 | D26: =+PROPONENTES!N25 -> 1 | E26: =+'16'!$I$11 -> CUMPLE | G26: CUMPLE | H26: NO CUMPLE | I26: CUMPLE | J26: =IF(AND(E26="",G26="",H26="",I26=""),"",IF(AND(E26="CUMPLE",G26="CUMPLE",H26="CUMPLE",I26="CUMPLE"),"HABILITADO","INHABILITADO")) -> INHABILITADO
A27: 17 | B27: =+PROPONENTES!B26 -> GAVINCO INGENIEROS CONSULTORES SAS | C27: =+PROPONENTES!M26 -> 1 | D27: =+PROPONENTES!N26 -> 1 | E27: =+'17'!$I$11 -> CUMPLE | G27: CUMPLE | H27: CUMPLE | I27: CUMPLE | J27: =IF(AND(E27="",G27="",H27="",I27=""),"",IF(AND(E27="CUMPLE",G27="CUMPLE",H27="CUMPLE",I27="CUMPLE"),"HABILITADO","INHABILITADO")) -> HABILITADO
A28: 18 | B28: =+PROPONENTES!B27 -> INGEOCILCON S.A.S. | C28: =+PROPONENTES!M27 -> 1 | D28: =+PROPONENTES!N27 -> 1 | E28: =+'18'!$I$11 -> CUMPLE | G28: CUMPLE | H28: CUMPLE | I28: CUMPLE | J28: =IF(AND(E28="",G28="",H28="",I28=""),"",IF(AND(E28="CUMPLE",G28="CUMPLE",H28="CUMPLE",I28="CUMPLE"),"HABILITADO","INHABILITADO")) -> HABILITADO
A29: 19 | B29: =+PROPONENTES!B28 -> CONSORCIO TORCA | C29: =+PROPONENTES!M28 -> 3 | D29: =+PROPONENTES!N28 -> 1 | E29: =+'19'!$I$11 -> CUMPLE | G29: CUMPLE | H29: CUMPLE | I29: CUMPLE | J29: =IF(AND(E29="",G29="",H29="",I29=""),"",IF(AND(E29="CUMPLE",G29="CUMPLE",H29="CUMPLE",I29="CUMPLE"),"HABILITADO","INHABILITADO")) -> HABILITADO
A30: 20 | B30: =+PROPONENTES!B29 -> CONSORCIO INTER USAQUEN JGK | C30: =+PROPONENTES!M29 -> 2 | D30: =+PROPONENTES!N29 -> 1 | E30: =+'20'!$I$11 -> CUMPLE | G30: CUMPLE | H30: CUMPLE | I30: CUMPLE | J30: =IF(AND(E30="",G30="",H30="",I30=""),"",IF(AND(E30="CUMPLE",G30="CUMPLE",H30="CUMPLE",I30="CUMPLE"),"HABILITADO","INHABILITADO")) -> HABILITADO
A31: 21 | B31: =+PROPONENTES!B30 -> CONSORCIO LGI USAQUÉN | C31: =+PROPONENTES!M30 -> 2 | D31: =+PROPONENTES!N30 -> 1 | E31: =+'21'!$I$11 -> CUMPLE | G31: CUMPLE | H31: CUMPLE | I31: CUMPLE | J31: =IF(AND(E31="",G31="",H31="",I31=""),"",IF(AND(E31="CUMPLE",G31="CUMPLE",H31="CUMPLE",I31="CUMPLE"),"HABILITADO","INHABILITADO")) -> HABILITADO
A32: 22 | B32: =+PROPONENTES!B31 -> CONSORCIO INTERDESARROLLO USAQUÉN | C32: =+PROPONENTES!M31 -> 2 | D32: =+PROPONENTES!N31 -> 1 | E32: =+'22'!$I$11 -> CUMPLE | G32: CUMPLE | H32: CUMPLE | I32: CUMPLE | J32: =IF(AND(E32="",G32="",H32="",I32=""),"",IF(AND(E32="CUMPLE",G32="CUMPLE",H32="CUMPLE",I32="CUMPLE"),"HABILITADO","INHABILITADO")) -> HABILITADO
A33: 23 | B33: =+PROPONENTES!B32 -> COBA B&C SAS | C33: =+PROPONENTES!M32 -> 1 | D33: =+PROPONENTES!N32 -> 1 | E33: =+'23'!$I$11 -> CUMPLE | G33: CUMPLE | H33: CUMPLE | I33: CUMPLE | J33: =IF(AND(E33="",G33="",H33="",I33=""),"",IF(AND(E33="CUMPLE",G33="CUMPLE",H33="CUMPLE",I33="CUMPLE"),"HABILITADO","INHABILITADO")) -> HABILITADO
A34: 24 | B34: =+PROPONENTES!B33 -> CONSORCIO USAQUEN 3M | C34: =+PROPONENTES!M33 -> 3 | D34: =+PROPONENTES!N33 -> 1 | E34: =+'24'!$I$11 -> CUMPLE | G34: CUMPLE | H34: CUMPLE | I34: CUMPLE | J34: =IF(AND(E34="",G34="",H34="",I34=""),"",IF(AND(E34="CUMPLE",G34="CUMPLE",H34="CUMPLE",I34="CUMPLE"),"HABILITADO","INHABILITADO")) -> HABILITADO
A35: 25 | B35: =+PROPONENTES!B34 -> CB INGENIEROS SAS | C35: =+PROPONENTES!M34 -> 1 | D35: =+PROPONENTES!N34 -> 1 | E35: =+'25'!$I$11 -> CUMPLE | G35: CUMPLE | H35: CUMPLE | I35: CUMPLE | J35: =IF(AND(E35="",G35="",H35="",I35=""),"",IF(AND(E35="CUMPLE",G35="CUMPLE",H35="CUMPLE",I35="CUMPLE"),"HABILITADO","INHABILITADO")) -> HABILITADO
A36: 26 | B36: =+PROPONENTES!B35 -> PD USAQUEN | C36: =+PROPONENTES!M35 -> 2 | D36: =+PROPONENTES!N35 -> 1 | E36: =+'26'!$I$11 -> CUMPLE | G36: CUMPLE | H36: CUMPLE | I36: CUMPLE | J36: =IF(AND(E36="",G36="",H36="",I36=""),"",IF(AND(E36="CUMPLE",G36="CUMPLE",H36="CUMPLE",I36="CUMPLE"),"HABILITADO","INHABILITADO")) -> HABILITADO
A37: 27 | B37: =+PROPONENTES!B36 -> VICOS USAQUEN | C37: =+PROPONENTES!M36 -> 3 | D37: =+PROPONENTES!N36 -> 1 | E37: =+'27'!$I$11 -> CUMPLE | G37: CUMPLE | H37: CUMPLE | I37: CUMPLE | J37: =IF(AND(E37="",G37="",H37="",I37=""),"",IF(AND(E37="CUMPLE",G37="CUMPLE",H37="CUMPLE",I37="CUMPLE"),"HABILITADO","INHABILITADO")) -> HABILITADO
A38: 28 | B38: =+PROPONENTES!B37 -> CONSORCIO INTERVENTORIA COANDINA | C38: =+PROPONENTES!M37 -> 2 | D38: =+PROPONENTES!N37 -> 1 | E38: =+'28'!$I$11 -> CUMPLE | G38: CUMPLE | H38: CUMPLE | I38: CUMPLE | J38: =IF(AND(E38="",G38="",H38="",I38=""),"",IF(AND(E38="CUMPLE",G38="CUMPLE",H38="CUMPLE",I38="CUMPLE"),"HABILITADO","INHABILITADO")) -> HABILITADO
A39: 29 | B39: =+PROPONENTES!B38 -> CONSORCIO USAQUEN AVANZA MIC | C39: =+PROPONENTES!M38 -> 3 | D39: =+PROPONENTES!N38 -> 1 | E39: =+'29'!$I$11 -> CUMPLE | G39: CUMPLE | H39: CUMPLE | I39: CUMPLE | J39: =IF(AND(E39="",G39="",H39="",I39=""),"",IF(AND(E39="CUMPLE",G39="CUMPLE",H39="CUMPLE",I39="CUMPLE"),"HABILITADO","INHABILITADO")) -> HABILITADO
A40: 30 | B40: =+PROPONENTES!B39 -> CONSORCIO INTER-USAQUEN 003 HCPC | C40: =+PROPONENTES!M39 -> 3 | D40: =+PROPONENTES!N39 -> 1 | E40: =+'30'!$I$11 -> CUMPLE | G40: CUMPLE | H40: CUMPLE | I40: CUMPLE | J40: =IF(AND(E40="",G40="",H40="",I40=""),"",IF(AND(E40="CUMPLE",G40="CUMPLE",H40="CUMPLE",I40="CUMPLE"),"HABILITADO","INHABILITADO")) -> HABILITADO
A41: 31 | B41: =+PROPONENTES!B40 -> CONSORCIO VIAS USA 2025 | C41: =+PROPONENTES!M40 -> 2 | D41: =+PROPONENTES!N40 -> 1 | E41: =+'31'!$I$11 -> CUMPLE | G41: CUMPLE | H41: CUMPLE | I41: CUMPLE | J41: =IF(AND(E41="",G41="",H41="",I41=""),"",IF(AND(E41="CUMPLE",G41="CUMPLE",H41="CUMPLE",I41="CUMPLE"),"HABILITADO","INHABILITADO")) -> HABILITADO
A42: 32 | B42: =+PROPONENTES!B41 -> CONSORCIO VIAL TAED USAQUEN | C42: =+PROPONENTES!M41 -> 2 | D42: =+PROPONENTES!N41 -> 1 | E42: =+'32'!$I$11 -> NO CUMPLE | G42: CUMPLE | H42: CUMPLE | I42: CUMPLE | J42: =IF(AND(E42="",G42="",H42="",I42=""),"",IF(AND(E42="CUMPLE",G42="CUMPLE",H42="CUMPLE",I42="CUMPLE"),"HABILITADO","INHABILITADO")) -> INHABILITADO | K42: No subsano
A43: 33 | B43: =+PROPONENTES!B42 -> COLOMBOINGENIERIA S.A.S. | C43: =+PROPONENTES!M42 -> 1 | D43: =+PROPONENTES!N42 -> 1 | E43: =+'33'!$I$11 -> NO CUMPLE | G43: CUMPLE | H43: CUMPLE | I43: CUMPLE | J43: =IF(AND(E43="",G43="",H43="",I43=""),"",IF(AND(E43="CUMPLE",G43="CUMPLE",H43="CUMPLE",I43="CUMPLE"),"HABILITADO","INHABILITADO")) -> INHABILITADO | K43: No subsano
A44: 34 | B44: =+PROPONENTES!B43 -> URBANO - USAQUEN 03 | C44: =+PROPONENTES!M43 -> 2 | D44: =+PROPONENTES!N43 -> 1 | E44: =+'34'!$I$11 -> CUMPLE | G44: NO CUMPLE | H44: CUMPLE | I44: CUMPLE | J44: =IF(AND(E44="",G44="",H44="",I44=""),"",IF(AND(E44="CUMPLE",G44="CUMPLE",H44="CUMPLE",I44="CUMPLE"),"HABILITADO","INHABILITADO")) -> INHABILITADO
A45: 35 | B45: =+PROPONENTES!B44 -> CONSORCIO INTERUSAQUEN RH | C45: =+PROPONENTES!M44 -> 2 | D45: =+PROPONENTES!N44 -> 1 | E45: =+'35'!$I$11 -> CUMPLE | G45: CUMPLE | H45: CUMPLE | I45: CUMPLE | J45: =IF(AND(E45="",G45="",H45="",I45=""),"",IF(AND(E45="CUMPLE",G45="CUMPLE",H45="CUMPLE",I45="CUMPLE"),"HABILITADO","INHABILITADO")) -> HABILITADO
...

Sheet PONDERACION
A2: =+'DATOS INICIALES'!A1:I1 -> ALCALDIA LOCAL DE USAQUEN
C4: OBJETO DE CONTRATO | G4: ='DATOS INICIALES'!D2 -> "INTERVENTORÍA TÉCNICA, ADMINISTRATIVA, FINANCIERA, JURÍDICA, AMBIENTAL Y SOCIAL AL CONTRATO DE OBRA PÚBLICA RESULTANTE DEL PROCESO DE LICITACIÓN PÚBLICA CUYO OBJETO ES: CONTRATAR POR EL SISTEMA DE PRECIOS UNITARIOS Y A MONTO AGOTABLE LA INTERVENCIÓN DE LOS ELEMENTOS DE LA MALLA VIAL LOCAL E INTERMEDIA Y/O ESPACIO PÚBLICO DE LA LOCALIDAD DE USAQUÉN EN BOGOTÁ CON OBRAS Y ACTIVIDADES DE CONSERVACIÓN"
C5: VALOR DEL CONTRATO | G5: ='DATOS INICIALES'!G4 -> FDLUSA-CMA-003-2025 | L5: ='DATOS INICIALES'!C5 -> 1404008910
A7: =CONCATENATE("RESUMEN DE EVALUACIÓN PUNTAJE - ",'DATOS INICIALES'!G4) -> RESUMEN DE EVALUACIÓN PUNTAJE - FDLUSA-CMA-003-2025
A9: No. | B9: NOMBRE DEL PROPONENTE | C9: REQUISITOS HABILITANTES | D9: PUNTAJE EXPERIENCIA DEL PROPONENTE 67,5 puntos | E9: PUNTAJE EQUIPO DE TRABAJO (personal clave evaluable) 10 puntos | F9: FACTOR DE SOSTENIBILIDAD 1 punto | G9: PUNTAJE APOYO A LA INDUSTRIA NACIONAL 20 puntos | H9: PUNTAJE VINCULACION DE PERSONAS CON DISCAPACIDAD 1 punto | I9: PUNTAJE EMPRENDIMIENTOS Y EMPRESAS DE MUJERES 0,25 puntos | J9: PUNTAJE MIPYME 0,25 puntos | K9: PUNTAJE TOTAL | L9: ORDEN DE ELEGIBILIDAD | M9: OBSERVACIONES
E10: FORMATO 9 | F10: FORMATO 12 | G10: FORMATO 7 | H10: FORMATO 6 | I10: FORMATO 13
A12: 1 | B12: =+PROPONENTES!B10 -> GRUPO METRO COLOMBIA SAS | C12: =CONSOLIDADO!J11 -> HABILITADO | D12: 63.52355 | E12: 10 | F12: 1 | G12: 20 | H12: 1 | I12: 0.25 | J12: 0.25 | K12: =SUM(D12:J12) -> 96.02355 | L12: =RANK(K12,$K$12:$K$105,0) -> 19
A13: 2 | B13: =+PROPONENTES!B11 -> CONSORCIO INTERVIAS USAQUEN AI | C13: =CONSOLIDADO!J12 -> HABILITADO | D13: 61.567243 | E13: 10 | F13: 1 | G13: 20 | H13: 1 | I13: 0.25 | J13: 0.25 | K13: =SUM(D13:J13) -> 94.067243 | L13: =RANK(K13,$K$12:$K$105,0) -> 30
A14: 3 | B14: =+PROPONENTES!B12 -> CONSORCIO PROYECTA VIAL | C14: =CONSOLIDADO!J13 -> HABILITADO | D14: 65.600973 | E14: 10 | F14: 1 | G14: 20 | H14: 1 | I14: 0.25 | J14: 0.25 | K14: =SUM(D14:J14) -> 98.100973 | L14: =RANK(K14,$K$12:$K$105,0) -> 12
A15: 4 | B15: =+PROPONENTES!B13 -> PROYECTOS E INTERVENTORIAS S.A.S. | C15: =CONSOLIDADO!J14 -> HABILITADO | D15: 49.93661 | E15: 10 | F15: 1 | G15: 20 | H15: 1 | I15: 0.25 | J15: 0.25 | K15: =SUM(D15:J15) -> 82.43661 | L15: =RANK(K15,$K$12:$K$105,0) -> 53
A16: 5 | B16: =+PROPONENTES!B14 -> CONSORCIO GAB VIAL USAQUEN 2025 | C16: =CONSOLIDADO!J15 -> HABILITADO | D16: 48.599114 | E16: 10 | F16: 1 | G16: 20 | H16: 1 | I16: 0.25 | J16: 0.25 | K16: =SUM(D16:J16) -> 81.099114 | L16: =RANK(K16,$K$12:$K$105,0) -> 56
A17: 6 | B17: =+PROPONENTES!B15 -> CONSORCIO INTER TS 03 | C17: =CONSOLIDADO!J16 -> HABILITADO | D17: 54.337329 | E17: 10 | F17: 1 | G17: 20 | H17: 1 | I17: 0.25 | J17: 0.25 | K17: =SUM(D17:J17) -> 86.837329 | L17: =RANK(K17,$K$12:$K$105,0) -> 43
A18: 7 | B18: =+PROPONENTES!B16 -> CONSORCIO PB | C18: =CONSOLIDADO!J17 -> INHABILITADO | D18: INHABILITADO | E18: 10 | F18: 1 | G18: 20 | H18: 0 | I18: 0.25 | J18: 0.25 | K18: =SUM(D18:J18) -> 31.5 | L18: =RANK(K18,$K$12:$K$105,0) -> 90 | M18: EL CERTIFICADO DE DISCAPACIDAD ES APORTADO POR LA EMPRESA BALANCE E INGENIERIA SAS. PERO A LA EVALUACIÓN NO CUMPLE CON EL REQUISITO DEL PLIEGO DE APORTAR EL 40% DE LA EXPERIENCIA EXIGIDA
A19: 8 | B19: =+PROPONENTES!B17 -> Inveler Consultoría S.A.S. | C19: =CONSOLIDADO!J18 -> INHABILITADO | D19: INHABILITADO | E19: 10 | F19: 1 | G19: 20 | H19: 1 | I19: 0.25 | J19: 0.25 | K19: =SUM(D19:J19) -> 32.5 | L19: =RANK(K19,$K$12:$K$105,0) -> 70
A20: 9 | B20: =+PROPONENTES!B18 -> CONSORCIO VYE USAQUÉN | C20: =CONSOLIDADO!J19 -> HABILITADO | D20: 57.263736 | E20: 10 | F20: 1 | G20: 20 | H20: 1 | I20: 0.25 | J20: 0.25 | K20: =SUM(D20:J20) -> 89.763736 | L20: =RANK(K20,$K$12:$K$105,0) -> 35
A21: 10 | B21: =+PROPONENTES!B19 -> CONSORCIO INGENIERIA PROES LATAM | C21: =CONSOLIDADO!J20 -> HABILITADO | D21: 0 | E21: 10 | F21: 1 | G21: 20 | H21: 1 | I21: 0 | J21: 0.25 | K21: =SUM(D21:J21) -> 32.25 | L21: =RANK(K21,$K$12:$K$105,0) -> 87 | M21: NO SE ENCONTRO EL FORMATO 13 EMPRENDIMIENTOS Y EMPRESAS DE MUJERES
A22: 11 | B22: =+PROPONENTES!B20 -> COMPAÑÍA DE PROYECTOS TÉCNICOS CPT S.A. | C22: =CONSOLIDADO!J21 -> HABILITADO | D22: 66.682833 | E22: 10 | F22: 1 | G22: 20 | H22: 1 | I22: 0.25 | J22: 0.25 | K22: =SUM(D22:J22) -> 99.182833 | L22: =RANK(K22,$K$12:$K$105,0) -> 8
A23: 12 | B23: =+PROPONENTES!B21 -> CONSORCIO 3797 KAPROY USAQUEN | C23: =CONSOLIDADO!J22 -> HABILITADO | D23: 62.952964 | E23: 10 | F23: 1 | G23: 20 | H23: 1 | I23: 0.25 | J23: 0.25 | K23: =SUM(D23:J23) -> 95.452964 | L23: =RANK(K23,$K$12:$K$105,0) -> 23
A24: 13 | B24: =+PROPONENTES!B22 -> CONSORCIO MIRALTA | C24: =CONSOLIDADO!J23 -> HABILITADO | D24: 65.914787 | E24: 10 | F24: 1 | G24: 20 | H24: 1 | I24: 0.25 | J24: 0.25 | K24: =SUM(D24:J24) -> 98.414787 | L24: =RANK(K24,$K$12:$K$105,0) -> 10
A25: 14 | B25: =+PROPONENTES!B23 -> INT TERRA | C25: =CONSOLIDADO!J24 -> HABILITADO | D25: 62.272594 | E25: 10 | F25: 1 | G25: 20 | H25: 1 | I25: 0.25 | J25: 0.25 | K25: =SUM(D25:J25) -> 94.772594 | L25: =RANK(K25,$K$12:$K$105,0) -> 28
A26: 15 | B26: =+PROPONENTES!B24 -> CONSORCIO SAN RAFAEL | C26: =CONSOLIDADO!J25 -> HABILITADO | D26: 57.575203 | E26: 10 | F26: 1 | G26: 20 | H26: 1 | I26: 0.25 | J26: 0.25 | K26: =SUM(D26:J26) -> 90.075203 | L26: =RANK(K26,$K$12:$K$105,0) -> 34
A27: 16 | B27: =+PROPONENTES!B25 -> CONSORCIO INTER MALLA USAQUEN | C27: =CONSOLIDADO!J26 -> INHABILITADO | D27: INHABILITADO | E27: 10 | F27: 1 | G27: 20 | H27: 1 | I27: 0.25 | J27: 0.25 | K27: =SUM(D27:J27) -> 32.5 | L27: =RANK(K27,$K$12:$K$105,0) -> 70
A28: 17 | B28: =+PROPONENTES!B26 -> GAVINCO INGENIEROS CONSULTORES SAS | C28: =CONSOLIDADO!J27 -> HABILITADO | D28: 53.031936 | E28: 10 | F28: 1 | G28: 20 | H28: 1 | I28: 0.25 | J28: 0.25 | K28: =SUM(D28:J28) -> 85.531936 | L28: =RANK(K28,$K$12:$K$105,0) -> 45
A29: 18 | B29: =+PROPONENTES!B27 -> INGEOCILCON S.A.S. | C29: =CONSOLIDADO!J28 -> HABILITADO | D29: 48.568417 | E29: 10 | F29: 1 | G29: 20 | H29: 1 | I29: 0.25 | J29: 0.25 | K29: =SUM(D29:J29) -> 81.068417 | L29: =RANK(K29,$K$12:$K$105,0) -> 57
A30: 19 | B30: =+PROPONENTES!B28 -> CONSORCIO TORCA | C30: =CONSOLIDADO!J29 -> HABILITADO | D30: 62.753565 | E30: 10 | F30: 1 | G30: 20 | H30: 1 | I30: 0.25 | J30: 0.25 | K30: =SUM(D30:J30) -> 95.253565 | L30: =RANK(K30,$K$12:$K$105,0) -> 25
A31: 20 | B31: =+PROPONENTES!B29 -> CONSORCIO INTER USAQUEN JGK | C31: =CONSOLIDADO!J30 -> HABILITADO | D31: 48.079444 | E31: 10 | F31: 1 | G31: 20 | H31: 1 | I31: 0.25 | J31: 0.25 | K31: =SUM(D31:J31) -> 80.579444 | L31: =RANK(K31,$K$12:$K$105,0) -> 59
A32: 21 | B32: =+PROPONENTES!B30 -> CONSORCIO LGI USAQUÉN | C32: =CONSOLIDADO!J31 -> HABILITADO | D32: 62.603648 | E32: 10 | F32: 1 | G32: 20 | H32: 1 | I32: 0.25 | J32: 0.25 | K32: =SUM(D32:J32) -> 95.103648 | L32: =RANK(K32,$K$12:$K$105,0) -> 26
A33: 22 | B33: =+PROPONENTES!B31 -> CONSORCIO INTERDESARROLLO USAQUÉN | C33: =CONSOLIDADO!J32 -> HABILITADO | D33: 56.379799 | E33: 10 | F33: 1 | G33: 20 | H33: 1 | I33: 0.25 | J33: 0.25 | K33: =SUM(D33:J33) -> 88.879799 | L33: =RANK(K33,$K$12:$K$105,0) -> 36
A34: 23 | B34: =+PROPONENTES!B32 -> COBA B&C SAS | C34: =CONSOLIDADO!J33 -> HABILITADO | D34: 66.566401 | E34: 10 | F34: 1 | G34: 20 | H34: 1 | I34: 0.25 | J34: 0.25 | K34: =SUM(D34:J34) -> 99.066401 | L34: =RANK(K34,$K$12:$K$105,0) -> 9
A35: 24 | B35: =+PROPONENTES!B33 -> CONSORCIO USAQUEN 3M | C35: =CONSOLIDADO!J34 -> HABILITADO | D35: 63.990235 | E35: 10 | F35: 1 | G35: 20 | H35: 1 | I35: 0.25 | J35: 0.25 | K35: =SUM(D35:J35) -> 96.490235 | L35: =RANK(K35,$K$12:$K$105,0) -> 17
A36: 25 | B36: =+PROPONENTES!B34 -> CB INGENIEROS SAS | C36: =CONSOLIDADO!J35 -> HABILITADO | D36: 65.678967 | E36: 10 | F36: 1 | G36: 20 | H36: 1 | I36: 0.25 | J36: 0.25 | K36: =SUM(D36:J36) -> 98.178967 | L36: =RANK(K36,$K$12:$K$105,0) -> 11
A37: 26 | B37: =+PROPONENTES!B35 -> PD USAQUEN | C37: =CONSOLIDADO!J36 -> HABILITADO | D37: 52.954463 | E37: 10 | F37: 1 | G37: 20 | H37: 1 | I37: 0.25 | J37: 0.25 | K37: =SUM(D37:J37) -> 85.454463 | L37: =RANK(K37,$K$12:$K$105,0) -> 46
A38: 27 | B38: =+PROPONENTES!B36 -> VICOS USAQUEN | C38: =CONSOLIDADO!J37 -> HABILITADO | D38: 52.29318 | E38: 10 | F38: 1 | G38: 20 | H38: 1 | I38: 0.25 | J38: 0.25 | K38: =SUM(D38:J38) -> 84.79318 | L38: =RANK(K38,$K$12:$K$105,0) -> 50
A39: 28 | B39: =+PROPONENTES!B37 -> CONSORCIO INTERVENTORIA COANDINA | C39: =CONSOLIDADO!J38 -> HABILITADO | D39: 67.066384 | E39: 10 | F39: 1 | G39: 20 | H39: 1 | I39: 0.25 | J39: 0.25 | K39: =SUM(D39:J39) -> 99.566384 | L39: =RANK(K39,$K$12:$K$105,0) -> 3
... A42: 31 | B42: =+PROPONENTES!B40 -> CONSORCIO VIAS USA 2025 | C42: =CONSOLIDADO!J41 -> HABILITADO | D42: 54.989954 | E42: 10 | F42: 1 | G42: 20 | H42: 1 | I42: 0.25 | J42: 0.25 | K42: =SUM(D42:J42) -> 87.489954 | L42: =RANK(K42,$K$12:$K$105,0) -> 41
A43: 32 | B43: =+PROPONENTES!B41 -> CONSORCIO VIAL TAED USAQUEN | C43: =CONSOLIDADO!J42 -> INHABILITADO | D43: INHABILITADO | E43: 10 | F43: 1 | G43: 20 | H43: 0 | I43: 0.25 | J43: 0.25 | K43: =SUM(D43:J43) -> 31.5 | L43: =RANK(K43,$K$12:$K$105,0) -> 90 | M43: No se evidencian formatos de PUNTAJE VINCULACION DE PERSONAS CON DISCAPACIDAD
A44: 33 | B44: =+PROPONENTES!B42 -> COLOMBOINGENIERIA S.A.S. | C44: =CONSOLIDADO!J43 -> INHABILITADO | D44: INHABILITADO | E44: 10 | F44: 1 | G44: 20 | H44: 0 | I44: 0.25 | J44: 0.25 | K44: =SUM(D44:J44) -> 31.5 | L44: =RANK(K44,$K$12:$K$105,0) -> 90 | M44: No se evidencian formatos de PUNTAJE VINCULACION DE PERSONAS CON DISCAPACIDAD
A45: 34 | B45: =+PROPONENTES!B43 -> URBANO - USAQUEN 03 | C45: =CONSOLIDADO!J44 -> INHABILITADO | D45: INHABILITADO | E45: 10 | F45: 1 | G45: 20 | H45: 1 | I45: 0.25 | J45: 0.25 | K45: =SUM(D45:J45) -> 32.5 | L45: =RANK(K45,$K$12:$K$105,0) -> 70
A46: 35 | B46: =+PROPONENTES!B44 -> CONSORCIO INTERUSAQUEN RH | C46: =CONSOLIDADO!J45 -> HABILITADO | D46: 61.32072 | E46: 10 | F46: 1 | G46: 20 | H46: 1 | I46: 0.25 | J46: 0.25 | K46: =SUM(D46:J46) -> 93.82072 | L46: =RANK(K46,$K$12:$K$105,0) -> 31
A47: 36 | B47: =+PROPONENTES!B45 -> CONSORCIO USAQUEN 2025 | C47: =CONSOLIDADO!J46 -> HABILITADO | D47: 49.715175 | E47: 10 | F47: 1 | G47: 20 | H47: 1 | I47: 0.25 | J47: 0.25 | K47: =SUM(D47:J47) -> 82.215175 | L47: =RANK(K47,$K$12:$K$105,0) -> 54
...

Sheet PUNTAJE EXP
A1: METODO | B1: =IF(AND(A5>=0,A5<=0.33),"MEDIANA CON VALOR ABSOLUTO",IF(AND(A5>=0.34,A5<=0.66),"MEDIA GEOMETRICA",IF(AND(A5>=0.67,A5<=0.99),"MEDIA ARITMETICA ALTA",))) -> MEDIA GEOMETRICA | E1: =CONCATENATE("PUNTAJE EXPERIENCIA DEL PROPONENTE",'DATOS INICIALES'!G4) -> PUNTAJE EXPERIENCIA DEL PROPONENTE FDLUSA-CMA-003-2025
A2: TRM | E2: Me | F2: =MEDIAN(D7:D100) -> 2002.085 | G2: MG | H2: =GEOMEAN(D7:D100) -> 2020.2782 | I2: Promedio | J2: =AVERAGE(D7:D100) -> 2173.7152
A3: 3861.34 | E3: Vme | F3: {=MAX(IF(D7:D90<$F$2,D7:D90))} -> 1996.87 | G3: Mas cercano | H3: =VLOOKUP(MIN(C7:C91),C7:D100,2,FALSE) -> 2021.6172 | I3: Maximo Valor | J3: =MAX(D7:H100) -> 6605.172
A4: DECIMAL | E4: =COUNT(D7:D100) -> 74 | F4: =IF(ISODD(E4),"IMPAR","PAR") -> PAR | I4: Media A. Alta | J4: =AVERAGE(J2:J3) -> 4389.4436
A5: 0.34 | E5: PUNTAJE MAX | F5: 67.5 | G5: PUNTAJE MAX | H5: 67.5 | I5: PUNTAJE MAX | J5: 67.5
A6: N° | B6: OFERENTE | C6: DIFERENCIA MEDIA GEOMETRICA | D6: VALOR PROMEDIO DE EXPERIENCIA (SLMMV) | E6: MEDIA ARITMETICA ALTA PUNTAJE | G6: MEDIA GEOMETRICA PUNTAJE | I6: MEDIA ARITMETICA ALTA PUNTAJE
A7: 1 | B7: =+PROPONENTES!B10 -> GRUPO METRO COLOMBIA SAS | C7: =IF(D7="","",ABS(D7-$H$2)) -> 119.01534 | D7: =IF(AND(CONSOLIDADO!J11="HABILITADO",'1'!$L$16>0),'1'!$L$16,"") -> 1901.2628 | E7: =IF(D7="","",IF($F$4="IMPAR",IF(D7=$F$2,$F$5,((1-ABS(($F$2-D7)/$F$2))*$F$5)),IF(D7=$F$3,$F$5,((1-ABS((($F$3-D7)/$F$3)))*$F$5)))) -> 64.2682 | G7: =IF(D7="","",IF(D7=$H$3,$H$5,$H$5*(1-((ABS($H$2-D7))/$H$2)))) -> 63.52355 | I7: =IF(D7="","",IF(D7<=$J$4,$J$5*(1-(($J$4-D7)/$J$4)),$J$5*(1-(2*((ABS($J$4-D7))/$J$4))))) -> 29.237245
A8: 2 | B8: =+PROPONENTES!B11 -> CONSORCIO INTERVIAS USAQUEN AI | C8: =IF(D8="","",ABS(D8-$H$2)) -> 177.56768 | D8: =IF(AND(CONSOLIDADO!J12="HABILITADO",'2'!$L$16>0),'2'!$L$16,"") -> 2197.8458 | E8: =IF(D8="","",IF($F$4="IMPAR",IF(D8=$F$2,$F$5,((1-ABS(($F$2-D8)/$F$2))*$F$5)),IF(D8=$F$3,$F$5,((1-ABS((($F$3-D8)/$F$3)))*$F$5)))) -> 60.706434 | G8: =IF(D8="","",IF(D8=$H$3,$H$5,$H$5*(1-((ABS($H$2-D8))/$H$2)))) -> 61.567243 | I8: =IF(D8="","",IF(D8<=$J$4,$J$5*(1-(($J$4-D8)/$J$4)),$J$5*(1-(2*((ABS($J$4-D8))/$J$4))))) -> 33.798041
A9: 3 | B9: =+PROPONENTES!B12 -> CONSORCIO PROYECTA VIAL | C9: =IF(D9="","",ABS(D9-$H$2)) -> 56.837971 | D9: =IF(AND(CONSOLIDADO!J13="HABILITADO",'3'!$L$16>0),'3'!$L$16,"") -> 2077.1161 | E9: =IF(D9="","",IF($F$4="IMPAR",IF(D9=$F$2,$F$5,((1-ABS(($F$2-D9)/$F$2))*$F$5)),IF(D9=$F$3,$F$5,((1-ABS((($F$3-D9)/$F$3)))*$F$5)))) -> 64.787448 | G9: =IF(D9="","",IF(D9=$H$3,$H$5,$H$5*(1-((ABS($H$2-D9))/$H$2)))) -> 65.600973 | I9: =IF(D9="","",IF(D9<=$J$4,$J$5*(1-(($J$4-D9)/$J$4)),$J$5*(1-(2*((ABS($J$4-D9))/$J$4))))) -> 31.941483
A10: 4 | B10: =+PROPONENTES!B13 -> PROYECTOS E INTERVENTORIAS S.A.S. | C10: =IF(D10="","",ABS(D10-$H$2)) -> 525.67309 | D10: =IF(AND(CONSOLIDADO!J14="HABILITADO",'4'!$L$16>0),'4'!$L$16,"") -> 1494.6051 | E10: =IF(D10="","",IF($F$4="IMPAR",IF(D10=$F$2,$F$5,((1-ABS(($F$2-D10)/$F$2))*$F$5)),IF(D10=$F$3,$F$5,((1-ABS((($F$3-D10)/$F$3)))*$F$5)))) -> 50.521988 | G10: =IF(D10="","",IF(D10=$H$3,$H$5,$H$5*(1-((ABS($H$2-D10))/$H$2)))) -> 49.93661 | I10: =IF(D10="","",IF(D10<=$J$4,$J$5*(1-(($J$4-D10)/$J$4)),$J$5*(1-(2*((ABS($J$4-D10))/$J$4))))) -> 22.983742
A11: 5 | B11: =+PROPONENTES!B14 -> CONSORCIO GAB VIAL USAQUEN 2025 | C11: =IF(D11="","",ABS(D11-$H$2)) -> 565.7044 | D11: =IF(AND(CONSOLIDADO!J15="HABILITADO",'5'!$L$16>0),'5'!$L$16,"") -> 1454.5738 | E11: =IF(D11="","",IF($F$4="IMPAR",IF(D11=$F$2,$F$5,((1-ABS(($F$2-D11)/$F$2))*$F$5)),IF(D11=$F$3,$F$5,((1-ABS((($F$3-D11)/$F$3)))*$F$5)))) -> 49.168813 | G11: =IF(D11="","",IF(D11=$H$3,$H$5,$H$5*(1-((ABS($H$2-D11))/$H$2)))) -> 48.599114 | I11: =IF(D11="","",IF(D11<=$J$4,$J$5*(1-(($J$4-D11)/$J$4)),$J$5*(1-(2*((ABS($J$4-D11))/$J$4))))) -> 22.368149
A12: 6 | B12: =+PROPONENTES!B15 -> CONSORCIO INTER TS 03 | C12: =IF(D12="","",ABS(D12-$H$2)) -> 393.95935 | D12: =IF(AND(CONSOLIDADO!J16="HABILITADO",'6'!$L$16>0),'6'!$L$16,"") -> 2414.2375 | E12: =IF(D12="","",IF($F$4="IMPAR",IF(D12=$F$2,$F$5,((1-ABS(($F$2-D12)/$F$2))*$F$5)),IF(D12=$F$3,$F$5,((1-ABS((($F$3-D12)/$F$3)))*$F$5)))) -> 53.391767 | G12: =IF(D12="","",IF(D12=$H$3,$H$5,$H$5*(1-((ABS($H$2-D12))/$H$2)))) -> 54.337329 | I12: =IF(D12="","",IF(D12<=$J$4,$J$5*(1-(($J$4-D12)/$J$4)),$J$5*(1-(2*((ABS($J$4-D12))/$J$4))))) -> 37.125669
A13: 7 | B13: =+PROPONENTES!B16 -> CONSORCIO PB | C13: =IF(D13="","",ABS(D13-$H$2)) | D13: =IF(AND(CONSOLIDADO!J17="HABILITADO",'7'!$L$16>0),'7'!$L$16,"") | E13: =IF(D13="","",IF($F$4="IMPAR",IF(D13=$F$2,$F$5,((1-ABS(($F$2-D13)/$F$2))*$F$5)),IF(D13=$F$3,$F$5,((1-ABS((($F$3-D13)/$F$3)))*$F$5)))) | G13: =IF(D13="","",IF(D13=$H$3,$H$5,$H$5*(1-((ABS($H$2-D13))/$H$2)))) | I13: =IF(D13="","",IF(D13<=$J$4,$J$5*(1-(($J$4-D13)/$J$4)),$J$5*(1-(2*((ABS($J$4-D13))/$J$4)))))
A14: 8 | B14: =+PROPONENTES!B17 -> Inveler Consultoría S.A.S. | C14: =IF(D14="","",ABS(D14-$H$2)) | D14: =IF(AND(CONSOLIDADO!J18="HABILITADO",'8'!$L$16>0),'8'!$L$16,"") | E14: =IF(D14="","",IF($F$4="IMPAR",IF(D14=$F$2,$F$5,((1-ABS(($F$2-D14)/$F$2))*$F$5)),IF(D14=$F$3,$F$5,((1-ABS((($F$3-D14)/$F$3)))*$F$5)))) | G14: =IF(D14="","",IF(D14=$H$3,$H$5,$H$5*(1-((ABS($H$2-D14))/$H$2)))) | I14: =IF(D14="","",IF(D14<=$J$4,$J$5*(1-(($J$4-D14)/$J$4)),$J$5*(1-(2*((ABS($J$4-D14))/$J$4)))))
A15: 9 | B15: =+PROPONENTES!B18 -> CONSORCIO VYE USAQUÉN | C15: =IF(D15="","",ABS(D15-$H$2)) -> 306.37187 | D15: =IF(AND(CONSOLIDADO!J19="HABILITADO",'9'!$L$16>0),'9'!$L$16,"") -> 2326.65 | E15: =IF(D15="","",IF($F$4="IMPAR",IF(D15=$F$2,$F$5,((1-ABS(($F$2-D15)/$F$2))*$F$5)),IF(D15=$F$3,$F$5,((1-ABS((($F$3-D15)/$F$3)))*$F$5)))) -> 56.352478 | G15: =IF(D15="","",IF(D15=$H$3,$H$5,$H$5*(1-((ABS($H$2-D15))/$H$2)))) -> 57.263736 | I15: =IF(D15="","",IF(D15<=$J$4,$J$5*(1-(($J$4-D15)/$J$4)),$J$5*(1-(2*((ABS($J$4-D15))/$J$4))))) -> 35.778766
A16: 10 | B16: =+PROPONENTES!B19 -> CONSORCIO INGENIERIA PROES LATAM | C16: =IF(D16="","",ABS(D16-$H$2)) -> 2210.9759 | D16: =IF(AND(CONSOLIDADO!J20="HABILITADO",'10'!$L$16>0),'10'!$L$16,"") -> 4231.2541 | E16: =IF(D16="","",IF($F$4="IMPAR",IF(D16=$F$2,$F$5,((1-ABS(($F$2-D16)/$F$2))*$F$5)),IF(D16=$F$3,$F$5,((1-ABS((($F$3-D16)/$F$3)))*$F$5)))) -> -8.0286646 | G16: =IF(D16="","",IF(D16=$H$3,$H$5,$H$5*(1-((ABS($H$2-D16))/$H$2)))) -> -6.3714487 | I16: =IF(D16="","",IF(D16<=$J$4,$J$5*(1-(($J$4-D16)/$J$4)),$J$5*(1-(2*((ABS($J$4-D16))/$J$4))))) -> 65.067392
A17: 11 | B17: =+PROPONENTES!B20 -> COMPAÑÍA DE PROYECTOS TÉCNICOS CPT S.A. | C17: =IF(D17="","",ABS(D17-$H$2)) -> 24.457854 | D17: =IF(AND(CONSOLIDADO!J21="HABILITADO",'11'!$L$16>0),'11'!$L$16,"") -> 1995.8203 | E17: =IF(D17="","",IF($F$4="IMPAR",IF(D17=$F$2,$F$5,((1-ABS(($F$2-D17)/$F$2))*$F$5)),IF(D17=$F$3,$F$5,((1-ABS((($F$3-D17)/$F$3)))*$F$5)))) -> 67.464517 | G17: =IF(D17="","",IF(D17=$H$3,$H$5,$H$5*(1-((ABS($H$2-D17))/$H$2)))) -> 66.682833 | I17: =IF(D17="","",IF(D17<=$J$4,$J$5*(1-(($J$4-D17)/$J$4)),$J$5*(1-(2*((ABS($J$4-D17))/$J$4))))) -> 30.691332
A18: 12 | B18: =+PROPONENTES!B21 -> CONSORCIO 3797 KAPROY USAQUEN | C18: =IF(D18="","",ABS(D18-$H$2)) -> 136.09301 | D18: =IF(AND(CONSOLIDADO!J22="HABILITADO",'12'!$L$16>0),'12'!$L$16,"") -> 2156.3712 | E18: =IF(D18="","",IF($F$4="IMPAR",IF(D18=$F$2,$F$5,((1-ABS(($F$2-D18)/$F$2))*$F$5)),IF(D18=$F$3,$F$5,((1-ABS((($F$3-D18)/$F$3)))*$F$5)))) -> 62.108398 | G18: =IF(D18="","",IF(D18=$H$3,$H$5,$H$5*(1-((ABS($H$2-D18))/$H$2)))) -> 62.952964 | I18: =IF(D18="","",IF(D18<=$J$4,$J$5*(1-(($J$4-D18)/$J$4)),$J$5*(1-(2*((ABS($J$4-D18))/$J$4))))) -> 33.160251
A19: 13 | B19: =+PROPONENTES!B22 -> CONSORCIO MIRALTA | C19: =IF(D19="","",ABS(D19-$H$2)) -> 47.445487 | D19: =IF(AND(CONSOLIDADO!J23="HABILITADO",'13'!$L$16>0),'13'!$L$16,"") -> 1972.8327 | E19: =IF(D19="","",IF($F$4="IMPAR",IF(D19=$F$2,$F$5,((1-ABS(($F$2-D19)/$F$2))*$F$5)),IF(D19=$F$3,$F$5,((1-ABS((($F$3-D19)/$F$3)))*$F$5)))) -> 66.687468 | G19: =IF(D19="","",IF(D19=$H$3,$H$5,$H$5*(1-((ABS($H$2-D19))/$H$2)))) -> 65.914787 | I19: =IF(D19="","",IF(D19<=$J$4,$J$5*(1-(($J$4-D19)/$J$4)),$J$5*(1-(2*((ABS($J$4-D19))/$J$4))))) -> 30.337833
A20: 14 | B20: =+PROPONENTES!B23 -> INT TERRA | C20: =IF(D20="","",ABS(D20-$H$2)) -> 156.45651 | D20: =IF(AND(CONSOLIDADO!J24="HABILITADO",'14'!$L$16>0),'14'!$L$16,"") -> 2176.7347 | E20: =IF(D20="","",IF($F$4="IMPAR",IF(D20=$F$2,$F$5,((1-ABS(($F$2-D20)/$F$2))*$F$5)),IF(D20=$F$3,$F$5,((1-ABS((($F$3-D20)/$F$3)))*$F$5)))) -> 61.420052 | G20: =IF(D20="","",IF(D20=$H$3,$H$5,$H$5*(1-((ABS($H$2-D20))/$H$2)))) -> 62.272594 | I20: =IF(D20="","",IF(D20<=$J$4,$J$5*(1-(($J$4-D20)/$J$4)),$J$5*(1-(2*((ABS($J$4-D20))/$J$4))))) -> 33.473397
A21: 15 | B21: =+PROPONENTES!B24 -> CONSORCIO SAN RAFAEL | C21: =IF(D21="","",ABS(D21-$H$2)) -> 297.04965 | D21: =IF(AND(CONSOLIDADO!J25="HABILITADO",'15'!$L$16>0),'15'!$L$16,"") -> 2317.3278 | E21: =IF(D21="","",IF($F$4="IMPAR",IF(D21=$F$2,$F$5,((1-ABS(($F$2-D21)/$F$2))*$F$5)),IF(D21=$F$3,$F$5,((1-ABS((($F$3-D21)/$F$3)))*$F$5)))) -> 56.667597 | G21: =IF(D21="","",IF(D21=$H$3,$H$5,$H$5*(1-((ABS($H$2-D21))/$H$2)))) -> 57.575203 | I21: =IF(D21="","",IF(D21<=$J$4,$J$5*(1-(($J$4-D21)/$J$4)),$J$5*(1-(2*((ABS($J$4-D21))/$J$4))))) -> 35.635411
A22: 16 | B22: =+PROPONENTES!B25 -> CONSORCIO INTER MALLA USAQUEN | C22: =IF(D22="","",ABS(D22-$H$2)) | D22: =IF(AND(CONSOLIDADO!J26="HABILITADO",'16'!$L$16>0),'16'!$L$16,"") | E22: =IF(D22="","",IF($F$4="IMPAR",IF(D22=$F$2,$F$5,((1-ABS(($F$2-D22)/$F$2))*$F$5)),IF(D22=$F$3,$F$5,((1-ABS((($F$3-D22)/$F$3)))*$F$5)))) | G22: =IF(D22="","",IF(D22=$H$3,$H$5,$H$5*(1-((ABS($H$2-D22))/$H$2)))) | I22: =IF(D22="","",IF(D22<=$J$4,$J$5*(1-(($J$4-D22)/$J$4)),$J$5*(1-(2*((ABS($J$4-D22))/$J$4)))))
A23: 17 | B23: =+PROPONENTES!B26 -> GAVINCO INGENIEROS CONSULTORES SAS | C23: =IF(D23="","",ABS(D23-$H$2)) -> 433.02985 | D23: =IF(AND(CONSOLIDADO!J27="HABILITADO",'17'!$L$16>0),'17'!$L$16,"") -> 2453.308 | E23: =IF(D23="","",IF($F$4="IMPAR",IF(D23=$F$2,$F$5,((1-ABS(($F$2-D23)/$F$2))*$F$5)),IF(D23=$F$3,$F$5,((1-ABS((($F$3-D23)/$F$3)))*$F$5)))) -> 52.071071 | G23: =IF(D23="","",IF(D23=$H$3,$H$5,$H$5*(1-((ABS($H$2-D23))/$H$2)))) -> 53.031936 | I23: =IF(D23="","",IF(D23<=$J$4,$J$5*(1-(($J$4-D23)/$J$4)),$J$5*(1-(2*((ABS($J$4-D23))/$J$4))))) -> 37.726488
A24: 18 | B24: =+PROPONENTES!B27 -> INGEOCILCON S.A.S. | C24: =IF(D24="","",ABS(D24-$H$2)) -> 566.62315 | D24: =IF(AND(CONSOLIDADO!J28="HABILITADO",'18'!$L$16>0),'18'!$L$16,"") -> 1453.655 | E24: =IF(D24="","",IF($F$4="IMPAR",IF(D24=$F$2,$F$5,((1-ABS(($F$2-D24)/$F$2))*$F$5)),IF(D24=$F$3,$F$5,((1-ABS((($F$3-D24)/$F$3)))*$F$5)))) -> 49.137757 | G24: =IF(D24="","",IF(D24=$H$3,$H$5,$H$5*(1-((ABS($H$2-D24))/$H$2)))) -> 48.568417 | I24: =IF(D24="","",IF(D24<=$J$4,$J$5*(1-(($J$4-D24)/$J$4)),$J$5*(1-(2*((ABS($J$4-D24))/$J$4))))) -> 22.354021
A25: 19 | B25: =+PROPONENTES!B28 -> CONSORCIO TORCA | C25: =IF(D25="","",ABS(D25-$H$2)) -> 142.06101 | D25: =IF(AND(CONSOLIDADO!J29="HABILITADO",'19'!$L$16>0),'19'!$L$16,"") -> 2162.3392 | E25: =IF(D25="","",IF($F$4="IMPAR",IF(D25=$F$2,$F$5,((1-ABS(($F$2-D25)/$F$2))*$F$5)),IF(D25=$F$3,$F$5,((1-ABS((($F$3-D25)/$F$3)))*$F$5)))) -> 61.906662 | G25: =IF(D25="","",IF(D25=$H$3,$H$5,$H$5*(1-((ABS($H$2-D25))/$H$2)))) -> 62.753565 | I25: =IF(D25="","",IF(D25<=$J$4,$J$5*(1-(($J$4-D25)/$J$4)),$J$5*(1-(2*((ABS($J$4-D25))/$J$4))))) -> 33.252026
A26: 20 | B26: =+PROPONENTES!B29 -> CONSORCIO INTER USAQUEN JGK | C26: =IF(D26="","",ABS(D26-$H$2)) -> 581.25815 | D26: =IF(AND(CONSOLIDADO!J30="HABILITADO",'20'!$L$16>0),'20'!$L$16,"") -> 1439.02 | E26: =IF(D26="","",IF($F$4="IMPAR",IF(D26=$F$2,$F$5,((1-ABS(($F$2-D26)/$F$2))*$F$5)),IF(D26=$F$3,$F$5,((1-ABS((($F$3-D26)/$F$3)))*$F$5)))) -> 48.643051 | G26: =IF(D26="","",IF(D26=$H$3,$H$5,$H$5*(1-((ABS($H$2-D26))/$H$2)))) -> 48.079444 | I26: =IF(D26="","",IF(D26<=$J$4,$J$5*(1-(($J$4-D26)/$J$4)),$J$5*(1-(2*((ABS($J$4-D26))/$J$4))))) -> 22.128966
A27: 21 | B27: =+PROPONENTES!B30 -> CONSORCIO LGI USAQUÉN | C27: =IF(D27="","",ABS(D27-$H$2)) -> 146.54805 | D27: =IF(AND(CONSOLIDADO!J31="HABILITADO",'21'!$L$16>0),'21'!$L$16,"") -> 2166.8262 | E27: =IF(D27="","",IF($F$4="IMPAR",IF(D27=$F$2,$F$5,((1-ABS(($F$2-D27)/$F$2))*$F$5)),IF(D27=$F$3,$F$5,((1-ABS((($F$3-D27)/$F$3)))*$F$5)))) -> 61.754987 | G27: =IF(D27="","",IF(D27=$H$3,$H$5,$H$5*(1-((ABS($H$2-D27))/$H$2)))) -> 62.603648 | I27: =IF(D27="","",IF(D27<=$J$4,$J$5*(1-(($J$4-D27)/$J$4)),$J$5*(1-(2*((ABS($J$4-D27))/$J$4))))) -> 33.321027
A28: 22 | B28: =+PROPONENTES!B31 -> CONSORCIO INTERDESARROLLO USAQUÉN | C28: =IF(D28="","",ABS(D28-$H$2)) -> 332.82813 | D28: =IF(AND(CONSOLIDADO!J32="HABILITADO",'22'!$L$16>0),'22'!$L$16,"") -> 2353.1063 | E28: =IF(D28="","",IF($F$4="IMPAR",IF(D28=$F$2,$F$5,((1-ABS(($F$2-D28)/$F$2))*$F$5)),IF(D28=$F$3,$F$5,((1-ABS((($F$3-D28)/$F$3)))*$F$5)))) -> 55.45818 | G28: =IF(D28="","",IF(D28=$H$3,$H$5,$H$5*(1-((ABS($H$2-D28))/$H$2)))) -> 56.379799 | I28: =IF(D28="","",IF(D28<=$J$4,$J$5*(1-(($J$4-D28)/$J$4)),$J$5*(1-(2*((ABS($J$4-D28))/$J$4))))) -> 36.185605
A29: 23 | B29: =+PROPONENTES!B32 -> COBA B&C SAS | C29: =IF(D29="","",ABS(D29-$H$2)) -> 27.942654 | D29: =IF(AND(CONSOLIDADO!J33="HABILITADO",'23'!$L$16>0),'23'!$L$16,"") -> 1992.3355 | E29: =IF(D29="","",IF($F$4="IMPAR",IF(D29=$F$2,$F$5,((1-ABS(($F$2-D29)/$F$2))*$F$5)),IF(D29=$F$3,$F$5,((1-ABS((($F$3-D29)/$F$3)))*$F$5)))) -> 67.346721 | G29: =IF(D29="","",IF(D29=$H$3,$H$5,$H$5*(1-((ABS($H$2-D29))/$H$2)))) -> 66.566401 | I29: =IF(D29="","",IF(D29<=$J$4,$J$5*(1-(($J$4-D29)/$J$4)),$J$5*(1-(2*((ABS($J$4-D29))/$J$4))))) -> 30.637743
A30: 24 | B30: =+PROPONENTES!B33 -> CONSORCIO USAQUEN 3M | C30: =IF(D30="","",ABS(D30-$H$2)) -> 105.04744 | D30: =IF(AND(CONSOLIDADO!J34="HABILITADO",'24'!$L$16>0),'24'!$L$16,"") -> 1915.2307 | E30: =IF(D30="","",IF($F$4="IMPAR",IF(D30=$F$2,$F$5,((1-ABS(($F$2-D30)/$F$2))*$F$5)),IF(D30=$F$3,$F$5,((1-ABS((($F$3-D30)/$F$3)))*$F$5)))) -> 64.740355 | G30: =IF(D30="","",IF(D30=$H$3,$H$5,$H$5*(1-((ABS($H$2-D30))/$H$2)))) -> 63.990235 | I30: =IF(D30="","",IF(D30<=$J$4,$J$5*(1-(($J$4-D30)/$J$4)),$J$5*(1-(2*((ABS($J$4-D30))/$J$4))))) -> 29.452041
A31: 25 | B31: =+PROPONENTES!B34 -> CB INGENIEROS SAS | C31: =IF(D31="","",ABS(D31-$H$2)) -> 54.503596 | D31: =IF(AND(CONSOLIDADO!J35="HABILITADO",'25'!$L$16>0),'25'!$L$16,"") -> 2074.7818 | E31: =IF(D31="","",IF($F$4="IMPAR",IF(D31=$F$2,$F$5,((1-ABS(($F$2-D31)/$F$2))*$F$5)),IF(D31=$F$3,$F$5,((1-ABS((($F$3-D31)/$F$3)))*$F$5)))) -> 64.866357 | G31: =IF(D31="","",IF(D31=$H$3,$H$5,$H$5*(1-((ABS($H$2-D31))/$H$2)))) -> 65.678967 | I31: =IF(D31="","",IF(D31<=$J$4,$J$5*(1-(($J$4-D31)/$J$4)),$J$5*(1-(2*((ABS($J$4-D31))/$J$4))))) -> 31.905585
A32: 26 | B32: =+PROPONENTES!B35 -> PD USAQUEN | C32: =IF(D32="","",ABS(D32-$H$2)) -> 435.3486 | D32: =IF(AND(CONSOLIDADO!J36="HABILITADO",'26'!$L$16>0),'26'!$L$16,"") -> 2455.6267 | E32: =IF(D32="","",IF($F$4="IMPAR",IF(D32=$F$2,$F$5,((1-ABS(($F$2-D32)/$F$2))*$F$5)),IF(D32=$F$3,$F$5,((1-ABS((($F$3-D32)/$F$3)))*$F$5)))) -> 51.992691 | G32: =IF(D32="","",IF(D32=$H$3,$H$5,$H$5*(1-((ABS($H$2-D32))/$H$2)))) -> 52.954463 | I32: =IF(D32="","",IF(D32<=$J$4,$J$5*(1-(($J$4-D32)/$J$4)),$J$5*(1-(2*((ABS($J$4-D32))/$J$4))))) -> 37.762145
A33: 27 | B33: =+PROPONENTES!B36 -> VICOS USAQUEN | C33: =IF(D33="","",ABS(D33-$H$2)) -> 455.14082 | D33: =IF(AND(CONSOLIDADO!J37="HABILITADO",'27'!$L$16>0),'27'!$L$16,"") -> 1565.1373 | E33: =IF(D33="","",IF($F$4="IMPAR",IF(D33=$F$2,$F$5,((1-ABS(($F$2-D33)/$F$2))*$F$5)),IF(D33=$F$3,$F$5,((1-ABS((($F$3-D33)/$F$3)))*$F$5)))) -> 52.906183 | G33: =IF(D33="","",IF(D33=$H$3,$H$5,$H$5*(1-((ABS($H$2-D33))/$H$2)))) -> 52.29318 | I33: =IF(D33="","",IF(D33<=$J$4,$J$5*(1-(($J$4-D33)/$J$4)),$J$5*(1-(2*((ABS($J$4-D33))/$J$4))))) -> 24.068374
A34: 28 | B34: =+PROPONENTES!B37 -> CONSORCIO INTERVENTORIA COANDINA | C34: =IF(D34="","",ABS(D34-$H$2)) -> 12.978154 | D34: =IF(AND(CONSOLIDADO!J38="HABILITADO",'28'!$L$16>0),'28'!$L$16,"") -> 2007.3 | E34: =IF(D34="","",IF($F$4="IMPAR",IF(D34=$F$2,$F$5,((1-ABS(($F$2-D34)/$F$2))*$F$5)),IF(D34=$F$3,$F$5,((1-ABS((($F$3-D34)/$F$3)))*$F$5)))) -> 67.147436 | G34: =IF(D34="","",IF(D34=$H$3,$H$5,$H$5*(1-((ABS($H$2-D34))/$H$2)))) -> 67.066384 | I34: =IF(D34="","",IF(D34<=$J$4,$J$5*(1-(($J$4-D34)/$J$4)),$J$5*(1-(2*((ABS($J$4-D34))/$J$4))))) -> 30.867864
A35: 29 | B35: =+PROPONENTES!B38 -> CONSORCIO USAQUEN AVANZA MIC | C35: =IF(D35="","",ABS(D35-$H$2)) -> 124.16185 | D35: =IF(AND(CONSOLIDADO!J39="HABILITADO",'29'!$L$16>0),'29'!$L$16,"") -> 2144.44 | E35: =IF(D35="","",IF($F$4="IMPAR",IF(D35=$F$2,$F$5,((1-ABS(($F$2-D35)/$F$2))*$F$5)),IF(D35=$F$3,$F$5,((1-ABS((($F$3-D35)/$F$3)))*$F$5)))) -> 62.511706 | G35: =IF(D35="","",IF(D35=$H$3,$H$5,$H$5*(1-((ABS($H$2-D35))/$H$2)))) -> 63.351599 | I35: =IF(D35="","",IF(D35<=$J$4,$J$5*(1-(($J$4-D35)/$J$4)),$J$5*(1-(2*((ABS($J$4-D35))/$J$4))))) -> 32.976776
A36: 30 | B36: =+PROPONENTES!B39 -> CONSORCIO INTER-USAQUEN 003 HCPC | C36: =IF(D36="","",ABS(D36-$H$2)) -> 348.97799 | D36: =IF(AND(CONSOLIDADO!J40="HABILITADO",'30'!$L$16>0),'30'!$L$16,"") -> 1671.3002 | E36: =IF(D36="","",IF($F$4="IMPAR",IF(D36=$F$2,$F$5,((1-ABS(($F$2-D36)/$F$2))*$F$5)),IF(D36=$F$3,$F$5,((1-ABS((($F$3-D36)/$F$3)))*$F$5)))) -> 56.494795 | G36: =IF(D36="","",IF(D36=$H$3,$H$5,$H$5*(1-((ABS($H$2-D36))/$H$2)))) -> 55.840212 | I36: =IF(D36="","",IF(D36<=$J$4,$J$5*(1-(($J$4-D36)/$J$4)),$J$5*(1-(2*((ABS($J$4-D36))/$J$4))))) -> 25.700925
A37: 31 | B37: =+PROPONENTES!B40 -> CONSORCIO VIAS USA 2025 | C37: =IF(D37="","",ABS(D37-$H$2)) -> 374.42625 | D37: =IF(AND(CONSOLIDADO!J41="HABILITADO",'31'!$L$16>0),'31'!$L$16,"") -> 1645.8519 | E37: =IF(D37="","",IF($F$4="IMPAR",IF(D37=$F$2,$F$5,((1-ABS(($F$2-D37)/$F$2))*$F$5)),IF(D37=$F$3,$F$5,((1-ABS((($F$3-D37)/$F$3)))*$F$5)))) -> 55.63457 | G37: =IF(D37="","",IF(D37=$H$3,$H$5,$H$5*(1-((ABS($H$2-D37))/$H$2)))) -> 54.989954 | I37: =IF(D37="","",IF(D37<=$J$4,$J$5*(1-(($J$4-D37)/$J$4)),$J$5*(1-(2*((ABS($J$4-D37))/$J$4))))) -> 25.309587
A38: 32 | B38: =+PROPONENTES!B41 -> CONSORCIO VIAL TAED USAQUEN | C38: =IF(D38="","",ABS(D38-$H$2)) | D38: =IF(AND(CONSOLIDADO!J42="HABILITADO",'32'!$L$16>0),'32'!$L$16,"") | E38: =IF(D38="","",IF($F$4="IMPAR",IF(D38=$F$2,$F$5,((1-ABS(($F$2-D38)/$F$2))*$F$5)),IF(D38=$F$3,$F$5,((1-ABS((($F$3-D38)/$F$3)))*$F$5)))) | G38: =IF(D38="","",IF(D38=$H$3,$H$5,$H$5*(1-((ABS($H$2-D38))/$H$2)))) | I38: =IF(D38="","",IF(D38<=$J$4,$J$5*(1-(($J$4-D38)/$J$4)),$J$5*(1-(2*((ABS($J$4-D38))/$J$4)))))
A39: 33 | B39: =+PROPONENTES!B42 -> COLOMBOINGENIERIA S.A.S. | C39: =IF(D39="","",ABS(D39-$H$2)) | D39: =IF(AND(CONSOLIDADO!J43="HABILITADO",'33'!$L$16>0),'33'!$L$16,"") | E39: =IF(D39="","",IF($F$4="IMPAR",IF(D39=$F$2,$F$5,((1-ABS(($F$2-D39)/$F$2))*$F$5)),IF(D39=$F$3,$F$5,((1-ABS((($F$3-D39)/$F$3)))*$F$5)))) | G39: =IF(D39="","",IF(D39=$H$3,$H$5,$H$5*(1-((ABS($H$2-D39))/$H$2)))) | I39: =IF(D39="","",IF(D39<=$J$4,$J$5*(1-(($J$4-D39)/$J$4)),$J$5*(1-(2*((ABS($J$4-D39))/$J$4)))))
A40: 34 | B40: =+PROPONENTES!B43 -> URBANO - USAQUEN 03 | C40: =IF(D40="","",ABS(D40-$H$2)) | D40: =IF(AND(CONSOLIDADO!J44="HABILITADO",'34'!$L$16>0),'34'!$L$16,"") | E40: =IF(D40="","",IF($F$4="IMPAR",IF(D40=$F$2,$F$5,((1-ABS(($F$2-D40)/$F$2))*$F$5)),IF(D40=$F$3,$F$5,((1-ABS((($F$3-D40)/$F$3)))*$F$5)))) | G40: =IF(D40="","",IF(D40=$H$3,$H$5,$H$5*(1-((ABS($H$2-D40))/$H$2)))) | I40: =IF(D40="","",IF(D40<=$J$4,$J$5*(1-(($J$4-D40)/$J$4)),$J$5*(1-(2*((ABS($J$4-D40))/$J$4)))))
...

Sheet PROPONENTES
A1: ALCALDIA LOCAL DE USAQUEN
C2: OBJETO DEL CONTRATO: | E2: =+'DATOS INICIALES'!D2 -> "INTERVENTORÍA TÉCNICA, ADMINISTRATIVA, FINANCIERA, JURÍDICA, AMBIENTAL Y SOCIAL AL CONTRATO DE OBRA PÚBLICA RESULTANTE DEL PROCESO DE LICITACIÓN PÚBLICA CUYO OBJETO ES: CONTRATAR POR EL SISTEMA DE PRECIOS UNITARIOS Y A MONTO AGOTABLE LA INTERVENCIÓN DE LOS ELEMENTOS DE LA MALLA VIAL LOCAL E INTERMEDIA Y/O ESPACIO PÚBLICO DE LA LOCALIDAD DE USAQUÉN EN BOGOTÁ CON OBRAS Y ACTIVIDADES DE CONSERVACIÓN"
C3: DATOS DEL PROCESO
A4: MODALIDAD DE CONTRATACION | C4: =+'DATOS INICIALES'!B4 -> CONCURSO DE MERITOS ABIERTO | F4: No. Del Proceso | H4: =+'DATOS INICIALES'!G4 -> FDLUSA-CMA-003-2025
A5: VALOR DEL PROCESO: | C5: =+'DATOS INICIALES'!B5 -> PRESUPUESTO | D5: =+'DATOS INICIALES'!C5 -> 1404008910 | F5: PLAZO | N5: =+'DATOS INICIALES'!G5 -> 11 | O5: =+'DATOS INICIALES'!I5 -> MESES
A8: INFORMACIÓN GENERAL DE LOS PROPONENTES GRUPO 1
A9: No. | B9: NOMBRE DEL PROPONENTE | C9: INTEGRANTE 1 | D9: % PARTICIPACION | E9: INTEGRANTE 2 | F9: % PARTICIPACION | G9: INTEGRANTE 3 | H9: % PARTICIPACION | I9: INTEGRANTE 4 | J9: % PARTICIPACION | K9: INTEGRANTE 5 | L9: % PARTICIPACION | M9: TOTAL INTEGRANTES | N9: SUMATORIA %PARTICIPACIÓN
A10: 1 | B10: GRUPO METRO COLOMBIA SAS | C10: GRUPO METRO COLOMBIA SAS | D10: 1 | M10: =+COUNTIF(C10:L10,"*") -> 1 | N10: =+SUM(D10,F10,H10,J10,L10) -> 1
A11: 2 | B11: CONSORCIO INTERVIAS USAQUEN AI | C11: AIRTIFICIAL CW INFRASTRUCTURES COLOMBIA S.A.S. | D11: 0.7 | E11: INNOBRAS LTDA | F11: 0.3 | M11: =+COUNTIF(C11:L11,"*") -> 2 | N11: =+SUM(D11,F11,H11,J11,L11) -> 1
A12: 3 | B12: CONSORCIO PROYECTA VIAL | C12: GRUPO POSSO S.A.S. | D12: 0.9 | E12: INGENIERÍA MONCADA GONZÁLEZ Y ASOCIADOS S.A.S. | F12: 0.1 | M12: =+COUNTIF(C12:L12,"*") -> 2 | N12: =+SUM(D12,F12,H12,J12,L12) -> 1
A13: 4 | B13: PROYECTOS E INTERVENTORIAS S.A.S. | C13: PROYECTOS E INTERVENTORIAS S.A.S. | D13: 1 | M13: =+COUNTIF(C13:L13,"*") -> 1 | N13: =+SUM(D13,F13,H13,J13,L13) -> 1
A14: 5 | B14: CONSORCIO GAB VIAL USAQUEN 2025 | C14: GAB INGENIERIA SAS | D14: 0.5 | E14: BIA INGENIERIA SAS | F14: 0.5 | M14: =+COUNTIF(C14:L14,"*") -> 2 | N14: =+SUM(D14,F14,H14,J14,L14) -> 1
A15: 6 | B15: CONSORCIO INTER TS 03 | C15: TOTALL INC SAS BIC | D15: 0.5 | E15: SISTEMA INGENIERIA, SUCURSAL COLOMBIA | F15: 0.5 | M15: =+COUNTIF(C15:L15,"*") -> 2 | N15: =+SUM(D15,F15,H15,J15,L15) -> 1
A16: 7 | B16: CONSORCIO PB | C16: PROYECTO SANABRIA S.A.S. | D16: 0.5 | E16: BALANCE & INGENERIA S.A.S. | F16: 0.5 | M16: =+COUNTIF(C16:L16,"*") -> 2 | N16: =+SUM(D16,F16,H16,J16,L16) -> 1
A17: 8 | B17: Inveler Consultoría S.A.S. | C17: INVELER CONSULTORIA S.A.S. | D17: 1 | M17: =+COUNTIF(C17:L17,"*") -> 1 | N17: =+SUM(D17,F17,H17,J17,L17) -> 1
A18: 9 | B18: CONSORCIO VYE USAQUÉN | C18: AIM ENGINEERING S.A.S | D18: 0.7 | E18: COMPAÑÍA DE VÍAS, TRANSPORTE Y OBRAS PÚBLICAS S.A.S (VIASTOP S.A.S.) | F18: 0.3 | M18: =+COUNTIF(C18:L18,"*") -> 2 | N18: =+SUM(D18,F18,H18,J18,L18) -> 1
A19: 10 | B19: CONSORCIO INGENIERIA PROES LATAM | C19: PROES LATAM S.A.S. | D19: 0.95 | E19: PROES COLOMBIA S.A.S. | F19: 0.05 | M19: =+COUNTIF(C19:L19,"*") -> 2 | N19: =+SUM(D19,F19,H19,J19,L19) -> 1
A20: 11 | B20: COMPAÑÍA DE PROYECTOS TÉCNICOS CPT S.A. | C20: COMPAÑÍA DE PROYECTOS TÉCNICOS CPT S.A. | D20: 1 | M20: =+COUNTIF(C20:L20,"*") -> 1 | N20: =+SUM(D20,F20,H20,J20,L20) -> 1
A21: 12 | B21: CONSORCIO 3797 KAPROY USAQUEN | C21: KALPA INGENIERIA SAS SOCIEDAD DE BENEFICIO E INTERES COLECTIVO - BIC | D21: 0.99 | E21: ROY INGENIERIA SAS | F21: 0.01 | M21: =+COUNTIF(C21:L21,"*") -> 2 | N21: =+SUM(D21,F21,H21,J21,L21) -> 1
A22: 13 | B22: CONSORCIO MIRALTA | C22: LATINOCONSULT S.A.S. | D22: 0.9 | E22: INGENIERIA DESARROLLO Y CONSULTORIA INDESCO S.A.S. BIC | F22: 0.1 | M22: =+COUNTIF(C22:L22,"*") -> 2 | N22: =+SUM(D22,F22,H22,J22,L22) -> 1
A23: 14 | B23: INT TERRA | C23: INT TERRA S.A.S | D23: 1 | M23: =+COUNTIF(C23:L23,"*") -> 1 | N23: =+SUM(D23,F23,H23,J23,L23) -> 1
A24: 15 | B24: CONSORCIO SAN RAFAEL | C24: CODIPRO INGENIERIA LTDA | D24: 0.9 | E24: INGEBAMER SAS | F24: 0.1 | M24: =+COUNTIF(C24:L24,"*") -> 2 | N24: =+SUM(D24,F24,H24,J24,L24) -> 1
A25: 16 | B25: CONSORCIO INTER MALLA USAQUEN | C25: TAKOA CONSULTORÍA S.A.S | D25: 0.1 | E25: VALDOS 22 S.A.S | F25: 0.9 | M25: =+COUNTIF(C25:L25,"*") -> 2 | N25: =+SUM(D25,F25,H25,J25,L25) -> 1
A26: 17 | B26: GAVINCO INGENIEROS CONSULTORES SAS | C26: GAVINCO INGENIEROS CONSULTORES SAS | D26: 1 | M26: =+COUNTIF(C26:L26,"*") -> 1 | N26: =+SUM(D26,F26,H26,J26,L26) -> 1
A27: 18 | B27: INGEOCILCON S.A.S. | C27: INGEOCILCON S.A.S. | D27: 1 | M27: =+COUNTIF(C27:L27,"*") -> 1 | N27: =+SUM(D27,F27,H27,J27,L27) -> 1
A28: 19 | B28: CONSORCIO TORCA | C28: PROCIVING SAS | D28: 0.65 | E28: CIAF LTDA INGENIERIA | F28: 0.25 | G28: HIDROTECNIA INGENIERIA LTDA | H28: 0.1 | M28: =+COUNTIF(C28:L28,"*") -> 3 | N28: =+SUM(D28,F28,H28,J28,L28) -> 1
A29: 20 | B29: CONSORCIO INTER USAQUEN JGK | C29: JESAK S.A.S | D29: 0.9 | E29: JGF SERVICIOS S.A.S | F29: 0.1 | M29: =+COUNTIF(C29:L29,"*") -> 2 | N29: =+SUM(D29,F29,H29,J29,L29) -> 1
A30: 21 | B30: CONSORCIO LGI USAQUÉN | C30: GEOTECNIA Y CIMIENTOS INGEOCIM S. A. S. | D30: 0.5 | E30: LÍNEA GLOBAL INGENIERÍA S. A. S. | F30: 0.5 | M30: =+COUNTIF(C30:L30,"*") -> 2 | N30: =+SUM(D30,F30,H30,J30,L30) -> 1
A31: 22 | B31: CONSORCIO INTERDESARROLLO USAQUÉN | C31: SERVINC SAS | D31: 0.9 | E31: BETMAF SAS | F31: 0.1 | M31: =+COUNTIF(C31:L31,"*") -> 2 | N31: =+SUM(D31,F31,H31,J31,L31) -> 1
A32: 23 | B32: COBA B&C SAS | C32: COBA B&C SAS | D32: 1 | M32: =+COUNTIF(C32:L32,"*") -> 1 | N32: =+SUM(D32,F32,H32,J32,L32) -> 1
A33: 24 | B33: CONSORCIO USAQUEN 3M | C33: MAB INGENIERÍA DE VALOR S.A. | D33: 0.5 | E33: MAB SERVICIOS S.A.S. | F33: 0.3 | G33: MAB INFRAESTRUCTURA S.A.S. | H33: 0.2 | M33: =+COUNTIF(C33:L33,"*") -> 3 | N33: =+SUM(D33,F33,H33,J33,L33) -> 1
A34: 25 | B34: CB INGENIEROS SAS | C34: CB INGENIEROS SAS | D34: 1 | M34: =+COUNTIF(C34:L34,"*") -> 1 | N34: =+SUM(D34,F34,H34,J34,L34) -> 1
A35: 26 | B35: PD USAQUEN | C35: PROYECTISTAS DE COLOMBIA & CIA. S.A.S PROYECTCOL S.A.S | D35: 0.4 | E35: DISEÑOS INTERVENTORÍAS Y SERVICIOS S.A.S. DIS S.A.S | F35: 0.6 | M35: =+COUNTIF(C35:L35,"*") -> 2 | N35: =+SUM(D35,F35,H35,J35,L35) -> 1
A36: 27 | B36: VICOS USAQUEN | C36: OSAC SAS | D36: 0.5 | E36: ORGANIZACIÓN VICAN SAS | F36: 0.3 | G36: VICTOR ARBOLEDA CÓRDOBA | H36: 0.2 | M36: =+COUNTIF(C36:L36,"*") -> 3 | N36: =+SUM(D36,F36,H36,J36,L36) -> 1
A37: 28 | B37: CONSORCIO INTERVENTORIA COANDINA | C37: ANDINA DE CONSULTORIA Y CONSTRUCCIONES S.A.S | D37: 0.1 | E37: COINCO DE COLOMBIA S.A.S | F37: 0.9 | M37: =+COUNTIF(C37:L37,"*") -> 2 | N37: =+SUM(D37,F37,H37,J37,L37) -> 1
A38: 29 | B38: CONSORCIO USAQUEN AVANZA MIC | C38: INGEOBRAS CONSTRUCCION Y CONSULTORIA SAS INGEOBRAS SAS | D38: 0.5 | E38: MSC INGENIERIA SAS | F38: 0.4 | G38: CORTES LEIVA ASOCIADOS SAS | H38: 0.1 | M38: =+COUNTIF(C38:L38,"*") -> 3 | N38: =+SUM(D38,F38,H38,J38,L38) -> 1
A39: 30 | B39: CONSORCIO INTER-USAQUEN 003 HCPC | C39: JORGE WILLAN CORZO GARCIA | D39: 0.2 | E39: PC PROYECCION E INGENIERIA SAS | F39: 0.4 | G39: HORIZONTES CIVILES S.A.S. | H39: 0.4 | M39: =+COUNTIF(C39:L39,"*") -> 3 | N39: =+SUM(D39,F39,H39,J39,L39) -> 1
A40: 31 | B40: CONSORCIO VIAS USA 2025 | C40: SAVIMAC SAS | D40: 0.5 | E40: AHLA SHUGL INTERNATIONAL SAS | F40: 0.5 | M40: =+COUNTIF(C40:L40,"*") -> 2 | N40: =+SUM(D40,F40,H40,J40,L40) -> 1
A41: 32 | B41: CONSORCIO VIAL TAED USAQUEN | C41: ESTUDIO, DISEÑO Y CONSTRUCCION EN INGENIERIA SAS | D41: 0.5 | E41: TABIQUE INGENIERIA SUCURSAL COLOMBIA | F41: 0.5 | M41: =+COUNTIF(C41:L41,"*") -> 2 | N41: =+SUM(D41,F41,H41,J41,L41) -> 1
A42: 33 | B42: COLOMBOINGENIERIA S.A.S. | C42: COLOMBOINGENIERIA S.A.S. | D42: 1 | M42: =+COUNTIF(C42:L42,"*") -> 1 | N42: =+SUM(D42,F42,H42,J42,L42) -> 1
...

Sheet 1
B2: ALCALDIA LOCAL DE USAQUEN
B4: ='DATOS INICIALES'!G4 -> FDLUSA-CMA-003-2025
B6: Ciudad | C6: BOGOTÁ D.C | D6: Fecha de Evaluación | E6: 11 de NOVIEMBRE de 2025 | G6: Fecha de Cierre | H6: 11 de NOVIEMBRE de 2025
B7: DATOS GENERALES | J7: VALOR MINIMO A CERTIFICAR
B8: OBJETO DE LA CONVOCATORIA | C8: ='DATOS INICIALES'!D2 -> "INTERVENTORÍA TÉCNICA, ADMINISTRATIVA, FINANCIERA, JURÍDICA, AMBIENTAL Y SOCIAL AL CONTRATO DE OBRA PÚBLICA RESULTANTE DEL PROCESO DE LICITACIÓN PÚBLICA CUYO OBJETO ES: CONTRATAR POR EL SISTEMA DE PRECIOS UNITARIOS Y A MONTO AGOTABLE LA INTERVENCIÓN DE LOS ELEMENTOS DE LA MALLA VIAL LOCAL E INTERMEDIA Y/O ESPACIO PÚBLICO DE LA LOCALIDAD DE USAQUÉN EN BOGOTÁ CON OBRAS Y ACTIVIDADES DE CONSERVACIÓN" | J8: DE 1 HASTA 4, 5, 6 ó 7 | K8: 1 | L8: =K8*$C$10 -> 986.30763
B9: VALOR DEL PROCESO EN PESOS | C9: =+'DATOS INICIALES'!C5 -> 1404008910
B10: VALOR DEL PROCESO EN SMMLV | C10: =C9/'DATOS INICIALES'!B50 -> 986.30763
A11: 1 | B11: PROPONENTE | C11: =VLOOKUP(A11,PROPONENTES!A10:B94,2,FALSE) -> GRUPO METRO COLOMBIA SAS | H11: CONCEPTO FINAL | I11: =IF(AND(F22="CUMPLE",G22="CUMPLE",H22="CUMPLE",L14="CUMPLE",D72="CUMPLE",K18="CUMPLE"),"CUMPLE","NO CUMPLE") -> CUMPLE
B13: ACREDITACIÓN DE EXPERIENCIA FIGURA ASOCIATIVA | I13: TOTAL CONTRATOS VÁLIDOS | J13: VALOR TOTAL A ACREDITAR (SMMLV) | K13: VALOR TOTAL ACREDITADO (SMMLV) | L13: CONCEPTO
B14: MIEMBRO UNICO O INTEGRANTES DEL CONSORCIO O UNION TEMPORAL. | C14: INTEGRANTE | D14: % PARTICIPACIÓN | E14: EXPERIENCIA TOTAL APORTADA | F14: ¿AL MENOS UNO APORTA EL 50% DE EXPERIENCIA? | G14: ¿APORTA MÍNIMO EL 5% DE EXPERIENCIA? | H14: SI NO APORTA ¿TIENE COMO MAXIMO EL 10% DE PARTICIPACIÓN? | I14: =COUNTIF(D67:J67,"CUMPLE") -> 3 | J14: =+L8 -> 986.30763 | K14: =+E22 -> 5703.7884 | L14: =IF(K14>=J14,"CUMPLE","NO CUMPLE") -> CUMPLE
C15: =IF(VLOOKUP(C11,PROPONENTES!B10:N94,2,FALSE)=0,"",VLOOKUP(C11,PROPONENTES!B10:N94,2,FALSE)) -> GRUPO METRO COLOMBIA SAS | D15: =IF(VLOOKUP(C11,PROPONENTES!B10:N94,3,FALSE)=0,"",VLOOKUP(C11,PROPONENTES!B10:N94,3,FALSE)) -> 1 | E15: =IF(C15="","",IF($D$67="CUMPLE",IF(C15=$D$26,$D$41)+IF(C15=$D$27,$D$44)+IF(C15=$D$28,$D$47))+IF($E$67="CUMPLE",IF(C15=$E$26,$E$41)+IF(C15=$E$27,$E$44)+IF(C15=$E$28,$E$47))+IF($F$67="CUMPLE",IF(C15=$F$26,$F$41)+IF(C15=$F$27,$F$44)+IF(C15=$F$28,$F$47))+IF($G$67="CUMPLE",IF(C15=$G$26,$G$41)+IF(C15=$G$27,$G$44)+IF(C15=$G$28,$G$47))+IF($H$67="CUMPLE",IF(C15=$H$26,$H$41)+IF(C15=$H$27,$H$44)+IF(C15=$H$28,$H$47))+IF($I$67="CUMPLE",IF(C15=$I$26,$I$41)+IF(C15=$I$27,$I$44)+IF(C15=$I$28,$I$47))+IF($J$67="CUMPLE",IF(C15=$J$26,$J$41)+IF(C15=$J$27,$J$44)+IF(C15=$J$28,$J$47))) -> 5703.7884 | F15: =IF(C15="","",IF(E15>=$J$14*0.5,"SI","NO")) -> SI | G15: =IF(C15="","",IF(E15>=$J$14*0.05,"SI",IF(E15=0,"NO APORTA EXPERIENCIA",))) -> SI | H15: =IF(C15="","",IF(AND(G15="NO APORTA EXPERIENCIA",D15<=10%),"SI",IF(G15="SI","NO APLICA","NO - PORCENTAJE MAYOR AL 10%"))) -> NO APLICA | L15: VALOR PROMEDIO DE CONTRATOS VALIDOS
C16: =IF(VLOOKUP(C11,PROPONENTES!B10:N94,4,FALSE)=0,"",VLOOKUP(C11,PROPONENTES!B10:N94,4,FALSE)) | D16: =IF(VLOOKUP(C11,PROPONENTES!B10:N94,5,FALSE)=0,"",VLOOKUP(C11,PROPONENTES!B10:N94,5,FALSE)) | E16: =IF(C16="","",IF($D$67="CUMPLE",IF(C16=$D$26,$D$41)+IF(C16=$D$27,$D$44)+IF(C16=$D$28,$D$47))+IF($E$67="CUMPLE",IF(C16=$E$26,$E$41)+IF(C16=$E$27,$E$44)+IF(C16=$E$28,$E$47))+IF($F$67="CUMPLE",IF(C16=$F$26,$F$41)+IF(C16=$F$27,$F$44)+IF(C16=$F$28,$F$47))+IF($G$67="CUMPLE",IF(C16=$G$26,$G$41)+IF(C16=$G$27,$G$44)+IF(C16=$G$28,$G$47))+IF($H$67="CUMPLE",IF(C16=$H$26,$H$41)+IF(C16=$H$27,$H$44)+IF(C16=$H$28,$H$47))+IF($I$67="CUMPLE",IF(C16=$I$26,$I$41)+IF(C16=$I$27,$I$44)+IF(C16=$I$28,$I$47))+IF($J$67="CUMPLE",IF(C16=$J$26,$J$41)+IF(C16=$J$27,$J$44)+IF(C16=$J$28,$J$47))) | F16: =IF(C16="","",IF(E16>=$J$14*0.5,"SI","NO")) | G16: =IF(C16="","",IF(E16>=$J$14*0.05,"SI",IF(E16=0,"NO APORTA EXPERIENCIA",))) | H16: =IF(C16="","",IF(AND(G16="NO APORTA EXPERIENCIA",D16<=10%),"SI",IF(G16="SI","NO APLICA","NO - PORCENTAJE MAYOR AL 10%"))) | L16: =AVERAGEIF(D67:J67,"CUMPLE",D48:J48) -> 1901.2628
C17: =IF(VLOOKUP(C11,PROPONENTES!B10:N94,6,FALSE)=0,"",VLOOKUP(C11,PROPONENTES!B10:N94,6,FALSE)) | D17: =IF(VLOOKUP(C11,PROPONENTES!B10:N94,7,FALSE)=0,"",VLOOKUP(C11,PROPONENTES!B10:N94,7,FALSE)) | E17: =IF(C17="","",IF($D$67="CUMPLE",IF(C17=$D$26,$D$41)+IF(C17=$D$27,$D$44)+IF(C17=$D$28,$D$47))+IF($E$67="CUMPLE",IF(C17=$E$26,$E$41)+IF(C17=$E$27,$E$44)+IF(C17=$E$28,$E$47))+IF($F$67="CUMPLE",IF(C17=$F$26,$F$41)+IF(C17=$F$27,$F$44)+IF(C17=$F$28,$F$47))+IF($G$67="CUMPLE",IF(C17=$G$26,$G$41)+IF(C17=$G$27,$G$44)+IF(C17=$G$28,$G$47))+IF($H$67="CUMPLE",IF(C17=$H$26,$H$41)+IF(C17=$H$27,$H$44)+IF(C17=$H$28,$H$47))+IF($I$67="CUMPLE",IF(C17=$I$26,$I$41)+IF(C17=$I$27,$I$44)+IF(C17=$I$28,$I$47))+IF($J$67="CUMPLE",IF(C17=$J$26,$J$41)+IF(C17=$J$27,$J$44)+IF(C17=$J$28,$J$47))) | F17: =IF(C17="","",IF(E17>=$J$14*0.5,"SI","NO")) | G17: =IF(C17="","",IF(E17>=$J$14*0.05,"SI",IF(E17=0,"NO APORTA EXPERIENCIA",))) | H17: =IF(C17="","",IF(AND(G17="NO APORTA EXPERIENCIA",D17<=10%),"SI",IF(G17="SI","NO APLICA","NO - PORCENTAJE MAYOR AL 10%"))) | I17: EXP. ESPECIFICA ACREDITADA | J17: EXP. ESPECIFICA SOLICITADA | K17: CONCEPTO
C18: =IF(VLOOKUP(C11,PROPONENTES!B10:N94,8,FALSE)=0,"",VLOOKUP(C11,PROPONENTES!B10:N94,8,FALSE)) | D18: =IF(VLOOKUP(C11,PROPONENTES!B10:N94,9,FALSE)=0,"",VLOOKUP(C11,PROPONENTES!B10:N94,9,FALSE)) | E18: =IF(C18="","",IF($D$67="CUMPLE",IF(C18=$D$26,$D$41)+IF(C18=$D$27,$D$44)+IF(C18=$D$28,$D$47))+IF($E$67="CUMPLE",IF(C18=$E$26,$E$41)+IF(C18=$E$27,$E$44)+IF(C18=$E$28,$E$47))+IF($F$67="CUMPLE",IF(C18=$F$26,$F$41)+IF(C18=$F$27,$F$44)+IF(C18=$F$28,$F$47))+IF($G$67="CUMPLE",IF(C18=$G$26,$G$41)+IF(C18=$G$27,$G$44)+IF(C18=$G$28,$G$47))+IF($H$67="CUMPLE",IF(C18=$H$26,$H$41)+IF(C18=$H$27,$H$44)+IF(C18=$H$28,$H$47))+IF($I$67="CUMPLE",IF(C18=$I$26,$I$41)+IF(C18=$I$27,$I$44)+IF(C18=$I$28,$I$47))+IF($J$67="CUMPLE",IF(C18=$J$26,$J$41)+IF(C18=$J$27,$J$44)+IF(C18=$J$28,$J$47))) | F18: =IF(C18="","",IF(E18>=$J$14*0.5,"SI","NO")) | G18: =IF(C18="","",IF(E18>=$J$14*0.05,"SI",IF(E18=0,"NO APORTA EXPERIENCIA",))) | H18: =IF(C18="","",IF(AND(G18="NO APORTA EXPERIENCIA",D18<=10%),"SI",IF(G18="SI","NO APLICA","NO - PORCENTAJE MAYOR AL 10%"))) | I18: =COUNTIFS(D57:J57,"CUMPLE",D67:J67,"CUMPLE") -> 3 | J18: 1 | K18: =IF(AND(I18>=J18,I19>=J19,I20>=J20,I21>=J21),"CUMPLE","NO CUMPLE") -> CUMPLE
I19: =COUNTIFS(D58:J58,"CUMPLE",D67:J67,"CUMPLE") -> 3 | J19: 1
I20: =COUNTIFS(D60:J60,"CUMPLE",D67:J67,"CUMPLE") -> 3 | J20: 1
C21: =IF(VLOOKUP(C11,PROPONENTES!B10:N94,10,FALSE)=0,"",VLOOKUP(C11,PROPONENTES!B10:N94,10,FALSE)) | D21: =IF(VLOOKUP(C11,PROPONENTES!B10:N94,11,FALSE)=0,"",VLOOKUP(C11,PROPONENTES!B10:N94,11,FALSE)) | E21: =IF(C21="","",IF($D$67="CUMPLE",IF(C21=$D$26,$D$41)+IF(C21=$D$27,$D$44)+IF(C21=$D$28,$D$47))+IF($E$67="CUMPLE",IF(C21=$E$26,$E$41)+IF(C21=$E$27,$E$44)+IF(C21=$E$28,$E$47))+IF($F$67="CUMPLE",IF(C21=$F$26,$F$41)+IF(C21=$F$27,$F$44)+IF(C21=$F$28,$F$47))+IF($G$67="CUMPLE",IF(C21=$G$26,$G$41)+IF(C21=$G$27,$G$44)+IF(C21=$G$28,$G$47))+IF($H$67="CUMPLE",IF(C21=$H$26,$H$41)+IF(C21=$H$27,$H$44)+IF(C21=$H$28,$H$47))+IF($I$67="CUMPLE",IF(C21=$I$26,$I$41)+IF(C21=$I$27,$I$44)+IF(C21=$I$28,$I$47))+IF($J$67="CUMPLE",IF(C21=$J$26,$J$41)+IF(C21=$J$27,$J$44)+IF(C21=$J$28,$J$47))) | F21: =IF(C21="","",IF(E21>=$J$14*0.5,"SI","NO")) | G21: =IF(C21="","",IF(E21>=$J$14*0.05,"SI",IF(E21=0,"NO APORTA EXPERIENCIA",))) | H21: =IF(C21="","",IF(AND(G21="NO APORTA EXPERIENCIA",D21<=10%),"SI",IF(G21="SI","NO APLICA","NO - PORCENTAJE MAYOR AL 10%"))) | I21: =COUNTIFS(D61:J61,"CUMPLE",D67:J67,"CUMPLE") -> 3 | J21: 1
B22: TOTAL | C22: =+VLOOKUP(C11,PROPONENTES!B10:N94,12,FALSE) -> 1 | D22: =+VLOOKUP(C11,PROPONENTES!B10:N94,13,FALSE) -> 1 | E22: =SUM(E15:E21) -> 5703.7884 | F22: =IF(F15="SI","CUMPLE",IF(F16="SI","CUMPLE",IF(F17="SI","CUMPLE",IF(F18="SI","CUMPLE",IF(F21="SI","CUMPLE","NO CUMPLE"))))) -> CUMPLE | G22: =+IF(COUNTIF(E15:E21,0)>1,"NO CUMPLE, HAY MAS DE UN (1) INTEGRANTE QUE NO APORTA EXPERIENCIA",IF(AND(OR(G15="NO APORTA EXPERIENCIA",G15="SI",G15=""),OR(G16="NO APORTA EXPERIENCIA",G16="SI",G16=""),OR(G17="NO APORTA EXPERIENCIA",G17="SI",G17=""),OR(G18="NO APORTA EXPERIENCIA",G18="SI",G18=""),OR(G21="NO APORTA EXPERIENCIA",G21="SI",G21="")),"CUMPLE","NO CUMPLE")) -> CUMPLE | H22: =IF(COUNTIF(E15:E21,0)>1,"NO CUMPLE, HAY MAS DE UN (1) INTEGRANTE QUE NO APORTA EXPERIENCIA",IF(AND(OR(H15="NO APLICA",H15="SI",H15=""),OR(H16="NO APLICA",H16="SI",H16=""),OR(H17="NO APLICA",H17="SI",H17=""),OR(H18="NO APLICA",H18="SI",H18=""),OR(H21="NO APLICA",H21="SI",H21="")),"CUMPLE","NO CUMPLE")) -> CUMPLE | I22: =+D72 -> CUMPLE
B24: =CONCATENATE("ACREDITACION EXPERIENCIA ",'DATOS INICIALES'!G4) -> ACREDITACION EXPERIENCIA FDLUSA-CMA-003-2025
B25: NÚMERO DE CERTIFICACIONES | C25: Máximo 5, 6 o 7 contratos | D25: CONTRATO No. 1 | E25: CONTRATO No. 2 | F25: CONTRATO No. 3 | G25: CONTRATO No. 4 | H25: CONTRATO No. 5 | I25: CONTRATO No. 6 | J25: CONTRATO No. 7 | K25: OBSERVACIONES
B26: INTEGRANTE 1 DEL CONTRATO APORTADO | D26: GRUPO METRO COLOMBIA SAS | E26: GRUPO METRO COLOMBIA SAS | F26: GRUPO METRO COLOMBIA SAS
B27: INTEGRANTE 2 DEL CONTRATO APORTADO
B28: INTEGRANTE 3 DEL CONTRATO APORTADO
B29: DATOS DEL CONTRATO | C29: N° del contrato y año de suscripción | D29: IDU-211-2005 | E29: IDU-002-2013 | F29: ALC-BOLIVAR-CIN-326-2018
