Workbook

Sheet CUADRO COMPARATIVO  
C1: GOBERNACIÓN DE CUNDINAMARCA | H1: COMTELECTRIC SAS | L1: ROMING SAS | P1: SOS SOLUCIONES Y SREVICIOS SAS | T1: SISELCOM SAS | X1: AQSERV SAS | AB1: PRECIOS HISTORICOS Y/O DEL MERCADO | AF1: MEDIA GEOMÉTRICA SECRETARIA DE LA MUJER | AH1: MEDIA ARMÓNICA SECRETARIA DE LA MUJER
C2: SECRETARIA DE LA MUJER Y EQUIDAD DE GÉNERO
C3: OBJETO: ADECUACIÓN Y SUMINISTRO DE ELEMENTOS NECESARIOS PARA EL FUNCIONAMIENTO APROPIADO DE ESPACIOS Y CASAS SOCIALES DE LA MUJER, DE LOS MUNICIPIOS FOCALIZADOS EN EL DEPARTAMENTO DE CUNDINAMARCA.
C4: 1. SIBATE
C5: ITEM | D5: PRODUCTO / SERVICIO | E5: DESCRIPCIÓN PRODUCTO / SERVICIO | F5: UNIDAD DE MEDIDA | G5: CANTIDAD | H5: VALOR UNITARIO SIN IVA | I5: IVA | J5: VALOR UNITARIO CON IVA | K5: VALOR TOTAL (VALOR UNITARIO CON IVA X CANTIDAD) | L5: VALOR UNITARIO SIN IVA | M5: IVA | N5: VALOR UNITARIO CON IVA | O5: VALOR TOTAL (VALOR UNITARIO CON IVA X CANTIDAD) | P5: VALOR UNITARIO SIN IVA | Q5: IVA | R5: VALOR UNITARIO CON IVA | S5: VALOR TOTAL (VALOR UNITARIO CON IVA X CANTIDAD) | T5: VALOR UNITARIO SIN IVA | U5: IVA | V5: VALOR UNITARIO CON IVA | W5: VALOR TOTAL (VALOR UNITARIO CON IVA X CANTIDAD) | X5: VALOR UNITARIO SIN IVA | Y5: IVA | Z5: VALOR UNITARIO CON IVA | AA5: VALOR TOTAL (VALOR UNITARIO CON IVA X CANTIDAD) | AB5: VALOR UNITARIO SIN IVA | AC5: IVA | AD5: VALOR UNITARIO CON IVA | AE5: VALOR TOTAL (VALOR UNITARIO CON IVA X CANTIDAD) | AF5: VALOR UNITARIO SIN IVA | AG5: VALOR UNITARIO CON IVA | AH5: VALOR UNITARIO SIN IVA | AI5: VALOR UNITARIO CON IVA
C6: 1.1 | D6: ESTUFA A GAS | E6: ESTUFA A GAS CON 6 QUEMADORES, ESTRUCTURA FABRICADA EN ACERO INOXIDABLE, QUEMADORES Y PARRILLAS EN HIERRO FUNDIDO, BANDEJA RECOLECTORA DE RESIDUOS. CONFIGURACIÓN PARA GAS NATURAL O PROPANO. | F6: UN | G6: 1 | H6: 7360000 | I6: =H6*19% -> 1398400 | J6: =H6+I6 -> 8758400 | K6: =G6*J6 -> 8758400 | L6: 6806722.7 | M6: =L6*19% -> 1293277.3 | N6: =L6+M6 -> 8100000 | O6: =+G6*N6 -> 8100000 | P6: 7234110 | Q6: =+P6*0.19 -> 1374480.9 | R6: =+P6+Q6 -> 8608590.9 | S6: =+G6*R6 -> 8608590.9 | T6: 7604171 | U6: =T6*19% -> 1444792.5 | V6: =T6+U6 -> 9048963.5 | W6: =+G6*V6 -> 9048963.5 | X6: 6935933 | Y6: =+X6*0.19 -> 1317827.3 | Z6: =+X6+Y6 -> 8253760.3 | AA6: =+G6*Z6 -> 8253760.3 | AB6: =+AD6/1.19 -> 2000000 | AC6: =+AD6-AB6 -> 380000 | AD6: 2380000 | AE6: =+G6*AD6 -> 2380000 | AF6: =+GEOMEAN(H6,L6,P6,T6,X6,AB6) -> 5804051.9 | AG6: =+GEOMEAN(J6,N6,R6,V6,Z6,AD6) -> 6906821.8 | AH6: =+HARMEAN(H6,L6,P6,T6,X6,AB6) -> 5013785.3 | AI6: =+HARMEAN(J6,N6,R6,V6,Z6,AD6) -> 5966404.5
C7: 1.2 | D7: ARMARIO ORGANIZADOR METÁLICO | E7: ARMARIO ORGANIZADOR METALICO, ESTRUCTURA EN LAMINA CALIBRE 22, TERMINACION CON PINTURA ELECTROESTATICA. DIMENSIONES MINIMAS DE 180 x 90 CM. DEBE INCLUIR 4 ENTREPAÑOS GRADUABLES Y 2 PUERTAS CON CERRADURA TIPO MANIJA QUE PERMITA ASEGURAR EN 3 PUNTOS. | F7: UN | G7: 3 | H7: 2510367 | I7: =H7*19% -> 476969.73 | J7: =H7+I7 -> 2987336.7 | K7: =G7*J7 -> 8962010.2 | L7: 1662605 | M7: =L7*19% -> 315894.96 | N7: =L7+M7 -> 1978500 | O7: =+G7*N7 -> 5935500 | P7: 2506736 | Q7: =+P7*0.19 -> 476279.84 | R7: =+P7+Q7 -> 2983015.8 | S7: =+G7*R7 -> 8949047.5 | T7: 2401067 | U7: =T7*19% -> 456202.73 | V7: =T7+U7 -> 2857269.7 | W7: =+G7*V7 -> 8571809.2 | X7: 2384780 | Y7: =+X7*0.19 -> 453108.2 | Z7: =+X7+Y7 -> 2837888.2 | AA7: =+G7*Z7 -> 8513664.6 | AB7: =+AD7/1.19 -> 885714.29 | AC7: =+AD7-AB7 -> 168285.71 | AD7: 1054000 | AE7: =+G7*AD7 -> 3162000 | AF7: =+GEOMEAN(H7,L7,P7,T7,X7,AB7) -> 1938489.8 | AG7: =+GEOMEAN(J7,N7,R7,V7,Z7,AD7) -> 2306802.9 | AH7: =+HARMEAN(H7,L7,P7,T7,X7,AB7) -> 1783814.4 | AI7: =+HARMEAN(J7,N7,R7,V7,Z7,AD7) -> 2122739.1
C8: 1.3 | D8: MESA PLEGABLE | E8: MESA PLEGABLE PLASTICA TIPO MALETIN, ESTRUCTURA EN ACERO, TABLERO EN POLIETILENO DE ALTA DENSIDAD, DIMENSIONES MINIMAS DE 180 CM DE LARGO Y 70 CM DE ANCHO | F8: UN | G8: 10 | H8: 348700 | I8: =H8*19% -> 66253 | J8: =H8+I8 -> 414953 | K8: =G8*J8 -> 4149530 | L8: 214159.66 | M8: =L8*19% -> 40690.336 | N8: =L8+M8 -> 254850 | O8: =+G8*N8 -> 2548500 | P8: 350928 | Q8: =+P8*0.19 -> 66676.32 | R8: =+P8+Q8 -> 417604.32 | S8: =+G8*R8 -> 4176043.2 | T8: 332517 | U8: =T8*19% -> 63178.23 | V8: =T8+U8 -> 395695.23 | W8: =+G8*V8 -> 3956952.3 | X8: 326266 | Y8: =+X8*0.19 -> 61990.54 | Z8: =+X8+Y8 -> 388256.54 | AA8: =+G8*Z8 -> 3882565.4 | AB8: =+AD8/1.19 -> 257142.86 | AC8: =+AD8-AB8 -> 48857.143 | AD8: 306000 | AE8: =+G8*AD8 -> 3060000 | AF8: =+GEOMEAN(H8,L8,P8,T8,X8,AB8) -> 300142.82 | AG8: =+GEOMEAN(J8,N8,R8,V8,Z8,AD8) -> 357169.96 | AH8: =+HARMEAN(H8,L8,P8,T8,X8,AB8) -> 294868.79 | AI8: =+HARMEAN(J8,N8,R8,V8,Z8,AD8) -> 350893.87
C9: 1.4 | D9: SILLA PLÁSTICA | E9: SILLA PLÁSTICA CON BRAZOS, RESISTENCIA MINIMA DE 115 KILOS. MEDIDAS APROXIMADAS DE 57 x 60 x 80 CM. COLOR BLANCO O CAFE. | F9: UN | G9: 20 | H9: 75571 | I9: =H9*19% -> 14358.49 | J9: =H9+I9 -> 89929.49 | K9: =G9*J9 -> 1798589.8 | L9: 75504.202 | M9: =L9*19% -> 14345.798 | N9: =L9+M9 -> 89850 | O9: =+G9*N9 -> 1797000 | P9: 88777 | Q9: =+P9*0.19 -> 16867.63 | R9: =+P9+Q9 -> 105644.63 | S9: =+G9*R9 -> 2112892.6 | T9: 76923 | U9: =T9*19% -> 14615.37 | V9: =T9+U9 -> 91538.37 | W9: =+G9*V9 -> 1830767.4 | X9: 77771 | Y9: =+X9*0.19 -> 14776.49 | Z9: =+X9+Y9 -> 92547.49 | AA9: =+G9*Z9 -> 1850949.8 | AB9: =+AD9/1.19 -> 75571.429 | AC9: =+AD9-AB9 -> 14358.571 | AD9: 89930 | AE9: =+G9*AD9 -> 1798600 | AF9: =+GEOMEAN(H9,L9,P9,T9,X9,AB9) -> 78218.542 | AG9: =+GEOMEAN(J9,N9,R9,V9,Z9,AD9) -> 93080.064 | AH9: =+HARMEAN(H9,L9,P9,T9,X9,AB9) -> 78092.609 | AI9: =+HARMEAN(J9,N9,R9,V9,Z9,AD9) -> 92930.205
C10: 1.5 | D10: BANDEJA PARA PANADERÍA | E10: BANDEJA PARA PANADERIA DE 60 x 40 CM, TROQUELADA, FABRICADA EN ALUMINIO MINIMO CALIBRE 20. | F10: UN | G10: 6 | H10: 143830 | I10: =H10*19% -> 27327.7 | J10: =H10+I10 -> 171157.7 | K10: =G10*J10 -> 1026946.2 | L10: 1008403.4 | M10: =L10*19% -> 191596.64 | N10: =L10+M10 -> 1200000 | O10: =+G10*N10 -> 7200000 | P10: 154904 | Q10: =+P10*0.19 -> 29431.76 | R10: =+P10+Q10 -> 184335.76 | S10: =+G10*R10 -> 1106014.6 | T10: 146740 | U10: =T10*19% -> 27880.6 | V10: =T10+U10 -> 174620.6 | W10: =+G10*V10 -> 1047723.6 | X10: 140861 | Y10: =+X10*0.19 -> 26763.59 | Z10: =+X10+Y10 -> 167624.59 | AA10: =+G10*Z10 -> 1005747.5 | AB10: =+AD10/1.19 -> 62510.084 | AC10: =+AD10-AB10 -> 11876.916 | AD10: 74387 | AE10: =+G10*AD10 -> 446322 | AF10: =+GEOMEAN(H10,L10,P10,T10,X10,AB10) -> 175309.71 | AG10: =+GEOMEAN(J10,N10,R10,V10,Z10,AD10) -> 208618.55 | AH10: =+HARMEAN(H10,L10,P10,T10,X10,AB10) -> 135405.58 | AI10: =+HARMEAN(J10,N10,R10,V10,Z10,AD10) -> 161132.64
C11: 1.6 | D11: ESCABILADERO PARA BANDEJAS | E11: ESCABILADERO PARA BANDEJAS DE 60 x 40 CM, FABRICADO EN ACERO INOXIDABLE, CAPACIDAD PARA ALMACENAR MINIMO 12 BANDEJAS. | F11: UN | G11: 1 | H11: 2465261 | I11: =H11*19% -> 468399.59 | J11: =H11+I11 -> 2933660.6 | K11: =G11*J11 -> 2933660.6 | L11: 1890756.3 | M11: =L11*19% -> 359243.7 | N11: =L11+M11 -> 2250000 | O11: =+G11*N11 -> 2250000 | P11: 2553398 | Q11: =+P11*0.19 -> 485145.62 | R11: =+P11+Q11 -> 3038543.6 | S11: =+G11*R11 -> 3038543.6 | T11: 2550779 | U11: =T11*19% -> 484648.01 | V11: =T11+U11 -> 3035427 | W11: =+G11*V11 -> 3035427 | X11: 2428755 | Y11: =+X11*0.19 -> 461463.45 | Z11: =+X11+Y11 -> 2890218.5 | AA11: =+G11*Z11 -> 2890218.5 | AB11: =+AD11/1.19 -> 788450.42 | AC11: =+AD11-AB11 -> 149805.58 | AD11: 938256 | AE11: =+G11*AD11 -> 938256 | AF11: =+GEOMEAN(H11,L11,P11,T11,X11,AB11) -> 1968224.6 | AG11: =+GEOMEAN(J11,N11,R11,V11,Z11,AD11) -> 2342187.2 | AH11: =+HARMEAN(H11,L11,P11,T11,X11,AB11) -> 1765619 | AI11: =+HARMEAN(J11,N11,R11,V11,Z11,AD11) -> 2101086.6
C12: 1.7 | D12: JUEGO DE OLLAS DE ALUMINIO | E12: JUEGO DE OLLAS DE ALUMINIO, CAPACIDAD DE 2 A 14 LITROS, 6 UNIDADES, FABRICADAS EN ALUMINIO DE ALTA PUREZA. INCLUYE: 1 OLLA DE 2 LITROS, 1 OLLA DE 2.5 LITROS, 1 OLLA DE 4 LITROS, 1 OLLA DE 6 LITROS, 1 OLLA DE 12 LITROS Y 1 OLLA DE 14 LITROS. CADA OLLA INCLUYE TAPA. | F12: UN | G12: 3 | H12: 405570 | I12: =H12*19% -> 77058.3 | J12: =H12+I12 -> 482628.3 | K12: =G12*J12 -> 1447884.9 | L12: 1384903.4 | M12: =L12*19% -> 263131.64 | N12: =L12+M12 -> 1648035 | O12: =+G12*N12 -> 4944105 | P12: 388583 | Q12: =+P12*0.19 -> 73830.77 | R12: =+P12+Q12 -> 462413.77 | S12: =+G12*R12 -> 1387241.3 | T12: 429717 | U12: =T12*19% -> 81646.23 | V12: =T12+U12 -> 511363.23 | W12: =+G12*V12 -> 1534089.7 | X12: 380421 | Y12: =+X12*0.19 -> 72279.99 | Z12: =+X12+Y12 -> 452700.99 | AA12: =+G12*Z12 -> 1358103 | AB12: =+AD12/1.19 -> 840336.13 | AC12: =+AD12-AB12 -> 159663.87 | AD12: 1000000 | AE12: =+G12*AD12 -> 3000000 | AF12: =+GEOMEAN(H12,L12,P12,T12,X12,AB12) -> 557371.63 | AG12: =+GEOMEAN(J12,N12,R12,V12,Z12,AD12) -> 663272.24 | AH12: =+HARMEAN(H12,L12,P12,T12,X12,AB12) -> 503906.53 | AI12: =+HARMEAN(J12,N12,R12,V12,Z12,AD12) -> 599648.77
C13: 1.8 | D13: CALDERO MEDIANO | E13: CALDERO MEDIANO DE 11 LITROS, FABRICADO EN ALUMINIO FUNDIDO, TAPA FUNDIDA CON POMO PLASTICO, ASAS EN ALUMINIO FUNDIDO. | F13: UN | G13: 2 | H13: 278942 | I13: =H13*19% -> 52998.98 | J13: =H13+I13 -> 331940.98 | K13: =G13*J13 -> 663881.96 | L13: 176470.59 | M13: =L13*19% -> 33529.412 | N13: =L13+M13 -> 210000 | O13: =+G13*N13 -> 420000 | P13: 274590 | Q13: =+P13*0.19 -> 52172.1 | R13: =+P13+Q13 -> 326762.1 | S13: =+G13*R13 -> 653524.2 | T13: 290819 | U13: =T13*19% -> 55255.61 | V13: =T13+U13 -> 346074.61 | W13: =+G13*V13 -> 692149.22 | X13: 263944 | Y13: =+X13*0.19 -> 50149.36 | Z13: =+X13+Y13 -> 314093.36 | AA13: =+G13*Z13 -> 628186.72 | AB13: =+AD13/1.19 -> 34453.782 | AC13: =+AD13-AB13 -> 6546.2185 | AD13: 41000 | AE13: =+G13*AD13 -> 82000 | AF13: =+GEOMEAN(H13,L13,P13,T13,X13,AB13) -> 181498.79 | AG13: =+GEOMEAN(J13,N13,R13,V13,Z13,AD13) -> 215983.56 | AH13: =+HARMEAN(H13,L13,P13,T13,X13,AB13) -> 122087.52 | AI13: =+HARMEAN(J13,N13,R13,V13,Z13,AD13) -> 145284.15
C14: 1.9 | D14: TABLA PARA PICAR | E14: TABLA PARA PICAR/CORTAR, FABRICADA EN POLIETILENO RESISTENTE A GOLPES, DEFORMACIONES Y MANCHAS. DIMENSIONES: 60 x 40 x 2 CM. | F14: UN | G14: 10 | H14: 279142 | I14: =H14*19% -> 53036.98 | J14: =H14+I14 -> 332178.98 | K14: =G14*J14 -> 3321789.8 | L14: 176470.59 | M14: =L14*19% -> 33529.412 | N14: =L14+M14 -> 210000 | O14: =+G14*N14 -> 2100000 | P14: 263086 | Q14: =+P14*0.19 -> 49986.34 | R14: =+P14+Q14 -> 313072.34 | S14: =+G14*R14 -> 3130723.4 | T14: 289321 | U14: =T14*19% -> 54970.99 | V14: =T14+U14 -> 344291.99 | W14: =+G14*V14 -> 3442919.9 | X14: 270822 | Y14: =+X14*0.19 -> 51456.18 | Z14: =+X14+Y14 -> 322278.18 | AA14: =+G14*Z14 -> 3222781.8 | AB14: =+AD14/1.19 -> 117647.06 | AC14: =+AD14-AB14 -> 22352.941 | AD14: 140000 | AE14: =+G14*AD14 -> 1400000 | AF14: =+GEOMEAN(H14,L14,P14,T14,X14,AB14) -> 221925.24 | AG14: =+GEOMEAN(J14,N14,R14,V14,Z14,AD14) -> 264091.04 | AH14: =+HARMEAN(H14,L14,P14,T14,X14,AB14) -> 209066.94 | AI14: =+HARMEAN(J14,N14,R14,V14,Z14,AD14) -> 248789.66
C15: 1.10 | D15: RODILLO PARA REPOSTERÍA | E15: RODILLO PARA REPOSTERIA, FABRICADO EN PVC CON EJE EN ACERO INOXIDABLE, LARGO TOTAL DE 60 CM. | F15: UN | G15: 2 | H15: 170874 | I15: =H15*19% -> 32466.06 | J15: =H15+I15 -> 203340.06 | K15: =G15*J15 -> 406680.12 | L15: 119117.65 | M15: =L15*19% -> 22632.353 | N15: =L15+M15 -> 141750 | O15: =+G15*N15 -> 283500 | P15: 166442 | Q15: =+P15*0.19 -> 31623.98 | R15: =+P15+Q15 -> 198065.98 | S15: =+G15*R15 -> 396131.96 | T15: 176152 | U15: =T15*19% -> 33468.88 | V15: =T15+U15 -> 209620.88 | W15: =+G15*V15 -> 419241.76 | X15: 164358 | Y15: =+X15*0.19 -> 31228.02 | Z15: =+X15+Y15 -> 195586.02 | AA15: =+G15*Z15 -> 391172.04 | AB15: =+AD15/1.19 -> 117647.06 | AC15: =+AD15-AB15 -> 22352.941 | AD15: 140000 | AE15: =+G15*AD15 -> 280000 | AF15: =+GEOMEAN(H15,L15,P15,T15,X15,AB15) -> 150324.26 | AG15: =+GEOMEAN(J15,N15,R15,V15,Z15,AD15) -> 178885.87 | AH15: =+HARMEAN(H15,L15,P15,T15,X15,AB15) -> 148087.37 | AI15: =+HARMEAN(J15,N15,R15,V15,Z15,AD15) -> 176223.98
C16: 1.11 | D16: RALLADOR EN ACERO | E16: RALLADOR EN ACERO INOXIDABLE, ALTO MINIMO DE 22 CM, CON MANGO ERGONOMICO, BASE ANTIDESLIZABLE, 4 CARAS CON DIFERENTES TIPOS DE CORTE. | F16: UN | G16: 2 | H16: 74571 | I16: =H16*19% -> 14168.49 | J16: =H16+I16 -> 88739.49 | K16: =G16*J16 -> 177478.98 | L16: 52815.126 | M16: =L16*19% -> 10034.874 | N16: =L16+M16 -> 62850 | O16: =+G16*N16 -> 125700 | P16: 73426 | Q16: =+P16*0.19 -> 13950.94 | R16: =+P16+Q16 -> 87376.94 | S16: =+G16*R16 -> 174753.88 | T16: 78699 | U16: =T16*19% -> 14952.81 | V16: =T16+U16 -> 93651.81 | W16: =+G16*V16 -> 187303.62 | X16: 78538 | Y16: =+X16*0.19 -> 14922.22 | Z16: =+X16+Y16 -> 93460.22 | AA16: =+G16*Z16 -> 186920.44 | AB16: =+AD16/1.19 -> 16806.723 | AC16: =+AD16-AB16 -> 3193.2773 | AD16: 20000 | AE16: =+G16*AD16 -> 40000 | AF16: =+GEOMEAN(H16,L16,P16,T16,X16,AB16) -> 55755.157 | AG16: =+GEOMEAN(J16,N16,R16,V16,Z16,AD16) -> 66348.636 | AH16: =+HARMEAN(H16,L16,P16,T16,X16,AB16) -> 45835.643 | AI16: =+HARMEAN(J16,N16,R16,V16,Z16,AD16) -> 54544.415
C17: 1.12 | D17: JUEGO DE BOWL'S EN ACERO | E17: JUEGO DE BOWL'S EN ACERO INOXIDABLE DE 4 PIEZAS (14, 18, 21 Y 26 CM DE DIAMETRO). | F17: UN | G17: 4 | H17: 398574 | I17: =H17*19% -> 75729.06 | J17: =H17+I17 -> 474303.06 | K17: =G17*J17 -> 1897212.2 | L17: 251974.79 | M17: =L17*19% -> 47875.21 | N17: =L17+M17 -> 299850 | O17: =+G17*N17 -> 1199400 | P17: 380486 | Q17: =+P17*0.19 -> 72292.34 | R17: =+P17+Q17 -> 452778.34 | S17: =+G17*R17 -> 1811113.4 | T17: 405317 | U17: =T17*19% -> 77010.23 | V17: =T17+U17 -> 482327.23 | W17: =+G17*V17 -> 1929308.9 | X17: 379948 | Y17: =+X17*0.19 -> 72190.12 | Z17: =+X17+Y17 -> 452138.12 | AA17: =+G17*Z17 -> 1808552.5 | AB17: =+AD17/1.19 -> 47815.126 | AC17: =+AD17-AB17 -> 9084.8739 | AD17: 56900 | AE17: =+G17*AD17 -> 227600 | AF17: =+GEOMEAN(H17,L17,P17,T17,X17,AB17) -> 255985.19 | AG17: =+GEOMEAN(J17,N17,R17,V17,Z17,AD17) -> 304622.37 | AH17: =+HARMEAN(H17,L17,P17,T17,X17,AB17) -> 170848.46 | AI17: =+HARMEAN(J17,N17,R17,V17,Z17,AD17) -> 203309.67
... C37: 1.32 | D37: DESFIBRILADOR EXTERNO | E37: DESFIBRILADOR EXTERNO AUTOMATICO, DESCARGA ELECTRICA AUTOMATICA, ENERGÍA DE HASTA 200 JOULES. DEBE PERMITIR OPERACIÓN EN NIÑOS Y ADULTOS. METRONOMO DE FRECUENCIA INCORPORADO Y ELECTRODOS PRECONECTADOS. ALMACENAMIENTO DE MINIMO 1,5 HORAS DE DATOS DE INTERVENCIÓN. BATERÍA DE LARGA DURACIÓN. COMPROBACIÓN AUTOMATICA DEL ESTADO DE LOS ELECTRODOS Y LA BATERÍA. | F37: UN | G37: 1 | H37: 10992317 | I37: =H37*19% -> 2088540.2 | J37: =H37+I37 -> 13080857 | K37: =G37*J37 -> 13080857 | L37: 8010000 | M37: =L37*19% -> 1521900 | N37: =L37+M37 -> 9531900 | O37: =+G37*N37 -> 9531900 | P37: 11702759 | Q37: =+P37*0.19 -> 2223524.2 | R37: =+P37+Q37 -> 13926283 | S37: =+G37*R37 -> 13926283 | T37: 11023569 | U37: =T37*19% -> 2094478.1 | V37: =T37+U37 -> 13118047 | W37: =+G37*V37 -> 13118047 | X37: 10214941 | Y37: =+X37*0.19 -> 1940838.8 | Z37: =+X37+Y37 -> 12155780 | AA37: =+G37*Z37 -> 12155780 | AB37: =+AD37/1.19 -> 5042016.8 | AC37: =+AD37-AB37 -> 957983.19 | AD37: 6000000 | AE37: =+G37*AD37 -> 6000000 | AF37: =+GEOMEAN(H37,L37,P37,T37,X37,AB37) -> 9145246.2 | AG37: =+GEOMEAN(J37,N37,R37,V37,Z37,AD37) -> 10882843 | AH37: =+HARMEAN(H37,L37,P37,T37,X37,AB37) -> 8718264.3 | AI37: =+HARMEAN(J37,N37,R37,V37,Z37,AD37) -> 10374734
C38: TOTAL SIBATE | H38: =SUM(H6:H37) -> 30258578 | I38: =SUM(I6:I37) -> 5749129.8 | J38: =SUM(J6:J37) -> 36007708 | K38: =SUM(K6:K37) -> 65361343 | L38: =SUM(L6:L37) -> 25856746 | M38: =SUM(M6:M37) -> 4912781.8 | N38: =SUM(N6:N37) -> 30769528 | O38: =SUM(O6:O37) -> 60680142 | ... AI38: =SUM(AI6:AI37) -> 27135199
C39: 2. SIMIJACA
C40: ITEM | D40: PRODUCTO / SERVICIO | E40: DESCRIPCIÓN PRODUCTO / SERVICIO | F40: UNIDAD DE MEDIDA | G40: CANTIDAD | H40: VALOR UNITARIO SIN IVA | I40: IVA | J40: VALOR UNITARIO CON IVA | K40: VALOR TOTAL (VALOR UNITARIO CON IVA X CANTIDAD) | L40: VALOR UNITARIO SIN IVA | M40: IVA | N40: VALOR UNITARIO CON IVA | O40: VALOR TOTAL (VALOR UNITARIO CON IVA X CANTIDAD) | P40: VALOR UNITARIO SIN IVA | Q40: IVA | R40: VALOR UNITARIO CON IVA | S40: VALOR TOTAL (VALOR UNITARIO CON IVA X CANTIDAD) | T40: VALOR UNITARIO SIN IVA | U40: IVA | V40: VALOR UNITARIO CON IVA | W40: VALOR TOTAL (VALOR UNITARIO CON IVA X CANTIDAD) | X40: VALOR UNITARIO SIN IVA | Y40: IVA | Z40: VALOR UNITARIO CON IVA | AA40: VALOR TOTAL (VALOR UNITARIO CON IVA X CANTIDAD) | AB40: VALOR UNITARIO SIN IVA | AC40: IVA | AD40: VALOR UNITARIO CON IVA | AE40: VALOR TOTAL (VALOR UNITARIO CON IVA X CANTIDAD) | AF40: VALOR UNITARIO SIN IVA | AG40: VALOR UNITARIO CON IVA | AH40: VALOR UNITARIO SIN IVA | AI40: VALOR UNITARIO CON IVA
C41: 2.1 | D41: AVISO EN CAJA PARA FACHADA | E41: AVISO EN CAJA PARA FACHADA DE 2.5 m x 0.75 m. IMPRESO EN BANNER TRASLUCIDO FULL COLOR, LAMINADO RESISTENTE A RAYOS UV. ILUMINACIÓN INTERNA TIPO LED DE ALTA DURABILIDAD, CONEXIÓN ELECTRICA A 110 V. CANTONERAS EN ALUMINIO. SE DEBE INTRAGAR INSTALADO EN SITIO. | F41: UN | G41: 1 | H41: 3806471 | I41: =H41*19% -> 723229.49 | J41: =H41+I41 -> 4529700.5 | K41: =G41*J41 -> 4529700.5 | L41: 2016806.7 | M41: =L41*19% -> 383193.28 | N41: =L41+M41 -> 2400000 | O41: =+G41*N41 -> 2400000 | P41: 3744578 | Q41: =+P41*0.19 -> 711469.82 | R41: =+P41+Q41 -> 4456047.8 | S41: =+G41*R41 -> 4456047.8 | T41: 3642494 | U41: =T41*19% -> 692073.86 | V41: =T41+U41 -> 4334567.9 | W41: =+G41*V41 -> 4334567.9 | X41: 3900235 | Y41: =+X41*0.19 -> 741044.65 | Z41: =+X41+Y41 -> 4641279.7 | AA41: =+G41*Z41 -> 4641279.7 | AF41: =+GEOMEAN(H41,L41,P41,T41,X41,AB41) -> 3328249.4 | AG41: =+GEOMEAN(J41,N41,R41,V41,Z41,AD41) -> 3960616.8 | AH41: =+HARMEAN(H41,L41,P41,T41,X41,AB41) -> 3212276.3 | AI41: =+HARMEAN(J41,N41,R41,V41,Z41,AD41) -> 3822608.8
C42: 2.2 | D42: PLANCHA A VAPOR SEMI-INDUSTRIAL | E42: PLANCHA A VAPOR USO SEMI-INDUSTRIAL, CUERPO EN ACERO INOXIDABLE, TANQUE DE AGUA DE MINIMO 4 LITROS DE ALMACENAMIENTO, SISTEMA DE ANTIGOTEO, CONTROL DE TEMPERATURA MANUAL. INCLUYE: GALON, MANGUERA Y BASE. | F42: UN | G42: 1 | H42: 618098 | I42: =H42*19% -> 117438.62 | J42: =H42+I42 -> 735536.62 | K42: =G42*J42 -> 735536.62 | L42: 520588.24 | M42: =L42*19% -> 98911.765 | N42: =L42+M42 -> 619500 | O42: =+G42*N42 -> 619500 | P42: 587778 | Q42: =+P42*0.19 -> 111677.82 | R42: =+P42+Q42 -> 699455.82 | S42: =+G42*R42 -> 699455.82 | T42: 613829 | U42: =T42*19% -> 116627.51 | V42: =T42+U42 -> 730456.51 | W42: =+G42*V42 -> 730456.51 | X42: 628160 | Y42: =+X42*0.19 -> 119350.4 | Z42: =+X42+Y42 -> 747510.4 | AA42: =+G42*Z42 -> 747510.4 | AB42: =+AD42/1.19 -> 403361.34 | AC42: =+AD42-AB42 -> 76638.655 | AD42: 480000 | AE42: =+G42*AD42 -> 480000 | AF42: =+GEOMEAN(H42,L42,P42,T42,X42,AB42) -> 555600.76 | AG42: =+GEOMEAN(J42,N42,R42,V42,Z42,AD42) -> 661164.9 | AH42: =+HARMEAN(H42,L42,P42,T42,X42,AB42) -> 548429.58 | AI42: =+HARMEAN(J42,N42,R42,V42,Z42,AD42) -> 652631.2
C43: 2.3 | D43: CABINA DE SONIDO ACTIVA DE 1000 WATTS | E43: CABINA DE SONIDO ACTIVA DE 1000 WATTS, 2 LINEAS, AMPLIFICADOR CLASED. ASAS ERGONOMICAS PARA COMODO AGARRE. DEBE CONTAR CON PUNTOS DE FIJACIÓN PARA INSTALACIÓN EN MODO SUSPENDIDO. DEBE INCLUIR: 1 SISTEMA DE SOPORTE TIPO TRIPO DE PLEGABLE DE ALUMINIO CON AJUSTE DE ALTURA, 1 MICROFONO ALAMBRICO, CABLE DE PODER Y CABLES PARA SU CORRECTO FUNCIONAMIENTO. | F43: UN | G43: 1 | H43: 3990000 | I43: =H43*19% -> 758100 | J43: =H43+I43 -> 4748100 | K43: =G43*J43 -> 4748100 | L43: 2431512.6 | M43: =L43*19% -> 461987.39 | N43: =L43+M43 -> 2893500 | O43: =+G43*N43 -> 2893500 | P43: 4244254 | Q43: =+P43*0.19 -> 806408.26 | R43: =+P43+Q43 -> 5050662.3 | S43: =+G43*R43 -> 5050662.3 | T43: 4348132 | U43: =T43*19% -> 826145.08 | V43: =T43+U43 -> 5174277.1 | W43: =+G43*V43 -> 5174277.1 | X43: 4084624 | Y43: =+X43*0.19 -> 776078.56 | Z43: =+X43+Y43 -> 4860702.6 | AA43: =+G43*Z43 -> 4860702.6 | AB43: =+AD43/1.19 -> 1621008.4 | AC43: =+AD43-AB43 -> 307991.6 | AD43: 1929000 | AE43: =+G43*AD43 -> 1929000 | AF43: =+GEOMEAN(H43,L43,P43,T43,X43,AB43) -> 3253232.8 | AG43: =+GEOMEAN(J43,N43,R43,V43,Z43,AD43) -> 3871347 | AH43: =+HARMEAN(H43,L43,P43,T43,X43,AB43) -> 3016272.5 | AI43: =+HARMEAN(J43,N43,R43,V43,Z43,AD43) -> 3589364.2
C44: 2.4 | D44: VIDEO BEAM | E44: VIDEO BEAM CON RESOLUCIÓN 1024x768, BRILLO MINIMO DE 3300 LUMENES (BLANCO Y COLOR), VIDA UTIL LAMPARA HASTA 12.000 HORAS, PUERTOS: RCA/HDMI/USB/STEREO/RS-232. ALIMENTACION 100v-240v, 50-60HZ, CUENTA CON MODO DE OPERACIÓN PARA DISMINUCIÓN DE CONSUMO ELECTRICO. INCLUYE CONTROL REMOTO. | F44: UN | G44: 1 | H44: 3220336 | I44: =H44*19% -> 611863.84 | J44: =H44+I44 -> 3832199.8 | K44: =G44*J44 -> 3832199.8 | L44: 2475000 | M44: =L44*19% -> 470250 | N44: =L44+M44 -> 2945250 | O44: =+G44*N44 -> 2945250 | P44: 3562886 | Q44: =+P44*0.19 -> 676948.34 | R44: =+P44+Q44 -> 4239834.3 | S44: =+G44*R44 -> 4239834.3 | T44: 3384406 | U44: =T44*19% -> 643037.14 | V44: =T44+U44 -> 4027443.1 | W44: =+G44*V44 -> 4027443.1 | X44: 3303044 | Y44: =+X44*0.19 -> 627578.36 | Z44: =+X44+Y44 -> 3930622.4 | AA44: =+G44*Z44 -> 3930622.4 | AB44: =+AD44/1.19 -> 2168067.2 | AC44: =+AD44-AB44 -> 411932.77 | AD44: 2580000 | AE44: =+G44*AD44 -> 2580000 | AF44: =+GEOMEAN(H44,L44,P44,T44,X44,AB44) -> 2971378.5 | AG44: =+GEOMEAN(J44,N44,R44,V44,Z44,AD44) -> 3535940.4 | AH44: =+HARMEAN(H44,L44,P44,T44,X44,AB44) -> 2920130.7 | AI44: =+HARMEAN(J44,N44,R44,V44,Z44,AD44) -> 3474955.6
C45: 2.5 | D45: COMPUTADOR PORTÁTIL | E45: COMPUTADOR PORTATIL CON PROCESADOR DE 8 NUCLEOS Y FRECUENCIA DE 3,3 GHZ, MEMORIA RAM DDR4 DE 16 GB, DISCO DE ESTADO SOLIDO DE 512 GB. PANTALLA TACTIL DE MINIMO 15", RESOLUCIÓN FHD (19020 x 1080). TARJETA GRAFICA INTEGRADA. CAMARA CON RESOLUCIÓN MINIMO 1080P. PUERTOS Y/O RANURAS: 1 PUERTO USB-C, 2 PUERTO USB-A, 1 PUERTO HDMI, 1 LECTOR DE TARJETAS SD, 1 TOMA PARA AURICURALES. SISTEMA OPERATIVO WINDOWS 11 EN CUALQUIERA DE SUS VERSIONES. INCLUYE CARGADOR. | F45: UN | G45: 1 | H45: 4063000 | I45: =H45*19% -> 771970 | J45: =H45+I45 -> 4834970 | K45: =G45*J45 -> 4834970 | L45: 2646932.8 | M45: =L45*19% -> 502917.23 | N45: =L45+M45 -> 3149850 | O45: =+G45*N45 -> 3149850 | P45: 3907847 | Q45: =+P45*0.19 -> 742490.93 | R45: =+P45+Q45 -> 4650337.9 | S45: =+G45*R45 -> 4650337.9 | T45: 4049283 | U45: =T45*19% -> 769363.77 | V45: =T45+U45 -> 4818646.8 | W45: =+G45*V45 -> 4818646.8 | X45: 3790962 | Y45: =+X45*0.19 -> 720282.78 | Z45: =+X45+Y45 -> 4511244.8 | AA45: =+G45*Z45 -> 4511244.8 | AB45: =+AD45/1.19 -> 4638428.6 | AC45: =+AD45-AB45 -> 881301.43 | AD45: 5519730 | AE45: =+G45*AD45 -> 5519730 | AF45: =+GEOMEAN(H45,L45,P45,T45,X45,AB45) -> 3796099.8 | AG45: =+GEOMEAN(J45,N45,R45,V45,Z45,AD45) -> 4517358.7 | AH45: =+HARMEAN(H45,L45,P45,T45,X45,AB45) -> 3735646.8 | AI45: =+HARMEAN(J45,N45,R45,V45,Z45,AD45) -> 4445419.7
C46: 2.6 | D46: IMPRESORA MULTIFUNCIONAL | E46: IMPRESORA MULTIFUNCIONAL CON SISTEMA DE IMPRESIÓN DE INYECCIÓN TIPO TANQUE, RESOLUCIÓN DE IMPRESIÓN MINIMA DE 5760X1440 DPI, VELOCIDAD DE IMPRESIÓN DE 33PPM EN NEGRO Y 15PPM A COLOR. RESOLUCIÓN OPTICA PARA COPIAS Y ESCANER DE 600x1200 DPI. CONECTIVIDAD DE ALTA VELOCIDAD USB. COMPATIBILIDAD CON SISTEMAS OPERATIVOS WINDOWS Y MAC. VOLTAJE DE ALIMENTACIÓN DE 110V. DEBE INCLUIR UN JUEGO DE TINTAS DE CADA COLOR (NEGRO, CYAN, MAGENTA, AMARILLO). | F46: UN | G46: 1 | H46: 1474185 | I46: =H46*19% -> 280095.15 | J46: =H46+I46 -> 1754280.1 | K46: =G46*J46 -> 1754280.1 | L46: 2546092.4 | M46: =L46*19% -> 483757.56 | N46: =L46+M46 -> 3029850 | O46: =+G46*N46 -> 3029850 | P46: 1686122 | Q46: =+P46*0.19 -> 320363.18 | R46: =+P46+Q46 -> 2006485.2 | S46: =+G46*R46 -> 2006485.2 | T46: 1526486 | U46: =T46*19% -> 290032.34 | V46: =T46+U46 -> 1816518.3 | W46: =+G46*V46 -> 1816518.3 | X46: 1498029 | Y46: =+X46*0.19 -> 284625.51 | Z46: =+X46+Y46 -> 1782654.5 | AA46: =+G46*Z46 -> 1782654.5 | AB46: =+AD46/1.19 -> 3142857.1 | AC46: =+AD46-AB46 -> 597142.86 | AD46: 3740000 | AE46: =+G46*AD46 -> 3740000 | AF46: =+GEOMEAN(H46,L46,P46,T46,X46,AB46) -> 1889334.3 | AG46: =+GEOMEAN(J46,N46,R46,V46,Z46,AD46) -> 2248307.8 | AH46: =+HARMEAN(H46,L46,P46,T46,X46,AB46) -> 1815430.3 | AI46: =+HARMEAN(J46,N46,R46,V46,Z46,AD46) -> 2160362.1
C47: 2.7 | D47: KIT DE TINTAS GENÉRICAS | E47: KIT DE TINTAS GENERICAS PARA IMPRESORAS DE INYECCIÓN. INCLUYE: 1 LITRO DE TINTA COLOR NEGRO, 1 LITRO DE TINTA COLOR MAGENTA, 1 LITRO DE TINTA COLOR AMARILLA, 1 LITRO DE TINTA COLOR CYAN. | F47: UN | G47: 1 | H47: 173466 | I47: =H47*19% -> 32958.54 | J47: =H47+I47 -> 206424.54 | K47: =G47*J47 -> 206424.54 | L47: 180126.05 | M47: =L47*19% -> 34223.95 | N47: =L47+M47 -> 214350 | O47: =+G47*N47 -> 214350 | P47: 162684 | Q47: =+P47*0.19 -> 30909.96 | R47: =+P47+Q47 -> 193593.96 | S47: =+G47*R47 -> 193593.96 | T47: 175898 | U47: =T47*19% -> 33420.62 | V47: =T47+U47 -> 209318.62 | W47: =+G47*V47 -> 209318.62 | X47: 168572 | Y47: =+X47*0.19 -> 32028.68 | Z47: =+X47+Y47 -> 200600.68 | AA47: =+G47*Z47 -> 200600.68 | AB47: =+AD47/1.19 -> 147058.82 | AC47: =+AD47-AB47 -> 27941.176 | AD47: 175000 | AE47: =+G47*AD47 -> 175000 | AF47: =+GEOMEAN(H47,L47,P47,T47,X47,AB47) -> 167601.87 | AG47: =+GEOMEAN(J47,N47,R47,V47,Z47,AD47) -> 199446.23 | AH47: =+HARMEAN(H47,L47,P47,T47,X47,AB47) -> 167220.96 | AI47: =+HARMEAN(J47,N47,R47,V47,Z47,AD47) -> 198992.95
C48: 2.8 | D48: TABLERO ACRÍLICO | E48: TABLERO ACRILICO DE 2.4 m x 1.2 m, ESTRUCTURA DE MINIMO 1 CM DE ESPESOR, FORMICA BRILLANTE DE ALTA DURABILIDAD Y FACIL LIMPIEZA, BORDES EN ALUMINIO. | F48: UN | G48: 1 | H48: 551748 | I48: =H48*19% -> 104832.12 | J48: =H48+I48 -> 656580.12 | K48: =G48*J48 -> 656580.12 | L48: 804303 | M48: =L48*19% -> 152817.57 | N48: =L48+M48 -> 957120.57 | O48: =+G48*N48 -> 957120.57 | P48: 526151 | Q48: =+P48*0.19 -> 99968.69 | R48: =+P48+Q48 -> 626119.69 | S48: =+G48*R48 -> 626119.69 | T48: 593083 | U48: =T48*19% -> 112685.77 | V48: =T48+U48 -> 705768.77 | W48: =+G48*V48 -> 705768.77 | X48: 564590 | Y48: =+X48*0.19 -> 107272.1 | Z48: =+X48+Y48 -> 671862.1 | AA48: =+G48*Z48 -> 671862.1 | AB48: =+AD48/1.19 -> 450000 | AC48: =+AD48-AB48 -> 85500 | AD48: 535500 | AE48: =+G48*AD48 -> 535500 | AF48: =+GEOMEAN(H48,L48,P48,T48,X48,AB48) -> 572429.5 | AG48: =+GEOMEAN(J48,N48,R48,V48,Z48,AD48) -> 681191.1 | AH48: =+HARMEAN(H48,L48,P48,T48,X48,AB48) -> 564129.65 | AI48: =+HARMEAN(J48,N48,R48,V48,Z48,AD48) -> 671314.29
C49: 2.9 | D49: TERMOFIJADORA MULTIUSOS | E49: TERMOFIJADORA MULTIUSOS, PERMITE ESTAMPADO EN DIFERENTES MATERIALES: CERAMICA, VIDRIO, TEXTILES, PLASTICO, CARTON, ALUMINIO Y ACERO. CUENTA CON: 1 ESTAMPADORA DE CAMISETAS, 1 ESTAMPADORA DE GORRAS, 4 SUBLIMADOAS PARA POCILLOS O MUGS, 2 MAQUINAS PARA ESTAMPAR PLATOS. CONTROL DIGITAL DE TIEMPO Y TEMPERATURA, RESISTENCIAS INTERCAMBIABLES. ESTRUCTURA METALICA, RESISTENCIAS EN CAUCHOS SILICONADO, PROTECTORES CON TEFLON. AREA MAXIMA DE ESTAMPACIÓN DE 38 x 29 CM. CONEXIÓN ELECTRICA A 110V. | F49: UN | G49: 1 | H49: 2567274 | I49: =H49*19% -> 487782.06 | J49: =H49+I49 -> 3055056.1 | K49: =G49*J49 -> 3055056.1 | L49: 1865546.2 | M49: =L49*19% -> 354453.78 | N49: =L49+M49 -> 2220000 | O49: =+G49*N49 -> 2220000 | P49: 2493789 | Q49: =+P49*0.19 -> 473819.91 | R49: =+P49+Q49 -> 2967608.9 | S49: =+G49*R49 -> 2967608.9 | T49: 2714089 | U49: =T49*19% -> 515676.91 | V49: =T49+U49 -> 3229765.9 | W49: =+G49*V49 -> 3229765.9 | X49: 2685297 | Y49: =+X49*0.19 -> 510206.43 | Z49: =+X49+Y49 -> 3195503.4 | AA49: =+G49*Z49 -> 3195503.4 | AB49: =+AD49/1.19 -> 1512605 | AC49: =+AD49-AB49 -> 287394.96 | AD49: 1800000 | AE49: =+G49*AD49 -> 1800000 | AF49: =+GEOMEAN(H49,L49,P49,T49,X49,AB49) -> 2255519.8 | AG49: =+GEOMEAN(J49,N49,R49,V49,Z49,AD49) -> 2684068.6 | AH49: =+HARMEAN(H49,L49,P49,T49,X49,AB49) -> 2199004.3 | AI49: =+HARMEAN(J49,N49,R49,V49,Z49,AD49) -> 2616815.1
C50: 2.10 | D50: LICUADORA DE 2.1 LITROS | E50: LICUADORA DE 2.1 LITROS, POTENCIA DE 1000 W, 4 VELOCIDADES, CUCHILLAS DESMONTABLES, CONEXIÓN ELECTRICA A 110V/120V, BASE ANTIDESLIZANTE. | F50: UN | G50: 1 | H50: 706739 | I50: =H50*19% -> 134280.41 | J50: =H50+I50 -> 841019.41 | K50: =G50*J50 -> 841019.41 | L50: 756176.47 | M50: =L50*19% -> 143673.53 | N50: =L50+M50 -> 899850 | O50: =+G50*N50 -> 899850 | P50: 670920 | Q50: =+P50*0.19 -> 127474.8 | R50: =+P50+Q50 -> 798394.8 | S50: =+G50*R50 -> 798394.8 | T50: 722567 | U50: =T50*19% -> 137287.73 | V50: =T50+U50 -> 859854.73 | W50: =+G50*V50 -> 859854.73 | X50: 722439 | Y50: =+X50*0.19 -> 137263.41 | Z50: =+X50+Y50 -> 859702.41 | AA50: =+G50*Z50 -> 859702.41 | AB50: =+AD50/1.19 -> 252100.84 | AC50: =+AD50-AB50 -> 47899.16 | AD50: 300000 | AE50: =+G50*AD50 -> 300000 | AF50: =+GEOMEAN(H50,L50,P50,T50,X50,AB50) -> 601129.11 | AG50: =+GEOMEAN(J50,N50,R50,V50,Z50,AD50) -> 715343.64 | AH50: =+HARMEAN(H50,L50,P50,T50,X50,AB50) -> 547310.22 | AI50: =+HARMEAN(J50,N50,R50,V50,Z50,AD50) -> 651299.16
C51: 2.11 | D51: KIT DE TINTAS PARA SUBLIMAR | E51: KIT DE TINTAS PARA SUBLIMAR, INCLUYE: 1 LITRO COLOR AMARILLO, 1 LITRO COLOR CYAN, 1 LITRO COLOR MAGENTA Y 1 LITRO COLOR NEGRO. | F51: UN | G51: 1 | H51: 1196320 | I51: =H51*19% -> 227300.8 | J51: =H51+I51 -> 1423620.8 | K51: =G51*J51 -> 1423620.8 | L51: 1121340 | M51: =L51*19% -> 213054.6 | N51: =L51+M51 -> 1334394.6 | O51: =+G51*N51 -> 1334394.6 | P51: 1180542 | Q51: =+P51*0.19 -> 224302.98 | R51: =+P51+Q51 -> 1404845 | S51: =+G51*R51 -> 1404845 | T51: 1242088 | U51: =T51*19% -> 235996.72 | V51: =T51+U51 -> 1478084.7 | W51: =+G51*V51 -> 1478084.7 | X51: 1175150 | Y51: =+X51*0.19 -> 223278.5 | Z51: =+X51+Y51 -> 1398428.5 | AA51: =+G51*Z51 -> 1398428.5 | AB51: =+AD51/1.19 -> 403361.34 | AC51: =+AD51-AB51 -> 76638.655 | AD51: 480000 | AE51: =+G51*AD51 -> 480000 | AF51: =+GEOMEAN(H51,L51,P51,T51,X51,AB51) -> 988403.66 | AG51: =+GEOMEAN(J51,N51,R51,V51,Z51,AD51) -> 1176200.4 | AH51: =+HARMEAN(H51,L51,P51,T51,X51,AB51) -> 894191.34 | AI51: =+HARMEAN(J51,N51,R51,V51,Z51,AD51) -> 1064087.7
C52: 2.12 | D52: ARCHIVADOR METÁLICO | E52: ARCHIVADOR METALICO DE 3 GAVETAS, FABRICADO EN LAMINA CALIBRE 24 O SUPERIOR, TERMINACIÓN PINTURA ELECTROESTATICA, CORREDERAS FULL EXTENSION, SISTEMA DE SEGURIDAD CON CHAPA. ALTURA MINIMA DEL MUEBLE DE 1 METRO. | F52: UN | G52: 1 | H52: 1683911 | I52: =H52*19% -> 319943.09 | J52: =H52+I52 -> 2003854.1 | K52: =G52*J52 -> 2003854.1 | L52: 1687815.1 | M52: =L52*19% -> 320684.87 | N52: =L52+M52 -> 2008500 | O52: =+G52*N52 -> 2008500 | P52: 1599863 | Q52: =+P52*0.19 -> 303973.97 | R52: =+P52+Q52 -> 1903837 | S52: =+G52*R52 -> 1903837 | T52: 1697456 | U52: =T52*19% -> 322516.64 | V52: =T52+U52 -> 2019972.6 | W52: =+G52*V52 -> 2019972.6 | X52: 1644037 | Y52: =+X52*0.19 -> 312367.03 | Z52: =+X52+Y52 -> 1956404 | AA52: =+G52*Z52 -> 1956404 | AB52: =+AD52/1.19 -> 885714.29 | AC52: =+AD52-AB52 -> 168285.71 | AD52: 1054000 | AE52: =+G52*AD52 -> 1054000 | AF52: =+GEOMEAN(H52,L52,P52,T52,X52,AB52) -> 1496655.2 | AG52: =+GEOMEAN(J52,N52,R52,V52,Z52,AD52) -> 1781019.7 | AH52: =+HARMEAN(H52,L52,P52,T52,X52,AB52) -> 1450046.3 | AI52: =+HARMEAN(J52,N52,R52,V52,Z52,AD52) -> 1725555
C53: 2.13 | D53: SILLA DE LACTANCÍA | E53: SILLA DE LACTANCIA TIPO MECEDORA ACOLCHADA, ESTRUCTURA EN MADERA MACIZA, TELA ANTIFLUIDO DE FACIL LIMPIEZA. ALTURA MINIMA DE 1 METRO. | F53: UN | G53: 1 | H53: 2120748 | I53: =H53*19% -> 402942.12 | J53: =H53+I53 -> 2523690.1 | K53: =G53*J53 -> 2523690.1 | L53: 3767647.1 | M53: =L53*19% -> 715852.94 | N53: =L53+M53 -> 4483500 | O53: =+G53*N53 -> 4483500 | P53: 1999606 | Q53: =+P53*0.19 -> 379925.14 | R53: =+P53+Q53 -> 2379531.1 | S53: =+G53*R53 -> 2379531.1 | T53: 2179377 | U53: =T53*19% -> 414081.63 | V53: =T53+U53 -> 2593458.6 | W53: =+G53*V53 -> 2593458.6 | X53: 2159806 | Y53: =+X53*0.19 -> 410363.14 | Z53: =+X53+Y53 -> 2570169.1 | AA53: =+G53*Z53 -> 2570169.1 | AB53: =+AD53/1.19 -> 1211764.7 | AC53: =+AD53-AB53 -> 230235.29 | AD53: 1442000 | AE53: =+G53*AD53 -> 1442000 | AF53: =+GEOMEAN(H53,L53,P53,T53,X53,AB53) -> 2121346 | AG53: =+GEOMEAN(J53,N53,R53,V53,Z53,AD53) -> 2524401.8 | AH53: =+HARMEAN(H53,L53,P53,T53,X53,AB53) -> 2010628.3 | AI53: =+HARMEAN(J53,N53,R53,V53,Z53,AD53) -> 2392647.6
... C69: 2.29 | D69: OVILLO DE HILO MACRAMÉ 100% ACRILICO | E69: OVILLO DE HILO MACRAMÉ 100% ACRILICO, GROSOR DE 2 mm, PRESENTACIÓN DE OVILLO POR 100 GRAMOS. VARIEDAD DE COLORES A ELEGIR. | F69: UN | G69: 30 | H69: 31268 | I69: =H69*19% -> 5940.92 | J69: =H69+I69 -> 37208.92 | K69: =G69*J69 -> 1116267.6 | L69: 13500 | M69: =L69*19% -> 2565 | N69: =L69+M69 -> 16065 | O69: =+G69*N69 -> 481950 | P69: 30768 | Q69: =+P69*0.19 -> 5845.92 | R69: =+P69+Q69 -> 36613.92 | S69: =+G69*R69 -> 1098417.6 | T69: 32588 | U69: =T69*19% -> 6191.72 | V69: =T69+U69 -> 38779.72 | W69: =+G69*V69 -> 1163391.6 | X69: 32076 | Y69: =+X69*0.19 -> 6094.44 | Z69: =+X69+Y69 -> 38170.44 | AA69: =+G69*Z69 -> 1145113.2 | AB69: =+AD69/1.19 -> 80588.235 | AC69: =+AD69-AB69 -> 15311.765 | AD69: 95900 | AE69: =+G69*AD69 -> 2877000 | AF69: =+GEOMEAN(H69,L69,P69,T69,X69,AB69) -> 32100.154 | AG69: =+GEOMEAN(J69,N69,R69,V69,Z69,AD69) -> 38199.183 | AH69: =+HARMEAN(H69,L69,P69,T69,X69,AB69) -> 28191.804 | AI69: =+HARMEAN(J69,N69,R69,V69,Z69,AD69) -> 33548.247
C70: TOTAL SIMIJACA | H70: =SUM(H41:H69) -> 28305280 | I70: =SUM(I41:I69) -> 5378003.2 | J70: =SUM(J41:J69) -> 33683283 | K70: =SUM(K41:K69) -> 59313071 | L70: =SUM(L41:L69) -> 24585866 | M70: =SUM(M41:M69) -> 4671314.5 | N70: =SUM(N41:N69) -> 29257180 | O70: =SUM(O41:O69) -> 46368715 | ... AI70: =SUM(AI41:AI69) -> 29282206
C71: 3. CAQUEZA
C72: ITEM | D72: PRODUCTO / SERVICIO | E72: DESCRIPCIÓN PRODUCTO / SERVICIO | F72: UNIDAD DE MEDIDA | G72: CANTIDAD | H72: VALOR UNITARIO SIN IVA | I72: IVA | J72: VALOR UNITARIO CON IVA | K72: VALOR TOTAL (VALOR UNITARIO CON IVA X CANTIDAD) | L72: VALOR UNITARIO SIN IVA | M72: IVA | N72: VALOR UNITARIO CON IVA | O72: VALOR TOTAL (VALOR UNITARIO CON IVA X CANTIDAD) | P72: VALOR UNITARIO SIN IVA | Q72: IVA | R72: VALOR UNITARIO CON IVA | S72: VALOR TOTAL (VALOR UNITARIO CON IVA X CANTIDAD) | T72: VALOR UNITARIO SIN IVA | U72: IVA | V72: VALOR UNITARIO CON IVA | W72: VALOR TOTAL (VALOR UNITARIO CON IVA X CANTIDAD) | X72: VALOR UNITARIO SIN IVA | Y72: IVA | Z72: VALOR UNITARIO CON IVA | AA72: VALOR TOTAL (VALOR UNITARIO CON IVA X CANTIDAD) | AB72: VALOR UNITARIO SIN IVA | AC72: IVA | AD72: VALOR UNITARIO CON IVA | AE72: VALOR TOTAL (VALOR UNITARIO CON IVA X CANTIDAD) | AF72: VALOR UNITARIO SIN IVA | AG72: VALOR UNITARIO CON IVA | AH72: VALOR UNITARIO SIN IVA | AI72: VALOR UNITARIO CON IVA
C73: 3.1. | D73: VIDEO BEAM CON RESOLUCIÓN 1024x768 | E73: VIDEO BEAM CON RESOLUCIÓN 1024x768, BRILLO MINIMO DE 3300 LUMENES (BLANCO Y COLOR), VIDA UTIL LAMPARA HASTA 12.000 HORAS, PUERTOS: RCA/HDMI/USB/STEREO/RS-232. ALIMENTACION 100v-240v, 50-60HZ, CUENTA CON MODO DE OPERACIÓN PARA DISMINUCIÓN DE CONSUMO ELECTRICO. INCLUYE CONTROL REMOTO. | F73: UN | G73: 1 | H73: 3220336 | I73: =H73*19% -> 611863.84 | J73: =H73+I73 -> 3832199.8 | K73: =G73*J73 -> 3832199.8 | L73: 3700065.1 | M73: =L73*19% -> 703012.37 | N73: =L73+M73 -> 4403077.5 | O73: =+G73*N73 -> 4403077.5 | P73: 3562886 | Q73: =+P73*0.19 -> 676948.34 | R73: =+P73+Q73 -> 4239834.3 | S73: =+G73*R73 -> 4239834.3 | T73: 3384406 | U73: =T73*19% -> 643037.14 | V73: =T73+U73 -> 4027443.1 | W73: =+G73*V73 -> 4027443.1 | X73: 3303044 | Y73: =+X73*0.19 -> 627578.36 | Z73: =+X73+Y73 -> 3930622.4 | AA73: =+G73*Z73 -> 3930622.4 | AB73: =+AD73/1.19 -> 2168067.2 | AC73: =+AD73-AB73 -> 411932.77 | AD73: 2580000 | AE73: =+G73*AD73 -> 2580000 | AF73: =+GEOMEAN(H73,L73,P73,T73,X73,AB73) -> 3177339.9 | AG73: =+GEOMEAN(J73,N73,R73,V73,Z73,AD73) -> 3781034.5 | AH73: =+HARMEAN(H73,L73,P73,T73,X73,AB73) -> 3123490.9 | AI73: =+HARMEAN(J73,N73,R73,V73,Z73,AD73) -> 3716954.2
C74: 3.2 | D74: COMPUTADOR DE ESCRITORIO | E74: COMPUTADOR DE ESCRITORIO CON PROCESADOR MINIMO DE 8 NUCLEOS Y 3,4GHz DE FRECUENCIA DE RELOJ, MEMORIA RAM DDR4 DE 16 GB, 1 DISCO DURO HDD DE 1 TB Y 1 DISCO DURO SDD DE 512 GB, CON TARJETA GRAFICA Y TARJETA DE RED 100/1000 Y CONEXIÓN WIFI, SISTEMA OPERATIVO WINDOWS 10 O SUPERIOR EN LA VERSION PRO, MONITOR CON RESOLUCIÓN FULL HD Y TAMAÑO MINIMO DE 21". TECLADO Y MOUSE ESTANDAR CON CONEXIÓN USB. EL EQUIPO SE DEBE ENTREGAR TOTALMENTE ENSAMBLADO Y FUNCIONANDO. CPU, MONITOR, MOUSE Y TECLADO DEBEN SER COMPATIBLES Y DEL MISMO FABRICANTE. SE DEBE INCLUIR DISPOSITIVO EXTERNO PARA CONEXIÓN ELECTRICA CON SUPRESIÓN DE PICOS. | F74: UN | G74: 2 | H74: 3937368 | I74: =H74*19% -> 748099.92 | J74: =H74+I74 -> 4685467.9 | K74: =G74*J74 -> 9370935.8 | L74: 5555400 | M74: =L74*19% -> 1055526 | N74: =L74+M74 -> 6610926 | O74: =+G74*N74 -> 13221852 | P74: 4348849 | Q74: =+P74*0.19 -> 826281.31 | R74: =+P74+Q74 -> 5175130.3 | S74: =+G74*R74 -> 10350261 | T74: 4048272 | U74: =T74*19% -> 769171.68 | V74: =T74+U74 -> 4817443.7 | W74: =+G74*V74 -> 9634887.4 | X74: 4087929 | Y74: =+X74*0.19 -> 776706.51 | Z74: =+X74+Y74 -> 4864635.5 | AA74: =+G74*Z74 -> 9729271 | AB74: =+AD74/1.19 -> 3557142.9 | AC74: =+AD74-AB74 -> 675857.14 | AD74: 4233000 | AE74: =+G74*AD74 -> 8466000 | AF74: =+GEOMEAN(H74,L74,P74,T74,X74,AB74) -> 4214004.6 | AG74: =+GEOMEAN(J74,N74,R74,V74,Z74,AD74) -> 5014665.4 | AH74: =+HARMEAN(H74,L74,P74,T74,X74,AB74) -> 4176255.2 | AI74: =+HARMEAN(J74,N74,R74,V74,Z74,AD74) -> 4969743.6
C75: 3.3 | D75: IMPRESORA MULTIFUNCIONAL | E75: IMPRESORA MULTIFUNCIONAL CON SISTEMA DE IMPRESIÓN DE INYECCIÓN TIPO TANQUE, RESOLUCIÓN DE IMPRESIÓN MINIMA DE 5760X1440 DPI, VELOCIDAD DE IMPRESIÓN DE 33PPM EN NEGRO Y 15PPM A COLOR. RESOLUCIÓN OPTICA PARA COPIAS Y ESCANER DE 600x1200 DPI. CONECTIVIDAD DE ALTA VELOCIDAD USB. COMPATIBILIDAD CON SISTEMAS OPERATIVOS WINDOWS Y MAC. VOLTAJE DE ALIMENTACIÓN DE 110V. DEBE INCLUIR UN JUEGO DE TINTAS DE CADA COLOR (NEGRO, CYAN, MAGENTA, AMARILLO). | F75: UN | G75: 1 | H75: 1474185 | I75: =H75*19% -> 280095.15 | J75: =H75+I75 -> 1754280.1 | K75: =G75*J75 -> 1754280.1 | L75: 1586974.8 | M75: =L75*19% -> 301525.21 | N75: =L75+M75 -> 1888500 | O75: =+G75*N75 -> 1888500 | P75: 1686122 | Q75: =+P75*0.19 -> 320363.18 | R75: =+P75+Q75 -> 2006485.2 | S75: =+G75*R75 -> 2006485.2 | T75: 1526486 | U75: =T75*19% -> 290032.34 | V75: =T75+U75 -> 1816518.3 | W75: =+G75*V75 -> 1816518.3 | X75: 1498029 | Y75: =+X75*0.19 -> 284625.51 | Z75: =+X75+Y75 -> 1782654.5 | AA75: =+G75*Z75 -> 1782654.5 | AB75: =+AD75/1.19 -> 3142857.1 | AC75: =+AD75-AB75 -> 597142.86 | AD75: 3740000 | AE75: =+G75*AD75 -> 3740000 | AF75: =+GEOMEAN(H75,L75,P75,T75,X75,AB75) -> 1746189.8 | AG75: =+GEOMEAN(J75,N75,R75,V75,Z75,AD75) -> 2077965.9 | AH75: =+HARMEAN(H75,L75,P75,T75,X75,AB75) -> 1693780.1 | AI75: =+HARMEAN(J75,N75,R75,V75,Z75,AD75) -> 2015598.3
C76: 3.4 | D76: SILLA PLÁSTICA CON BRAZOS | E76: SILLA PLÁSTICA CON BRAZOS, RESISTENCIA MINIMA DE 115 KILOS. MEDIDAS APROXIMADAS DE 57 x 60 x 80 CM. COLOR BLANCO O CAFE. | F76: UN | G76: 40 | H76: 75571 | I76: =H76*19% -> 14358.49 | J76: =H76+I76 -> 89929.49 | K76: =G76*J76 -> 3597179.6 | L76: 75504.202 | M76: =L76*19% -> 14345.798 | N76: =L76+M76 -> 89850 | O76: =+G76*N76 -> 3594000 | P76: 88777 | Q76: =+P76*0.19 -> 16867.63 | R76: =+P76+Q76 -> 105644.63 | S76: =+G76*R76 -> 4225785.2 | T76: 76923 | U76: =T76*19% -> 14615.37 | V76: =T76+U76 -> 91538.37 | W76: =+G76*V76 -> 3661534.8 | X76: 77771 | Y76: =+X76*0.19 -> 14776.49 | Z76: =+X76+Y76 -> 92547.49 | AA76: =+G76*Z76 -> 3701899.6 | AB76: =+AD76/1.19 -> 75571.429 | AC76: =+AD76-AB76 -> 14358.571 | AD76: 89930 | AE76: =+G76*AD76 -> 3597200 | AF76: =+GEOMEAN(H76,L76,P76,T76,X76,AB76) -> 78218.542 | AG76: =+GEOMEAN(J76,N76,R76,V76,Z76,AD76) -> 93080.064 | AH76: =+HARMEAN(H76,L76,P76,T76,X76,AB76) -> 78092.609 | AI76: =+HARMEAN(J76,N76,R76,V76,Z76,AD76) -> 92930.205
C77: 3.5 | D77: MESA PLÁSTICA DE 4 PUESTOS | E77: MESA PLÁSTICA DE 4 PUESTOS, MEDIDAS APROXIMADAS DE 80 x 80 x 72 CM. COLOR BLANCO O CAFÉ. | F77: UN | G77: 10 | H77: 231765 | I77: =H77*19% -> 44035.35 | J77: =H77+I77 -> 275800.35 | K77: =G77*J77 -> 2758003.5 | L77: 176344.54 | M77: =L77*19% -> 33505.462 | N77: =L77+M77 -> 209850 | O77: =+G77*N77 -> 2098500 | P77: 266769 | Q77: =+P77*0.19 -> 50686.11 | R77: =+P77+Q77 -> 317455.11 | S77: =+G77*R77 -> 3174551.1 | T77: 245747 | U77: =T77*19% -> 46691.93 | V77: =T77+U77 -> 292438.93 | W77: =+G77*V77 -> 2924389.3 | X77: 232709 | Y77: =+X77*0.19 -> 44214.71 | Z77: =+X77+Y77 -> 276923.71 | AA77: =+G77*Z77 -> 2769237.1 | AB77: =+AD77/1.19 -> 178571.43 | AC77: =+AD77-AB77 -> 33928.571 | AD77: 212500 | AE77: =+G77*AD77 -> 2125000 | AF77: =+GEOMEAN(H77,L77,P77,T77,X77,AB77) -> 219335.92 | AG77: =+GEOMEAN(J77,N77,R77,V77,Z77,AD77) -> 261009.75 | AH77: =+HARMEAN(H77,L77,P77,T77,X77,AB77) -> 216603.12 | AI77: =+HARMEAN(J77,N77,R77,V77,Z77,AD77) -> 257757.71
C78: 3.6 | D78: ESCRITORIO LINEAL CON ESTRUCTURA EN TUBO METALICO | E78: ESCRITORIO LINEAL CON ESTRUCTURA EN TUBO METALICO CUADRADO O RECTANGULAR DE 2", TERMINACIÓN EN PINTURA ELECTROESTATICA, SUPERFICIE CON RECUBRIMIENTO EN MELAMINA DE 30mm. DIMENSIONES: 150 X 60 CM. INCLUYE CAJONERA EN LAMINA CALIBRE 22. | F78: UN | G78: 2 | H78: 1951113 | I78: =H78*19% -> 370711.47 | J78: =H78+I78 -> 2321824.5 | K78: =G78*J78 -> 4643648.9 | L78: 1277521 | M78: =L78*19% -> 242728.99 | N78: =L78+M78 -> 1520250 | O78: =+G78*N78 -> 3040500 | P78: 1949551 | Q78: =+P78*0.19 -> 370414.69 | R78: =+P78+Q78 -> 2319965.7 | S78: =+G78*R78 -> 4639931.4 | T78: 1986238 | U78: =T78*19% -> 377385.22 | V78: =T78+U78 -> 2363623.2 | W78: =+G78*V78 -> 4727246.4 | X78: 1896105 | Y78: =+X78*0.19 -> 360259.95 | Z78: =+X78+Y78 -> 2256365 | AA78: =+G78*Z78 -> 4512729.9 | AB78: =+AD78/1.19 -> 1500000 | AC78: =+AD78-AB78 -> 285000 | AD78: 1785000 | AE78: =+G78*AD78 -> 3570000 | AF78: =+GEOMEAN(H78,L78,P78,T78,X78,AB78) -> 1736847.4 | AG78: =+GEOMEAN(J78,N78,R78,V78,Z78,AD78) -> 2066848.4 | AH78: =+HARMEAN(H78,L78,P78,T78,X78,AB78) -> 1711468.9 | AI78: =+HARMEAN(J78,N78,R78,V78,Z78,AD78) -> 2036647.9
C79: 3.7 | D79: TELEVISOR SMART TV DE 55" | E79: TELEVISOR SMART TV DE 55", RESOLUCIÓN 4K- UHD (3840x2160), HDR10, TASA DE REFRESCO DE 60 Hz, CON SINTONIZADOR DVB-T2. 3 PUERTOS HDMI, 1 PUERTO ETHERNET, 1 PUERTO USB 3.0, SALIDA DE AUDIO 3,5mm, ENTRADA COAXIAL. CONEXIÓN INALAMBRICA POR BLUETOOTH Y WIFI. POTENCIA DE AUDIO MINIMO DE 20W COMPATIBLE CON DOLBY AUDIO. | F79: UN | G79: 1 | H79: 2880113 | I79: =H79*19% -> 547221.47 | J79: =H79+I79 -> 3427334.5 | K79: =G79*J79 -> 3427334.5 | L79: 4033487.4 | M79: =L79*19% -> 766362.61 | N79: =L79+M79 -> 4799850 | O79: =+G79*N79 -> 4799850 | P79: 2994945 | Q79: =+P79*0.19 -> 569039.55 | R79: =+P79+Q79 -> 3563984.5 | S79: =+G79*R79 -> 3563984.5 | T79: 3139360 | U79: =T79*19% -> 596478.4 | V79: =T79+U79 -> 3735838.4 | W79: =+G79*V79 -> 3735838.4 | X79: 2878378 | Y79: =+X79*0.19 -> 546891.82 | Z79: =+X79+Y79 -> 3425269.8 | AA79: =+G79*Z79 -> 3425269.8 | AB79: =+AD79/1.19 -> 2642857.1 | AC79: =+AD79-AB79 -> 502142.86 | AD79: 3145000 | AE79: =+G79*AD79 -> 3145000 | AF79: =+GEOMEAN(H79,L79,P79,T79,X79,AB79) -> 3066128 | AG79: =+GEOMEAN(J79,N79,R79,V79,Z79,AD79) -> 3648692.4 | AH79: =+HARMEAN(H79,L79,P79,T79,X79,AB79) -> 3040497.2 | AI79: =+HARMEAN(J79,N79,R79,V79,Z79,AD79) -> 3618191.6
C80: 3.8 | D80: CABINA DE SONIDO ACTIVA DE 1000 WATTS | E80: CABINA DE SONIDO ACTIVA DE 1000 WATTS, 2 LINEAS, AMPLIFICADOR CLASE D. ASAS ERGONOMICAS PARA COMODO AGARRE. DEBE CONTAR CON PUNTOS DE FIJACIÓN PARA INSTALACIÓN EN MODO SUSPENDIDO. DEBE INCLUIR: 1 SISTEMA DE SOPORTE TIPO TRIPO DE PLEGABLE DE ALUMINIO CON AJUSTE DE ALTURA, 1 MICROFONO ALAMBRICO, CABLE DE PODER Y CABLES PARA SU CORRECTO FUNCIONAMIENTO. | F80: UN | G80: 1 | H80: 3990000 | I80: =H80*19% -> 758100 | J80: =H80+I80 -> 4748100 | K80: =G80*J80 -> 4748100 | L80: 5221008.4 | M80: =L80*19% -> 991991.6 | N80: =L80+M80 -> 6213000 | O80: =+G80*N80 -> 6213000 | P80: 4244254 | Q80: =+P80*0.19 -> 806408.26 | R80: =+P80+Q80 -> 5050662.3 | S80: =+G80*R80 -> 5050662.3 | T80: 4348132 | U80: =T80*19% -> 826145.08 | V80: =T80+U80 -> 5174277.1 | W80: =+G80*V80 -> 5174277.1 | X80: 4084624 | Y80: =+X80*0.19 -> 776078.56 | Z80: =+X80+Y80 -> 4860702.6 | AA80: =+G80*Z80 -> 4860702.6 | AB80: =+AD80/1.19 -> 1621008.4 | AC80: =+AD80-AB80 -> 307991.6 | AD80: 1929000 | AE80: =+G80*AD80 -> 1929000 | AF80: =+GEOMEAN(H80,L80,P80,T80,X80,AB80) -> 3695116.4 | AG80: =+GEOMEAN(J80,N80,R80,V80,Z80,AD80) -> 4397188.5 | AH80: =+HARMEAN(H80,L80,P80,T80,X80,AB80) -> 3390831.6 | AI80: =+HARMEAN(J80,N80,R80,V80,Z80,AD80) -> 4035089.6
C81: 3.9 | D81: LICUADORA INDUSTRIAL CAPACIDAD 10 LITROS | E81: LICUADORA INDUSTRIAL CAPACIDAD 10 LITROS, ESTRUCTURA EN ACERO INOXIDABLE 304, MOTOR DE 1 HP, CUCHILLAS EN ACERO REFORZADO, VASO ABATIBLE. CONEXIÓN ELECTRICA A 110 VOLTIOS. | F81: UN | G81: 1 | H81: 3581710 | I81: =H81*19% -> 680524.9 | J81: =H81+I81 -> 4262234.9 | K81: =G81*J81 -> 4262234.9 | L81: 2389916 | M81: =L81*19% -> 454084.03 | N81: =L81+M81 -> 2844000 | O81: =+G81*N81 -> 2844000 | P81: 3653488 | Q81: =+P81*0.19 -> 694162.72 | R81: =+P81+Q81 -> 4347650.7 | S81: =+G81*R81 -> 4347650.7 | T81: 3900735 | U81: =T81*19% -> 741139.65 | V81: =T81+U81 -> 4641874.7 | W81: =+G81*V81 -> 4641874.7 | X81: 3438769 | Y81: =+X81*0.19 -> 653366.11 | Z81: =+X81+Y81 -> 4092135.1 | AA81: =+G81*Z81 -> 4092135.1 | AB81: =+AD81/1.19 -> 1596638.7 | AC81: =+AD81-AB81 -> 303361.34 | AD81: 1900000 | AE81: =+G81*AD81 -> 1900000 | AF81: =+GEOMEAN(H81,L81,P81,T81,X81,AB81) -> 2957940.8 | AG81: =+GEOMEAN(J81,N81,R81,V81,Z81,AD81) -> 3519949.5 | AH81: =+HARMEAN(H81,L81,P81,T81,X81,AB81) -> 2797448.6 | AI81: =+HARMEAN(J81,N81,R81,V81,Z81,AD81) -> 3328963.9
C82: 3.10 | D82: CARPA PARA EXTERIORES TIPO KIOSCO DE 4 x 4 METROS | E82: CARPA PARA EXTERIORES TIPO KIOSCO DE 4 x 4 METROS, 4 AGUAS, ESTRUCTURA METALICA EN TUBO CALIBRE 18 (PARALES) y 20 (CERCHAS Y ARAÑA). LONA IMPERMEABLE PVC DE 400 MICRAS | F82: UN | G82: 4 | H82: 3338403 | I82: =H82*19% -> 634296.57 | J82: =H82+I82 -> 3972699.6 | K82: =G82*J82 -> 15890798 | L82: 2235000 | M82: =L82*19% -> 424650 | N82: =L82+M82 -> 2659650 | O82: =+G82*N82 -> 10638600 | P82: 3629003 | Q82: =+P82*0.19 -> 689510.57 | R82: =+P82+Q82 -> 4318513.6 | S82: =+G82*R82 -> 17274054 | T82: 3385825 | U82: =T82*19% -> 643306.75 | V82: =T82+U82 -> 4029131.8 | W82: =+G82*V82 -> 16116527 | X82: 3269943 | Y82: =+X82*0.19 -> 621289.17 | Z82: =+X82+Y82 -> 3891232.2 | AA82: =+G82*Z82 -> 15564929 | AB82: =+AD82/1.19 -> 3784285.7 | AC82: =+AD82-AB82 -> 719014.29 | AD82: 4503300 | AE82: =+G82*AD82 -> 18013200 | AF82: =+GEOMEAN(H82,L82,P82,T82,X82,AB82) -> 3229475.8 | AG82: =+GEOMEAN(J82,N82,R82,V82,Z82,AD82) -> 3843076.2 | AH82: =+HARMEAN(H82,L82,P82,T82,X82,AB82) -> 3178058.9 | AI82: =+HARMEAN(J82,N82,R82,V82,Z82,AD82) -> 3781890.1
C83: TOTAL CAQUEZA | H83: =SUM(H73:H82) -> 24680564 | I83: =SUM(I73:I82) -> 4689307.2 | J83: =SUM(J73:J82) -> 29369871 | K83: =SUM(K73:K82) -> 54284716 | L83: =SUM(L73:L82) -> 26251221 | M83: =SUM(M73:M82) -> 4987732.1 | N83: =SUM(N73:N82) -> 31238954 | O83: =SUM(O73:O82) -> 52741880 | ... AI83: =SUM(AI73:AI82) -> 27853767
C84: 4. SAN ANTONIO DE TEQUENDAMA
C85: ITEM | D85: PRODUCTO / SERVICIO | E85: DESCRIPCIÓN PRODUCTO / SERVICIO | F85: UNIDAD DE MEDIDA | G85: CANTIDAD | H85: VALOR UNITARIO SIN IVA | I85: IVA | J85: VALOR UNITARIO CON IVA | K85: VALOR TOTAL (VALOR UNITARIO CON IVA X CANTIDAD) | L85: VALOR UNITARIO SIN IVA | M85: IVA | N85: VALOR UNITARIO CON IVA | O85: VALOR TOTAL (VALOR UNITARIO CON IVA X CANTIDAD) | P85: VALOR UNITARIO SIN IVA | Q85: IVA | R85: VALOR UNITARIO CON IVA | S85: VALOR TOTAL (VALOR UNITARIO CON IVA X CANTIDAD) | T85: VALOR UNITARIO SIN IVA | U85: IVA | V85: VALOR UNITARIO CON IVA | W85: VALOR TOTAL (VALOR UNITARIO CON IVA X CANTIDAD) | X85: VALOR UNITARIO SIN IVA | Y85: IVA | Z85: VALOR UNITARIO CON IVA | AA85: VALOR TOTAL (VALOR UNITARIO CON IVA X CANTIDAD) | AB85: VALOR UNITARIO SIN IVA | AC85: IVA | AD85: VALOR UNITARIO CON IVA | AE85: VALOR TOTAL (VALOR UNITARIO CON IVA X CANTIDAD) | AF85: VALOR UNITARIO SIN IVA | AG85: VALOR UNITARIO CON IVA | AH85: VALOR UNITARIO SIN IVA | AI85: VALOR UNITARIO CON IVA
C86: 4.1 | D86: DESMONTE EQUIPOS SANITARIOS | E86: DESMONTE DE APARATOS SANITARIOS | F86: UN | G86: 2 | H86: 60726 | I86: =H86*19% -> 11537.94 | J86: =H86+I86 -> 72263.94 | K86: =G86*J86 -> 144527.88 | L86: 29513.445 | M86: =+N86-L86 -> 5607.5546 | N86: 35121 | O86: =+G86*N86 -> 70242 | P86: 56844 | Q86: =+P86*0.19 -> 10800.36 | R86: =+P86+Q86 -> 67644.36 | S86: =+G86*R86 -> 135288.72 | T86: 64891 | U86: =T86*19% -> 12329.29 | V86: =T86+U86 -> 77220.29 | W86: =+G86*V86 -> 154440.58 | X86: 62636 | Y86: =+X86*0.19 -> 11900.84 | Z86: =+X86+Y86 -> 74536.84 | AA86: =+G86*Z86 -> 149073.68 | AB86: =+AD86/1.19 -> 30842.857 | AC86: =+AD86-AB86 -> 5860.1429 | AD86: 36703 | AE86: =+G86*AD86 -> 73406 | AF86: =+GEOMEAN(H86,L86,P86,T86,X86,AB86) -> 48347.466 | AG86: =+GEOMEAN(J86,N86,R86,V86,Z86,AD86) -> 57533.485 | AH86: =+HARMEAN(H86,L86,P86,T86,X86,AB86) -> 45544.111 | AI86: =+HARMEAN(J86,N86,R86,V86,Z86,AD86) -> 54197.492
C87: 4.2 | D87: SERVICIO DE RETISO BALDOSA | E87: RETIRO DE BALDOSA DE PISO, H=0.02 m, EN MAL ESTADO | F87: M2 | G87: 16 | H87: 19234 | I87: =H87*19% -> 3654.46 | J87: =H87+I87 -> 22888.46 | K87: =G87*J87 -> 366215.36 | L87: 8365.0416 | M87: =+N87-L87 -> 2890.9584 | N87: 11256 | O87: =+G87*N87 -> 180096 | P87: 18274 | Q87: =+P87*0.19 -> 3472.06 | R87: =+P87+Q87 -> 21746.06 | S87: =+G87*R87 -> 347936.96 | T87: 19330 | U87: =T87*19% -> 3672.7 | V87: =T87+U87 -> 23002.7 | W87: =+G87*V87 -> 368043.2 | X87: 19411 | Y87: =+X87*0.19 -> 3688.09 | Z87: =+X87+Y87 -> 23099.09 | AA87: =+G87*Z87 -> 369585.44 | AB87: =+AD87/1.19 -> 9768.0672 | AC87: =+AD87-AB87 -> 1855.9328 | AD87: 11624 | AE87: =+G87*AD87 -> 185984 | AF87: =+GEOMEAN(H87,L87,P87,T87,X87,AB87) -> 14861.978 | AG87: =+GEOMEAN(J87,N87,R87,V87,Z87,AD87) -> 18051.713 | AH87: =+HARMEAN(H87,L87,P87,T87,X87,AB87) -> 13892.633 | AI87: =+HARMEAN(J87,N87,R87,V87,Z87,AD87) -> 17078.894
C88: 4.3 | D88: SERVICIOS DE RETIRO PLACA | E88: RETIRO DE PLACA MACIZA 0.15 m, EN MAL ESTADO | F88: M2 | G88: 6.4 | H88: 116254 | I88: =H88*19% -> 22088.26 | J88: =H88+I88 -> 138342.26 | K88: =G88*J88 -> 885390.46 | L88: 53914.239 | M88: =+N88-L88 -> 18632.761 | N88: 72547 | O88: =+G88*N88 -> 464300.8 | P88: 111535 | Q88: =+P88*0.19 -> 21191.65 | R88: =+P88+Q88 -> 132726.65 | S88: =+G88*R88 -> 849450.56 | T88: 117595 | U88: =T88*19% -> 22343.05 | V88: =T88+U88 -> 139938.05 | W88: =+G88*V88 -> 895603.52 | X88: 121116 | Y88: =+X88*0.19 -> 23012.04 | Z88: =+X88+Y88 -> 144128.04 | AA88: =+G88*Z88 -> 922419.46 | AB88: =+AD88/1.19 -> 20035.294 | AC88: =+AD88-AB88 -> 3806.7059 | AD88: 23842 | AE88: =+G88*AD88 -> 152588.8 | AF88: =+GEOMEAN(H88,L88,P88,T88,X88,AB88) -> 76439.548 | AG88: =+GEOMEAN(J88,N88,R88,V88,Z88,AD88) -> 92845.296 | AH88: =+HARMEAN(H88,L88,P88,T88,X88,AB88) -> 58372.654 | AI88: =+HARMEAN(J88,N88,R88,V88,Z88,AD88) -> 70943.803
C89: 4.4 | D89: ELABORACIÓN ZANJA | E89: ELABORACIÓN DE ZANJA DE 0-2.0 m, (INCLUYE RETIRO DE SOBRANTES A UNA DISTANCIA MENOR DE 5 km) | F89: M3 | G89: 2.9 | H89: 138503 | I89: =H89*19% -> 26315.57 | J89: =H89+I89 -> 164818.57 | K89: =G89*J89 -> 477973.85 | L89: 35078.775 | M89: =+N89-L89 -> 12123.225 | N89: 47202 | O89: =+G89*N89 -> 136885.8 | P89: 129507 | Q89: =+P89*0.19 -> 24606.33 | R89: =+P89+Q89 -> 154113.33 | S89: =+G89*R89 -> 446928.66 | T89: 143879 | U89: =T89*19% -> 27337.01 | V89: =T89+U89 -> 171216.01 | W89: =+G89*V89 -> 496526.43 | X89: 141945 | Y89: =+X89*0.19 -> 26969.55 | Z89: =+X89+Y89 -> 168914.55 | AA89: =+G89*Z89 -> 489852.19 | AB89: =+AD89/1.19 -> 70344.538 | AC89: =+AD89-AB89 -> 13365.462 | AD89: 83710 | AE89: =+G89*AD89 -> 242759 | AF89: =+GEOMEAN(H89,L89,P89,T89,X89,AB89) -> 98331.076 | AG89: =+GEOMEAN(J89,N89,R89,V89,Z89,AD89) -> 119435.27 | AH89: =+HARMEAN(H89,L89,P89,T89,X89,AB89) -> 83728.802 | AI89: =+HARMEAN(J89,N89,R89,V89,Z89,AD89) -> 104441.76
C90: 4.5 | D90: SERVICIO DE SUMINISTRO E INTALACIÓN | E90: SUMINISTRO E INSTALACIÓN DE RECEBO COMUN COMPACTADO | F90: M3 | G90: 3.8 | H90: 357211 | I90: =H90*19% -> 67870.09 | J90: =H90+I90 -> 425081.09 | K90: =G90*J90 -> 1615308.1 | L90: 84134.215 | M90: =+N90-L90 -> 29076.785 | N90: 113211 | O90: =+G90*N90 -> 430201.8 | P90: 341911 | Q90: =+P90*0.19 -> 64963.09 | R90: =+P90+Q90 -> 406874.09 | S90: =+G90*R90 -> 1546121.5 | T90: 356323 | U90: =T90*19% -> 67701.37 | V90: =T90+U90 -> 424024.37 | W90: =+G90*V90 -> 1611292.6 | X90: 368220 | Y90: =+X90*0.19 -> 69961.8 | Z90: =+X90+Y90 -> 438181.8 | AA90: =+G90*Z90 -> 1665090.8 | AB90: =+AD90/1.19 -> 181426.05 | AC90: =+AD90-AB90 -> 34470.95 | AD90: 215897 | AE90: =+G90*AD90 -> 820408.6 | AF90: =+GEOMEAN(H90,L90,P90,T90,X90,AB90) -> 250078.82 | AG90: =+GEOMEAN(J90,N90,R90,V90,Z90,AD90) -> 303751.69 | AH90: =+HARMEAN(H90,L90,P90,T90,X90,AB90) -> 209467.42 | AI90: =+HARMEAN(J90,N90,R90,V90,Z90,AD90) -> 261829.57
C91: 4.6 | D91: REHABILITACIÓN DE ESTRUCTURAS | E91: REHABILITACIÓN DE ESTRUCTURAS EN CONCRETO (INCLUYE ACERO) | F91: M3 | G91: 3.37 | H91: 2488603 | I91: =H91*19% -> 472834.57 | J91: =H91+I91 -> 2961437.6 | K91: =G91*J91 -> 9980044.6 | L91: 817479.19 | M91: =+N91-L91 -> 282520.81 | N91: 1100000 | O91: =+G91*N91 -> 3707000 | P91: 2496916 | Q91: =+P91*0.19 -> 474414.04 | R91: =+P91+Q91 -> 2971330 | S91: =+G91*R91 -> 10013382 | T91: 2542459 | U91: =T91*19% -> 483067.21 | V91: =T91+U91 -> 3025526.2 | W91: =+G91*V91 -> 10196023 | X91: 2590931 | Y91: =+X91*0.19 -> 492276.89 | Z91: =+X91+Y91 -> 3083207.9 | AA91: =+G91*Z91 -> 10390411 | AB91: =+AD91/1.19 -> 1122689.1 | AC91: =+AD91-AB91 -> 213310.92 | AD91: 1336000 | AE91: =+G91*AD91 -> 4502320 | AF91: =+GEOMEAN(H91,L91,P91,T91,X91,AB91) -> 1830069.5 | AG91: =+GEOMEAN(J91,N91,R91,V91,Z91,AD91) -> 2222846.1 | AH91: =+HARMEAN(H91,L91,P91,T91,X91,AB91) -> 1623552.8 | AI91: =+HARMEAN(J91,N91,R91,V91,Z91,AD91) -> 2008922.4
C92: 4.7 | D92: SERVICIO DE SUMINISTRO E INSTALACIÓN EQUIPO SANITARIO | E92: SUMINISTRO E INSTALACIÓN SANITARIO TANQUE (INCLUYE GRIFERÍA) | F92: UN | G92: 2 | H92: 774984 | I92: =H92*19% -> 147246.96 | J92: =H92+I92 -> 922230.96 | K92: =G92*J92 -> 1844461.9 | L92: 321587.4 | M92: =+N92-L92 -> 111140.6 | N92: 432728 | O92: =+G92*N92 -> 865456 | P92: 744300 | Q92: =+P92*0.19 -> 141417 | R92: =+P92+Q92 -> 885717 | S92: =+G92*R92 -> 1771434 | T92: 799211 | U92: =T92*19% -> 151850.09 | V92: =T92+U92 -> 951061.09 | W92: =+G92*V92 -> 1902122.2 | X92: 783083 | Y92: =+X92*0.19 -> 148785.77 | Z92: =+X92+Y92 -> 931868.77 | AA92: =+G92*Z92 -> 1863737.5 | AB92: =+AD92/1.19 -> 385209.24 | AC92: =+AD92-AB92 -> 73189.756 | AD92: 458399 | AE92: =+G92*AD92 -> 916798 | AF92: =+GEOMEAN(H92,L92,P92,T92,X92,AB92) -> 595777.76 | AG92: =+GEOMEAN(J92,N92,R92,V92,Z92,AD92) -> 723645.86 | AH92: =+HARMEAN(H92,L92,P92,T92,X92,AB92) -> 552094.86 | AI92: =+HARMEAN(J92,N92,R92,V92,Z92,AD92) -> 679474.64
C93: 4.8 | D93: SERVICIO DE SUMINISTRO E INSTALACIÓN DE RED PVC | E93: SUMINISTRO E INSTALACIÓN DE RED SUMINISTRO PVC 1/2" | F93: ML | G93: 35 | H93: 22421 | I93: =H93*19% -> 4259.99 | J93: =H93+I93 -> 26680.99 | K93: =G93*J93 -> 933834.65 | L93: 14198.87 | M93: =+N93-L93 -> 4907.1296 | N93: 19106 | O93: =+G93*N93 -> 668710 | P93: 20655 | Q93: =+P93*0.19 -> 3924.45 | R93: =+P93+Q93 -> 24579.45 | S93: =+G93*R93 -> 860280.75 | T93: 23298 | U93: =T93*19% -> 4426.62 | V93: =T93+U93 -> 27724.62 | W93: =+G93*V93 -> 970361.7 | X93: 23713 | Y93: =+X93*0.19 -> 4505.47 | Z93: =+X93+Y93 -> 28218.47 | AA93: =+G93*Z93 -> 987646.45 | AB93: =+AD93/1.19 -> 91099.16 | AC93: =+AD93-AB93 -> 17308.84 | AD93: 108408 | AE93: =+G93*AD93 -> 3794280 | AF93: =+GEOMEAN(H93,L93,P93,T93,X93,AB93) -> 26300.192 | AG93: =+GEOMEAN(J93,N93,R93,V93,Z93,AD93) -> 31944.84 | AH93: =+HARMEAN(H93,L93,P93,T93,X93,AB93) -> 23120.161 | AI93: =+HARMEAN(J93,N93,R93,V93,Z93,AD93) -> 28404.376
C94: 4.9 | D94: SERVICIO DE SUMINISTRO E INSTALACIÓN DE LLAVE MANGUERA | E94: SUMINISTRO E INSTALACIÓN DE LLAVE MANGUERA CROMADA | F94: UN | G94: 3 | H94: 89899 | I94: =H94*19% -> 17080.81 | J94: =H94+I94 -> 106979.81 | K94: =G94*J94 -> 320939.43 | L94: 41742.717 | M94: =+N94-L94 -> 14426.283 | N94: 56169 | O94: =+G94*N94 -> 168507 | P94: 88112 | Q94: =+P94*0.19 -> 16741.28 | R94: =+P94+Q94 -> 104853.28 | S94: =+G94*R94 -> 314559.84 | T94: 96037 | U94: =T94*19% -> 18247.03 | V94: =T94+U94 -> 114284.03 | W94: =+G94*V94 -> 342852.09 | X94: 93916 | Y94: =+X94*0.19 -> 17844.04 | Z94: =+X94+Y94 -> 111760.04 | AA94: =+G94*Z94 -> 335280.12 | AB94: =+AD94/1.19 -> 45659.664 | AC94: =+AD94-AB94 -> 8675.3361 | AD94: 54335 | AE94: =+G94*AD94 -> 163005 | AF94: =+GEOMEAN(H94,L94,P94,T94,X94,AB94) -> 71726.601 | AG94: =+GEOMEAN(J94,N94,R94,V94,Z94,AD94) -> 87120.839 | AH94: =+HARMEAN(H94,L94,P94,T94,X94,AB94) -> 67121.079 | AI94: =+HARMEAN(J94,N94,R94,V94,Z94,AD94) -> 82428.539
C95: 4.10 | D95: SERVICIO DE SUMINISTRO E INSTALACIÓN DE LAVAMANOS | E95: SUMINISTRO E INSTALACIÓN DE LAVAMANOS DE PEDESTAL (INCLUYE GRIFERIA) | F95: UN | G95: 1 | H95: 506958 | I95: =H95*19% -> 96322.02 | J95: =H95+I95 -> 603280.02 | K95: =G95*J95 -> 603280.02 | L95: 213961.06 | M95: =+N95-L95 -> 73944.942 | N95: 287906 | O95: =+G95*N95 -> 287906 | P95: 477095 | Q95: =+P95*0.19 -> 90648.05 | R95: =+P95+Q95 -> 567743.05 | S95: =+G95*R95 -> 567743.05 | T95: 522421 | U95: =T95*19% -> 99259.99 | V95: =T95+U95 -> 621680.99 | W95: =+G95*V95 -> 621680.99 | X95: 502834 | Y95: =+X95*0.19 -> 95538.46 | Z95: =+X95+Y95 -> 598372.46 | AA95: =+G95*Z95 -> 598372.46 | AB95: =+AD95/1.19 -> 136978.99 | AC95: =+AD95-AB95 -> 26026.008 | AD95: 163005 | AE95: =+G95*AD95 -> 163005 | AF95: =+GEOMEAN(H95,L95,P95,T95,X95,AB95) -> 350753.33 | AG95: =+GEOMEAN(J95,N95,R95,V95,Z95,AD95) -> 426033.35 | AH95: =+HARMEAN(H95,L95,P95,T95,X95,AB95) -> 300818.24 | AI95: =+HARMEAN(J95,N95,R95,V95,Z95,AD95) -> 367943.66
C96: 4.11 | D96: SERVICIO DE SUMINISTRO E INSTALACIÓN DE TEJAS | E96: SUMINISTRO E INSTALACIÓN DE TEJA DE FIBROCEMENTO #8 | F96: M2 | G96: 48.6 | H96: 89959 | I96: =H96*19% -> 17092.21 | J96: =H96+I96 -> 107051.21 | K96: =G96*J96 -> 5202688.8 | L96: 40735.731 | M96: =+N96-L96 -> 14078.269 | N96: 54814 | O96: =+G96*N96 -> 2663960.4 | P96: 86625 | Q96: =+P96*0.19 -> 16458.75 | R96: =+P96+Q96 -> 103083.75 | S96: =+G96*R96 -> 5009870.2 | T96: 92443 | U96: =T96*19% -> 17564.17 | V96: =T96+U96 -> 110007.17 | W96: =+G96*V96 -> 5346348.5 | X96: 92906 | Y96: =+X96*0.19 -> 17652.14 | Z96: =+X96+Y96 -> 110558.14 | AA96: =+G96*Z96 -> 5373125.6 | AB96: =+AD96/1.19 -> 73624.37 | AC96: =+AD96-AB96 -> 13988.63 | AD96: 87613 | AE96: =+G96*AD96 -> 4257991.8 | AF96: =+GEOMEAN(H96,L96,P96,T96,X96,AB96) -> 76518.62 | AG96: =+GEOMEAN(J96,N96,R96,V96,Z96,AD96) -> 92941.339 | AH96: =+HARMEAN(H96,L96,P96,T96,X96,AB96) -> 72840.141 | AI96: =+HARMEAN(J96,N96,R96,V96,Z96,AD96) -> 89773.523
C97: 4.12 | D97: DESMONTE DE CUBIERTAS | E97: DESMONTE DE CUBIERTAS (ASBESTO CEMENTO) | F97: M2 | G97: 48.6 | H97: 33121 | I97: =H97*19% -> 6292.99 | J97: =H97+I97 -> 39413.99 | K97: =G97*J97 -> 1915519.9 | L97: 14170.63 | M97: =+N97-L97 -> 4897.3698 | N97: 19068 | O97: =+G97*N97 -> 926704.8 | P97: 32030 | Q97: =+P97*0.19 -> 6085.7 | R97: =+P97+Q97 -> 38115.7 | S97: =+G97*R97 -> 1852423 | T97: 35146 | U97: =T97*19% -> 6677.74 | V97: =T97+U97 -> 41823.74 | W97: =+G97*V97 -> 2032633.8 | X97: 33866 | Y97: =+X97*0.19 -> 6434.54 | Z97: =+X97+Y97 -> 40300.54 | AA97: =+G97*Z97 -> 1958606.2 | AB97: =+AD97/1.19 -> 16319.328 | AC97: =+AD97-AB97 -> 3100.6723 | AD97: 19420 | AE97: =+G97*AD97 -> 943812 | AF97: =+GEOMEAN(H97,L97,P97,T97,X97,AB97) -> 25757.197 | AG97: =+GEOMEAN(J97,N97,R97,V97,Z97,AD97) -> 31285.306 | AH97: =+HARMEAN(H97,L97,P97,T97,X97,AB97) -> 23881.599 | AI97: =+HARMEAN(J97,N97,R97,V97,Z97,AD97) -> 29373.143
... C108: 4.23 | D108: SERVICIO DE SUMINISTRO E INSTALACIÓN DE CABLE #10 | E108: SUMINISTRO E INSTALACIÓN DE CABLE #10 AWG | F108: ML | G108: 80 | H108: 12169 | I108: =H108*19% -> 2312.11 | J108: =H108+I108 -> 14481.11 | K108: =G108*J108 -> 1158488.8 | L108: 12855.975 | M108: =+N108-L108 -> 4443.025 | N108: 17299 | O108: =+G108*N108 -> 1383920 | P108: 12147 | Q108: =+P108*0.19 -> 2307.93 | R108: =+P108+Q108 -> 14454.93 | S108: =+G108*R108 -> 1156394.4 | T108: 12623 | U108: =T108*19% -> 2398.37 | V108: =T108+U108 -> 15021.37 | W108: =+G108*V108 -> 1201709.6 | X108: 12721 | Y108: =+X108*0.19 -> 2416.99 | Z108: =+X108+Y108 -> 15137.99 | AA108: =+G108*Z108 -> 1211039.2 | AB108: =+AD108/1.19 -> 6180.6723 | AC108: =+AD108-AB108 -> 1174.3277 | AD108: 7355 | AE108: =+G108*AD108 -> 588400 | AF108: =+GEOMEAN(H108,L108,P108,T108,X108,AB108) -> 11115.391 | AG108: =+GEOMEAN(J108,N108,R108,V108,Z108,AD108) -> 13501.019 | AH108: =+HARMEAN(H108,L108,P108,T108,X108,AB108) -> 10677.846 | AI108: =+HARMEAN(J108,N108,R108,V108,Z108,AD108) -> 12913.346
C109: TOTAL SAN ANTONIO DE TEQUENDAMA | H109: =SUM(H86:H108) -> 5581690 | I109: =SUM(I86:I108) -> 1060521.1 | J109: =SUM(J86:J108) -> 6642211.1 | K109: =SUM(K86:K108) -> 67365395 | L109: =SUM(L86:L108) -> 2041804.6 | M109: =SUM(M86:M108) -> 701055.38 | N109: =SUM(N86:N108) -> 2742860 | O109: =SUM(O86:O108) -> 33870939 | ... AI109: =SUM(AI86:AI108) -> 4529023.6
C110: SUMATORIA DE TOTALES (SIBATE + SIMIJACA + CAQUEZA +SAN ANTONIO DE TEQUENDAMA) | H110: =SUM(H109,H83,H70,H38) -> 88826112 | I110: =SUM(I109,I83,I70,I38) -> 16876961 | J110: =SUM(J109,J83,J70,J38) -> 1.0570307e+08 | K110: =SUM(K109,K83,K70,K38) -> 2.4632452e+08 | L110: =SUM(L109,L83,L70,L38) -> 78735638 | M110: =SUM(M109,M83,M70,M38) -> 15272884 | N110: =SUM(N109,N83,N70,N38) -> 94008522 | O110: =SUM(O109,O83,O70,O38) -> 1.9366168e+08 | ... AI110: =SUM(AI109,AI83,AI70,AI38) -> 88800196

Sheet CUADRO COMPARATIVO PORCENTAJE 
C1: GOBERNACIÓN DE CUNDINAMARCA | H1: COMTELECTRIC SAS | L1: ROMING SAS | P1: SOS SOLUCIONES Y SREVICIOS SAS | T1: SISELCOM SAS | X1: AQSERV SAS | AB1: PRECIOS HISTORICOS Y/O DEL MERCADO | AF1: MEDIA GEOMÉTRICA SECRETARIA DE LA MUJER | AH1: MEDIA ARMÓNICA SECRETARIA DE LA MUJER
C2: SECRETARIA DE LA MUJER Y EQUIDAD DE GÉNERO
C3: OBJETO: ADECUACIÓN Y SUMINISTRO DE ELEMENTOS NECESARIOS PARA EL FUNCIONAMIENTO APROPIADO DE ESPACIOS Y CASAS SOCIALES DE LA MUJER, DE LOS MUNICIPIOS FOCALIZADOS EN EL DEPARTAMENTO DE CUNDINAMARCA.
C4: 1. SIBATE
C5: ITEM | D5: PRODUCTO / SERVICIO | E5: DESCRIPCIÓN PRODUCTO / SERVICIO | F5: UNIDAD DE MEDIDA | G5: CANTIDAD | H5: VALOR UNITARIO SIN IVA | I5: IVA | J5: VALOR UNITARIO CON IVA | K5: VALOR TOTAL (VALOR UNITARIO CON IVA X CANTIDAD) | L5: VALOR UNITARIO SIN IVA | M5: IVA | N5: VALOR UNITARIO CON IVA | O5: VALOR TOTAL (VALOR UNITARIO CON IVA X CANTIDAD) | P5: VALOR UNITARIO SIN IVA | Q5: IVA | R5: VALOR UNITARIO CON IVA | S5: VALOR TOTAL (VALOR UNITARIO CON IVA X CANTIDAD) | T5: VALOR UNITARIO SIN IVA | U5: IVA | V5: VALOR UNITARIO CON IVA | W5: VALOR TOTAL (VALOR UNITARIO CON IVA X CANTIDAD) | X5: VALOR UNITARIO SIN IVA | Y5: IVA | Z5: VALOR UNITARIO CON IVA | AA5: VALOR TOTAL (VALOR UNITARIO CON IVA X CANTIDAD) | AB5: VALOR UNITARIO SIN IVA | AC5: IVA | AD5: VALOR UNITARIO CON IVA | AE5: VALOR TOTAL (VALOR UNITARIO CON IVA X CANTIDAD) | AF5: VALOR UNITARIO SIN IVA | AG5: VALOR UNITARIO CON IVA | AH5: VALOR UNITARIO SIN IVA | AI5: VALOR UNITARIO CON IVA
C6: 1.1 | D6: ESTUFA A GAS | E6: ESTUFA A GAS CON 6 QUEMADORES, ESTRUCTURA FABRICADA EN ACERO INOXIDABLE, QUEMADORES Y PARRILLAS EN HIERRO FUNDIDO, BANDEJA RECOLECTORA DE RESIDUOS. CONFIGURACIÓN PARA GAS NATURAL O PROPANO. | F6: UN | G6: 1 | H6: 7360000 | I6: =H6*19% -> 1398400 | J6: =H6+I6 -> 8758400 | K6: =G6*J6 -> 8758400 | L6: 6806722.7 | M6: =L6*19% -> 1293277.3 | N6: =L6+M6 -> 8100000 | O6: =+G6*N6 -> 8100000 | P6: 7234110 | Q6: =+P6*0.19 -> 1374480.9 | R6: =+P6+Q6 -> 8608590.9 | S6: =+G6*R6 -> 8608590.9 | T6: 7604171 | U6: =T6*19% -> 1444792.5 | V6: =T6+U6 -> 9048963.5 | W6: =+G6*V6 -> 9048963.5 | X6: 6935933 | Y6: =+X6*0.19 -> 1317827.3 | Z6: =+X6+Y6 -> 8253760.3 | AA6: =+G6*Z6 -> 8253760.3 | AB6: =+AD6/1.19 -> 2000000 | AC6: =+AD6-AB6 -> 380000 | AD6: 2380000 | AE6: =+G6*AD6 -> 2380000 | AF6: =+GEOMEAN(H6,L6,P6,T6,X6,AB6) -> 5804051.9 | AG6: =+GEOMEAN(J6,N6,R6,V6,Z6,AD6) -> 6906821.8 | AH6: =+HARMEAN(H6,L6,P6,T6,X6,AB6) -> 5013785.3 | AI6: =+HARMEAN(J6,N6,R6,V6,Z6,AD6) -> 5966404.5
C7: 1.2 | D7: ARMARIO ORGANIZADOR METÁLICO | E7: ARMARIO ORGANIZADOR METALICO, ESTRUCTURA EN LAMINA CALIBRE 22, TERMINACION CON PINTURA ELECTROESTATICA. DIMENSIONES MINIMAS DE 180 x 90 CM. DEBE INCLUIR 4 ENTREPAÑOS GRADUABLES Y 2 PUERTAS CON CERRADURA TIPO MANIJA QUE PERMITA ASEGURAR EN 3 PUNTOS. | F7: UN | G7: 3 | H7: 2510367 | I7: =H7*19% -> 476969.73 | J7: =H7+I7 -> 2987336.7 | K7: =G7*J7 -> 8962010.2 | L7: 1662605 | M7: =L7*19% -> 315894.96 | N7: =L7+M7 -> 1978500 | O7: =+G7*N7 -> 5935500 | P7: 2506736 | Q7: =+P7*0.19 -> 476279.84 | R7: =+P7+Q7 -> 2983015.8 | S7: =+G7*R7 -> 8949047.5 | T7: 2401067 | U7: =T7*19% -> 456202.73 | V7: =T7+U7 -> 2857269.7 | W7: =+G7*V7 -> 8571809.2 | X7: 2384780 | Y7: =+X7*0.19 -> 453108.2 | Z7: =+X7+Y7 -> 2837888.2 | AA7: =+G7*Z7 -> 8513664.6 | AB7: =+AD7/1.19 -> 885714.29 | AC7: =+AD7-AB7 -> 168285.71 | AD7: 1054000 | AE7: =+G7*AD7 -> 3162000 | AF7: =+GEOMEAN(H7,L7,P7,T7,X7,AB7) -> 1938489.8 | AG7: =+GEOMEAN(J7,N7,R7,V7,Z7,AD7) -> 2306802.9 | AH7: =+HARMEAN(H7,L7,P7,T7,X7,AB7) -> 1783814.4 | AI7: =+HARMEAN(J7,N7,R7,V7,Z7,AD7) -> 2122739.1
C8: 1.3 | D8: MESA PLEGABLE | E8: MESA PLEGABLE PLASTICA TIPO MALETIN, ESTRUCTURA EN ACERO, TABLERO EN POLIETILENO DE ALTA DENSIDAD, DIMENSIONES MINIMAS DE 180 CM DE LARGO Y 70 CM DE ANCHO | F8: UN | G8: 10 | H8: 348700 | I8: =H8*19% -> 66253 | J8: =H8+I8 -> 414953 | K8: =G8*J8 -> 4149530 | L8: 214159.66 | M8: =L8*19% -> 40690.336 | N8: =L8+M8 -> 254850 | O8: =+G8*N8 -> 2548500 | P8: 350928 | Q8: =+P8*0.19 -> 66676.32 | R8: =+P8+Q8 -> 417604.32 | S8: =+G8*R8 -> 4176043.2 | T8: 332517 | U8: =T8*19% -> 63178.23 | V8: =T8+U8 -> 395695.23 | W8: =+G8*V8 -> 3956952.3 | X8: 326266 | Y8: =+X8*0.19 -> 61990.54 | Z8: =+X8+Y8 -> 388256.54 | AA8: =+G8*Z8 -> 3882565.4 | AB8: =+AD8/1.19 -> 257142.86 | AC8: =+AD8-AB8 -> 48857.143 | AD8: 306000 | AE8: =+G8*AD8 -> 3060000 | AF8: =+GEOMEAN(H8,L8,P8,T8,X8,AB8) -> 300142.82 | AG8: =+GEOMEAN(J8,N8,R8,V8,Z8,AD8) -> 357169.96 | AH8: =+HARMEAN(H8,L8,P8,T8,X8,AB8) -> 294868.79 | AI8: =+HARMEAN(J8,N8,R8,V8,Z8,AD8) -> 350893.87
C9: 1.4 | D9: SILLA PLÁSTICA | E9: SILLA PLÁSTICA CON BRAZOS, RESISTENCIA MINIMA DE 115 KILOS. MEDIDAS APROXIMADAS DE 57 x 60 x 80 CM. COLOR BLANCO O CAFE. | F9: UN | G9: 20 | H9: 75571 | I9: =H9*19% -> 14358.49 | J9: =H9+I9 -> 89929.49 | K9: =G9*J9 -> 1798589.8 | L9: 75504.202 | M9: =L9*19% -> 14345.798 | N9: =L9+M9 -> 89850 | O9: =+G9*N9 -> 1797000 | P9: 88777 | Q9: =+P9*0.19 -> 16867.63 | R9: =+P9+Q9 -> 105644.63 | S9: =+G9*R9 -> 2112892.6 | T9: 76923 | U9: =T9*19% -> 14615.37 | V9: =T9+U9 -> 91538.37 | W9: =+G9*V9 -> 1830767.4 | X9: 77771 | Y9: =+X9*0.19 -> 14776.49 | Z9: =+X9+Y9 -> 92547.49 | AA9: =+G9*Z9 -> 1850949.8 | AB9: =+AD9/1.19 -> 75571.429 | AC9: =+AD9-AB9 -> 14358.571 | AD9: 89930 | AE9: =+G9*AD9 -> 1798600 | AF9: =+GEOMEAN(H9,L9,P9,T9,X9,AB9) -> 78218.542 | AG9: =+GEOMEAN(J9,N9,R9,V9,Z9,AD9) -> 93080.064 | AH9: =+HARMEAN(H9,L9,P9,T9,X9,AB9) -> 78092.609 | AI9: =+HARMEAN(J9,N9,R9,V9,Z9,AD9) -> 92930.205
C10: 1.5 | D10: BANDEJA PARA PANADERÍA | E10: BANDEJA PARA PANADERIA DE 60 x 40 CM, TROQUELADA, FABRICADA EN ALUMINIO MINIMO CALIBRE 20. | F10: UN | G10: 6 | H10: 143830 | I10: =H10*19% -> 27327.7 | J10: =H10+I10 -> 171157.7 | K10: =G10*J10 -> 1026946.2 | L10: 1008403.4 | M10: =L10*19% -> 191596.64 | N10: =L10+M10 -> 1200000 | O10: =+G10*N10 -> 7200000 | P10: 154904 | Q10: =+P10*0.19 -> 29431.76 | R10: =+P10+Q10 -> 184335.76 | S10: =+G10*R10 -> 1106014.6 | T10: 146740 | U10: =T10*19% -> 27880.6 | V10: =T10+U10 -> 174620.6 | W10: =+G10*V10 -> 1047723.6 | X10: 140861 | Y10: =+X10*0.19 -> 26763.59 | Z10: =+X10+Y10 -> 167624.59 | AA10: =+G10*Z10 -> 1005747.5 | AB10: =+AD10/1.19 -> 62510.084 | AC10: =+AD10-AB10 -> 11876.916 | AD10: 74387 | AE10: =+G10*AD10 -> 446322 | AF10: =+GEOMEAN(H10,L10,P10,T10,X10,AB10) -> 175309.71 | AG10: =+GEOMEAN(J10,N10,R10,V10,Z10,AD10) -> 208618.55 | AH10: =+HARMEAN(H10,L10,P10,T10,X10,AB10) -> 135405.58 | AI10: =+HARMEAN(J10,N10,R10,V10,Z10,AD10) -> 161132.64
C11: 1.6 | D11: ESCABILADERO PARA BANDEJAS | E11: ESCABILADERO PARA BANDEJAS DE 60 x 40 CM, FABRICADO EN ACERO INOXIDABLE, CAPACIDAD PARA ALMACENAR MINIMO 12 BANDEJAS. | F11: UN | G11: 1 | H11: 2465261 | I11: =H11*19% -> 468399.59 | J11: =H11+I11 -> 2933660.6 | K11: =G11*J11 -> 2933660.6 | L11: 1890756.3 | M11: =L11*19% -> 359243.7 | N11: =L11+M11 -> 2250000 | O11: =+G11*N11 -> 2250000 | P11: 2553398 | Q11: =+P11*0.19 -> 485145.62 | R11: =+P11+Q11 -> 3038543.6 | S11: =+G11*R11 -> 3038543.6 | T11: 2550779 | U11: =T11*19% -> 484648.01 | V11: =T11+U11 -> 3035427 | W11: =+G11*V11 -> 3035427 | X11: 2428755 | Y11: =+X11*0.19 -> 461463.45 | Z11: =+X11+Y11 -> 2890218.5 | AA11: =+G11*Z11 -> 2890218.5 | AB11: =+AD11/1.19 -> 788450.42 | AC11: =+AD11-AB11 -> 149805.58 | AD11: 938256 | AE11: =+G11*AD11 -> 938256 | AF11: =+GEOMEAN(H11,L11,P11,T11,X11,AB11) -> 1968224.6 | AG11: =+GEOMEAN(J11,N11,R11,V11,Z11,AD11) -> 2342187.2 | AH11: =+HARMEAN(H11,L11,P11,T11,X11,AB11) -> 1765619 | AI11: =+HARMEAN(J11,N11,R11,V11,Z11,AD11) -> 2101086.6
C12: 1.7 | D12: JUEGO DE OLLAS DE ALUMINIO | E12: JUEGO DE OLLAS DE ALUMINIO, CAPACIDAD DE 2 A 14 LITROS, 6 UNIDADES, FABRICADAS EN ALUMINIO DE ALTA PUREZA. INCLUYE: 1 OLLA DE 2 LITROS, 1 OLLA DE 2.5 LITROS, 1 OLLA DE 4 LITROS, 1 OLLA DE 6 LITROS, 1 OLLA DE 12 LITROS Y 1 OLLA DE 14 LITROS. CADA OLLA INCLUYE TAPA. | F12: UN | G12: 3 | H12: 405570 | I12: =H12*19% -> 77058.3 | J12: =H12+I12 -> 482628.3 | K12: =G12*J12 -> 1447884.9 | L12: 1384903.4 | M12: =L12*19% -> 263131.64 | N12: =L12+M12 -> 1648035 | O12: =+G12*N12 -> 4944105 | P12: 388583 | Q12: =+P12*0.19 -> 73830.77 | R12: =+P12+Q12 -> 462413.77 | S12: =+G12*R12 -> 1387241.3 | T12: 429717 | U12: =T12*19% -> 81646.23 | V12: =T12+U12 -> 511363.23 | W12: =+G12*V12 -> 1534089.7 | X12: 380421 | Y12: =+X12*0.19 -> 72279.99 | Z12: =+X12+Y12 -> 452700.99 | AA12: =+G12*Z12 -> 1358103 | AB12: =+AD12/1.19 -> 840336.13 | AC12: =+AD12-AB12 -> 159663.87 | AD12: 1000000 | AE12: =+G12*AD12 -> 3000000 | AF12: =+GEOMEAN(H12,L12,P12,T12,X12,AB12) -> 557371.63 | AG12: =+GEOMEAN(J12,N12,R12,V12,Z12,AD12) -> 663272.24 | AH12: =+HARMEAN(H12,L12,P12,T12,X12,AB12) -> 503906.53 | AI12: =+HARMEAN(J12,N12,R12,V12,Z12,AD12) -> 599648.77
C13: 1.8 | D13: CALDERO MEDIANO | E13: CALDERO MEDIANO DE 11 LITROS, FABRICADO EN ALUMINIO FUNDIDO, TAPA FUNDIDA CON POMO PLASTICO, ASAS EN ALUMINIO FUNDIDO. | F13: UN | G13: 2 | H13: 278942 | I13: =H13*19% -> 52998.98 | J13: =H13+I13 -> 331940.98 | K13: =G13*J13 -> 663881.96 | L13: 176470.59 | M13: =L13*19% -> 33529.412 | N13: =L13+M13 -> 210000 | O13: =+G13*N13 -> 420000 | P13: 274590 | Q13: =+P13*0.19 -> 52172.1 | R13: =+P13+Q13 -> 326762.1 | S13: =+G13*R13 -> 653524.2 | T13: 290819 | U13: =T13*19% -> 55255.61 | V13: =T13+U13 -> 346074.61 | W13: =+G13*V13 -> 692149.22 | X13: 263944 | Y13: =+X13*0.19 -> 50149.36 | Z13: =+X13+Y13 -> 314093.36 | AA13: =+G13*Z13 -> 628186.72 | AB13: =+AD13/1.19 -> 34453.782 | AC13: =+AD13-AB13 -> 6546.2185 | AD13: 41000 | AE13: =+G13*AD13 -> 82000 | AF13: =+GEOMEAN(H13,L13,P13,T13,X13,AB13) -> 181498.79 | AG13: =+GEOMEAN(J13,N13,R13,V13,Z13,AD13) -> 215983.56 | AH13: =+HARMEAN(H13,L13,P13,T13,X13,AB13) -> 122087.52 | AI13: =+HARMEAN(J13,N13,R13,V13,Z13,AD13) -> 145284.15
C14: 1.9 | D14: TABLA PARA PICAR | E14: TABLA PARA PICAR/CORTAR, FABRICADA EN POLIETILENO RESISTENTE A GOLPES, DEFORMACIONES Y MANCHAS. DIMENSIONES: 60 x 40 x 2 CM. | F14: UN | G14: 10 | H14: 279142 | I14: =H14*19% -> 53036.98 | J14: =H14+I14 -> 332178.98 | K14: =G14*J14 -> 3321789.8 | L14: 176470.59 | M14: =L14*19% -> 33529.412 | N14: =L14+M14 -> 210000 | O14: =+G14*N14 -> 2100000 | P14: 263086 | Q14: =+P14*0.19 -> 49986.34 | R14: =+P14+Q14 -> 313072.34 | S14: =+G14*R14 -> 3130723.4 | T14: 289321 | U14: =T14*19% -> 54970.99 | V14: =T14+U14 -> 344291.99 | W14: =+G14*V14 -> 3442919.9 | X14: 270822 | Y14: =+X14*0.19 -> 51456.18 | Z14: =+X14+Y14 -> 322278.18 | AA14: =+G14*Z14 -> 3222781.8 | AB14: =+AD14/1.19 -> 117647.06 | AC14: =+AD14-AB14 -> 22352.941 | AD14: 140000 | AE14: =+G14*AD14 -> 1400000 | AF14: =+GEOMEAN(H14,L14,P14,T14,X14,AB14) -> 221925.24 | AG14: =+GEOMEAN(J14,N14,R14,V14,Z14,AD14) -> 264091.04 | AH14: =+HARMEAN(H14,L14,P14,T14,X14,AB14) -> 209066.94 | AI14: =+HARMEAN(J14,N14,R14,V14,Z14,AD14) -> 248789.66
C15: 1.10 | D15: RODILLO PARA REPOSTERÍA | E15: RODILLO PARA REPOSTERIA, FABRICADO EN PVC CON EJE EN ACERO INOXIDABLE, LARGO TOTAL DE 60 CM. | F15: UN | G15: 2 | H15: 170874 | I15: =H15*19% -> 32466.06 | J15: =H15+I15 -> 203340.06 | K15: =G15*J15 -> 406680.12 | L15: 119117.65 | M15: =L15*19% -> 22632.353 | N15: =L15+M15 -> 141750 | O15: =+G15*N15 -> 283500 | P15: 166442 | Q15: =+P15*0.19 -> 31623.98 | R15: =+P15+Q15 -> 198065.98 | S15: =+G15*R15 -> 396131.96 | T15: 176152 | U15: =T15*19% -> 33468.88 | V15: =T15+U15 -> 209620.88 | W15: =+G15*V15 -> 419241.76 | X15: 164358 | Y15: =+X15*0.19 -> 31228.02 | Z15: =+X15+Y15 -> 195586.02 | AA15: =+G15*Z15 -> 391172.04 | AB15: =+AD15/1.19 -> 117647.06 | AC15: =+AD15-AB15 -> 22352.941 | AD15: 140000 | AE15: =+G15*AD15 -> 280000 | AF15: =+GEOMEAN(H15,L15,P15,T15,X15,AB15) -> 150324.26 | AG15: =+GEOMEAN(J15,N15,R15,V15,Z15,AD15) -> 178885.87 | AH15: =+HARMEAN(H15,L15,P15,T15,X15,AB15) -> 148087.37 | AI15: =+HARMEAN(J15,N15,R15,V15,Z15,AD15) -> 176223.98
C16: 1.11 | D16: RALLADOR EN ACERO | E16: RALLADOR EN ACERO INOXIDABLE, ALTO MINIMO DE 22 CM, CON MANGO ERGONOMICO, BASE ANTIDESLIZABLE, 4 CARAS CON DIFERENTES TIPOS DE CORTE. | F16: UN | G16: 2 | H16: 74571 | I16: =H16*19% -> 14168.49 | J16: =H16+I16 -> 88739.49 | K16: =G16*J16 -> 177478.98 | L16: 52815.126 | M16: =L16*19% -> 10034.874 | N16: =L16+M16 -> 62850 | O16: =+G16*N16 -> 125700 | P16: 73426 | Q16: =+P16*0.19 -> 13950.94 | R16: =+P16+Q16 -> 87376.94 | S16: =+G16*R16 -> 174753.88 | T16: 78699 | U16: =T16*19% -> 14952.81 | V16: =T16+U16 -> 93651.81 | W16: =+G16*V16 -> 187303.62 | X16: 78538 | Y16: =+X16*0.19 -> 14922.22 | Z16: =+X16+Y16 -> 93460.22 | AA16: =+G16*Z16 -> 186920.44 | AB16: =+AD16/1.19 -> 16806.723 | AC16: =+AD16-AB16 -> 3193.2773 | AD16: 20000 | AE16: =+G16*AD16 -> 40000 | AF16: =+GEOMEAN(H16,L16,P16,T16,X16,AB16) -> 55755.157 | AG16: =+GEOMEAN(J16,N16,R16,V16,Z16,AD16) -> 66348.636 | AH16: =+HARMEAN(H16,L16,P16,T16,X16,AB16) -> 45835.643 | AI16: =+HARMEAN(J16,N16,R16,V16,Z16,AD16) -> 54544.415
C17: 1.12 | D17: JUEGO DE BOWL'S EN ACERO | E17: JUEGO DE BOWL'S EN ACERO INOXIDABLE DE 4 PIEZAS (14, 18, 21 Y 26 CM DE DIAMETRO). | F17: UN | G17: 4 | H17: 398574 | I17: =H17*19% -> 75729.06 | J17: =H17+I17 -> 474303.06 | K17: =G17*J17 -> 1897212.2 | L17: 251974.79 | M17: =L17*19% -> 47875.21 | N17: =L17+M17 -> 299850 | O17: =+G17*N17 -> 1199400 | P17: 380486 | Q17: =+P17*0.19 -> 72292.34 | R17: =+P17+Q17 -> 452778.34 | S17: =+G17*R17 -> 1811113.4 | T17: 405317 | U17: =T17*19% -> 77010.23 | V17: =T17+U17 -> 482327.23 | W17: =+G17*V17 -> 1929308.9 | X17: 379948 | Y17: =+X17*0.19 -> 72190.12 | Z17: =+X17+Y17 -> 452138.12 | AA17: =+G17*Z17 -> 1808552.5 | AB17: =+AD17/1.19 -> 47815.126 | AC17: =+AD17-AB17 -> 9084.8739 | AD17: 56900 | AE17: =+G17*AD17 -> 227600 | AF17: =+GEOMEAN(H17,L17,P17,T17,X17,AB17) -> 255985.19 | AG17: =+GEOMEAN(J17,N17,R17,V17,Z17,AD17) -> 304622.37 | AH17: =+HARMEAN(H17,L17,P17,T17,X17,AB17) -> 170848.46 | AI17: =+HARMEAN(J17,N17,R17,V17,Z17,AD17) -> 203309.67
... C37: 1.32 | D37: DESFIBRILADOR EXTERNO | E37: DESFIBRILADOR EXTERNO AUTOMATICO, DESCARGA ELECTRICA AUTOMATICA, ENERGÍA DE HASTA 200 JOULES. DEBE PERMITIR OPERACIÓN EN NIÑOS Y ADULTOS. METRONOMO DE FRECUENCIA INCORPORADO Y ELECTRODOS PRECONECTADOS. ALMACENAMIENTO DE MINIMO 1,5 HORAS DE DATOS DE INTERVENCIÓN. BATERÍA DE LARGA DURACIÓN. COMPROBACIÓN AUTOMATICA DEL ESTADO DE LOS ELECTRODOS Y LA BATERÍA. | F37: UN | G37: 1 | H37: 10992317 | I37: =H37*19% -> 2088540.2 | J37: =H37+I37 -> 13080857 | K37: =G37*J37 -> 13080857 | L37: 8010000 | M37: =L37*19% -> 1521900 | N37: =L37+M37 -> 9531900 | O37: =+G37*N37 -> 9531900 | P37: 11702759 | Q37: =+P37*0.19 -> 2223524.2 | R37: =+P37+Q37 -> 13926283 | S37: =+G37*R37 -> 13926283 | T37: 11023569 | U37: =T37*19% -> 2094478.1 | V37: =T37+U37 -> 13118047 | W37: =+G37*V37 -> 13118047 | X37: 10214941 | Y37: =+X37*0.19 -> 1940838.8 | Z37: =+X37+Y37 -> 12155780 | AA37: =+G37*Z37 -> 12155780 | AB37: =+AD37/1.19 -> 5042016.8 | AC37: =+AD37-AB37 -> 957983.19 | AD37: 6000000 | AE37: =+G37*AD37 -> 6000000 | AF37: =+GEOMEAN(H37,L37,P37,T37,X37,AB37) -> 9145246.2 | AG37: =+GEOMEAN(J37,N37,R37,V37,Z37,AD37) -> 10882843 | AH37: =+HARMEAN(H37,L37,P37,T37,X37,AB37) -> 8718264.3 | AI37: =+HARMEAN(J37,N37,R37,V37,Z37,AD37) -> 10374734
C38: TOTAL SIBATE | H38: =SUM(H6:H37) -> 30258578 | I38: =SUM(I6:I37) -> 5749129.8 | J38: =SUM(J6:J37) -> 36007708 | K38: =SUM(K6:K37) -> 65361343 | L38: =SUM(L6:L37) -> 25856746 | M38: =SUM(M6:M37) -> 4912781.8 | N38: =SUM(N6:N37) -> 30769528 | O38: =SUM(O6:O37) -> 60680142 | ... AI38: =SUM(AI6:AI37) -> 27135199
C39: 2. SIMIJACA
C40: ITEM | D40: PRODUCTO / SERVICIO | E40: DESCRIPCIÓN PRODUCTO / SERVICIO | F40: UNIDAD DE MEDIDA | G40: CANTIDAD | H40: VALOR UNITARIO SIN IVA | I40: IVA | J40: VALOR UNITARIO CON IVA | K40: VALOR TOTAL (VALOR UNITARIO CON IVA X CANTIDAD) | L40: VALOR UNITARIO SIN IVA | M40: IVA | N40: VALOR UNITARIO CON IVA | O40: VALOR TOTAL (VALOR UNITARIO CON IVA X CANTIDAD) | P40: VALOR UNITARIO SIN IVA | Q40: IVA | R40: VALOR UNITARIO CON IVA | S40: VALOR TOTAL (VALOR UNITARIO CON IVA X CANTIDAD) | T40: VALOR UNITARIO SIN IVA | U40: IVA | V40: VALOR UNITARIO CON IVA | W40: VALOR TOTAL (VALOR UNITARIO CON IVA X CANTIDAD) | X40: VALOR UNITARIO SIN IVA | Y40: IVA | Z40: VALOR UNITARIO CON IVA | AA40: VALOR TOTAL (VALOR UNITARIO CON IVA X CANTIDAD) | AB40: VALOR UNITARIO SIN IVA | AC40: IVA | AD40: VALOR UNITARIO CON IVA | AE40: VALOR TOTAL (VALOR UNITARIO CON IVA X CANTIDAD) | AF40: VALOR UNITARIO SIN IVA | AG40: VALOR UNITARIO CON IVA | AH40: VALOR UNITARIO SIN IVA | AI40: VALOR UNITARIO CON IVA
C41: 2.1 | D41: AVISO EN CAJA PARA FACHADA | E41: AVISO EN CAJA PARA FACHADA DE 2.5 m x 0.75 m. IMPRESO EN BANNER TRASLUCIDO FULL COLOR, LAMINADO RESISTENTE A RAYOS UV. ILUMINACIÓN INTERNA TIPO LED DE ALTA DURABILIDAD, CONEXIÓN ELECTRICA A 110 V. CANTONERAS EN ALUMINIO. SE DEBE INTRAGAR INSTALADO EN SITIO. | F41: UN | G41: 1 | H41: 3806471 | I41: =H41*19% -> 723229.49 | J41: =H41+I41 -> 4529700.5 | K41: =G41*J41 -> 4529700.5 | L41: 2016806.7 | M41: =L41*19% -> 383193.28 | N41: =L41+M41 -> 2400000 | O41: =+G41*N41 -> 2400000 | P41: 3744578 | Q41: =+P41*0.19 -> 711469.82 | R41: =+P41+Q41 -> 4456047.8 | S41: =+G41*R41 -> 4456047.8 | T41: 3642494 | U41: =T41*19% -> 692073.86 | V41: =T41+U41 -> 4334567.9 | W41: =+G41*V41 -> 4334567.9 | X41: 3900235 | Y41: =+X41*0.19 -> 741044.65 | Z41: =+X41+Y41 -> 4641279.7 | AA41: =+G41*Z41 -> 4641279.7 | AF41: =+GEOMEAN(H41,L41,P41,T41,X41,AB41) -> 3328249.4 | AG41: =+GEOMEAN(J41,N41,R41,V41,Z41,AD41) -> 3960616.8 | AH41: =+HARMEAN(H41,L41,P41,T41,X41,AB41) -> 3212276.3 | AI41: =+HARMEAN(J41,N41,R41,V41,Z41,AD41) -> 3822608.8
C42: 2.2 | D42: PLANCHA A VAPOR SEMI-INDUSTRIAL | E42: PLANCHA A VAPOR USO SEMI-INDUSTRIAL, CUERPO EN ACERO INOXIDABLE, TANQUE DE AGUA DE MINIMO 4 LITROS DE ALMACENAMIENTO, SISTEMA DE ANTIGOTEO, CONTROL DE TEMPERATURA MANUAL. INCLUYE: GALON, MANGUERA Y BASE. | F42: UN | G42: 1 | H42: 618098 | I42: =H42*19% -> 117438.62 | J42: =H42+I42 -> 735536.62 | K42: =G42*J42 -> 735536.62 | L42: 520588.24 | M42: =L42*19% -> 98911.765 | N42: =L42+M42 -> 619500 | O42: =+G42*N42 -> 619500 | P42: 587778 | Q42: =+P42*0.19 -> 111677.82 | R42: =+P42+Q42 -> 699455.82 | S42: =+G42*R42 -> 699455.82 | T42: 613829 | U42: =T42*19% -> 116627.51 | V42: =T42+U42 -> 730456.51 | W42: =+G42*V42 -> 730456.51 | X42: 628160 | Y42: =+X42*0.19 -> 119350.4 | Z42: =+X42+Y42 -> 747510.4 | AA42: =+G42*Z42 -> 747510.4 | AB42: =+AD42/1.19 -> 403361.34 | AC42: =+AD42-AB42 -> 76638.655 | AD42: 480000 | AE42: =+G42*AD42 -> 480000 | AF42: =+GEOMEAN(H42,L42,P42,T42,X42,AB42) -> 555600.76 | AG42: =+GEOMEAN(J42,N42,R42,V42,Z42,AD42) -> 661164.9 | AH42: =+HARMEAN(H42,L42,P42,T42,X42,AB42) -> 548429.58 | AI42: =+HARMEAN(J42,N42,R42,V42,Z42,AD42) -> 652631.2
C43: 2.3 | D43: CABINA DE SONIDO ACTIVA DE 1000 WATTS | E43: CABINA DE SONIDO ACTIVA DE 1000 WATTS, 2 LINEAS, AMPLIFICADOR CLASED. ASAS ERGONOMICAS PARA COMODO AGARRE. DEBE CONTAR CON PUNTOS DE FIJACIÓN PARA INSTALACIÓN EN MODO SUSPENDIDO. DEBE INCLUIR: 1 SISTEMA DE SOPORTE TIPO TRIPO DE PLEGABLE DE ALUMINIO CON AJUSTE DE ALTURA, 1 MICROFONO ALAMBRICO, CABLE DE PODER Y CABLES PARA SU CORRECTO FUNCIONAMIENTO. | F43: UN | G43: 1 | H43: 3990000 | I43: =H43*19% -> 758100 | J43: =H43+I43 -> 4748100 | K43: =G43*J43 -> 4748100 | L43: 2431512.6 | M43: =L43*19% -> 461987.39 | N43: =L43+M43 -> 2893500 | O43: =+G43*N43 -> 2893500 | P43: 4244254 | Q43: =+P43*0.19 -> 806408.26 | R43: =+P43+Q43 -> 5050662.3 | S43: =+G43*R43 -> 5050662.3 | T43: 4348132 | U43: =T43*19% -> 826145.08 | V43: =T43+U43 -> 5174277.1 | W43: =+G43*V43 -> 5174277.1 | X43: 4084624 | Y43: =+X43*0.19 -> 776078.56 | Z43: =+X43+Y43 -> 4860702.6 | AA43: =+G43*Z43 -> 4860702.6 | AB43: =+AD43/1.19 -> 1621008.4 | AC43: =+AD43-AB43 -> 307991.6 | AD43: 1929000 | AE43: =+G43*AD43 -> 1929000 | AF43: =+GEOMEAN(H43,L43,P43,T43,X43,AB43) -> 3253232.8 | AG43: =+GEOMEAN(J43,N43,R43,V43,Z43,AD43) -> 3871347 | AH43: =+HARMEAN(H43,L43,P43,T43,X43,AB43) -> 3016272.5 | AI43: =+HARMEAN(J43,N43,R43,V43,Z43,AD43) -> 3589364.2
C44: 2.4 | D44: VIDEO BEAM | E44: VIDEO BEAM CON RESOLUCIÓN 1024x768, BRILLO MINIMO DE 3300 LUMENES (BLANCO Y COLOR), VIDA UTIL LAMPARA HASTA 12.000 HORAS, PUERTOS: RCA/HDMI/USB/STEREO/RS-232. ALIMENTACION 100v-240v, 50-60HZ, CUENTA CON MODO DE OPERACIÓN PARA DISMINUCIÓN DE CONSUMO ELECTRICO. INCLUYE CONTROL REMOTO. | F44: UN | G44: 1 | H44: 3220336 | I44: =H44*19% -> 611863.84 | J44: =H44+I44 -> 3832199.8 | K44: =G44*J44 -> 3832199.8 | L44: 2475000 | M44: =L44*19% -> 470250 | N44: =L44+M44 -> 2945250 | O44: =+G44*N44 -> 2945250 | P44: 3562886 | Q44: =+P44*0.19 -> 676948.34 | R44: =+P44+Q44 -> 4239834.3 | S44: =+G44*R44 -> 4239834.3 | T44: 3384406 | U44: =T44*19% -> 643037.14 | V44: =T44+U44 -> 4027443.1 | W44: =+G44*V44 -> 4027443.1 | X44: 3303044 | Y44: =+X44*0.19 -> 627578.36 | Z44: =+X44+Y44 -> 3930622.4 | AA44: =+G44*Z44 -> 3930622.4 | AB44: =+AD44/1.19 -> 2168067.2 | AC44: =+AD44-AB44 -> 411932.77 | AD44: 2580000 | AE44: =+G44*AD44 -> 2580000 | AF44: =+GEOMEAN(H44,L44,P44,T44,X44,AB44) -> 2971378.5 | AG44: =+GEOMEAN(J44,N44,R44,V44,Z44,AD44) -> 3535940.4 | AH44: =+HARMEAN(H44,L44,P44,T44,X44,AB44) -> 2920130.7 | AI44: =+HARMEAN(J44,N44,R44,V44,Z44,AD44) -> 3474955.6
C45: 2.5 | D45: COMPUTADOR PORTÁTIL | E45: COMPUTADOR PORTATIL CON PROCESADOR DE 8 NUCLEOS Y FRECUENCIA DE 3,3 GHZ, MEMORIA RAM DDR4 DE 16 GB, DISCO DE ESTADO SOLIDO DE 512 GB. PANTALLA TACTIL DE MINIMO 15", RESOLUCIÓN FHD (19020 x 1080). TARJETA GRAFICA INTEGRADA. CAMARA CON RESOLUCIÓN MINIMO 1080P. PUERTOS Y/O RANURAS: 1 PUERTO USB-C, 2 PUERTO USB-A, 1 PUERTO HDMI, 1 LECTOR DE TARJETAS SD, 1 TOMA PARA AURICURALES. SISTEMA OPERATIVO WINDOWS 11 EN CUALQUIERA DE SUS VERSIONES. INCLUYE CARGADOR. | F45: UN | G45: 1 | H45: 4063000 | I45: =H45*19% -> 771970 | J45: =H45+I45 -> 4834970 | K45: =G45*J45 -> 4834970 | L45: 2646932.8 | M45: =L45*19% -> 502917.23 | N45: =L45+M45 -> 3149850 | O45: =+G45*N45 -> 3149850 | P45: 3907847 | Q45: =+P45*0.19 -> 742490.93 | R45: =+P45+Q45 -> 4650337.9 | S45: =+G45*R45 -> 4650337.9 | T45: 4049283 | U45: =T45*19% -> 769363.77 | V45: =T45+U45 -> 4818646.8 | W45: =+G45*V45 -> 4818646.8 | X45: 3790962 | Y45: =+X45*0.19 -> 720282.78 | Z45: =+X45+Y45 -> 4511244.8 | AA45: =+G45*Z45 -> 4511244.8 | AB45: =+AD45/1.19 -> 4638428.6 | AC45: =+AD45-AB45 -> 881301.43 | AD45: 5519730 | AE45: =+G45*AD45 -> 5519730 | AF45: =+GEOMEAN(H45,L45,P45,T45,X45,AB45) -> 3796099.8 | AG45: =+GEOMEAN(J45,N45,R45,V45,Z45,AD45) -> 4517358.7 | AH45: =+HARMEAN(H45,L45,P45,T45,X45,AB45) -> 3735646.8 | AI45: =+HARMEAN(J45,N45,R45,V45,Z45,AD45) -> 4445419.7
C46: 2.6 | D46: IMPRESORA MULTIFUNCIONAL | E46: IMPRESORA MULTIFUNCIONAL CON SISTEMA DE IMPRESIÓN DE INYECCIÓN TIPO TANQUE, RESOLUCIÓN DE IMPRESIÓN MINIMA DE 5760X1440 DPI, VELOCIDAD DE IMPRESIÓN DE 33PPM EN NEGRO Y 15PPM A COLOR. RESOLUCIÓN OPTICA PARA COPIAS Y ESCANER DE 600x1200 DPI. CONECTIVIDAD DE ALTA VELOCIDAD USB. COMPATIBILIDAD CON SISTEMAS OPERATIVOS WINDOWS Y MAC. VOLTAJE DE ALIMENTACIÓN DE 110V. DEBE INCLUIR UN JUEGO DE TINTAS DE CADA COLOR (NEGRO, CYAN, MAGENTA, AMARILLO). | F46: UN | G46: 1 | H46: 1474185 | I46: =H46*19% -> 280095.15 | J46: =H46+I46 -> 1754280.1 | K46: =G46*J46 -> 1754280.1 | L46: 2546092.4 | M46: =L46*19% -> 483757.56 | N46: =L46+M46 -> 3029850 | O46: =+G46*N46 -> 3029850 | P46: 1686122 | Q46: =+P46*0.19 -> 320363.18 | R46: =+P46+Q46 -> 2006485.2 | S46: =+G46*R46 -> 2006485.2 | T46: 1526486 | U46: =T46*19% -> 290032.34 | V46: =T46+U46 -> 1816518.3 | W46: =+G46*V46 -> 1816518.3 | X46: 1498029 | Y46: =+X46*0.19 -> 284625.51 | Z46: =+X46+Y46 -> 1782654.5 | AA46: =+G46*Z46 -> 1782654.5 | AB46: =+AD46/1.19 -> 3142857.1 | AC46: =+AD46-AB46 -> 597142.86 | AD46: 3740000 | AE46: =+G46*AD46 -> 3740000 | AF46: =+GEOMEAN(H46,L46,P46,T46,X46,AB46) -> 1889334.3 | AG46: =+GEOMEAN(J46,N46,R46,V46,Z46,AD46) -> 2248307.8 | AH46: =+HARMEAN(H46,L46,P46,T46,X46,AB46) -> 1815430.3 | AI46: =+HARMEAN(J46,N46,R46,V46,Z46,AD46) -> 2160362.1
C47: 2.7 | D47: KIT DE TINTAS GENÉRICAS | E47: KIT DE TINTAS GENERICAS PARA IMPRESORAS DE INYECCIÓN. INCLUYE: 1 LITRO DE TINTA COLOR NEGRO, 1 LITRO DE TINTA COLOR MAGENTA, 1 LITRO DE TINTA COLOR AMARILLA, 1 LITRO DE TINTA COLOR CYAN. | F47: UN | G47: 1 | H47: 173466 | I47: =H47*19% -> 32958.54 | J47: =H47+I47 -> 206424.54 | K47: =G47*J47 -> 206424.54 | L47: 180126.05 | M47: =L47*19% -> 34223.95 | N47: =L47+M47 -> 214350 | O47: =+G47*N47 -> 214350 | P47: 162684 | Q47: =+P47*0.19 -> 30909.96 | R47: =+P47+Q47 -> 193593.96 | S47: =+G47*R47 -> 193593.96 | T47: 175898 | U47: =T47*19% -> 33420.62 | V47: =T47+U47 -> 209318.62 | W47: =+G47*V47 -> 209318.62 | X47: 168572 | Y47: =+X47*0.19 -> 32028.68 | Z47: =+X47+Y47 -> 200600.68 | AA47: =+G47*Z47 -> 200600.68 | AB47: =+AD47/1.19 -> 147058.82 | AC47: =+AD47-AB47 -> 27941.176 | AD47: 175000 | AE47: =+G47*AD47 -> 175000 | AF47: =+GEOMEAN(H47,L47,P47,T47,X47,AB47) -> 167601.87 | AG47: =+GEOMEAN(J47,N47,R47,V47,Z47,AD47) -> 199446.23 | AH47: =+HARMEAN(H47,L47,P47,T47,X47,AB47) -> 167220.96 | AI47: =+HARMEAN(J47,N47,R47,V47,Z47,AD47) -> 198992.95
C48: 2.8 | D48: TABLERO ACRÍLICO | E48: TABLERO ACRILICO DE 2.4 m x 1.2 m, ESTRUCTURA DE MINIMO 1 CM DE ESPESOR, FORMICA BRILLANTE DE ALTA DURABILIDAD Y FACIL LIMPIEZA, BORDES EN ALUMINIO. | F48: UN | G48: 1 | H48: 551748 | I48: =H48*19% -> 104832.12 | J48: =H48+I48 -> 656580.12 | K48: =G48*J48 -> 656580.12 | L48: 804303 | M48: =L48*19% -> 152817.57 | N48: =L48+M48 -> 957120.57 | O48: =+G48*N48 -> 957120.57 | P48: 526151 | Q48: =+P48*0.19 -> 99968.69 | R48: =+P48+Q48 -> 626119.69 | S48: =+G48*R48 -> 626119.69 | T48: 593083 | U48: =T48*19% -> 112685.77 | V48: =T48+U48 -> 705768.77 | W48: =+G48*V48 -> 705768.77 | X48: 564590 | Y48: =+X48*0.19 -> 107272.1 | Z48: =+X48+Y48 -> 671862.1 | AA48: =+G48*Z48 -> 671862.1 | AB48: =+AD48/1.19 -> 450000 | AC48: =+AD48-AB48 -> 85500 | AD48: 535500 | AE48: =+G48*AD48 -> 535500 | AF48: =+GEOMEAN(H48,L48,P48,T48,X48,AB48) -> 572429.5 | AG48: =+GEOMEAN(J48,N48,R48,V48,Z48,AD48) -> 681191.1 | AH48: =+HARMEAN(H48,L48,P48,T48,X48,AB48) -> 564129.65 | AI48: =+HARMEAN(J48,N48,R48,V48,Z48,AD48) -> 671314.29
C49: 2.9 | D49: TERMOFIJADORA MULTIUSOS | E49: TERMOFIJADORA MULTIUSOS, PERMITE ESTAMPADO EN DIFERENTES MATERIALES: CERAMICA, VIDRIO, TEXTILES, PLASTICO, CARTON, ALUMINIO Y ACERO. CUENTA CON: 1 ESTAMPADORA DE CAMISETAS, 1 ESTAMPADORA DE GORRAS, 4 SUBLIMADOAS PARA POCILLOS O MUGS, 2 MAQUINAS PARA ESTAMPAR PLATOS. CONTROL DIGITAL DE TIEMPO Y TEMPERATURA, RESISTENCIAS INTERCAMBIABLES. ESTRUCTURA METALICA, RESISTENCIAS EN CAUCHOS SILICONADO, PROTECTORES CON TEFLON. AREA MAXIMA DE ESTAMPACIÓN DE 38 x 29 CM. CONEXIÓN ELECTRICA A 110V. | F49: UN | G49: 1 | H49: 2567274 | I49: =H49*19% -> 487782.06 | J49: =H49+I49 -> 3055056.1 | K49: =G49*J49 -> 3055056.1 | L49: 1865546.2 | M49: =L49*19% -> 354453.78 | N49: =L49+M49 -> 2220000 | O49: =+G49*N49 -> 2220000 | P49: 2493789 | Q49: =+P49*0.19 -> 473819.91 | R49: =+P49+Q49 -> 2967608.9 | S49: =+G49*R49 -> 2967608.9 | T49: 2714089 | U49: =T49*19% -> 515676.91 | V49: =T49+U49 -> 3229765.9 | W49: =+G49*V49 -> 3229765.9 | X49: 2685297 | Y49: =+X49*0.19 -> 510206.43 | Z49: =+X49+Y49 -> 3195503.4 | AA49: =+G49*Z49 -> 3195503.4 | AB49: =+AD49/1.19 -> 1512605 | AC49: =+AD49-AB49 -> 287394.96 | AD49: 1800000 | AE49: =+G49*AD49 -> 1800000 | AF49: =+GEOMEAN(H49,L49,P49,T49,X49,AB49) -> 2255519.8 | AG49: =+GEOMEAN(J49,N49,R49,V49,Z49,AD49) -> 2684068.6 | AH49: =+HARMEAN(H49,L49,P49,T49,X49,AB49) -> 2199004.3 | AI49: =+HARMEAN(J49,N49,R49,V49,Z49,AD49) -> 2616815.1
C50: 2.10 | D50: LICUADORA DE 2.1 LITROS | E50: LICUADORA DE 2.1 LITROS, POTENCIA DE 1000 W, 4 VELOCIDADES, CUCHILLAS DESMONTABLES, CONEXIÓN ELECTRICA A 110V/120V, BASE ANTIDESLIZANTE. | F50: UN | G50: 1 | H50: 706739 | I50: =H50*19% -> 134280.41 | J50: =H50+I50 -> 841019.41 | K50: =G50*J50 -> 841019.41 | L50: 756176.47 | M50: =L50*19% -> 143673.53 | N50: =L50+M50 -> 899850 | O50: =+G50*N50 -> 899850 | P50: 670920 | Q50: =+P50*0.19 -> 127474.8 | R50: =+P50+Q50 -> 798394.8 | S50: =+G50*R50 -> 798394.8 | T50: 722567 | U50: =T50*19% -> 137287.73 | V50: =T50+U50 -> 859854.73 | W50: =+G50*V50 -> 859854.73 | X50: 722439 | Y50: =+X50*0.19 -> 137263.41 | Z50: =+X50+Y50 -> 859702.41 | AA50: =+G50*Z50 -> 859702.41 | AB50: =+AD50/1.19 -> 252100.84 | AC50: =+AD50-AB50 -> 47899.16 | AD50: 300000 | AE50: =+G50*AD50 -> 300000 | AF50: =+GEOMEAN(H50,L50,P50,T50,X50,AB50) -> 601129.11 | AG50: =+GEOMEAN(J50,N50,R50,V50,Z50,AD50) -> 715343.64 | AH50: =+HARMEAN(H50,L50,P50,T50,X50,AB50) -> 547310.22 | AI50: =+HARMEAN(J50,N50,R50,V50,Z50,AD50) -> 651299.16
C51: 2.11 | D51: KIT DE TINTAS PARA SUBLIMAR | E51: KIT DE TINTAS PARA SUBLIMAR, INCLUYE: 1 LITRO COLOR AMARILLO, 1 LITRO COLOR CYAN, 1 LITRO COLOR MAGENTA Y 1 LITRO COLOR NEGRO. | F51: UN | G51: 1 | H51: 1196320 | I51: =H51*19% -> 227300.8 | J51: =H51+I51 -> 1423620.8 | K51: =G51*J51 -> 1423620.8 | L51: 1121340 | M51: =L51*19% -> 213054.6 | N51: =L51+M51 -> 1334394.6 | O51: =+G51*N51 -> 1334394.6 | P51: 1180542 | Q51: =+P51*0.19 -> 224302.98 | R51: =+P51+Q51 -> 1404845 | S51: =+G51*R51 -> 1404845 | T51: 1242088 | U51: =T51*19% -> 235996.72 | V51: =T51+U51 -> 1478084.7 | W51: =+G51*V51 -> 1478084.7 | X51: 1175150 | Y51: =+X51*0.19 -> 223278.5 | Z51: =+X51+Y51 -> 1398428.5 | AA51: =+G51*Z51 -> 1398428.5 | AB51: =+AD51/1.19 -> 403361.34 | AC51: =+AD51-AB51 -> 76638.655 | AD51: 480000 | AE51: =+G51*AD51 -> 480000 | AF51: =+GEOMEAN(H51,L51,P51,T51,X51,AB51) -> 988403.66 | AG51: =+GEOMEAN(J51,N51,R51,V51,Z51,AD51) -> 1176200.4 | AH51: =+HARMEAN(H51,L51,P51,T51,X51,AB51) -> 894191.34 | AI51: =+HARMEAN(J51,N51,R51,V51,Z51,AD51) -> 1064087.7
C52: 2.12 | D52: ARCHIVADOR METÁLICO | E52: ARCHIVADOR METALICO DE 3 GAVETAS, FABRICADO EN LAMINA CALIBRE 24 O SUPERIOR, TERMINACIÓN PINTURA ELECTROESTATICA, CORREDERAS FULL EXTENSION, SISTEMA DE SEGURIDAD CON CHAPA. ALTURA MINIMA DEL MUEBLE DE 1 METRO. | F52: UN | G52: 1 | H52: 1683911 | I52: =H52*19% -> 319943.09 | J52: =H52+I52 -> 2003854.1 | K52: =G52*J52 -> 2003854.1 | L52: 1687815.1 | M52: =L52*19% -> 320684.87 | N52: =L52+M52 -> 2008500 | O52: =+G52*N52 -> 2008500 | P52: 1599863 | Q52: =+P52*0.19 -> 303973.97 | R52: =+P52+Q52 -> 1903837 | S52: =+G52*R52 -> 1903837 | T52: 1697456 | U52: =T52*19% -> 322516.64 | V52: =T52+U52 -> 2019972.6 | W52: =+G52*V52 -> 2019972.6 | X52: 1644037 | Y52: =+X52*0.19 -> 312367.03 | Z52: =+X52+Y52 -> 1956404 | AA52: =+G52*Z52 -> 1956404 | AB52: =+AD52/1.19 -> 885714.29 | AC52: =+AD52-AB52 -> 168285.71 | AD52: 1054000 | AE52: =+G52*AD52 -> 1054000 | AF52: =+GEOMEAN(H52,L52,P52,T52,X52,AB52) -> 1496655.2 | AG52: =+GEOMEAN(J52,N52,R52,V52,Z52,AD52) -> 1781019.7 | AH52: =+HARMEAN(H52,L52,P52,T52,X52,AB52) -> 1450046.3 | AI52: =+HARMEAN(J52,N52,R52,V52,Z52,AD52) -> 1725555
C53: 2.13 | D53: SILLA DE LACTANCÍA | E53: SILLA DE LACTANCIA TIPO MECEDORA ACOLCHADA, ESTRUCTURA EN MADERA MACIZA, TELA ANTIFLUIDO DE FACIL LIMPIEZA. ALTURA MINIMA DE 1 METRO. | F53: UN | G53: 1 | H53: 2120748 | I53: =H53*19% -> 402942.12 | J53: =H53+I53 -> 2523690.1 | K53: =G53*J53 -> 2523690.1 | L53: 3767647.1 | M53: =L53*19% -> 715852.94 | N53: =L53+M53 -> 4483500 | O53: =+G53*N53 -> 4483500 | P53: 1999606 | Q53: =+P53*0.19 -> 379925.14 | R53: =+P53+Q53 -> 2379531.1 | S53: =+G53*R53 -> 2379531.1 | T53: 2179377 | U53: =T53*19% -> 414081.63 | V53: =T53+U53 -> 2593458.6 | W53: =+G53*V53 -> 2593458.6 | X53: 2159806 | Y53: =+X53*0.19 -> 410363.14 | Z53: =+X53+Y53 -> 2570169.1 | AA53: =+G53*Z53 -> 2570169.1 | AB53: =+AD53/1.19 -> 1211764.7 | AC53: =+AD53-AB53 -> 230235.29 | AD53: 1442000 | AE53: =+G53*AD53 -> 1442000 | AF53: =+GEOMEAN(H53,L53,P53,T53,X53,AB53) -> 2121346 | AG53: =+GEOMEAN(J53,N53,R53,V53,Z53,AD53) -> 2524401.8 | AH53: =+HARMEAN(H53,L53,P53,T53,X53,AB53) -> 2010628.3 | AI53: =+HARMEAN(J53,N53,R53,V53,Z53,AD53) -> 2392647.6
... C69: 2.29 | D69: OVILLO DE HILO MACRAMÉ 100% ACRILICO | E69: OVILLO DE HILO MACRAMÉ 100% ACRILICO, GROSOR DE 2 mm, PRESENTACIÓN DE OVILLO POR 100 GRAMOS. VARIEDAD DE COLORES A ELEGIR. | F69: UN | G69: 30 | H69: 31268 | I69: =H69*19% -> 5940.92 | J69: =H69+I69 -> 37208.92 | K69: =G69*J69 -> 1116267.6 | L69: 13500 | M69: =L69*19% -> 2565 | N69: =L69+M69 -> 16065 | O69: =+G69*N69 -> 481950 | P69: 30768 | Q69: =+P69*0.19 -> 5845.92 | R69: =+P69+Q69 -> 36613.92 | S69: =+G69*R69 -> 1098417.6 | T69: 32588 | U69: =T69*19% -> 6191.72 | V69: =T69+U69 -> 38779.72 | W69: =+G69*V69 -> 1163391.6 | X69: 32076 | Y69: =+X69*0.19 -> 6094.44 | Z69: =+X69+Y69 -> 38170.44 | AA69: =+G69*Z69 -> 1145113.2 | AB69: =+AD69/1.19 -> 80588.235 | AC69: =+AD69-AB69 -> 15311.765 | AD69: 95900 | AE69: =+G69*AD69 -> 2877000 | AF69: =+GEOMEAN(H69,L69,P69,T69,X69,AB69) -> 32100.154 | AG69: =+GEOMEAN(J69,N69,R69,V69,Z69,AD69) -> 38199.183 | AH69: =+HARMEAN(H69,L69,P69,T69,X69,AB69) -> 28191.804 | AI69: =+HARMEAN(J69,N69,R69,V69,Z69,AD69) -> 33548.247
C70: TOTAL SIMIJACA | H70: =SUM(H41:H69) -> 28305280 | I70: =SUM(I41:I69) -> 5378003.2 | J70: =SUM(J41:J69) -> 33683283 | K70: =SUM(K41:K69) -> 59313071 | L70: =SUM(L41:L69) -> 24585866 | M70: =SUM(M41:M69) -> 4671314.5 | N70: =SUM(N41:N69) -> 29257180 | O70: =SUM(O41:O69) -> 46368715 | ... AI70: =SUM(AI41:AI69) -> 29282206
C71: 3. CAQUEZA
C72: ITEM | D72: PRODUCTO / SERVICIO | E72: DESCRIPCIÓN PRODUCTO / SERVICIO | F72: UNIDAD DE MEDIDA | G72: CANTIDAD | H72: VALOR UNITARIO SIN IVA | I72: IVA | J72: VALOR UNITARIO CON IVA | K72: VALOR TOTAL (VALOR UNITARIO CON IVA X CANTIDAD) | L72: VALOR UNITARIO SIN IVA | M72: IVA | N72: VALOR UNITARIO CON IVA | O72: VALOR TOTAL (VALOR UNITARIO CON IVA X CANTIDAD) | P72: VALOR UNITARIO SIN IVA | Q72: IVA | R72: VALOR UNITARIO CON IVA | S72: VALOR TOTAL (VALOR UNITARIO CON IVA X CANTIDAD) | T72: VALOR UNITARIO SIN IVA | U72: IVA | V72: VALOR UNITARIO CON IVA | W72: VALOR TOTAL (VALOR UNITARIO CON IVA X CANTIDAD) | X72: VALOR UNITARIO SIN IVA | Y72: IVA | Z72: VALOR UNITARIO CON IVA | AA72: VALOR TOTAL (VALOR UNITARIO CON IVA X CANTIDAD) | AB72: VALOR UNITARIO SIN IVA | AC72: IVA | AD72: VALOR UNITARIO CON IVA | AE72: VALOR TOTAL (VALOR UNITARIO CON IVA X CANTIDAD) | AF72: VALOR UNITARIO SIN IVA | AG72: VALOR UNITARIO CON IVA | AH72: VALOR UNITARIO SIN IVA | AI72: VALOR UNITARIO CON IVA
C73: 3.1. | D73: VIDEO BEAM CON RESOLUCIÓN 1024x768 | E73: VIDEO BEAM CON RESOLUCIÓN 1024x768, BRILLO MINIMO DE 3300 LUMENES (BLANCO Y COLOR), VIDA UTIL LAMPARA HASTA 12.000 HORAS, PUERTOS: RCA/HDMI/USB/STEREO/RS-232. ALIMENTACION 100v-240v, 50-60HZ, CUENTA CON MODO DE OPERACIÓN PARA DISMINUCIÓN DE CONSUMO ELECTRICO. INCLUYE CONTROL REMOTO. | F73: UN | G73: 1 | H73: 3220336 | I73: =H73*19% -> 611863.84 | J73: =H73+I73 -> 3832199.8 | K73: =G73*J73 -> 3832199.8 | L73: 3700065.1 | M73: =L73*19% -> 703012.37 | N73: =L73+M73 -> 4403077.5 | O73: =+G73*N73 -> 4403077.5 | P73: 3562886 | Q73: =+P73*0.19 -> 676948.34 | R73: =+P73+Q73 -> 4239834.3 | S73: =+G73*R73 -> 4239834.3 | T73: 3384406 | U73: =T73*19% -> 643037.14 | V73: =T73+U73 -> 4027443.1 | W73: =+G73*V73 -> 4027443.1 | X73: 3303044 | Y73: =+X73*0.19 -> 627578.36 | Z73: =+X73+Y73 -> 3930622.4 | AA73: =+G73*Z73 -> 3930622.4 | AB73: =+AD73/1.19 -> 2168067.2 | AC73: =+AD73-AB73 -> 411932.77 | AD73: 2580000 | AE73: =+G73*AD73 -> 2580000 | AF73: =+GEOMEAN(H73,L73,P73,T73,X73,AB73) -> 3177339.9 | AG73: =+GEOMEAN(J73,N73,R73,V73,Z73,AD73) -> 3781034.5 | AH73: =+HARMEAN(H73,L73,P73,T73,X73,AB73) -> 3123490.9 | AI73: =+HARMEAN(J73,N73,R73,V73,Z73,AD73) -> 3716954.2
C74: 3.2 | D74: COMPUTADOR DE ESCRITORIO | E74: COMPUTADOR DE ESCRITORIO CON PROCESADOR MINIMO DE 8 NUCLEOS Y 3,4GHz DE FRECUENCIA DE RELOJ, MEMORIA RAM DDR4 DE 16 GB, 1 DISCO DURO HDD DE 1 TB Y 1 DISCO DURO SDD DE 512 GB, CON TARJETA GRAFICA Y TARJETA DE RED 100/1000 Y CONEXIÓN WIFI, SISTEMA OPERATIVO WINDOWS 10 O SUPERIOR EN LA VERSION PRO, MONITOR CON RESOLUCIÓN FULL HD Y TAMAÑO MINIMO DE 21". TECLADO Y MOUSE ESTANDAR CON CONEXIÓN USB. EL EQUIPO SE DEBE ENTREGAR TOTALMENTE ENSAMBLADO Y FUNCIONANDO. CPU, MONITOR, MOUSE Y TECLADO DEBEN SER COMPATIBLES Y DEL MISMO FABRICANTE. SE DEBE INCLUIR DISPOSITIVO EXTERNO PARA CONEXIÓN ELECTRICA CON SUPRESIÓN DE PICOS. | F74: UN | G74: 2 | H74: 3937368 | I74: =H74*19% -> 748099.92 | J74: =H74+I74 -> 4685467.9 | K74: =G74*J74 -> 9370935.8 | L74: 5555400 | M74: =L74*19% -> 1055526 | N74: =L74+M74 -> 6610926 | O74: =+G74*N74 -> 13221852 | P74: 4348849 | Q74: =+P74*0.19 -> 826281.31 | R74: =+P74+Q74 -> 5175130.3 | S74: =+G74*R74 -> 10350261 | T74: 4048272 | U74: =T74*19% -> 769171.68 | V74: =T74+U74 -> 4817443.7 | W74: =+G74*V74 -> 9634887.4 | X74: 4087929 | Y74: =+X74*0.19 -> 776706.51 | Z74: =+X74+Y74 -> 4864635.5 | AA74: =+G74*Z74 -> 9729271 | AB74: =+AD74/1.19 -> 3557142.9 | AC74: =+AD74-AB74 -> 675857.14 | AD74: 4233000 | AE74: =+G74*AD74 -> 8466000 | AF74: =+GEOMEAN(H74,L74,P74,T74,X74,AB74) -> 4214004.6 | AG74: =+GEOMEAN(J74,N74,R74,V74,Z74,AD74) -> 5014665.4 | AH74: =+HARMEAN(H74,L74,P74,T74,X74,AB74) -> 4176255.2 | AI74: =+HARMEAN(J74,N74,R74,V74,Z74,AD74) -> 4969743.6
C75: 3.3 | D75: IMPRESORA MULTIFUNCIONAL | E75: IMPRESORA MULTIFUNCIONAL CON SISTEMA DE IMPRESIÓN DE INYECCIÓN TIPO TANQUE, RESOLUCIÓN DE IMPRESIÓN MINIMA DE 5760X1440 DPI, VELOCIDAD DE IMPRESIÓN DE 33PPM EN NEGRO Y 15PPM A COLOR. RESOLUCIÓN OPTICA PARA COPIAS Y ESCANER DE 600x1200 DPI. CONECTIVIDAD DE ALTA VELOCIDAD USB. COMPATIBILIDAD CON SISTEMAS OPERATIVOS WINDOWS Y MAC. VOLTAJE DE ALIMENTACIÓN DE 110V. DEBE INCLUIR UN JUEGO DE TINTAS DE CADA COLOR (NEGRO, CYAN, MAGENTA, AMARILLO). | F75: UN | G75: 1 | H75: 1474185 | I75: =H75*19% -> 280095.15 | J75: =H75+I75 -> 1754280.1 | K75: =G75*J75 -> 1754280.1 | L75: 1586974.8 | M75: =L75*19% -> 301525.21 | N75: =L75+M75 -> 1888500 | O75: =+G75*N75 -> 1888500 | P75: 1686122 | Q75: =+P75*0.19 -> 320363.18 | R75: =+P75+Q75 -> 2006485.2 | S75: =+G75*R75 -> 2006485.2 | T75: 1526486 | U75: =T75*19% -> 290032.34 | V75: =T75+U75 -> 1816518.3 | W75: =+G75*V75 -> 1816518.3 | X75: 1498029 | Y75: =+X75*0.19 -> 284625.51 | Z75: =+X75+Y75 -> 1782654.5 | AA75: =+G75*Z75 -> 1782654.5 | AB75: =+AD75/1.19 -> 3142857.1 | AC75: =+AD75-AB75 -> 597142.86 | AD75: 3740000 | AE75: =+G75*AD75 -> 3740000 | AF75: =+GEOMEAN(H75,L75,P75,T75,X75,AB75) -> 1746189.8 | AG75: =+GEOMEAN(J75,N75,R75,V75,Z75,AD75) -> 2077965.9 | AH75: =+HARMEAN(H75,L75,P75,T75,X75,AB75) -> 1693780.1 | AI75: =+HARMEAN(J75,N75,R75,V75,Z75,AD75) -> 2015598.3
C76: 3.4 | D76: SILLA PLÁSTICA CON BRAZOS | E76: SILLA PLÁSTICA CON BRAZOS, RESISTENCIA MINIMA DE 115 KILOS. MEDIDAS APROXIMADAS DE 57 x 60 x 80 CM. COLOR BLANCO O CAFE. | F76: UN | G76: 40 | H76: 75571 | I76: =H76*19% -> 14358.49 | J76: =H76+I76 -> 89929.49 | K76: =G76*J76 -> 3597179.6 | L76: 75504.202 | M76: =L76*19% -> 14345.798 | N76: =L76+M76 -> 89850 | O76: =+G76*N76 -> 3594000 | P76: 88777 | Q76: =+P76*0.19 -> 16867.63 | R76: =+P76+Q76 -> 105644.63 | S76: =+G76*R76 -> 4225785.2 | T76: 76923 | U76: =T76*19% -> 14615.37 | V76: =T76+U76 -> 91538.37 | W76: =+G76*V76 -> 3661534.8 | X76: 77771 | Y76: =+X76*0.19 -> 14776.49 | Z76: =+X76+Y76 -> 92547.49 | AA76: =+G76*Z76 -> 3701899.6 | AB76: =+AD76/1.19 -> 75571.429 | AC76: =+AD76-AB76 -> 14358.571 | AD76: 89930 | AE76: =+G76*AD76 -> 3597200 | AF76: =+GEOMEAN(H76,L76,P76,T76,X76,AB76) -> 78218.542 | AG76: =+GEOMEAN(J76,N76,R76,V76,Z76,AD76) -> 93080.064 | AH76: =+HARMEAN(H76,L76,P76,T76,X76,AB76) -> 78092.609 | AI76: =+HARMEAN(J76,N76,R76,V76,Z76,AD76) -> 92930.205
C77: 3.5 | D77: MESA PLÁSTICA DE 4 PUESTOS | E77: MESA PLÁSTICA DE 4 PUESTOS, MEDIDAS APROXIMADAS DE 80 x 80 x 72 CM. COLOR BLANCO O CAFÉ. | F77: UN | G77: 10 | H77: 231765 | I77: =H77*19% -> 44035.35 | J77: =H77+I77 -> 275800.35 | K77: =G77*J77 -> 2758003.5 | L77: 176344.54 | M77: =L77*19% -> 33505.462 | N77: =L77+M77 -> 209850 | O77: =+G77*N77 -> 2098500 | P77: 266769 | Q77: =+P77*0.19 -> 50686.11 | R77: =+P77+Q77 -> 317455.11 | S77: =+G77*R77 -> 3174551.1 | T77: 245747 | U77: =T77*19% -> 46691.93 | V77: =T77+U77 -> 292438.93 | W77: =+G77*V77 -> 2924389.3 | X77: 232709 | Y77: =+X77*0.19 -> 44214.71 | Z77: =+X77+Y77 -> 276923.71 | AA77: =+G77*Z77 -> 2769237.1 | AB77: =+AD77/1.19 -> 178571.43 | AC77: =+AD77-AB77 -> 33928.571 | AD77: 212500 | AE77: =+G77*AD77 -> 2125000 | AF77: =+GEOMEAN(H77,L77,P77,T77,X77,AB77) -> 219335.92 | AG77: =+GEOMEAN(J77,N77,R77,V77,Z77,AD77) -> 261009.75 | AH77: =+HARMEAN(H77,L77,P77,T77,X77,AB77) -> 216603.12 | AI77: =+HARMEAN(J77,N77,R77,V77,Z77,AD77) -> 257757.71
C78: 3.6 | D78: ESCRITORIO LINEAL CON ESTRUCTURA EN TUBO METALICO | E78: ESCRITORIO LINEAL CON ESTRUCTURA EN TUBO METALICO CUADRADO O RECTANGULAR DE 2", TERMINACIÓN EN PINTURA ELECTROESTATICA, SUPERFICIE CON RECUBRIMIENTO EN MELAMINA DE 30mm. DIMENSIONES: 150 X 60 CM. INCLUYE CAJONERA EN LAMINA CALIBRE 22. | F78: UN | G78: 2 | H78: 1951113 | I78: =H78*19% -> 370711.47 | J78: =H78+I78 -> 2321824.5 | K78: =G78*J78 -> 4643648.9 | L78: 1277521 | M78: =L78*19% -> 242728.99 | N78: =L78+M78 -> 1520250 | O78: =+G78*N78 -> 3040500 | P78: 1949551 | Q78: =+P78*0.19 -> 370414.69 | R78: =+P78+Q78 -> 2319965.7 | S78: =+G78*R78 -> 4639931.4 | T78: 1986238 | U78: =T78*19% -> 377385.22 | V78: =T78+U78 -> 2363623.2 | W78: =+G78*V78 -> 4727246.4 | X78: 1896105 | Y78: =+X78*0.19 -> 360259.95 | Z78: =+X78+Y78 -> 2256365 | AA78: =+G78*Z78 -> 4512729.9 | AB78: =+AD78/1.19 -> 1500000 | AC78: =+AD78-AB78 -> 285000 | AD78: 1785000 | AE78: =+G78*AD78 -> 3570000 | AF78: =+GEOMEAN(H78,L78,P78,T78,X78,AB78) -> 1736847.4 | AG78: =+GEOMEAN(J78,N78,R78,V78,Z78,AD78) -> 2066848.4 | AH78: =+HARMEAN(H78,L78,P78,T78,X78,AB78) -> 1711468.9 | AI78: =+HARMEAN(J78,N78,R78,V78,Z78,AD78) -> 2036647.9
C79: 3.7 | D79: TELEVISOR SMART TV DE 55" | E79: TELEVISOR SMART TV DE 55", RESOLUCIÓN 4K- UHD (3840x2160), HDR10, TASA DE REFRESCO DE 60 Hz, CON SINTONIZADOR DVB-T2. 3 PUERTOS HDMI, 1 PUERTO ETHERNET, 1 PUERTO USB 3.0, SALIDA DE AUDIO 3,5mm, ENTRADA COAXIAL. CONEXIÓN INALAMBRICA POR BLUETOOTH Y WIFI. POTENCIA DE AUDIO MINIMO DE 20W COMPATIBLE CON DOLBY AUDIO. | F79: UN | G79: 1 | H79: 2880113 | I79: =H79*19% -> 547221.47 | J79: =H79+I79 -> 3427334.5 | K79: =G79*J79 -> 3427334.5 | L79: 4033487.4 | M79: =L79*19% -> 766362.61 | N79: =L79+M79 -> 4799850 | O79: =+G79*N79 -> 4799850 | P79: 2994945 | Q79: =+P79*0.19 -> 569039.55 | R79: =+P79+Q79 -> 3563984.5 | S79: =+G79*R79 -> 3563984.5 | T79: 3139360 | U79: =T79*19% -> 596478.4 | V79: =T79+U79 -> 3735838.4 | W79: =+G79*V79 -> 3735838.4 | X79: 2878378 | Y79: =+X79*0.19 -> 546891.82 | Z79: =+X79+Y79 -> 3425269.8 | AA79: =+G79*Z79 -> 3425269.8 | AB79: =+AD79/1.19 -> 2642857.1 | AC79: =+AD79-AB79 -> 502142.86 | AD79: 3145000 | AE79: =+G79*AD79 -> 3145000 | AF79: =+GEOMEAN(H79,L79,P79,T79,X79,AB79) -> 3066128 | AG79: =+GEOMEAN(J79,N79,R79,V79,Z79,AD79) -> 3648692.4 | AH79: =+HARMEAN(H79,L79,P79,T79,X79,AB79) -> 3040497.2 | AI79: =+HARMEAN(J79,N79,R79,V79,Z79,AD79) -> 3618191.6
C80: 3.8 | D80: CABINA DE SONIDO ACTIVA DE 1000 WATTS | E80: CABINA DE SONIDO ACTIVA DE 1000 WATTS, 2 LINEAS, AMPLIFICADOR CLASE D. ASAS ERGONOMICAS PARA COMODO AGARRE. DEBE CONTAR CON PUNTOS DE FIJACIÓN PARA INSTALACIÓN EN MODO SUSPENDIDO. DEBE INCLUIR: 1 SISTEMA DE SOPORTE TIPO TRIPO DE PLEGABLE DE ALUMINIO CON AJUSTE DE ALTURA, 1 MICROFONO ALAMBRICO, CABLE DE PODER Y CABLES PARA SU CORRECTO FUNCIONAMIENTO. | F80: UN | G80: 1 | H80: 3990000 | I80: =H80*19% -> 758100 | J80: =H80+I80 -> 4748100 | K80: =G80*J80 -> 4748100 | L80: 5221008.4 | M80: =L80*19% -> 991991.6 | N80: =L80+M80 -> 6213000 | O80: =+G80*N80 -> 6213000 | P80: 4244254 | Q80: =+P80*0.19 -> 806408.26 | R80: =+P80+Q80 -> 5050662.3 | S80: =+G80*R80 -> 5050662.3 | T80: 4348132 | U80: =T80*19% -> 826145.08 | V80: =T80+U80 -> 5174277.1 | W80: =+G80*V80 -> 5174277.1 | X80: 4084624 | Y80: =+X80*0.19 -> 776078.56 | Z80: =+X80+Y80 -> 4860702.6 | AA80: =+G80*Z80 -> 4860702.6 | AB80: =+AD80/1.19 -> 1621008.4 | AC80: =+AD80-AB80 -> 307991.6 | AD80: 1929000 | AE80: =+G80*AD80 -> 1929000 | AF80: =+GEOMEAN(H80,L80,P80,T80,X80,AB80) -> 3695116.4 | AG80: =+GEOMEAN(J80,N80,R80,V80,Z80,AD80) -> 4397188.5 | AH80: =+HARMEAN(H80,L80,P80,T80,X80,AB80) -> 3390831.6 | AI80: =+HARMEAN(J80,N80,R80,V80,Z80,AD80) -> 4035089.6
C81: 3.9 | D81: LICUADORA INDUSTRIAL CAPACIDAD 10 LITROS | E81: LICUADORA INDUSTRIAL CAPACIDAD 10 LITROS, ESTRUCTURA EN ACERO INOXIDABLE 304, MOTOR DE 1 HP, CUCHILLAS EN ACERO REFORZADO, VASO ABATIBLE. CONEXIÓN ELECTRICA A 110 VOLTIOS. | F81: UN | G81: 1 | H81: 3581710 | I81: =H81*19% -> 680524.9 | J81: =H81+I81 -> 4262234.9 | K81: =G81*J81 -> 4262234.9 | L81: 2389916 | M81: =L81*19% -> 454084.03 | N81: =L81+M81 -> 2844000 | O81: =+G81*N81 -> 2844000 | P81: 3653488 | Q81: =+P81*0.19 -> 694162.72 | R81: =+P81+Q81 -> 4347650.7 | S81: =+G81*R81 -> 4347650.7 | T81: 3900735 | U81: =T81*19% -> 741139.65 | V81: =T81+U81 -> 4641874.7 | W81: =+G81*V81 -> 4641874.7 | X81: 3438769 | Y81: =+X81*0.19 -> 653366.11 | Z81: =+X81+Y81 -> 4092135.1 | AA81: =+G81*Z81 -> 4092135.1 | AB81: =+AD81/1.19 -> 1596638.7 | AC81: =+AD81-AB81 -> 303361.34 | AD81: 1900000 | AE81: =+G81*AD81 -> 1900000 | AF81: =+GEOMEAN(H81,L81,P81,T81,X81,AB81) -> 2957940.8 | AG81: =+GEOMEAN(J81,N81,R81,V81,Z81,AD81) -> 3519949.5 | AH81: =+HARMEAN(H81,L81,P81,T81,X81,AB81) -> 2797448.6 | AI81: =+HARMEAN(J81,N81,R81,V81,Z81,AD81) -> 3328963.9
C82: 3.10 | D82: CARPA PARA EXTERIORES TIPO KIOSCO DE 4 x 4 METROS | E82: CARPA PARA EXTERIORES TIPO KIOSCO DE 4 x 4 METROS, 4 AGUAS, ESTRUCTURA METALICA EN TUBO CALIBRE 18 (PARALES) y 20 (CERCHAS Y ARAÑA). LONA IMPERMEABLE PVC DE 400 MICRAS | F82: UN | G82: 4 | H82: 3338403 | I82: =H82*19% -> 634296.57 | J82: =H82+I82 -> 3972699.6 | K82: =G82*J82 -> 15890798 | L82: 2235000 | M82: =L82*19% -> 424650 | N82: =L82+M82 -> 2659650 | O82: =+G82*N82 -> 10638600 | P82: 3629003 | Q82: =+P82*0.19 -> 689510.57 | R82: =+P82+Q82 -> 4318513.6 | S82: =+G82*R82 -> 17274054 | T82: 3385825 | U82: =T82*19% -> 643306.75 | V82: =T82+U82 -> 4029131.8 | W82: =+G82*V82 -> 16116527 | X82: 3269943 | Y82: =+X82*0.19 -> 621289.17 | Z82: =+X82+Y82 -> 3891232.2 | AA82: =+G82*Z82 -> 15564929 | AB82: =+AD82/1.19 -> 3784285.7 | AC82: =+AD82-AB82 -> 719014.29 | AD82: 4503300 | AE82: =+G82*AD82 -> 18013200 | AF82: =+GEOMEAN(H82,L82,P82,T82,X82,AB82) -> 3229475.8 | AG82: =+GEOMEAN(J82,N82,R82,V82,Z82,AD82) -> 3843076.2 | AH82: =+HARMEAN(H82,L82,P82,T82,X82,AB82) -> 3178058.9 | AI82: =+HARMEAN(J82,N82,R82,V82,Z82,AD82) -> 3781890.1
C83: TOTAL CAQUEZA | H83: =SUM(H73:H82) -> 24680564 | I83: =SUM(I73:I82) -> 4689307.2 | J83: =SUM(J73:J82) -> 29369871 | K83: =SUM(K73:K82) -> 54284716 | L83: =SUM(L73:L82) -> 26251221 | M83: =SUM(M73:M82) -> 4987732.1 | N83: =SUM(N73:N82) -> 31238954 | O83: =SUM(O73:O82) -> 52741880 | ... AI83: =SUM(AI73:AI82) -> 27853767
C84: 4. SAN ANTONIO DE TEQUENDAMA
C85: ITEM | D85: PRODUCTO / SERVICIO | E85: DESCRIPCIÓN PRODUCTO / SERVICIO | F85: UNIDAD DE MEDIDA | G85: CANTIDAD | H85: VALOR UNITARIO SIN IVA | I85: IVA | J85: VALOR UNITARIO CON IVA | K85: VALOR TOTAL (VALOR UNITARIO CON IVA X CANTIDAD) | L85: VALOR UNITARIO SIN IVA | M85: IVA | N85: VALOR UNITARIO CON IVA | O85: VALOR TOTAL (VALOR UNITARIO CON IVA X CANTIDAD) | P85: VALOR UNITARIO SIN IVA | Q85: IVA | R85: VALOR UNITARIO CON IVA | S85: VALOR TOTAL (VALOR UNITARIO CON IVA X CANTIDAD) | T85: VALOR UNITARIO SIN IVA | U85: IVA | V85: VALOR UNITARIO CON IVA | W85: VALOR TOTAL (VALOR UNITARIO CON IVA X CANTIDAD) | X85: VALOR UNITARIO SIN IVA | Y85: IVA | Z85: VALOR UNITARIO CON IVA | AA85: VALOR TOTAL (VALOR UNITARIO CON IVA X CANTIDAD) | AB85: VALOR UNITARIO SIN IVA | AC85: IVA | AD85: VALOR UNITARIO CON IVA | AE85: VALOR TOTAL (VALOR UNITARIO CON IVA X CANTIDAD) | AF85: VALOR UNITARIO SIN IVA | AG85: VALOR UNITARIO CON IVA | AH85: VALOR UNITARIO SIN IVA | AI85: VALOR UNITARIO CON IVA
C86: 4.1 | D86: DESMONTE EQUIPOS SANITARIOS | E86: DESMONTE DE APARATOS SANITARIOS | F86: UN | G86: 2 | H86: 60726 | I86: =H86*19% -> 11537.94 | J86: =H86+I86 -> 72263.94 | K86: =G86*J86 -> 144527.88 | L86: 29513.445 | M86: =+N86-L86 -> 5607.5546 | N86: 35121 | O86: =+G86*N86 -> 70242 | P86: 56844 | Q86: =+P86*0.19 -> 10800.36 | R86: =+P86+Q86 -> 67644.36 | S86: =+G86*R86 -> 135288.72 | T86: 64891 | U86: =T86*19% -> 12329.29 | V86: =T86+U86 -> 77220.29 | W86: =+G86*V86 -> 154440.58 | X86: 62636 | Y86: =+X86*0.19 -> 11900.84 | Z86: =+X86+Y86 -> 74536.84 | AA86: =+G86*Z86 -> 149073.68 | AB86: =+AD86/1.19 -> 30842.857 | AC86: =+AD86-AB86 -> 5860.1429 | AD86: 36703 | AE86: =+G86*AD86 -> 73406 | AF86: =+GEOMEAN(H86,L86,P86,T86,X86,AB86) -> 48347.466 | AG86: =+GEOMEAN(J86,N86,R86,V86,Z86,AD86) -> 57533.485 | AH86: =+HARMEAN(H86,L86,P86,T86,X86,AB86) -> 45544.111 | AI86: =+HARMEAN(J86,N86,R86,V86,Z86,AD86) -> 54197.492
C87: 4.2 | D87: SERVICIO DE RETISO BALDOSA | E87: RETIRO DE BALDOSA DE PISO, H=0.02 m, EN MAL ESTADO | F87: M2 | G87: 16 | H87: 19234 | I87: =H87*19% -> 3654.46 | J87: =H87+I87 -> 22888.46 | K87: =G87*J87 -> 366215.36 | L87: 8365.0416 | M87: =+N87-L87 -> 2890.9584 | N87: 11256 | O87: =+G87*N87 -> 180096 | P87: 18274 | Q87: =+P87*0.19 -> 3472.06 | R87: =+P87+Q87 -> 21746.06 | S87: =+G87*R87 -> 347936.96 | T87: 19330 | U87: =T87*19% -> 3672.7 | V87: =T87+U87 -> 23002.7 | W87: =+G87*V87 -> 368043.2 | X87: 19411 | Y87: =+X87*0.19 -> 3688.09 | Z87: =+X87+Y87 -> 23099.09 | AA87: =+G87*Z87 -> 369585.44 | AB87: =+AD87/1.19 -> 9768.0672 | AC87: =+AD87-AB87 -> 1855.9328 | AD87: 11624 | AE87: =+G87*AD87 -> 185984 | AF87: =+GEOMEAN(H87,L87,P87,T87,X87,AB87) -> 14861.978 | AG87: =+GEOMEAN(J87,N87,R87,V87,Z87,AD87) -> 18051.713 | AH87: =+HARMEAN(H87,L87,P87,T87,X87,AB87) -> 13892.633 | AI87: =+HARMEAN(J87,N87,R87,V87,Z87,AD87) -> 17078.894
C88: 4.3 | D88: SERVICIOS DE RETIRO PLACA | E88: RETIRO DE PLACA MACIZA 0.15 m, EN MAL ESTADO | F88: M2 | G88: 6.4 | H88: 116254 | I88: =H88*19% -> 22088.26 | J88: =H88+I88 -> 138342.26 | K88: =G88*J88 -> 885390.46 | L88: 53914.239 | M88: =+N88-L88 -> 18632.761 | N88: 72547 | O88: =+G88*N88 -> 464300.8 | P88: 111535 | Q88: =+P88*0.19 -> 21191.65 | R88: =+P88+Q88 -> 132726.65 | S88: =+G88*R88 -> 849450.56 | T88: 117595 | U88: =T88*19% -> 22343.05 | V88: =T88+U88 -> 139938.05 | W88: =+G88*V88 -> 895603.52 | X88: 121116 | Y88: =+X88*0.19 -> 23012.04 | Z88: =+X88+Y88 -> 144128.04 | AA88: =+G88*Z88 -> 922419.46 | AB88: =+AD88/1.19 -> 20035.294 | AC88: =+AD88-AB88 -> 3806.7059 | AD88: 23842 | AE88: =+G88*AD88 -> 152588.8 | AF88: =+GEOMEAN(H88,L88,P88,T88,X88,AB88) -> 76439.548 | AG88: =+GEOMEAN(J88,N88,R88,V88,Z88,AD88) -> 92845.296 | AH88: =+HARMEAN(H88,L88,P88,T88,X88,AB88) -> 58372.654 | AI88: =+HARMEAN(J88,N88,R88,V88,Z88,AD88) -> 70943.803
C89: 4.4 | D89: ELABORACIÓN ZANJA | E89: ELABORACIÓN DE ZANJA DE 0-2.0 m, (INCLUYE RETIRO DE SOBRANTES A UNA DISTANCIA MENOR DE 5 km) | F89: M3 | G89: 2.9 | H89: 138503 | I89: =H89*19% -> 26315.57 | J89: =H89+I89 -> 164818.57 | K89: =G89*J89 -> 477973.85 | L89: 35078.775 | M89: =+N89-L89 -> 12123.225 | N89: 47202 | O89: =+G89*N89 -> 136885.8 | P89: 129507 | Q89: =+P89*0.19 -> 24606.33 | R89: =+P89+Q89 -> 154113.33 | S89: =+G89*R89 -> 446928.66 | T89: 143879 | U89: =T89*19% -> 27337.01 | V89: =T89+U89 -> 171216.01 | W89: =+G89*V89 -> 496526.43 | X89: 141945 | Y89: =+X89*0.19 -> 26969.55 | Z89: =+X89+Y89 -> 168914.55 | AA89: =+G89*Z89 -> 489852.19 | AB89: =+AD89/1.19 -> 70344.538 | AC89: =+AD89-AB89 -> 13365.462 | AD89: 83710 | AE89: =+G89*AD89 -> 242759 | AF89: =+GEOMEAN(H89,L89,P89,T89,X89,AB89) -> 98331.076 | AG89: =+GEOMEAN(J89,N89,R89,V89,Z89,AD89) -> 119435.27 | AH89: =+HARMEAN(H89,L89,P89,T89,X89,AB89) -> 83728.802 | AI89: =+HARMEAN(J89,N89,R89,V89,Z89,AD89) -> 104441.76
C90: 4.5 | D90: SERVICIO DE SUMINISTRO E INTALACIÓN | E90: SUMINISTRO E INSTALACIÓN DE RECEBO COMUN COMPACTADO | F90: M3 | G90: 3.8 | H90: 357211 | I90: =H90*19% -> 67870.09 | J90: =H90+I90 -> 425081.09 | K90: =G90*J90 -> 1615308.1 | L90: 84134.215 | M90: =+N90-L90 -> 29076.785 | N90: 113211 | O90: =+G90*N90 -> 430201.8 | P90: 341911 | Q90: =+P90*0.19 -> 64963.09 | R90: =+P90+Q90 -> 406874.09 | S90: =+G90*R90 -> 1546121.5 | T90: 356323 | U90: =T90*19% -> 67701.37 | V90: =T90+U90 -> 424024.37 | W90: =+G90*V90 -> 1611292.6 | X90: 368220 | Y90: =+X90*0.19 -> 69961.8 | Z90: =+X90+Y90 -> 438181.8 | AA90: =+G90*Z90 -> 1665090.8 | AB90: =+AD90/1.19 -> 181426.05 | AC90: =+AD90-AB90 -> 34470.95 | AD90: 215897 | AE90: =+G90*AD90 -> 820408.6 | AF90: =+GEOMEAN(H90,L90,P90,T90,X90,AB90) -> 250078.82 | AG90: =+GEOMEAN(J90,N90,R90,V90,Z90,AD90) -> 303751.69 | AH90: =+HARMEAN(H90,L90,P90,T90,X90,AB90) -> 209467.42 | AI90: =+HARMEAN(J90,N90,R90,V90,Z90,AD90) -> 261829.57
C91: 4.6 | D91: REHABILITACIÓN DE ESTRUCTURAS | E91: REHABILITACIÓN DE ESTRUCTURAS EN CONCRETO (INCLUYE ACERO) | F91: M3 | G91: 3.37 | H91: 2488603 | I91: =H91*19% -> 472834.57 | J91: =H91+I91 -> 2961437.6 | K91: =G91*J91 -> 9980044.6 | L91: 817479.19 | M91: =+N91-L91 -> 282520.81 | N91: 1100000 | O91: =+G91*N91 -> 3707000 | P91: 2496916 | Q91: =+P91*0.19 -> 474414.04 | R91: =+P91+Q91 -> 2971330 | S91: =+G91*R91 -> 10013382 | T91: 2542459 | U91: =T91*19% -> 483067.21 | V91: =T91+U91 -> 3025526.2 | W91: =+G91*V91 -> 10196023 | X91: 2590931 | Y91: =+X91*0.19 -> 492276.89 | Z91: =+X91+Y91 -> 3083207.9 | AA91: =+G91*Z91 -> 10390411 | AB91: =+AD91/1.19 -> 1122689.1 | AC91: =+AD91-AB91 -> 213310.92 | AD91: 1336000 | AE91: =+G91*AD91 -> 4502320 | AF91: =+GEOMEAN(H91,L91,P91,T91,X91,AB91) -> 1830069.5 | AG91: =+GEOMEAN(J91,N91,R91,V91,Z91,AD91) -> 2222846.1 | AH91: =+HARMEAN(H91,L91,P91,T91,X91,AB91) -> 1623552.8 | AI91: =+HARMEAN(J91,N91,R91,V91,Z91,AD91) -> 2008922.4
C92: 4.7 | D92: SERVICIO DE SUMINISTRO E INSTALACIÓN EQUIPO SANITARIO | E92: SUMINISTRO E INSTALACIÓN SANITARIO TANQUE (INCLUYE GRIFERÍA) | F92: UN | G92: 2 | H92: 774984 | I92: =H92*19% -> 147246.96 | J92: =H92+I92 -> 922230.96 | K92: =G92*J92 -> 1844461.9 | L92: 321587.4 | M92: =+N92-L92 -> 111140.6 | N92: 432728 | O92: =+G92*N92 -> 865456 | P92: 744300 | Q92: =+P92*0.19 -> 141417 | R92: =+P92+Q92 -> 885717 | S92: =+G92*R92 -> 1771434 | T92: 799211 | U92: =T92*19% -> 151850.09 | V92: =T92+U92 -> 951061.09 | W92: =+G92*V92 -> 1902122.2 | X92: 783083 | Y92: =+X92*0.19 -> 148785.77 | Z92: =+X92+Y92 -> 931868.77 | AA92: =+G92*Z92 -> 1863737.5 | AB92: =+AD92/1.19 -> 385209.24 | AC92: =+AD92-AB92 -> 73189.756 | AD92: 458399 | AE92: =+G92*AD92 -> 916798 | AF92: =+GEOMEAN(H92,L92,P92,T92,X92,AB92) -> 595777.76 | AG92: =+GEOMEAN(J92,N92,R92,V92,Z92,AD92) -> 723645.86 | AH92: =+HARMEAN(H92,L92,P92,T92,X92,AB92) -> 552094.86 | AI92: =+HARMEAN(J92,N92,R92,V92,Z92,AD92) -> 679474.64
C93: 4.8 | D93: SERVICIO DE SUMINISTRO E INSTALACIÓN DE RED PVC | E93: SUMINISTRO E INSTALACIÓN DE RED SUMINISTRO PVC 1/2" | F93: ML | G93: 35 | H93: 22421 | I93: =H93*19% -> 4259.99 | J93: =H93+I93 -> 26680.99 | K93: =G93*J93 -> 933834.65 | L93: 14198.87 | M93: =+N93-L93 -> 4907.1296 | N93: 19106 | O93: =+G93*N93 -> 668710 | P93: 20655 | Q93: =+P93*0.19 -> 3924.45 | R93: =+P93+Q93 -> 24579.45 | S93: =+G93*R93 -> 860280.75 | T93: 23298 | U93: =T93*19% -> 4426.62 | V93: =T93+U93 -> 27724.62 | W93: =+G93*V93 -> 970361.7 | X93: 23713 | Y93: =+X93*0.19 -> 4505.47 | Z93: =+X93+Y93 -> 28218.47 | AA93: =+G93*Z93 -> 987646.45 | AB93: =+AD93/1.19 -> 91099.16 | AC93: =+AD93-AB93 -> 17308.84 | AD93: 108408 | AE93: =+G93*AD93 -> 3794280 | AF93: =+GEOMEAN(H93,L93,P93,T93,X93,AB93) -> 26300.192 | AG93: =+GEOMEAN(J93,N93,R93,V93,Z93,AD93) -> 31944.84 | AH93: =+HARMEAN(H93,L93,P93,T93,X93,AB93) -> 23120.161 | AI93: =+HARMEAN(J93,N93,R93,V93,Z93,AD93) -> 28404.376
C94: 4.9 | D94: SERVICIO DE SUMINISTRO E INSTALACIÓN DE LLAVE MANGUERA | E94: SUMINISTRO E INSTALACIÓN DE LLAVE MANGUERA CROMADA | F94: UN | G94: 3 | H94: 89899 | I94: =H94*19% -> 17080.81 | J94: =H94+I94 -> 106979.81 | K94: =G94*J94 -> 320939.43 | L94: 41742.717 | M94: =+N94-L94 -> 14426.283 | N94: 56169 | O94: =+G94*N94 -> 168507 | P94: 88112 | Q94: =+P94*0.19 -> 16741.28 | R94: =+P94+Q94 -> 104853.28 | S94: =+G94*R94 -> 314559.84 | T94: 96037 | U94: =T94*19% -> 18247.03 | V94: =T94+U94 -> 114284.03 | W94: =+G94*V94 -> 342852.09 | X94: 93916 | Y94: =+X94*0.19 -> 17844.04 | Z94: =+X94+Y94 -> 111760.04 | AA94: =+G94*Z94 -> 335280.12 | AB94: =+AD94/1.19 -> 45659.664 | AC94: =+AD94-AB94 -> 8675.3361 | AD94: 54335 | AE94: =+G94*AD94 -> 163005 | AF94: =+GEOMEAN(H94,L94,P94,T94,X94,AB94) -> 71726.601 | AG94: =+GEOMEAN(J94,N94,R94,V94,Z94,AD94) -> 87120.839 | AH94: =+HARMEAN(H94,L94,P94,T94,X94,AB94) -> 67121.079 | AI94: =+HARMEAN(J94,N94,R94,V94,Z94,AD94) -> 82428.539
C95: 4.10 | D95: SERVICIO DE SUMINISTRO E INSTALACIÓN DE LAVAMANOS | E95: SUMINISTRO E INSTALACIÓN DE LAVAMANOS DE PEDESTAL (INCLUYE GRIFERIA) | F95: UN | G95: 1 | H95: 506958 | I95: =H95*19% -> 96322.02 | J95: =H95+I95 -> 603280.02 | K95: =G95*J95 -> 603280.02 | L95: 213961.06 | M95: =+N95-L95 -> 73944.942 | N95: 287906 | O95: =+G95*N95 -> 287906 | P95: 477095 | Q95: =+P95*0.19 -> 90648.05 | R95: =+P95+Q95 -> 567743.05 | S95: =+G95*R95 -> 567743.05 | T95: 522421 | U95: =T95*19% -> 99259.99 | V95: =T95+U95 -> 621680.99 | W95: =+G95*V95 -> 621680.99 | X95: 502834 | Y95: =+X95*0.19 -> 95538.46 | Z95: =+X95+Y95 -> 598372.46 | AA95: =+G95*Z95 -> 598372.46 | AB95: =+AD95/1.19 -> 136978.99 | AC95: =+AD95-AB95 -> 26026.008 | AD95: 163005 | AE95: =+G95*AD95 -> 163005 | AF95: =+GEOMEAN(H95,L95,P95,T95,X95,AB95) -> 350753.33 | AG95: =+GEOMEAN(J95,N95,R95,V95,Z95,AD95) -> 426033.35 | AH95: =+HARMEAN(H95,L95,P95,T95,X95,AB95) -> 300818.24 | AI95: =+HARMEAN(J95,N95,R95,V95,Z95,AD95) -> 367943.66
C96: 4.11 | D96: SERVICIO DE SUMINISTRO E INSTALACIÓN DE TEJAS | E96: SUMINISTRO E INSTALACIÓN DE TEJA DE FIBROCEMENTO #8 | F96: M2 | G96: 48.6 | H96: 89959 | I96: =H96*19% -> 17092.21 | J96: =H96+I96 -> 107051.21 | K96: =G96*J96 -> 5202688.8 | L96: 40735.731 | M96: =+N96-L96 -> 14078.269 | N96: 54814 | O96: =+G96*N96 -> 2663960.4 | P96: 86625 | Q96: =+P96*0.19 -> 16458.75 | R96: =+P96+Q96 -> 103083.75 | S96: =+G96*R96 -> 5009870.2 | T96: 92443 | U96: =T96*19% -> 17564.17 | V96: =T96+U96 -> 110007.17 | W96: =+G96*V96 -> 5346348.5 | X96: 92906 | Y96: =+X96*0.19 -> 17652.14 | Z96: =+X96+Y96 -> 110558.14 | AA96: =+G96*Z96 -> 5373125.6 | AB96: =+AD96/1.19 -> 73624.37 | AC96: =+AD96-AB96 -> 13988.63 | AD96: 87613 | AE96: =+G96*AD96 -> 4257991.8 | AF96: =+GEOMEAN(H96,L96,P96,T96,X96,AB96) -> 76518.62 | AG96: =+GEOMEAN(J96,N96,R96,V96,Z96,AD96) -> 92941.339 | AH96: =+HARMEAN(H96,L96,P96,T96,X96,AB96) -> 72840.141 | AI96: =+HARMEAN(J96,N96,R96,V96,Z96,AD96) -> 89773.523
C97: 4.12 | D97: DESMONTE DE CUBIERTAS | E97: DESMONTE DE CUBIERTAS (ASBESTO CEMENTO) | F97: M2 | G97: 48.6 | H97: 33121 | I97: =H97*19% -> 6292.99 | J97: =H97+I97 -> 39413.99 | K97: =G97*J97 -> 1915519.9 | L97: 14170.63 | M97: =+N97-L97 -> 4897.3698 | N97: 19068 | O97: =+G97*N97 -> 926704.8 | P97: 32030 | Q97: =+P97*0.19 -> 6085.7 | R97: =+P97+Q97 -> 38115.7 | S97: =+G97*R97 -> 1852423 | T97: 35146 | U97: =T97*19% -> 6677.74 | V97: =T97+U97 -> 41823.74 | W97: =+G97*V97 -> 2032633.8 | X97: 33866 | Y97: =+X97*0.19 -> 6434.54 | Z97: =+X97+Y97 -> 40300.54 | AA97: =+G97*Z97 -> 1958606.2 | AB97: =+AD97/1.19 -> 16319.328 | AC97: =+AD97-AB97 -> 3100.6723 | AD97: 19420 | AE97: =+G97*AD97 -> 943812 | AF97: =+GEOMEAN(H97,L97,P97,T97,X97,AB97) -> 25757.197 | AG97: =+GEOMEAN(J97,N97,R97,V97,Z97,AD97) -> 31285.306 | AH97: =+HARMEAN(H97,L97,P97,T97,X97,AB97) -> 23881.599 | AI97: =+HARMEAN(J97,N97,R97,V97,Z97,AD97) -> 29373.143
... C108: 4.23 | D108: SERVICIO DE SUMINISTRO E INSTALACIÓN DE CABLE #10 | E108: SUMINISTRO E INSTALACIÓN DE CABLE #10 AWG | F108: ML | G108: 80 | H108: 12169 | I108: =H108*19% -> 2312.11 | J108: =H108+I108 -> 14481.11 | K108: =G108*J108 -> 1158488.8 | L108: 12855.975 | M108: =+N108-L108 -> 4443.025 | N108: 17299 | O108: =+G108*N108 -> 1383920 | P108: 12147 | Q108: =+P108*0.19 -> 2307.93 | R108: =+P108+Q108 -> 14454.93 | S108: =+G108*R108 -> 1156394.4 | T108: 12623 | U108: =T108*19% -> 2398.37 | V108: =T108+U108 -> 15021.37 | W108: =+G108*V108 -> 1201709.6 | X108: 12721 | Y108: =+X108*0.19 -> 2416.99 | Z108: =+X108+Y108 -> 15137.99 | AA108: =+G108*Z108 -> 1211039.2 | AB108: =+AD108/1.19 -> 6180.6723 | AC108: =+AD108-AB108 -> 1174.3277 | AD108: 7355 | AE108: =+G108*AD108 -> 588400 | AF108: =+GEOMEAN(H108,L108,P108,T108,X108,AB108) -> 11115.391 | AG108: =+GEOMEAN(J108,N108,R108,V108,Z108,AD108) -> 13501.019 | AH108: =+HARMEAN(H108,L108,P108,T108,X108,AB108) -> 10677.846 | AI108: =+HARMEAN(J108,N108,R108,V108,Z108,AD108) -> 12913.346
C109: TOTAL SAN ANTONIO DE TEQUENDAMA | H109: =SUM(H86:H108) -> 5581690 | I109: =SUM(I86:I108) -> 1060521.1 | J109: =SUM(J86:J108) -> 6642211.1 | K109: =SUM(K86:K108) -> 67365395 | L109: =SUM(L86:L108) -> 2041804.6 | M109: =SUM(M86:M108) -> 701055.38 | N109: =SUM(N86:N108) -> 2742860 | O109: =SUM(O86:O108) -> 33870939 | ... AI109: =SUM(AI86:AI108) -> 4529023.6
C110: SUMATORIA DE TOTALES (SIBATE + SIMIJACA + CAQUEZA +SAN ANTONIO DE TEQUENDAMA) | H110: =SUM(H109,H83,H70,H38) -> 88826112 | I110: =SUM(I109,I83,I70,I38) -> 16876961 | J110: =SUM(J109,J83,J70,J38) -> 1.0570307e+08 | K110: =SUM(K109,K83,K70,K38) -> 2.4632452e+08 | L110: =SUM(L109,L83,L70,L38) -> 78735638 | M110: =SUM(M109,M83,M70,M38) -> 15272884 | N110: =SUM(N109,N83,N70,N38) -> 94008522 | O110: =SUM(O109,O83,O70,O38) -> 1.9366168e+08 | ... AI110: =SUM(AI109,AI83,AI70,AI38) -> 88800196
Z117: EMPRESA | AB117: TOTAL COTIZACIONES | AD117: VARIACIÓN %
Z118: COMTELECTRIC SAS | AB118: 2.4632452e+08 | AD118: =+((AB118/$AB$123)-1) -> 0.61365663
Z119: ROMING SAS | AB119: 1.9966168e+08 | AD119: =+((AB119/$AB$123)-1) -> 0.30797122
Z120: SOS SOLUCIONES Y SERVICIOS SAS | AB120: 2.4790817e+08 | AD120: =+((AB120/$AB$123)-1) -> 0.62403098
Z121: SISELCOM SAS | AB121: 2.5281423e+08 | AD121: =+((AB121/$AB$123)-1) -> 0.6561703
Z122: AQSERV SAS | AB122: 245194065 | AD122: =+((AB122/$AB$123)-1) -> 0.60625107
Z123: PRECIOS MERCADO E HISTÓRICOS | AB123: 152649900

Sheet HISTORICOS
C1: GOBERNACIÓN DE CUNDINAMARCA | H1: COMTELECTRIC SAS | L1: ROMING SAS | P1: SOS SOLUCIONES Y SREVICIOS SAS | T1: SISELCOM SAS | X1: AQSERV SAS | AB1: PRECIO HISTORICOS
C2: SECRETARIA DE LA MUJER Y EQUIDAD DE GÉNERO
C3: OBJETO: ADECUACIÓN Y SUMINISTRO DE ELEMENTOS NECESARIOS PARA EL FUNCIONAMIENTO APROPIADO DE ESPACIOS Y CASAS SOCIALES DE LA MUJER, DE LOS MUNICIPIOS FOCALIZADOS EN EL DEPARTAMENTO DE CUNDINAMARCA.
C4: 1. SIBATE
C5: ITEM | D5: PRODUCTO / SERVICIO | E5: DESCRIPCIÓN PRODUCTO / SERVICIO | F5: UNIDAD DE MEDIDA | G5: CANTIDAD | H5: VALOR UNITARIO SIN IVA | I5: IVA | J5: VALOR UNITARIO CON IVA | K5: VALOR TOTAL (VALOR UNITARIO CON IVA X CANTIDAD) | L5: VALOR UNITARIO SIN IVA | M5: IVA | N5: VALOR UNITARIO CON IVA | O5: VALOR TOTAL (VALOR UNITARIO CON IVA X CANTIDAD) | P5: VALOR UNITARIO SIN IVA | Q5: IVA | R5: VALOR UNITARIO CON IVA | S5: VALOR TOTAL (VALOR UNITARIO CON IVA X CANTIDAD) | T5: VALOR UNITARIO SIN IVA | U5: IVA | V5: VALOR UNITARIO CON IVA | W5: VALOR TOTAL (VALOR UNITARIO CON IVA X CANTIDAD) | X5: VALOR UNITARIO SIN IVA | Y5: IVA | Z5: VALOR UNITARIO CON IVA | AA5: VALOR TOTAL (VALOR UNITARIO CON IVA X CANTIDAD) | AB5: VALOR UNITARIO CON IVA | AC5: PROCESO | AD5: VALOR UNITARIO SIN IVA | AE5: LINK
C6: 1.1 | D6: ESTUFA A GAS | E6: ESTUFA A GAS CON 6 QUEMADORES, ESTRUCTURA FABRICADA EN ACERO INOXIDABLE, QUEMADORES Y PARRILLAS EN HIERRO FUNDIDO, BANDEJA RECOLECTORA DE RESIDUOS. CONFIGURACIÓN PARA GAS NATURAL O PROPANO. | F6: UN | G6: 1 | H6: 7360000 | I6: =H6*19% -> 1398400 | J6: =H6+I6 -> 8758400 | K6: =G6*J6 -> 8758400 | L6: 6806722.7 | M6: =L6*19% -> 1293277.3 | N6: =L6+M6 -> 8100000 | O6: =+G6*N6 -> 8100000 | P6: 7234110 | Q6: =+P6*0.19 -> 1374480.9 | R6: =+P6+Q6 -> 8608590.9 | S6: =+G6*R6 -> 8608590.9 | T6: 7604171 | U6: =T6*19% -> 1444792.5 | V6: =T6+U6 -> 9048963.5 | W6: =+G6*V6 -> 9048963.5 | X6: 6935933 | Y6: =+X6*0.19 -> 1317827.3 | Z6: =+X6+Y6 -> 8253760.3 | AA6: =+G6*Z6 -> 8253760.3 | AB6: 3100000 | AC6: ACEGAS | AD6: =+AB6/1.19 -> 2605042 | AE6: https://www.industriasacegas.com/producto/estufa-industrial-tipo-americana-a-gas-6-quemadores-90cm-modelo-ea6-acegas/ | AF6: OK
C7: 1.2 | D7: ARMARIO ORGANIZADOR METÁLICO | E7: ARMARIO ORGANIZADOR METALICO, ESTRUCTURA EN LAMINA CALIBRE 22, TERMINACION CON PINTURA ELECTROESTATICA. DIMENSIONES MINIMAS DE 180 x 90 CM. DEBE INCLUIR 4 ENTREPAÑOS GRADUABLES Y 2 PUERTAS CON CERRADURA TIPO MANIJA QUE PERMITA ASEGURAR EN 3 PUNTOS. | F7: UN | G7: 3 | H7: 2510367 | I7: =H7*19% -> 476969.73 | J7: =H7+I7 -> 2987336.7 | K7: =G7*J7 -> 8962010.2 | L7: 1662605 | M7: =L7*19% -> 315894.96 | N7: =L7+M7 -> 1978500 | O7: =+G7*N7 -> 5935500 | P7: 2506736 | Q7: =+P7*0.19 -> 476279.84 | R7: =+P7+Q7 -> 2983015.8 | S7: =+G7*R7 -> 8949047.5 | T7: 2401067 | U7: =T7*19% -> 456202.73 | V7: =T7+U7 -> 2857269.7 | W7: =+G7*V7 -> 8571809.2 | X7: 2384780 | Y7: =+X7*0.19 -> 453108.2 | Z7: =+X7+Y7 -> 2837888.2 | AA7: =+G7*Z7 -> 8513664.6 | AB7: =+'[1]CASA SOCIALES'!$F$7 -> 1054000 | AC7: 2025-0365 | AD7: =+AB7/1.19 -> 885714.29 | AE7: https://www.secop.gov.co/CO1BusinessLine/Tendering/ContractNoticeManagement/Index | AF7: OK
C8: 1.3 | D8: MESA PLEGABLE | E8: MESA PLEGABLE PLASTICA TIPO MALETIN, ESTRUCTURA EN ACERO, TABLERO EN POLIETILENO DE ALTA DENSIDAD, DIMENSIONES MINIMAS DE 180 CM DE LARGO Y 70 CM DE ANCHO | F8: UN | G8: 10 | H8: 348700 | I8: =H8*19% -> 66253 | J8: =H8+I8 -> 414953 | K8: =G8*J8 -> 4149530 | L8: 214159.66 | M8: =L8*19% -> 40690.336 | N8: =L8+M8 -> 254850 | O8: =+G8*N8 -> 2548500 | P8: 350928 | Q8: =+P8*0.19 -> 66676.32 | R8: =+P8+Q8 -> 417604.32 | S8: =+G8*R8 -> 4176043.2 | T8: 332517 | U8: =T8*19% -> 63178.23 | V8: =T8+U8 -> 395695.23 | W8: =+G8*V8 -> 3956952.3 | X8: 326266 | Y8: =+X8*0.19 -> 61990.54 | Z8: =+X8+Y8 -> 388256.54 | AA8: =+G8*Z8 -> 3882565.4 | AB8: 179900 | AC8: HOMECENTER | AD8: =+AB8/1.19 -> 151176.47 | AE8: https://www.secop.gov.co/CO1BusinessLine/Tendering/ContractNoticeView/Index?prevCtxLbl=Buscar+procesos&prevCtxUrl=https%3a%2f%2fwww.secop.gov.co%3a443%2fCO1BusinessLine%2fTendering%2fContractNoticeManagement%2fIndex&notice=CO1.NTC.8101210 | AF8: OK
C9: 1.4 | D9: SILLA PLÁSTICA | E9: SILLA PLÁSTICA CON BRAZOS, RESISTENCIA MINIMA DE 115 KILOS. MEDIDAS APROXIMADAS DE 57 x 60 x 80 CM. COLOR BLANCO O CAFE. | F9: UN | G9: 20 | H9: 75571 | I9: =H9*19% -> 14358.49 | J9: =H9+I9 -> 89929.49 | K9: =G9*J9 -> 1798589.8 | L9: 75504.202 | M9: =L9*19% -> 14345.798 | N9: =L9+M9 -> 89850 | O9: =+G9*N9 -> 1797000 | P9: 88777 | Q9: =+P9*0.19 -> 16867.63 | R9: =+P9+Q9 -> 105644.63 | S9: =+G9*R9 -> 2112892.6 | T9: 76923 | U9: =T9*19% -> 14615.37 | V9: =T9+U9 -> 91538.37 | W9: =+G9*V9 -> 1830767.4 | X9: 77771 | Y9: =+X9*0.19 -> 14776.49 | Z9: =+X9+Y9 -> 92547.49 | AA9: =+G9*Z9 -> 1850949.8 | AB9: 89930 | AC9: 2025-0365 | AD9: =+AB9/1.19 -> 75571.429 | AE9: https://www.secop.gov.co/CO1BusinessLine/Tendering/ContractNoticeView/Index?prevCtxLbl=Buscar+procesos&prevCtxUrl=https%3a%2f%2fwww.secop.gov.co%3a443%2fCO1BusinessLine%2fTendering%2fContractNoticeManagement%2fIndex&notice=CO1.NTC.8101210
C10: 1.5 | D10: BANDEJA PARA PANADERÍA | E10: BANDEJA PARA PANADERIA DE 60 x 40 CM, TROQUELADA, FABRICADA EN ALUMINIO MINIMO CALIBRE 20. | F10: UN | G10: 6 | H10: 143830 | I10: =H10*19% -> 27327.7 | J10: =H10+I10 -> 171157.7 | K10: =G10*J10 -> 1026946.2 | L10: 1008403.4 | M10: =L10*19% -> 191596.64 | N10: =L10+M10 -> 1200000 | O10: =+G10*N10 -> 7200000 | P10: 154904 | Q10: =+P10*0.19 -> 29431.76 | R10: =+P10+Q10 -> 184335.76 | S10: =+G10*R10 -> 1106014.6 | T10: 146740 | U10: =T10*19% -> 27880.6 | V10: =T10+U10 -> 174620.6 | W10: =+G10*V10 -> 1047723.6 | X10: 140861 | Y10: =+X10*0.19 -> 26763.59 | Z10: =+X10+Y10 -> 167624.59 | AA10: =+G10*Z10 -> 1005747.5 | AB10: 97580 | AC10: CM-SASI-307-2025/ CLUB MILITAR | AD10: =+AB10/1.19 -> 82000 | AE10: https://www.secop.gov.co/CO1BusinessLine/Tendering/ContractNoticeManagement/Index
C11: 1.6 | D11: ESCABILADERO PARA BANDEJAS | E11: ESCABILADERO PARA BANDEJAS DE 60 x 40 CM, FABRICADO EN ACERO INOXIDABLE, CAPACIDAD PARA ALMACENAR MINIMO 12 BANDEJAS. | F11: UN | G11: 1 | H11: 2465261 | I11: =H11*19% -> 468399.59 | J11: =H11+I11 -> 2933660.6 | K11: =G11*J11 -> 2933660.6 | L11: 1890756.3 | M11: =L11*19% -> 359243.7 | N11: =L11+M11 -> 2250000 | O11: =+G11*N11 -> 2250000 | P11: 2553398 | Q11: =+P11*0.19 -> 485145.62 | R11: =+P11+Q11 -> 3038543.6 | S11: =+G11*R11 -> 3038543.6 | T11: 2550779 | U11: =T11*19% -> 484648.01 | V11: =T11+U11 -> 3035427 | W11: =+G11*V11 -> 3035427 | X11: 2428755 | Y11: =+X11*0.19 -> 461463.45 | Z11: =+X11+Y11 -> 2890218.5 | AA11: =+G11*Z11 -> 2890218.5 | AB11: =+'[1]CASA SOCIALES'!$F$11 -> 938256 | AC11: PALLOMARO | AD11: =+AB11/1.19 -> 788450.42 | AE11: https://tienda.pallomaro.com/escabiladeros/escabiladero-en-acero-inox-60x40-?gad_source=1&gad_campaignid=21258695233&gbraid=0AAAAADdXcJTvqGnZ6ahyq55YUuF8ct2sf&gclid=CjwKCAjw2brFBhBOEiwAVJX5GAuXBSpFkxpZQSokDkT26W5-tzeXuRU3jCybe1X-Hwyi7a5qgCFiPhoC9NsQAvD_BwE | AF11: OK
C12: 1.7 | D12: JUEGO DE OLLAS DE ALUMINIO | E12: JUEGO DE OLLAS DE ALUMINIO, CAPACIDAD DE 2 A 14 LITROS, 6 UNIDADES, FABRICADAS EN ALUMINIO DE ALTA PUREZA. INCLUYE: 1 OLLA DE 2 LITROS, 1 OLLA DE 2.5 LITROS, 1 OLLA DE 4 LITROS, 1 OLLA DE 6 LITROS, 1 OLLA DE 12 LITROS Y 1 OLLA DE 14 LITROS. CADA OLLA INCLUYE TAPA. | F12: UN | G12: 3 | H12: 405570 | I12: =H12*19% -> 77058.3 | J12: =H12+I12 -> 482628.3 | K12: =G12*J12 -> 1447884.9 | L12: 1384903.4 | M12: =L12*19% -> 263131.64 | N12: =L12+M12 -> 1648035 | O12: =+G12*N12 -> 4944105 | P12: 388583 | Q12: =+P12*0.19 -> 73830.77 | R12: =+P12+Q12 -> 462413.77 | S12: =+G12*R12 -> 1387241.3 | T12: 429717 | U12: =T12*19% -> 81646.23 | V12: =T12+U12 -> 511363.23 | W12: =+G12*V12 -> 1534089.7 | X12: 380421 | Y12: =+X12*0.19 -> 72279.99 | Z12: =+X12+Y12 -> 452700.99 | AA12: =+G12*Z12 -> 1358103 | AB12: 409000 | AC12: IMUSA | AD12: =+AB12/1.19 -> 343697.48 | AE12: https://www.imusa.com.co/imusa/coccion/ollas-calderos-y-peroles?srsltid=AfmBOoo6wpsmz_Z3lMeZ6kDWoCeBnARSEE-UTPe14apGlOiS7UYthFEh
C13: 1.8 | D13: CALDERO MEDIANO | E13: CALDERO MEDIANO DE 11 LITROS, FABRICADO EN ALUMINIO FUNDIDO, TAPA FUNDIDA CON POMO PLASTICO, ASAS EN ALUMINIO FUNDIDO. | F13: UN | G13: 2 | H13: 278942 | I13: =H13*19% -> 52998.98 | J13: =H13+I13 -> 331940.98 | K13: =G13*J13 -> 663881.96 | L13: 176470.59 | M13: =L13*19% -> 33529.412 | N13: =L13+M13 -> 210000 | O13: =+G13*N13 -> 420000 | P13: 274590 | Q13: =+P13*0.19 -> 52172.1 | R13: =+P13+Q13 -> 326762.1 | S13: =+G13*R13 -> 653524.2 | T13: 290819 | U13: =T13*19% -> 55255.61 | V13: =T13+U13 -> 346074.61 | W13: =+G13*V13 -> 692149.22 | X13: 263944 | Y13: =+X13*0.19 -> 50149.36 | Z13: =+X13+Y13 -> 314093.36 | AA13: =+G13*Z13 -> 628186.72 | AB13: 149000 | AC13: ROMIL | AD13: =+AB13/1.19 -> 125210.08 | AE13: https://dotacionesromil.com/tienda/caldero-fundido-pomo-enstf-36-cm-universal/ | AF13: OK
C14: 1.9 | D14: TABLA PARA PICAR | E14: TABLA PARA PICAR/CORTAR, FABRICADA EN POLIETILENO RESISTENTE A GOLPES, DEFORMACIONES Y MANCHAS. DIMENSIONES: 60 x 40 x 2 CM. | F14: UN | G14: 10 | H14: 279142 | I14: =H14*19% -> 53036.98 | J14: =H14+I14 -> 332178.98 | K14: =G14*J14 -> 3321789.8 | L14: 176470.59 | M14: =L14*19% -> 33529.412 | N14: =L14+M14 -> 210000 | O14: =+G14*N14 -> 2100000 | P14: 263086 | Q14: =+P14*0.19 -> 49986.34 | R14: =+P14+Q14 -> 313072.34 | S14: =+G14*R14 -> 3130723.4 | T14: 289321 | U14: =T14*19% -> 54970.99 | V14: =T14+U14 -> 344291.99 | W14: =+G14*V14 -> 3442919.9 | X14: 270822 | Y14: =+X14*0.19 -> 51456.18 | Z14: =+X14+Y14 -> 322278.18 | AA14: =+G14*Z14 -> 3222781.8 | AB14: 140000 | AC14: BBG | AD14: =+AB14/1.19 -> 117647.06 | AE14: https://www.bbg.com.co/basculas/vp566/sp/tabla-para-picar-alimentos-cut-3?srsltid=AfmBOoqP7D561qtkOeFRB6XqHiUk73FhXCtDCvxB6d8o_OC3j7Cq3sZ1 | AF14: OK
C15: 1.10 | D15: RODILLO PARA REPOSTERÍA | E15: RODILLO PARA REPOSTERIA, FABRICADO EN PVC CON EJE EN ACERO INOXIDABLE, LARGO TOTAL DE 60 CM. | F15: UN | G15: 2 | H15: 170874 | I15: =H15*19% -> 32466.06 | J15: =H15+I15 -> 203340.06 | K15: =G15*J15 -> 406680.12 | L15: 119117.65 | M15: =L15*19% -> 22632.353 | N15: =L15+M15 -> 141750 | O15: =+G15*N15 -> 283500 | P15: 166442 | Q15: =+P15*0.19 -> 31623.98 | R15: =+P15+Q15 -> 198065.98 | S15: =+G15*R15 -> 396131.96 | T15: 176152 | U15: =T15*19% -> 33468.88 | V15: =T15+U15 -> 209620.88 | W15: =+G15*V15 -> 419241.76 | X15: 164358 | Y15: =+X15*0.19 -> 31228.02 | Z15: =+X15+Y15 -> 195586.02 | AA15: =+G15*Z15 -> 391172.04 | AB15: =+'[2]ESTUDIO MERCADO'!$J$15 -> 110000.03 | AD15: =+AB15/1.19 -> 92437 | AE15: https://panchiscakes.com/productos/utensilios/rodillos/rodillo-pastelero-pvc-de-reposteria-panaderia-pizzeria-40-cm-2/ | AF15: OK
C16: 1.11 | D16: RALLADOR EN ACERO | E16: RALLADOR EN ACERO INOXIDABLE, ALTO MINIMO DE 22 CM, CON MANGO ERGONOMICO, BASE ANTIDESLIZABLE, 4 CARAS CON DIFERENTES TIPOS DE CORTE. | F16: UN | G16: 2 | H16: 74571 | I16: =H16*19% -> 14168.49 | J16: =H16+I16 -> 88739.49 | K16: =G16*J16 -> 177478.98 | L16: 52815.126 | M16: =L16*19% -> 10034.874 | N16: =L16+M16 -> 62850 | O16: =+G16*N16 -> 125700 | P16: 73426 | Q16: =+P16*0.19 -> 13950.94 | R16: =+P16+Q16 -> 87376.94 | S16: =+G16*R16 -> 174753.88 | T16: 78699 | U16: =T16*19% -> 14952.81 | V16: =T16+U16 -> 93651.81 | W16: =+G16*V16 -> 187303.62 | X16: 78538 | Y16: =+X16*0.19 -> 14922.22 | Z16: =+X16+Y16 -> 93460.22 | AA16: =+G16*Z16 -> 186920.44 | AB16: =+'[2]ESTUDIO MERCADO'!$J$16 -> 44076.41 | AD16: =+AB16/1.19 -> 37039 | AE16: https://www.almacenesla13.com/collections/ralladores-y-rebanadores/products/rallador-acero-inoxidable-4-caras-splendor-imusa | AF16: OK
C17: 1.12 | D17: JUEGO DE BOWL'S EN ACERO | E17: JUEGO DE BOWL'S EN ACERO INOXIDABLE DE 4 PIEZAS (14, 18, 21 Y 26 CM DE DIAMETRO). | F17: UN | G17: 4 | H17: 398574 | I17: =H17*19% -> 75729.06 | J17: =H17+I17 -> 474303.06 | K17: =G17*J17 -> 1897212.2 | L17: 251974.79 | M17: =L17*19% -> 47875.21 | N17: =L17+M17 -> 299850 | O17: =+G17*N17 -> 1199400 | P17: 380486 | Q17: =+P17*0.19 -> 72292.34 | R17: =+P17+Q17 -> 452778.34 | S17: =+G17*R17 -> 1811113.4 | T17: 405317 | U17: =T17*19% -> 77010.23 | V17: =T17+U17 -> 482327.23 | W17: =+G17*V17 -> 1929308.9 | X17: 379948 | Y17: =+X17*0.19 -> 72190.12 | Z17: =+X17+Y17 -> 452138.12 | AA17: =+G17*Z17 -> 1808552.5 | AB17: =+'[2]ESTUDIO MERCADO'!$J$17 -> 158989.95 | AD17: =+AB17/1.19 -> 133605 | AE17: https://www.crateandbarrel.com.co/crateandbarrel-co/product/770290867/-Bowls-en-Acero-inoxidable-4-piezas/770290867 | AF17: OK
C18: 1.13 | D18: GRAMERA DIGITAL | E18: GRAMERA DIGITAL, CAPACIDAD HASTA 5KG, DIVISION MINIMA DE 1 GRAMO, UNIDAD DE MEDIDA EN GRAMOS Y ONZAS, PANTALLA LCD, APAGADO AUTOMATICO, INDICADOR DE SOBREPESO. | F18: UN | G18: 3 | H18: 88365 | I18: =H18*19% -> 16789.35 | J18: =H18+I18 -> 105154.35 | K18: =G18*J18 -> 315463.05 | L18: 100714.29 | M18: =L18*19% -> 19135.714 | N18: =L18+M18 -> 119850 | O18: =+G18*N18 -> 359550 | P18: 83648 | Q18: =+P18*0.19 -> 15893.12 | R18: =+P18+Q18 -> 99541.12 | S18: =+G18*R18 -> 298623.36 | T18: 90057 | U18: =T18*19% -> 17110.83 | V18: =T18+U18 -> 107167.83 | W18: =+G18*V18 -> 321503.49 | X18: 92239 | Y18: =+X18*0.19 -> 17525.41 | Z18: =+X18+Y18 -> 109764.41 | AA18: =+G18*Z18 -> 329293.23 | AB18: 75600 | AC18: MERCADO LIBRE | AD18: =+AB18/1.19 -> 63529.412 | AE18: https://listado.mercadolibre.com.co/gramera-digital-5-kg
C19: 1.14 | D19: CHAITA DE 10" | E19: CHAIRA DE 10" CON CUERPO EN ACERO INOXIDABLE Y MANGO EN POLIPROPILENO ANTIBACTERIAL. | F19: UN | G19: 2 | H19: 48985 | I19: =H19*19% -> 9307.15 | J19: =H19+I19 -> 58292.15 | K19: =G19*J19 -> 116584.3 | L19: 522983.19 | M19: =L19*19% -> 99366.807 | N19: =L19+M19 -> 622350 | O19: =+G19*N19 -> 1244700 | P19: 51426 | Q19: =+P19*0.19 -> 9770.94 | R19: =+P19+Q19 -> 61196.94 | S19: =+G19*R19 -> 122393.88 | T19: 52827 | U19: =T19*19% -> 10037.13 | V19: =T19+U19 -> 62864.13 | W19: =+G19*V19 -> 125728.26 | X19: 49586 | Y19: =+X19*0.19 -> 9421.34 | Z19: =+X19+Y19 -> 59007.34 | AA19: =+G19*Z19 -> 118014.68 | AB19: 75000 | AC19: HOMECENTER | AD19: =+AB19/1.19 -> 63025.21 | AE19: https://www.homecenter.com.co/homecenter-co/product/312289/chaira-tramontina-profio-de-acero-inoxidable-10-pulgadas/312289/
C20: 1.15 | D20: COLADOR CÓNICO DE 20 CM | E20: COLADOR CONICO DE 20 CM DE DIAMETRO, FABRICADO EN ACERO INOXIDABLE, MALLA FINA, MANGO EN ACERO. | F20: UN | G20: 2 | H20: 93803 | I20: =H20*19% -> 17822.57 | J20: =H20+I20 -> 111625.57 | K20: =G20*J20 -> 223251.14 | L20: 114240 | M20: =L20*19% -> 21705.6 | N20: =L20+M20 -> 135945.6 | O20: =+G20*N20 -> 271891.2 | P20: 97671 | Q20: =+P20*0.19 -> 18557.49 | R20: =+P20+Q20 -> 116228.49 | S20: =+G20*R20 -> 232456.98 | T20: 97205 | U20: =T20*19% -> 18468.95 | V20: =T20+U20 -> 115673.95 | W20: =+G20*V20 -> 231347.9 | X20: 96238 | Y20: =+X20*0.19 -> 18285.22 | Z20: =+X20+Y20 -> 114523.22 | AA20: =+G20*Z20 -> 229046.44 | AB20: =+'[1]CASA SOCIALES'!$F$20 -> 53312 | AC20: PALLOMARO | AD20: =+AB20/1.19 -> 44800 | AE20: https://tienda.pallomaro.com/coladores/colador-conico-20cm-r376?srsltid=AfmBOoo9HuixvTTggp1Y4-JMpdPjH7iuqXdMHHOBeAqHDUDab54mCX9V | AF20: OK
C21: 1.16 | D21: JUEGO DE 3 COLADORES | E21: JUEGO DE 3 COLADORES REDONDOS EN ACERO INOXIDABLE, MARCO EXTERIOR RESISTENTE Y MALLA FINA EN ACERO INOXIDABLE. INCLUYE: 1 COLADOR DE 16 CM, 1 COLADOR DE 20 CM Y 1 COLADOR DE 24 CM. | F21: UN | G21: 3 | H21: 317761 | I21: =H21*19% -> 60374.59 | J21: =H21+I21 -> 378135.59 | K21: =G21*J21 -> 1134406.8 | L21: 222670.59 | M21: =L21*19% -> 42307.412 | N21: =L21+M21 -> 264978 | O21: =+G21*N21 -> 794934 | P21: 307470 | Q21: =+P21*0.19 -> 58419.3 | R21: =+P21+Q21 -> 365889.3 | S21: =+G21*R21 -> 1097667.9 | T21: 330448 | U21: =T21*19% -> 62785.12 | V21: =T21+U21 -> 393233.12 | W21: =+G21*V21 -> 1179699.4 | X21: 311964 | Y21: =+X21*0.19 -> 59273.16 | Z21: =+X21+Y21 -> 371237.16 | AA21: =+G21*Z21 -> 1113711.5 | AB21: =+'[2]ESTUDIO MERCADO'!$J$21 -> 134794.87 | AD21: =+AB21/1.19 -> 113273 | AE21: https://www.mercadolibre.com.co/paquete-de-3-coladores-de-acero-inoxidable-188-5-cuartos/p/MCO2022482105?matt_tool=19390127&utm_source=google_shopping&utm_medium=organic&pdp_filters=item_id%3AMCO2788051820&from=gshop | AF21: OK
C22: 1.17 | D22: GUANTES DE PROTECCIÓN | E22: GUANTES DE PROTECCIÓN PARA ALTA TEMPERATURA, FABRICADOS EN CUERO/CARNAZA CON REFUERZOS EN PALMA Y DEDOS PARA MAYOR RESISTENCIA, FORRO INTERNO PARA MAYOR COMODIDAD. LARGO MINIMO DE 40 CM. | F22: UN | G22: 1 | H22: 120693 | I22: =H22*19% -> 22931.67 | J22: =H22+I22 -> 143624.67 | K22: =G22*J22 -> 143624.67 | L22: 31512.605 | M22: =L22*19% -> 5987.395 | N22: =L22+M22 -> 37500 | O22: =+G22*N22 -> 37500 | P22: 115021 | Q22: =+P22*0.19 -> 21853.99 | R22: =+P22+Q22 -> 136874.99 | S22: =+G22*R22 -> 136874.99 | T22: 128640 | U22: =T22*19% -> 24441.6 | V22: =T22+U22 -> 153081.6 | W22: =+G22*V22 -> 153081.6 | X22: 125061 | Y22: =+X22*0.19 -> 23761.59 | Z22: =+X22+Y22 -> 148822.59 | AA22: =+G22*Z22 -> 148822.59 | AB22: 33900 | AC22: PROVESI | AD22: =+AB22/1.19 -> 28487.395 | AE22: https://www.provesi.com.co/guantes-de-carnaza/1902-guante-carnaza-panadero-reforzado-vaqueta-5-dedos-gs-largo-48-cm.html?srsltid=AfmBOopXIk0qbvzB2wjUBrWJVTV0O8gqTqmEhqec92L_ZfOQP5OxOMyd
C23: 1.18 | D23: JUEGO DE 3 SARTENES | E23: JUEGO DE 3 SARTENES FABRICADOS EN ALUMINIO, ANTIADHERENTES, ESPESOR MINIMO DE 1,5 mm, ASA ERGONOMICA PARA FACIL AGARRE. INCLUYE UN SARTEN DE 20 CM, 1 SARTEN DE 26 CM Y UN SARTEN DE 30 CM. CADA SARTEN INCLUYE TAPA. | F23: UN | G23: 4 | H23: 478809 | I23: =H23*19% -> 90973.71 | J23: =H23+I23 -> 569782.71 | K23: =G23*J23 -> 2279130.8 | L23: 352941.18 | M23: =L23*19% -> 67058.824 | N23: =L23+M23 -> 420000 | O23: =+G23*N23 -> 1680000 | P23: 439848 | Q23: =+P23*0.19 -> 83571.12 | R23: =+P23+Q23 -> 523419.12 | S23: =+G23*R23 -> 2093676.5 | T23: 513616 | U23: =T23*19% -> 97587.04 | V23: =T23+U23 -> 611203.04 | W23: =+G23*V23 -> 2444812.2 | X23: 411985 | Y23: =+X23*0.19 -> 78277.15 | Z23: =+X23+Y23 -> 490262.15 | AA23: =+G23*Z23 -> 1961048.6 | AB23: 400000 | AC23: IMUSA | AD23: =+AB23/1.19 -> 336134.45 | AE23: https://www.imusa.com.co/imusa/coccion/sartenes?page=2
C24: 1.19 | D24: CUCHILLOS DE 3" | E24: CUCHILLO DE 3 PULGADAS, HOJA EN ACERO INOXIDABLE Y MANGO DE POLIPROPILENO | F24: UN | G24: 10 | H24: 57776 | I24: =H24*19% -> 10977.44 | J24: =H24+I24 -> 68753.44 | K24: =G24*J24 -> 687534.4 | L24: 23823.529 | M24: =L24*19% -> 4526.4706 | N24: =L24+M24 -> 28350 | O24: =+G24*N24 -> 283500 | P24: 59049 | Q24: =+P24*0.19 -> 11219.31 | R24: =+P24+Q24 -> 70268.31 | S24: =+G24*R24 -> 702683.1 | T24: 54705 | U24: =T24*19% -> 10393.95 | V24: =T24+U24 -> 65098.95 | W24: =+G24*V24 -> 650989.5 | X24: 59340 | Y24: =+X24*0.19 -> 11274.6 | Z24: =+X24+Y24 -> 70614.6 | AA24: =+G24*Z24 -> 706146 | AB24: 25000 | AC24: MERCADO LIBRE | AD24: =+AB24/1.19 -> 21008.403 | AE24: https://articulo.mercadolibre.com.co/MCO-1733351036-cuchillo-tramontina-profesional-3-pulgadas-_JM?searchVariation=179138188145#polycard_client=search-nordic&searchVariation=179138188145&search_layout=grid&position=5&type=item&tracking_id=d94ce13d-0171-4d33-bdad-ecd826204434
C25: 1.20 | D25: CUCHILLOS DE 6" | E25: CUCHILLO DE 6 PULGADAS, HOJA EN ACERO INOXIDABLE Y MANGO DE POLIPROPILENO | F25: UN | G25: 10 | H25: 74317 | I25: =H25*19% -> 14120.23 | J25: =H25+I25 -> 88437.23 | K25: =G25*J25 -> 884372.3 | L25: 74243.697 | M25: =L25*19% -> 14106.303 | N25: =L25+M25 -> 88350 | O25: =+G25*N25 -> 883500 | P25: 79790 | Q25: =+P25*0.19 -> 15160.1 | R25: =+P25+Q25 -> 94950.1 | S25: =+G25*R25 -> 949501 | T25: 69427 | U25: =T25*19% -> 13191.13 | V25: =T25+U25 -> 82618.13 | W25: =+G25*V25 -> 826181.3 | X25: 74173 | Y25: =+X25*0.19 -> 14092.87 | Z25: =+X25+Y25 -> 88265.87 | AA25: =+G25*Z25 -> 882658.7 | AB25: =+'[2]ESTUDIO MERCADO'!$N$25 -> 13000 | AC25: 045-CMNC-2025/ MUNICIPIO DE SUCRE | AD25: =+AB25/1.19 -> 10924.37 | AE25: https://www.secop.gov.co/CO1BusinessLine/Tendering/ContractNoticeManagement/Index | AF25: OK
C26: 1.21 | D26: CUCHILLOS DE 10" | E26: CUCHILLO DE 10 PULGADAS, HOJA EN ACERO INOXIDABLE Y MANGO DE POLIPROPILENO | F26: UN | G26: 10 | H26: 141837 | I26: =H26*19% -> 26949.03 | J26: =H26+I26 -> 168786.03 | K26: =G26*J26 -> 1687860.3 | L26: 190210.08 | M26: =L26*19% -> 36139.916 | N26: =L26+M26 -> 226350 | O26: =+G26*N26 -> 2263500 | P26: 141240 | Q26: =+P26*0.19 -> 26835.6 | R26: =+P26+Q26 -> 168075.6 | S26: =+G26*R26 -> 1680756 | T26: 144494 | U26: =T26*19% -> 27453.86 | V26: =T26+U26 -> 171947.86 | W26: =+G26*V26 -> 1719478.6 | X26: 144649 | Y26: =+X26*0.19 -> 27483.31 | Z26: =+X26+Y26 -> 172132.31 | AA26: =+G26*Z26 -> 1721323.1 | AB26: =+'[2]ESTUDIO MERCADO'!$N$26 -> 41250 | AC26: Número del proceso SASI-004-2025/ MUNICIPIO DE PACHO | AD26: =+AB26/1.19 -> 34663.866 | AE26: https://www.secop.gov.co/CO1BusinessLine/Tendering/ContractNoticeManagement/Index | AF26: OK
C27: 1.22 | D27: KIT DE 6 UTENSILOS DE COCINA | E27: KIT DE 6 UTENSILIOS DE COCINA PARA SERVIR, FABRICADOS EN ACERO INOXIDABLE DE ALTA CALIDAD. INCLUYE: ESPATULA, CUCHARON, PALA PLANA, TRINCHE PARA CARNE, ESPUMADOR, CUCHARA PARA SOPA. INCLUYE BASE PARA ORGANIZAR UTENSILIOS. | F27: UN | G27: 3 | H27: 236591 | I27: =H27*19% -> 44952.29 | J27: =H27+I27 -> 281543.29 | K27: =G27*J27 -> 844629.87 | L27: 121069.5 | M27: =L27*19% -> 23003.205 | N27: =L27+M27 -> 144072.71 | O27: =+G27*N27 -> 432218.12 | P27: 230254 | Q27: =+P27*0.19 -> 43748.26 | R27: =+P27+Q27 -> 274002.26 | S27: =+G27*R27 -> 822006.78 | T27: 227774 | U27: =T27*19% -> 43277.06 | V27: =T27+U27 -> 271051.06 | W27: =+G27*V27 -> 813153.18 | X27: 238206 | Y27: =+X27*0.19 -> 45259.14 | Z27: =+X27+Y27 -> 283465.14 | AA27: =+G27*Z27 -> 850395.42 | AB27: =+'[2]ESTUDIO MERCADO'!$N$27 -> 70000 | AC27: 045-CMNC-2025/ MUNICIPIO DE SUCRE | AD27: =+AB27/1.19 -> 58823.529 | AE27: https://www.secop.gov.co/CO1BusinessLine/Tendering/ContractNoticeManagement/Index | AF27: OK
C28: 1.23 | D28: JUEGO DE UTENSILIOS | E28: JUEGO DE UTENSILIOS PARA HORNEAR, CON REVESTIMIENTO ANTIADHERENTE. INCLUYE: 1 BANDEJA PARA HORNEAR GRANDE, 1 BANDEJA OBLONGA, 1 BANDEJA PARA MUFFINS, 2 BANDEJAS REDONDAS, 1 CUCHARA DE SILICONA, 1 ESPATULA Y 1 VOLTEADOR RANURADO. | F28: UN | G28: 3 | H28: 883419 | I28: =H28*19% -> 167849.61 | J28: =H28+I28 -> 1051268.6 | K28: =G28*J28 -> 3153805.8 | L28: 491470.59 | M28: =L28*19% -> 93379.412 | N28: =L28+M28 -> 584850 | O28: =+G28*N28 -> 1754550 | P28: 867319 | Q28: =+P28*0.19 -> 164790.61 | R28: =+P28+Q28 -> 1032109.6 | S28: =+G28*R28 -> 3096328.8 | T28: 919659 | U28: =T28*19% -> 174735.21 | V28: =T28+U28 -> 1094394.2 | W28: =+G28*V28 -> 3283182.6 | X28: 783812 | Y28: =+X28*0.19 -> 148924.28 | Z28: =+X28+Y28 -> 932736.28 | AA28: =+G28*Z28 -> 2798208.8 | AB28: 389900 | AC28: ORQUIDEA | AD28: =+AB28/1.19 -> 327647.06 | AE28: https://www.orquidea.com.co/Juego-utensilios-hornear-9und | AF28: VALIDADO
C29: 1.24 | D29: JUEGO DE MOLDES PARA PAN | E29: JUEGO DE MOLDES PARA PAN, FABRICADOS EN ACERO Y/O ALUMINIO DE ALTA CALIDAD. INCLUYE: 1 MOLDE RECTANGULAR DE APROXIMADAMENTE 21 x 11 CM, 1 MOLDE RECTANGULAR DE APROXIMADAMENTE 40 x10 CM, Y ARO CUADRO DE APROXIMADAMENTE 12 x 12 CM. | F29: UN | G29: 2 | H29: 347279 | I29: =H29*19% -> 65983.01 | J29: =H29+I29 -> 413262.01 | K29: =G29*J29 -> 826524.02 | L29: 197394.96 | M29: =L29*19% -> 37505.042 | N29: =L29+M29 -> 234900 | O29: =+G29*N29 -> 469800 | P29: 328829 | Q29: =+P29*0.19 -> 62477.51 | R29: =+P29+Q29 -> 391306.51 | S29: =+G29*R29 -> 782613.02 | T29: 355883 | U29: =T29*19% -> 67617.77 | V29: =T29+U29 -> 423500.77 | W29: =+G29*V29 -> 847001.54 | X29: 356295 | Y29: =+X29*0.19 -> 67696.05 | Z29: =+X29+Y29 -> 423991.05 | AA29: =+G29*Z29 -> 847982.1 | AB29: =+'[2]ESTUDIO MERCADO'!$J$29 -> 172699.94 | AC29: ORQUIDEA | AD29: =+AB29/1.19 -> 145126 | AE29: https://www.orquidea.com.co/rectangular-aluminio-1 | AF29: OK
C30: 1.25 | D30: JUEGO DE METÁLICOS | E30: JUEGO DE MOLDES METALICOS CUADRADOS, FABRICADOS EN ALUMINIO DE ALTA CALIDAD. INCLUYE: 1 MOLDE DE APROXIMADAMENTE 27 x 27 CM, 1 MOLDE DE APROXIMADAMENTE 22 x 22 CM, 1 MOLDE DE APROXIMADAMENTE 17 x 17 CM Y 1 MOLDE CUADRADO DE APROXIMADAMENTE 10 x 10 CM. | F30: UN | G30: 2 | H30: 185103 | I30: =H30*19% -> 35169.57 | J30: =H30+I30 -> 220272.57 | K30: =G30*J30 -> 440545.14 | L30: 390630.25 | M30: =L30*19% -> 74219.748 | N30: =L30+M30 -> 464850 | O30: =+G30*N30 -> 929700 | P30: 174719 | Q30: =+P30*0.19 -> 33196.61 | R30: =+P30+Q30 -> 207915.61 | S30: =+G30*R30 -> 415831.22 | T30: 190169 | U30: =T30*19% -> 36132.11 | V30: =T30+U30 -> 226301.11 | W30: =+G30*V30 -> 452602.22 | X30: 174464 | Y30: =+X30*0.19 -> 33148.16 | Z30: =+X30+Y30 -> 207612.16 | AA30: =+G30*Z30 -> 415224.32 | AB30: 180000 | AC30: ORQUIDEA | AD30: =+AB30/1.19 -> 151260.5 | AE30: https://www.orquidea.com.co/rectangular-aluminio-1
C31: 1.26 | D31: MOLDE METÁLICO REDONDO DE BASE APRÓXIMADAMENTE DE 13.5 x 5 CM. | E31: MOLDE METALICO REDONDO, FABRICADO EN ALUMINIO DE ALTA CALIDAD. DIMENSIONES EN LA BASE APROXIMADAMENTE DE 13.5 x 5 CM. | F31: UN | G31: 2 | H31: 47853 | I31: =H31*19% -> 9092.07 | J31: =H31+I31 -> 56945.07 | K31: =G31*J31 -> 113890.14 | L31: 27731.092 | M31: =L31*19% -> 5268.9076 | N31: =L31+M31 -> 33000 | O31: =+G31*N31 -> 66000 | P31: 46994 | Q31: =+P31*0.19 -> 8928.86 | R31: =+P31+Q31 -> 55922.86 | S31: =+G31*R31 -> 111845.72 | T31: 51289 | U31: =T31*19% -> 9744.91 | V31: =T31+U31 -> 61033.91 | W31: =+G31*V31 -> 122067.82 | X31: 47353 | Y31: =+X31*0.19 -> 8997.07 | Z31: =+X31+Y31 -> 56350.07 | AA31: =+G31*Z31 -> 112700.14 | AB31: 24000 | AC31: ORQUIDEA | AD31: =+AB31/1.19 -> 20168.067 | AE31: https://www.orquidea.com.co/Molde-ponque-13.5x16.5x5cm
C32: 1.27 | D32: MOLDE METÁLICO REDONDO BASE APROXIMADAMENTE DE 14.5 x 14.5 x 8 CM. | E32: MOLDE METALICO REDONDO CON ABERTURA EN EL CENTRO (ANGEL), FABRICADO EN ALUMINIO DE ALTA CALIDAD. DIMENSIONES EN LA BASE APROXIMADAMENTE DE 14.5 x 14.5 x 8 CM. | F32: UN | G32: 2 | H32: 53834 | I32: =H32*19% -> 10228.46 | J32: =H32+I32 -> 64062.46 | K32: =G32*J32 -> 128124.92 | L32: 34033.613 | M32: =L32*19% -> 6466.3866 | N32: =L32+M32 -> 40500 | O32: =+G32*N32 -> 81000 | P32: 54009 | Q32: =+P32*0.19 -> 10261.71 | R32: =+P32+Q32 -> 64270.71 | S32: =+G32*R32 -> 128541.42 | T32: 54067 | U32: =T32*19% -> 10272.73 | V32: =T32+U32 -> 64339.73 | W32: =+G32*V32 -> 128679.46 | X32: 55528 | Y32: =+X32*0.19 -> 10550.32 | Z32: =+X32+Y32 -> 66078.32 | AA32: =+G32*Z32 -> 132156.64 | AB32: 27000 | AC32: ORQUIDEA | AD32: =+AB32/1.19 -> 22689.076 | AE32: https://www.orquidea.com.co/Molde%20angel%20de%20%2020%20x%208
C33: 1.28 | D33: JUEGO DE MOLDES METÁLICOS | E33: JUEGO DE MOLDES METALICOS, FABRICADOS EN ALUMINIO DE ALTA CALIDAD. INCLUYE: 1 MOLDE REDONDO DE APROXIMADAMENTE 25 x 8 CM, 1 MOLDE CUADRADO DE APROXIMADAMENTE 10 x 10 CM, 1 MOLDE REDONDO DE APROXIMADAMENTE 20 x 8 CM Y 1 MOLDE REDONDO DE APROXIMADAMENTE 15 x 8 CM. | F33: UN | G33: 2 | H33: 240343 | I33: =H33*19% -> 45665.17 | J33: =H33+I33 -> 286008.17 | K33: =G33*J33 -> 572016.34 | L33: 106764.71 | M33: =L33*19% -> 20285.294 | N33: =L33+M33 -> 127050 | O33: =+G33*N33 -> 254100 | P33: 231881 | Q33: =+P33*0.19 -> 44057.39 | R33: =+P33+Q33 -> 275938.39 | S33: =+G33*R33 -> 551876.78 | T33: 253976 | U33: =T33*19% -> 48255.44 | V33: =T33+U33 -> 302231.44 | W33: =+G33*V33 -> 604462.88 | X33: 248644 | Y33: =+X33*0.19 -> 47242.36 | Z33: =+X33+Y33 -> 295886.36 | AA33: =+G33*Z33 -> 591772.72 | AB33: 150000 | AC33: ORQUIDEA | AD33: =+AB33/1.19 -> 126050.42 | AE33: https://www.orquidea.com.co/metalicos
C34: 1.29 | D34: OLLA A PRESIÓN | E34: OLLA A PRESION DE 6 LITROS, FABRICADA EN ALUMINIO DE ALTA CALIDAD, SISTEMA DE APERTURA Y CIERRE CON UN SOLO CLICK, VALVULA DE SEGURIDAD DE 2 POSICIONES, MANGO Y ASA DE ALTA RESISTENCIA. | F34: UN | G34: 2 | H34: 275344 | I34: =H34*19% -> 52315.36 | J34: =H34+I34 -> 327659.36 | K34: =G34*J34 -> 655318.72 | L34: 180124.79 | M34: =L34*19% -> 34223.71 | N34: =L34+M34 -> 214348.5 | O34: =+G34*N34 -> 428697 | P34: 273567 | Q34: =+P34*0.19 -> 51977.73 | R34: =+P34+Q34 -> 325544.73 | S34: =+G34*R34 -> 651089.46 | T34: 284707 | U34: =T34*19% -> 54094.33 | V34: =T34+U34 -> 338801.33 | W34: =+G34*V34 -> 677602.66 | X34: 279736 | Y34: =+X34*0.19 -> 53149.84 | Z34: =+X34+Y34 -> 332885.84 | AA34: =+G34*Z34 -> 665771.68 | AB34: 390000 | AC34: IESA-MA-012-2025/ INSTITUCION EDUCATIVA SANTA ANA12 | AD34: =+AB34/1.19 -> 327731.09 | AE34: https://www.secop.gov.co/CO1BusinessLine/Tendering/ContractNoticeManagement/Index
C35: 1.30 | D35: OLLA A PRESIÓN | E35: OLLA A PRESION ELECTRICA DE 6 LITROS, ESTRUCTURA EN ACERO INOXIDABLE Y RECUBRIMIENTO INTERIOR ANTIADHERENTE, MINIMO 6 SISTEMAS DE SEGURIDAD, CONEXIÓN ELECTRICA A 120V, PANEL DE CONTROL DIGITAL CON MINIMO 13 PROGRAMAS DE COCCIÓN. | F35: UN | G35: 2 | H35: 929711 | I35: =H35*19% -> 176645.09 | J35: =H35+I35 -> 1106356.1 | K35: =G35*J35 -> 2212712.2 | L35: 756176.47 | M35: =L35*19% -> 143673.53 | N35: =L35+M35 -> 899850 | O35: =+G35*N35 -> 1799700 | P35: 894678 | Q35: =+P35*0.19 -> 169988.82 | R35: =+P35+Q35 -> 1064666.8 | S35: =+G35*R35 -> 2129333.6 | T35: 949448 | U35: =T35*19% -> 180395.12 | V35: =T35+U35 -> 1129843.1 | W35: =+G35*V35 -> 2259686.2 | X35: 872449 | Y35: =+X35*0.19 -> 165765.31 | Z35: =+X35+Y35 -> 1038214.3 | AA35: =+G35*Z35 -> 2076428.6 | AB35: 600000 | AC35: UNIVERSAL | AD35: =+AB35/1.19 -> 504201.68 | AE35: https://www.hogaruniversal.com/olla-a-presion-electrica-6l/p?srsltid=AfmBOooz3Ilvo3yt2qGxubq84pB_lfDZepOgRgtk__FKR3T45dCCKDvO
C36: 1.31 | D36: BASE GIRATORIA REDONDA PLÁSTICA | E36: BASE GIRATORIA REDONDA PARA DECORAR, FABRICADA EN PLASTICO RESISTENTE Y CON SUPERFICIE ANTIDESLIZANTE EN LA PARTE SUPERIOR. DIAMETRO MINIMO DE 30 CM. | F36: UN | G36: 2 | H36: 133036 | I36: =H36*19% -> 25276.84 | J36: =H36+I36 -> 158312.84 | K36: =G36*J36 -> 316625.68 | L36: 88107.983 | M36: =L36*19% -> 16740.517 | N36: =L36+M36 -> 104848.5 | O36: =+G36*N36 -> 209697 | P36: 132021 | Q36: =+P36*0.19 -> 25083.99 | R36: =+P36+Q36 -> 157104.99 | S36: =+G36*R36 -> 314209.98 | T36: 135509 | U36: =T36*19% -> 25746.71 | V36: =T36+U36 -> 161255.71 | W36: =+G36*V36 -> 322511.42 | X36: 136054 | Y36: =+X36*0.19 -> 25850.26 | Z36: =+X36+Y36 -> 161904.26 | AA36: =+G36*Z36 -> 323808.52 | AB36: 85918 | AC36: MERCADO LIBRE | AD36: =+AB36/1.19 -> 72200 | AE36: https://www.mercadolibre.com.co/bailarina-base-giratoria-wilton--decoracion-tortas/up/MCOU2430857399?pdp_filters=item_id:MCO802610352
C37: 1.32 | D37: DESFIBRILADOR EXTERNO | E37: DESFIBRILADOR EXTERNO AUTOMATICO, DESCARGA ELECTRICA AUTOMATICA, ENERGÍA DE HASTA 200 JOULES. DEBE PERMITIR OPERACIÓN EN NIÑOS Y ADULTOS. METRONOMO DE FRECUENCIA INCORPORADO Y ELECTRODOS PRECONECTADOS. ALMACENAMIENTO DE MINIMO 1,5 HORAS DE DATOS DE INTERVENCIÓN. BATERÍA DE LARGA DURACIÓN. COMPROBACIÓN AUTOMATICA DEL ESTADO DE LOS ELECTRODOS Y LA BATERÍA. | F37: UN | G37: 1 | H37: 10992317 | I37: =H37*19% -> 2088540.2 | J37: =H37+I37 -> 13080857 | K37: =G37*J37 -> 13080857 | L37: 8010000 | M37: =L37*19% -> 1521900 | N37: =L37+M37 -> 9531900 | O37: =+G37*N37 -> 9531900 | P37: 11702759 | Q37: =+P37*0.19 -> 2223524.2 | R37: =+P37+Q37 -> 13926283 | S37: =+G37*R37 -> 13926283 | T37: 11023569 | U37: =T37*19% -> 2094478.1 | V37: =T37+U37 -> 13118047 | W37: =+G37*V37 -> 13118047 | X37: 10214941 | Y37: =+X37*0.19 -> 1940838.8 | Z37: =+X37+Y37 -> 12155780 | AA37: =+G37*Z37 -> 12155780 | AB37: 9267670 | AD37: =+AB37/1.19 -> 7787958 | AE37: https://www.tecnomedics.com.co/producto/desfibrilador-externo-automatico-fred-pa-1-con-garantia-extendida-a-9-anos/
C38: TOTAL SIBATE | K38: =SUM(K6:K37) -> 65361343 | O38: =SUM(O6:O37) -> 60680142 | S38: =SUM(S6:S37) -> 65789214 | W38: =SUM(W6:W37) -> 65978475 | AA38: =SUM(AA6:AA37) -> 62172916 | AB38: =SUM(AB6:AB37) -> 18679777
C39: 2. SIMIJACA
C40: ITEM | D40: PRODUCTO / SERVICIO | E40: DESCRIPCIÓN PRODUCTO / SERVICIO | F40: UNIDAD DE MEDIDA | G40: CANTIDAD | H40: VALOR UNITARIO SIN IVA | I40: IVA | J40: VALOR UNITARIO CON IVA | K40: VALOR TOTAL (VALOR UNITARIO CON IVA X CANTIDAD) | L40: VALOR UNITARIO SIN IVA | M40: IVA | N40: VALOR UNITARIO CON IVA | O40: VALOR TOTAL (VALOR UNITARIO CON IVA X CANTIDAD) | P40: VALOR UNITARIO SIN IVA | Q40: IVA | R40: VALOR UNITARIO CON IVA | S40: VALOR TOTAL (VALOR UNITARIO CON IVA X CANTIDAD) | T40: VALOR UNITARIO SIN IVA | U40: IVA | V40: VALOR UNITARIO CON IVA | W40: VALOR TOTAL (VALOR UNITARIO CON IVA X CANTIDAD) | X40: VALOR UNITARIO SIN IVA | Y40: IVA | Z40: VALOR UNITARIO CON IVA | AA40: VALOR TOTAL (VALOR UNITARIO CON IVA X CANTIDAD) | AB40: VALOR UNITARIO CON IVA | AC40: PROCESO | AD40: VALOR UNITARIO SIN IVA | AE40: LINK
C41: 2.1 | D41: AVISO EN CAJA PARA FACHADA | E41: AVISO EN CAJA PARA FACHADA DE 2.5 m x 0.75 m. IMPRESO EN BANNER TRASLUCIDO FULL COLOR, LAMINADO RESISTENTE A RAYOS UV. ILUMINACIÓN INTERNA TIPO LED DE ALTA DURABILIDAD, CONEXIÓN ELECTRICA A 110 V. CANTONERAS EN ALUMINIO. SE DEBE INTRAGAR INSTALADO EN SITIO. | F41: UN | G41: 1 | H41: 3806471 | I41: =H41*19% -> 723229.49 | J41: =H41+I41 -> 4529700.5 | K41: =G41*J41 -> 4529700.5 | L41: 2016806.7 | M41: =L41*19% -> 383193.28 | N41: =L41+M41 -> 2400000 | O41: =+G41*N41 -> 2400000 | P41: 3744578 | Q41: =+P41*0.19 -> 711469.82 | R41: =+P41+Q41 -> 4456047.8 | S41: =+G41*R41 -> 4456047.8 | T41: 3642494 | U41: =T41*19% -> 692073.86 | V41: =T41+U41 -> 4334567.9 | W41: =+G41*V41 -> 4334567.9 | X41: 3900235 | Y41: =+X41*0.19 -> 741044.65 | Z41: =+X41+Y41 -> 4641279.7 | AA41: =+G41*Z41 -> 4641279.7 | AB41: =+'[2]ESTUDIO MERCADO'!$J$41 -> 1299998.8 | AD41: =+AB41/1.19 -> 1092436 | AE41: https://www.ayalapublicidad.co/tienda/caja-de-luz-con-lona-panaflex/ | AF41: OK
C42: 2.2 | D42: PLANCHA A VAPOR SEMI-INDUSTRIAL | E42: PLANCHA A VAPOR USO SEMI-INDUSTRIAL, CUERPO EN ACERO INOXIDABLE, TANQUE DE AGUA DE MINIMO 4 LITROS DE ALMACENAMIENTO, SISTEMA DE ANTIGOTEO, CONTROL DE TEMPERATURA MANUAL. INCLUYE: GALON, MANGUERA Y BASE. | F42: UN | G42: 1 | H42: 618098 | I42: =H42*19% -> 117438.62 | J42: =H42+I42 -> 735536.62 | K42: =G42*J42 -> 735536.62 | L42: 520588.24 | M42: =L42*19% -> 98911.765 | N42: =L42+M42 -> 619500 | O42: =+G42*N42 -> 619500 | P42: 587778 | Q42: =+P42*0.19 -> 111677.82 | R42: =+P42+Q42 -> 699455.82 | S42: =+G42*R42 -> 699455.82 | T42: 613829 | U42: =T42*19% -> 116627.51 | V42: =T42+U42 -> 730456.51 | W42: =+G42*V42 -> 730456.51 | X42: 628160 | Y42: =+X42*0.19 -> 119350.4 | Z42: =+X42+Y42 -> 747510.4 | AA42: =+G42*Z42 -> 747510.4 | AB42: 1083199.9 | AC42: MERCADO LIBRE | AD42: =+AB42/1.19 -> 910252 | AE42: https://orduzcolombia.com/producto/es-85af/?srsltid=AfmBOoquQGuwyens6d_qur5GB5xGvbsH9kI0X6NbcgO51Ho53FJNkDJS
C43: 2.3 | D43: CABINA DE SONIDO ACTIVA DE 1000 WATTS | E43: CABINA DE SONIDO ACTIVA DE 1000 WATTS, 2 LINEAS, AMPLIFICADOR CLASED. ASAS ERGONOMICAS PARA COMODO AGARRE. DEBE CONTAR CON PUNTOS DE FIJACIÓN PARA INSTALACIÓN EN MODO SUSPENDIDO. DEBE INCLUIR: 1 SISTEMA DE SOPORTE TIPO TRIPO DE PLEGABLE DE ALUMINIO CON AJUSTE DE ALTURA, 1 MICROFONO ALAMBRICO, CABLE DE PODER Y CABLES PARA SU CORRECTO FUNCIONAMIENTO. | F43: UN | G43: 1 | H43: 3990000 | I43: =H43*19% -> 758100 | J43: =H43+I43 -> 4748100 | K43: =G43*J43 -> 4748100 | L43: 2431512.6 | M43: =L43*19% -> 461987.39 | N43: =L43+M43 -> 2893500 | O43: =+G43*N43 -> 2893500 | P43: 4244254 | Q43: =+P43*0.19 -> 806408.26 | R43: =+P43+Q43 -> 5050662.3 | S43: =+G43*R43 -> 5050662.3 | T43: 4348132 | U43: =T43*19% -> 826145.08 | V43: =T43+U43 -> 5174277.1 | W43: =+G43*V43 -> 5174277.1 | X43: 4084624 | Y43: =+X43*0.19 -> 776078.56 | Z43: =+X43+Y43 -> 4860702.6 | AA43: =+G43*Z43 -> 4860702.6 | AB43: 1929000 | AC43: AUDIOCENTRO | AD43: =+AB43/1.19 -> 1621008.4 | AE43: https://www.audiocentro.com.co/tienda/cabina-activayamaki-de-1000w-parlante/?srsltid=AfmBOooOIWmbeXqhws5MJDqw_zadGsYz5h3xwyMFaXvC_o8cKydpSYbM
C44: 2.4 | D44: VIDEO BEAM | E44: VIDEO BEAM CON RESOLUCIÓN 1024x768, BRILLO MINIMO DE 3300 LUMENES (BLANCO Y COLOR), VIDA UTIL LAMPARA HASTA 12.000 HORAS, PUERTOS: RCA/HDMI/USB/STEREO/RS-232. ALIMENTACION 100v-240v, 50-60HZ, CUENTA CON MODO DE OPERACIÓN PARA DISMINUCIÓN DE CONSUMO ELECTRICO. INCLUYE CONTROL REMOTO. | F44: UN | G44: 1 | H44: 3220336 | I44: =H44*19% -> 611863.84 | J44: =H44+I44 -> 3832199.8 | K44: =G44*J44 -> 3832199.8 | L44: 2475000 | M44: =L44*19% -> 470250 | N44: =L44+M44 -> 2945250 | O44: =+G44*N44 -> 2945250 | P44: 3562886 | Q44: =+P44*0.19 -> 676948.34 | R44: =+P44+Q44 -> 4239834.3 | S44: =+G44*R44 -> 4239834.3 | T44: 3384406 | U44: =T44*19% -> 643037.14 | V44: =T44+U44 -> 4027443.1 | W44: =+G44*V44 -> 4027443.1 | X44: 3303044 | Y44: =+X44*0.19 -> 627578.36 | Z44: =+X44+Y44 -> 3930622.4 | AA44: =+G44*Z44 -> 3930622.4 | AB44: =+'[1]CASA SOCIALES'!$F$44 -> 2580000 | AD44: =+AB44/1.19 -> 2168067.2 | AE44: https://www.exito.com/video-beam-epson-powerlite-e20-3400-lumens-xga-1024x768-101114752-mp/p | AF44: OK
C45: 2.5 | D45: COMPUTADOR PORTÁTIL | E45: COMPUTADOR PORTATIL CON PROCESADOR DE 8 NUCLEOS Y FRECUENCIA DE 3,3 GHZ, MEMORIA RAM DDR4 DE 16 GB, DISCO DE ESTADO SOLIDO DE 512 GB. PANTALLA TACTIL DE MINIMO 15", RESOLUCIÓN FHD (19020 x 1080). TARJETA GRAFICA INTEGRADA. CAMARA CON RESOLUCIÓN MINIMO 1080P. PUERTOS Y/O RANURAS: 1 PUERTO USB-C, 2 PUERTO USB-A, 1 PUERTO HDMI, 1 LECTOR DE TARJETAS SD, 1 TOMA PARA AURICURALES. SISTEMA OPERATIVO WINDOWS 11 EN CUALQUIERA DE SUS VERSIONES. INCLUYE CARGADOR. | F45: UN | G45: 1 | H45: 4063000 | I45: =H45*19% -> 771970 | J45: =H45+I45 -> 4834970 | K45: =G45*J45 -> 4834970 | L45: 2646932.8 | M45: =L45*19% -> 502917.23 | N45: =L45+M45 -> 3149850 | O45: =+G45*N45 -> 3149850 | P45: 3907847 | Q45: =+P45*0.19 -> 742490.93 | R45: =+P45+Q45 -> 4650337.9 | S45: =+G45*R45 -> 4650337.9 | T45: 4049283 | U45: =T45*19% -> 769363.77 | V45: =T45+U45 -> 4818646.8 | W45: =+G45*V45 -> 4818646.8 | X45: 3790962 | Y45: =+X45*0.19 -> 720282.78 | Z45: =+X45+Y45 -> 4511244.8 | AA45: =+G45*Z45 -> 4511244.8 | AB45: 5519730 | AC45: 2025-0365 | AD45: =+AB45/1.19 -> 4638428.6 | AE45: https://www.secop.gov.co/CO1BusinessLine/Tendering/ContractNoticeView/Index?prevCtxLbl=Buscar+procesos&prevCtxUrl=https%3a%2f%2fwww.secop.gov.co%3a443%2fCO1BusinessLine%2fTendering%2fContractNoticeManagement%2fIndex&notice=CO1.NTC.8101210
C46: 2.6 | D46: IMPRESORA MULTIFUNCIONAL | E46: IMPRESORA MULTIFUNCIONAL CON SISTEMA DE IMPRESIÓN DE INYECCIÓN TIPO TANQUE, RESOLUCIÓN DE IMPRESIÓN MINIMA DE 5760X1440 DPI, VELOCIDAD DE IMPRESIÓN DE 33PPM EN NEGRO Y 15PPM A COLOR. RESOLUCIÓN OPTICA PARA COPIAS Y ESCANER DE 600x1200 DPI. CONECTIVIDAD DE ALTA VELOCIDAD USB. COMPATIBILIDAD CON SISTEMAS OPERATIVOS WINDOWS Y MAC. VOLTAJE DE ALIMENTACIÓN DE 110V. DEBE INCLUIR UN JUEGO DE TINTAS DE CADA COLOR (NEGRO, CYAN, MAGENTA, AMARILLO). | F46: UN | G46: 1 | H46: 1474185 | I46: =H46*19% -> 280095.15 | J46: =H46+I46 -> 1754280.1 | K46: =G46*J46 -> 1754280.1 | L46: 2546092.4 | M46: =L46*19% -> 483757.56 | N46: =L46+M46 -> 3029850 | O46: =+G46*N46 -> 3029850 | P46: 1686122 | Q46: =+P46*0.19 -> 320363.18 | R46: =+P46+Q46 -> 2006485.2 | S46: =+G46*R46 -> 2006485.2 | T46: 1526486 | U46: =T46*19% -> 290032.34 | V46: =T46+U46 -> 1816518.3 | W46: =+G46*V46 -> 1816518.3 | X46: 1498029 | Y46: =+X46*0.19 -> 284625.51 | Z46: =+X46+Y46 -> 1782654.5 | AA46: =+G46*Z46 -> 1782654.5 | AB46: 1763580 | AC46: OS-020-2025 / INSTITUCION EDUCATIVA COLEGIO DE SUGAMUXI | AD46: =+AB46/1.19 -> 1482000 | AE46: https://www.secop.gov.co/CO1BusinessLine/Tendering/ContractNoticeManagement/Index | AF46: OK
C47: 2.7 | D47: KIT DE TINTAS GENÉRICAS | E47: KIT DE TINTAS GENERICAS PARA IMPRESORAS DE INYECCIÓN. INCLUYE: 1 LITRO DE TINTA COLOR NEGRO, 1 LITRO DE TINTA COLOR MAGENTA, 1 LITRO DE TINTA COLOR AMARILLA, 1 LITRO DE TINTA COLOR CYAN. | F47: UN | G47: 1 | H47: 173466 | I47: =H47*19% -> 32958.54 | J47: =H47+I47 -> 206424.54 | K47: =G47*J47 -> 206424.54 | L47: 180126.05 | M47: =L47*19% -> 34223.95 | N47: =L47+M47 -> 214350 | O47: =+G47*N47 -> 214350 | P47: 162684 | Q47: =+P47*0.19 -> 30909.96 | R47: =+P47+Q47 -> 193593.96 | S47: =+G47*R47 -> 193593.96 | T47: 175898 | U47: =T47*19% -> 33420.62 | V47: =T47+U47 -> 209318.62 | W47: =+G47*V47 -> 209318.62 | X47: 168572 | Y47: =+X47*0.19 -> 32028.68 | Z47: =+X47+Y47 -> 200600.68 | AA47: =+G47*Z47 -> 200600.68 | AB47: 120000 | AC47: ESE-HLMP-SUM-0753-2025/ ESE HOSPITAL LOCAL MUNICIPIO DE LOS PATIOS | AD47: =+AB47/1.19 -> 100840.34 | AE47: https://www.secop.gov.co/CO1BusinessLine/Tendering/ContractNoticeManagement/Index | AF47: OK
C48: 2.8 | D48: TABLERO ACRÍLICO | E48: TABLERO ACRILICO DE 2.4 m x 1.2 m, ESTRUCTURA DE MINIMO 1 CM DE ESPESOR, FORMICA BRILLANTE DE ALTA DURABILIDAD Y FACIL LIMPIEZA, BORDES EN ALUMINIO. | F48: UN | G48: 1 | H48: 551748 | I48: =H48*19% -> 104832.12 | J48: =H48+I48 -> 656580.12 | K48: =G48*J48 -> 656580.12 | L48: 804303 | M48: =L48*19% -> 152817.57 | N48: =L48+M48 -> 957120.57 | O48: =+G48*N48 -> 957120.57 | P48: 526151 | Q48: =+P48*0.19 -> 99968.69 | R48: =+P48+Q48 -> 626119.69 | S48: =+G48*R48 -> 626119.69 | T48: 593083 | U48: =T48*19% -> 112685.77 | V48: =T48+U48 -> 705768.77 | W48: =+G48*V48 -> 705768.77 | X48: 564590 | Y48: =+X48*0.19 -> 107272.1 | Z48: =+X48+Y48 -> 671862.1 | AA48: =+G48*Z48 -> 671862.1 | AB48: 630000 | AC48: 2025 032 /INSTITUCION EDUCATIVA DE REGENCIA | AD48: =+AB48/1.19 -> 529411.76 | AE48: https://www.secop.gov.co/CO1BusinessLine/Tendering/ContractNoticeManagement/Index
C49: 2.9 | D49: TERMOFIJADORA MULTIUSOS | E49: TERMOFIJADORA MULTIUSOS, PERMITE ESTAMPADO EN DIFERENTES MATERIALES: CERAMICA, VIDRIO, TEXTILES, PLASTICO, CARTON, ALUMINIO Y ACERO. CUENTA CON: 1 ESTAMPADORA DE CAMISETAS, 1 ESTAMPADORA DE GORRAS, 4 SUBLIMADOAS PARA POCILLOS O MUGS, 2 MAQUINAS PARA ESTAMPAR PLATOS. CONTROL DIGITAL DE TIEMPO Y TEMPERATURA, RESISTENCIAS INTERCAMBIABLES. ESTRUCTURA METALICA, RESISTENCIAS EN CAUCHOS SILICONADO, PROTECTORES CON TEFLON. AREA MAXIMA DE ESTAMPACIÓN DE 38 x 29 CM. CONEXIÓN ELECTRICA A 110V. | F49: UN | G49: 1 | H49: 2567274 | I49: =H49*19% -> 487782.06 | J49: =H49+I49 -> 3055056.1 | K49: =G49*J49 -> 3055056.1 | L49: 1865546.2 | M49: =L49*19% -> 354453.78 | N49: =L49+M49 -> 2220000 | O49: =+G49*N49 -> 2220000 | P49: 2493789 | Q49: =+P49*0.19 -> 473819.91 | R49: =+P49+Q49 -> 2967608.9 | S49: =+G49*R49 -> 2967608.9 | T49: 2714089 | U49: =T49*19% -> 515676.91 | V49: =T49+U49 -> 3229765.9 | W49: =+G49*V49 -> 3229765.9 | X49: 2685297 | Y49: =+X49*0.19 -> 510206.43 | Z49: =+X49+Y49 -> 3195503.4 | AA49: =+G49*Z49 -> 3195503.4 | AB49: 1800000 | AC49: MERCADO LIBRE | AD49: =+AB49/1.19 -> 1512605 | AE49: https://articulo.mercadolibre.com.co/MCO-2200834108-termofijadora-multifuncional-11-en-1-freesub-_JM?searchVariation=181672543075#polycard_client=search-nordic&searchVariation=181672543075&search_layout=grid&position=15&type=item&tracking_id=eec4c501-7d3d-48c5-8bc1-06d82a335dfb
C50: 2.10 | D50: LICUADORA DE 2.1 LITROS | E50: LICUADORA DE 2.1 LITROS, POTENCIA DE 1000 W, 4 VELOCIDADES, CUCHILLAS DESMONTABLES, CONEXIÓN ELECTRICA A 110V/120V, BASE ANTIDESLIZANTE. | F50: UN | G50: 1 | H50: 706739 | I50: =H50*19% -> 134280.41 | J50: =H50+I50 -> 841019.41 | K50: =G50*J50 -> 841019.41 | L50: 756176.47 | M50: =L50*19% -> 143673.53 | N50: =L50+M50 -> 899850 | O50: =+G50*N50 -> 899850 | P50: 670920 | Q50: =+P50*0.19 -> 127474.8 | R50: =+P50+Q50 -> 798394.8 | S50: =+G50*R50 -> 798394.8 | T50: 722567 | U50: =T50*19% -> 137287.73 | V50: =T50+U50 -> 859854.73 | W50: =+G50*V50 -> 859854.73 | X50: 722439 | Y50: =+X50*0.19 -> 137263.41 | Z50: =+X50+Y50 -> 859702.41 | AA50: =+G50*Z50 -> 859702.41 | AB50: 408870 | AC50: SIMC-005-2025 / MUNICIPIO DE MARIPI | AD50: =+AB50/1.19 -> 343588.24 | AE50: https://www.secop.gov.co/CO1BusinessLine/Tendering/ContractNoticeManagement/Index
C51: 2.11 | D51: KIT DE TINTAS PARA SUBLIMAR | E51: KIT DE TINTAS PARA SUBLIMAR, INCLUYE: 1 LITRO COLOR AMARILLO, 1 LITRO COLOR CYAN, 1 LITRO COLOR MAGENTA Y 1 LITRO COLOR NEGRO. | F51: UN | G51: 1 | H51: 1196320 | I51: =H51*19% -> 227300.8 | J51: =H51+I51 -> 1423620.8 | K51: =G51*J51 -> 1423620.8 | L51: 1121340 | M51: =L51*19% -> 213054.6 | N51: =L51+M51 -> 1334394.6 | O51: =+G51*N51 -> 1334394.6 | P51: 1180542 | Q51: =+P51*0.19 -> 224302.98 | R51: =+P51+Q51 -> 1404845 | S51: =+G51*R51 -> 1404845 | T51: 1242088 | U51: =T51*19% -> 235996.72 | V51: =T51+U51 -> 1478084.7 | W51: =+G51*V51 -> 1478084.7 | X51: 1175150 | Y51: =+X51*0.19 -> 223278.5 | Z51: =+X51+Y51 -> 1398428.5 | AA51: =+G51*Z51 -> 1398428.5 | AB51: 791999.74 | AC51: MERCADO LIBRE | AD51: =+AB51/1.19 -> 665546 | AE51: https://articulo.mercadolibre.com.co/MCO-590103817-kit-tintas-sublimacion-x-litro-mic-colores-_JM
C52: 2.12 | D52: ARCHIVADOR METÁLICO | E52: ARCHIVADOR METALICO DE 3 GAVETAS, FABRICADO EN LAMINA CALIBRE 24 O SUPERIOR, TERMINACIÓN PINTURA ELECTROESTATICA, CORREDERAS FULL EXTENSION, SISTEMA DE SEGURIDAD CON CHAPA. ALTURA MINIMA DEL MUEBLE DE 1 METRO. | F52: UN | G52: 1 | H52: 1683911 | I52: =H52*19% -> 319943.09 | J52: =H52+I52 -> 2003854.1 | K52: =G52*J52 -> 2003854.1 | L52: 1687815.1 | M52: =L52*19% -> 320684.87 | N52: =L52+M52 -> 2008500 | O52: =+G52*N52 -> 2008500 | P52: 1599863 | Q52: =+P52*0.19 -> 303973.97 | R52: =+P52+Q52 -> 1903837 | S52: =+G52*R52 -> 1903837 | T52: 1697456 | U52: =T52*19% -> 322516.64 | V52: =T52+U52 -> 2019972.6 | W52: =+G52*V52 -> 2019972.6 | X52: 1644037 | Y52: =+X52*0.19 -> 312367.03 | Z52: =+X52+Y52 -> 1956404 | AA52: =+G52*Z52 -> 1956404 | AB52: 2198900 | AC52: 2942211/ EMPRESAS PUBLICAS DE MEDELLIN E.S.P. | AD52: =+AB52/1.19 -> 1847815.1 | AE52: https://www.secop.gov.co/CO1BusinessLine/Tendering/ContractNoticeManagement/Index
C53: 2.13 | D53: SILLA DE LACTANCÍA | E53: SILLA DE LACTANCIA TIPO MECEDORA ACOLCHADA, ESTRUCTURA EN MADERA MACIZA, TELA ANTIFLUIDO DE FACIL LIMPIEZA. ALTURA MINIMA DE 1 METRO. | F53: UN | G53: 1 | H53: 2120748 | I53: =H53*19% -> 402942.12 | J53: =H53+I53 -> 2523690.1 | K53: =G53*J53 -> 2523690.1 | L53: 3767647.1 | M53: =L53*19% -> 715852.94 | N53: =L53+M53 -> 4483500 | O53: =+G53*N53 -> 4483500 | P53: 1999606 | Q53: =+P53*0.19 -> 379925.14 | R53: =+P53+Q53 -> 2379531.1 | S53: =+G53*R53 -> 2379531.1 | T53: 2179377 | U53: =T53*19% -> 414081.63 | V53: =T53+U53 -> 2593458.6 | W53: =+G53*V53 -> 2593458.6 | X53: 2159806 | Y53: =+X53*0.19 -> 410363.14 | Z53: =+X53+Y53 -> 2570169.1 | AA53: =+G53*Z53 -> 2570169.1 | AB53: 1654000 | AC53: MC0102025SUC/ ICBF REGIONAL SUCRE | AD53: =+AB53/1.19 -> 1389916 | AE53: https://articulo.mercadolibre.com.co/MCO-2391911436-silla-mecedora-para-guarderia-sillon-de-lactancia-acolchad-_JM | AF53: OK
C54: 2.14 | D54: VINILO ACRILICO | E54: VINILO ACRILICO EN PRESENTACION DE 4000 GR, VARIEDAD DE COLORES A ELEGIR (AZUL, BLANCO, NEGRO, ROJO, AMARILLO). INCLUYE UN VINILO DE 4000 GR EN ALGUNO DE LOS COLORES INDICADOS. | F54: UN | G54: 20 | H54: 169660 | I54: =H54*19% -> 32235.4 | J54: =H54+I54 -> 201895.4 | K54: =G54*J54 -> 4037908 | L54: 107142.86 | M54: =L54*19% -> 20357.143 | N54: =L54+M54 -> 127500 | O54: =+G54*N54 -> 2550000 | P54: 156480 | Q54: =+P54*0.19 -> 29731.2 | R54: =+P54+Q54 -> 186211.2 | S54: =+G54*R54 -> 3724224 | T54: 174047 | U54: =T54*19% -> 33068.93 | V54: =T54+U54 -> 207115.93 | W54: =+G54*V54 -> 4142318.6 | X54: 167235 | Y54: =+X54*0.19 -> 31774.65 | Z54: =+X54+Y54 -> 199009.65 | AA54: =+G54*Z54 -> 3980193 | AB54: 58310 | AC54: MERCADO LIBRE | AD54: =+AB54/1.19 -> 49000 | AE54: https://www.mercadolibre.com.co/vinilo-acrilico-payasito-4000-g-azul/up/MCOU2437729032
C55: 2.15 | D55: JUEGO DE 3 REPISAS FLOTANTES | E55: JUEGO DE 3 REPISAS FLOTANTES PARA DECORACIÓN, FABRICADAS EN MELAMINA AGLOMERADA DE 1,5 CM, CAPACIDAD DE CARGA DE HASTA 3 KG. USO INTERIOR. DIMENSIONES: 50 CM x 15 CM x 1.5 CM. | F55: UN | G55: 3 | H55: 106037 | I55: =H55*19% -> 20147.03 | J55: =H55+I55 -> 126184.03 | K55: =G55*J55 -> 378552.09 | L55: 123529.41 | M55: =L55*19% -> 23470.588 | N55: =L55+M55 -> 147000 | O55: =+G55*N55 -> 441000 | P55: 100210 | Q55: =+P55*0.19 -> 19039.9 | R55: =+P55+Q55 -> 119249.9 | S55: =+G55*R55 -> 357749.7 | T55: 111681 | U55: =T55*19% -> 21219.39 | V55: =T55+U55 -> 132900.39 | W55: =+G55*V55 -> 398701.17 | X55: 105833 | Y55: =+X55*0.19 -> 20108.27 | Z55: =+X55+Y55 -> 125941.27 | AA55: =+G55*Z55 -> 377823.81 | AB55: 322616.4 | AC55: MC-36-2021/ Rama Judicial – Dirección Seccional de Administración Judicial de Cartagena | AD55: =+AB55/1.19 -> 271106.22 | AE55: https://www.secop.gov.co/CO1BusinessLine/Tendering/ContractNoticeManagement/Index | AH55: =+((235124*13.12%)+235124) -> 265972.27 | AI55: =+((AH55*9.28%)+AH55) -> 290654.5 | AJ55: =+((AI55*5.2%)+AI55) -> 305768.53 | AK55: =+((AJ55*5.51%)+AJ55) -> 322616.38
C56: 2.16 | D56: MESA PLEGABLE PLÁSTICA TIPO MALETÍN | E56: MESA PLEGABLE PLASTICA TIPO MALETIN, ESTRUCTURA EN ACERO, TABLERO EN POLIETILENO DE ALTA DENSIDAD, DIMENSIONES MINIMAS DE 180 CM DE LARGO Y 70 CM DE ANCHO | F56: UN | G56: 6 | H56: 348700 | I56: =H56*19% -> 66253 | J56: =H56+I56 -> 414953 | K56: =G56*J56 -> 2489718 | L56: 277184.87 | M56: =L56*19% -> 52665.126 | N56: =L56+M56 -> 329850 | O56: =+G56*N56 -> 1979100 | P56: 350928 | Q56: =+P56*0.19 -> 66676.32 | R56: =+P56+Q56 -> 417604.32 | S56: =+G56*R56 -> 2505625.9 | T56: 332517 | U56: =T56*19% -> 63178.23 | V56: =T56+U56 -> 395695.23 | W56: =+G56*V56 -> 2374171.4 | X56: 326266 | Y56: =+X56*0.19 -> 61990.54 | Z56: =+X56+Y56 -> 388256.54 | AA56: =+G56*Z56 -> 2329539.2 | AB56: 306000 | AC56: 2025-0365 | AD56: =+AB56/1.19 -> 257142.86 | AE56: https://www.secop.gov.co/CO1BusinessLine/Tendering/ContractNoticeView/Index?prevCtxLbl=Buscar+procesos&prevCtxUrl=https%3a%2f%2fwww.secop.gov.co%3a443%2fCO1BusinessLine%2fTendering%2fContractNoticeManagement%2fIndex&notice=CO1.NTC.8101210
C57: 2.17 | D57: TRLAR PARA MOSTACILLA | E57: TELAR PARA MOSTACILLA,EXPANSIBLE HASTA 45 CM, BASE COMPACTA PARA SU TRANSPORTE, SISTEMA CON RESORTE PARA ASEGURAR TENSIÓN UNIFORME. DIMENSIONES APROXIMADAS: 31 CM x 21 CM X 6 CM | F57: UN | G57: 5 | H57: 170385 | I57: =H57*19% -> 32373.15 | J57: =H57+I57 -> 202758.15 | K57: =G57*J57 -> 1013790.8 | L57: 70588.235 | M57: =L57*19% -> 13411.765 | N57: =L57+M57 -> 84000 | O57: =+G57*N57 -> 420000 | P57: 168045 | Q57: =+P57*0.19 -> 31928.55 | R57: =+P57+Q57 -> 199973.55 | S57: =+G57*R57 -> 999867.75 | T57: 175826 | U57: =T57*19% -> 33406.94 | V57: =T57+U57 -> 209232.94 | W57: =+G57*V57 -> 1046164.7 | X57: 167626 | Y57: =+X57*0.19 -> 31848.94 | Z57: =+X57+Y57 -> 199474.94 | AA57: =+G57*Z57 -> 997374.7 | AB57: 90440 | AC57: MERCADO LIBRE | AD57: =+AB57/1.19 -> 76000 | AE57: https://www.mercadolibre.com.co/telar-mostacilla-telar-bisuteria-con-bandeja/up/MCOU2433331820
C58: 2.18 | D58: JUEGO DE 12 PINCELES | E58: JUEGO DE 12 PINCELES DE CERDA PLANA. INCLUYE: 1 PINCEL DE CADA NUMERO DEL #1 AL #12. | F58: UN | G58: 10 | H58: 59816 | I58: =H58*19% -> 11365.04 | J58: =H58+I58 -> 71181.04 | K58: =G58*J58 -> 711810.4 | L58: 56722.689 | M58: =L58*19% -> 10777.311 | N58: =L58+M58 -> 67500 | O58: =+G58*N58 -> 675000 | P58: 57033 | Q58: =+P58*0.19 -> 10836.27 | R58: =+P58+Q58 -> 67869.27 | S58: =+G58*R58 -> 678692.7 | T58: 62820 | U58: =T58*19% -> 11935.8 | V58: =T58+U58 -> 74755.8 | W58: =+G58*V58 -> 747558 | X58: 60980 | Y58: =+X58*0.19 -> 11586.2 | Z58: =+X58+Y58 -> 72566.2 | AA58: =+G58*Z58 -> 725662 | AB58: 34548.08 | AD58: =+AB58/1.19 -> 29032 | AE58: https://tienda.gioto.com.co/brochas/pinceles/juego-pincel-de-cerda-plano-x-12-rf-579-12
C59: 2.19 | D59: CABALLETE PLEGABLE PARA PINTURA | E59: CABALLETE PLEGABLE PARA PINTURA O EXPOSICIONES, SOPORTE DE BASTIDORES HASTA DE 15 KG, REPISA REGULABLE. FABRICADO EN PINO. ALTURA MAXIMA DE 1.6 METROS. | F59: UN | G59: 5 | H59: 262827 | I59: =H59*19% -> 49937.13 | J59: =H59+I59 -> 312764.13 | K59: =G59*J59 -> 1563820.6 | L59: 403361.34 | M59: =L59*19% -> 76638.655 | N59: =L59+M59 -> 480000 | O59: =+G59*N59 -> 2400000 | P59: 245769 | Q59: =+P59*0.19 -> 46696.11 | R59: =+P59+Q59 -> 292465.11 | S59: =+G59*R59 -> 1462325.5 | T59: 279594 | U59: =T59*19% -> 53122.86 | V59: =T59+U59 -> 332716.86 | W59: =+G59*V59 -> 1663584.3 | X59: 230906 | Y59: =+X59*0.19 -> 43872.14 | Z59: =+X59+Y59 -> 274778.14 | AA59: =+G59*Z59 -> 1373890.7 | AB59: 304623 | AC59: MERCADO LIBRE | AD59: =+AB59/1.19 -> 255985.71 | AE59: https://listado.mercadolibre.com.co/caballete-para-pintar
C60: 2.20 | D60: BASTIDOR LIENZO DE 40 CM x 50 CM | E60: BASTIDOR LIENZO DE 40 CM x 50 CM, ARMAZON EN MADERA Y LIENZO 100% EN ALGODÓN BLANQUEADO. | F60: UN | G60: 5 | H60: 83380 | I60: =H60*19% -> 15842.2 | J60: =H60+I60 -> 99222.2 | K60: =G60*J60 -> 496111 | L60: 43991.597 | M60: =L60*19% -> 8358.4034 | N60: =L60+M60 -> 52350 | O60: =+G60*N60 -> 261750 | P60: 80392 | Q60: =+P60*0.19 -> 15274.48 | R60: =+P60+Q60 -> 95666.48 | S60: =+G60*R60 -> 478332.4 | T60: 86394 | U60: =T60*19% -> 16414.86 | V60: =T60+U60 -> 102808.86 | W60: =+G60*V60 -> 514044.3 | X60: 85003 | Y60: =+X60*0.19 -> 16150.57 | Z60: =+X60+Y60 -> 101153.57 | AA60: =+G60*Z60 -> 505767.85 | AB60: 30000 | AC60: MERCADO LIBRE | AD60: =+AB60/1.19 -> 25210.084 | AE60: https://www.mercadolibre.com.co/bastidor-lienzo-40-x-50-cm-algodon-ideal-para-pintura/p/MCO39431756#polycard_client=search-nordic&search_layout=grid&position=4&type=product&tracking_id=e27d0bcf-de42-498c-a641-c5d087cb8970&wid=MCO2794956890&sid=search
C61: 2.21 | D61: KIT DE MOSTACILLA CHECA #10 | E61: KIT DE MOSTACILLA CHECA #10, INCLUYE: MOSTACILLA CALIBRADA #10 DE 15 COLORES (12 GRAMOS DE CADA COLOR), ROLLO DE HILO NEGRO PARA BISUTERIA, ROLLO DE HILO BLANCO PARA BISUTERIA, 10 AGUJAS LARGAS MOSTACILLERA #100, 10 AGUJAS CORTAS MOSTACILLERA #10. | F61: UN | G61: 5 | H61: 191456 | I61: =H61*19% -> 36376.64 | J61: =H61+I61 -> 227832.64 | K61: =G61*J61 -> 1139163.2 | L61: 88865.546 | M61: =L61*19% -> 16884.454 | N61: =L61+M61 -> 105750 | O61: =+G61*N61 -> 528750 | P61: 179264 | Q61: =+P61*0.19 -> 34060.16 | R61: =+P61+Q61 -> 213324.16 | S61: =+G61*R61 -> 1066620.8 | T61: 191331 | U61: =T61*19% -> 36352.89 | V61: =T61+U61 -> 227683.89 | W61: =+G61*V61 -> 1138419.5 | X61: 194325 | Y61: =+X61*0.19 -> 36921.75 | Z61: =+X61+Y61 -> 231246.75 | AA61: =+G61*Z61 -> 1156233.8 | AB61: 70500 | AC61: MERCADO LIBRE | AD61: =+AB61/1.19 -> 59243.697 | AE61: https://articulo.mercadolibre.com.co/MCO-1333869023-kit-de-mostacilla-15-colores-2-hilos-agujas-_JM?searchVariation=179702057883#is_advertising=true&searchVariation=179702057883&backend_model=search-backend&position=2&search_layout=grid&type=pad&tracking_id=81bff339-3ff9-4cb1-8280-3a2a06e58759&is_advertising=true&ad_domain=VQCATCORE_LST&ad_position=2&ad_click_id=NmY4ZGVmMzEtZDY2MC00MzJiLTk2NTktMmE2Yzc1OGQwOGVl
C62: 2.22 | D62: KIT DE 22 AGUJAS PARA CROCHET | E62: KIT DE 22 AGUJAS PARA CROCHET, FABRICADAS EN ACERO INOXIDABLE. INCLUYE: 1 AGUJA DE CADA UNO DE LOS SIGUIENTES DIAMETROS: 2.0 MM, 2.5 MM, 3.0 MM, 3.5 MM, 4.0 MM, 4.5 MM, 5.0 MM, 5.5 MM, 6.0 MM, 6.5 MM, 0.75 MM, 0.90 MM, 1.0 MM, 1.10 MM, 1.25 MM, 1.40 MM, 1.50 MM, 1.60 MM, 1.75 MM, 1.80 MM, 1.90 MM, 2.00 MM. | F62: UN | G62: 10 | H62: 73637 | I62: =H62*19% -> 13991.03 | J62: =H62+I62 -> 87628.03 | K62: =G62*J62 -> 876280.3 | L62: 72983.193 | M62: =L62*19% -> 13866.807 | N62: =L62+M62 -> 86850 | O62: =+G62*N62 -> 868500 | P62: 70936 | Q62: =+P62*0.19 -> 13477.84 | R62: =+P62+Q62 -> 84413.84 | S62: =+G62*R62 -> 844138.4 | T62: 76887 | U62: =T62*19% -> 14608.53 | V62: =T62+U62 -> 91495.53 | W62: =+G62*V62 -> 914955.3 | X62: 75878 | Y62: =+X62*0.19 -> 14416.82 | Z62: =+X62+Y62 -> 90294.82 | AA62: =+G62*Z62 -> 902948.2 | AB62: 60000 | AC62: ARTES DE OLGA | AD62: =+AB62/1.19 -> 50420.168 | AE62: https://artesdeolga.com/product/set-22-agujas-de-crochet-estuche-organizador/?srsltid=AfmBOoqdiOt0mNDH-Vbzgvggaq_mHmgWEcOLGht4-pztGCtEYtf-nWUe
C63: 2.23 | D63: PAÑO DE 22 AGUJAS | E63: PAÑO DE 22 AGUJAS PARA MOSTACILLA #10, ULTRADELGADA. | F63: UN | G63: 10 | H63: 8157 | I63: =H63*19% -> 1549.83 | J63: =H63+I63 -> 9706.83 | K63: =G63*J63 -> 97068.3 | L63: 18907.563 | M63: =L63*19% -> 3592.437 | N63: =L63+M63 -> 22500 | O63: =+G63*N63 -> 225000 | P63: 8081 | Q63: =+P63*0.19 -> 1535.39 | R63: =+P63+Q63 -> 9616.39 | S63: =+G63*R63 -> 96163.9 | T63: 8460 | U63: =T63*19% -> 1607.4 | V63: =T63+U63 -> 10067.4 | W63: =+G63*V63 -> 100674 | X63: 8465 | Y63: =+X63*0.19 -> 1608.35 | Z63: =+X63+Y63 -> 10073.35 | AA63: =+G63*Z63 -> 100733.5 | AB63: 11000 | AC63: MERCADO LIBRE | AD63: =+AB63/1.19 -> 9243.6975 | AE63: https://articulo.mercadolibre.com.co/MCO-2274855184-aguja-mostacilla-100-por-25-unidades-_JM?searchVariation=182146355129#polycard_client=search-nordic&searchVariation=182146355129&search_layout=grid&position=3&type=item&tracking_id=91be8068-a150-4185-9494-161a63f1fe6b
C64: 2.24 | D64: SET DE 20 BROCHES DE 16 mm | E64: SET DE 20 BROCHES DE 16 MM PARA PULSERAS Y/O COLLARES CON CIERRE MAGNETICO, ACABADO EN ACERO INOXIDABLE. | F64: UN | G64: 25 | H64: 190324 | I64: =H64*19% -> 36161.56 | J64: =H64+I64 -> 226485.56 | K64: =G64*J64 -> 5662139 | L64: 54201.681 | M64: =L64*19% -> 10298.319 | N64: =L64+M64 -> 64500 | O64: =+G64*N64 -> 1612500 | P64: 177525 | Q64: =+P64*0.19 -> 33729.75 | R64: =+P64+Q64 -> 211254.75 | S64: =+G64*R64 -> 5281368.8 | T64: 199692 | U64: =T64*19% -> 37941.48 | V64: =T64+U64 -> 237633.48 | W64: =+G64*V64 -> 5940837 | X64: 188831 | Y64: =+X64*0.19 -> 35877.89 | Z64: =+X64+Y64 -> 224708.89 | AA64: =+G64*Z64 -> 5617722.2 | AB64: 94998.89 | AC64: MERCADO LIBRE | AD64: =+AB64/1.19 -> 79831 | AE64: https://www.mercadolibre.com.co/juego-de-20-broches-magneticos-cierre-magnetico-de-bolsa/up/MCOU2419290016
C65: 2.25 | D65: KIT DE BROCHES TIPO PICOLORO | E65: KIT DE BROCHES TIPO PICOLORO PARA PULSARAS Y/O COLLARES, FABRICADOS EN ACERO INOXIDABLE. INCLUYE: 20 BROCHES DE 9 MM, 20 BROCHES DE 10 MM, 20 BROCHES DE 11 MM, Y 20 BROCHES DE 12 MM. | F65: UN | G65: 10 | H65: 77761 | I65: =H65*19% -> 14774.59 | J65: =H65+I65 -> 92535.59 | K65: =G65*J65 -> 925355.9 | L65: 352941.18 | M65: =L65*19% -> 67058.824 | N65: =L65+M65 -> 420000 | O65: =+G65*N65 -> 4200000 | P65: 74817 | Q65: =+P65*0.19 -> 14215.23 | R65: =+P65+Q65 -> 89032.23 | S65: =+G65*R65 -> 890322.3 | T65: 80081 | U65: =T65*19% -> 15215.39 | V65: =T65+U65 -> 95296.39 | W65: =+G65*V65 -> 952963.9 | X65: 77835 | Y65: =+X65*0.19 -> 14788.65 | Z65: =+X65+Y65 -> 92623.65 | AA65: =+G65*Z65 -> 926236.5 | AB65: 110000 | AC65: BIDECOL | AD65: =+AB65/1.19 -> 92436.975 | AE65: https://bidecol.me/producto/herraje-tipo-broche-picoloro-en-acero-plateado
C66: 2.26 | D66: GUATA DE 200 GM | E66: GUATA DE 200 GM, ANCHO DE 1.5 METROS | F66: ML | G66: 30 | H66: 31041 | I66: =H66*19% -> 5897.79 | J66: =H66+I66 -> 36938.79 | K66: =G66*J66 -> 1108163.7 | L66: 41974.79 | M66: =L66*19% -> 7975.2101 | N66: =L66+M66 -> 49950 | O66: =+G66*N66 -> 1498500 | P66: 29241 | Q66: =+P66*0.19 -> 5555.79 | R66: =+P66+Q66 -> 34796.79 | S66: =+G66*R66 -> 1043903.7 | T66: 31848 | U66: =T66*19% -> 6051.12 | V66: =T66+U66 -> 37899.12 | W66: =+G66*V66 -> 1136973.6 | X66: 31991 | Y66: =+X66*0.19 -> 6078.29 | Z66: =+X66+Y66 -> 38069.29 | AA66: =+G66*Z66 -> 1142078.7 | AB66: 33000 | AC66: MERCADO LIBRE | AD66: =+AB66/1.19 -> 27731.092 | AE66: https://articulo.mercadolibre.com.ar/MLA-1620346806-guata-200-gramos-x-rollo-7mts-largo-x-15mts-ancho-pf-20-_JM
C67: 2.27 | D67: TELA LIENZO 100% ALGODÓN | E67: TELA LIENZO 100% ALGODÓN, DIMENSIONES: 180 CM x 100 CM. | F67: UN | G67: 30 | H67: 111022 | I67: =H67*19% -> 21094.18 | J67: =H67+I67 -> 132116.18 | K67: =G67*J67 -> 3963485.4 | L67: 24957.983 | M67: =L67*19% -> 4742.0168 | N67: =L67+M67 -> 29700 | O67: =+G67*N67 -> 891000 | P67: 106037 | Q67: =+P67*0.19 -> 20147.03 | R67: =+P67+Q67 -> 126184.03 | S67: =+G67*R67 -> 3785520.9 | T67: 111314 | U67: =T67*19% -> 21149.66 | V67: =T67+U67 -> 132463.66 | W67: =+G67*V67 -> 3973909.8 | X67: 116022 | Y67: =+X67*0.19 -> 22044.18 | Z67: =+X67+Y67 -> 138066.18 | AA67: =+G67*Z67 -> 4141985.4 | AB67: 31000 | AC67: 314-CPMSSM-11-2025 /EPMSC SANTA MARTA | AD67: =+AB67/1.19 -> 26050.42 | AE67: https://www.secop.gov.co/CO1BusinessLine/Tendering/ContractNoticeManagement/Index
C68: 2.28 | D68: HILO APTAN CALIBRE 60, COLOR BLANCO | E68: HILO APTAN CALIBRE 60, COLOR BLANCO. PAQUETE DE 7.500 METROS. | F68: UN | G68: 10 | H68: 217513 | I68: =H68*19% -> 41327.47 | J68: =H68+I68 -> 258840.47 | K68: =G68*J68 -> 2588404.7 | L68: 15126.05 | M68: =L68*19% -> 2873.9496 | N68: =L68+M68 -> 18000 | O68: =+G68*N68 -> 180000 | P68: 215166 | Q68: =+P68*0.19 -> 40881.54 | R68: =+P68+Q68 -> 256047.54 | S68: =+G68*R68 -> 2560475.4 | T68: 223554 | U68: =T68*19% -> 42475.26 | V68: =T68+U68 -> 266029.26 | W68: =+G68*V68 -> 2660292.6 | X68: 218622 | Y68: =+X68*0.19 -> 41538.18 | Z68: =+X68+Y68 -> 260160.18 | AA68: =+G68*Z68 -> 2601601.8 | AB68: 10000 | AC68: BIDECOL | AD68: =+AB68/1.19 -> 8403.3613 | AE68: https://bidecol.me/producto/hilo-aptan-60-blanco | AF68: OK
C69: 2.29 | D69: OVILLO DE HILO MACRAMÉ 100% ACRILICO | E69: OVILLO DE HILO MACRAMÉ 100% ACRILICO, GROSOR DE 2 mm, PRESENTACIÓN DE OVILLO POR 100 GRAMOS. VARIEDAD DE COLORES A ELEGIR. | F69: UN | G69: 30 | H69: 31268 | I69: =H69*19% -> 5940.92 | J69: =H69+I69 -> 37208.92 | K69: =G69*J69 -> 1116267.6 | L69: 13500 | M69: =L69*19% -> 2565 | N69: =L69+M69 -> 16065 | O69: =+G69*N69 -> 481950 | P69: 30768 | Q69: =+P69*0.19 -> 5845.92 | R69: =+P69+Q69 -> 36613.92 | S69: =+G69*R69 -> 1098417.6 | T69: 32588 | U69: =T69*19% -> 6191.72 | V69: =T69+U69 -> 38779.72 | W69: =+G69*V69 -> 1163391.6 | X69: 32076 | Y69: =+X69*0.19 -> 6094.44 | Z69: =+X69+Y69 -> 38170.44 | AA69: =+G69*Z69 -> 1145113.2 | AB69: 32518 | AC69: MERCADO LIBRE | AD69: =+AB69/1.19 -> 27326.05 | AE69: https://articulo.mercadolibre.com.co/MCO-808395190-hilo-macrame-100-acrilico-2mm-grosor-kit-9-ovillos-x100gr-_JM?searchVariation=173649054662#is_advertising=true&searchVariation=173649054662&backend_model=search-backend&position=1&search_layout=grid&type=pad&tracking_id=c5aea8d6-082d-49af-b19b-9ac38898986f&is_advertising=true&ad_domain=VQCATCORE_LST&ad_position=1&ad_click_id=YzA2MDU5OGUtYWQ4NS00MDZlLTk5MDYtZmI4ZjYzNDFjNDRl
C70: TOTAL SIMIJACA | K70: =SUM(K41:K69) -> 59313071 | O70: =SUM(O41:O69) -> 46368715 | S70: =SUM(S41:S69) -> 58250504 | W70: =SUM(W41:W69) -> 60867093 | AA70: =SUM(AA41:AA69) -> 59351589 | AB70: =SUM(AB41:AB69) -> 23378833
C71: 3. CAQUEZA
C72: ITEM | D72: PRODUCTO / SERVICIO | E72: DESCRIPCIÓN PRODUCTO / SERVICIO | F72: UNIDAD DE MEDIDA | G72: CANTIDAD | H72: VALOR UNITARIO SIN IVA | I72: IVA | J72: VALOR UNITARIO CON IVA | K72: VALOR TOTAL (VALOR UNITARIO CON IVA X CANTIDAD) | L72: VALOR UNITARIO SIN IVA | M72: IVA | N72: VALOR UNITARIO CON IVA | O72: VALOR TOTAL (VALOR UNITARIO CON IVA X CANTIDAD) | P72: VALOR UNITARIO SIN IVA | Q72: IVA | R72: VALOR UNITARIO CON IVA | S72: VALOR TOTAL (VALOR UNITARIO CON IVA X CANTIDAD) | T72: VALOR UNITARIO SIN IVA | U72: IVA | V72: VALOR UNITARIO CON IVA | W72: VALOR TOTAL (VALOR UNITARIO CON IVA X CANTIDAD) | X72: VALOR UNITARIO SIN IVA | Y72: IVA | Z72: VALOR UNITARIO CON IVA | AA72: VALOR TOTAL (VALOR UNITARIO CON IVA X CANTIDAD) | AB72: VALOR UNITARIO CON IVA | AC72: PROCESO | AD72: VALOR UNITARIO SIN IVA | AE72: LINK
C73: 3.1. | D73: VIDEO BEAM CON RESOLUCIÓN 1024x768 | E73: VIDEO BEAM CON RESOLUCIÓN 1024x768, BRILLO MINIMO DE 3300 LUMENES (BLANCO Y COLOR), VIDA UTIL LAMPARA HASTA 12.000 HORAS, PUERTOS: RCA/HDMI/USB/STEREO/RS-232. ALIMENTACION 100v-240v, 50-60HZ, CUENTA CON MODO DE OPERACIÓN PARA DISMINUCIÓN DE CONSUMO ELECTRICO. INCLUYE CONTROL REMOTO. | F73: UN | G73: 1 | H73: 3220336 | I73: =H73*19% -> 611863.84 | J73: =H73+I73 -> 3832199.8 | K73: =G73*J73 -> 3832199.8 | L73: 3700065.1 | M73: =L73*19% -> 703012.37 | N73: =L73+M73 -> 4403077.5 | O73: =+G73*N73 -> 4403077.5 | P73: 3562886 | Q73: =+P73*0.19 -> 676948.34 | R73: =+P73+Q73 -> 4239834.3 | S73: =+G73*R73 -> 4239834.3 | T73: 3384406 | U73: =T73*19% -> 643037.14 | V73: =T73+U73 -> 4027443.1 | W73: =+G73*V73 -> 4027443.1 | X73: 3303044 | Y73: =+X73*0.19 -> 627578.36 | Z73: =+X73+Y73 -> 3930622.4 | AA73: =+G73*Z73 -> 3930622.4 | AB73: 3500000 | AC73: 20-2025/ I E MONTECARLO - GUILLERMO GAVIRIA CORREA | AD73: =+AB73/1.19 -> 2941176.5 | AE73: https://www.secop.gov.co/CO1BusinessLine/Tendering/ContractNoticeManagement/Index | AF73: OK
C74: 3.2 | D74: COMPUTADOR DE ESCRITORIO | E74: COMPUTADOR DE ESCRITORIO CON PROCESADOR MINIMO DE 8 NUCLEOS Y 3,4GHz DE FRECUENCIA DE RELOJ, MEMORIA RAM DDR4 DE 16 GB, 1 DISCO DURO HDD DE 1 TB Y 1 DISCO DURO SDD DE 512 GB, CON TARJETA GRAFICA Y TARJETA DE RED 100/1000 Y CONEXIÓN WIFI, SISTEMA OPERATIVO WINDOWS 10 O SUPERIOR EN LA VERSION PRO, MONITOR CON RESOLUCIÓN FULL HD Y TAMAÑO MINIMO DE 21". TECLADO Y MOUSE ESTANDAR CON CONEXIÓN USB. EL EQUIPO SE DEBE ENTREGAR TOTALMENTE ENSAMBLADO Y FUNCIONANDO. CPU, MONITOR, MOUSE Y TECLADO DEBEN SER COMPATIBLES Y DEL MISMO FABRICANTE. SE DEBE INCLUIR DISPOSITIVO EXTERNO PARA CONEXIÓN ELECTRICA CON SUPRESIÓN DE PICOS. | F74: UN | G74: 2 | H74: 3937368 | I74: =H74*19% -> 748099.92 | J74: =H74+I74 -> 4685467.9 | K74: =G74*J74 -> 9370935.8 | L74: 5555400 | M74: =L74*19% -> 1055526 | N74: =L74+M74 -> 6610926 | O74: =+G74*N74 -> 13221852 | P74: 4348849 | Q74: =+P74*0.19 -> 826281.31 | R74: =+P74+Q74 -> 5175130.3 | S74: =+G74*R74 -> 10350261 | T74: 4048272 | U74: =T74*19% -> 769171.68 | V74: =T74+U74 -> 4817443.7 | W74: =+G74*V74 -> 9634887.4 | X74: 4087929 | Y74: =+X74*0.19 -> 776706.51 | Z74: =+X74+Y74 -> 4864635.5 | AA74: =+G74*Z74 -> 9729271 | AB74: 4980000 | AC74: AN-21-2025 /COLEGIO ANTONIO GARCIA I.E.D | AD74: =+AB74/1.19 -> 4184873.9 | AE74: https://www.secop.gov.co/CO1BusinessLine/Tendering/ContractNoticeManagement/Index
C75: 3.3 | D75: IMPRESORA MULTIFUNCIONAL | E75: IMPRESORA MULTIFUNCIONAL CON SISTEMA DE IMPRESIÓN DE INYECCIÓN TIPO TANQUE, RESOLUCIÓN DE IMPRESIÓN MINIMA DE 5760X1440 DPI, VELOCIDAD DE IMPRESIÓN DE 33PPM EN NEGRO Y 15PPM A COLOR. RESOLUCIÓN OPTICA PARA COPIAS Y ESCANER DE 600x1200 DPI. CONECTIVIDAD DE ALTA VELOCIDAD USB. COMPATIBILIDAD CON SISTEMAS OPERATIVOS WINDOWS Y MAC. VOLTAJE DE ALIMENTACIÓN DE 110V. DEBE INCLUIR UN JUEGO DE TINTAS DE CADA COLOR (NEGRO, CYAN, MAGENTA, AMARILLO). | F75: UN | G75: 1 | H75: 1474185 | I75: =H75*19% -> 280095.15 | J75: =H75+I75 -> 1754280.1 | K75: =G75*J75 -> 1754280.1 | L75: 1586974.8 | M75: =L75*19% -> 301525.21 | N75: =L75+M75 -> 1888500 | O75: =+G75*N75 -> 1888500 | P75: 1686122 | Q75: =+P75*0.19 -> 320363.18 | R75: =+P75+Q75 -> 2006485.2 | S75: =+G75*R75 -> 2006485.2 | T75: 1526486 | U75: =T75*19% -> 290032.34 | V75: =T75+U75 -> 1816518.3 | W75: =+G75*V75 -> 1816518.3 | X75: 1498029 | Y75: =+X75*0.19 -> 284625.51 | Z75: =+X75+Y75 -> 1782654.5 | AA75: =+G75*Z75 -> 1782654.5 | AB75: 1763580 | AC75: OS-020-2025 / INSTITUCION EDUCATIVA COLEGIO DE SUGAMUXI | AD75: =+AB75/1.19 -> 1482000 | AE75: https://www.secop.gov.co/CO1BusinessLine/Tendering/ContractNoticeManagement/Index | AF75: OK
C76: 3.4 | D76: SILLA PLÁSTICA CON BRAZOS | E76: SILLA PLÁSTICA CON BRAZOS, RESISTENCIA MINIMA DE 115 KILOS. MEDIDAS APROXIMADAS DE 57 x 60 x 80 CM. COLOR BLANCO O CAFE. | F76: UN | G76: 40 | H76: 75571 | I76: =H76*19% -> 14358.49 | J76: =H76+I76 -> 89929.49 | K76: =G76*J76 -> 3597179.6 | L76: 75504.202 | M76: =L76*19% -> 14345.798 | N76: =L76+M76 -> 89850 | O76: =+G76*N76 -> 3594000 | P76: 88777 | Q76: =+P76*0.19 -> 16867.63 | R76: =+P76+Q76 -> 105644.63 | S76: =+G76*R76 -> 4225785.2 | T76: 76923 | U76: =T76*19% -> 14615.37 | V76: =T76+U76 -> 91538.37 | W76: =+G76*V76 -> 3661534.8 | X76: 77771 | Y76: =+X76*0.19 -> 14776.49 | Z76: =+X76+Y76 -> 92547.49 | AA76: =+G76*Z76 -> 3701899.6 | AB76: 89930 | AC76: 2025-0365 | AD76: =+AB76/1.19 -> 75571.429 | AE76: https://www.secop.gov.co/CO1BusinessLine/Tendering/ContractNoticeView/Index?prevCtxLbl=Buscar+procesos&prevCtxUrl=https%3a%2f%2fwww.secop.gov.co%3a443%2fCO1BusinessLine%2fTendering%2fContractNoticeManagement%2fIndex&notice=CO1.NTC.8101210
C77: 3.5 | D77: MESA PLÁSTICA DE 4 PUESTOS | E77: MESA PLÁSTICA DE 4 PUESTOS, MEDIDAS APROXIMADAS DE 80 x 80 x 72 CM. COLOR BLANCO O CAFÉ. | F77: UN | G77: 10 | H77: 231765 | I77: =H77*19% -> 44035.35 | J77: =H77+I77 -> 275800.35 | K77: =G77*J77 -> 2758003.5 | L77: 176344.54 | M77: =L77*19% -> 33505.462 | N77: =L77+M77 -> 209850 | O77: =+G77*N77 -> 2098500 | P77: 266769 | Q77: =+P77*0.19 -> 50686.11 | R77: =+P77+Q77 -> 317455.11 | S77: =+G77*R77 -> 3174551.1 | T77: 245747 | U77: =T77*19% -> 46691.93 | V77: =T77+U77 -> 292438.93 | W77: =+G77*V77 -> 2924389.3 | X77: 232709 | Y77: =+X77*0.19 -> 44214.71 | Z77: =+X77+Y77 -> 276923.71 | AA77: =+G77*Z77 -> 2769237.1 | AB77: 190281 | AC77: ALKOSTO | AD77: =+AB77/1.19 -> 159900 | AE77: https://www.alkosto.com/mesa-rimax-eterna-wengue/p/7705152078046 | AF77: OK
C78: 3.6 | D78: ESCRITORIO LINEAL CON ESTRUCTURA EN TUBO METALICO | E78: ESCRITORIO LINEAL CON ESTRUCTURA EN TUBO METALICO CUADRADO O RECTANGULAR DE 2", TERMINACIÓN EN PINTURA ELECTROESTATICA, SUPERFICIE CON RECUBRIMIENTO EN MELAMINA DE 30mm. DIMENSIONES: 150 X 60 CM. INCLUYE CAJONERA EN LAMINA CALIBRE 22. | F78: UN | G78: 2 | H78: 1951113 | I78: =H78*19% -> 370711.47 | J78: =H78+I78 -> 2321824.5 | K78: =G78*J78 -> 4643648.9 | L78: 1277521 | M78: =L78*19% -> 242728.99 | N78: =L78+M78 -> 1520250 | O78: =+G78*N78 -> 3040500 | P78: 1949551 | Q78: =+P78*0.19 -> 370414.69 | R78: =+P78+Q78 -> 2319965.7 | S78: =+G78*R78 -> 4639931.4 | T78: 1986238 | U78: =T78*19% -> 377385.22 | V78: =T78+U78 -> 2363623.2 | W78: =+G78*V78 -> 4727246.4 | X78: 1896105 | Y78: =+X78*0.19 -> 360259.95 | Z78: =+X78+Y78 -> 2256365 | AA78: =+G78*Z78 -> 4512729.9 | AB78: 1785000 | AC78: 2025-0365 | AD78: =+AB78/1.19 -> 1500000 | AE78: https://www.secop.gov.co/CO1BusinessLine/Tendering/ContractNoticeView/Index?prevCtxLbl=Buscar+procesos&prevCtxUrl=https%3a%2f%2fwww.secop.gov.co%3a443%2fCO1BusinessLine%2fTendering%2fContractNoticeManagement%2fIndex&notice=CO1.NTC.8101210
C79: 3.7 | D79: TELEVISOR SMART TV DE 55" | E79: TELEVISOR SMART TV DE 55", RESOLUCIÓN 4K- UHD (3840x2160), HDR10, TASA DE REFRESCO DE 60 Hz, CON SINTONIZADOR DVB-T2. 3 PUERTOS HDMI, 1 PUERTO ETHERNET, 1 PUERTO USB 3.0, SALIDA DE AUDIO 3,5mm, ENTRADA COAXIAL. CONEXIÓN INALAMBRICA POR BLUETOOTH Y WIFI. POTENCIA DE AUDIO MINIMO DE 20W COMPATIBLE CON DOLBY AUDIO. | F79: UN | G79: 1 | H79: 2880113 | I79: =H79*19% -> 547221.47 | J79: =H79+I79 -> 3427334.5 | K79: =G79*J79 -> 3427334.5 | L79: 4033487.4 | M79: =L79*19% -> 766362.61 | N79: =L79+M79 -> 4799850 | O79: =+G79*N79 -> 4799850 | P79: 2994945 | Q79: =+P79*0.19 -> 569039.55 | R79: =+P79+Q79 -> 3563984.5 | S79: =+G79*R79 -> 3563984.5 | T79: 3139360 | U79: =T79*19% -> 596478.4 | V79: =T79+U79 -> 3735838.4 | W79: =+G79*V79 -> 3735838.4 | X79: 2878378 | Y79: =+X79*0.19 -> 546891.82 | Z79: =+X79+Y79 -> 3425269.8 | AA79: =+G79*Z79 -> 3425269.8 | AB79: 3145000 | AC79: 2025-0365 | AD79: =+AB79/1.19 -> 2642857.1 | AE79: https://www.secop.gov.co/CO1BusinessLine/Tendering/ContractNoticeView/Index?prevCtxLbl=Buscar+procesos&prevCtxUrl=https%3a%2f%2fwww.secop.gov.co%3a443%2fCO1BusinessLine%2fTendering%2fContractNoticeManagement%2fIndex&notice=CO1.NTC.8101210 | AF79: OK
C80: 3.8 | D80: CABINA DE SONIDO ACTIVA DE 1000 WATTS | E80: CABINA DE SONIDO ACTIVA DE 1000 WATTS, 2 LINEAS, AMPLIFICADOR CLASE D. ASAS ERGONOMICAS PARA COMODO AGARRE. DEBE CONTAR CON PUNTOS DE FIJACIÓN PARA INSTALACIÓN EN MODO SUSPENDIDO. DEBE INCLUIR: 1 SISTEMA DE SOPORTE TIPO TRIPO DE PLEGABLE DE ALUMINIO CON AJUSTE DE ALTURA, 1 MICROFONO ALAMBRICO, CABLE DE PODER Y CABLES PARA SU CORRECTO FUNCIONAMIENTO. | F80: UN | G80: 1 | H80: 3990000 | I80: =H80*19% -> 758100 | J80: =H80+I80 -> 4748100 | K80: =G80*J80 -> 4748100 | L80: 5221008.4 | M80: =L80*19% -> 991991.6 | N80: =L80+M80 -> 6213000 | O80: =+G80*N80 -> 6213000 | P80: 4244254 | Q80: =+P80*0.19 -> 806408.26 | R80: =+P80+Q80 -> 5050662.3 | S80: =+G80*R80 -> 5050662.3 | T80: 4348132 | U80: =T80*19% -> 826145.08 | V80: =T80+U80 -> 5174277.1 | W80: =+G80*V80 -> 5174277.1 | X80: 4084624 | Y80: =+X80*0.19 -> 776078.56 | Z80: =+X80+Y80 -> 4860702.6 | AA80: =+G80*Z80 -> 4860702.6 | AB80: 2500000 | AD80: =+AB80/1.19 -> 2100840.3 | AE80: https://musicheadstore.com/producto/yamaki-sm1520-cabina-activa-1000w-15/?srsltid=AfmBOoo57mUqA-drX3a4Q-AGIaZXus0s-Cfzno1QtE3FgrAZX8zJnFm2Q5s | AF80: OK
C81: 3.9 | D81: LICUADORA INDUSTRIAL CAPACIDAD 10 LITROS | E81: LICUADORA INDUSTRIAL CAPACIDAD 10 LITROS, ESTRUCTURA EN ACERO INOXIDABLE 304, MOTOR DE 1 HP, CUCHILLAS EN ACERO REFORZADO, VASO ABATIBLE. CONEXIÓN ELECTRICA A 110 VOLTIOS. | F81: UN | G81: 1 | H81: 3581710 | I81: =H81*19% -> 680524.9 | J81: =H81+I81 -> 4262234.9 | K81: =G81*J81 -> 4262234.9 | L81: 2389916 | M81: =L81*19% -> 454084.03 | N81: =L81+M81 -> 2844000 | O81: =+G81*N81 -> 2844000 | P81: 3653488 | Q81: =+P81*0.19 -> 694162.72 | R81: =+P81+Q81 -> 4347650.7 | S81: =+G81*R81 -> 4347650.7 | T81: 3900735 | U81: =T81*19% -> 741139.65 | V81: =T81+U81 -> 4641874.7 | W81: =+G81*V81 -> 4641874.7 | X81: 3438769 | Y81: =+X81*0.19 -> 653366.11 | Z81: =+X81+Y81 -> 4092135.1 | AA81: =+G81*Z81 -> 4092135.1 | AB81: 2300270 | AC81: RESO-CV-N°04-2025 /INSTITUCION EDUCATIVA HORACIO PERDOMO | AD81: =+AB81/1.19 -> 1933000 | AE81: https://www.secop.gov.co/CO1BusinessLine/Tendering/ContractNoticeManagement/Index | AF81: OK
C82: 3.10 | D82: CARPA PARA EXTERIORES TIPO KIOSCO DE 4 x 4 METROS | E82: CARPA PARA EXTERIORES TIPO KIOSCO DE 4 x 4 METROS, 4 AGUAS, ESTRUCTURA METALICA EN TUBO CALIBRE 18 (PARALES) y 20 (CERCHAS Y ARAÑA). LONA IMPERMEABLE PVC DE 400 MICRAS | F82: UN | G82: 4 | H82: 3338403 | I82: =H82*19% -> 634296.57 | J82: =H82+I82 -> 3972699.6 | K82: =G82*J82 -> 15890798 | L82: 2235000 | M82: =L82*19% -> 424650 | N82: =L82+M82 -> 2659650 | O82: =+G82*N82 -> 10638600 | P82: 3629003 | Q82: =+P82*0.19 -> 689510.57 | R82: =+P82+Q82 -> 4318513.6 | S82: =+G82*R82 -> 17274054 | T82: 3385825 | U82: =T82*19% -> 643306.75 | V82: =T82+U82 -> 4029131.8 | W82: =+G82*V82 -> 16116527 | X82: 3269943 | Y82: =+X82*0.19 -> 621289.17 | Z82: =+X82+Y82 -> 3891232.2 | AA82: =+G82*Z82 -> 15564929 | AB82: 4503300 | AC82: 2025-0365 | AD82: =+AB82/1.19 -> 3784285.7 | AE82: https://www.secop.gov.co/CO1BusinessLine/Tendering/ContractNoticeView/Index?prevCtxLbl=Buscar+procesos&prevCtxUrl=https%3a%2f%2fwww.secop.gov.co%3a443%2fCO1BusinessLine%2fTendering%2fContractNoticeManagement%2fIndex&notice=CO1.NTC.8101210 | AF82: OK
C83: TOTAL CAQUEZA | K83: =SUM(K73:K82) -> 54284716 | O83: =SUM(O73:O82) -> 52741880 | S83: =SUM(S73:S82) -> 58873200 | W83: =SUM(W73:W82) -> 56460537 | AA83: =SUM(AA73:AA82) -> 54369451 | AB83: =SUM(AB73:AB82) -> 24757361
C84: 4. SAN ANTONIO DE TEQUENDAMA
C85: ITEM | D85: PRODUCTO / SERVICIO | E85: DESCRIPCIÓN PRODUCTO / SERVICIO | F85: UNIDAD DE MEDIDA | G85: CANTIDAD | H85: VALOR UNITARIO SIN IVA | I85: IVA | J85: VALOR UNITARIO CON IVA | K85: VALOR TOTAL (VALOR UNITARIO CON IVA X CANTIDAD) | L85: VALOR UNITARIO SIN IVA | M85: IVA | N85: VALOR UNITARIO CON IVA | O85: VALOR TOTAL (VALOR UNITARIO CON IVA X CANTIDAD) | P85: VALOR UNITARIO SIN IVA | Q85: IVA | R85: VALOR UNITARIO CON IVA | S85: VALOR TOTAL (VALOR UNITARIO CON IVA X CANTIDAD) | T85: VALOR UNITARIO SIN IVA | U85: IVA | V85: VALOR UNITARIO CON IVA | W85: VALOR TOTAL (VALOR UNITARIO CON IVA X CANTIDAD) | X85: VALOR UNITARIO SIN IVA | Y85: IVA | Z85: VALOR UNITARIO CON IVA | AA85: VALOR TOTAL (VALOR UNITARIO CON IVA X CANTIDAD) | AB85: VALOR UNITARIO CON IVA | AC85: PROCESO | AE85: LINK
C86: 4.1 | D86: DESMONTE EQUIPOS SANITARIOS | E86: DESMONTE DE APARATOS SANITARIOS | F86: UN | G86: 2 | H86: 60726 | I86: =H86*19% -> 11537.94 | J86: =H86+I86 -> 72263.94 | K86: =G86*J86 -> 144527.88 | L86: =+N86-M86 -> 4844.2759 | M86: =+N86/1.16 -> 30276.724 | N86: 35121 | O86: =+G86*N86 -> 70242 | P86: 56844 | Q86: =+P86*0.19 -> 10800.36 | R86: =+P86+Q86 -> 67644.36 | S86: =+G86*R86 -> 135288.72 | T86: 64891 | U86: =T86*19% -> 12329.29 | V86: =T86+U86 -> 77220.29 | W86: =+G86*V86 -> 154440.58 | X86: 62636 | Y86: =+X86*0.19 -> 11900.84 | Z86: =+X86+Y86 -> 74536.84 | AA86: =+G86*Z86 -> 149073.68 | AB86: 36703 | AC86: 2025-0301 | AE86: https://www.secop.gov.co/CO1BusinessLine/Tendering/ContractNoticeView/Index?prevCtxLbl=Buscar+procesos&prevCtxUrl=https%3a%2f%2fwww.secop.gov.co%3a443%2fCO1BusinessLine%2fTendering%2fContractNoticeManagement%2fIndex&notice=CO1.NTC.7973386
C87: 4.2 | D87: SERVICIO DE RETISO BALDOSA | E87: RETIRO DE BALDOSA DE PISO, H=0.02 m, EN MAL ESTADO | F87: M2 | G87: 16 | H87: 19234 | I87: =H87*19% -> 3654.46 | J87: =H87+I87 -> 22888.46 | K87: =G87*J87 -> 366215.36 | L87: =+N87-M87 -> 1552.5517 | M87: =+N87/1.16 -> 9703.4483 | N87: 11256 | O87: =+G87*N87 -> 180096 | P87: 18274 | Q87: =+P87*0.19 -> 3472.06 | R87: =+P87+Q87 -> 21746.06 | S87: =+G87*R87 -> 347936.96 | T87: 19330 | U87: =T87*19% -> 3672.7 | V87: =T87+U87 -> 23002.7 | W87: =+G87*V87 -> 368043.2 | X87: 19411 | Y87: =+X87*0.19 -> 3688.09 | Z87: =+X87+Y87 -> 23099.09 | AA87: =+G87*Z87 -> 369585.44 | AB87: 11624 | AC87: 2025-0301 | AE87: https://www.secop.gov.co/CO1BusinessLine/Tendering/ContractNoticeView/Index?prevCtxLbl=Buscar+procesos&prevCtxUrl=https%3a%2f%2fwww.secop.gov.co%3a443%2fCO1BusinessLine%2fTendering%2fContractNoticeManagement%2fIndex&notice=CO1.NTC.7973386
