Workbook

Sheet CUADRO COMPARATIVO  
C1: GOBERNACIÓN DE CUNDINAMARCA | H1: COMTELECTRIC SAS | L1: ROMING SAS | P1: SOS SOLUCIONES Y SREVICIOS SAS | T1: SISELCOM SAS | X1: AQSERV SAS | AB1: PRECIOS HISTORICOS Y/O DEL MERCADO | AF1: MEDIA GEOMÉTRICA SECRETARIA DE LA MUJER | AH1: MEDIA ARMÓNICA SECRETARIA DE LA MUJER
C2: SECRETARIA DE LA MUJER Y EQUIDAD DE GÉNERO
C3: OBJETO: ADECUACIÓN Y SUMINISTRO DE ELEMENTOS NECESARIOS PARA EL FUNCIONAMIENTO APROPIADO DE ESPACIOS Y CASAS SOCIALES DE LA MUJER, DE LOS MUNICIPIOS FOCALIZADOS EN EL DEPARTAMENTO DE CUNDINAMARCA.
C4: 1. SIBATE
C5: ITEM | D5: PRODUCTO / SERVICIO | E5: DESCRIPCIÓN PRODUCTO / SERVICIO | F5: UNIDAD DE MEDIDA | G5: CANTIDAD | H5: VALOR UNITARIO SIN IVA | I5: IVA | J5: VALOR UNITARIO CON IVA | K5: VALOR TOTAL (VALOR UNITARIO CON IVA X CANTIDAD) | L5: VALOR UNITARIO SIN IVA | M5: IVA | N5: VALOR UNITARIO CON IVA | O5: VALOR TOTAL (VALOR UNITARIO CON IVA X CANTIDAD) | P5: VALOR UNITARIO SIN IVA | Q5: IVA | R5: VALOR UNITARIO CON IVA | S5: VALOR TOTAL (VALOR UNITARIO CON IVA X CANTIDAD) | T5: VALOR UNITARIO SIN IVA | U5: IVA | V5: VALOR UNITARIO CON IVA | W5: VALOR TOTAL (VALOR UNITARIO CON IVA X CANTIDAD) | X5: VALOR UNITARIO SIN IVA | Y5: IVA | Z5: VALOR UNITARIO CON IVA | AA5: VALOR TOTAL (VALOR UNITARIO CON IVA X CANTIDAD) | AB5: VALOR UNITARIO SIN IVA | AC5: IVA | AD5: VALOR UNITARIO CON IVA | AE5: VALOR TOTAL (VALOR UNITARIO CON IVA X CANTIDAD) | AF5: VALOR UNITARIO SIN IVA | AG5: VALOR UNITARIO CON IVA | AH5: VALOR UNITARIO SIN IVA | AI5: VALOR UNITARIO CON IVA
C6: 1.1 | D6: ESTUFA A GAS | E6: ESTUFA A GAS CON 6 QUEMADORES, ESTRUCTURA FABRICADA EN ACERO INOXIDABLE, QUEMADORES Y PARRILLAS EN HIERRO FUNDIDO, BANDEJA RECOLECTORA DE RESIDUOS. CONFIGURACIÓN PARA GAS NATURAL O PROPANO. | F6: UN | G6: 1 | H6: 7360000 | I6: =H6*19% -> 1398400 | J6: =H6+I6 -> 8758400 | K6: =G6*J6 -> 8758400 | L6: 6806722.7 | M6: =L6*19% -> 1293277.3 | N6: =L6+M6 -> 8100000 | O6: =+G6*N6 -> 8100000 | P6: 7234110 | Q6: =+P6*0.19 -> 1374480.9 | R6: =+P6+Q6 -> 8608590.9 | S6: =+G6*R6 -> 8608590.9 | T6: 7604171 | U6: =T6*19% -> 1444792.5 | V6: =T6+U6 -> 9048963.5 | W6: =+G6*V6 -> 9048963.5 | X6: 6935933 | Y6: =+X6*0.19 -> 1317827.3 | Z6: =+X6+Y6 -> 8253760.3 | AA6: =+G6*Z6 -> 8253760.3 | AB6: =+AD6/1.19 -> 2000000 | AC6: =+AD6-AB6 -> 380000 | AD6: 2380000 | AE6: =+G6*AD6 -> 2380000 | AF6: =+GEOMEAN(H6,L6,P6,T6,X6,AB6) -> 5804051.9 | AG6: =+GEOMEAN(J6,N6,R6,V6,Z6,AD6) -> 6906821.8 | AH6: =+HARMEAN(H6,L6,P6,T6,X6,AB6) -> 5013785.3 | AI6: =+HARMEAN(J6,N6,R6,V6,Z6,AD6) -> 5966404.5
C7: 1.2 | D7: ARMARIO ORGANIZADOR METÁLICO | E7: ARMARIO ORGANIZADOR METALICO, ESTRUCTURA EN LAMINA CALIBRE 22, TERMINACION CON PINTURA ELECTROESTATICA. DIMENSIONES MINIMAS DE 180 x 90 CM. DEBE INCLUIR 4 ENTREPAÑOS GRADUABLES Y 2 PUERTAS CON CERRADURA TIPO MANIJA QUE PERMITA ASEGURAR EN 3 PUNTOS. | F7: UN | G7: 3 | H7: 2510367 | I7: =H7*19% -> 476969.73 | J7: =H7+I7 -> 2987336.7 | K7: =G7*J7 -> 8962010.2 | L7: 1662605 | M7: =L7*19% -> 315894.96 | N7: =L7+M7 -> 1978500 | O7: =+G7*N7 -> 5935500 | P7: 2506736 | Q7: =+P7*0.19 -> 476279.84 | R7: =+P7+Q7 -> 2983015.8 | S7: =+G7*R7 -> 8949047.5 | T7: 2401067 | U7: =T7*19% -> 456202.73 | V7: =T7+U7 -> 2857269.7 | W7: =+G7*V7 -> 8571809.2 | X7: 2384780 | Y7: =+X7*0.19 -> 453108.2 | Z7: =+X7+Y7 -> 2837888.2 | AA7: =+G7*Z7 -> 8513664.6 | AB7: =+AD7/1.19 -> 885714.29 | AC7: =+AD7-AB7 -> 168285.71 | AD7: 1054000 | AE7: =+G7*AD7 -> 3162000 | AF7: =+GEOMEAN(H7,L7,P7,T7,X7,AB7) -> 1938489.8 | AG7: =+GEOMEAN(J7,N7,R7,V7,Z7,AD7) -> 2306802.9 | AH7: =+HARMEAN(H7,L7,P7,T7,X7,AB7) -> 1783814.4 | AI7: =+HARMEAN(J7,N7,R7,V7,Z7,AD7) -> 2122739.1
C8: 1.3 | D8: MESA PLEGABLE | E8: MESA PLEGABLE PLASTICA TIPO MALETIN, ESTRUCTURA EN ACERO, TABLERO EN POLIETILENO DE ALTA DENSIDAD, DIMENSIONES MINIMAS DE 180 CM DE LARGO Y 70 CM DE ANCHO | F8: UN | G8: 10 | H8: 348700 | I8: =H8*19% -> 66253 | J8: =H8+I8 -> 414953 | K8: =G8*J8 -> 4149530 | L8: 214159.66 | M8: =L8*19% -> 40690.336 | N8: =L8+M8 -> 254850 | O8: =+G8*N8 -> 2548500 | P8: 350928 | Q8: =+P8*0.19 -> 66676.32 | R8: =+P8+Q8 -> 417604.32 | S8: =+G8*R8 -> 4176043.2 | T8: 332517 | U8: =T8*19% -> 63178.23 | V8: =T8+U8 -> 395695.23 | W8: =+G8*V8 -> 3956952.3 | X8: 326266 | Y8: =+X8*0.19 -> 61990.54 | Z8: =+X8+Y8 -> 388256.54 | AA8: =+G8*Z8 -> 3882565.4 | AB8: =+AD8/1.19 -> 257142.86 | AC8: =+AD8-AB8 -> 48857.143 | AD8: 306000 | AE8: =+G8*AD8 -> 3060000 | AF8: =+GEOMEAN(H8,L8,P8,T8,X8,AB8) -> 300142.82 | AG8: =+GEOMEAN(J8,N8,R8,V8,Z8,AD8) -> 357169.96 | AH8: =+HARMEAN(H8,L8,P8,T8,X8,AB8) -> 294868.79 | AI8: =+HARMEAN(J8,N8,R8,V8,Z8,AD8) -> 350893.87
C9: 1.4 | D9: SILLA PLÁSTICA | E9: SILLA PLÁSTICA CON BRAZOS, RESISTENCIA MINIMA DE 115 KILOS. MEDIDAS APROXIMADAS DE 57 x 60 x 80 CM. COLOR BLANCO O CAFE. | F9: UN | G9: 20 | H9: 75571 | I9: =H9*19% -> 14358.49 | J9: =H9+I9 -> 89929.49 | K9: =G9*J9 -> 1798589.8 | L9: 75504.202 | M9: =L9*19% -> 14345.798 | N9: =L9+M9 -> 89850 | O9: =+G9*N9 -> 1797000 | P9: 88777 | Q9: =+P9*0.19 -> 16867.63 | R9: =+P9+Q9 -> 105644.63 | S9: =+G9*R9 -> 2112892.6 | T9: 76923 | U9: =T9*19% -> 14615.37 | V9: =T9+U9 -> 91538.37 | W9: =+G9*V9 -> 1830767.4 | X9: 77771 | Y9: =+X9*0.19 -> 14776.49 | Z9: =+X9+Y9 -> 92547.49 | AA9: =+G9*Z9 -> 1850949.8 | AB9: =+AD9/1.19 -> 75571.429 | AC9: =+AD9-AB9 -> 14358.571 | AD9: 89930 | AE9: =+G9*AD9 -> 1798600 | AF9: =+GEOMEAN(H9,L9,P9,T9,X9,AB9) -> 78218.542 | AG9: =+GEOMEAN(J9,N9,R9,V9,Z9,AD9) -> 93080.064 | AH9: =+HARMEAN(H9,L9,P9,T9,X9,AB9) -> 78092.609 | AI9: =+HARMEAN(J9,N9,R9,V9,Z9,AD9) -> 92930.205
C10: 1.5 | D10: BANDEJA PARA PANADERÍA | E10: BANDEJA PARA PANADERIA DE 60 x 40 CM, TROQUELADA, FABRICADA EN ALUMINIO MINIMO CALIBRE 20. | F10: UN | G10: 6 | H10: 143830 | I10: =H10*19% -> 27327.7 | J10: =H10+I10 -> 171157.7 | K10: =G10*J10 -> 1026946.2 | L10: 1008403.4 | M10: =L10*19% -> 191596.64 | N10: =L10+M10 -> 1200000 | O10: =+G10*N10 -> 7200000 | P10: 154904 | Q10: =+P10*0.19 -> 29431.76 | R10: =+P10+Q10 -> 184335.76 | S10: =+G10*R10 -> 1106014.6 | T10: 146740 | U10: =T10*19% -> 27880.6 | V10: =T10+U10 -> 174620.6 | W10: =+G10*V10 -> 1047723.6 | X10: 140861 | Y10: =+X10*0.19 -> 26763.59 | Z10: =+X10+Y10 -> 167624.59 | AA10: =+G10*Z10 -> 1005747.5 | AB10: =+AD10/1.19 -> 62510.084 | AC10: =+AD10-AB10 -> 11876.916 | AD10: 74387 | AE10: =+G10*AD10 -> 446322 | AF10: =+GEOMEAN(H10,L10,P10,T10,X10,AB10) -> 175309.71 | AG10: =+GEOMEAN(J10,N10,R10,V10,Z10,AD10) -> 208618.55 | AH10: =+HARMEAN(H10,L10,P10,T10,X10,AB10) -> 135405.58 | AI10: =+HARMEAN(J10,N10,R10,V10,Z10,AD10) -> 161132.64
C11: 1.6 | D11: ESCABILADERO PARA BANDEJAS | E11: ESCABILADERO PARA BANDEJAS DE 60 x 40 CM, FABRICADO EN ACERO INOXIDABLE, CAPACIDAD PARA ALMACENAR MINIMO 12 BANDEJAS. | F11: UN | G11: 1 | H11: 2465261 | I11: =H11*19% -> 468399.59 | J11: =H11+I11 -> 2933660.6 | K11: =G11*J11 -> 2933660.6 | L11: 1890756.3 | M11: =L11*19% -> 359243.7 | N11: =L11+M11 -> 2250000 | O11: =+G11*N11 -> 2250000 | P11: 2553398 | Q11: =+P11*0.19 -> 485145.62 | R11: =+P11+Q11 -> 3038543.6 | S11: =+G11*R11 -> 3038543.6 | T11: 2550779 | U11: =T11*19% -> 484648.01 | V11: =T11+U11 -> 3035427 | W11: =+G11*V11 -> 3035427 | X11: 2428755 | Y11: =+X11*0.19 -> 461463.45 | Z11: =+X11+Y11 -> 2890218.5 | AA11: =+G11*Z11 -> 2890218.5 | AB11: =+AD11/1.19 -> 788450.42 | AC11: =+AD11-AB11 -> 149805.58 | AD11: 938256 | AE11: =+G11*AD11 -> 938256 | AF11: =+GEOMEAN(H11,L11,P11,T11,X11,AB11) -> 1968224.6 | AG11: =+GEOMEAN(J11,N11,R11,V11,Z11,AD11) -> 2342187.2 | AH11: =+HARMEAN(H11,L11,P11,T11,X11,AB11) -> 1765619 | AI11: =+HARMEAN(J11,N11,R11,V11,Z11,AD11) -> 2101086.6
C12: 1.7 | D12: JUEGO DE OLLAS DE ALUMINIO | E12: JUEGO DE OLLAS DE ALUMINIO, CAPACIDAD DE 2 A 14 LITROS, 6 UNIDADES, FABRICADAS EN ALUMINIO DE ALTA PUREZA. INCLUYE: 1 OLLA DE 2 LITROS, 1 OLLA DE 2.5 LITROS, 1 OLLA DE 4 LITROS, 1 OLLA DE 6 LITROS, 1 OLLA DE 12 LITROS Y 1 OLLA DE 14 LITROS. CADA OLLA INCLUYE TAPA. | F12: UN | G12: 3 | H12: 405570 | I12: =H12*19% -> 77058.3 | J12: =H12+I12 -> 482628.3 | K12: =G12*J12 -> 1447884.9 | L12: 1384903.4 | M12: =L12*19% -> 263131.64 | N12: =L12+M12 -> 1648035 | O12: =+G12*N12 -> 4944105 | P12: 388583 | Q12: =+P12*0.19 -> 73830.77 | R12: =+P12+Q12 -> 462413.77 | S12: =+G12*R12 -> 1387241.3 | T12: 429717 | U12: =T12*19% -> 81646.23 | V12: =T12+U12 -> 511363.23 | W12: =+G12*V12 -> 1534089.7 | X12: 380421 | Y12: =+X12*0.19 -> 72279.99 | Z12: =+X12+Y12 -> 452700.99 | AA12: =+G12*Z12 -> 1358103 | AB12: =+AD12/1.19 -> 840336.13 | AC12: =+AD12-AB12 -> 159663.87 | AD12: 1000000 | AE12: =+G12*AD12 -> 3000000 | AF12: =+GEOMEAN(H12,L12,P12,T12,X12,AB12) -> 557371.63 | AG12: =+GEOMEAN(J12,N12,R12,V12,Z12,AD12) -> 663272.24 | AH12: =+HARMEAN(H12,L12,P12,T12,X12,AB12) -> 503906.53 | AI12: =+HARMEAN(J12,N12,R12,V12,Z12,AD12) -> 599648.77
C13: 1.8 | D13: CALDERO MEDIANO | E13: CALDERO MEDIANO DE 11 LITROS, FABRICADO EN ALUMINIO FUNDIDO, TAPA FUNDIDA CON POMO PLASTICO, ASAS EN ALUMINIO FUNDIDO. | F13: UN | G13: 2 | H13: 278942 | I13: =H13*19% -> 52998.98 | J13: =H13+I13 -> 331940.98 | K13: =G13*J13 -> 663881.96 | L13: 176470.59 | M13: =L13*19% -> 33529.412 | N13: =L13+M13 -> 210000 | O13: =+G13*N13 -> 420000 | P13: 274590 | Q13: =+P13*0.19 -> 52172.1 | R13: =+P13+Q13 -> 326762.1 | S13: =+G13*R13 -> 653524.2 | T13: 290819 | U13: =T13*19% -> 55255.61 | V13: =T13+U13 -> 346074.61 | W13: =+G13*V13 -> 692149.22 | X13: 263944 | Y13: =+X13*0.19 -> 50149.36 | Z13: =+X13+Y13 -> 314093.36 | AA13: =+G13*Z13 -> 628186.72 | AB13: =+AD13/1.19 -> 34453.782 | AC13: =+AD13-AB13 -> 6546.2185 | AD13: 41000 | AE13: =+G13*AD13 -> 82000 | AF13: =+GEOMEAN(H13,L13,P13,T13,X13,AB13) -> 181498.79 | AG13: =+GEOMEAN(J13,N13,R13,V13,Z13,AD13) -> 215983.56 | AH13: =+HARMEAN(H13,L13,P13,T13,X13,AB13) -> 122087.52 | AI13: =+HARMEAN(J13,N13,R13,V13,Z13,AD13) -> 145284.15
C14: 1.9 | D14: TABLA PARA PICAR | E14: TABLA PARA PICAR/CORTAR, FABRICADA EN POLIETILENO RESISTENTE A GOLPES, DEFORMACIONES Y MANCHAS. DIMENSIONES: 60 x 40 x 2 CM. | F14: UN | G14: 10 | H14: 279142 | I14: =H14*19% -> 53036.98 | J14: =H14+I14 -> 332178.98 | K14: =G14*J14 -> 3321789.8 | L14: 176470.59 | M14: =L14*19% -> 33529.412 | N14: =L14+M14 -> 210000 | O14: =+G14*N14 -> 2100000 | P14: 263086 | Q14: =+P14*0.19 -> 49986.34 | R14: =+P14+Q14 -> 313072.34 | S14: =+G14*R14 -> 3130723.4 | T14: 289321 | U14: =T14*19% -> 54970.99 | V14: =T14+U14 -> 344291.99 | W14: =+G14*V14 -> 3442919.9 | X14: 270822 | Y14: =+X14*0.19 -> 51456.18 | Z14: =+X14+Y14 -> 322278.18 | AA14: =+G14*Z14 -> 3222781.8 | AB14: =+AD14/1.19 -> 117647.06 | AC14: =+AD14-AB14 -> 22352.941 | AD14: 140000 | AE14: =+G14*AD14 -> 1400000 | AF14: =+GEOMEAN(H14,L14,P14,T14,X14,AB14) -> 221925.24 | AG14: =+GEOMEAN(J14,N14,R14,V14,Z14,AD14) -> 264091.04 | AH14: =+HARMEAN(H14,L14,P14,T14,X14,AB14) -> 209066.94 | AI14: =+HARMEAN(J14,N14,R14,V14,Z14,AD14) -> 248789.66
C15: 1.10 | D15: RODILLO PARA REPOSTERÍA | E15: RODILLO PARA REPOSTERIA, FABRICADO EN PVC CON EJE EN ACERO INOXIDABLE, LARGO TOTAL DE 60 CM. | F15: UN | G15: 2 | H15: 170874 | I15: =H15*19% -> 32466.06 | J15: =H15+I15 -> 203340.06 | K15: =G15*J15 -> 406680.12 | L15: 119117.65 | M15: =L15*19% -> 22632.353 | N15: =L15+M15 -> 141750 | O15: =+G15*N15 -> 283500 | P15: 166442 | Q15: =+P15*0.19 -> 31623.98 | R15: =+P15+Q15 -> 198065.98 | S15: =+G15*R15 -> 396131.96 | T15: 176152 | U15: =T15*19% -> 33468.88 | V15: =T15+U15 -> 209620.88 | W15: =+G15*V15 -> 419241.76 | X15: 164358 | Y15: =+X15*0.19 -> 31228.02 | Z15: =+X15+Y15 -> 195586.02 | AA15: =+G15*Z15 -> 391172.04 | AB15: =+AD15/1.19 -> 117647.06 | AC15: =+AD15-AB15 -> 22352.941 | AD15: 140000 | AE15: =+G15*AD15 -> 280000 | AF15: =+GEOMEAN(H15,L15,P15,T15,X15,AB15) -> 150324.26 | AG15: =+GEOMEAN(J15,N15,R15,V15,Z15,AD15) -> 178885.87 | AH15: =+HARMEAN(H15,L15,P15,T15,X15,AB15) -> 148087.37 | AI15: =+HARMEAN(J15,N15,R15,V15,Z15,AD15) -> 176223.98
C16: 1.11 | D16: RALLADOR EN ACERO | E16: RALLADOR EN ACERO INOXIDABLE, ALTO MINIMO DE 22 CM, CON MANGO ERGONOMICO, BASE ANTIDESLIZABLE, 4 CARAS CON DIFERENTES TIPOS DE CORTE. | F16: UN | G16: 2 | H16: 74571 | I16: =H16*19% -> 14168.49 | J16: =H16+I16 -> 88739.49 | K16: =G16*J16 -> 177478.98 | L16: 52815.126 | M16: =L16*19% -> 10034.874 | N16: =L16+M16 -> 62850 | O16: =+G16*N16 -> 125700 | P16: 73426 | Q16: =+P16*0.19 -> 13950.94 | R16: =+P16+Q16 -> 87376.94 | S16: =+G16*R16 -> 174753.88 | T16: 78699 | U16: =T16*19% -> 14952.81 | V16: =T16+U16 -> 93651.81 | W16: =+G16*V16 -> 187303.62 | X16: 78538 | Y16: =+X16*0.19 -> 14922.22 | Z16: =+X16+Y16 -> 93460.22 | AA16: =+G16*Z16 -> 186920.44 | AB16: =+AD16/1.19 -> 16806.723 | AC16: =+AD16-AB16 -> 3193.2773 | AD16: 20000 | AE16: =+G16*AD16 -> 40000 | AF16: =+GEOMEAN(H16,L16,P16,T16,X16,AB16) -> 55755.157 | AG16: =+GEOMEAN(J16,N16,R16,V16,Z16,AD16) -> 66348.636 | AH16: =+HARMEAN(H16,L16,P16,T16,X16,AB16) -> 45835.643 | AI16: =+HARMEAN(J16,N16,R16,V16,Z16,AD16) -> 54544.415
C17: 1.12 | D17: JUEGO DE BOWL'S EN ACERO | E17: JUEGO DE BOWL'S EN ACERO INOXIDABLE DE 4 PIEZAS (14, 18, 21 Y 26 CM DE DIAMETRO). | F17: UN | G17: 4 | H17: 398574 | I17: =H17*19% -> 75729.06 | J17: =H17+I17 -> 474303.06 | K17: =G17*J17 -> 1897212.2 | L17: 251974.79 | M17: =L17*19% -> 47875.21 | N17: =L17+M17 -> 299850 | O17: =+G17*N17 -> 1199400 | P17: 380486 | Q17: =+P17*0.19 -> 72292.34 | R17: =+P17+Q17 -> 452778.34 | S17: =+G17*R17 -> 1811113.4 | T17: 405317 | U17: =T17*19% -> 77010.23 | V17: =T17+U17 -> 482327.23 | W17: =+G17*V17 -> 1929308.9 | X17: 379948 | Y17: =+X17*0.19 -> 72190.12 | Z17: =+X17+Y17 -> 452138.12 | AA17: =+G17*Z17 -> 1808552.5 | AB17: =+AD17/1.19 -> 47815.126 | AC17: =+AD17-AB17 -> 9084.8739 | AD17: 56900 | AE17: =+G17*AD17 -> 227600 | AF17: =+GEOMEAN(H17,L17,P17,T17,X17,AB17) -> 255985.19 | AG17: =+GEOMEAN(J17,N17,R17,V17,Z17,AD17) -> 304622.37 | AH17: =+HARMEAN(H17,L17,P17,T17,X17,AB17) -> 170848.46 | AI17: =+HARMEAN(J17,N17,R17,V17,Z17,AD17) -> 203309.67
... C37: 1.32 | D37: DESFIBRILADOR EXTERNO | E37: DESFIBRILADOR EXTERNO AUTOMATICO, DESCARGA ELECTRICA AUTOMATICA, ENERGÍA DE HASTA 200 JOULES. DEBE PERMITIR OPERACIÓN EN NIÑOS Y ADULTOS. METRONOMO DE FRECUENCIA INCORPORADO Y ELECTRODOS PRECONECTADOS. ALMACENAMIENTO DE MINIMO 1,5 HORAS DE DATOS DE INTERVENCIÓN. BATERÍA DE LARGA DURACIÓN. COMPROBACIÓN AUTOMATICA DEL ESTADO DE LOS ELECTRODOS Y LA BATERÍA. | F37: UN | G37: 1 | H37: 10992317 | I37: =H37*19% -> 2088540.2 | J37: =H37+I37 -> 13080857 | K37: =G37*J37 -> 13080857 | L37: 8010000 | M37: =L37*19% -> 1521900 | N37: =L37+M37 -> 9531900 | O37: =+G37*N37 -> 9531900 | P37: 11702759 | Q37: =+P37*0.19 -> 2223524.2 | R37: =+P37+Q37 -> 13926283 | S37: =+G37*R37 -> 13926283 | T37: 11023569 | U37: =T37*19% -> 2094478.1 | V37: =T37+U37 -> 13118047 | W37: =+G37*V37 -> 13118047 | X37: 10214941 | Y37: =+X37*0.19 -> 1940838.8 | Z37: =+X37+Y37 -> 12155780 | AA37: =+G37*Z37 -> 12155780 | AB37: =+AD37/1.19 -> 5042016.8 | AC37: =+AD37-AB37 -> 957983.19 | AD37: 6000000 | AE37: =+G37*AD37 -> 6000000 | AF37: =+GEOMEAN(H37,L37,P37,T37,X37,AB37) -> 9145246.2 | AG37: =+GEOMEAN(J37,N37,R37,V37,Z37,AD37) -> 10882843 | AH37: =+HARMEAN(H37,L37,P37,T37,X37,AB37) -> 8718264.3 | AI37: =+HARMEAN(J37,N37,R37,V37,Z37,AD37) -> 10374734
C38: TOTAL SIBATE | H38: =SUM(H6:H37) -> 30258578 | I38: =SUM(I6:I37) -> 5749129.8 | J38: =SUM(J6:J37) -> 36007708 | K38: =SUM(K6:K37) -> 65361343 | L38: =SUM(L6:L37) -> 25856746 | M38: =SUM(M6:M37) -> 4912781.8 | N38: =SUM(N6:N37) -> 30769528 | O38: =SUM(O6:O37) -> 60680142 | ... AI38: =SUM(AI6:AI37) -> 27135199
C39: 2. SIMIJACA
C40: ITEM | D40: PRODUCTO / SERVICIO | E40: DESCRIPCIÓN PRODUCTO / SERVICIO | F40: UNIDAD DE MEDIDA | G40: CANTIDAD | H40: VALOR UNITARIO SIN IVA | I40: IVA | J40: VALOR UNITARIO CON IVA | K40: VALOR TOTAL (VALOR UNITARIO CON IVA X CANTIDAD) | L40: VALOR UNITARIO SIN IVA | M40: IVA | N40: VALOR UNITARIO CON IVA | O40: VALOR TOTAL (VALOR UNITARIO CON IVA X CANTIDAD) | P40: VALOR UNITARIO SIN IVA | Q40: IVA | R40: VALOR UNITARIO CON IVA | S40: VALOR TOTAL (VALOR UNITARIO CON IVA X CANTIDAD) | T40: VALOR UNITARIO SIN IVA | U40: IVA | V40: VALOR UNITARIO CON IVA | W40: VALOR TOTAL (VALOR UNITARIO CON IVA X CANTIDAD) | X40: VALOR UNITARIO SIN IVA | Y40: IVA | Z40: VALOR UNITARIO CON IVA | AA40: VALOR TOTAL (VALOR UNITARIO CON IVA X CANTIDAD) | AB40: VALOR UNITARIO SIN IVA | AC40: IVA | AD40: VALOR UNITARIO CON IVA | AE40: VALOR TOTAL (VALOR UNITARIO CON IVA X CANTIDAD) | AF40: VALOR UNITARIO SIN IVA | AG40: VALOR UNITARIO CON IVA | AH40: VALOR UNITARIO SIN IVA | AI40: VALOR UNITARIO CON IVA
C41: 2.1 | D41: AVISO EN CAJA PARA FACHADA | E41: AVISO EN CAJA PARA FACHADA DE 2.5 m x 0.75 m. IMPRESO EN BANNER TRASLUCIDO FULL COLOR, LAMINADO RESISTENTE A RAYOS UV. ILUMINACIÓN INTERNA TIPO LED DE ALTA DURABILIDAD, CONEXIÓN ELECTRICA A 110 V. CANTONERAS EN ALUMINIO. SE DEBE INTRAGAR INSTALADO EN SITIO. | F41: UN | G41: 1 | H41: 3806471 | I41: =H41*19% -> 723229.49 | J41: =H41+I41 -> 4529700.5 | K41: =G41*J41 -> 4529700.5 | L41: 2016806.7 | M41: =L41*19% -> 383193.28 | N41: =L41+M41 -> 2400000 | O41: =+G41*N41 -> 2400000 | P41: 3744578 | Q41: =+P41*0.19 -> 711469.82 | R41: =+P41+Q41 -> 4456047.8 | S41: =+G41*R41 -> 4456047.8 | T41: 3642494 | U41: =T41*19% -> 692073.86 | V41: =T41+U41 -> 4334567.9 | W41: =+G41*V41 -> 4334567.9 | X41: 3900235 | Y41: =+X41*0.19 -> 741044.65 | Z41: =+X41+Y41 -> 4641279.7 | AA41: =+G41*Z41 -> 4641279.7 | AF41: =+GEOMEAN(H41,L41,P41,T41,X41,AB41) -> 3328249.4 | AG41: =+GEOMEAN(J41,N41,R41,V41,Z41,AD41) -> 3960616.8 | AH41: =+HARMEAN(H41,L41,P41,T41,X41,AB41) -> 3212276.3 | AI41: =+HARMEAN(J41,N41,R41,V41,Z41,AD41) -> 3822608.8
C42: 2.2 | D42: PLANCHA A VAPOR SEMI-INDUSTRIAL | E42: PLANCHA A VAPOR USO SEMI-INDUSTRIAL, CUERPO EN ACERO INOXIDABLE, TANQUE DE AGUA DE MINIMO 4 LITROS DE ALMACENAMIENTO, SISTEMA DE ANTIGOTEO, CONTROL DE TEMPERATURA MANUAL. INCLUYE: GALON, MANGUERA Y BASE. | F42: UN | G42: 1 | H42: 618098 | I42: =H42*19% -> 117438.62 | J42: =H42+I42 -> 735536.62 | K42: =G42*J42 -> 735536.62 | L42: 520588.24 | M42: =L42*19% -> 98911.765 | N42: =L42+M42 -> 619500 | O42: =+G42*N42 -> 619500 | P42: 587778 | Q42: =+P42*0.19 -> 111677.82 | R42: =+P42+Q42 -> 699455.82 | S42: =+G42*R42 -> 699455.82 | T42: 613829 | U42: =T42*19% -> 116627.51 | V42: =T42+U42 -> 730456.51 | W42: =+G42*V42 -> 730456.51 | X42: 628160 | Y42: =+X42*0.19 -> 119350.4 | Z42: =+X42+Y42 -> 747510.4 | AA42: =+G42*Z42 -> 747510.4 | AB42: =+AD42/1.19 -> 403361.34 | AC42: =+AD42-AB42 -> 76638.655 | AD42: 480000 | AE42: =+G42*AD42 -> 480000 | AF42: =+GEOMEAN(H42,L42,P42,T42,X42,AB42) -> 555600.76 | AG42: =+GEOMEAN(J42,N42,R42,V42,Z42,AD42) -> 661164.9 | AH42: =+HARMEAN(H42,L42,P42,T42,X42,AB42) -> 548429.58 | AI42: =+HARMEAN(J42,N42,R42,V42,Z42,AD42) -> 652631.2
C43: 2.3 | D43: CABINA DE SONIDO ACTIVA DE 1000 WATTS | E43: CABINA DE SONIDO ACTIVA DE 1000 WATTS, 2 LINEAS, AMPLIFICADOR CLASED. ASAS ERGONOMICAS PARA COMODO AGARRE. DEBE CONTAR CON PUNTOS DE FIJACIÓN PARA INSTALACIÓN EN MODO SUSPENDIDO. DEBE INCLUIR: 1 SISTEMA DE SOPORTE TIPO TRIPO DE PLEGABLE DE ALUMINIO CON AJUSTE DE ALTURA, 1 MICROFONO ALAMBRICO, CABLE DE PODER Y CABLES PARA SU CORRECTO FUNCIONAMIENTO. | F43: UN | G43: 1 | H43: 3990000 | I43: =H43*19% -> 758100 | J43: =H43+I43 -> 4748100 | K43: =G43*J43 -> 4748100 | L43: 2431512.6 | M43: =L43*19% -> 461987.39 | N43: =L43+M43 -> 2893500 | O43: =+G43*N43 -> 2893500 | P43: 4244254 | Q43: =+P43*0.19 -> 806408.26 | R43: =+P43+Q43 -> 5050662.3 | S43: =+G43*R43 -> 5050662.3 | T43: 4348132 | U43: =T43*19% -> 826145.08 | V43: =T43+U43 -> 5174277.1 | W43: =+G43*V43 -> 5174277.1 | X43: 4084624 | Y43: =+X43*0.19 -> 776078.56 | Z43: =+X43+Y43 -> 4860702.6 | AA43: =+G43*Z43 -> 4860702.6 | AB43: =+AD43/1.19 -> 1621008.4 | AC43: =+AD43-AB43 -> 307991.6 | AD43: 1929000 | AE43: =+G43*AD43 -> 1929000 | AF43: =+GEOMEAN(H43,L43,P43,T43,X43,AB43) -> 3253232.8 | AG43: =+GEOMEAN(J43,N43,R43,V43,Z43,AD43) -> 3871347 | AH43: =+HARMEAN(H43,L43,P43,T43,X43,AB43) -> 3016272.5 | AI43: =+HARMEAN(J43,N43,R43,V43,Z43,AD43) -> 3589364.2
C44: 2.4 | D44: VIDEO BEAM | E44: VIDEO BEAM CON RESOLUCIÓN 1024x768, BRILLO MINIMO DE 3300 LUMENES (BLANCO Y COLOR), VIDA UTIL LAMPARA HASTA 12.000 HORAS, PUERTOS: RCA/HDMI/USB/STEREO/RS-232. ALIMENTACION 100v-240v, 50-60HZ, CUENTA CON MODO DE OPERACIÓN PARA DISMINUCIÓN DE CONSUMO ELECTRICO. INCLUYE CONTROL REMOTO. | F44: UN | G44: 1 | H44: 3220336 | I44: =H44*19% -> 611863.84 | J44: =H44+I44 -> 3832199.8 | K44: =G44*J44 -> 3832199.8 | L44: 2475000 | M44: =L44*19% -> 470250 | N44: =L44+M44 -> 2945250 | O44: =+G44*N44 -> 2945250 | P44: 3562886 | Q44: =+P44*0.19 -> 676948.34 | R44: =+P44+Q44 -> 4239834.3 | S44: =+G44*R44 -> 4239834.3 | T44: 3384406 | U44: =T44*19% -> 643037.14 | V44: =T44+U44 -> 4027443.1 | W44: =+G44*V44 -> 4027443.1 | X44: 3303044 | Y44: =+X44*0.19 -> 627578.36 | Z44: =+X44+Y44 -> 3930622.4 | AA44: =+G44*Z44 -> 3930622.4 | AB44: =+AD44/1.19 -> 2168067.2 | AC44: =+AD44-AB44 -> 411932.77 | AD44: 2580000 | AE44: =+G44*AD44 -> 2580000 | AF44: =+GEOMEAN(H44,L44,P44,T44,X44,AB44) -> 2971378.5 | AG44: =+GEOMEAN(J44,N44,R44,V44,Z44,AD44) -> 3535940.4 | AH44: =+HARMEAN(H44,L44,P44,T44,X44,AB44) -> 2920130.7 | AI44: =+HARMEAN(J44,N44,R44,V44,Z44,AD44) -> 3474955.6
C45: 2.5 | D45: COMPUTADOR PORTÁTIL | E45: COMPUTADOR PORTATIL CON PROCESADOR DE 8 NUCLEOS Y FRECUENCIA DE 3,3 GHZ, MEMORIA RAM DDR4 DE 16 GB, DISCO DE ESTADO SOLIDO DE 512 GB. PANTALLA TACTIL DE MINIMO 15", RESOLUCIÓN FHD (19020 x 1080). TARJETA GRAFICA INTEGRADA. CAMARA CON RESOLUCIÓN MINIMO 1080P. PUERTOS Y/O RANURAS: 1 PUERTO USB-C, 2 PUERTO USB-A, 1 PUERTO HDMI, 1 LECTOR DE TARJETAS SD, 1 TOMA PARA AURICURALES. SISTEMA OPERATIVO WINDOWS 11 EN CUALQUIERA DE SUS VERSIONES. INCLUYE CARGADOR. | F45: UN | G45: 1 | H45: 4063000 | I45: =H45*19% -> 771970 | J45: =H45+I45 -> 4834970 | K45: =G45*J45 -> 4834970 | L45: 2646932.8 | M45: =L45*19% -> 502917.23 | N45: =L45+M45 -> 3149850 | O45: =+G45*N45 -> 3149850 | P45: 3907847 | Q45: =+P45*0.19 -> 742490.93 | R45: =+P45+Q45 -> 4650337.9 | S45: =+G45*R45 -> 4650337.9 | T45: 4049283 | U45: =T45*19% -> 769363.77 | V45: =T45+U45 -> 4818646.8 | W45: =+G45*V45 -> 4818646.8 | X45: 3790962 | Y45: =+X45*0.19 -> 720282.78 | Z45: =+X45+Y45 -> 4511244.8 | AA45: =+G45*Z45 -> 4511244.8 | AB45: =+AD45/1.19 -> 4638428.6 | AC45: =+AD45-AB45 -> 881301.43 | AD45: 5519730 | AE45: =+G45*AD45 -> 5519730 | AF45: =+GEOMEAN(H45,L45,P45,T45,X45,AB45) -> 3796099.8 | AG45: =+GEOMEAN(J45,N45,R45,V45,Z45,AD45) -> 4517358.7 | AH45: =+HARMEAN(H45,L45,P45,T45,X45,AB45) -> 3735646.8 | AI45: =+HARMEAN(J45,N45,R45,V45,Z45,AD45) -> 4445419.7
C46: 2.6 | D46: IMPRESORA MULTIFUNCIONAL | E46: IMPRESORA MULTIFUNCIONAL CON SISTEMA DE IMPRESIÓN DE INYECCIÓN TIPO TANQUE, RESOLUCIÓN DE IMPRESIÓN MINIMA DE 5760X1440 DPI, VELOCIDAD DE IMPRESIÓN DE 33PPM EN NEGRO Y 15PPM A COLOR. RESOLUCIÓN OPTICA PARA COPIAS Y ESCANER DE 600x1200 DPI. CONECTIVIDAD DE ALTA VELOCIDAD USB. COMPATIBILIDAD CON SISTEMAS OPERATIVOS WINDOWS Y MAC. VOLTAJE DE ALIMENTACIÓN DE 110V. DEBE INCLUIR UN JUEGO DE TINTAS DE CADA COLOR (NEGRO, CYAN, MAGENTA, AMARILLO). | F46: UN | G46: 1 | H46: 1474185 | I46: =H46*19% -> 280095.15 | J46: =H46+I46 -> 1754280.1 | K46: =G46*J46 -> 1754280.1 | L46: 2546092.4 | M46: =L46*19% -> 483757.56 | N46: =L46+M46 -> 3029850 | O46: =+G46*N46 -> 3029850 | P46: 1686122 | Q46: =+P46*0.19 -> 320363.18 | R46: =+P46+Q46 -> 2006485.2 | S46: =+G46*R46 -> 2006485.2 | T46: 1526486 | U46: =T46*19% -> 290032.34 | V46: =T46+U46 -> 1816518.3 | W46: =+G46*V46 -> 1816518.3 | X46: 1498029 | Y46: =+X46*0.19 -> 284625.51 | Z46: =+X46+Y46 -> 1782654.5 | AA46: =+G46*Z46 -> 1782654.5 | AB46: =+AD46/1.19 -> 3142857.1 | AC46: =+AD46-AB46 -> 597142.86 | AD46: 3740000 | AE46: =+G46*AD46 -> 3740000 | AF46: =+GEOMEAN(H46,L46,P46,T46,X46,AB46) -> 1889334.3 | AG46: =+GEOMEAN(J46,N46,R46,V46,Z46,AD46) -> 2248307.8 | AH46: =+HARMEAN(H46,L46,P46,T46,X46,AB46) -> 1815430.3 | AI46: =+HARMEAN(J46,N46,R46,V46,Z46,AD46) -> 2160362.1
C47: 2.7 | D47: KIT DE TINTAS GENÉRICAS | E47: KIT DE TINTAS GENERICAS PARA IMPRESORAS DE INYECCIÓN. INCLUYE: 1 LITRO DE TINTA COLOR NEGRO, 1 LITRO DE TINTA COLOR MAGENTA, 1 LITRO DE TINTA COLOR AMARILLA, 1 LITRO DE TINTA COLOR CYAN. | F47: UN | G47: 1 | H47: 173466 | I47: =H47*19% -> 32958.54 | J47: =H47+I47 -> 206424.54 | K47: =G47*J47 -> 206424.54 | L47: 180126.05 | M47: =L47*19% -> 34223.95 | N47: =L47+M47 -> 214350 | O47: =+G47*N47 -> 214350 | P47: 162684 | Q47: =+P47*0.19 -> 30909.96 | R47: =+P47+Q47 -> 193593.96 | S47: =+G47*R47 -> 193593.96 | T47: 175898 | U47: =T47*19% -> 33420.62 | V47: =T47+U47 -> 209318.62 | W47: =+G47*V47 -> 209318.62 | X47: 168572 | Y47: =+X47*0.19 -> 32028.68 | Z47: =+X47+Y47 -> 200600.68 | AA47: =+G47*Z47 -> 200600.68 | AB47: =+AD47/1.19 -> 147058.82 | AC47: =+AD47-AB47 -> 27941.176 | AD47: 175000 | AE47: =+G47*AD47 -> 175000 | AF47: =+GEOMEAN(H47,L47,P47,T47,X47,AB47) -> 167601.87 | AG47: =+GEOMEAN(J47,N47,R47,V47,Z47,AD47) -> 199446.23 | AH47: =+HARMEAN(H47,L47,P47,T47,X47,AB47) -> 167220.96 | AI47: =+HARMEAN(J47,N47,R47,V47,Z47,AD47) -> 198992.95
C48: 2.8 | D48: TABLERO ACRÍLICO | E48: TABLERO ACRILICO DE 2.4 m x 1.2 m, ESTRUCTURA DE MINIMO 1 CM DE ESPESOR, FORMICA BRILLANTE DE ALTA DURABILIDAD Y FACIL LIMPIEZA, BORDES EN ALUMINIO. | F48: UN | G48: 1 | H48: 551748 | I48: =H48*19% -> 104832.12 | J48: =H48+I48 -> 656580.12 | K48: =G48*J48 -> 656580.12 | L48: 804303 | M48: =L48*19% -> 152817.57 | N48: =L48+M48 -> 957120.57 | O48: =+G48*N48 -> 957120.57 | P48: 526151 | Q48: =+P48*0.19 -> 99968.69 | R48: =+P48+Q48 -> 626119.69 | S48: =+G48*R48 -> 626119.69 | T48: 593083 | U48: =T48*19% -> 112685.77 | V48: =T48+U48 -> 705768.77 | W48: =+G48*V48 -> 705768.77 | X48: 564590 | Y48: =+X48*0.19 -> 107272.1 | Z48: =+X48+Y48 -> 671862.1 | AA48: =+G48*Z48 -> 671862.1 | AB48: =+AD48/1.19 -> 450000 | AC48: =+AD48-AB48 -> 85500 | AD48: 535500 | AE48: =+G48*AD48 -> 535500 | AF48: =+GEOMEAN(H48,L48,P48,T48,X48,AB48) -> 572429.5 | AG48: =+GEOMEAN(J48,N48,R48,V48,Z48,AD48) -> 681191.1 | AH48: =+HARMEAN(H48,L48,P48,T48,X48,AB48) -> 564129.65 | AI48: =+HARMEAN(J48,N48,R48,V48,Z48,AD48) -> 671314.29
C49: 2.9 | D49: TERMOFIJADORA MULTIUSOS | E49: TERMOFIJADORA MULTIUSOS, PERMITE ESTAMPADO EN DIFERENTES MATERIALES: CERAMICA, VIDRIO, TEXTILES, PLASTICO, CARTON, ALUMINIO Y ACERO. CUENTA CON: 1 ESTAMPADORA DE CAMISETAS, 1 ESTAMPADORA DE GORRAS, 4 SUBLIMADOAS PARA POCILLOS O MUGS, 2 MAQUINAS PARA ESTAMPAR PLATOS. CONTROL DIGITAL DE TIEMPO Y TEMPERATURA, RESISTENCIAS INTERCAMBIABLES. ESTRUCTURA METALICA, RESISTENCIAS EN CAUCHOS SILICONADO, PROTECTORES CON TEFLON. AREA MAXIMA DE ESTAMPACIÓN DE 38 x 29 CM. CONEXIÓN ELECTRICA A 110V. | F49: UN | G49: 1 | H49: 2567274 | I49: =H49*19% -> 487782.06 | J49: =H49+I49 -> 3055056.1 | K49: =G49*J49 -> 3055056.1 | L49: 1865546.2 | M49: =L49*19% -> 354453.78 | N49: =L49+M49 -> 2220000 | O49: =+G49*N49 -> 2220000 | P49: 2493789 | Q49: =+P49*0.19 -> 473819.91 | R49: =+P49+Q49 -> 2967608.9 | S49: =+G49*R49 -> 2967608.9 | T49: 2714089 | U49: =T49*19% -> 515676.91 | V49: =T49+U49 -> 3229765.9 | W49: =+G49*V49 -> 3229765.9 | X49: 2685297 | Y49: =+X49*0.19 -> 510206.43 | Z49: =+X49+Y49 -> 3195503.4 | AA49: =+G49*Z49 -> 3195503.4 | AB49: =+AD49/1.19 -> 1512605 | AC49: =+AD49-AB49 -> 287394.96 | AD49: 1800000 | AE49: =+G49*AD49 -> 1800000 | AF49: =+GEOMEAN(H49,L49,P49,T49,X49,AB49) -> 2255519.8 | AG49: =+GEOMEAN(J49,N49,R49,V49,Z49,AD49) -> 2684068.6 | AH49: =+HARMEAN(H49,L49,P49,T49,X49,AB49) -> 2199004.3 | AI49: =+HARMEAN(J49,N49,R49,V49,Z49,AD49) -> 2616815.1
C50: 2.10 | D50: LICUADORA DE 2.1 LITROS | E50: LICUADORA DE 2.1 LITROS, POTENCIA DE 1000 W, 4 VELOCIDADES, CUCHILLAS DESMONTABLES, CONEXIÓN ELECTRICA A 110V/120V, BASE ANTIDESLIZANTE. | F50: UN | G50: 1 | H50: 706739 | I50: =H50*19% -> 134280.41 | J50: =H50+I50 -> 841019.41 | K50: =G50*J50 -> 841019.41 | L50: 756176.47 | M50: =L50*19% -> 143673.53 | N50: =L50+M50 -> 899850 | O50: =+G50*N50 -> 899850 | P50: 670920 | Q50: =+P50*0.19 -> 127474.8 | R50: =+P50+Q50 -> 798394.8 | S50: =+G50*R50 -> 798394.8 | T50: 722567 | U50: =T50*19% -> 137287.73 | V50: =T50+U50 -> 859854.73 | W50: =+G50*V50 -> 859854.73 | X50: 722439 | Y50: =+X50*0.19 -> 137263.41 | Z50: =+X50+Y50 -> 859702.41 | AA50: =+G50*Z50 -> 859702.41 | AB50: =+AD50/1.19 -> 252100.84 | AC50: =+AD50-AB50 -> 47899.16 | AD50: 300000 | AE50: =+G50*AD50 -> 300000 | AF50: =+GEOMEAN(H50,L50,P50,T50,X50,AB50) -> 601129.11 | AG50: =+GEOMEAN(J50,N50,R50,V50,Z50,AD50) -> 715343.64 | AH50: =+HARMEAN(H50,L50,P50,T50,X50,AB50) -> 547310.22 | AI50: =+HARMEAN(J50,N50,R50,V50,Z50,AD50) -> 651299.16
C51: 2.11 | D51: KIT DE TINTAS PARA SUBLIMAR | E51: KIT DE TINTAS PARA SUBLIMAR, INCLUYE: 1 LITRO COLOR AMARILLO, 1 LITRO COLOR CYAN, 1 LITRO COLOR MAGENTA Y 1 LITRO COLOR NEGRO. | F51: UN | G51: 1 | H51: 1196320 | I51: =H51*19% -> 227300.8 | J51: =H51+I51 -> 1423620.8 | K51: =G51*J51 -> 1423620.8 | L51: 1121340 | M51: =L51*19% -> 213054.6 | N51: =L51+M51 -> 1334394.6 | O51: =+G51*N51 -> 1334394.6 | P51: 1180542 | Q51: =+P51*0.19 -> 224302.98 | R51: =+P51+Q51 -> 1404845 | S51: =+G51*R51 -> 1404845 | T51: 1242088 | U51: =T51*19% -> 235996.72 | V51: =T51+U51 -> 1478084.7 | W51: =+G51*V51 -> 1478084.7 | X51: 1175150 | Y51: =+X51*0.19 -> 223278.5 | Z51: =+X51+Y51 -> 1398428.5 | AA51: =+G51*Z51 -> 1398428.5 | AB51: =+AD51/1.19 -> 403361.34 | AC51: =+AD51-AB51 -> 76638.655 | AD51: 480000 | AE51: =+G51*AD51 -> 480000 | AF51: =+GEOMEAN(H51,L51,P51,T51,X51,AB51) -> 988403.66 | AG51: =+GEOMEAN(J51,N51,R51,V51,Z51,AD51) -> 1176200.4 | AH51: =+HARMEAN(H51,L51,P51,T51,X51,AB51) -> 894191.34 | AI51: =+HARMEAN(J51,N51,R51,V51,Z51,AD51) -> 1064087.7
C52: 2.12 | D52: ARCHIVADOR METÁLICO | E52: ARCHIVADOR METALICO DE 3 GAVETAS, FABRICADO EN LAMINA CALIBRE 24 O SUPERIOR, TERMINACIÓN PINTURA ELECTROESTATICA, CORREDERAS FULL EXTENSION, SISTEMA DE SEGURIDAD CON CHAPA. ALTURA MINIMA DEL MUEBLE DE 1 METRO. | F52: UN | G52: 1 | H52: 1683911 | I52: =H52*19% -> 319943.09 | J52: =H52+I52 -> 2003854.1 | K52: =G52*J52 -> 2003854.1 | L52: 1687815.1 | M52: =L52*19% -> 320684.87 | N52: =L52+M52 -> 2008500 | O52: =+G52*N52 -> 2008500 | P52: 1599863 | Q52: =+P52*0.19 -> 303973.97 | R52: =+P52+Q52 -> 1903837 | S52: =+G52*R52 -> 1903837 | T52: 1697456 | U52: =T52*19% -> 322516.64 | V52: =T52+U52 -> 2019972.6 | W52: =+G52*V52 -> 2019972.6 | X52: 1644037 | Y52: =+X52*0.19 -> 312367.03 | Z52: =+X52+Y52 -> 1956404 | AA52: =+G52*Z52 -> 1956404 | AB52: =+AD52/1.19 -> 885714.29 | AC52: =+AD52-AB52 -> 168285.71 | AD52: 1054000 | AE52: =+G52*AD52 -> 1054000 | AF52: =+GEOMEAN(H52,L52,P52,T52,X52,AB52) -> 1496655.2 | AG52: =+GEOMEAN(J52,N52,R52,V52,Z52,AD52) -> 1781019.7 | AH52: =+HARMEAN(H52,L52,P52,T52,X52,AB52) -> 1450046.3 | AI52: =+HARMEAN(J52,N52,R52,V52,Z52,AD52) -> 1725555
C53: 2.13 | D53: SILLA DE LACTANCÍA | E53: SILLA DE LACTANCIA TIPO MECEDORA ACOLCHADA, ESTRUCTURA EN MADERA MACIZA, TELA ANTIFLUIDO DE FACIL LIMPIEZA. ALTURA MINIMA DE 1 METRO. | F53: UN | G53: 1 | H53: 2120748 | I53: =H53*19% -> 402942.12 | J53: =H53+I53 -> 2523690.1 | K53: =G53*J53 -> 2523690.1 | L53: 3767647.1 | M53: =L53*19% -> 715852.94 | N53: =L53+M53 -> 4483500 | O53: =+G53*N53 -> 4483500 | P53: 1999606 | Q53: =+P53*0.19 -> 379925.14 | R53: =+P53+Q53 -> 2379531.1 | S53: =+G53*R53 -> 2379531.1 | T53: 2179377 | U53: =T53*19% -> 414081.63 | V53: =T53+U53 -> 2593458.6 | W53: =+G53*V53 -> 2593458.6 | X53: 2159806 | Y53: =+X53*0.19 -> 410363.14 | Z53: =+X53+Y53 -> 2570169.1 | AA53: =+G53*Z53 -> 2570169.1 | AB53: =+AD53/1.19 -> 1211764.7 | AC53: =+AD53-AB53 -> 230235.29 | AD53: 1442000 | AE53: =+G53*AD53 -> 1442000 | AF53: =+GEOMEAN(H53,L53,P53,T53,X53,AB53) -> 2121346 | AG53: =+GEOMEAN(J53,N53,R53,V53,Z53,AD53) -> 2524401.8 | AH53: =+HARMEAN(H53,L53,P53,T53,X53,AB53) -> 2010628.3 | AI53: =+HARMEAN(J53,N53,R53,V53,Z53,AD53) -> 2392647.6
... C69: 2.29 | D69: OVILLO DE HILO MACRAMÉ 100% ACRILICO | E69: OVILLO DE HILO MACRAMÉ 100% ACRILICO, GROSOR DE 2 mm, PRESENTACIÓN DE OVILLO POR 100 GRAMOS. VARIEDAD DE COLORES A ELEGIR. | F69: UN | G69: 30 | H69: 31268 | I69: =H69*19% -> 5940.92 | J69: =H69+I69 -> 37208.92 | K69: =G69*J69 -> 1116267.6 | L69: 13500 | M69: =L69*19% -> 2565 | N69: =L69+M69 -> 16065 | O69: =+G69*N69 -> 481950 | P69: 30768 | Q69: =+P69*0.19 -> 5845.92 | R69: =+P69+Q69 -> 36613.92 | S69: =+G69*R69 -> 1098417.6 | T69: 32588 | U69: =T69*19% -> 6191.72 | V69: =T69+U69 -> 38779.72 | W69: =+G69*V69 -> 1163391.6 | X69: 32076 | Y69: =+X69*0.19 -> 6094.44 | Z69: =+X69+Y69 -> 38170.44 | AA69: =+G69*Z69 -> 1145113.2 | AB69: =+AD69/1.19 -> 80588.235 | AC69: =+AD69-AB69 -> 15311.765 | AD69: 95900 | AE69: =+G69*AD69 -> 2877000 | AF69: =+GEOMEAN(H69,L69,P69,T69,X69,AB69) -> 32100.154 | AG69: =+GEOMEAN(J69,N69,R69,V69,Z69,AD69) -> 38199.183 | AH69: =+HARMEAN(H69,L69,P69,T69,X69,AB69) -> 28191.804 | AI69: =+HARMEAN(J69,N69,R69,V69,Z69,AD69) -> 33548.247
C70: TOTAL SIMIJACA | H70: =SUM(H41:H69) -> 28305280 | I70: =SUM(I41:I69) -> 5378003.2 | J70: =SUM(J41:J69) -> 33683283 | K70: =SUM(K41:K69) -> 59313071 | L70: =SUM(L41:L69) -> 24585866 | M70: =SUM(M41:M69) -> 4671314.5 | N70: =SUM(N41:N69) -> 29257180 | O70: =SUM(O41:O69) -> 46368715 | ... AI70: =SUM(AI41:AI69) -> 29282206
C71: 3. CAQUEZA
C72: ITEM | D72: PRODUCTO / SERVICIO | E72: DESCRIPCIÓN PRODUCTO / SERVICIO | F72: UNIDAD DE MEDIDA | G72: CANTIDAD | H72: VALOR UNITARIO SIN IVA | I72: IVA | J72: VALOR UNITARIO CON IVA | K72: VALOR TOTAL (VALOR UNITARIO CON IVA X CANTIDAD) | L72: VALOR UNITARIO SIN IVA | M72: IVA | N72: VALOR UNITARIO CON IVA | O72: VALOR TOTAL (VALOR UNITARIO CON IVA X CANTIDAD) | P72: VALOR UNITARIO SIN IVA | Q72: IVA | R72: VALOR UNITARIO CON IVA | S72: VALOR TOTAL (VALOR UNITARIO CON IVA X CANTIDAD) | T72: VALOR UNITARIO SIN IVA | U72: IVA | V72: VALOR UNITARIO CON IVA | W72: VALOR TOTAL (VALOR UNITARIO CON IVA X CANTIDAD) | X72: VALOR UNITARIO SIN IVA | Y72: IVA | Z72: VALOR UNITARIO CON IVA | AA72: VALOR TOTAL (VALOR UNITARIO CON IVA X CANTIDAD) | AB72: VALOR UNITARIO SIN IVA | AC72: IVA | AD72: VALOR UNITARIO CON IVA | AE72: VALOR TOTAL (VALOR UNITARIO CON IVA X CANTIDAD) | AF72: VALOR UNITARIO SIN IVA | AG72: VALOR UNITARIO CON IVA | AH72: VALOR UNITARIO SIN IVA | AI72: VALOR UNITARIO CON IVA
C73: 3.1. | D73: VIDEO BEAM CON RESOLUCIÓN 1024x768 | E73: VIDEO BEAM CON RESOLUCIÓN 1024x768, BRILLO MINIMO DE 3300 LUMENES (BLANCO Y COLOR), VIDA UTIL LAMPARA HASTA 12.000 HORAS, PUERTOS: RCA/HDMI/USB/STEREO/RS-232. ALIMENTACION 100v-240v, 50-60HZ, CUENTA CON MODO DE OPERACIÓN PARA DISMINUCIÓN DE CONSUMO ELECTRICO. INCLUYE CONTROL REMOTO. | F73: UN | G73: 1 | H73: 3220336 | I73: =H73*19% -> 611863.84 | J73: =H73+I73 -> 3832199.8 | K73: =G73*J73 -> 3832199.8 | L73: 3700065.1 | M73: =L73*19% -> 703012.37 | N73: =L73+M73 -> 4403077.5 | O73: =+G73*N73 -> 4403077.5 | P73: 3562886 | Q73: =+P73*0.19 -> 676948.34 | R73: =+P73+Q73 -> 4239834.3 | S73: =+G73*R73 -> 4239834.3 | T73: 3384406 | U73: =T73*19% -> 643037.14 | V73: =T73+U73 -> 4027443.1 | W73: =+G73*V73 -> 4027443.1 | X73: 3303044 | Y73: =+X73*0.19 -> 627578.36 | Z73: =+X73+Y73 -> 3930622.4 | AA73: =+G73*Z73 -> 3930622.4 | AB73: =+AD73/1.19 -> 2168067.2 | AC73: =+AD73-AB73 -> 411932.77 | AD73: 2580000 | AE73: =+G73*AD73 -> 2580000 | AF73: =+GEOMEAN(H73,L73,P73,T73,X73,AB73) -> 3177339.9 | AG73: =+GEOMEAN(J73,N73,R73,V73,Z73,AD73) -> 3781034.5 | AH73: =+HARMEAN(H73,L73,P73,T73,X73,AB73) -> 3123490.9 | AI73: =+HARMEAN(J73,N73,R73,V73,Z73,AD73) -> 3716954.2
C74: 3.2 | D74: COMPUTADOR DE ESCRITORIO | E74: COMPUTADOR DE ESCRITORIO CON PROCESADOR MINIMO DE 8 NUCLEOS Y 3,4GHz DE FRECUENCIA DE RELOJ, MEMORIA RAM DDR4 DE 16 GB, 1 DISCO DURO HDD DE 1 TB Y 1 DISCO DURO SDD DE 512 GB, CON TARJETA GRAFICA Y TARJETA DE RED 100/1000 Y CONEXIÓN WIFI, SISTEMA OPERATIVO WINDOWS 10 O SUPERIOR EN LA VERSION PRO, MONITOR CON RESOLUCIÓN FULL HD Y TAMAÑO MINIMO DE 21". TECLADO Y MOUSE ESTANDAR CON CONEXIÓN USB. EL EQUIPO SE DEBE ENTREGAR TOTALMENTE ENSAMBLADO Y FUNCIONANDO. CPU, MONITOR, MOUSE Y TECLADO DEBEN SER COMPATIBLES Y DEL MISMO FABRICANTE. SE DEBE INCLUIR DISPOSITIVO EXTERNO PARA CONEXIÓN ELECTRICA CON SUPRESIÓN DE PICOS. | F74: UN | G74: 2 | H74: 3937368 | I74: =H74*19% -> 748099.92 | J74: =H74+I74 -> 4685467.9 | K74: =G74*J74 -> 9370935.8 | L74: 5555400 | M74: =L74*19% -> 1055526 | N74: =L74+M74 -> 6610926 | O74: =+G74*N74 -> 13221852 | P74: 4348849 | Q74: =+P74*0.19 -> 826281.31 | R74: =+P74+Q74 -> 5175130.3 | S74: =+G74*R74 -> 10350261 | T74: 4048272 | U74: =T74*19% -> 769171.68 | V74: =T74+U74 -> 4817443.7 | W74: =+G74*V74 -> 9634887.4 | X74: 4087929 | Y74: =+X74*0.19 -> 776706.51 | Z74: =+X74+Y74 -> 4864635.5 | AA74: =+G74*Z74 -> 9729271 | AB74: =+AD74/1.19 -> 3557142.9 | AC74: =+AD74-AB74 -> 675857.14 | AD74: 4233000 | AE74: =+G74*AD74 -> 8466000 | AF74: =+GEOMEAN(H74,L74,P74,T74,X74,AB74) -> 4214004.6 | AG74: =+GEOMEAN(J74,N74,R74,V74,Z74,AD74) -> 5014665.4 | AH74: =+HARMEAN(H74,L74,P74,T74,X74,AB74) -> 4176255.2 | AI74: =+HARMEAN(J74,N74,R74,V74,Z74,AD74) -> 4969743.6
...

Sheet CUADRO COMPARATIVO PORCENTAJE 
C1: GOBERNACIÓN DE CUNDINAMARCA | H1: COMTELECTRIC SAS | L1: ROMING SAS | P1: SOS SOLUCIONES Y SREVICIOS SAS | T1: SISELCOM SAS | X1: AQSERV SAS | AB1: PRECIOS HISTORICOS Y/O DEL MERCADO | AF1: MEDIA GEOMÉTRICA SECRETARIA DE LA MUJER | AH1: MEDIA ARMÓNICA SECRETARIA DE LA MUJER
C2: SECRETARIA DE LA MUJER Y EQUIDAD DE GÉNERO
C3: OBJETO: ADECUACIÓN Y SUMINISTRO DE ELEMENTOS NECESARIOS PARA EL FUNCIONAMIENTO APROPIADO DE ESPACIOS Y CASAS SOCIALES DE LA MUJER, DE LOS MUNICIPIOS FOCALIZADOS EN EL DEPARTAMENTO DE CUNDINAMARCA.
C4: 1. SIBATE
C5: ITEM | D5: PRODUCTO / SERVICIO | E5: DESCRIPCIÓN PRODUCTO / SERVICIO | F5: UNIDAD DE MEDIDA | G5: CANTIDAD | H5: VALOR UNITARIO SIN IVA | I5: IVA | J5: VALOR UNITARIO CON IVA | K5: VALOR TOTAL (VALOR UNITARIO CON IVA X CANTIDAD) | L5: VALOR UNITARIO SIN IVA | M5: IVA | N5: VALOR UNITARIO CON IVA | O5: VALOR TOTAL (VALOR UNITARIO CON IVA X CANTIDAD) | P5: VALOR UNITARIO SIN IVA | Q5: IVA | R5: VALOR UNITARIO CON IVA | S5: VALOR TOTAL (VALOR UNITARIO CON IVA X CANTIDAD) | T5: VALOR UNITARIO SIN IVA | U5: IVA | V5: VALOR UNITARIO CON IVA | W5: VALOR TOTAL (VALOR UNITARIO CON IVA X CANTIDAD) | X5: VALOR UNITARIO SIN IVA | Y5: IVA | Z5: VALOR UNITARIO CON IVA | AA5: VALOR TOTAL (VALOR UNITARIO CON IVA X CANTIDAD) | AB5: VALOR UNITARIO SIN IVA | AC5: IVA | AD5: VALOR UNITARIO CON IVA | AE5: VALOR TOTAL (VALOR UNITARIO CON IVA X CANTIDAD) | AF5: VALOR UNITARIO SIN IVA | AG5: VALOR UNITARIO CON IVA | AH5: VALOR UNITARIO SIN IVA | AI5: VALOR UNITARIO CON IVA
C6: 1.1 | D6: ESTUFA A GAS | E6: ESTUFA A GAS CON 6 QUEMADORES, ESTRUCTURA FABRICADA EN ACERO INOXIDABLE, QUEMADORES Y PARRILLAS EN HIERRO FUNDIDO, BANDEJA RECOLECTORA DE RESIDUOS. CONFIGURACIÓN PARA GAS NATURAL O PROPANO. | F6: UN | G6: 1 | H6: 7360000 | I6: =H6*19% -> 1398400 | J6: =H6+I6 -> 8758400 | K6: =G6*J6 -> 8758400 | L6: 6806722.7 | M6: =L6*19% -> 1293277.3 | N6: =L6+M6 -> 8100000 | O6: =+G6*N6 -> 8100000 | P6: 7234110 | Q6: =+P6*0.19 -> 1374480.9 | R6: =+P6+Q6 -> 8608590.9 | S6: =+G6*R6 -> 8608590.9 | T6: 7604171 | U6: =T6*19% -> 1444792.5 | V6: =T6+U6 -> 9048963.5 | W6: =+G6*V6 -> 9048963.5 | X6: 6935933 | Y6: =+X6*0.19 -> 1317827.3 | Z6: =+X6+Y6 -> 8253760.3 | AA6: =+G6*Z6 -> 8253760.3 | AB6: =+AD6/1.19 -> 2000000 | AC6: =+AD6-AB6 -> 380000 | AD6: 2380000 | AE6: =+G6*AD6 -> 2380000 | AF6: =+GEOMEAN(H6,L6,P6,T6,X6,AB6) -> 5804051.9 | AG6: =+GEOMEAN(J6,N6,R6,V6,Z6,AD6) -> 6906821.8 | AH6: =+HARMEAN(H6,L6,P6,T6,X6,AB6) -> 5013785.3 | AI6: =+HARMEAN(J6,N6,R6,V6,Z6,AD6) -> 5966404.5
C7: 1.2 | D7: ARMARIO ORGANIZADOR METÁLICO | E7: ARMARIO ORGANIZADOR METALICO, ESTRUCTURA EN LAMINA CALIBRE 22, TERMINACION CON PINTURA ELECTROESTATICA. DIMENSIONES MINIMAS DE 180 x 90 CM. DEBE INCLUIR 4 ENTREPAÑOS GRADUABLES Y 2 PUERTAS CON CERRADURA TIPO MANIJA QUE PERMITA ASEGURAR EN 3 PUNTOS. | F7: UN | G7: 3 | H7: 2510367 | I7: =H7*19% -> 476969.73 | J7: =H7+I7 -> 2987336.7 | K7: =G7*J7 -> 8962010.2 | L7: 1662605 | M7: =L7*19% -> 315894.96 | N7: =L7+M7 -> 1978500 | O7: =+G7*N7 -> 5935500 | P7: 2506736 | Q7: =+P7*0.19 -> 476279.84 | R7: =+P7+Q7 -> 2983015.8 | S7: =+G7*R7 -> 8949047.5 | T7: 2401067 | U7: =T7*19% -> 456202.73 | V7: =T7+U7 -> 2857269.7 | W7: =+G7*V7 -> 8571809.2 | X7: 2384780 | Y7: =+X7*0.19 -> 453108.2 | Z7: =+X7+Y7 -> 2837888.2 | AA7: =+G7*Z7 -> 8513664.6 | AB7: =+AD7/1.19 -> 885714.29 | AC7: =+AD7-AB7 -> 168285.71 | AD7: 1054000 | AE7: =+G7*AD7 -> 3162000 | AF7: =+GEOMEAN(H7,L7,P7,T7,X7,AB7) -> 1938489.8 | AG7: =+GEOMEAN(J7,N7,R7,V7,Z7,AD7) -> 2306802.9 | AH7: =+HARMEAN(H7,L7,P7,T7,X7,AB7) -> 1783814.4 | AI7: =+HARMEAN(J7,N7,R7,V7,Z7,AD7) -> 2122739.1
C8: 1.3 | D8: MESA PLEGABLE | E8: MESA PLEGABLE PLASTICA TIPO MALETIN, ESTRUCTURA EN ACERO, TABLERO EN POLIETILENO DE ALTA DENSIDAD, DIMENSIONES MINIMAS DE 180 CM DE LARGO Y 70 CM DE ANCHO | F8: UN | G8: 10 | H8: 348700 | I8: =H8*19% -> 66253 | J8: =H8+I8 -> 414953 | K8: =G8*J8 -> 4149530 | L8: 214159.66 | M8: =L8*19% -> 40690.336 | N8: =L8+M8 -> 254850 | O8: =+G8*N8 -> 2548500 | P8: 350928 | Q8: =+P8*0.19 -> 66676.32 | R8: =+P8+Q8 -> 417604.32 | S8: =+G8*R8 -> 4176043.2 | T8: 332517 | U8: =T8*19% -> 63178.23 | V8: =T8+U8 -> 395695.23 | W8: =+G8*V8 -> 3956952.3 | X8: 326266 | Y8: =+X8*0.19 -> 61990.54 | Z8: =+X8+Y8 -> 388256.54 | AA8: =+G8*Z8 -> 3882565.4 | AB8: =+AD8/1.19 -> 257142.86 | AC8: =+AD8-AB8 -> 48857.143 | AD8: 306000 | AE8: =+G8*AD8 -> 3060000 | AF8: =+GEOMEAN(H8,L8,P8,T8,X8,AB8) -> 300142.82 | AG8: =+GEOMEAN(J8,N8,R8,V8,Z8,AD8) -> 357169.96 | AH8: =+HARMEAN(H8,L8,P8,T8,X8,AB8) -> 294868.79 | AI8: =+HARMEAN(J8,N8,R8,V8,Z8,AD8) -> 350893.87
C9: 1.4 | D9: SILLA PLÁSTICA | E9: SILLA PLÁSTICA CON BRAZOS, RESISTENCIA MINIMA DE 115 KILOS. MEDIDAS APROXIMADAS DE 57 x 60 x 80 CM. COLOR BLANCO O CAFE. | F9: UN | G9: 20 | H9: 75571 | I9: =H9*19% -> 14358.49 | J9: =H9+I9 -> 89929.49 | K9: =G9*J9 -> 1798589.8 | L9: 75504.202 | M9: =L9*19% -> 14345.798 | N9: =L9+M9 -> 89850 | O9: =+G9*N9 -> 1797000 | P9: 88777 | Q9: =+P9*0.19 -> 16867.63 | R9: =+P9+Q9 -> 105644.63 | S9: =+G9*R9 -> 2112892.6 | T9: 76923 | U9: =T9*19% -> 14615.37 | V9: =T9+U9 -> 91538.37 | W9: =+G9*V9 -> 1830767.4 | X9: 77771 | Y9: =+X9*0.19 -> 14776.49 | Z9: =+X9+Y9 -> 92547.49 | AA9: =+G9*Z9 -> 1850949.8 | AB9: =+AD9/1.19 -> 75571.429 | AC9: =+AD9-AB9 -> 14358.571 | AD9: 89930 | AE9: =+G9*AD9 -> 1798600 | AF9: =+GEOMEAN(H9,L9,P9,T9,X9,AB9) -> 78218.542 | AG9: =+GEOMEAN(J9,N9,R9,V9,Z9,AD9) -> 93080.064 | AH9: =+HARMEAN(H9,L9,P9,T9,X9,AB9) -> 78092.609 | AI9: =+HARMEAN(J9,N9,R9,V9,Z9,AD9) -> 92930.205
C10: 1.5 | D10: BANDEJA PARA PANADERÍA | E10: BANDEJA PARA PANADERIA DE 60 x 40 CM, TROQUELADA, FABRICADA EN ALUMINIO MINIMO CALIBRE 20. | F10: UN | G10: 6 | H10: 143830 | I10: =H10*19% -> 27327.7 | J10: =H10+I10 -> 171157.7 | K10: =G10*J10 -> 1026946.2 | L10: 1008403.4 | M10: =L10*19% -> 191596.64 | N10: =L10+M10 -> 1200000 | O10: =+G10*N10 -> 7200000 | P10: 154904 | Q10: =+P10*0.19 -> 29431.76 | R10: =+P10+Q10 -> 184335.76 | S10: =+G10*R10 -> 1106014.6 | T10: 146740 | U10: =T10*19% -> 27880.6 | V10: =T10+U10 -> 174620.6 | W10: =+G10*V10 -> 1047723.6 | X10: 140861 | Y10: =+X10*0.19 -> 26763.59 | Z10: =+X10+Y10 -> 167624.59 | AA10: =+G10*Z10 -> 1005747.5 | AB10: =+AD10/1.19 -> 62510.084 | AC10: =+AD10-AB10 -> 11876.916 | AD10: 74387 | AE10: =+G10*AD10 -> 446322 | AF10: =+GEOMEAN(H10,L10,P10,T10,X10,AB10) -> 175309.71 | AG10: =+GEOMEAN(J10,N10,R10,V10,Z10,AD10) -> 208618.55 | AH10: =+HARMEAN(H10,L10,P10,T10,X10,AB10) -> 135405.58 | AI10: =+HARMEAN(J10,N10,R10,V10,Z10,AD10) -> 161132.64
C11: 1.6 | D11: ESCABILADERO PARA BANDEJAS | E11: ESCABILADERO PARA BANDEJAS DE 60 x 40 CM, FABRICADO EN ACERO INOXIDABLE, CAPACIDAD PARA ALMACENAR MINIMO 12 BANDEJAS. | F11: UN | G11: 1 | H11: 2465261 | I11: =H11*19% -> 468399.59 | J11: =H11+I11 -> 2933660.6 | K11: =G11*J11 -> 2933660.6 | L11: 1890756.3 | M11: =L11*19% -> 359243.7 | N11: =L11+M11 -> 2250000 | O11: =+G11*N11 -> 2250000 | P11: 2553398 | Q11: =+P11*0.19 -> 485145.62 | R11: =+P11+Q11 -> 3038543.6 | S11: =+G11*R11 -> 3038543.6 | T11: 2550779 | U11: =T11*19% -> 484648.01 | V11: =T11+U11 -> 3035427 | W11: =+G11*V11 -> 3035427 | X11: 2428755 | Y11: =+X11*0.19 -> 461463.45 | Z11: =+X11+Y11 -> 2890218.5 | AA11: =+G11*Z11 -> 2890218.5 | AB11: =+AD11/1.19 -> 788450.42 | AC11: =+AD11-AB11 -> 149805.58 | AD11: 938256 | AE11: =+G11*AD11 -> 938256 | AF11: =+GEOMEAN(H11,L11,P11,T11,X11,AB11) -> 1968224.6 | AG11: =+GEOMEAN(J11,N11,R11,V11,Z11,AD11) -> 2342187.2 | AH11: =+HARMEAN(H11,L11,P11,T11,X11,AB11) -> 1765619 | AI11: =+HARMEAN(J11,N11,R11,V11,Z11,AD11) -> 2101086.6
C12: 1.7 | D12: JUEGO DE OLLAS DE ALUMINIO | E12: JUEGO DE OLLAS DE ALUMINIO, CAPACIDAD DE 2 A 14 LITROS, 6 UNIDADES, FABRICADAS EN ALUMINIO DE ALTA PUREZA. INCLUYE: 1 OLLA DE 2 LITROS, 1 OLLA DE 2.5 LITROS, 1 OLLA DE 4 LITROS, 1 OLLA DE 6 LITROS, 1 OLLA DE 12 LITROS Y 1 OLLA DE 14 LITROS. CADA OLLA INCLUYE TAPA. | F12: UN | G12: 3 | H12: 405570 | I12: =H12*19% -> 77058.3 | J12: =H12+I12 -> 482628.3 | K12: =G12*J12 -> 1447884.9 | L12: 1384903.4 | M12: =L12*19% -> 263131.64 | N12: =L12+M12 -> 1648035 | O12: =+G12*N12 -> 4944105 | P12: 388583 | Q12: =+P12*0.19 -> 73830.77 | R12: =+P12+Q12 -> 462413.77 | S12: =+G12*R12 -> 1387241.3 | T12: 429717 | U12: =T12*19% -> 81646.23 | V12: =T12+U12 -> 511363.23 | W12: =+G12*V12 -> 1534089.7 | X12: 380421 | Y12: =+X12*0.19 -> 72279.99 | Z12: =+X12+Y12 -> 452700.99 | AA12: =+G12*Z12 -> 1358103 | AB12: =+AD12/1.19 -> 840336.13 | AC12: =+AD12-AB12 -> 159663.87 | AD12: 1000000 | AE12: =+G12*AD12 -> 3000000 | AF12: =+GEOMEAN(H12,L12,P12,T12,X12,AB12) -> 557371.63 | AG12: =+GEOMEAN(J12,N12,R12,V12,Z12,AD12) -> 663272.24 | AH12: =+HARMEAN(H12,L12,P12,T12,X12,AB12) -> 503906.53 | AI12: =+HARMEAN(J12,N12,R12,V12,Z12,AD12) -> 599648.77
C13: 1.8 | D13: CALDERO MEDIANO | E13: CALDERO MEDIANO DE 11 LITROS, FABRICADO EN ALUMINIO FUNDIDO, TAPA FUNDIDA CON POMO PLASTICO, ASAS EN ALUMINIO FUNDIDO. | F13: UN | G13: 2 | H13: 278942 | I13: =H13*19% -> 52998.98 | J13: =H13+I13 -> 331940.98 | K13: =G13*J13 -> 663881.96 | L13: 176470.59 | M13: =L13*19% -> 33529.412 | N13: =L13+M13 -> 210000 | O13: =+G13*N13 -> 420000 | P13: 274590 | Q13: =+P13*0.19 -> 52172.1 | R13: =+P13+Q13 -> 326762.1 | S13: =+G13*R13 -> 653524.2 | T13: 290819 | U13: =T13*19% -> 55255.61 | V13: =T13+U13 -> 346074.61 | W13: =+G13*V13 -> 692149.22 | X13: 263944 | Y13: =+X13*0.19 -> 50149.36 | Z13: =+X13+Y13 -> 314093.36 | AA13: =+G13*Z13 -> 628186.72 | AB13: =+AD13/1.19 -> 34453.782 | AC13: =+AD13-AB13 -> 6546.2185 | AD13: 41000 | AE13: =+G13*AD13 -> 82000 | AF13: =+GEOMEAN(H13,L13,P13,T13,X13,AB13) -> 181498.79 | AG13: =+GEOMEAN(J13,N13,R13,V13,Z13,AD13) -> 215983.56 | AH13: =+HARMEAN(H13,L13,P13,T13,X13,AB13) -> 122087.52 | AI13: =+HARMEAN(J13,N13,R13,V13,Z13,AD13) -> 145284.15
C14: 1.9 | D14: TABLA PARA PICAR | E14: TABLA PARA PICAR/CORTAR, FABRICADA EN POLIETILENO RESISTENTE A GOLPES, DEFORMACIONES Y MANCHAS. DIMENSIONES: 60 x 40 x 2 CM. | F14: UN | G14: 10 | H14: 279142 | I14: =H14*19% -> 53036.98 | J14: =H14+I14 -> 332178.98 | K14: =G14*J14 -> 3321789.8 | L14: 176470.59 | M14: =L14*19% -> 33529.412 | N14: =L14+M14 -> 210000 | O14: =+G14*N14 -> 2100000 | P14: 263086 | Q14: =+P14*0.19 -> 49986.34 | R14: =+P14+Q14 -> 313072.34 | S14: =+G14*R14 -> 3130723.4 | T14: 289321 | U14: =T14*19% -> 54970.99 | V14: =T14+U14 -> 344291.99 | W14: =+G14*V14 -> 3442919.9 | X14: 270822 | Y14: =+X14*0.19 -> 51456.18 | Z14: =+X14+Y14 -> 322278.18 | AA14: =+G14*Z14 -> 3222781.8 | AB14: =+AD14/1.19 -> 117647.06 | AC14: =+AD14-AB14 -> 22352.941 | AD14: 140000 | AE14: =+G14*AD14 -> 1400000 | AF14: =+GEOMEAN(H14,L14,P14,T14,X14,AB14) -> 221925.24 | AG14: =+GEOMEAN(J14,N14,R14,V14,Z14,AD14) -> 264091.04 | AH14: =+HARMEAN(H14,L14,P14,T14,X14,AB14) -> 209066.94 | AI14: =+HARMEAN(J14,N14,R14,V14,Z14,AD14) -> 248789.66
C15: 1.10 | D15: RODILLO PARA REPOSTERÍA | E15: RODILLO PARA REPOSTERIA, FABRICADO EN PVC CON EJE EN ACERO INOXIDABLE, LARGO TOTAL DE 60 CM. | F15: UN | G15: 2 | H15: 170874 | I15: =H15*19% -> 32466.06 | J15: =H15+I15 -> 203340.06 | K15: =G15*J15 -> 406680.12 | L15: 119117.65 | M15: =L15*19% -> 22632.353 | N15: =L15+M15 -> 141750 | O15: =+G15*N15 -> 283500 | P15: 166442 | Q15: =+P15*0.19 -> 31623.98 | R15: =+P15+Q15 -> 198065.98 | S15: =+G15*R15 -> 396131.96 | T15: 176152 | U15: =T15*19% -> 33468.88 | V15: =T15+U15 -> 209620.88 | W15: =+G15*V15 -> 419241.76 | X15: 164358 | Y15: =+X15*0.19 -> 31228.02 | Z15: =+X15+Y15 -> 195586.02 | AA15: =+G15*Z15 -> 391172.04 | AB15: =+AD15/1.19 -> 117647.06 | AC15: =+AD15-AB15 -> 22352.941 | AD15: 140000 | AE15: =+G15*AD15 -> 280000 | AF15: =+GEOMEAN(H15,L15,P15,T15,X15,AB15) -> 150324.26 | AG15: =+GEOMEAN(J15,N15,R15,V15,Z15,AD15) -> 178885.87 | AH15: =+HARMEAN(H15,L15,P15,T15,X15,AB15) -> 148087.37 | AI15: =+HARMEAN(J15,N15,R15,V15,Z15,AD15) -> 176223.98
C16: 1.11 | D16: RALLADOR EN ACERO | E16: RALLADOR EN ACERO INOXIDABLE, ALTO MINIMO DE 22 CM, CON MANGO ERGONOMICO, BASE ANTIDESLIZABLE, 4 CARAS CON DIFERENTES TIPOS DE CORTE. | F16: UN | G16: 2 | H16: 74571 | I16: =H16*19% -> 14168.49 | J16: =H16+I16 -> 88739.49 | K16: =G16*J16 -> 177478.98 | L16: 52815.126 | M16: =L16*19% -> 10034.874 | N16: =L16+M16 -> 62850 | O16: =+G16*N16 -> 125700 | P16: 73426 | Q16: =+P16*0.19 -> 13950.94 | R16: =+P16+Q16 -> 87376.94 | S16: =+G16*R16 -> 174753.88 | T16: 78699 | U16: =T16*19% -> 14952.81 | V16: =T16+U16 -> 93651.81 | W16: =+G16*V16 -> 187303.62 | X16: 78538 | Y16: =+X16*0.19 -> 14922.22 | Z16: =+X16+Y16 -> 93460.22 | AA16: =+G16*Z16 -> 186920.44 | AB16: =+AD16/1.19 -> 16806.723 | AC16: =+AD16-AB16 -> 3193.2773 | AD16: 20000 | AE16: =+G16*AD16 -> 40000 | AF16: =+GEOMEAN(H16,L16,P16,T16,X16,AB16) -> 55755.157 | AG16: =+GEOMEAN(J16,N16,R16,V16,Z16,AD16) -> 66348.636 | AH16: =+HARMEAN(H16,L16,P16,T16,X16,AB16) -> 45835.643 | AI16: =+HARMEAN(J16,N16,R16,V16,Z16,AD16) -> 54544.415
C17: 1.12 | D17: JUEGO DE BOWL'S EN ACERO | E17: JUEGO DE BOWL'S EN ACERO INOXIDABLE DE 4 PIEZAS (14, 18, 21 Y 26 CM DE DIAMETRO). | F17: UN | G17: 4 | H17: 398574 | I17: =H17*19% -> 75729.06 | J17: =H17+I17 -> 474303.06 | K17: =G17*J17 -> 1897212.2 | L17: 251974.79 | M17: =L17*19% -> 47875.21 | N17: =L17+M17 -> 299850 | O17: =+G17*N17 -> 1199400 | P17: 380486 | Q17: =+P17*0.19 -> 72292.34 | R17: =+P17+Q17 -> 452778.34 | S17: =+G17*R17 -> 1811113.4 | T17: 405317 | U17: =T17*19% -> 77010.23 | V17: =T17+U17 -> 482327.23 | W17: =+G17*V17 -> 1929308.9 | X17: 379948 | Y17: =+X17*0.19 -> 72190.12 | Z17: =+X17+Y17 -> 452138.12 | AA17: =+G17*Z17 -> 1808552.5 | AB17: =+AD17/1.19 -> 47815.126 | AC17: =+AD17-AB17 -> 9084.8739 | AD17: 56900 | AE17: =+G17*AD17 -> 227600 | AF17: =+GEOMEAN(H17,L17,P17,T17,X17,AB17) -> 255985.19 | AG17: =+GEOMEAN(J17,N17,R17,V17,Z17,AD17) -> 304622.37 | AH17: =+HARMEAN(H17,L17,P17,T17,X17,AB17) -> 170848.46 | AI17: =+HARMEAN(J17,N17,R17,V17,Z17,AD17) -> 203309.67
... C37: 1.32 | D37: DESFIBRILADOR EXTERNO | E37: DESFIBRILADOR EXTERNO AUTOMATICO, DESCARGA ELECTRICA AUTOMATICA, ENERGÍA DE HASTA 200 JOULES. DEBE PERMITIR OPERACIÓN EN NIÑOS Y ADULTOS. METRONOMO DE FRECUENCIA INCORPORADO Y ELECTRODOS PRECONECTADOS. ALMACENAMIENTO DE MINIMO 1,5 HORAS DE DATOS DE INTERVENCIÓN. BATERÍA DE LARGA DURACIÓN. COMPROBACIÓN AUTOMATICA DEL ESTADO DE LOS ELECTRODOS Y LA BATERÍA. | F37: UN | G37: 1 | H37: 10992317 | I37: =H37*19% -> 2088540.2 | J37: =H37+I37 -> 13080857 | K37: =G37*J37 -> 13080857 | L37: 8010000 | M37: =L37*19% -> 1521900 | N37: =L37+M37 -> 9531900 | O37: =+G37*N37 -> 9531900 | P37: 11702759 | Q37: =+P37*0.19 -> 2223524.2 | R37: =+P37+Q37 -> 13926283 | S37: =+G37*R37 -> 13926283 | T37: 11023569 | U37: =T37*19% -> 2094478.1 | V37: =T37+U37 -> 13118047 | W37: =+G37*V37 -> 13118047 | X37: 10214941 | Y37: =+X37*0.19 -> 1940838.8 | Z37: =+X37+Y37 -> 12155780 | AA37: =+G37*Z37 -> 12155780 | AB37: =+AD37/1.19 -> 5042016.8 | AC37: =+AD37-AB37 -> 957983.19 | AD37: 6000000 | AE37: =+G37*AD37 -> 6000000 | AF37: =+GEOMEAN(H37,L37,P37,T37,X37,AB37) -> 9145246.2 | AG37: =+GEOMEAN(J37,N37,R37,V37,Z37,AD37) -> 10882843 | AH37: =+HARMEAN(H37,L37,P37,T37,X37,AB37) -> 8718264.3 | AI37: =+HARMEAN(J37,N37,R37,V37,Z37,AD37) -> 10374734
C38: TOTAL SIBATE | H38: =SUM(H6:H37) -> 30258578 | I38: =SUM(I6:I37) -> 5749129.8 | J38: =SUM(J6:J37) -> 36007708 | K38: =SUM(K6:K37) -> 65361343 | L38: =SUM(L6:L37) -> 25856746 | M38: =SUM(M6:M37) -> 4912781.8 | N38: =SUM(N6:N37) -> 30769528 | O38: =SUM(O6:O37) -> 60680142 | ... AI38: =SUM(AI6:AI37) -> 27135199
C39: 2. SIMIJACA
C40: ITEM | D40: PRODUCTO / SERVICIO | E40: DESCRIPCIÓN PRODUCTO / SERVICIO | F40: UNIDAD DE MEDIDA | G40: CANTIDAD | H40: VALOR UNITARIO SIN IVA | I40: IVA | J40: VALOR UNITARIO CON IVA | K40: VALOR TOTAL (VALOR UNITARIO CON IVA X CANTIDAD) | L40: VALOR UNITARIO SIN IVA | M40: IVA | N40: VALOR UNITARIO CON IVA | O40: VALOR TOTAL (VALOR UNITARIO CON IVA X CANTIDAD) | P40: VALOR UNITARIO SIN IVA | Q40: IVA | R40: VALOR UNITARIO CON IVA | S40: VALOR TOTAL (VALOR UNITARIO CON IVA X CANTIDAD) | T40: VALOR UNITARIO SIN IVA | U40: IVA | V40: VALOR UNITARIO CON IVA | W40: VALOR TOTAL (VALOR UNITARIO CON IVA X CANTIDAD) | X40: VALOR UNITARIO SIN IVA | Y40: IVA | Z40: VALOR UNITARIO CON IVA | AA40: VALOR TOTAL (VALOR UNITARIO CON IVA X CANTIDAD) | AB40: VALOR UNITARIO SIN IVA | AC40: IVA | AD40: VALOR UNITARIO CON IVA | AE40: VALOR TOTAL (VALOR UNITARIO CON IVA X CANTIDAD) | AF40: VALOR UNITARIO SIN IVA | AG40: VALOR UNITARIO CON IVA | AH40: VALOR UNITARIO SIN IVA | AI40: VALOR UNITARIO CON IVA
C41: 2.1 | D41: AVISO EN CAJA PARA FACHADA | E41: AVISO EN CAJA PARA FACHADA DE 2.5 m x 0.75 m. IMPRESO EN BANNER TRASLUCIDO FULL COLOR, LAMINADO RESISTENTE A RAYOS UV. ILUMINACIÓN INTERNA TIPO LED DE ALTA DURABILIDAD, CONEXIÓN ELECTRICA A 110 V. CANTONERAS EN ALUMINIO. SE DEBE INTRAGAR INSTALADO EN SITIO. | F41: UN | G41: 1 | H41: 3806471 | I41: =H41*19% -> 723229.49 | J41: =H41+I41 -> 4529700.5 | K41: =G41*J41 -> 4529700.5 | L41: 2016806.7 | M41: =L41*19% -> 383193.28 | N41: =L41+M41 -> 2400000 | O41: =+G41*N41 -> 2400000 | P41: 3744578 | Q41: =+P41*0.19 -> 711469.82 | R41: =+P41+Q41 -> 4456047.8 | S41: =+G41*R41 -> 4456047.8 | T41: 3642494 | U41: =T41*19% -> 692073.86 | V41: =T41+U41 -> 4334567.9 | W41: =+G41*V41 -> 4334567.9 | X41: 3900235 | Y41: =+X41*0.19 -> 741044.65 | Z41: =+X41+Y41 -> 4641279.7 | AA41: =+G41*Z41 -> 4641279.7 | AF41: =+GEOMEAN(H41,L41,P41,T41,X41,AB41) -> 3328249.4 | AG41: =+GEOMEAN(J41,N41,R41,V41,Z41,AD41) -> 3960616.8 | AH41: =+HARMEAN(H41,L41,P41,T41,X41,AB41) -> 3212276.3 | AI41: =+HARMEAN(J41,N41,R41,V41,Z41,AD41) -> 3822608.8
C42: 2.2 | D42: PLANCHA A VAPOR SEMI-INDUSTRIAL | E42: PLANCHA A VAPOR USO SEMI-INDUSTRIAL, CUERPO EN ACERO INOXIDABLE, TANQUE DE AGUA DE MINIMO 4 LITROS DE ALMACENAMIENTO, SISTEMA DE ANTIGOTEO, CONTROL DE TEMPERATURA MANUAL. INCLUYE: GALON, MANGUERA Y BASE. | F42: UN | G42: 1 | H42: 618098 | I42: =H42*19% -> 117438.62 | J42: =H42+I42 -> 735536.62 | K42: =G42*J42 -> 735536.62 | L42: 520588.24 | M42: =L42*19% -> 98911.765 | N42: =L42+M42 -> 619500 | O42: =+G42*N42 -> 619500 | P42: 587778 | Q42: =+P42*0.19 -> 111677.82 | R42: =+P42+Q42 -> 699455.82 | S42: =+G42*R42 -> 699455.82 | T42: 613829 | U42: =T42*19% -> 116627.51 | V42: =T42+U42 -> 730456.51 | W42: =+G42*V42 -> 730456.51 | X42: 628160 | Y42: =+X42*0.19 -> 119350.4 | Z42: =+X42+Y42 -> 747510.4 | AA42: =+G42*Z42 -> 747510.4 | AB42: =+AD42/1.19 -> 403361.34 | AC42: =+AD42-AB42 -> 76638.655 | AD42: 480000 | AE42: =+G42*AD42 -> 480000 | AF42: =+GEOMEAN(H42,L42,P42,T42,X42,AB42) -> 555600.76 | AG42: =+GEOMEAN(J42,N42,R42,V42,Z42,AD42) -> 661164.9 | AH42: =+HARMEAN(H42,L42,P42,T42,X42,AB42) -> 548429.58 | AI42: =+HARMEAN(J42,N42,R42,V42,Z42,AD42) -> 652631.2
C43: 2.3 | D43: CABINA DE SONIDO ACTIVA DE 1000 WATTS | E43: CABINA DE SONIDO ACTIVA DE 1000 WATTS, 2 LINEAS, AMPLIFICADOR CLASED. ASAS ERGONOMICAS PARA COMODO AGARRE. DEBE CONTAR CON PUNTOS DE FIJACIÓN PARA INSTALACIÓN EN MODO SUSPENDIDO. DEBE INCLUIR: 1 SISTEMA DE SOPORTE TIPO TRIPO DE PLEGABLE DE ALUMINIO CON AJUSTE DE ALTURA, 1 MICROFONO ALAMBRICO, CABLE DE PODER Y CABLES PARA SU CORRECTO FUNCIONAMIENTO. | F43: UN | G43: 1 | H43: 3990000 | I43: =H43*19% -> 758100 | J43: =H43+I43 -> 4748100 | K43: =G43*J43 -> 4748100 | L43: 2431512.6 | M43: =L43*19% -> 461987.39 | N43: =L43+M43 -> 2893500 | O43: =+G43*N43 -> 2893500 | P43: 4244254 | Q43: =+P43*0.19 -> 806408.26 | R43: =+P43+Q43 -> 5050662.3 | S43: =+G43*R43 -> 5050662.3 | T43: 4348132 | U43: =T43*19% -> 826145.08 | V43: =T43+U43 -> 5174277.1 | W43: =+G43*V43 -> 5174277.1 | X43: 4084624 | Y43: =+X43*0.19 -> 776078.56 | Z43: =+X43+Y43 -> 4860702.6 | AA43: =+G43*Z43 -> 4860702.6 | AB43: =+AD43/1.19 -> 1621008.4 | AC43: =+AD43-AB43 -> 307991.6 | AD43: 1929000 | AE43: =+G43*AD43 -> 1929000 | AF43: =+GEOMEAN(H43,L43,P43,T43,X43,AB43) -> 3253232.8 | AG43: =+GEOMEAN(J43,N43,R43,V43,Z43,AD43) -> 3871347 | AH43: =+HARMEAN(H43,L43,P43,T43,X43,AB43) -> 3016272.5 | AI43: =+HARMEAN(J43,N43,R43,V43,Z43,AD43) -> 3589364.2
C44: 2.4 | D44: VIDEO BEAM | E44: VIDEO BEAM CON RESOLUCIÓN 1024x768, BRILLO MINIMO DE 3300 LUMENES (BLANCO Y COLOR), VIDA UTIL LAMPARA HASTA 12.000 HORAS, PUERTOS: RCA/HDMI/USB/STEREO/RS-232. ALIMENTACION 100v-240v, 50-60HZ, CUENTA CON MODO DE OPERACIÓN PARA DISMINUCIÓN DE CONSUMO ELECTRICO. INCLUYE CONTROL REMOTO. | F44: UN | G44: 1 | H44: 3220336 | I44: =H44*19% -> 611863.84 | J44: =H44+I44 -> 3832199.8 | K44: =G44*J44 -> 3832199.8 | L44: 2475000 | M44: =L44*19% -> 470250 | N44: =L44+M44 -> 2945250 | O44: =+G44*N44 -> 2945250 | P44: 3562886 | Q44: =+P44*0.19 -> 676948.34 | R44: =+P44+Q44 -> 4239834.3 | S44: =+G44*R44 -> 4239834.3 | T44: 3384406 | U44: =T44*19% -> 643037.14 | V44: =T44+U44 -> 4027443.1 | W44: =+G44*V44 -> 4027443.1 | X44: 3303044 | Y44: =+X44*0.19 -> 627578.36 | Z44: =+X44+Y44 -> 3930622.4 | AA44: =+G44*Z44 -> 3930622.4 | AB44: =+AD44/1.19 -> 2168067.2 | AC44: =+AD44-AB44 -> 411932.77 | AD44: 2580000 | AE44: =+G44*AD44 -> 2580000 | AF44: =+GEOMEAN(H44,L44,P44,T44,X44,AB44) -> 2971378.5 | AG44: =+GEOMEAN(J44,N44,R44,V44,Z44,AD44) -> 3535940.4 | AH44: =+HARMEAN(H44,L44,P44,T44,X44,AB44) -> 2920130.7 | AI44: =+HARMEAN(J44,N44,R44,V44,Z44,AD44) -> 3474955.6
C45: 2.5 | D45: COMPUTADOR PORTÁTIL | E45: COMPUTADOR PORTATIL CON PROCESADOR DE 8 NUCLEOS Y FRECUENCIA DE 3,3 GHZ, MEMORIA RAM DDR4 DE 16 GB, DISCO DE ESTADO SOLIDO DE 512 GB. PANTALLA TACTIL DE MINIMO 15", RESOLUCIÓN FHD (19020 x 1080). TARJETA GRAFICA INTEGRADA. CAMARA CON RESOLUCIÓN MINIMO 1080P. PUERTOS Y/O RANURAS: 1 PUERTO USB-C, 2 PUERTO USB-A, 1 PUERTO HDMI, 1 LECTOR DE TARJETAS SD, 1 TOMA PARA AURICURALES. SISTEMA OPERATIVO WINDOWS 11 EN CUALQUIERA DE SUS VERSIONES. INCLUYE CARGADOR. | F45: UN | G45: 1 | H45: 4063000 | I45: =H45*19% -> 771970 | J45: =H45+I45 -> 4834970 | K45: =G45*J45 -> 4834970 | L45: 2646932.8 | M45: =L45*19% -> 502917.23 | N45: =L45+M45 -> 3149850 | O45: =+G45*N45 -> 3149850 | P45: 3907847 | Q45: =+P45*0.19 -> 742490.93 | R45: =+P45+Q45 -> 4650337.9 | S45: =+G45*R45 -> 4650337.9 | T45: 4049283 | U45: =T45*19% -> 769363.77 | V45: =T45+U45 -> 4818646.8 | W45: =+G45*V45 -> 4818646.8 | X45: 3790962 | Y45: =+X45*0.19 -> 720282.78 | Z45: =+X45+Y45 -> 4511244.8 | AA45: =+G45*Z45 -> 4511244.8 | AB45: =+AD45/1.19 -> 4638428.6 | AC45: =+AD45-AB45 -> 881301.43 | AD45: 5519730 | AE45: =+G45*AD45 -> 5519730 | AF45: =+GEOMEAN(H45,L45,P45,T45,X45,AB45) -> 3796099.8 | AG45: =+GEOMEAN(J45,N45,R45,V45,Z45,AD45) -> 4517358.7 | AH45: =+HARMEAN(H45,L45,P45,T45,X45,AB45) -> 3735646.8 | AI45: =+HARMEAN(J45,N45,R45,V45,Z45,AD45) -> 4445419.7
