Workbook

Sheet Informe
C1: FORMATO INFORME DE SUPERVISIÓN | J1: Codigo: | K1: PT-F-028
J2: Versión: | K2: 03
J3: Pagina: | K3: 1 de 3
A5: INFORME No.: | D5: 4 | E5: FECHA DEL INFORME: | H5: 45972
A9: DILIGENCIAR SEGÚN TIPO DE CONTRATO (OBRA / SUMINISTRO / PRESTACIÓN DE SERVICIOS)
A10: Contrato No: | B10: ENV-09-32-0853-25 | D10: Objeto: | E10: MANTENIMIENTO PREVENTIVO, CORRECTIVO CON SUMINISTRO DE REPUESTOS PARA LAS PLANTAS ELECTRICAS SEGUN REQUERIMIENTO DEL MUNICIPIO DE ENVIGADO.
A11: Contratista: | B11: PANOP TECNOLOGÍA DE INNOVACIÓN
A12: NIT: | B12: 901393261-1
A13: DATOS CONTRATO PRINCIPAL: | C13: Valor Inicial: | D13: 22907500 | F13: Plazo Inicial: | G13: 180 | H13: Dias | I13: Fecha suscripción: | K13: 45702
A14: DATOS ADICIÓN / MODIFICACIÓN No.1: | C14: Valor: | F14: Plazo: | I14: Fecha suscripción:
A15: DATOS ADICIÓN / MODIFICACIÓN No.2: | C15: Valor: | F15: Plazo: | I15: Fecha suscripción:
A16: DATOS ADICIÓN / MODIFICACIÓN No.3: | C16: Valor: | F16: Plazo: | I16: Fecha suscripción:
A17: DATOS ADICIÓN / MODIFICACIÓN No.3: | C17: Valor: | F17: Plazo: | I17: Fecha suscripción:
A18: ACTA DE SUSPENSIÓN No.1: | C18: ACTA DE REINICIO No.1: | F18: ACTA DE SUSPENSIÓN No.2: | I18: ACTA DE REINICIO No.2: | L18: =DAYS360(B18,D18) -> 0 | M18: =DAYS360(H18,J18) -> 0
A19: VALOR TOTAL DEL CONTRATO: | C19: =SUM(D13:E18) -> 22907500 | F19: PLAZO TOTAL DEL CONTRATO: | I19: 180 | K19: DIAS
A20: Fecha de iniciación: | B20: 45706 | F20: Fecha de vencimiento: | H20: 17 de agosto de 2025
A22: POLIZAS DEL CONTRATO
A23: COMPAÑÍA | B23: CLASE GARANTIA | E23: POLIZA No. | G23: VALOR | I23: VENCIMIENTO
I24: DIA | J24: MES | K24: AÑO
A25: Mundial de seguros | B25: CUMPLIMIENTO | E25: M-100255943 | G25: 3436925 | I25: 17 | J25: 2 | K25: 2026
A26: Mundial de seguros | B26: PRESTACIONES SOCIALES | E26: M-100255943 | G26: 3436925 | I26: 17 | J26: 8 | K26: 2028
A27: Mundial de seguros | B27: CALIDAD DEL SERVICIO | E27: M-100255943 | G27: 3436925 | I27: 17 | J27: 8 | K27: 2025
A28: Mundial de seguros | B28: CALIDAD DE LOS ELEMENTOS | E28: M-100255943 | G28: 3436925 | I28: 17 | J28: 11 | K28: 2025
A29: Mundial de seguros | B29: RESPONSABILIDAD CIVIL EXTRA CONTRACTUAL | E29: M-100063229 | G29: 284700000 | I29: 4 | J29: 8 | K29: 2024
A31: AVANCES DEL CONTRATO ( Diligenciar solo en los contratos de obra)
A32: GRAFICA DE AVANCE DEL CONVENIO | F32: PROGRAMADO
H33: Mensual | J33: Acumulado
B34: %PROGRAMADO | C34: %EJECUTADO | D34: DIFERENCIA | F34: Obra Programada (%) | H34: =+programación!N71 -> 1 | J34: =+programación!O71 -> 1
A35: Acumulado anterior | B35: =+B37-B36 -> 0 | C35: =+C37-C36 -> 0 | D35: =+C35-B35 -> 0 | F35: Valor de la Obra | H35: =+programación!N72 -> 22907500 | J35: =+programación!O72 -> 22907500
A36: Durante el periodo | B36: =+H34 -> 1 | C36: =+H38 -> 1 | D36: =+C36-B36 -> 0 | F36: EJECUTADO
A37: Acumulad Actual | B37: =+J34 -> 1 | C37: =+J38 -> 1 | D37: =+C37-B37 -> 0 | H37: Mensual | J37: Acumulado
F38: Obra fisica ejecutada (%) | H38: =+programación!N73 -> 1 | J38: =+programación!O73 -> 1
F39: Valor de la Obra | H39: =+programación!N74 -> 22907500 | J39: =+programación!O74 -> 22907500
F40: DATOS FINANCIEROS
F41: V.r CONTRATO: | I41: =+C19 -> 22907500
F42: Vr. TOTAL PAGADO EN ACTAS: | I42: =+G67 -> 22907500
F43: SALDO POR PAGAR CONTRATO: | I43: =+I41-I42 -> 0
F44: Vr. ANTICIPO:
F45: TOTAL AMORTIZADO ANTICIPO: | I45: =+H67 -> 0
F46: SALDO POR AMORTIZAR ANTICIPO: | I46: =+I44-I45 -> 0
F47: ACTA No. | G47: TOTAL BRUTO | H47: AMORTIZ. ANTICIPO | I47: TOTAL NETO | J47: % EJECUCIÓN | K47: FECHA DEL ACTA
F48: 1 | G48: 2380000 | I48: =+G48-H48 -> 2380000 | J48: =+G48/$I$41 -> 0.1038961 | K48: 45840
F49: 2 | G49: 2756683 | I49: =+G49-H49 -> 2756683 | J49: =+G49/$I$41 -> 0.12033976 | K49: 45845
F50: 3 | G50: 7140000 | I50: =+G50-H50 -> 7140000 | J50: =+G50/$I$41 -> 0.31168831 | K50: 45972
F51: 4 | G51: 10630817 | I51: =+G51-H51 -> 10630817 | J51: =+G51/$I$41 -> 0.46407583 | K51: 45973
I52: =+G52-H52 -> 0 | J52: =+G52/$I$41 -> 0
I53: =+G53-H53 -> 0 | J53: =+G53/$I$41 -> 0
I54: =+G54-H54 -> 0 | J54: =+G54/$I$41 -> 0
I55: =+G55-H55 -> 0 | J55: =+G55/$I$41 -> 0
I56: =+G56-H56 -> 0 | J56: =+G56/$I$41 -> 0
I57: =+G57-H57 -> 0 | J57: =+G57/$I$41 -> 0
I58: =+G58-H58 -> 0 | J58: =+G58/$I$41 -> 0
I59: =+G59-H59 -> 0 | J59: =+G59/$I$41 -> 0
I60: =+G60-H60 -> 0 | J60: =+G60/$I$41 -> 0
I61: =+G61-H61 -> 0 | J61: =+G61/$I$41 -> 0
I62: =+G62-H62 -> 0 | J62: =+G62/$I$41 -> 0
I63: =+G63-H63 -> 0 | J63: =+G63/$I$41 -> 0
... I66: =+G66-H66 -> 0 | J66: =+G66/$I$41 -> 0
F67: TOTALES | G67: =+SUM(G48:G66) -> 22907500 | H67: =+SUM(H48:H66) -> 0 | I67: =+SUM(I48:I66) -> 22907500 | J67: =+SUM(J48:J66) -> 1
A69: SEGUIMIENTO CONTABLE DE EJECUCIÓN DEL CONTRATO
A70: MES DE PAGO | B70: VALOR | C70: CONCEPTO | D70: MES DE PAGO | F70: VALOR | G70: CONCEPTO | H70: MES DE PAGO | I70: VALOR | J70: CONCEPTO
A71: Julio | B71: 2380000 | C71: Acta 01
A72: Julio | B72: 2756683 | C72: Acta 02
A73: Agosto | B73: 7140000 | C73: Acta 03
A74: Agosto | B74: 10630817 | C74: Acta 04 Final
A78: SEGUIMIENTO DOCUMENTACIÓN Y REQUERIMIENTOS TECNICOS Y DE SEGURIDAD Y SALUD OCUPACIONAL ( Diligenciar solo en los contratos de obra)
A79: Responder si se cuenta con la documentación al día: | F79: Se realizan reuniones de seguimiento al Contrato y se encuentran debidamente documentadas? | K79: SI
A80: Estudios y diseños: | B80: N.A. | F80: Se da cumplimiento a los requerimientos establecidos por la autoridad ambiental? | K80: N.A.
A81: Planos de obra: | B81: N.A. | F81: La autoridad ambiental competente emitió los permisos necesarios para el inicio de las obras? | K81: N.A.
A82: Especificaciones técnicas | B82: N.A. | F82: Se da cumplimiento a las Normas de salud Ocupacional y Seguridad Industrial? | K82: SI
A83: Permisos y Licencias: | B83: N.A. | F83: Se da cumplimiento a las Normas de Trabajo en altura? | K83: N.A.
A84: Bitacora: | B84: SI | F84: El personal se encuentra afiliado al Sistema de Seguridad Social? | K84: SI
A85: Empleos Directos: | B85: 5 | C85: Hombres: | D85: 5 | E85: Mujeres: | G85: 0 | H85: Tiempo transcurrido desde la iniciacion del contrato: | J85: =H5-B20 -> 266
C87: FORMATO | J87: Codigo: | K87: PT-F-028
C88: INFORME DE SUPERVISIÓN | J88: Versión: | K88: 03
J89: Pagina: | K89: 2 de 3
A91: CONTRATO DE SUMINISTRO
A92: DESCRIPCION DEL ITEM | D92: CANTIDADES EJECUTADAS | E92: VALOR EJECUTADO | G92: RECIBO A SATISFACIÓN | I92: OBSERVACIONES
A93: N/A | D93: N/A | E93: N/A | G93: N/A | I93: N/A
A95: VERIFICACIÓN DE SEGURIDAD SOCIAL Y PARAFISCALES
A97: Se revisa cumplimiento de obligaciones parafiscales | D97: Observaciones
A98: SEGUIMIENTO Y OBSERVACIONES AL DESARROLLO EN LA EJECUCIÓN DEL CONTRATO
A99: PENDIENTES POR PARTE DEL CONTRATISTA:
A100: Presentar Facturas en SECOP 2
A105: PENDIENTES POR PARTE DEL SUPERVISOR:
A106: elaboracion de informes y acta de pago final
A111: PENDIENTES POR PARTE DEL MUNICIPIO Y/O OTRAS ENTIDADES
A112: Pago Acta final
A117: ACTIVIDADES EJECUTADAS EN EL MES EN EL CONTRATO
A118: Mantenimiento correctivo
A125: ACTIVIDADES A REALIZAR EN EL SIGUIENTE MES EN EL CONTRATO
A126: Ninguna
A131: OBSERVACIONES GENERALES: Avance, retrasos, decisiones, compromisos, logros, dificultades, aspectos administrativos, juridicos, técnicos o financieros
... A143: No se presentan anomalias en el proceso actual, cumplimiento acorde a los procedimientos establecidos
A151: DATOS DEL SUPERVISOR | G151: FIRMA:
A152: TIPO DE SUPERVISOR: | C152: INTERNO
A153: NOMBRES Y APELLIDOS: | C153: JOHAN MAURICIO RAMIREZ FIGUEROA
A154: CARGO: | C154: SUPERVISOR
A155: DEPENDENCIA / EMPRESA: | C155: OBRAS PUBLICAS
C156: FORMATO | J156: Codigo: | K156: PT-F-028
...

Sheet programación
C1: PROGRAMACIÓN Y SEGUIMIENTO DE OBRA
C2: =+CONCATENATE(Informe!B10," - ",Informe!E10) -> ENV-09-32-0853-25 - MANTENIMIENTO PREVENTIVO, CORRECTIVO CON SUMINISTRO DE REPUESTOS PARA LAS PLANTAS ELECTRICAS SEGUN REQUERIMIENTO DEL MUNICIPIO DE ENVIGADO.
A3: Item | B3: Descripción | P3: Total Porcentaje | Q3: Total Valor | R3: VALOR TOTAL DEL CAPITULO
D4: JUN | E4: JUL | F4: AGO | G4: SEPT
C6: P | D6: =+D7/$R$66 -> 0.1038961 | E6: =+E7/$R$66 -> 0.12033976 | F6: =+F7/$R$66 -> 0.31168831 | G6: =+G7/$R$66 -> 0.46407583 | H6: =+H7/$R$66 -> 0 | I6: =+I7/$R$66 -> 0 | J6: =+J7/$R$66 -> 0 | K6: =+K7/$R$66 -> 0 | ... O6: =+O7/$R$66 -> 0 | P6: =SUM(D6:O6) -> 1 | Q6: =+SUM(D6:O6) -> 1
D7: 2380000 | E7: 2756683 | F7: 7140000 | G7: 10630817 | P7: =+SUM(D7:O7) -> 22907500 | Q7: =SUM(D7:O7) -> 22907500
C8: E | D8: =+D9/$R$66 -> 0.1038961 | E8: =+E9/$R$66 -> 0.12033976 | F8: =+F9/$R$66 -> 0.31168831 | G8: =+G9/$R$66 -> 0.46407583 | H8: =+H9/$R$66 -> 0 | I8: =+I9/$R$66 -> 0 | J8: =+J9/$R$66 -> 0 | K8: =+K9/$R$66 -> 0 | ... O8: =+O9/$R$66 -> 0 | P8: =SUM(D8:O8) -> 1 | Q8: =+SUM(D8:O8) -> 1
D9: 2380000 | E9: 2756683 | F9: 7140000 | G9: 10630817 | P9: =+SUM(D9:O9) -> 22907500 | Q9: =SUM(D9:O9) -> 22907500
P10: =SUM(D10:O10) -> 0
C11: P | D11: =+D12/$R$66 -> 0 | E11: =+E12/$R$66 -> 0 | F11: =+F12/$R$66 -> 0 | G11: =+G12/$R$66 -> 0 | H11: =+H12/$R$66 -> 0 | I11: =+I12/$R$66 -> 0 | J11: =+J12/$R$66 -> 0 | K11: =+K12/$R$66 -> 0 | ... O11: =+O12/$R$66 -> 0 | P11: =SUM(D11:O11) -> 0
Q12: =SUM(D12:O12) -> 0
C13: E | D13: =+D14/$R$66 -> 0 | E13: =+E14/$R$66 -> 0 | F13: =+F14/$R$66 -> 0 | G13: =+G14/$R$66 -> 0 | H13: =+H14/$R$66 -> 0 | I13: =+I14/$R$66 -> 0 | J13: =+J14/$R$66 -> 0 | K13: =+K14/$R$66 -> 0 | ... O13: =+O14/$R$66 -> 0 | P13: =SUM(D13:O13) -> 0
Q14: =SUM(D14:O14) -> 0
P15: =SUM(D15:O15) -> 0
C16: P | D16: =+D17/$R$66 -> 0 | E16: =+E17/$R$66 -> 0 | F16: =+F17/$R$66 -> 0 | G16: =+G17/$R$66 -> 0 | H16: =+H17/$R$66 -> 0 | I16: =+I17/$R$66 -> 0 | J16: =+J17/$R$66 -> 0 | K16: =+K17/$R$66 -> 0 | ... O16: =+O17/$R$66 -> 0 | P16: =SUM(D16:O16) -> 0
Q17: =SUM(D17:O17) -> 0
C18: E | D18: =+D19/$R$66 -> 0 | E18: =+E19/$R$66 -> 0 | F18: =+F19/$R$66 -> 0 | G18: =+G19/$R$66 -> 0 | H18: =+H19/$R$66 -> 0 | I18: =+I19/$R$66 -> 0 | J18: =+J19/$R$66 -> 0 | K18: =+K19/$R$66 -> 0 | ... O18: =+O19/$R$66 -> 0 | P18: =SUM(D18:O18) -> 0
Q19: =SUM(D19:O19) -> 0
P20: =SUM(D20:O20) -> 0
C21: P | D21: =+D22/$R$66 -> 0 | E21: =+E22/$R$66 -> 0 | F21: =+F22/$R$66 -> 0 | G21: =+G22/$R$66 -> 0 | H21: =+H22/$R$66 -> 0 | I21: =+I22/$R$66 -> 0 | J21: =+J22/$R$66 -> 0 | K21: =+K22/$R$66 -> 0 | ... O21: =+O22/$R$66 -> 0 | P21: =SUM(D21:O21) -> 0 | S21: =SUM(R6:R21) -> 0
Q22: =SUM(D22:O22) -> 0
C23: E | D23: =+D24/$R$66 -> 0 | E23: =+E24/$R$66 -> 0 | F23: =+F24/$R$66 -> 0 | G23: =+G24/$R$66 -> 0 | H23: =+H24/$R$66 -> 0 | I23: =+I24/$R$66 -> 0 | J23: =+J24/$R$66 -> 0 | K23: =+K24/$R$66 -> 0 | ... O23: =+O24/$R$66 -> 0 | P23: =SUM(D23:O23) -> 0
Q24: =SUM(D24:O24) -> 0
P25: =SUM(D25:O25) -> 0
C26: P | D26: =+D27/$R$66 -> 0 | E26: =+E27/$R$66 -> 0 | F26: =+F27/$R$66 -> 0 | G26: =+G27/$R$66 -> 0 | H26: =+H27/$R$66 -> 0 | I26: =+I27/$R$66 -> 0 | J26: =+J27/$R$66 -> 0 | K26: =+K27/$R$66 -> 0 | ... O26: =+O27/$R$66 -> 0 | P26: =SUM(D26:O26) -> 0
Q27: =SUM(D27:O27) -> 0
C28: E | D28: =+D29/$R$66 -> 0 | E28: =+E29/$R$66 -> 0 | F28: =+F29/$R$66 -> 0 | G28: =+G29/$R$66 -> 0 | H28: =+H29/$R$66 -> 0 | I28: =+I29/$R$66 -> 0 | J28: =+J29/$R$66 -> 0 | K28: =+K29/$R$66 -> 0 | ... O28: =+O29/$R$66 -> 0 | P28: =SUM(D28:O28) -> 0
Q29: =SUM(D29:O29) -> 0
P30: 0
C31: P | D31: =+D32/$R$66 -> 0 | E31: =+E32/$R$66 -> 0 | F31: =+F32/$R$66 -> 0 | G31: =+G32/$R$66 -> 0 | H31: =+H32/$R$66 -> 0 | I31: =+I32/$R$66 -> 0 | J31: =+J32/$R$66 -> 0 | K31: =+K32/$R$66 -> 0 | ... O31: =+O32/$R$66 -> 0 | P31: =SUM(D31:O31) -> 0
Q32: =SUM(D32:O32) -> 0
C33: E | D33: =+D34/$R$66 -> 0 | E33: =+E34/$R$66 -> 0 | F33: =+F34/$R$66 -> 0 | G33: =+G34/$R$66 -> 0 | H33: =+H34/$R$66 -> 0 | I33: =+I34/$R$66 -> 0 | J33: =+J34/$R$66 -> 0 | K33: =+K34/$R$66 -> 0 | ... O33: =+O34/$R$66 -> 0 | P33: =SUM(D33:O33) -> 0
Q34: =SUM(D34:O34) -> 0
P35: 0
C36: P | D36: =+D37/$R$66 -> 0 | E36: =+E37/$R$66 -> 0 | F36: =+F37/$R$66 -> 0 | G36: =+G37/$R$66 -> 0 | H36: =+H37/$R$66 -> 0 | I36: =+I37/$R$66 -> 0 | J36: =+J37/$R$66 -> 0 | K36: =+K37/$R$66 -> 0 | ... O36: =+O37/$R$66 -> 0 | P36: =SUM(D36:O36) -> 0
Q37: =SUM(D37:O37) -> 0
C38: E | D38: =+D39/$R$66 -> 0 | E38: =+E39/$R$66 -> 0 | F38: =+F39/$R$66 -> 0 | G38: =+G39/$R$66 -> 0 | H38: =+H39/$R$66 -> 0 | I38: =+I39/$R$66 -> 0 | J38: =+J39/$R$66 -> 0 | K38: =+K39/$R$66 -> 0 | ... O38: =+O39/$R$66 -> 0 | P38: =SUM(D38:O38) -> 0
Q39: =SUM(D39:O39) -> 0
P40: 0
C41: P | D41: =+D42/$R$66 -> 0 | E41: =+E42/$R$66 -> 0 | F41: =+F42/$R$66 -> 0 | G41: =+G42/$R$66 -> 0 | H41: =+H42/$R$66 -> 0 | I41: =+I42/$R$66 -> 0 | J41: =+J42/$R$66 -> 0 | K41: =+K42/$R$66 -> 0 | ... O41: =+O42/$R$66 -> 0 | P41: =SUM(D41:O41) -> 0
Q42: =SUM(D42:O42) -> 0
C43: E | D43: =+D44/$R$66 -> 0 | E43: =+E44/$R$66 -> 0 | F43: =+F44/$R$66 -> 0 | G43: =+G44/$R$66 -> 0 | H43: =+H44/$R$66 -> 0 | I43: =+I44/$R$66 -> 0 | J43: =+J44/$R$66 -> 0 | K43: =+K44/$R$66 -> 0 | ... O43: =+O44/$R$66 -> 0 | P43: =SUM(D43:O43) -> 0
Q44: =SUM(D44:O44) -> 0
P45: 0
C46: P | D46: =+D47/$R$66 -> 0 | E46: =+E47/$R$66 -> 0 | F46: =+F47/$R$66 -> 0 | G46: =+G47/$R$66 -> 0 | H46: =+H47/$R$66 -> 0 | I46: =+I47/$R$66 -> 0 | J46: =+J47/$R$66 -> 0 | K46: =+K47/$R$66 -> 0 | ... O46: =+O47/$R$66 -> 0 | P46: =SUM(D46:O46) -> 0
Q47: =SUM(D47:O47) -> 0
C48: E | D48: =+D49/$R$66 -> 0 | E48: =+E49/$R$66 -> 0 | F48: =+F49/$R$66 -> 0 | G48: =+G49/$R$66 -> 0 | H48: =+H49/$R$66 -> 0 | I48: =+I49/$R$66 -> 0 | J48: =+J49/$R$66 -> 0 | K48: =+K49/$R$66 -> 0 | ... O48: =+O49/$R$66 -> 0 | P48: =SUM(D48:O48) -> 0
Q49: =SUM(D49:O49) -> 0
P50: 0
C51: P | D51: =+D52/$R$66 -> 0 | E51: =+E52/$R$66 -> 0 | F51: =+F52/$R$66 -> 0 | G51: =+G52/$R$66 -> 0 | H51: =+H52/$R$66 -> 0 | I51: =+I52/$R$66 -> 0 | J51: =+J52/$R$66 -> 0 | K51: =+K52/$R$66 -> 0 | ... O51: =+O52/$R$66 -> 0 | P51: =SUM(D51:O51) -> 0
Q52: =SUM(D52:O52) -> 0
C53: E | D53: =+D54/$R$66 -> 0 | E53: =+E54/$R$66 -> 0 | F53: =+F54/$R$66 -> 0 | G53: =+G54/$R$66 -> 0 | H53: =+H54/$R$66 -> 0 | I53: =+I54/$R$66 -> 0 | J53: =+J54/$R$66 -> 0 | K53: =+K54/$R$66 -> 0 | ... O53: =+O54/$R$66 -> 0 | P53: =SUM(D53:O53) -> 0
Q54: =SUM(D54:O54) -> 0
P55: 0
C56: P | D56: =+D57/$R$66 -> 0 | E56: =+E57/$R$66 -> 0 | F56: =+F57/$R$66 -> 0 | G56: =+G57/$R$66 -> 0 | H56: =+H57/$R$66 -> 0 | I56: =+I57/$R$66 -> 0 | J56: =+J57/$R$66 -> 0 | K56: =+K57/$R$66 -> 0 | ... O56: =+O57/$R$66 -> 0 | P56: =SUM(D56:O56) -> 0
Q57: =SUM(D57:O57) -> 0
C58: E | D58: =+D59/$R$66 -> 0 | E58: =+E59/$R$66 -> 0 | F58: =+F59/$R$66 -> 0 | G58: =+G59/$R$66 -> 0 | H58: =+H59/$R$66 -> 0 | I58: =+I59/$R$66 -> 0 | J58: =+J59/$R$66 -> 0 | K58: =+K59/$R$66 -> 0 | ... O58: =+O59/$R$66 -> 0 | P58: =SUM(D58:O58) -> 0
Q59: =SUM(D59:O59) -> 0
P60: =SUM(D60:O60) -> 0
C61: P | D61: =+D62/$R$66 -> 0 | E61: =+E62/$R$66 -> 0 | F61: =+F62/$R$66 -> 0 | G61: =+G62/$R$66 -> 0 | H61: =+H62/$R$66 -> 0 | I61: =+I62/$R$66 -> 0 | J61: =+J62/$R$66 -> 0 | K61: =+K62/$R$66 -> 0 | ... O61: =+O62/$R$66 -> 0 | P61: =SUM(D61:O61) -> 0
Q62: =SUM(D62:O62) -> 0
C63: E | D63: =+D64/$R$66 -> 0 | E63: =+E64/$R$66 -> 0 | F63: =+F64/$R$66 -> 0 | G63: =+G64/$R$66 -> 0 | H63: =+H64/$R$66 -> 0 | I63: =+I64/$R$66 -> 0 | J63: =+J64/$R$66 -> 0 | K63: =+K64/$R$66 -> 0 | ... O63: =+O64/$R$66 -> 0 | P63: =SUM(D63:O63) -> 0
Q64: =SUM(D64:O64) -> 0
P65: =SUM(D65:O65) -> 0
A66: TOTALES (PARCIALES) | C66: P | D66: =+SUM(D6,D11,D16,D21,D26,D31,D36,D41,D46,D51,D56,D61) -> 0.1038961 | E66: =+SUM(E6,E11,E16,E21,E26,E31,E36,E41,E46,E51,E56,E61) -> 0.12033976 | F66: =+SUM(F6,F11,F16,F21,F26,F31,F36,F41,F46,F51,F56,F61) -> 0.31168831 | G66: =+SUM(G6,G11,G16,G21,G26,G31,G36,G41,G46,G51,G56,G61) -> 0.46407583 | H66: =+SUM(H6,H11,H16,H21,H26,H31,H36,H41,H46,H51,H56,H61) -> 0 | I66: =+SUM(I6,I11,I16,I21,I26,I31,I36,I41,I46,I51,I56,I61) -> 0 | J66: =+SUM(J6,J11,J16,J21,J26,J31,J36,J41,J46,J51,J56,J61) -> 0 | K66: =+SUM(K6,K11,K16,K21,K26,K31,K36,K41,K46,K51,K56,K61) -> 0 | ... P66: =+SUM(P6,P11,P16,P21,P26,P31,P36,P41,P46,P51,P56,P61) -> 1 | Q66: =+SUM(Q7,Q12,Q17,Q22,Q27,Q32,Q37,Q42,Q47,Q52,Q57,Q62) -> 22907500 | R66: =+Informe!C19 -> 22907500
D67: =+SUM(D7,D12,D17,D22,D27,D32,D37,D42,D47,D52,D57,D62) -> 2380000 | E67: =+SUM(E7,E12,E17,E22,E27,E32,E37,E42,E47,E52,E57,E62) -> 2756683 | F67: =+SUM(F7,F12,F17,F22,F27,F32,F37,F42,F47,F52,F57,F62) -> 7140000 | G67: =+SUM(G7,G12,G17,G22,G27,G32,G37,G42,G47,G52,G57,G62) -> 10630817 | H67: =+SUM(H7,H12,H17,H22,H27,H32,H37,H42,H47,H52,H57,H62) -> 0 | I67: =+SUM(I7,I12,I17,I22,I27,I32,I37,I42,I47,I52,I57,I62) -> 0 | J67: =+SUM(J7,J12,J17,J22,J27,J32,J37,J42,J47,J52,J57,J62) -> 0 | K67: =+SUM(K7,K12,K17,K22,K27,K32,K37,K42,K47,K52,K57,K62) -> 0 | ... O67: =+SUM(O7,O12,O17,O22,O27,O32,O37,O42,O47,O52,O57,O62) -> 0
C68: E | D68: =+SUM(D8,D13,D18,D23,D28,D33,D38,D43,D48,D53,D58,D63) -> 0.1038961 | E68: =+SUM(E8,E13,E18,E23,E28,E33,E38,E43,E48,E53,E58,E63) -> 0.12033976 | F68: =+SUM(F8,F13,F18,F23,F28,F33,F38,F43,F48,F53,F58,F63) -> 0.31168831 | G68: =+SUM(G8,G13,G18,G23,G28,G33,G38,G43,G48,G53,G58,G63) -> 0.46407583 | H68: =+SUM(H8,H13,H18,H23,H28,H33,H38,H43,H48,H53,H58,H63) -> 0 | I68: =+SUM(I8,I13,I18,I23,I28,I33,I38,I43,I48,I53,I58,I63) -> 0 | J68: =+SUM(J8,J13,J18,J23,J28,J33,J38,J43,J48,J53,J58,J63) -> 0 | K68: =+SUM(K8,K13,K18,K23,K28,K33,K38,K43,K48,K53,K58,K63) -> 0 | ... P68: =+SUM(P8,P13,P18,P23,P28,P33,P38,P43,P48,P53,P58,P63) -> 1 | Q68: =+SUM(Q9,Q14,Q19,Q24,Q29,Q34,Q39,Q44,Q49,Q54,Q59,Q64) -> 22907500
D69: =+SUM(D9,D14,D19,D24,D29,D34,D39,D44,D49,D54,D59,D64) -> 2380000 | E69: =+SUM(E9,E14,E19,E24,E29,E34,E39,E44,E49,E54,E59,E64) -> 2756683 | F69: =+SUM(F9,F14,F19,F24,F29,F34,F39,F44,F49,F54,F59,F64) -> 7140000 | G69: =+SUM(G9,G14,G19,G24,G29,G34,G39,G44,G49,G54,G59,G64) -> 10630817 | H69: =+SUM(H9,H14,H19,H24,H29,H34,H39,H44,H49,H54,H59,H64) -> 0 | I69: =+SUM(I9,I14,I19,I24,I29,I34,I39,I44,I49,I54,I59,I64) -> 0 | J69: =+SUM(J9,J14,J19,J24,J29,J34,J39,J44,J49,J54,J59,J64) -> 0 | K69: =+SUM(K9,K14,K19,K24,K29,K34,K39,K44,K49,K54,K59,K64) -> 0 | ... O69: =+SUM(O9,O14,O19,O24,O29,O34,O39,O44,O49,O54,O59,O64) -> 0
P70: =SUM(D70:O70) -> 0
A71: TOTALES (ACUMULADA) | C71: P | D71: =+D66 -> 0.1038961 | E71: =+D71+E66 -> 0.22423586 | F71: =+E71+F66 -> 0.53592417 | G71: =+F71+G66 -> 1 | H71: =+G71+H66 -> 1 | I71: =+H71+I66 -> 1 | J71: =+I71+J66 -> 1 | K71: =+J71+K66 -> 1 | L71: =+K71+L66 -> 1 | ... O71: =+N71+O66 -> 1 | P71: =+O71 -> 1 | Q71: =+O72 -> 22907500
D72: =+D67 -> 2380000 | E72: =+D72+E67 -> 5136683 | F72: =+E72+F67 -> 12276683 | G72: =+F72+G67 -> 22907500 | H72: =+G72+H67 -> 22907500 | I72: =+H72+I67 -> 22907500 | J72: =+I72+J67 -> 22907500 | K72: =+J72+K67 -> 22907500 | L72: =+K72+L67 -> 22907500 | ... O72: =+N72+O67 -> 22907500
C73: E | D73: =+D68 -> 0.1038961 | E73: =+D73+E68 -> 0.22423586 | F73: =+E73+F68 -> 0.53592417 | G73: =+F73+G68 -> 1 | H73: =+G73+H68 -> 1 | I73: =+H73+I68 -> 1 | J73: =+I73+J68 -> 1 | K73: =+J73+K68 -> 1 | L73: =+K73+L68 -> 1 | ... O73: =+N73+O68 -> 1 | P73: =+O73 -> 1 | Q73: =+O74 -> 22907500
D74: =+D69 -> 2380000 | E74: =+D74+E69 -> 5136683 | F74: =+E74+F69 -> 12276683 | G74: =+F74+G69 -> 22907500 | H74: =+G74+H69 -> 22907500 | I74: =+H74+I69 -> 22907500 | J74: =+I74+J69 -> 22907500 | K74: =+J74+K69 -> 22907500 | L74: =+K74+L69 -> 22907500 | ... O74: =+N74+O69 -> 22907500
