Workbook

Sheet Informe
C1: FORMATO INFORME DE SUPERVISIÓN | J1: Codigo: | K1: PT-F-028
J2: Versión: | K2: 03
J3: Pagina: | K3: 1 de 3
A5: INFORME No.: | D5: 4 | E5: FECHA DEL INFORME: | H5: 45972
A9: DILIGENCIAR SEGÚN TIPO DE CONTRATO (OBRA / SUMINISTRO / PRESTACIÓN DE SERVICIOS)
A10: Contrato No: | B10: ENV-09-32-0853-25 | D10: Objeto: | E10: MANTENIMIENTO PREVENTIVO, CORRECTIVO CON SUMINISTRO DE REPUESTOS PARA LAS PLANTAS ELECTRICAS SEGUN REQUERIMIENTO DEL MUNICIPIO DE ENVIGADO.
A11: Contratista: | B11: PANOP TECNOLOGÍA DE INNOVACIÓN
A12: NIT: | B12: 901393261-1
A13: DATOS CONTRATO PRINCIPAL: | C13: Valor Inicial: | D13: 22907500 | F13: Plazo Inicial: | G13: 180 | H13: Dias | I13: Fecha suscripción: | K13: 45702
A14: DATOS ADICIÓN / MODIFICACIÓN No.1: | C14: Valor: | F14: Plazo: | I14: Fecha suscripción:
A15: DATOS ADICIÓN / MODIFICACIÓN No.2: | C15: Valor: | F15: Plazo: | I15: Fecha suscripción:
A16: DATOS ADICIÓN / MODIFICACIÓN No.3: | C16: Valor: | F16: Plazo: | I16: Fecha suscripción:
A17: DATOS ADICIÓN / MODIFICACIÓN No.3: | C17: Valor: | F17: Plazo: | I17: Fecha suscripción:
A18: ACTA DE SUSPENSIÓN No.1: | C18: ACTA DE REINICIO No.1: | F18: ACTA DE SUSPENSIÓN No.2: | I18: ACTA DE REINICIO No.2: | L18: =DAYS360(B18,D18) -> 0 | M18: =DAYS360(H18,J18) -> 0
A19: VALOR TOTAL DEL CONTRATO: | C19: =SUM(D13:E18) -> 22907500 | F19: PLAZO TOTAL DEL CONTRATO: | I19: 180 | K19: DIAS
A20: Fecha de iniciación: | B20: 45706 | F20: Fecha de vencimiento: | H20: 17 de agosto de 2025
A22: POLIZAS DEL CONTRATO
A23: COMPAÑÍA | B23: CLASE GARANTIA | E23: POLIZA No. | G23: VALOR | I23: VENCIMIENTO
I24: DIA | J24: MES | K24: AÑO
A25: Mundial de seguros | B25: CUMPLIMIENTO | E25: M-100255943 | G25: 3436925 | I25: 17 | J25: 2 | K25: 2026
A26: Mundial de seguros | B26: PRESTACIONES SOCIALES | E26: M-100255943 | G26: 3436925 | I26: 17 | J26: 8 | K26: 2028
A27: Mundial de seguros | B27: CALIDAD DEL SERVICIO | E27: M-100255943 | G27: 3436925 | I27: 17 | J27: 8 | K27: 2025
A28: Mundial de seguros | B28: CALIDAD DE LOS ELEMENTOS | E28: M-100255943 | G28: 3436925 | I28: 17 | J28: 11 | K28: 2025
A29: Mundial de seguros | B29: RESPONSABILIDAD CIVIL EXTRA CONTRACTUAL | E29: M-100063229 | G29: 284700000 | I29: 4 | J29: 8 | K29: 2024
A31: AVANCES DEL CONTRATO ( Diligenciar solo en los contratos de obra)
A32: GRAFICA DE AVANCE DEL CONVENIO | F32: PROGRAMADO
H33: Mensual | J33: Acumulado
B34: %PROGRAMADO | C34: %EJECUTADO | D34: DIFERENCIA | F34: Obra Programada (%) | H34: =+programación!N71 -> 1 | J34: =+programación!O71 -> 1
A35: Acumulado anterior | B35: =+B37-B36 -> 0 | C35: =+C37-C36 -> 0 | D35: =+C35-B35 -> 0 | F35: Valor de la Obra | H35: =+programación!N72 -> 22907500 | J35: =+programación!O72 -> 22907500
A36: Durante el periodo | B36: =+H34 -> 1 | C36: =+H38 -> 1 | D36: =+C36-B36 -> 0 | F36: EJECUTADO
A37: Acumulad Actual | B37: =+J34 -> 1 | C37: =+J38 -> 1 | D37: =+C37-B37 -> 0 | H37: Mensual | J37: Acumulado
F38: Obra fisica ejecutada (%) | H38: =+programación!N73 -> 1 | J38: =+programación!O73 -> 1
F39: Valor de la Obra | H39: =+programación!N74 -> 22907500 | J39: =+programación!O74 -> 22907500
F40: DATOS FINANCIEROS
F41: V.r CONTRATO: | I41: =+C19 -> 22907500
F42: Vr. TOTAL PAGADO EN ACTAS: | I42: =+G67 -> 22907500
F43: SALDO POR PAGAR CONTRATO: | I43: =+I41-I42 -> 0
F44: Vr. ANTICIPO:
F45: TOTAL AMORTIZADO ANTICIPO: | I45: =+H67 -> 0
F46: SALDO POR AMORTIZAR ANTICIPO: | I46: =+I44-I45 -> 0
...

Sheet programación
C1: PROGRAMACIÓN Y SEGUIMIENTO DE OBRA
C2: =+CONCATENATE(Informe!B10," - ",Informe!E10) -> ENV-09-32-0853-25 - MANTENIMIENTO PREVENTIVO, CORRECTIVO CON SUMINISTRO DE REPUESTOS PARA LAS PLANTAS ELECTRICAS SEGUN REQUERIMIENTO DEL MUNICIPIO DE ENVIGADO.
A3: Item | B3: Descripción | P3: Total Porcentaje | Q3: Total Valor | R3: VALOR TOTAL DEL CAPITULO
D4: JUN | E4: JUL | F4: AGO | G4: SEPT
C6: P | D6: =+D7/$R$66 -> 0.1038961 | E6: =+E7/$R$66 -> 0.12033976 | F6: =+F7/$R$66 -> 0.31168831 | G6: =+G7/$R$66 -> 0.46407583 | H6: =+H7/$R$66 -> 0 | I6: =+I7/$R$66 -> 0 | J6: =+J7/$R$66 -> 0 | K6: =+K7/$R$66 -> 0 | ... O6: =+O7/$R$66 -> 0 | P6: =SUM(D6:O6) -> 1 | Q6: =+SUM(D6:O6) -> 1
D7: 2380000 | E7: 2756683 | F7: 7140000 | G7: 10630817 | P7: =+SUM(D7:O7) -> 22907500 | Q7: =SUM(D7:O7) -> 22907500
C8: E | D8: =+D9/$R$66 -> 0.1038961 | E8: =+E9/$R$66 -> 0.12033976 | F8: =+F9/$R$66 -> 0.31168831 | G8: =+G9/$R$66 -> 0.46407583 | H8: =+H9/$R$66 -> 0 | I8: =+I9/$R$66 -> 0 | J8: =+J9/$R$66 -> 0 | K8: =+K9/$R$66 -> 0 | ... O8: =+O9/$R$66 -> 0 | P8: =SUM(D8:O8) -> 1 | Q8: =+SUM(D8:O8) -> 1
D9: 2380000 | E9: 2756683 | F9: 7140000 | G9: 10630817 | P9: =+SUM(D9:O9) -> 22907500 | Q9: =SUM(D9:O9) -> 22907500
P10: =SUM(D10:O10) -> 0
C11: P | D11: =+D12/$R$66 -> 0 | E11: =+E12/$R$66 -> 0 | F11: =+F12/$R$66 -> 0 | G11: =+G12/$R$66 -> 0 | H11: =+H12/$R$66 -> 0 | I11: =+I12/$R$66 -> 0 | J11: =+J12/$R$66 -> 0 | K11: =+K12/$R$66 -> 0 | ... O11: =+O12/$R$66 -> 0 | P11: =SUM(D11:O11) -> 0
Q12: =SUM(D12:O12) -> 0
C13: E | D13: =+D14/$R$66 -> 0 | E13: =+E14/$R$66 -> 0 | F13: =+F14/$R$66 -> 0 | G13: =+G14/$R$66 -> 0 | H13: =+H14/$R$66 -> 0 | I13: =+I14/$R$66 -> 0 | J13: =+J14/$R$66 -> 0 | K13: =+K14/$R$66 -> 0 | ... O13: =+O14/$R$66 -> 0 | P13: =SUM(D13:O13) -> 0
Q14: =SUM(D14:O14) -> 0
P15: =SUM(D15:O15) -> 0
C16: P | D16: =+D17/$R$66 -> 0 | E16: =+E17/$R$66 -> 0 | F16: =+F17/$R$66 -> 0 | G16: =+G17/$R$66 -> 0 | H16: =+H17/$R$66 -> 0 | I16: =+I17/$R$66 -> 0 | J16: =+J17/$R$66 -> 0 | K16: =+K17/$R$66 -> 0 | ... O16: =+O17/$R$66 -> 0 | P16: =SUM(D16:O16) -> 0
Q17: =SUM(D17:O17) -> 0
C18: E | D18: =+D19/$R$66 -> 0 | E18: =+E19/$R$66 -> 0 | F18: =+F19/$R$66 -> 0 | G18: =+G19/$R$66 -> 0 | H18: =+H19/$R$66 -> 0 | I18: =+I19/$R$66 -> 0 | J18: =+J19/$R$66 -> 0 | K18: =+K19/$R$66 -> 0 | ... O18: =+O19/$R$66 -> 0 | P18: =SUM(D18:O18) -> 0
Q19: =SUM(D19:O19) -> 0
P20: =SUM(D20:O20) -> 0
C21: P | D21: =+D22/$R$66 -> 0 | E21: =+E22/$R$66 -> 0 | F21: =+F22/$R$66 -> 0 | G21: =+G22/$R$66 -> 0 | H21: =+H22/$R$66 -> 0 | I21: =+I22/$R$66 -> 0 | J21: =+J22/$R$66 -> 0 | K21: =+K22/$R$66 -> 0 | ... O21: =+O22/$R$66 -> 0 | P21: =SUM(D21:O21) -> 0 | S21: =SUM(R6:R21) -> 0
Q22: =SUM(D22:O22) -> 0
C23: E | D23: =+D24/$R$66 -> 0 | E23: =+E24/$R$66 -> 0 | F23: =+F24/$R$66 -> 0 | G23: =+G24/$R$66 -> 0 | H23: =+H24/$R$66 -> 0 | I23: =+I24/$R$66 -> 0 | J23: =+J24/$R$66 -> 0 | K23: =+K24/$R$66 -> 0 | ... O23: =+O24/$R$66 -> 0 | P23: =SUM(D23:O23) -> 0
Q24: =SUM(D24:O24) -> 0
P25: =SUM(D25:O25) -> 0
C26: P | D26: =+D27/$R$66 -> 0 | E26: =+E27/$R$66 -> 0 | F26: =+F27/$R$66 -> 0 | G26: =+G27/$R$66 -> 0 | H26: =+H27/$R$66 -> 0 | I26: =+I27/$R$66 -> 0 | J26: =+J27/$R$66 -> 0 | K26: =+K27/$R$66 -> 0 | ... O26: =+O27/$R$66 -> 0 | P26: =SUM(D26:O26) -> 0
Q27: =SUM(D27:O27) -> 0
C28: E | D28: =+D29/$R$66 -> 0 | E28: =+E29/$R$66 -> 0 | F28: =+F29/$R$66 -> 0 | G28: =+G29/$R$66 -> 0 | H28: =+H29/$R$66 -> 0 | I28: =+I29/$R$66 -> 0 | J28: =+J29/$R$66 -> 0 | K28: =+K29/$R$66 -> 0 | ... O28: =+O29/$R$66 -> 0 | P28: =SUM(D28:O28) -> 0
Q29: =SUM(D29:O29) -> 0
P30: 0
C31: P | D31: =+D32/$R$66 -> 0 | E31: =+E32/$R$66 -> 0 | F31: =+F32/$R$66 -> 0 | G31: =+G32/$R$66 -> 0 | H31: =+H32/$R$66 -> 0 | I31: =+I32/$R$66 -> 0 | J31: =+J32/$R$66 -> 0 | K31: =+K32/$R$66 -> 0 | ... O31: =+O32/$R$66 -> 0 | P31: =SUM(D31:O31) -> 0
Q32: =SUM(D32:O32) -> 0
C33: E | D33: =+D34/$R$66 -> 0 | E33: =+E34/$R$66 -> 0 | F33: =+F34/$R$66 -> 0 | G33: =+G34/$R$66 -> 0 | H33: =+H34/$R$66 -> 0 | I33: =+I34/$R$66 -> 0 | J33: =+J34/$R$66 -> 0 | K33: =+K34/$R$66 -> 0 | ... O33: =+O34/$R$66 -> 0 | P33: =SUM(D33:O33) -> 0
Q34: =SUM(D34:O34) -> 0
P35: 0
C36: P | D36: =+D37/$R$66 -> 0 | E36: =+E37/$R$66 -> 0 | F36: =+F37/$R$66 -> 0 | G36: =+G37/$R$66 -> 0 | H36: =+H37/$R$66 -> 0 | I36: =+I37/$R$66 -> 0 | J36: =+J37/$R$66 -> 0 | K36: =+K37/$R$66 -> 0 | ... O36: =+O37/$R$66 -> 0 | P36: =SUM(D36:O36) -> 0
Q37: =SUM(D37:O37) -> 0
C38: E | D38: =+D39/$R$66 -> 0 | E38: =+E39/$R$66 -> 0 | F38: =+F39/$R$66 -> 0 | G38: =+G39/$R$66 -> 0 | H38: =+H39/$R$66 -> 0 | I38: =+I39/$R$66 -> 0 | J38: =+J39/$R$66 -> 0 | K38: =+K39/$R$66 -> 0 | ... O38: =+O39/$R$66 -> 0 | P38: =SUM(D38:O38) -> 0
Q39: =SUM(D39:O39) -> 0
P40: 0
C41: P | D41: =+D42/$R$66 -> 0 | E41: =+E42/$R$66 -> 0 | F41: =+F42/$R$66 -> 0 | G41: =+G42/$R$66 -> 0 | H41: =+H42/$R$66 -> 0 | I41: =+I42/$R$66 -> 0 | J41: =+J42/$R$66 -> 0 | K41: =+K42/$R$66 -> 0 | ... O41: =+O42/$R$66 -> 0 | P41: =SUM(D41:O41) -> 0
...
