Workbook

Sheet Cálculos (julio11) (2)
B1: ESTUDIO DE MERCADO
B2: OBJETO: REALIZAR, DESARROLLAR Y EJECUTAR LA INTERVENTORÍA TÉCNICA, JURÍDICA, ADMINISTRATIVA, FINANCIERA Y CONTABLE, EN REPRESENTACIÓN DE LA SECRETARÍA DE SALUD DEL DEPARTAMENTO DE CUNDINAMARCA COMO ENTIDAD CONTRATANTE DEL “CONTRATO DE CONCESIÓN NO. 002 DE 2003” CELEBRADO ENTRE LA SECRETARÍA DE SALUD Y LA UNIÓN TEMPORAL HOSPITAL CARDIOVASCULAR DEL NIÑO DE CUNDINAMARCA.
F6: Cotización 1 | G6: Cotización 2 | H6: Cotización 3 | I6: Cotización 4 | J6: Cotización 5
A7: Item | B7: Item | C7: Descripcion | D7: Especificaciones Tecnicas | E7: Cant | F7: MR Y CIA SAS | G7: LABCARE DE COLOMBIA SAS | H7: ACG CALIDAD SAS | I7: UNIVERSIDAD MILITAR | J7: Valor Unitario | K7: Media Aritmetica | L7: Desviacion Estandar | M7: Mediana | N7: Media Geometrica | O7: Media Armonica | P7: Min | Q7: Max
B8: {=_xlfn.SEQUENCE(30,1,1)} -> 1 | C8: Control de calidad externo microbiologico para análisis cualitativo de Coliformes totales, Coliformes fecales y E coli AGUA PARA CONSUMO HUMANO | E8: 1 | F8: 3127636 | G8: 3036543.7 | H8: 3158001 | K8: =AVERAGE(F8:I8) -> 3107393.6 | L8: =STDEVA(F8:I8) -> 63208.276 | M8: =MEDIAN(F8:I8) -> 3127636 | N8: =GEOMEAN(F8:I8) -> 3106962.4 | O8: =HARMEAN(F8:I8) -> 3106528.8 | P8: =MIN(F8:I8) -> 3036543.7 | Q8: =MAX(F8:I8) -> 3158001
B9: 2 | C9: Control de calidad externo microbiológico cualitativo para lácteos (Detección de Escherichia coli O157 (non- toxigenic strain); Listeria species; Listeria monocytogenes; Salmonella species Identification of Listeria species ). | E9: 1 | F9: 5495150 | G9: 5335096.6 | H9: 5548500 | K9: =AVERAGE(F9:I9) -> 5459582.2 | L9: =STDEVA(F9:I9) -> 111058.76 | M9: =MEDIAN(F9:I9) -> 5495150 | N9: =GEOMEAN(F9:I9) -> 5458824.7 | O9: =HARMEAN(F9:I9) -> 5458062.7 | P9: =MIN(F9:I9) -> 5335096.6 | Q9: =MAX(F9:I9) -> 5548500
B10: 3 | C10: Control de calidad Microbiología de Aguas. Matriz agua envasada NMP/ 100 ml Coliformes totales, NMP/100 ml E. coli y NMP/100 ml Pseudomonas aeruginosa. | E10: 1 | F10: 2737637 | G10: 2657900 | H10: 2764216 | K10: =AVERAGE(F10:I10) -> 2719917.7 | L10: =STDEVA(F10:I10) -> 55328.601 | M10: =MEDIAN(F10:I10) -> 2737637 | N10: =GEOMEAN(F10:I10) -> 2719540.3 | O10: =HARMEAN(F10:I10) -> 2719160.7 | P10: =MIN(F10:I10) -> 2657900 | Q10: =MAX(F10:I10) -> 2764216
B11: 4 | K11: =AVERAGE(F11:I11) -> #DIV/0! | L11: =STDEVA(F11:I11) -> #DIV/0! | M11: =MEDIAN(F11:I11) -> #NUM! | N11: =GEOMEAN(F11:I11) -> #NUM! | O11: =HARMEAN(F11:I11) -> #N/A | P11: =MIN(F11:I11) -> 0 | Q11: =MAX(F11:I11) -> 0
B12: 5 | K12: =AVERAGE(F12:I12) -> #DIV/0! | L12: =STDEVA(F12:I12) -> #DIV/0! | M12: =MEDIAN(F12:I12) -> #NUM! | N12: =GEOMEAN(F12:I12) -> #NUM! | O12: =HARMEAN(F12:I12) -> #N/A | P12: =MIN(F12:I12) -> 0 | Q12: =MAX(F12:I12) -> 0
B13: 6 | E13: 1
B14: 7 | E14: 1
B15: 8 | E15: 1
B16: 9 | E16: 1
B17: 10 | E17: 1
B18: 11
B19: 12
B20: 13
B21: 14
B22: 15
B23: 16
B24: 17
B25: 18
B26: 19
B27: 20
B28: 21
B29: 22
... B37: 30
B39: TOTAL | F39: =SUM(F8:F38) -> 11360423 | G39: =SUM(G8:G38) -> 11029540 | H39: =SUM(H8:H38) -> 11470717 | I39: =SUM(I8:I38) -> 0 | K39: =K8+K9+K10 -> 11286893 | L39: =L8+L9+L10 -> 229595.64 | M39: =M8+M9+M10 -> 11360423 | N39: =N8+N9+N10 -> 11285327 | O39: =O8+O9+O10 -> 11283752 | P39: =P8+P9+P10 -> 11029540 | Q39: =Q8+Q9+Q10 -> 11470717
E43: 1
E44: 1
E45: 1 | F45: =F39*1.19 -> 13518903 | G45: =G39*1.19 -> 13125153 | H45: =H39*1.19 -> 13650153

Sheet Cálculos 
B1: OBJETO
B3: OBJETO: Prestar el servicio de intervenciones metrológicas de calibración a los equipos del laboratorio de salud pública de Cundinamarca.
J6: COTIZACIONES | AR6: DATOS
J7: COTIZACION 1 | K7: COTIZACION 2 | L7: COTIZACION 3 | M7: COTIZACION 4 | N7: COTIZACION 5 | O7: COTIZACION 6 | P7: COTIZACION 7 | Q7: COTIZACION 8 | R7: COTIZACION 9 | S7: COTIZACION 10 | T7: COTIZACION 11 | U7: COTIZACION 12 | V7: COTIZACION 13 | W7: COTIZACION 14 | X7: COTIZACION 15 | Y7: COTIZACION 16 | Z7: COTIZACION 17 | AA7: COTIZACION 18 | AB7: COTIZACION 18 | AC7: COTIZACION 19 | AD7: COTIZACION 20 | AE7: COTIZACION 21 | AF7: COTIZACION 22 | AG7: COTIZACION 23 | AH7: COTIZACION 24 | AI7: COTIZACION 25 | AJ7: COTIZACION 26 | AK7: COTIZACION 27 | AL7: COTIZACION 28 | AM7: COTIZACION 29 | AN7: COTIZACION 30 | AO7: COTIZACION 31 | AP7: COTIZACION 32 | AQ7: COTIZACION 33
B8: num | C8: BIEN Y/O SERVICIO | D8: DESCRIPCIÓN | E8: ESPECIFICACIONES TECNICAS | F8: UNIDAD DE MEDIDA | G8: UNIDADES | H8: # DE UNIDADES | I8: TOTAL | J8: CONAMET | K8: INGOBAR | L8: CEINTEC | AR8: Media Aritmetica | AS8: Desviacion Estandar | AT8: Mediana | AU8: Media Geometrica | AV8: Media Armonica | AW8: Min | AX8: Max
B9: 1 | C9: calibración a los equipos del laboratorio | D9: Analizador de flujo continuo-segmentado | F9: UND | G9: 1 | H9: 1 | I9: =+IF(C9="","",SUM(G9*H9)) -> 1 | J9: 1458000 | K9: 2450000 | L9: 1458000 | AR9: =IF(C9="","",AVERAGE(J9:AQ9)) -> 1788666.7 | AS9: =IF(C9="","",STDEVA(J9:AQ9)) -> 572731.47 | AT9: =IF(C9="","",MEDIAN(J9:AQ9)) -> 1458000 | AU9: =IF(C9="","",GEOMEAN(J9:AQ9)) -> 1733379.7 | AV9: =IF(C9="","",HARMEAN(J9:AQ9)) -> 1685482.9 | AW9: =IF(C9="","",MIN(J9:AQ9)) -> 1458000 | AX9: =IF(C9="","",MAX(J9:AQ9)) -> 2450000
B10: =+B9+1 -> 2 | C10: calibración a los equipos del laboratorio | D10: Autoclave | F10: UND | G10: 1 | H10: 1 | I10: =+IF(C10="","",SUM(G10*H10)) -> 1 | J10: 1025800 | K10: 1245000 | L10: 1181721.6 | AR10: =IF(C10="","",AVERAGE(J10:AQ10)) -> 1150840.5 | AS10: =IF(C10="","",STDEVA(J10:AQ10)) -> 112815.74 | AT10: =IF(C10="","",MEDIAN(J10:AQ10)) -> 1181721.6 | AU10: =IF(C10="","",GEOMEAN(J10:AQ10)) -> 1147050.2 | AV10: =IF(C10="","",HARMEAN(J10:AQ10)) -> 1143168.6 | AW10: =IF(C10="","",MIN(J10:AQ10)) -> 1025800 | AX10: =IF(C10="","",MAX(J10:AQ10)) -> 1245000
B11: =+B10+1 -> 3 | C11: calibración a los equipos del laboratorio | D11: Balanza | F11: UND | G11: 1 | H11: 1 | I11: =+IF(C11="","",SUM(G11*H11)) -> 1 | J11: 823500 | K11: 498000 | L11: 948672 | AR11: =IF(C11="","",AVERAGE(J11:AQ11)) -> 756724 | AS11: =IF(C11="","",STDEVA(J11:AQ11)) -> 232638.32 | AT11: =IF(C11="","",MEDIAN(J11:AQ11)) -> 823500 | AU11: =IF(C11="","",GEOMEAN(J11:AQ11)) -> 730022.66 | AV11: =IF(C11="","",HARMEAN(J11:AQ11)) -> 701513.77 | AW11: =IF(C11="","",MIN(J11:AQ11)) -> 498000 | AX11: =IF(C11="","",MAX(J11:AQ11)) -> 948672
B12: =+B11+1 -> 4 | C12: calibración a los equipos del laboratorio | D12: Balanza Analitica | F12: UND | G12: 2 | H12: 1 | I12: =+IF(C12="","",SUM(G12*H12)) -> 2 | J12: 823500 | K12: 525000 | L12: 948672 | AR12: =IF(C12="","",AVERAGE(J12:AQ12)) -> 765724 | AS12: =IF(C12="","",STDEVA(J12:AQ12)) -> 217664.97 | AT12: =IF(C12="","",MEDIAN(J12:AQ12)) -> 823500 | AU12: =IF(C12="","",GEOMEAN(J12:AQ12)) -> 742984.35 | AV12: =IF(C12="","",HARMEAN(J12:AQ12)) -> 718873.48 | AW12: =IF(C12="","",MIN(J12:AQ12)) -> 525000 | AX12: =IF(C12="","",MAX(J12:AQ12)) -> 948672
B13: =+B12+1 -> 5 | C13: calibración a los equipos del laboratorio | D13: Bloque de calentamiento seco | F13: UND | G13: 1 | H13: 1 | I13: =+IF(C13="","",SUM(G13*H13)) -> 1 | J13: 1235600 | K13: 1145000 | L13: 1423411.2 | AR13: =IF(C13="","",AVERAGE(J13:AQ13)) -> 1268003.7 | AS13: =IF(C13="","",STDEVA(J13:AQ13)) -> 142005.99 | AT13: =IF(C13="","",MEDIAN(J13:AQ13)) -> 1235600 | AU13: =IF(C13="","",GEOMEAN(J13:AQ13)) -> 1262809.7 | AV13: =IF(C13="","",HARMEAN(J13:AQ13)) -> 1257743.8 | AW13: =IF(C13="","",MIN(J13:AQ13)) -> 1145000 | AX13: =IF(C13="","",MAX(J13:AQ13)) -> 1423411.2
B14: =+B13+1 -> 6 | C14: calibración a los equipos del laboratorio | D14: Bloque de calentamiento seco | F14: UND | G14: 1 | H14: 1 | I14: =+IF(C14="","",SUM(G14*H14)) -> 1 | J14: 1235600 | K14: 1145000 | L14: 1423411.2 | AR14: =IF(C14="","",AVERAGE(J14:AQ14)) -> 1268003.7 | AS14: =IF(C14="","",STDEVA(J14:AQ14)) -> 142005.99 | AT14: =IF(C14="","",MEDIAN(J14:AQ14)) -> 1235600 | AU14: =IF(C14="","",GEOMEAN(J14:AQ14)) -> 1262809.7 | AV14: =IF(C14="","",HARMEAN(J14:AQ14)) -> 1257743.8 | AW14: =IF(C14="","",MIN(J14:AQ14)) -> 1145000 | AX14: =IF(C14="","",MAX(J14:AQ14)) -> 1423411.2
B15: =+B14+1 -> 7 | C15: calibración a los equipos del laboratorio | D15: Bureta digital | F15: UND | G15: 1 | H15: 1 | I15: =+IF(C15="","",SUM(G15*H15)) -> 1 | J15: 458900 | K15: 345000 | L15: 528652.8 | AR15: =IF(C15="","",AVERAGE(J15:AQ15)) -> 444184.27 | AS15: =IF(C15="","",STDEVA(J15:AQ15)) -> 92706.539 | AT15: =IF(C15="","",MEDIAN(J15:AQ15)) -> 458900 | AU15: =IF(C15="","",GEOMEAN(J15:AQ15)) -> 437423.96 | AV15: =IF(C15="","",HARMEAN(J15:AQ15)) -> 430460.82 | AW15: =IF(C15="","",MIN(J15:AQ15)) -> 345000 | AX15: =IF(C15="","",MAX(J15:AQ15)) -> 528652.8
B16: =+B15+1 -> 8 | C16: calibración a los equipos del laboratorio | D16: Centrifuga Refrigerada | F16: UND | G16: 1 | H16: 1 | I16: =+IF(C16="","",SUM(G16*H16)) -> 1 | J16: 2025400 | K16: 890000 | L16: 2333260.8 | AR16: =IF(C16="","",AVERAGE(J16:AQ16)) -> 1749553.6 | AS16: =IF(C16="","",STDEVA(J16:AQ16)) -> 760143.97 | AT16: =IF(C16="","",MEDIAN(J16:AQ16)) -> 2025400 | AU16: =IF(C16="","",GEOMEAN(J16:AQ16)) -> 1614190.2 | AV16: =IF(C16="","",HARMEAN(J16:AQ16)) -> 1466340.2 | AW16: =IF(C16="","",MIN(J16:AQ16)) -> 890000 | AX16: =IF(C16="","",MAX(J16:AQ16)) -> 2333260.8
B17: =+B16+1 -> 9 | C17: calibración a los equipos del laboratorio | D17: Congelador | F17: UND | G17: 1 | H17: 1 | I17: =+IF(C17="","",SUM(G17*H17)) -> 1 | J17: 1458900 | K17: 974000 | L17: 1680652.8 | AR17: =IF(C17="","",AVERAGE(J17:AQ17)) -> 1371184.3 | AS17: =IF(C17="","",STDEVA(J17:AQ17)) -> 361400.17 | AT17: =IF(C17="","",MEDIAN(J17:AQ17)) -> 1458900 | AU17: =IF(C17="","",GEOMEAN(J17:AQ17)) -> 1336659.6 | AV17: =IF(C17="","",HARMEAN(J17:AQ17)) -> 1300306.2 | AW17: =IF(C17="","",MIN(J17:AQ17)) -> 974000 | AX17: =IF(C17="","",MAX(J17:AQ17)) -> 1680652.8
B18: =+B17+1 -> 10 | C18: calibración a los equipos del laboratorio | D18: Congelador | F18: UND | G18: 1 | H18: 1 | I18: =+IF(C18="","",SUM(G18*H18)) -> 1 | J18: 1458900 | K18: 974000 | L18: 1680652.8 | AR18: =IF(C18="","",AVERAGE(J18:AQ18)) -> 1371184.3 | AS18: =IF(C18="","",STDEVA(J18:AQ18)) -> 361400.17 | AT18: =IF(C18="","",MEDIAN(J18:AQ18)) -> 1458900 | AU18: =IF(C18="","",GEOMEAN(J18:AQ18)) -> 1336659.6 | AV18: =IF(C18="","",HARMEAN(J18:AQ18)) -> 1300306.2 | AW18: =IF(C18="","",MIN(J18:AQ18)) -> 974000 | AX18: =IF(C18="","",MAX(J18:AQ18)) -> 1680652.8
B19: =+B18+1 -> 11 | C19: calibración a los equipos del laboratorio | D19: Congelador | F19: UND | G19: 1 | H19: 1 | I19: =+IF(C19="","",SUM(G19*H19)) -> 1 | J19: 1458900 | K19: 974000 | L19: 1680652.8 | AR19: =IF(C19="","",AVERAGE(J19:AQ19)) -> 1371184.3 | AS19: =IF(C19="","",STDEVA(J19:AQ19)) -> 361400.17 | AT19: =IF(C19="","",MEDIAN(J19:AQ19)) -> 1458900 | AU19: =IF(C19="","",GEOMEAN(J19:AQ19)) -> 1336659.6 | AV19: =IF(C19="","",HARMEAN(J19:AQ19)) -> 1300306.2 | AW19: =IF(C19="","",MIN(J19:AQ19)) -> 974000 | AX19: =IF(C19="","",MAX(J19:AQ19)) -> 1680652.8
B20: =+B19+1 -> 12 | C20: calibración a los equipos del laboratorio | D20: Cuarto frío | F20: UND | G20: 2 | H20: 1 | I20: =+IF(C20="","",SUM(G20*H20)) -> 2 | J20: 1458900 | K20: 2422000 | L20: 1680652.8 | AR20: =IF(C20="","",AVERAGE(J20:AQ20)) -> 1853850.9 | AS20: =IF(C20="","",STDEVA(J20:AQ20)) -> 504369.5 | AT20: =IF(C20="","",MEDIAN(J20:AQ20)) -> 1680652.8 | AU20: =IF(C20="","",GEOMEAN(J20:AQ20)) -> 1810892 | AV20: =IF(C20="","",HARMEAN(J20:AQ20)) -> 1771650 | AW20: =IF(C20="","",MIN(J20:AQ20)) -> 1458900 | AX20: =IF(C20="","",MAX(J20:AQ20)) -> 2422000
B21: =+B20+1 -> 13 | C21: calibración a los equipos del laboratorio | D21: Datalogger | F21: UND | G21: 5 | H21: 1 | I21: =+IF(C21="","",SUM(G21*H21)) -> 5 | J21: 1125400 | K21: 514000 | L21: 1296460.8 | AR21: =IF(C21="","",AVERAGE(J21:AQ21)) -> 978620.27 | AS21: =IF(C21="","",STDEVA(J21:AQ21)) -> 411362.91 | AT21: =IF(C21="","",MEDIAN(J21:AQ21)) -> 1125400 | AU21: =IF(C21="","",GEOMEAN(J21:AQ21)) -> 908538.09 | AV21: =IF(C21="","",HARMEAN(J21:AQ21)) -> 832078.53 | AW21: =IF(C21="","",MIN(J21:AQ21)) -> 514000 | AX21: =IF(C21="","",MAX(J21:AQ21)) -> 1296460.8
... B48: =+B47+1 -> 40 | C48: calibración a los equipos del laboratorio | D48: Ultracongelador | F48: UND | G48: 2 | H48: 1 | I48: =+IF(C48="","",SUM(G48*H48)) -> 2 | J48: 1458900 | K48: 1245000 | L48: 1680652.8 | AR48: =IF(C48="","",AVERAGE(J48:AQ48)) -> 1461517.6 | AS48: =IF(C48="","",STDEVA(J48:AQ48)) -> 217838.2 | AT48: =IF(C48="","",MEDIAN(J48:AQ48)) -> 1458900 | AU48: =IF(C48="","",GEOMEAN(J48:AQ48)) -> 1450633.2 | AV48: =IF(C48="","",HARMEAN(J48:AQ48)) -> 1439768.9 | AW48: =IF(C48="","",MIN(J48:AQ48)) -> 1245000 | AX48: =IF(C48="","",MAX(J48:AQ48)) -> 1680652.8
B49: =+B48+1 -> 41 | I49: =+IF(C49="","",SUM(G49*H49)) | AR49: =IF(C49="","",AVERAGE(J49:AQ49)) | AS49: =IF(C49="","",STDEVA(J49:AQ49)) | AT49: =IF(C49="","",MEDIAN(J49:AQ49)) | AU49: =IF(C49="","",GEOMEAN(J49:AQ49)) | AV49: =IF(C49="","",HARMEAN(J49:AQ49)) | AW49: =IF(C49="","",MIN(J49:AQ49)) | AX49: =IF(C49="","",MAX(J49:AQ49))
B50: =+B49+1 -> 42 | I50: =+IF(C50="","",SUM(G50*H50)) | AR50: =IF(C50="","",AVERAGE(J50:AQ50)) | AS50: =IF(C50="","",STDEVA(J50:AQ50)) | AT50: =IF(C50="","",MEDIAN(J50:AQ50)) | AU50: =IF(C50="","",GEOMEAN(J50:AQ50)) | AV50: =IF(C50="","",HARMEAN(J50:AQ50)) | AW50: =IF(C50="","",MIN(J50:AQ50)) | AX50: =IF(C50="","",MAX(J50:AQ50))
B51: =+B50+1 -> 43 | I51: =+IF(C51="","",SUM(G51*H51)) | AR51: =IF(C51="","",AVERAGE(J51:AQ51)) | AS51: =IF(C51="","",STDEVA(J51:AQ51)) | AT51: =IF(C51="","",MEDIAN(J51:AQ51)) | AU51: =IF(C51="","",GEOMEAN(J51:AQ51)) | AV51: =IF(C51="","",HARMEAN(J51:AQ51)) | AW51: =IF(C51="","",MIN(J51:AQ51)) | AX51: =IF(C51="","",MAX(J51:AQ51))
B52: =+B51+1 -> 44 | I52: =+IF(C52="","",SUM(G52*H52)) | AR52: =IF(C52="","",AVERAGE(J52:AQ52)) | AS52: =IF(C52="","",STDEVA(J52:AQ52)) | AT52: =IF(C52="","",MEDIAN(J52:AQ52)) | AU52: =IF(C52="","",GEOMEAN(J52:AQ52)) | AV52: =IF(C52="","",HARMEAN(J52:AQ52)) | AW52: =IF(C52="","",MIN(J52:AQ52)) | AX52: =IF(C52="","",MAX(J52:AQ52))
B53: =+B52+1 -> 45 | I53: =+IF(C53="","",SUM(G53*H53)) | AR53: =IF(C53="","",AVERAGE(J53:AQ53)) | AS53: =IF(C53="","",STDEVA(J53:AQ53)) | AT53: =IF(C53="","",MEDIAN(J53:AQ53)) | AU53: =IF(C53="","",GEOMEAN(J53:AQ53)) | AV53: =IF(C53="","",HARMEAN(J53:AQ53)) | AW53: =IF(C53="","",MIN(J53:AQ53)) | AX53: =IF(C53="","",MAX(J53:AQ53))
B54: =+B53+1 -> 46 | I54: =+IF(C54="","",SUM(G54*H54)) | AR54: =IF(C54="","",AVERAGE(J54:AQ54)) | AS54: =IF(C54="","",STDEVA(J54:AQ54)) | AT54: =IF(C54="","",MEDIAN(J54:AQ54)) | AU54: =IF(C54="","",GEOMEAN(J54:AQ54)) | AV54: =IF(C54="","",HARMEAN(J54:AQ54)) | AW54: =IF(C54="","",MIN(J54:AQ54)) | AX54: =IF(C54="","",MAX(J54:AQ54))
B55: =+B54+1 -> 47 | I55: =+IF(C55="","",SUM(G55*H55)) | AR55: =IF(C55="","",AVERAGE(J55:AQ55)) | AS55: =IF(C55="","",STDEVA(J55:AQ55)) | AT55: =IF(C55="","",MEDIAN(J55:AQ55)) | AU55: =IF(C55="","",GEOMEAN(J55:AQ55)) | AV55: =IF(C55="","",HARMEAN(J55:AQ55)) | AW55: =IF(C55="","",MIN(J55:AQ55)) | AX55: =IF(C55="","",MAX(J55:AQ55))
B56: =+B55+1 -> 48 | I56: =+IF(C56="","",SUM(G56*H56)) | AR56: =IF(C56="","",AVERAGE(J56:AQ56)) | AS56: =IF(C56="","",STDEVA(J56:AQ56)) | AT56: =IF(C56="","",MEDIAN(J56:AQ56)) | AU56: =IF(C56="","",GEOMEAN(J56:AQ56)) | AV56: =IF(C56="","",HARMEAN(J56:AQ56)) | AW56: =IF(C56="","",MIN(J56:AQ56)) | AX56: =IF(C56="","",MAX(J56:AQ56))
B57: =+B56+1 -> 49 | I57: =+IF(C57="","",SUM(G57*H57)) | AR57: =IF(C57="","",AVERAGE(J57:AQ57)) | AS57: =IF(C57="","",STDEVA(J57:AQ57)) | AT57: =IF(C57="","",MEDIAN(J57:AQ57)) | AU57: =IF(C57="","",GEOMEAN(J57:AQ57)) | AV57: =IF(C57="","",HARMEAN(J57:AQ57)) | AW57: =IF(C57="","",MIN(J57:AQ57)) | AX57: =IF(C57="","",MAX(J57:AQ57))
B58: =+B57+1 -> 50 | I58: =+IF(C58="","",SUM(G58*H58)) | AR58: =IF(C58="","",AVERAGE(J58:AQ58)) | AS58: =IF(C58="","",STDEVA(J58:AQ58)) | AT58: =IF(C58="","",MEDIAN(J58:AQ58)) | AU58: =IF(C58="","",GEOMEAN(J58:AQ58)) | AV58: =IF(C58="","",HARMEAN(J58:AQ58)) | AW58: =IF(C58="","",MIN(J58:AQ58)) | AX58: =IF(C58="","",MAX(J58:AQ58))
B59: =+B58+1 -> 51 | I59: =+IF(C59="","",SUM(G59*H59)) | AR59: =IF(C59="","",AVERAGE(J59:AQ59)) | AS59: =IF(C59="","",STDEVA(J59:AQ59)) | AT59: =IF(C59="","",MEDIAN(J59:AQ59)) | AU59: =IF(C59="","",GEOMEAN(J59:AQ59)) | AV59: =IF(C59="","",HARMEAN(J59:AQ59)) | AW59: =IF(C59="","",MIN(J59:AQ59)) | AX59: =IF(C59="","",MAX(J59:AQ59))
B60: =+B59+1 -> 52 | I60: =+IF(C60="","",SUM(G60*H60)) | AR60: =IF(C60="","",AVERAGE(J60:AQ60)) | AS60: =IF(C60="","",STDEVA(J60:AQ60)) | AT60: =IF(C60="","",MEDIAN(J60:AQ60)) | AU60: =IF(C60="","",GEOMEAN(J60:AQ60)) | AV60: =IF(C60="","",HARMEAN(J60:AQ60)) | AW60: =IF(C60="","",MIN(J60:AQ60)) | AX60: =IF(C60="","",MAX(J60:AQ60))
... B210: =+B209+1 -> 202 | I210: =+IF(C210="","",SUM(G210*H210)) | AR210: =IF(C210="","",AVERAGE(J210:AQ210)) | AS210: =IF(C210="","",STDEVA(J210:AQ210)) | AT210: =IF(C210="","",MEDIAN(J210:AQ210)) | AU210: =IF(C210="","",GEOMEAN(J210:AQ210)) | AV210: =IF(C210="","",HARMEAN(J210:AQ210)) | AW210: =IF(C210="","",MIN(J210:AQ210)) | AX210: =IF(C210="","",MAX(J210:AQ210))
B211: TOTAL | H211: =SUM(H9:H210) -> 40 | I211: =SUM(I9:I210) -> 135 | M211: =SUM(M9:M210) -> 0 | N211: =SUM(N9:N210) -> 0 | O211: =SUM(O9:O210) -> 0 | P211: =SUM(P9:P210) -> 0 | Q211: =SUM(Q9:Q210) -> 0 | R211: =SUM(R9:R210) -> 0 | S211: =SUM(S9:S210) -> 0 | T211: =SUM(T9:T210) -> 0 | ... AX211: =SUM(AX9:AX210) -> 50751272

Sheet Precio unitario 
B1: ITEMS | C1: MEDIA ARITMETICA | D1: MEDIA GEOMETRICA | E1: MEDIA ARMONICA (APLICABLE A VARIACIONES PROMEDIO DE DATOS SUPERIORES AL 40%) | F1: PRECIO UNITARIO OFICIAL ESTIMADO DE ACUERDO CON LOS CRITERIOS PARA APLICAR LA MEDIA
C2: (APLICABLE A VARIACIONES PROMEDIO DE DATOS ENTRE EL 0% Y EL 10%) | D2: (APLICABLE A VARIACION ES PROMEDIO DE DATOS ENTRE EL 11% Y EL 40%)
B3: 1 | C3: =IF('Cálculos '!AR9="","",'Cálculos '!AR9) -> 1788666.7 | D3: =IF('Cálculos '!AU9="","",'Cálculos '!AU9) -> 1733379.7 | E3: =IF('Cálculos '!AV9="","",'Cálculos '!AV9) -> 1685482.9 | F3: =+IF(C3="","",C3) -> 1788666.7
B4: =+B3+1 -> 2 | C4: =IF('Cálculos '!AR10="","",'Cálculos '!AR10) -> 1150840.5 | D4: =IF('Cálculos '!AU10="","",'Cálculos '!AU10) -> 1147050.2 | E4: =IF('Cálculos '!AV10="","",'Cálculos '!AV10) -> 1143168.6 | F4: =+IF(C4="","",C4) -> 1150840.5
B5: =+B4+1 -> 3 | C5: =IF('Cálculos '!AR11="","",'Cálculos '!AR11) -> 756724 | D5: =IF('Cálculos '!AU11="","",'Cálculos '!AU11) -> 730022.66 | E5: =IF('Cálculos '!AV11="","",'Cálculos '!AV11) -> 701513.77 | F5: =+IF(C5="","",C5) -> 756724
B6: =+B5+1 -> 4 | C6: =IF('Cálculos '!AR12="","",'Cálculos '!AR12) -> 765724 | D6: =IF('Cálculos '!AU12="","",'Cálculos '!AU12) -> 742984.35 | E6: =IF('Cálculos '!AV12="","",'Cálculos '!AV12) -> 718873.48 | F6: =+IF(C6="","",C6) -> 765724
B7: =+B6+1 -> 5 | C7: =IF('Cálculos '!AR13="","",'Cálculos '!AR13) -> 1268003.7 | D7: =IF('Cálculos '!AU13="","",'Cálculos '!AU13) -> 1262809.7 | E7: =IF('Cálculos '!AV13="","",'Cálculos '!AV13) -> 1257743.8 | F7: =+IF(C7="","",C7) -> 1268003.7
B8: =+B7+1 -> 6 | C8: =IF('Cálculos '!AR14="","",'Cálculos '!AR14) -> 1268003.7 | D8: =IF('Cálculos '!AU14="","",'Cálculos '!AU14) -> 1262809.7 | E8: =IF('Cálculos '!AV14="","",'Cálculos '!AV14) -> 1257743.8 | F8: =+IF(C8="","",C8) -> 1268003.7
B9: =+B8+1 -> 7 | C9: =IF('Cálculos '!AR15="","",'Cálculos '!AR15) -> 444184.27 | D9: =IF('Cálculos '!AU15="","",'Cálculos '!AU15) -> 437423.96 | E9: =IF('Cálculos '!AV15="","",'Cálculos '!AV15) -> 430460.82 | F9: =+IF(C9="","",C9) -> 444184.27
B10: =+B9+1 -> 8 | C10: =IF('Cálculos '!AR16="","",'Cálculos '!AR16) -> 1749553.6 | D10: =IF('Cálculos '!AU16="","",'Cálculos '!AU16) -> 1614190.2 | E10: =IF('Cálculos '!AV16="","",'Cálculos '!AV16) -> 1466340.2 | F10: =+IF(C10="","",C10) -> 1749553.6
B11: =+B10+1 -> 9 | C11: =IF('Cálculos '!AR17="","",'Cálculos '!AR17) -> 1371184.3 | D11: =IF('Cálculos '!AU17="","",'Cálculos '!AU17) -> 1336659.6 | E11: =IF('Cálculos '!AV17="","",'Cálculos '!AV17) -> 1300306.2 | F11: =+IF(C11="","",C11) -> 1371184.3
B12: =+B11+1 -> 10 | C12: =IF('Cálculos '!AR18="","",'Cálculos '!AR18) -> 1371184.3 | D12: =IF('Cálculos '!AU18="","",'Cálculos '!AU18) -> 1336659.6 | E12: =IF('Cálculos '!AV18="","",'Cálculos '!AV18) -> 1300306.2 | F12: =+IF(C12="","",C12) -> 1371184.3
B13: =+B12+1 -> 11 | C13: =IF('Cálculos '!AR19="","",'Cálculos '!AR19) -> 1371184.3 | D13: =IF('Cálculos '!AU19="","",'Cálculos '!AU19) -> 1336659.6 | E13: =IF('Cálculos '!AV19="","",'Cálculos '!AV19) -> 1300306.2 | F13: =+IF(C13="","",C13) -> 1371184.3
B14: =+B13+1 -> 12 | C14: =IF('Cálculos '!AR20="","",'Cálculos '!AR20) -> 1853850.9 | D14: =IF('Cálculos '!AU20="","",'Cálculos '!AU20) -> 1810892 | E14: =IF('Cálculos '!AV20="","",'Cálculos '!AV20) -> 1771650 | F14: =+IF(C14="","",C14) -> 1853850.9
B15: =+B14+1 -> 13 | C15: =IF('Cálculos '!AR21="","",'Cálculos '!AR21) -> 978620.27 | D15: =IF('Cálculos '!AU21="","",'Cálculos '!AU21) -> 908538.09 | E15: =IF('Cálculos '!AV21="","",'Cálculos '!AV21) -> 832078.53 | F15: =+IF(C15="","",C15) -> 978620.27
... B204: =+B203+1 -> 202 | C204: =IF('Cálculos '!AR210="","",'Cálculos '!AR210) | D204: =IF('Cálculos '!AU210="","",'Cálculos '!AU210) | E204: =IF('Cálculos '!AV210="","",'Cálculos '!AV210) | F204: =+IF(C204="","",C204)
B205: TOTAL | C205: =SUM(C3:C204) -> 42108789 | D205: =SUM(D3:D204) -> 41009161 | E205: =SUM(E3:E204) -> 39884668 | F205: =SUM(F3:F204) -> 42108789

Sheet Variación 
B1: COTIZACIONES | C1: =+'Cálculos '!J7 -> COTIZACION 1 | D1: =+'Cálculos '!K7 -> COTIZACION 2 | E1: =+'Cálculos '!L7 -> COTIZACION 3 | F1: =+'Cálculos '!M7 -> COTIZACION 4 | G1: =+'Cálculos '!N7 -> COTIZACION 5 | H1: =+'Cálculos '!O7 -> COTIZACION 6 | I1: =+'Cálculos '!P7 -> COTIZACION 7 | J1: =+'Cálculos '!Q7 -> COTIZACION 8 | ... AJ1: =+'Cálculos '!AQ7 -> COTIZACION 33 | AM1: =+B1 -> COTIZACIONES | AN1: =+C1 -> COTIZACION 1 | AO1: =+D1 -> COTIZACION 2 | AP1: =+E1 -> COTIZACION 3 | AQ1: =+F1 -> COTIZACION 4 | AR1: =+G1 -> COTIZACION 5 | AS1: =+H1 -> COTIZACION 6 | AT1: =+I1 -> COTIZACION 7 | ... BU1: =+AJ1 -> COTIZACION 33
B2: Item | C2: =IF('Cálculos '!J8="","",+'Cálculos '!J8) -> CONAMET | D2: =IF('Cálculos '!K8="","",+'Cálculos '!K8) -> INGOBAR | E2: =IF('Cálculos '!L8="","",+'Cálculos '!L8) -> CEINTEC | F2: =IF('Cálculos '!M8="","",+'Cálculos '!M8) | G2: =IF('Cálculos '!N8="","",+'Cálculos '!N8) | H2: =IF('Cálculos '!O8="","",+'Cálculos '!O8) | I2: =IF('Cálculos '!P8="","",+'Cálculos '!P8) | J2: =IF('Cálculos '!Q8="","",+'Cálculos '!Q8) | ... AJ2: =IF('Cálculos '!AQ8="","",+'Cálculos '!AQ8) | AK2: % de variación promedio por Ítem | AM2: Item | AN2: =+C2 -> CONAMET | AO2: =+D2 -> INGOBAR | AP2: =+E2 -> CEINTEC | AQ2: =+F2 | AR2: =+G2 | AS2: =+H2 | AT2: =+I2 | AU2: =+J2 | ... BU2: =+AJ2 | BV2: % de variación promedio por Ítem
B3: 1 | C3: =IF('Cálculos '!J9="","",'Cálculos '!J9) -> 1458000 | D3: =IF('Cálculos '!K9="","",'Cálculos '!K9) -> 2450000 | E3: =IF('Cálculos '!L9="","",'Cálculos '!L9) -> 1458000 | F3: =IF('Cálculos '!M9="","",'Cálculos '!M9) | G3: =IF('Cálculos '!N9="","",'Cálculos '!N9) | H3: =IF('Cálculos '!O9="","",'Cálculos '!O9) | I3: =IF('Cálculos '!P9="","",'Cálculos '!P9) | J3: =IF('Cálculos '!Q9="","",'Cálculos '!Q9) | ... AJ3: =IF('Cálculos '!AQ9="","",'Cálculos '!AQ9) | AK3: =IF(C3="","",AVERAGE(C3:AJ3)) -> 1788666.7 | AM3: 1 | AN3: =+IF(OR(C3=0,C3=""),"",SUM(C3-$AK3)/C3) -> -0.2267947 | AO3: =+IF(OR(D3=0,D3=""),"",SUM(D3-$AK3)/D3) -> 0.26993197 | AP3: =+IF(OR(E3=0,E3=""),"",SUM(E3-$AK3)/E3) -> -0.2267947 | AQ3: =+IF(OR(F3=0,F3=""),"",SUM(F3-$AK3)/F3) | AR3: =+IF(OR(G3=0,G3=""),"",SUM(G3-$AK3)/G3) | AS3: =+IF(OR(H3=0,H3=""),"",SUM(H3-$AK3)/H3) | AT3: =+IF(OR(I3=0,I3=""),"",SUM(I3-$AK3)/I3) | AU3: =+IF(OR(J3=0,J3=""),"",SUM(J3-$AK3)/J3) | ... BU3: =+IF(OR(AJ3=0,AJ3=""),"",SUM(AJ3-$AK3)/AJ3) | BV3: =IF('Cálculos '!E9="","",AVERAGE(AN3:BU3))
B4: =+B3+1 -> 2 | C4: =IF('Cálculos '!J10="","",'Cálculos '!J10) -> 1025800 | D4: =IF('Cálculos '!K10="","",'Cálculos '!K10) -> 1245000 | E4: =IF('Cálculos '!L10="","",'Cálculos '!L10) -> 1181721.6 | F4: =IF('Cálculos '!M10="","",'Cálculos '!M10) | G4: =IF('Cálculos '!N10="","",'Cálculos '!N10) | H4: =IF('Cálculos '!O10="","",'Cálculos '!O10) | I4: =IF('Cálculos '!P10="","",'Cálculos '!P10) | J4: =IF('Cálculos '!Q10="","",'Cálculos '!Q10) | ... AJ4: =IF('Cálculos '!AQ10="","",'Cálculos '!AQ10) | AK4: =IF(C4="","",AVERAGE(C4:AJ4)) -> 1150840.5 | AM4: =+AM3+1 -> 2 | AN4: =+IF(OR(C4=0,C4=""),"",SUM(C4-$AK4)/C4) -> -0.12189563 | AO4: =+IF(OR(D4=0,D4=""),"",SUM(D4-$AK4)/D4) -> 0.075630094 | AP4: =+IF(OR(E4=0,E4=""),"",SUM(E4-$AK4)/E4) -> 0.026132269 | AQ4: =+IF(OR(F4=0,F4=""),"",SUM(F4-$AK4)/F4) | AR4: =+IF(OR(G4=0,G4=""),"",SUM(G4-$AK4)/G4) | AS4: =+IF(OR(H4=0,H4=""),"",SUM(H4-$AK4)/H4) | AT4: =+IF(OR(I4=0,I4=""),"",SUM(I4-$AK4)/I4) | AU4: =+IF(OR(J4=0,J4=""),"",SUM(J4-$AK4)/J4) | ... BU4: =+IF(OR(AJ4=0,AJ4=""),"",SUM(AJ4-$AK4)/AJ4) | BV4: =IF('Cálculos '!E10="","",AVERAGE(AN4:BU4))
B5: =+B4+1 -> 3 | C5: =IF('Cálculos '!J11="","",'Cálculos '!J11) -> 823500 | D5: =IF('Cálculos '!K11="","",'Cálculos '!K11) -> 498000 | E5: =IF('Cálculos '!L11="","",'Cálculos '!L11) -> 948672 | F5: =IF('Cálculos '!M11="","",'Cálculos '!M11) | G5: =IF('Cálculos '!N11="","",'Cálculos '!N11) | H5: =IF('Cálculos '!O11="","",'Cálculos '!O11) | I5: =IF('Cálculos '!P11="","",'Cálculos '!P11) | J5: =IF('Cálculos '!Q11="","",'Cálculos '!Q11) | ... AJ5: =IF('Cálculos '!AQ11="","",'Cálculos '!AQ11) | AK5: =IF(C5="","",AVERAGE(C5:AJ5)) -> 756724 | AM5: =+AM4+1 -> 3 | AN5: =+IF(OR(C5=0,C5=""),"",SUM(C5-$AK5)/C5) -> 0.081088039 | AO5: =+IF(OR(D5=0,D5=""),"",SUM(D5-$AK5)/D5) -> -0.5195261 | AP5: =+IF(OR(E5=0,E5=""),"",SUM(E5-$AK5)/E5) -> 0.20233337 | AQ5: =+IF(OR(F5=0,F5=""),"",SUM(F5-$AK5)/F5) | AR5: =+IF(OR(G5=0,G5=""),"",SUM(G5-$AK5)/G5) | AS5: =+IF(OR(H5=0,H5=""),"",SUM(H5-$AK5)/H5) | AT5: =+IF(OR(I5=0,I5=""),"",SUM(I5-$AK5)/I5) | AU5: =+IF(OR(J5=0,J5=""),"",SUM(J5-$AK5)/J5) | ... BU5: =+IF(OR(AJ5=0,AJ5=""),"",SUM(AJ5-$AK5)/AJ5) | BV5: =IF('Cálculos '!E11="","",AVERAGE(AN5:BU5))
B6: =+B5+1 -> 4 | C6: =IF('Cálculos '!J12="","",'Cálculos '!J12) -> 823500 | D6: =IF('Cálculos '!K12="","",'Cálculos '!K12) -> 525000 | E6: =IF('Cálculos '!L12="","",'Cálculos '!L12) -> 948672 | F6: =IF('Cálculos '!M12="","",'Cálculos '!M12) | G6: =IF('Cálculos '!N12="","",'Cálculos '!N12) | H6: =IF('Cálculos '!O12="","",'Cálculos '!O12) | I6: =IF('Cálculos '!P12="","",'Cálculos '!P12) | J6: =IF('Cálculos '!Q12="","",'Cálculos '!Q12) | ... AJ6: =IF('Cálculos '!AQ12="","",'Cálculos '!AQ12) | AK6: =IF(C6="","",AVERAGE(C6:AJ6)) -> 765724 | AM6: =+AM5+1 -> 4 | AN6: =+IF(OR(C6=0,C6=""),"",SUM(C6-$AK6)/C6) -> 0.070159077 | AO6: =+IF(OR(D6=0,D6=""),"",SUM(D6-$AK6)/D6) -> -0.4585219 | AP6: =+IF(OR(E6=0,E6=""),"",SUM(E6-$AK6)/E6) -> 0.19284642 | AQ6: =+IF(OR(F6=0,F6=""),"",SUM(F6-$AK6)/F6) | AR6: =+IF(OR(G6=0,G6=""),"",SUM(G6-$AK6)/G6) | AS6: =+IF(OR(H6=0,H6=""),"",SUM(H6-$AK6)/H6) | AT6: =+IF(OR(I6=0,I6=""),"",SUM(I6-$AK6)/I6) | AU6: =+IF(OR(J6=0,J6=""),"",SUM(J6-$AK6)/J6) | ... BU6: =+IF(OR(AJ6=0,AJ6=""),"",SUM(AJ6-$AK6)/AJ6) | BV6: =IF('Cálculos '!E12="","",AVERAGE(AN6:BU6))
B7: =+B6+1 -> 5 | C7: =IF('Cálculos '!J13="","",'Cálculos '!J13) -> 1235600 | D7: =IF('Cálculos '!K13="","",'Cálculos '!K13) -> 1145000 | E7: =IF('Cálculos '!L13="","",'Cálculos '!L13) -> 1423411.2 | F7: =IF('Cálculos '!M13="","",'Cálculos '!M13) | G7: =IF('Cálculos '!N13="","",'Cálculos '!N13) | H7: =IF('Cálculos '!O13="","",'Cálculos '!O13) | I7: =IF('Cálculos '!P13="","",'Cálculos '!P13) | J7: =IF('Cálculos '!Q13="","",'Cálculos '!Q13) | ... AJ7: =IF('Cálculos '!AQ13="","",'Cálculos '!AQ13) | AK7: =IF(C7="","",AVERAGE(C7:AJ7)) -> 1268003.7 | AM7: =+AM6+1 -> 5 | AN7: =+IF(OR(C7=0,C7=""),"",SUM(C7-$AK7)/C7) -> -0.0262251 | AO7: =+IF(OR(D7=0,D7=""),"",SUM(D7-$AK7)/D7) -> -0.10742684 | AP7: =+IF(OR(E7=0,E7=""),"",SUM(E7-$AK7)/E7) -> 0.1091796 | AQ7: =+IF(OR(F7=0,F7=""),"",SUM(F7-$AK7)/F7) | AR7: =+IF(OR(G7=0,G7=""),"",SUM(G7-$AK7)/G7) | AS7: =+IF(OR(H7=0,H7=""),"",SUM(H7-$AK7)/H7) | AT7: =+IF(OR(I7=0,I7=""),"",SUM(I7-$AK7)/I7) | AU7: =+IF(OR(J7=0,J7=""),"",SUM(J7-$AK7)/J7) | ... BU7: =+IF(OR(AJ7=0,AJ7=""),"",SUM(AJ7-$AK7)/AJ7) | BV7: =IF('Cálculos '!E13="","",AVERAGE(AN7:BU7))
B8: =+B7+1 -> 6 | C8: =IF('Cálculos '!J14="","",'Cálculos '!J14) -> 1235600 | D8: =IF('Cálculos '!K14="","",'Cálculos '!K14) -> 1145000 | E8: =IF('Cálculos '!L14="","",'Cálculos '!L14) -> 1423411.2 | F8: =IF('Cálculos '!M14="","",'Cálculos '!M14) | G8: =IF('Cálculos '!N14="","",'Cálculos '!N14) | H8: =IF('Cálculos '!O14="","",'Cálculos '!O14) | I8: =IF('Cálculos '!P14="","",'Cálculos '!P14) | J8: =IF('Cálculos '!Q14="","",'Cálculos '!Q14) | ... AJ8: =IF('Cálculos '!AQ14="","",'Cálculos '!AQ14) | AK8: =IF(C8="","",AVERAGE(C8:AJ8)) -> 1268003.7 | AM8: =+AM7+1 -> 6 | AN8: =+IF(OR(C8=0,C8=""),"",SUM(C8-$AK8)/C8) -> -0.0262251 | AO8: =+IF(OR(D8=0,D8=""),"",SUM(D8-$AK8)/D8) -> -0.10742684 | AP8: =+IF(OR(E8=0,E8=""),"",SUM(E8-$AK8)/E8) -> 0.1091796 | AQ8: =+IF(OR(F8=0,F8=""),"",SUM(F8-$AK8)/F8) | AR8: =+IF(OR(G8=0,G8=""),"",SUM(G8-$AK8)/G8) | AS8: =+IF(OR(H8=0,H8=""),"",SUM(H8-$AK8)/H8) | AT8: =+IF(OR(I8=0,I8=""),"",SUM(I8-$AK8)/I8) | AU8: =+IF(OR(J8=0,J8=""),"",SUM(J8-$AK8)/J8) | ... BU8: =+IF(OR(AJ8=0,AJ8=""),"",SUM(AJ8-$AK8)/AJ8) | BV8: =IF('Cálculos '!E14="","",AVERAGE(AN8:BU8))
B9: =+B8+1 -> 7 | C9: =IF('Cálculos '!J15="","",'Cálculos '!J15) -> 458900 | D9: =IF('Cálculos '!K15="","",'Cálculos '!K15) -> 345000 | E9: =IF('Cálculos '!L15="","",'Cálculos '!L15) -> 528652.8 | F9: =IF('Cálculos '!M15="","",'Cálculos '!M15) | G9: =IF('Cálculos '!N15="","",'Cálculos '!N15) | H9: =IF('Cálculos '!O15="","",'Cálculos '!O15) | I9: =IF('Cálculos '!P15="","",'Cálculos '!P15) | J9: =IF('Cálculos '!Q15="","",'Cálculos '!Q15) | ... AJ9: =IF('Cálculos '!AQ15="","",'Cálculos '!AQ15) | AK9: =IF(C9="","",AVERAGE(C9:AJ9)) -> 444184.27 | AM9: =+AM8+1 -> 7 | AN9: =+IF(OR(C9=0,C9=""),"",SUM(C9-$AK9)/C9) -> 0.032067408 | AO9: =+IF(OR(D9=0,D9=""),"",SUM(D9-$AK9)/D9) -> -0.28749063 | AP9: =+IF(OR(E9=0,E9=""),"",SUM(E9-$AK9)/E9) -> 0.15978074 | AQ9: =+IF(OR(F9=0,F9=""),"",SUM(F9-$AK9)/F9) | AR9: =+IF(OR(G9=0,G9=""),"",SUM(G9-$AK9)/G9) | AS9: =+IF(OR(H9=0,H9=""),"",SUM(H9-$AK9)/H9) | AT9: =+IF(OR(I9=0,I9=""),"",SUM(I9-$AK9)/I9) | AU9: =+IF(OR(J9=0,J9=""),"",SUM(J9-$AK9)/J9) | ... BU9: =+IF(OR(AJ9=0,AJ9=""),"",SUM(AJ9-$AK9)/AJ9) | BV9: =IF('Cálculos '!E15="","",AVERAGE(AN9:BU9))
B10: =+B9+1 -> 8 | C10: =IF('Cálculos '!J16="","",'Cálculos '!J16) -> 2025400 | D10: =IF('Cálculos '!K16="","",'Cálculos '!K16) -> 890000 | E10: =IF('Cálculos '!L16="","",'Cálculos '!L16) -> 2333260.8 | F10: =IF('Cálculos '!M16="","",'Cálculos '!M16) | G10: =IF('Cálculos '!N16="","",'Cálculos '!N16) | H10: =IF('Cálculos '!O16="","",'Cálculos '!O16) | I10: =IF('Cálculos '!P16="","",'Cálculos '!P16) | J10: =IF('Cálculos '!Q16="","",'Cálculos '!Q16) | ... AJ10: =IF('Cálculos '!AQ16="","",'Cálculos '!AQ16) | AK10: =IF(C10="","",AVERAGE(C10:AJ10)) -> 1749553.6 | AM10: =+AM9+1 -> 8 | AN10: =+IF(OR(C10=0,C10=""),"",SUM(C10-$AK10)/C10) -> 0.13619354 | AO10: =+IF(OR(D10=0,D10=""),"",SUM(D10-$AK10)/D10) -> -0.96579056 | AP10: =+IF(OR(E10=0,E10=""),"",SUM(E10-$AK10)/E10) -> 0.25016801 | AQ10: =+IF(OR(F10=0,F10=""),"",SUM(F10-$AK10)/F10) | AR10: =+IF(OR(G10=0,G10=""),"",SUM(G10-$AK10)/G10) | AS10: =+IF(OR(H10=0,H10=""),"",SUM(H10-$AK10)/H10) | AT10: =+IF(OR(I10=0,I10=""),"",SUM(I10-$AK10)/I10) | AU10: =+IF(OR(J10=0,J10=""),"",SUM(J10-$AK10)/J10) | ... BU10: =+IF(OR(AJ10=0,AJ10=""),"",SUM(AJ10-$AK10)/AJ10) | BV10: =IF('Cálculos '!E16="","",AVERAGE(AN10:BU10))
B11: =+B10+1 -> 9 | C11: =IF('Cálculos '!J17="","",'Cálculos '!J17) -> 1458900 | D11: =IF('Cálculos '!K17="","",'Cálculos '!K17) -> 974000 | E11: =IF('Cálculos '!L17="","",'Cálculos '!L17) -> 1680652.8 | F11: =IF('Cálculos '!M17="","",'Cálculos '!M17) | G11: =IF('Cálculos '!N17="","",'Cálculos '!N17) | H11: =IF('Cálculos '!O17="","",'Cálculos '!O17) | I11: =IF('Cálculos '!P17="","",'Cálculos '!P17) | J11: =IF('Cálculos '!Q17="","",'Cálculos '!Q17) | ... AJ11: =IF('Cálculos '!AQ17="","",'Cálculos '!AQ17) | AK11: =IF(C11="","",AVERAGE(C11:AJ11)) -> 1371184.3 | AM11: =+AM10+1 -> 9 | AN11: =+IF(OR(C11=0,C11=""),"",SUM(C11-$AK11)/C11) -> 0.060124569 | AO11: =+IF(OR(D11=0,D11=""),"",SUM(D11-$AK11)/D11) -> -0.40778672 | AP11: =+IF(OR(E11=0,E11=""),"",SUM(E11-$AK11)/E11) -> 0.18413591 | AQ11: =+IF(OR(F11=0,F11=""),"",SUM(F11-$AK11)/F11) | AR11: =+IF(OR(G11=0,G11=""),"",SUM(G11-$AK11)/G11) | AS11: =+IF(OR(H11=0,H11=""),"",SUM(H11-$AK11)/H11) | AT11: =+IF(OR(I11=0,I11=""),"",SUM(I11-$AK11)/I11) | AU11: =+IF(OR(J11=0,J11=""),"",SUM(J11-$AK11)/J11) | ... BU11: =+IF(OR(AJ11=0,AJ11=""),"",SUM(AJ11-$AK11)/AJ11) | BV11: =IF('Cálculos '!E17="","",AVERAGE(AN11:BU11))
B12: =+B11+1 -> 10 | C12: =IF('Cálculos '!J18="","",'Cálculos '!J18) -> 1458900 | D12: =IF('Cálculos '!K18="","",'Cálculos '!K18) -> 974000 | E12: =IF('Cálculos '!L18="","",'Cálculos '!L18) -> 1680652.8 | F12: =IF('Cálculos '!M18="","",'Cálculos '!M18) | G12: =IF('Cálculos '!N18="","",'Cálculos '!N18) | H12: =IF('Cálculos '!O18="","",'Cálculos '!O18) | I12: =IF('Cálculos '!P18="","",'Cálculos '!P18) | J12: =IF('Cálculos '!Q18="","",'Cálculos '!Q18) | ... AJ12: =IF('Cálculos '!AQ18="","",'Cálculos '!AQ18) | AK12: =IF(C12="","",AVERAGE(C12:AJ12)) -> 1371184.3 | AM12: =+AM11+1 -> 10 | AN12: =+IF(OR(C12=0,C12=""),"",SUM(C12-$AK12)/C12) -> 0.060124569 | AO12: =+IF(OR(D12=0,D12=""),"",SUM(D12-$AK12)/D12) -> -0.40778672 | AP12: =+IF(OR(E12=0,E12=""),"",SUM(E12-$AK12)/E12) -> 0.18413591 | AQ12: =+IF(OR(F12=0,F12=""),"",SUM(F12-$AK12)/F12) | AR12: =+IF(OR(G12=0,G12=""),"",SUM(G12-$AK12)/G12) | AS12: =+IF(OR(H12=0,H12=""),"",SUM(H12-$AK12)/H12) | AT12: =+IF(OR(I12=0,I12=""),"",SUM(I12-$AK12)/I12) | AU12: =+IF(OR(J12=0,J12=""),"",SUM(J12-$AK12)/J12) | ... BU12: =+IF(OR(AJ12=0,AJ12=""),"",SUM(AJ12-$AK12)/AJ12) | BV12: =IF('Cálculos '!E18="","",AVERAGE(AN12:BU12))
B13: =+B12+1 -> 11 | C13: =IF('Cálculos '!J19="","",'Cálculos '!J19) -> 1458900 | D13: =IF('Cálculos '!K19="","",'Cálculos '!K19) -> 974000 | E13: =IF('Cálculos '!L19="","",'Cálculos '!L19) -> 1680652.8 | F13: =IF('Cálculos '!M19="","",'Cálculos '!M19) | G13: =IF('Cálculos '!N19="","",'Cálculos '!N19) | H13: =IF('Cálculos '!O19="","",'Cálculos '!O19) | I13: =IF('Cálculos '!P19="","",'Cálculos '!P19) | J13: =IF('Cálculos '!Q19="","",'Cálculos '!Q19) | ... AJ13: =IF('Cálculos '!AQ19="","",'Cálculos '!AQ19) | AK13: =IF(C13="","",AVERAGE(C13:AJ13)) -> 1371184.3 | AM13: =+AM12+1 -> 11 | AN13: =+IF(OR(C13=0,C13=""),"",SUM(C13-$AK13)/C13) -> 0.060124569 | AO13: =+IF(OR(D13=0,D13=""),"",SUM(D13-$AK13)/D13) -> -0.40778672 | AP13: =+IF(OR(E13=0,E13=""),"",SUM(E13-$AK13)/E13) -> 0.18413591 | AQ13: =+IF(OR(F13=0,F13=""),"",SUM(F13-$AK13)/F13) | AR13: =+IF(OR(G13=0,G13=""),"",SUM(G13-$AK13)/G13) | AS13: =+IF(OR(H13=0,H13=""),"",SUM(H13-$AK13)/H13) | AT13: =+IF(OR(I13=0,I13=""),"",SUM(I13-$AK13)/I13) | AU13: =+IF(OR(J13=0,J13=""),"",SUM(J13-$AK13)/J13) | ... BU13: =+IF(OR(AJ13=0,AJ13=""),"",SUM(AJ13-$AK13)/AJ13) | BV13: =IF('Cálculos '!E19="","",AVERAGE(AN13:BU13))
B14: =+B13+1 -> 12 | C14: =IF('Cálculos '!J20="","",'Cálculos '!J20) -> 1458900 | D14: =IF('Cálculos '!K20="","",'Cálculos '!K20) -> 2422000 | E14: =IF('Cálculos '!L20="","",'Cálculos '!L20) -> 1680652.8 | F14: =IF('Cálculos '!M20="","",'Cálculos '!M20) | G14: =IF('Cálculos '!N20="","",'Cálculos '!N20) | H14: =IF('Cálculos '!O20="","",'Cálculos '!O20) | I14: =IF('Cálculos '!P20="","",'Cálculos '!P20) | J14: =IF('Cálculos '!Q20="","",'Cálculos '!Q20) | ... AJ14: =IF('Cálculos '!AQ20="","",'Cálculos '!AQ20) | AK14: =IF(C14="","",AVERAGE(C14:AJ14)) -> 1853850.9 | AM14: =+AM13+1 -> 12 | AN14: =+IF(OR(C14=0,C14=""),"",SUM(C14-$AK14)/C14) -> -0.2707183 | AO14: =+IF(OR(D14=0,D14=""),"",SUM(D14-$AK14)/D14) -> 0.23457848 | AP14: =+IF(OR(E14=0,E14=""),"",SUM(E14-$AK14)/E14) -> -0.10305408 | AQ14: =+IF(OR(F14=0,F14=""),"",SUM(F14-$AK14)/F14) | AR14: =+IF(OR(G14=0,G14=""),"",SUM(G14-$AK14)/G14) | AS14: =+IF(OR(H14=0,H14=""),"",SUM(H14-$AK14)/H14) | AT14: =+IF(OR(I14=0,I14=""),"",SUM(I14-$AK14)/I14) | AU14: =+IF(OR(J14=0,J14=""),"",SUM(J14-$AK14)/J14) | ... BU14: =+IF(OR(AJ14=0,AJ14=""),"",SUM(AJ14-$AK14)/AJ14) | BV14: =IF('Cálculos '!E20="","",AVERAGE(AN14:BU14))
B15: =+B14+1 -> 13 | C15: =IF('Cálculos '!J21="","",'Cálculos '!J21) -> 1125400 | D15: =IF('Cálculos '!K21="","",'Cálculos '!K21) -> 514000 | E15: =IF('Cálculos '!L21="","",'Cálculos '!L21) -> 1296460.8 | F15: =IF('Cálculos '!M21="","",'Cálculos '!M21) | G15: =IF('Cálculos '!N21="","",'Cálculos '!N21) | H15: =IF('Cálculos '!O21="","",'Cálculos '!O21) | I15: =IF('Cálculos '!P21="","",'Cálculos '!P21) | J15: =IF('Cálculos '!Q21="","",'Cálculos '!Q21) | ... AJ15: =IF('Cálculos '!AQ21="","",'Cálculos '!AQ21) | AK15: =IF(C15="","",AVERAGE(C15:AJ15)) -> 978620.27 | AM15: =+AM14+1 -> 13 | AN15: =+IF(OR(C15=0,C15=""),"",SUM(C15-$AK15)/C15) -> 0.1304245 | AO15: =+IF(OR(D15=0,D15=""),"",SUM(D15-$AK15)/D15) -> -0.90393048 | AP15: =+IF(OR(E15=0,E15=""),"",SUM(E15-$AK15)/E15) -> 0.24516016 | AQ15: =+IF(OR(F15=0,F15=""),"",SUM(F15-$AK15)/F15) | AR15: =+IF(OR(G15=0,G15=""),"",SUM(G15-$AK15)/G15) | AS15: =+IF(OR(H15=0,H15=""),"",SUM(H15-$AK15)/H15) | AT15: =+IF(OR(I15=0,I15=""),"",SUM(I15-$AK15)/I15) | AU15: =+IF(OR(J15=0,J15=""),"",SUM(J15-$AK15)/J15) | ... BU15: =+IF(OR(AJ15=0,AJ15=""),"",SUM(AJ15-$AK15)/AJ15) | BV15: =IF('Cálculos '!E21="","",AVERAGE(AN15:BU15))
... B204: =+B203+1 -> 202 | C204: =IF('Cálculos '!J210="","",'Cálculos '!J210) | D204: =IF('Cálculos '!K210="","",'Cálculos '!K210) | E204: =IF('Cálculos '!L210="","",'Cálculos '!L210) | F204: =IF('Cálculos '!M210="","",'Cálculos '!M210) | G204: =IF('Cálculos '!N210="","",'Cálculos '!N210) | H204: =IF('Cálculos '!O210="","",'Cálculos '!O210) | I204: =IF('Cálculos '!P210="","",'Cálculos '!P210) | J204: =IF('Cálculos '!Q210="","",'Cálculos '!Q210) | ... AJ204: =IF('Cálculos '!AQ210="","",'Cálculos '!AQ210) | AK204: =IF(C204="","",AVERAGE(C204:AJ204)) | AM204: =+AM203+1 -> 202 | AN204: =+IF(OR(C204=0,C204=""),"",SUM(C204-$AK204)/C204) | AO204: =+IF(OR(D204=0,D204=""),"",SUM(D204-$AK204)/D204) | AP204: =+IF(OR(E204=0,E204=""),"",SUM(E204-$AK204)/E204) | AQ204: =+IF(OR(F204=0,F204=""),"",SUM(F204-$AK204)/F204) | AR204: =+IF(OR(G204=0,G204=""),"",SUM(G204-$AK204)/G204) | AS204: =+IF(OR(H204=0,H204=""),"",SUM(H204-$AK204)/H204) | AT204: =+IF(OR(I204=0,I204=""),"",SUM(I204-$AK204)/I204) | AU204: =+IF(OR(J204=0,J204=""),"",SUM(J204-$AK204)/J204) | ... BU204: =+IF(OR(AJ204=0,AJ204=""),"",SUM(AJ204-$AK204)/AJ204) | BV204: =IF('Cálculos '!E210="","",AVERAGE(AN204:BU204))
B205: TOTAL | C205: =SUM(C3:C204) -> 42200000 | D205: =SUM(D3:D204) -> 35940000 | E205: =SUM(E3:E204) -> 48186368 | F205: =SUM(F3:F204) -> 0 | G205: =SUM(G3:G204) -> 0 | H205: =SUM(H3:H204) -> 0 | I205: =SUM(I3:I204) -> 0 | J205: =SUM(J3:J204) -> 0 | ... AK205: =SUM(AK3:AK204) -> 42108789 | AM205: TOTAL | AN205: =+IF(OR(C205=0,C205=""),"",SUM(C205-$AK205)/C205) -> 0.0021613902 | AO205: =+IF(OR(D205=0,D205=""),"",SUM(D205-$AK205)/D205) -> -0.17164133 | AP205: =+IF(OR(E205=0,E205=""),"",SUM(E205-$AK205)/E205) -> 0.12612652 | AQ205: =+IF(OR(F205=0,F205=""),"",SUM(F205-$AK205)/F205) | AR205: =+IF(OR(G205=0,G205=""),"",SUM(G205-$AK205)/G205) | AS205: =+IF(OR(H205=0,H205=""),"",SUM(H205-$AK205)/H205) | AT205: =+IF(OR(I205=0,I205=""),"",SUM(I205-$AK205)/I205) | AU205: =+IF(OR(J205=0,J205=""),"",SUM(J205-$AK205)/J205) | ... BU205: =+IF(OR(AJ205=0,AJ205=""),"",SUM(AJ205-$AK205)/AJ205) | BV205: =IF(AN205="","",AVERAGE(AN205:BU205)) -> -0.014451141

Sheet Valor total
B1: PRESUPUESTO OFICIAL ESTIMADO
B2: =+'Cálculos '!B1 -> OBJETO
B3: =IF('Cálculos '!B3="","",+'Cálculos '!B3) -> OBJETO: Prestar el servicio de intervenciones metrológicas de calibración a los equipos del laboratorio de salud pública de Cundinamarca.
B6: ITEM | C6: =+'Cálculos '!C8 -> BIEN Y/O SERVICIO | D6: =+'Cálculos '!D8 -> DESCRIPCIÓN | E6: =+'Cálculos '!E8 -> ESPECIFICACIONES TECNICAS | F6: CANT | G6: VALOR UNITARIO ANTES DE IVA | H6: IVA | I6: ESTANPILLAS | J6: VALOR TOTAL INCLUIDO | K6: IVA INDIVIDUAL | L6: ESTAMPILLA | Q6: IVA
B7: 1 | C7: =+IF('Cálculos '!C9="","",'Cálculos '!C9) -> calibración a los equipos del laboratorio | D7: =IF('Cálculos '!D9="","",+'Cálculos '!D9) -> Analizador de flujo continuo-segmentado | E7: =+IF('Cálculos '!E9="","",'Cálculos '!E9) | F7: =+IF('Cálculos '!H9="","",'Cálculos '!H9) -> 1 | G7: =IF('Precio unitario '!C3="","",'Precio unitario '!F3) -> 1788666.7 | H7: =IF(C7="","",IF(K7="","CONFIRMAR SI EL PRODOCTRO TIENE IVA O NO",IF(K7="NO",0,SUM(G7*19%)))) -> 339846.67 | I7: =IF(C7="","",IF(L7="","CONFIRMAR SI EL PRODOCTRO TIENE ESTANPILLA O NO",IF(L7="NO",0,SUM(G7*11.5%)))) -> 0 | J7: =+IF(C7="","",SUM(G7:I7)) -> 2128513.3 | K7: SI | L7: NO | Q7: SI
B8: =+B7+1 -> 2 | C8: =+IF('Cálculos '!C10="","",'Cálculos '!C10) -> calibración a los equipos del laboratorio | D8: =IF('Cálculos '!D10="","",+'Cálculos '!D10) -> Autoclave | E8: =+IF('Cálculos '!E10="","",'Cálculos '!E10) | F8: =+IF('Cálculos '!H10="","",'Cálculos '!H10) -> 1 | G8: =IF('Precio unitario '!C4="","",'Precio unitario '!F4) -> 1150840.5 | H8: =IF(C8="","",IF(K8="","CONFIRMAR SI EL PRODOCTRO TIENE IVA O NO",IF(K8="NO",0,SUM(G8*19%)))) -> 218659.7 | I8: =IF(C8="","",IF(L8="","CONFIRMAR SI EL PRODOCTRO TIENE ESTANPILLA O NO",IF(L8="NO",0,SUM(G8*11.5%)))) -> 0 | J8: =+IF(C8="","",SUM(G8:I8)) -> 1369500.2 | K8: SI | L8: NO | Q8: NO
B9: =+B8+1 -> 3 | C9: =+IF('Cálculos '!C11="","",'Cálculos '!C11) -> calibración a los equipos del laboratorio | D9: =IF('Cálculos '!D11="","",+'Cálculos '!D11) -> Balanza | E9: =+IF('Cálculos '!E11="","",'Cálculos '!E11) | F9: =+IF('Cálculos '!H11="","",'Cálculos '!H11) -> 1 | G9: =IF('Precio unitario '!C5="","",'Precio unitario '!F5) -> 756724 | H9: =IF(C9="","",IF(K9="","CONFIRMAR SI EL PRODOCTRO TIENE IVA O NO",IF(K9="NO",0,SUM(G9*19%)))) -> 143777.56 | I9: =IF(C9="","",IF(L9="","CONFIRMAR SI EL PRODOCTRO TIENE ESTANPILLA O NO",IF(L9="NO",0,SUM(G9*11.5%)))) -> 0 | J9: =+IF(C9="","",SUM(G9:I9)) -> 900501.56 | K9: SI | L9: NO
B10: =+B9+1 -> 4 | C10: =+IF('Cálculos '!C12="","",'Cálculos '!C12) -> calibración a los equipos del laboratorio | D10: =IF('Cálculos '!D12="","",+'Cálculos '!D12) -> Balanza Analitica | E10: =+IF('Cálculos '!E12="","",'Cálculos '!E12) | F10: =+IF('Cálculos '!H12="","",'Cálculos '!H12) -> 1 | G10: =IF('Precio unitario '!C6="","",'Precio unitario '!F6) -> 765724 | H10: =IF(C10="","",IF(K10="","CONFIRMAR SI EL PRODOCTRO TIENE IVA O NO",IF(K10="NO",0,SUM(G10*19%)))) -> 145487.56 | I10: =IF(C10="","",IF(L10="","CONFIRMAR SI EL PRODOCTRO TIENE ESTANPILLA O NO",IF(L10="NO",0,SUM(G10*11.5%)))) -> 0 | J10: =+IF(C10="","",SUM(G10:I10)) -> 911211.56 | K10: SI | L10: NO
B11: =+B10+1 -> 5 | C11: =+IF('Cálculos '!C13="","",'Cálculos '!C13) -> calibración a los equipos del laboratorio | D11: =IF('Cálculos '!D13="","",+'Cálculos '!D13) -> Bloque de calentamiento seco | E11: =+IF('Cálculos '!E13="","",'Cálculos '!E13) | F11: =+IF('Cálculos '!H13="","",'Cálculos '!H13) -> 1 | G11: =IF('Precio unitario '!C7="","",'Precio unitario '!F7) -> 1268003.7 | H11: =IF(C11="","",IF(K11="","CONFIRMAR SI EL PRODOCTRO TIENE IVA O NO",IF(K11="NO",0,SUM(G11*19%)))) -> 240920.71 | I11: =IF(C11="","",IF(L11="","CONFIRMAR SI EL PRODOCTRO TIENE ESTANPILLA O NO",IF(L11="NO",0,SUM(G11*11.5%)))) -> 0 | J11: =+IF(C11="","",SUM(G11:I11)) -> 1508924.4 | K11: SI | L11: NO
B12: =+B11+1 -> 6 | C12: =+IF('Cálculos '!C14="","",'Cálculos '!C14) -> calibración a los equipos del laboratorio | D12: =IF('Cálculos '!D14="","",+'Cálculos '!D14) -> Bloque de calentamiento seco | E12: =+IF('Cálculos '!E14="","",'Cálculos '!E14) | F12: =+IF('Cálculos '!H14="","",'Cálculos '!H14) -> 1 | G12: =IF('Precio unitario '!C8="","",'Precio unitario '!F8) -> 1268003.7 | H12: =IF(C12="","",IF(K12="","CONFIRMAR SI EL PRODOCTRO TIENE IVA O NO",IF(K12="NO",0,SUM(G12*19%)))) -> 240920.71 | I12: =IF(C12="","",IF(L12="","CONFIRMAR SI EL PRODOCTRO TIENE ESTANPILLA O NO",IF(L12="NO",0,SUM(G12*11.5%)))) -> 0 | J12: =+IF(C12="","",SUM(G12:I12)) -> 1508924.4 | K12: SI | L12: NO
B13: =+B12+1 -> 7 | C13: =+IF('Cálculos '!C15="","",'Cálculos '!C15) -> calibración a los equipos del laboratorio | D13: =IF('Cálculos '!D15="","",+'Cálculos '!D15) -> Bureta digital | E13: =+IF('Cálculos '!E15="","",'Cálculos '!E15) | F13: =+IF('Cálculos '!H15="","",'Cálculos '!H15) -> 1 | G13: =IF('Precio unitario '!C9="","",'Precio unitario '!F9) -> 444184.27 | H13: =IF(C13="","",IF(K13="","CONFIRMAR SI EL PRODOCTRO TIENE IVA O NO",IF(K13="NO",0,SUM(G13*19%)))) -> 84395.011 | I13: =IF(C13="","",IF(L13="","CONFIRMAR SI EL PRODOCTRO TIENE ESTANPILLA O NO",IF(L13="NO",0,SUM(G13*11.5%)))) -> 0 | J13: =+IF(C13="","",SUM(G13:I13)) -> 528579.28 | K13: SI | L13: NO
B14: =+B13+1 -> 8 | C14: =+IF('Cálculos '!C16="","",'Cálculos '!C16) -> calibración a los equipos del laboratorio | D14: =IF('Cálculos '!D16="","",+'Cálculos '!D16) -> Centrifuga Refrigerada | E14: =+IF('Cálculos '!E16="","",'Cálculos '!E16) | F14: =+IF('Cálculos '!H16="","",'Cálculos '!H16) -> 1 | G14: =IF('Precio unitario '!C10="","",'Precio unitario '!F10) -> 1749553.6 | H14: =IF(C14="","",IF(K14="","CONFIRMAR SI EL PRODOCTRO TIENE IVA O NO",IF(K14="NO",0,SUM(G14*19%)))) -> 332415.18 | I14: =IF(C14="","",IF(L14="","CONFIRMAR SI EL PRODOCTRO TIENE ESTANPILLA O NO",IF(L14="NO",0,SUM(G14*11.5%)))) -> 0 | J14: =+IF(C14="","",SUM(G14:I14)) -> 2081968.8 | K14: SI | L14: NO
B15: =+B14+1 -> 9 | C15: =+IF('Cálculos '!C17="","",'Cálculos '!C17) -> calibración a los equipos del laboratorio | D15: =IF('Cálculos '!D17="","",+'Cálculos '!D17) -> Congelador | E15: =+IF('Cálculos '!E17="","",'Cálculos '!E17) | F15: =+IF('Cálculos '!H17="","",'Cálculos '!H17) -> 1 | G15: =IF('Precio unitario '!C11="","",'Precio unitario '!F11) -> 1371184.3 | H15: =IF(C15="","",IF(K15="","CONFIRMAR SI EL PRODOCTRO TIENE IVA O NO",IF(K15="NO",0,SUM(G15*19%)))) -> 260525.01 | I15: =IF(C15="","",IF(L15="","CONFIRMAR SI EL PRODOCTRO TIENE ESTANPILLA O NO",IF(L15="NO",0,SUM(G15*11.5%)))) -> 0 | J15: =+IF(C15="","",SUM(G15:I15)) -> 1631709.3 | K15: SI | L15: NO
B16: =+B15+1 -> 10 | C16: =+IF('Cálculos '!C18="","",'Cálculos '!C18) -> calibración a los equipos del laboratorio | D16: =IF('Cálculos '!D18="","",+'Cálculos '!D18) -> Congelador | E16: =+IF('Cálculos '!E18="","",'Cálculos '!E18) | F16: =+IF('Cálculos '!H18="","",'Cálculos '!H18) -> 1 | G16: =IF('Precio unitario '!C12="","",'Precio unitario '!F12) -> 1371184.3 | H16: =IF(C16="","",IF(K16="","CONFIRMAR SI EL PRODOCTRO TIENE IVA O NO",IF(K16="NO",0,SUM(G16*19%)))) -> 260525.01 | I16: =IF(C16="","",IF(L16="","CONFIRMAR SI EL PRODOCTRO TIENE ESTANPILLA O NO",IF(L16="NO",0,SUM(G16*11.5%)))) -> 0 | J16: =+IF(C16="","",SUM(G16:I16)) -> 1631709.3 | K16: SI | L16: NO
B17: =+B16+1 -> 11 | C17: =+IF('Cálculos '!C19="","",'Cálculos '!C19) -> calibración a los equipos del laboratorio | D17: =IF('Cálculos '!D19="","",+'Cálculos '!D19) -> Congelador | E17: =+IF('Cálculos '!E19="","",'Cálculos '!E19) | F17: =+IF('Cálculos '!H19="","",'Cálculos '!H19) -> 1 | G17: =IF('Precio unitario '!C13="","",'Precio unitario '!F13) -> 1371184.3 | H17: =IF(C17="","",IF(K17="","CONFIRMAR SI EL PRODOCTRO TIENE IVA O NO",IF(K17="NO",0,SUM(G17*19%)))) -> 260525.01 | I17: =IF(C17="","",IF(L17="","CONFIRMAR SI EL PRODOCTRO TIENE ESTANPILLA O NO",IF(L17="NO",0,SUM(G17*11.5%)))) -> 0 | J17: =+IF(C17="","",SUM(G17:I17)) -> 1631709.3 | K17: SI | L17: NO
B18: =+B17+1 -> 12 | C18: =+IF('Cálculos '!C20="","",'Cálculos '!C20) -> calibración a los equipos del laboratorio | D18: =IF('Cálculos '!D20="","",+'Cálculos '!D20) -> Cuarto frío | E18: =+IF('Cálculos '!E20="","",'Cálculos '!E20) | F18: =+IF('Cálculos '!H20="","",'Cálculos '!H20) -> 1 | G18: =IF('Precio unitario '!C14="","",'Precio unitario '!F14) -> 1853850.9 | H18: =IF(C18="","",IF(K18="","CONFIRMAR SI EL PRODOCTRO TIENE IVA O NO",IF(K18="NO",0,SUM(G18*19%)))) -> 352231.68 | I18: =IF(C18="","",IF(L18="","CONFIRMAR SI EL PRODOCTRO TIENE ESTANPILLA O NO",IF(L18="NO",0,SUM(G18*11.5%)))) -> 0 | J18: =+IF(C18="","",SUM(G18:I18)) -> 2206082.6 | K18: SI | L18: NO
B19: =+B18+1 -> 13 | C19: =+IF('Cálculos '!C21="","",'Cálculos '!C21) -> calibración a los equipos del laboratorio | D19: =IF('Cálculos '!D21="","",+'Cálculos '!D21) -> Datalogger | E19: =+IF('Cálculos '!E21="","",'Cálculos '!E21) | F19: =+IF('Cálculos '!H21="","",'Cálculos '!H21) -> 1 | G19: =IF('Precio unitario '!C15="","",'Precio unitario '!F15) -> 978620.27 | H19: =IF(C19="","",IF(K19="","CONFIRMAR SI EL PRODOCTRO TIENE IVA O NO",IF(K19="NO",0,SUM(G19*19%)))) -> 185937.85 | I19: =IF(C19="","",IF(L19="","CONFIRMAR SI EL PRODOCTRO TIENE ESTANPILLA O NO",IF(L19="NO",0,SUM(G19*11.5%)))) -> 0 | J19: =+IF(C19="","",SUM(G19:I19)) -> 1164558.1 | K19: SI | L19: NO
B20: =+B19+1 -> 14 | C20: =+IF('Cálculos '!C22="","",'Cálculos '!C22) -> calibración a los equipos del laboratorio | D20: =IF('Cálculos '!D22="","",+'Cálculos '!D22) -> Datalogger | E20: =+IF('Cálculos '!E22="","",'Cálculos '!E22) | F20: =+IF('Cálculos '!H22="","",'Cálculos '!H22) -> 1 | G20: =IF('Precio unitario '!C16="","",'Precio unitario '!F16) -> 978620.27 | H20: =IF(C20="","",IF(K20="","CONFIRMAR SI EL PRODOCTRO TIENE IVA O NO",IF(K20="NO",0,SUM(G20*19%)))) -> 185937.85 | I20: =IF(C20="","",IF(L20="","CONFIRMAR SI EL PRODOCTRO TIENE ESTANPILLA O NO",IF(L20="NO",0,SUM(G20*11.5%)))) -> 0 | J20: =+IF(C20="","",SUM(G20:I20)) -> 1164558.1 | K20: SI | L20: NO
... B71: =+B70+1 -> 65 | C71: =+IF('Cálculos '!C73="","",'Cálculos '!C73) | D71: =IF('Cálculos '!D73="","",+'Cálculos '!D73) | E71: =+IF('Cálculos '!E73="","",'Cálculos '!E73) | F71: =+IF('Cálculos '!H73="","",'Cálculos '!H73) | G71: =IF('Precio unitario '!C67="","",'Precio unitario '!F67) | H71: =IF(C71="","",IF(K71="","CONFIRMAR SI EL PRODOCTRO TIENE IVA O NO",IF(K71="NO",0,SUM(G71*19%)))) | I71: =IF(C71="","",IF(L71="","CONFIRMAR SI EL PRODOCTRO TIENE ESTANPILLA O NO",IF(L71="NO",0,SUM(G71*11.5%)))) | J71: =+IF(C71="","",SUM(G71:I71)) | K71: SI | L71: NO
B72: =+B71+1 -> 66 | C72: =+IF('Cálculos '!C74="","",'Cálculos '!C74) | D72: =IF('Cálculos '!D74="","",+'Cálculos '!D74) | E72: =+IF('Cálculos '!E74="","",'Cálculos '!E74) | F72: =+IF('Cálculos '!H74="","",'Cálculos '!H74) | G72: =IF('Precio unitario '!C68="","",'Precio unitario '!F68) | H72: =IF(C72="","",IF(K72="","CONFIRMAR SI EL PRODOCTRO TIENE IVA O NO",IF(K72="NO",0,SUM(G72*19%)))) | I72: =IF(C72="","",IF(L72="","CONFIRMAR SI EL PRODOCTRO TIENE ESTANPILLA O NO",IF(L72="NO",0,SUM(G72*11.5%)))) | J72: =+IF(C72="","",SUM(G72:I72))
B73: =+B72+1 -> 67 | C73: =+IF('Cálculos '!C75="","",'Cálculos '!C75) | D73: =IF('Cálculos '!D75="","",+'Cálculos '!D75) | E73: =+IF('Cálculos '!E75="","",'Cálculos '!E75) | F73: =+IF('Cálculos '!H75="","",'Cálculos '!H75) | G73: =IF('Precio unitario '!C69="","",'Precio unitario '!F69) | H73: =IF(C73="","",IF(K73="","CONFIRMAR SI EL PRODOCTRO TIENE IVA O NO",IF(K73="NO",0,SUM(G73*19%)))) | I73: =IF(C73="","",IF(L73="","CONFIRMAR SI EL PRODOCTRO TIENE ESTANPILLA O NO",IF(L73="NO",0,SUM(G73*11.5%)))) | J73: =+IF(C73="","",SUM(G73:I73))
B74: =+B73+1 -> 68 | C74: =+IF('Cálculos '!C76="","",'Cálculos '!C76) | D74: =IF('Cálculos '!D76="","",+'Cálculos '!D76) | E74: =+IF('Cálculos '!E76="","",'Cálculos '!E76) | F74: =+IF('Cálculos '!H76="","",'Cálculos '!H76) | G74: =IF('Precio unitario '!C70="","",'Precio unitario '!F70) | H74: =IF(C74="","",IF(K74="","CONFIRMAR SI EL PRODOCTRO TIENE IVA O NO",IF(K74="NO",0,SUM(G74*19%)))) | I74: =IF(C74="","",IF(L74="","CONFIRMAR SI EL PRODOCTRO TIENE ESTANPILLA O NO",IF(L74="NO",0,SUM(G74*11.5%)))) | J74: =+IF(C74="","",SUM(G74:I74))
B75: =+B74+1 -> 69 | C75: =+IF('Cálculos '!C77="","",'Cálculos '!C77) | D75: =IF('Cálculos '!D77="","",+'Cálculos '!D77) | E75: =+IF('Cálculos '!E77="","",'Cálculos '!E77) | F75: =+IF('Cálculos '!H77="","",'Cálculos '!H77) | G75: =IF('Precio unitario '!C71="","",'Precio unitario '!F71) | H75: =IF(C75="","",IF(K75="","CONFIRMAR SI EL PRODOCTRO TIENE IVA O NO",IF(K75="NO",0,SUM(G75*19%)))) | I75: =IF(C75="","",IF(L75="","CONFIRMAR SI EL PRODOCTRO TIENE ESTANPILLA O NO",IF(L75="NO",0,SUM(G75*11.5%)))) | J75: =+IF(C75="","",SUM(G75:I75))
B76: =+B75+1 -> 70 | C76: =+IF('Cálculos '!C78="","",'Cálculos '!C78) | D76: =IF('Cálculos '!D78="","",+'Cálculos '!D78) | E76: =+IF('Cálculos '!E78="","",'Cálculos '!E78) | F76: =+IF('Cálculos '!H78="","",'Cálculos '!H78) | G76: =IF('Precio unitario '!C72="","",'Precio unitario '!F72) | H76: =IF(C76="","",IF(K76="","CONFIRMAR SI EL PRODOCTRO TIENE IVA O NO",IF(K76="NO",0,SUM(G76*19%)))) | I76: =IF(C76="","",IF(L76="","CONFIRMAR SI EL PRODOCTRO TIENE ESTANPILLA O NO",IF(L76="NO",0,SUM(G76*11.5%)))) | J76: =+IF(C76="","",SUM(G76:I76))
B77: =+B76+1 -> 71 | C77: =+IF('Cálculos '!C79="","",'Cálculos '!C79) | D77: =IF('Cálculos '!D79="","",+'Cálculos '!D79) | E77: =+IF('Cálculos '!E79="","",'Cálculos '!E79) | F77: =+IF('Cálculos '!H79="","",'Cálculos '!H79) | G77: =IF('Precio unitario '!C73="","",'Precio unitario '!F73) | H77: =IF(C77="","",IF(K77="","CONFIRMAR SI EL PRODOCTRO TIENE IVA O NO",IF(K77="NO",0,SUM(G77*19%)))) | I77: =IF(C77="","",IF(L77="","CONFIRMAR SI EL PRODOCTRO TIENE ESTANPILLA O NO",IF(L77="NO",0,SUM(G77*11.5%)))) | J77: =+IF(C77="","",SUM(G77:I77))
B78: =+B77+1 -> 72 | C78: =+IF('Cálculos '!C80="","",'Cálculos '!C80) | D78: =IF('Cálculos '!D80="","",+'Cálculos '!D80) | E78: =+IF('Cálculos '!E80="","",'Cálculos '!E80) | F78: =+IF('Cálculos '!H80="","",'Cálculos '!H80) | G78: =IF('Precio unitario '!C74="","",'Precio unitario '!F74) | H78: =IF(C78="","",IF(K78="","CONFIRMAR SI EL PRODOCTRO TIENE IVA O NO",IF(K78="NO",0,SUM(G78*19%)))) | I78: =IF(C78="","",IF(L78="","CONFIRMAR SI EL PRODOCTRO TIENE ESTANPILLA O NO",IF(L78="NO",0,SUM(G78*11.5%)))) | J78: =+IF(C78="","",SUM(G78:I78))
B79: =+B78+1 -> 73 | C79: =+IF('Cálculos '!C81="","",'Cálculos '!C81) | D79: =IF('Cálculos '!D81="","",+'Cálculos '!D81) | E79: =+IF('Cálculos '!E81="","",'Cálculos '!E81) | F79: =+IF('Cálculos '!H81="","",'Cálculos '!H81) | G79: =IF('Precio unitario '!C75="","",'Precio unitario '!F75) | H79: =IF(C79="","",IF(K79="","CONFIRMAR SI EL PRODOCTRO TIENE IVA O NO",IF(K79="NO",0,SUM(G79*19%)))) | I79: =IF(C79="","",IF(L79="","CONFIRMAR SI EL PRODOCTRO TIENE ESTANPILLA O NO",IF(L79="NO",0,SUM(G79*11.5%)))) | J79: =+IF(C79="","",SUM(G79:I79))
B80: =+B79+1 -> 74 | C80: =+IF('Cálculos '!C82="","",'Cálculos '!C82) | D80: =IF('Cálculos '!D82="","",+'Cálculos '!D82) | E80: =+IF('Cálculos '!E82="","",'Cálculos '!E82) | F80: =+IF('Cálculos '!H82="","",'Cálculos '!H82) | G80: =IF('Precio unitario '!C76="","",'Precio unitario '!F76) | H80: =IF(C80="","",IF(K80="","CONFIRMAR SI EL PRODOCTRO TIENE IVA O NO",IF(K80="NO",0,SUM(G80*19%)))) | I80: =IF(C80="","",IF(L80="","CONFIRMAR SI EL PRODOCTRO TIENE ESTANPILLA O NO",IF(L80="NO",0,SUM(G80*11.5%)))) | J80: =+IF(C80="","",SUM(G80:I80))
B81: =+B80+1 -> 75 | C81: =+IF('Cálculos '!C83="","",'Cálculos '!C83) | D81: =IF('Cálculos '!D83="","",+'Cálculos '!D83) | E81: =+IF('Cálculos '!E83="","",'Cálculos '!E83) | F81: =+IF('Cálculos '!H83="","",'Cálculos '!H83) | G81: =IF('Precio unitario '!C77="","",'Precio unitario '!F77) | H81: =IF(C81="","",IF(K81="","CONFIRMAR SI EL PRODOCTRO TIENE IVA O NO",IF(K81="NO",0,SUM(G81*19%)))) | I81: =IF(C81="","",IF(L81="","CONFIRMAR SI EL PRODOCTRO TIENE ESTANPILLA O NO",IF(L81="NO",0,SUM(G81*11.5%)))) | J81: =+IF(C81="","",SUM(G81:I81))
B82: =+B81+1 -> 76 | C82: =+IF('Cálculos '!C84="","",'Cálculos '!C84) | D82: =IF('Cálculos '!D84="","",+'Cálculos '!D84) | E82: =+IF('Cálculos '!E84="","",'Cálculos '!E84) | F82: =+IF('Cálculos '!H84="","",'Cálculos '!H84) | G82: =IF('Precio unitario '!C78="","",'Precio unitario '!F78) | H82: =IF(C82="","",IF(K82="","CONFIRMAR SI EL PRODOCTRO TIENE IVA O NO",IF(K82="NO",0,SUM(G82*19%)))) | I82: =IF(C82="","",IF(L82="","CONFIRMAR SI EL PRODOCTRO TIENE ESTANPILLA O NO",IF(L82="NO",0,SUM(G82*11.5%)))) | J82: =+IF(C82="","",SUM(G82:I82))
B83: =+B82+1 -> 77 | C83: =+IF('Cálculos '!C85="","",'Cálculos '!C85) | D83: =IF('Cálculos '!D85="","",+'Cálculos '!D85) | E83: =+IF('Cálculos '!E85="","",'Cálculos '!E85) | F83: =+IF('Cálculos '!H85="","",'Cálculos '!H85) | G83: =IF('Precio unitario '!C79="","",'Precio unitario '!F79) | H83: =IF(C83="","",IF(K83="","CONFIRMAR SI EL PRODOCTRO TIENE IVA O NO",IF(K83="NO",0,SUM(G83*19%)))) | I83: =IF(C83="","",IF(L83="","CONFIRMAR SI EL PRODOCTRO TIENE ESTANPILLA O NO",IF(L83="NO",0,SUM(G83*11.5%)))) | J83: =+IF(C83="","",SUM(G83:I83))
... B208: =+B207+1 -> 202 | C208: =+IF('Cálculos '!C210="","",'Cálculos '!C210) | D208: =IF('Cálculos '!D210="","",+'Cálculos '!D210) | E208: =+IF('Cálculos '!E210="","",'Cálculos '!E210) | F208: =+IF('Cálculos '!H210="","",'Cálculos '!H210) | G208: =IF('Precio unitario '!C204="","",'Precio unitario '!F204) | H208: =IF(C208="","",IF(K208="","CONFIRMAR SI EL PRODOCTRO TIENE IVA O NO",IF(K208="NO",0,SUM(G208*19%)))) | I208: =IF(C208="","",IF(L208="","CONFIRMAR SI EL PRODOCTRO TIENE ESTANPILLA O NO",IF(L208="NO",0,SUM(G208*11.5%)))) | J208: =+IF(C208="","",SUM(G208:I208))
B209: TOTAL PRESUPUESTO OFICIAL ESTIMADO | G209: =SUM(G7:G208) -> 42108789 | H209: =SUM(H7:H208) -> 8000670 | I209: =SUM(I7:I208) -> 0 | J209: =SUM(J7:J208) -> 50109459
B213: ITEM | C213: SERVICIO | D213: DESCRIPCION | E213: =+E6 -> ESPECIFICACIONES TECNICAS | F213: CANT | G213: VALOR ANTES DE IVA | H213: IVA | I213: =+I6 -> ESTANPILLAS | J213: VALOR TOTAL INCLUIDO | K213: IVA INDIVIDUAL | L213: ESTAMPILLA
B214: 1 | C214: =IF(C7="","",C7) -> calibración a los equipos del laboratorio | D214: =IF(D7="","",D7) -> Analizador de flujo continuo-segmentado | E214: =+E7 | F214: =+IF('Cálculos '!G9="","",'Cálculos '!G9) -> 1 | G214: =+IF(C214="","",SUM(G7*F214)) -> 1788666.7 | H214: =IF(C214="","",IF(K214="","CONFIRMAR SI EL PRODOCTRO TIENE IVA O NO",IF(K214="NO",0,SUM(G214*19%)))) -> 339846.67 | I214: =IF(C214="","",IF(L214="","CONFIRMAR SI EL PRODOCTRO TIENE IVA O NO",IF(L214="NO",0,SUM(G214*11.5%)))) -> 0 | J214: =IF(F214="","",SUM(G214+H214+I214)) -> 2128513.3 | K214: =+IF(K7="","",K7) -> SI | L214: =+IF(L7="","",L7) -> NO
B215: =+B214+1 -> 2 | C215: =IF(C8="","",C8) -> calibración a los equipos del laboratorio | D215: =IF(D8="","",D8) -> Autoclave | E215: =+E8 | F215: =+IF('Cálculos '!G10="","",'Cálculos '!G10) -> 1 | G215: =+IF(C215="","",SUM(G8*F215)) -> 1150840.5 | H215: =IF(C215="","",IF(K215="","CONFIRMAR SI EL PRODOCTRO TIENE IVA O NO",IF(K215="NO",0,SUM(G215*19%)))) -> 218659.7 | I215: =IF(C215="","",IF(L215="","CONFIRMAR SI EL PRODOCTRO TIENE IVA O NO",IF(L215="NO",0,SUM(G215*11.5%)))) -> 0 | J215: =IF(F215="","",SUM(G215+H215+I215)) -> 1369500.2 | K215: =+IF(K8="","",K8) -> SI | L215: =+IF(L8="","",L8) -> NO
B216: =+B215+1 -> 3 | C216: =IF(C9="","",C9) -> calibración a los equipos del laboratorio | D216: =IF(D9="","",D9) -> Balanza | E216: =+E9 | F216: =+IF('Cálculos '!G11="","",'Cálculos '!G11) -> 1 | G216: =+IF(C216="","",SUM(G9*F216)) -> 756724 | H216: =IF(C216="","",IF(K216="","CONFIRMAR SI EL PRODOCTRO TIENE IVA O NO",IF(K216="NO",0,SUM(G216*19%)))) -> 143777.56 | I216: =IF(C216="","",IF(L216="","CONFIRMAR SI EL PRODOCTRO TIENE IVA O NO",IF(L216="NO",0,SUM(G216*11.5%)))) -> 0 | J216: =IF(F216="","",SUM(G216+H216+I216)) -> 900501.56 | K216: =+IF(K9="","",K9) -> SI | L216: =+IF(L9="","",L9) -> NO
B217: =+B216+1 -> 4 | C217: =IF(C10="","",C10) -> calibración a los equipos del laboratorio | D217: =IF(D10="","",D10) -> Balanza Analitica | E217: =+E10 | F217: =+IF('Cálculos '!G12="","",'Cálculos '!G12) -> 2 | G217: =+IF(C217="","",SUM(G10*F217)) -> 1531448 | H217: =IF(C217="","",IF(K217="","CONFIRMAR SI EL PRODOCTRO TIENE IVA O NO",IF(K217="NO",0,SUM(G217*19%)))) -> 290975.12 | I217: =IF(C217="","",IF(L217="","CONFIRMAR SI EL PRODOCTRO TIENE IVA O NO",IF(L217="NO",0,SUM(G217*11.5%)))) -> 0 | J217: =IF(F217="","",SUM(G217+H217+I217)) -> 1822423.1 | K217: =+IF(K10="","",K10) -> SI | L217: =+IF(L10="","",L10) -> NO
B218: =+B217+1 -> 5 | C218: =IF(C11="","",C11) -> calibración a los equipos del laboratorio | D218: =IF(D11="","",D11) -> Bloque de calentamiento seco | E218: =+E11 | F218: =+IF('Cálculos '!G13="","",'Cálculos '!G13) -> 1 | G218: =+IF(C218="","",SUM(G11*F218)) -> 1268003.7 | H218: =IF(C218="","",IF(K218="","CONFIRMAR SI EL PRODOCTRO TIENE IVA O NO",IF(K218="NO",0,SUM(G218*19%)))) -> 240920.71 | I218: =IF(C218="","",IF(L218="","CONFIRMAR SI EL PRODOCTRO TIENE IVA O NO",IF(L218="NO",0,SUM(G218*11.5%)))) -> 0 | J218: =IF(F218="","",SUM(G218+H218+I218)) -> 1508924.4 | K218: =+IF(K11="","",K11) -> SI | L218: =+IF(L11="","",L11) -> NO
B219: =+B218+1 -> 6 | C219: =IF(C12="","",C12) -> calibración a los equipos del laboratorio | D219: =IF(D12="","",D12) -> Bloque de calentamiento seco | E219: =+E12 | F219: =+IF('Cálculos '!G14="","",'Cálculos '!G14) -> 1 | G219: =+IF(C219="","",SUM(G12*F219)) -> 1268003.7 | H219: =IF(C219="","",IF(K219="","CONFIRMAR SI EL PRODOCTRO TIENE IVA O NO",IF(K219="NO",0,SUM(G219*19%)))) -> 240920.71 | I219: =IF(C219="","",IF(L219="","CONFIRMAR SI EL PRODOCTRO TIENE IVA O NO",IF(L219="NO",0,SUM(G219*11.5%)))) -> 0 | J219: =IF(F219="","",SUM(G219+H219+I219)) -> 1508924.4 | K219: =+IF(K12="","",K12) -> SI | L219: =+IF(L12="","",L12) -> NO
B220: =+B219+1 -> 7 | C220: =IF(C13="","",C13) -> calibración a los equipos del laboratorio | D220: =IF(D13="","",D13) -> Bureta digital | E220: =+E13 | F220: =+IF('Cálculos '!G15="","",'Cálculos '!G15) -> 1 | G220: =+IF(C220="","",SUM(G13*F220)) -> 444184.27 | H220: =IF(C220="","",IF(K220="","CONFIRMAR SI EL PRODOCTRO TIENE IVA O NO",IF(K220="NO",0,SUM(G220*19%)))) -> 84395.011 | I220: =IF(C220="","",IF(L220="","CONFIRMAR SI EL PRODOCTRO TIENE IVA O NO",IF(L220="NO",0,SUM(G220*11.5%)))) -> 0 | J220: =IF(F220="","",SUM(G220+H220+I220)) -> 528579.28 | K220: =+IF(K13="","",K13) -> SI | L220: =+IF(L13="","",L13) -> NO
B221: =+B220+1 -> 8 | C221: =IF(C14="","",C14) -> calibración a los equipos del laboratorio | D221: =IF(D14="","",D14) -> Centrifuga Refrigerada | E221: =+E14 | F221: =+IF('Cálculos '!G16="","",'Cálculos '!G16) -> 1 | G221: =+IF(C221="","",SUM(G14*F221)) -> 1749553.6 | H221: =IF(C221="","",IF(K221="","CONFIRMAR SI EL PRODOCTRO TIENE IVA O NO",IF(K221="NO",0,SUM(G221*19%)))) -> 332415.18 | I221: =IF(C221="","",IF(L221="","CONFIRMAR SI EL PRODOCTRO TIENE IVA O NO",IF(L221="NO",0,SUM(G221*11.5%)))) -> 0 | J221: =IF(F221="","",SUM(G221+H221+I221)) -> 2081968.8 | K221: =+IF(K14="","",K14) -> SI | L221: =+IF(L14="","",L14) -> NO
B222: =+B221+1 -> 9 | C222: =IF(C15="","",C15) -> calibración a los equipos del laboratorio | D222: =IF(D15="","",D15) -> Congelador | E222: =+E15 | F222: =+IF('Cálculos '!G17="","",'Cálculos '!G17) -> 1 | G222: =+IF(C222="","",SUM(G15*F222)) -> 1371184.3 | H222: =IF(C222="","",IF(K222="","CONFIRMAR SI EL PRODOCTRO TIENE IVA O NO",IF(K222="NO",0,SUM(G222*19%)))) -> 260525.01 | I222: =IF(C222="","",IF(L222="","CONFIRMAR SI EL PRODOCTRO TIENE IVA O NO",IF(L222="NO",0,SUM(G222*11.5%)))) -> 0 | J222: =IF(F222="","",SUM(G222+H222+I222)) -> 1631709.3 | K222: =+IF(K15="","",K15) -> SI | L222: =+IF(L15="","",L15) -> NO
B223: =+B222+1 -> 10 | C223: =IF(C16="","",C16) -> calibración a los equipos del laboratorio | D223: =IF(D16="","",D16) -> Congelador | E223: =+E16 | F223: =+IF('Cálculos '!G18="","",'Cálculos '!G18) -> 1 | G223: =+IF(C223="","",SUM(G16*F223)) -> 1371184.3 | H223: =IF(C223="","",IF(K223="","CONFIRMAR SI EL PRODOCTRO TIENE IVA O NO",IF(K223="NO",0,SUM(G223*19%)))) -> 260525.01 | I223: =IF(C223="","",IF(L223="","CONFIRMAR SI EL PRODOCTRO TIENE IVA O NO",IF(L223="NO",0,SUM(G223*11.5%)))) -> 0 | J223: =IF(F223="","",SUM(G223+H223+I223)) -> 1631709.3 | K223: =+IF(K16="","",K16) -> SI | L223: =+IF(L16="","",L16) -> NO
B224: =+B223+1 -> 11 | C224: =IF(C17="","",C17) -> calibración a los equipos del laboratorio | D224: =IF(D17="","",D17) -> Congelador | E224: =+E17 | F224: =+IF('Cálculos '!G19="","",'Cálculos '!G19) -> 1 | G224: =+IF(C224="","",SUM(G17*F224)) -> 1371184.3 | H224: =IF(C224="","",IF(K224="","CONFIRMAR SI EL PRODOCTRO TIENE IVA O NO",IF(K224="NO",0,SUM(G224*19%)))) -> 260525.01 | I224: =IF(C224="","",IF(L224="","CONFIRMAR SI EL PRODOCTRO TIENE IVA O NO",IF(L224="NO",0,SUM(G224*11.5%)))) -> 0 | J224: =IF(F224="","",SUM(G224+H224+I224)) -> 1631709.3 | K224: =+IF(K17="","",K17) -> SI | L224: =+IF(L17="","",L17) -> NO
B225: =+B224+1 -> 12 | C225: =IF(C18="","",C18) -> calibración a los equipos del laboratorio | D225: =IF(D18="","",D18) -> Cuarto frío | E225: =+E18 | F225: =+IF('Cálculos '!G20="","",'Cálculos '!G20) -> 2 | G225: =+IF(C225="","",SUM(G18*F225)) -> 3707701.9 | H225: =IF(C225="","",IF(K225="","CONFIRMAR SI EL PRODOCTRO TIENE IVA O NO",IF(K225="NO",0,SUM(G225*19%)))) -> 704463.35 | I225: =IF(C225="","",IF(L225="","CONFIRMAR SI EL PRODOCTRO TIENE IVA O NO",IF(L225="NO",0,SUM(G225*11.5%)))) -> 0 | J225: =IF(F225="","",SUM(G225+H225+I225)) -> 4412165.2 | K225: =+IF(K18="","",K18) -> SI | L225: =+IF(L18="","",L18) -> NO
B226: =+B225+1 -> 13 | C226: =IF(C19="","",C19) -> calibración a los equipos del laboratorio | D226: =IF(D19="","",D19) -> Datalogger | E226: =+E19 | F226: =+IF('Cálculos '!G21="","",'Cálculos '!G21) -> 5 | G226: =+IF(C226="","",SUM(G19*F226)) -> 4893101.3 | H226: =IF(C226="","",IF(K226="","CONFIRMAR SI EL PRODOCTRO TIENE IVA O NO",IF(K226="NO",0,SUM(G226*19%)))) -> 929689.25 | I226: =IF(C226="","",IF(L226="","CONFIRMAR SI EL PRODOCTRO TIENE IVA O NO",IF(L226="NO",0,SUM(G226*11.5%)))) -> 0 | J226: =IF(F226="","",SUM(G226+H226+I226)) -> 5822790.6 | K226: =+IF(K19="","",K19) -> SI | L226: =+IF(L19="","",L19) -> NO
... B278: =+B277+1 -> 65 | C278: =IF(C71="","",C71) | D278: =IF(D71="","",D71) | E278: =+E71 | F278: =+IF('Cálculos '!G73="","",'Cálculos '!G73) | G278: =+IF(C278="","",SUM(G71*F278)) | H278: =IF(C278="","",IF(K278="","CONFIRMAR SI EL PRODOCTRO TIENE IVA O NO",IF(K278="NO",0,SUM(G278*19%)))) | I278: =IF(C278="","",IF(L278="","CONFIRMAR SI EL PRODOCTRO TIENE IVA O NO",IF(L278="NO",0,SUM(G278*11.5%)))) | J278: =IF(F278="","",SUM(G278+H278+I278)) | K278: =+IF(K71="","",K71) -> SI | L278: =+IF(L71="","",L71) -> NO
B279: =+B278+1 -> 66 | C279: =IF(C72="","",C72) | D279: =IF(D72="","",D72) | E279: =+E72 | F279: =+IF('Cálculos '!G74="","",'Cálculos '!G74) | G279: =+IF(C279="","",SUM(G72*F279)) | H279: =IF(C279="","",IF(K279="","CONFIRMAR SI EL PRODOCTRO TIENE IVA O NO",IF(K279="NO",0,SUM(G279*19%)))) | I279: =IF(F279="","",SUM(G279*11.5%)) | J279: =IF(F279="","",SUM(G279+H279+I279)) | K279: =+IF(K72="","",K72) | L279: =+IF(L72="","",L72)
B280: =+B279+1 -> 67 | C280: =IF(C73="","",C73) | D280: =IF(D73="","",D73) | E280: =+E73 | F280: =+IF('Cálculos '!G75="","",'Cálculos '!G75) | G280: =+IF(C280="","",SUM(G73*F280)) | H280: =IF(C280="","",IF(K280="","CONFIRMAR SI EL PRODOCTRO TIENE IVA O NO",IF(K280="NO",0,SUM(G280*19%)))) | I280: =IF(F280="","",SUM(G280*11.5%)) | J280: =IF(F280="","",SUM(G280+H280+I280)) | K280: =+IF(K73="","",K73) | L280: =+IF(L73="","",L73)
B281: =+B280+1 -> 68 | C281: =IF(C74="","",C74) | D281: =IF(D74="","",D74) | E281: =+E74 | F281: =+IF('Cálculos '!G76="","",'Cálculos '!G76) | G281: =+IF(C281="","",SUM(G74*F281)) | H281: =IF(C281="","",IF(K281="","CONFIRMAR SI EL PRODOCTRO TIENE IVA O NO",IF(K281="NO",0,SUM(G281*19%)))) | I281: =IF(F281="","",SUM(G281*11.5%)) | J281: =IF(F281="","",SUM(G281+H281+I281)) | K281: =+IF(K74="","",K74) | L281: =+IF(L74="","",L74)
B282: =+B281+1 -> 69 | C282: =IF(C75="","",C75) | D282: =IF(D75="","",D75) | E282: =+E75 | F282: =+IF('Cálculos '!G77="","",'Cálculos '!G77) | G282: =+IF(C282="","",SUM(G75*F282)) | H282: =IF(C282="","",IF(K282="","CONFIRMAR SI EL PRODOCTRO TIENE IVA O NO",IF(K282="NO",0,SUM(G282*19%)))) | I282: =IF(F282="","",SUM(G282*11.5%)) | J282: =IF(F282="","",SUM(G282+H282+I282)) | K282: =+IF(K75="","",K75) | L282: =+IF(L75="","",L75)
B283: =+B282+1 -> 70 | C283: =IF(C76="","",C76) | D283: =IF(D76="","",D76) | E283: =+E76 | F283: =+IF('Cálculos '!G78="","",'Cálculos '!G78) | G283: =+IF(C283="","",SUM(G76*F283)) | H283: =IF(C283="","",IF(K283="","CONFIRMAR SI EL PRODOCTRO TIENE IVA O NO",IF(K283="NO",0,SUM(G283*19%)))) | I283: =IF(F283="","",SUM(G283*11.5%)) | J283: =IF(F283="","",SUM(G283+H283+I283)) | K283: =+IF(K76="","",K76) | L283: =+IF(L76="","",L76)
B284: =+B283+1 -> 71 | C284: =IF(C77="","",C77) | D284: =IF(D77="","",D77) | E284: =+E77 | F284: =+IF('Cálculos '!G79="","",'Cálculos '!G79) | G284: =+IF(C284="","",SUM(G77*F284)) | H284: =IF(C284="","",IF(K284="","CONFIRMAR SI EL PRODOCTRO TIENE IVA O NO",IF(K284="NO",0,SUM(G284*19%)))) | I284: =IF(F284="","",SUM(G284*11.5%)) | J284: =IF(F284="","",SUM(G284+H284+I284)) | K284: =+IF(K77="","",K77) | L284: =+IF(L77="","",L77)
B285: =+B284+1 -> 72 | C285: =IF(C78="","",C78) | D285: =IF(D78="","",D78) | E285: =+E78 | F285: =+IF('Cálculos '!G80="","",'Cálculos '!G80) | G285: =+IF(C285="","",SUM(G78*F285)) | H285: =IF(C285="","",IF(K285="","CONFIRMAR SI EL PRODOCTRO TIENE IVA O NO",IF(K285="NO",0,SUM(G285*19%)))) | I285: =IF(F285="","",SUM(G285*11.5%)) | J285: =IF(F285="","",SUM(G285+H285+I285)) | K285: =+IF(K78="","",K78) | L285: =+IF(L78="","",L78)
B286: =+B285+1 -> 73 | C286: =IF(C79="","",C79) | D286: =IF(D79="","",D79) | E286: =+E79 | F286: =+IF('Cálculos '!G81="","",'Cálculos '!G81) | G286: =+IF(C286="","",SUM(G79*F286)) | H286: =IF(C286="","",IF(K286="","CONFIRMAR SI EL PRODOCTRO TIENE IVA O NO",IF(K286="NO",0,SUM(G286*19%)))) | I286: =IF(F286="","",SUM(G286*11.5%)) | J286: =IF(F286="","",SUM(G286+H286+I286)) | K286: =+IF(K79="","",K79) | L286: =+IF(L79="","",L79)
B287: =+B286+1 -> 74 | C287: =IF(C80="","",C80) | D287: =IF(D80="","",D80) | E287: =+E80 | F287: =+IF('Cálculos '!G82="","",'Cálculos '!G82) | G287: =+IF(C287="","",SUM(G80*F287)) | H287: =IF(C287="","",IF(K287="","CONFIRMAR SI EL PRODOCTRO TIENE IVA O NO",IF(K287="NO",0,SUM(G287*19%)))) | I287: =IF(F287="","",SUM(G287*11.5%)) | J287: =IF(F287="","",SUM(G287+H287+I287)) | K287: =+IF(K80="","",K80) | L287: =+IF(L80="","",L80)
B288: =+B287+1 -> 75 | C288: =IF(C81="","",C81) | D288: =IF(D81="","",D81) | E288: =+E81 | F288: =+IF('Cálculos '!G83="","",'Cálculos '!G83) | G288: =+IF(C288="","",SUM(G81*F288)) | H288: =IF(C288="","",IF(K288="","CONFIRMAR SI EL PRODOCTRO TIENE IVA O NO",IF(K288="NO",0,SUM(G288*19%)))) | I288: =IF(F288="","",SUM(G288*11.5%)) | J288: =IF(F288="","",SUM(G288+H288+I288)) | K288: =+IF(K81="","",K81) | L288: =+IF(L81="","",L81)
B289: =+B288+1 -> 76 | C289: =IF(C82="","",C82) | D289: =IF(D82="","",D82) | E289: =+E82 | F289: =+IF('Cálculos '!G84="","",'Cálculos '!G84) | G289: =+IF(C289="","",SUM(G82*F289)) | H289: =IF(C289="","",IF(K289="","CONFIRMAR SI EL PRODOCTRO TIENE IVA O NO",IF(K289="NO",0,SUM(G289*19%)))) | I289: =IF(F289="","",SUM(G289*11.5%)) | J289: =IF(F289="","",SUM(G289+H289+I289)) | K289: =+IF(K82="","",K82) | L289: =+IF(L82="","",L82)
B290: =+B289+1 -> 77 | C290: =IF(C83="","",C83) | D290: =IF(D83="","",D83) | E290: =+E83 | F290: =+IF('Cálculos '!G85="","",'Cálculos '!G85) | G290: =+IF(C290="","",SUM(G83*F290)) | H290: =IF(C290="","",IF(K290="","CONFIRMAR SI EL PRODOCTRO TIENE IVA O NO",IF(K290="NO",0,SUM(G290*19%)))) | I290: =IF(F290="","",SUM(G290*11.5%)) | J290: =IF(F290="","",SUM(G290+H290+I290)) | K290: =+IF(K83="","",K83) | L290: =+IF(L83="","",L83)
... B415: =+B414+1 -> 202 | C415: =IF(C208="","",C208) | D415: =IF(D208="","",D208) | E415: =+E208 | F415: =+IF('Cálculos '!G210="","",'Cálculos '!G210) | G415: =+IF(C415="","",SUM(G208*F415)) | H415: =IF(C415="","",IF(K415="","CONFIRMAR SI EL PRODOCTRO TIENE IVA O NO",IF(K415="NO",0,SUM(G415*19%)))) | I415: =IF(F415="","",SUM(G415*11.5%)) | J415: =IF(F415="","",SUM(G415+H415+I415)) | K415: =+IF(K208="","",K208) | L415: =+IF(L208="","",L208)
B416: TOTAL PRESUPUESTO OFICIAL ESTIMADO | G416: =SUM(G214:G415) -> 94676027 | H416: =SUM(H214:H415) -> 17988445 | I416: =SUM(I214:I415) -> 0 | J416: =SUM(J214:J415) -> 1.1266447e+08

Sheet RESUMEN 
B3: Item | C3: SERVICIO | D3: =+'Cálculos '!D8 -> DESCRIPCIÓN | E3: =+'Cálculos '!E8 -> ESPECIFICACIONES TECNICAS | F3: Media Aritmetica | G3: Media Geometrica | H3: Media Armonica | I3: =+'Cálculos '!AT8 -> Mediana | J3: =+'Variación '!BV2 -> % de variación promedio por Ítem | K3: PRECIO UNITARIO OFICIAL ESTIMADO DE ACUERDO CON LOS CRITERIOS PARA APLICAR LA MEDIA SIN IVA | L3: IVA | M3: ESTAMPILLA | N3: VALOR TOTAL
B4: =+IF('Cálculos '!B9="","",'Cálculos '!B9) -> 1 | C4: =+IF('Cálculos '!C9="","",'Cálculos '!C9) -> calibración a los equipos del laboratorio | D4: =+IF('Cálculos '!D9="","",'Cálculos '!D9) -> Analizador de flujo continuo-segmentado | E4: =+IF('Cálculos '!E9="","",'Cálculos '!E9) | F4: =+IF(C4="","",'Cálculos '!AR9) -> 1788666.7 | G4: =IF(C4="","",'Cálculos '!AU9) -> 1733379.7 | H4: =+IF(C4="","",'Cálculos '!AV9) -> 1685482.9 | I4: =+IF(C4="","",'Cálculos '!AT9) -> 1458000 | J4: 0 | K4: =+IF(C4="","",'Precio unitario '!F3) -> 1788666.7 | L4: =IF(C4="","",+'Valor total'!H7) -> 339846.67 | M4: =+IF(C4="","",+'Valor total'!I7) -> 0 | N4: =+IF(C4="","",SUM(K4+L4+M4)) -> 2128513.3
B5: =+B4+1 -> 2 | C5: =+IF('Cálculos '!C10="","",'Cálculos '!C10) -> calibración a los equipos del laboratorio | D5: =+IF('Cálculos '!D10="","",'Cálculos '!D10) -> Autoclave | E5: =+IF('Cálculos '!E10="","",'Cálculos '!E10) | F5: =+IF(C5="","",'Cálculos '!AR10) -> 1150840.5 | G5: =IF(C5="","",'Cálculos '!AU10) -> 1147050.2 | H5: =+IF(C5="","",'Cálculos '!AV10) -> 1143168.6 | I5: =+IF(C5="","",'Cálculos '!AT10) -> 1181721.6 | J5: 0 | K5: =+IF(C5="","",'Precio unitario '!F4) -> 1150840.5 | L5: =IF(C5="","",+'Valor total'!H8) -> 218659.7 | M5: =+IF(C5="","",+'Valor total'!I8) -> 0 | N5: =+IF(C5="","",SUM(K5+L5+M5)) -> 1369500.2
B6: =+B5+1 -> 3 | C6: =+IF('Cálculos '!C11="","",'Cálculos '!C11) -> calibración a los equipos del laboratorio | D6: =+IF('Cálculos '!D11="","",'Cálculos '!D11) -> Balanza | E6: =+IF('Cálculos '!E11="","",'Cálculos '!E11) | F6: =+IF(C6="","",'Cálculos '!AR11) -> 756724 | G6: =IF(C6="","",'Cálculos '!AU11) -> 730022.66 | H6: =+IF(C6="","",'Cálculos '!AV11) -> 701513.77 | I6: =+IF(C6="","",'Cálculos '!AT11) -> 823500 | J6: 0 | K6: =+IF(C6="","",'Precio unitario '!F5) -> 756724 | L6: =IF(C6="","",+'Valor total'!H9) -> 143777.56 | M6: =+IF(C6="","",+'Valor total'!I9) -> 0 | N6: =+IF(C6="","",SUM(K6+L6+M6)) -> 900501.56
B7: =+B6+1 -> 4 | C7: =+IF('Cálculos '!C12="","",'Cálculos '!C12) -> calibración a los equipos del laboratorio | D7: =+IF('Cálculos '!D12="","",'Cálculos '!D12) -> Balanza Analitica | E7: =+IF('Cálculos '!E12="","",'Cálculos '!E12) | F7: =+IF(C7="","",'Cálculos '!AR12) -> 765724 | G7: =IF(C7="","",'Cálculos '!AU12) -> 742984.35 | H7: =+IF(C7="","",'Cálculos '!AV12) -> 718873.48 | I7: =+IF(C7="","",'Cálculos '!AT12) -> 823500 | J7: 0 | K7: =+IF(C7="","",'Precio unitario '!F6) -> 765724 | L7: =IF(C7="","",+'Valor total'!H10) -> 145487.56 | M7: =+IF(C7="","",+'Valor total'!I10) -> 0 | N7: =+IF(C7="","",SUM(K7+L7+M7)) -> 911211.56
B8: =+B7+1 -> 5 | C8: =+IF('Cálculos '!C13="","",'Cálculos '!C13) -> calibración a los equipos del laboratorio | D8: =+IF('Cálculos '!D13="","",'Cálculos '!D13) -> Bloque de calentamiento seco | E8: =+IF('Cálculos '!E13="","",'Cálculos '!E13) | F8: =+IF(C8="","",'Cálculos '!AR13) -> 1268003.7 | G8: =IF(C8="","",'Cálculos '!AU13) -> 1262809.7 | H8: =+IF(C8="","",'Cálculos '!AV13) -> 1257743.8 | I8: =+IF(C8="","",'Cálculos '!AT13) -> 1235600 | J8: 0 | K8: =+IF(C8="","",'Precio unitario '!F7) -> 1268003.7 | L8: =IF(C8="","",+'Valor total'!H11) -> 240920.71 | M8: =+IF(C8="","",+'Valor total'!I11) -> 0 | N8: =+IF(C8="","",SUM(K8+L8+M8)) -> 1508924.4
B9: =+B8+1 -> 6 | C9: =+IF('Cálculos '!C14="","",'Cálculos '!C14) -> calibración a los equipos del laboratorio | D9: =+IF('Cálculos '!D14="","",'Cálculos '!D14) -> Bloque de calentamiento seco | E9: =+IF('Cálculos '!E14="","",'Cálculos '!E14) | F9: =+IF(C9="","",'Cálculos '!AR14) -> 1268003.7 | G9: =IF(C9="","",'Cálculos '!AU14) -> 1262809.7 | H9: =+IF(C9="","",'Cálculos '!AV14) -> 1257743.8 | I9: =+IF(C9="","",'Cálculos '!AT14) -> 1235600 | J9: 0 | K9: =+IF(C9="","",'Precio unitario '!F8) -> 1268003.7 | L9: =IF(C9="","",+'Valor total'!H12) -> 240920.71 | M9: =+IF(C9="","",+'Valor total'!I12) -> 0 | N9: =+IF(C9="","",SUM(K9+L9+M9)) -> 1508924.4
B10: =+B9+1 -> 7 | C10: =+IF('Cálculos '!C15="","",'Cálculos '!C15) -> calibración a los equipos del laboratorio | D10: =+IF('Cálculos '!D15="","",'Cálculos '!D15) -> Bureta digital | E10: =+IF('Cálculos '!E15="","",'Cálculos '!E15) | F10: =+IF(C10="","",'Cálculos '!AR15) -> 444184.27 | G10: =IF(C10="","",'Cálculos '!AU15) -> 437423.96 | H10: =+IF(C10="","",'Cálculos '!AV15) -> 430460.82 | I10: =+IF(C10="","",'Cálculos '!AT15) -> 458900 | J10: 0 | K10: =+IF(C10="","",'Precio unitario '!F9) -> 444184.27 | L10: =IF(C10="","",+'Valor total'!H13) -> 84395.011 | M10: =+IF(C10="","",+'Valor total'!I13) -> 0 | N10: =+IF(C10="","",SUM(K10+L10+M10)) -> 528579.28
B11: =+B10+1 -> 8 | C11: =+IF('Cálculos '!C16="","",'Cálculos '!C16) -> calibración a los equipos del laboratorio | D11: =+IF('Cálculos '!D16="","",'Cálculos '!D16) -> Centrifuga Refrigerada | E11: =+IF('Cálculos '!E16="","",'Cálculos '!E16) | F11: =+IF(C11="","",'Cálculos '!AR16) -> 1749553.6 | G11: =IF(C11="","",'Cálculos '!AU16) -> 1614190.2 | H11: =+IF(C11="","",'Cálculos '!AV16) -> 1466340.2 | I11: =+IF(C11="","",'Cálculos '!AT16) -> 2025400 | J11: 0 | K11: =+IF(C11="","",'Precio unitario '!F10) -> 1749553.6 | L11: =IF(C11="","",+'Valor total'!H14) -> 332415.18 | M11: =+IF(C11="","",+'Valor total'!I14) -> 0 | N11: =+IF(C11="","",SUM(K11+L11+M11)) -> 2081968.8
B12: =+B11+1 -> 9 | C12: =+IF('Cálculos '!C17="","",'Cálculos '!C17) -> calibración a los equipos del laboratorio | D12: =+IF('Cálculos '!D17="","",'Cálculos '!D17) -> Congelador | E12: =+IF('Cálculos '!E17="","",'Cálculos '!E17) | F12: =+IF(C12="","",'Cálculos '!AR17) -> 1371184.3 | G12: =IF(C12="","",'Cálculos '!AU17) -> 1336659.6 | H12: =+IF(C12="","",'Cálculos '!AV17) -> 1300306.2 | I12: =+IF(C12="","",'Cálculos '!AT17) -> 1458900 | J12: 0 | K12: =+IF(C12="","",'Precio unitario '!F11) -> 1371184.3 | L12: =IF(C12="","",+'Valor total'!H15) -> 260525.01 | M12: =+IF(C12="","",+'Valor total'!I15) -> 0 | N12: =+IF(C12="","",SUM(K12+L12+M12)) -> 1631709.3
B13: =+B12+1 -> 10 | C13: =+IF('Cálculos '!C18="","",'Cálculos '!C18) -> calibración a los equipos del laboratorio | D13: =+IF('Cálculos '!D18="","",'Cálculos '!D18) -> Congelador | E13: =+IF('Cálculos '!E18="","",'Cálculos '!E18) | F13: =+IF(C13="","",'Cálculos '!AR18) -> 1371184.3 | G13: =IF(C13="","",'Cálculos '!AU18) -> 1336659.6 | H13: =+IF(C13="","",'Cálculos '!AV18) -> 1300306.2 | I13: =+IF(C13="","",'Cálculos '!AT18) -> 1458900 | J13: 0 | K13: =+IF(C13="","",'Precio unitario '!F12) -> 1371184.3 | L13: =IF(C13="","",+'Valor total'!H16) -> 260525.01 | M13: =+IF(C13="","",+'Valor total'!I16) -> 0 | N13: =+IF(C13="","",SUM(K13+L13+M13)) -> 1631709.3
B14: =+B13+1 -> 11 | C14: =+IF('Cálculos '!C19="","",'Cálculos '!C19) -> calibración a los equipos del laboratorio | D14: =+IF('Cálculos '!D19="","",'Cálculos '!D19) -> Congelador | E14: =+IF('Cálculos '!E19="","",'Cálculos '!E19) | F14: =+IF(C14="","",'Cálculos '!AR19) -> 1371184.3 | G14: =IF(C14="","",'Cálculos '!AU19) -> 1336659.6 | H14: =+IF(C14="","",'Cálculos '!AV19) -> 1300306.2 | I14: =+IF(C14="","",'Cálculos '!AT19) -> 1458900 | J14: 0 | K14: =+IF(C14="","",'Precio unitario '!F13) -> 1371184.3 | L14: =IF(C14="","",+'Valor total'!H17) -> 260525.01 | M14: =+IF(C14="","",+'Valor total'!I17) -> 0 | N14: =+IF(C14="","",SUM(K14+L14+M14)) -> 1631709.3
B15: =+B14+1 -> 12 | C15: =+IF('Cálculos '!C20="","",'Cálculos '!C20) -> calibración a los equipos del laboratorio | D15: =+IF('Cálculos '!D20="","",'Cálculos '!D20) -> Cuarto frío | E15: =+IF('Cálculos '!E20="","",'Cálculos '!E20) | F15: =+IF(C15="","",'Cálculos '!AR20) -> 1853850.9 | G15: =IF(C15="","",'Cálculos '!AU20) -> 1810892 | H15: =+IF(C15="","",'Cálculos '!AV20) -> 1771650 | I15: =+IF(C15="","",'Cálculos '!AT20) -> 1680652.8 | J15: 0 | K15: =+IF(C15="","",'Precio unitario '!F14) -> 1853850.9 | L15: =IF(C15="","",+'Valor total'!H18) -> 352231.68 | M15: =+IF(C15="","",+'Valor total'!I18) -> 0 | N15: =+IF(C15="","",SUM(K15+L15+M15)) -> 2206082.6
B16: =+B15+1 -> 13 | C16: =+IF('Cálculos '!C21="","",'Cálculos '!C21) -> calibración a los equipos del laboratorio | D16: =+IF('Cálculos '!D21="","",'Cálculos '!D21) -> Datalogger | E16: =+IF('Cálculos '!E21="","",'Cálculos '!E21) | F16: =+IF(C16="","",'Cálculos '!AR21) -> 978620.27 | G16: =IF(C16="","",'Cálculos '!AU21) -> 908538.09 | H16: =+IF(C16="","",'Cálculos '!AV21) -> 832078.53 | I16: =+IF(C16="","",'Cálculos '!AT21) -> 1125400 | J16: 0 | K16: =+IF(C16="","",'Precio unitario '!F15) -> 978620.27 | L16: =IF(C16="","",+'Valor total'!H19) -> 185937.85 | M16: =+IF(C16="","",+'Valor total'!I19) -> 0 | N16: =+IF(C16="","",SUM(K16+L16+M16)) -> 1164558.1
... B68: =+B67+1 -> 65 | C68: =+IF('Cálculos '!C73="","",'Cálculos '!C73) | D68: =+IF('Cálculos '!D73="","",'Cálculos '!D73) | E68: =+IF('Cálculos '!E73="","",'Cálculos '!E73) | F68: =+IF(C68="","",'Cálculos '!AR73) | G68: =IF(C68="","",'Cálculos '!AU73) | H68: =+IF(C68="","",'Cálculos '!AV73) | I68: =+IF(C68="","",'Cálculos '!AT73) | J68: 0 | K68: =+IF(C68="","",'Precio unitario '!F67) | L68: =IF(C68="","",+'Valor total'!H71) | M68: =+IF(C68="","",+'Valor total'!I71) | N68: =+IF(C68="","",SUM(K68+L68+M68))
B69: =+B68+1 -> 66 | C69: =+IF('Cálculos '!C74="","",'Cálculos '!C74) | D69: =+IF('Cálculos '!D74="","",'Cálculos '!D74) | E69: =+IF('Cálculos '!E74="","",'Cálculos '!E74) | F69: =+IF(C69="","",'Cálculos '!AR74) | G69: =IF(C69="","",'Cálculos '!AU74) | H69: =+IF(C69="","",'Cálculos '!AV74) | I69: =+IF(C69="","",'Cálculos '!AT74) | J69: =+IF(C69="","",'Variación '!BV68) | K69: =+IF(C69="","",'Precio unitario '!F68) | L69: =IF(C69="","",+'Valor total'!H72) | M69: =+IF(C69="","",SUM(J69+K69+L69)) | N69: =+IF(C69="","",SUM(K69+L69+M69))
B70: =+B69+1 -> 67 | C70: =+IF('Cálculos '!C75="","",'Cálculos '!C75) | D70: =+IF('Cálculos '!D75="","",'Cálculos '!D75) | E70: =+IF('Cálculos '!E75="","",'Cálculos '!E75) | F70: =+IF(C70="","",'Cálculos '!AR75) | G70: =IF(C70="","",'Cálculos '!AU75) | H70: =+IF(C70="","",'Cálculos '!AV75) | I70: =+IF(C70="","",'Cálculos '!AT75) | J70: =+IF(C70="","",'Variación '!BV69) | K70: =+IF(C70="","",'Precio unitario '!F69) | L70: =IF(C70="","",+'Valor total'!H73) | M70: =+IF(C70="","",SUM(J70+K70+L70)) | N70: =+IF(C70="","",SUM(K70+L70+M70))
B71: =+B70+1 -> 68 | C71: =+IF('Cálculos '!C76="","",'Cálculos '!C76) | D71: =+IF('Cálculos '!D76="","",'Cálculos '!D76) | E71: =+IF('Cálculos '!E76="","",'Cálculos '!E76) | F71: =+IF(C71="","",'Cálculos '!AR76) | G71: =IF(C71="","",'Cálculos '!AU76) | H71: =+IF(C71="","",'Cálculos '!AV76) | I71: =+IF(C71="","",'Cálculos '!AT76) | J71: =+IF(C71="","",'Variación '!BV70) | K71: =+IF(C71="","",'Precio unitario '!F70) | L71: =IF(C71="","",+'Valor total'!H74) | M71: =+IF(C71="","",SUM(J71+K71+L71)) | N71: =+IF(C71="","",SUM(K71+L71+M71))
B72: =+B71+1 -> 69 | C72: =+IF('Cálculos '!C77="","",'Cálculos '!C77) | D72: =+IF('Cálculos '!D77="","",'Cálculos '!D77) | E72: =+IF('Cálculos '!E77="","",'Cálculos '!E77) | F72: =+IF(C72="","",'Cálculos '!AR77) | G72: =IF(C72="","",'Cálculos '!AU77) | H72: =+IF(C72="","",'Cálculos '!AV77) | I72: =+IF(C72="","",'Cálculos '!AT77) | J72: =+IF(C72="","",'Variación '!BV71) | K72: =+IF(C72="","",'Precio unitario '!F71) | L72: =IF(C72="","",+'Valor total'!H75) | M72: =+IF(C72="","",SUM(J72+K72+L72)) | N72: =+IF(C72="","",SUM(K72+L72+M72))
B73: =+B72+1 -> 70 | C73: =+IF('Cálculos '!C78="","",'Cálculos '!C78) | D73: =+IF('Cálculos '!D78="","",'Cálculos '!D78) | E73: =+IF('Cálculos '!E78="","",'Cálculos '!E78) | F73: =+IF(C73="","",'Cálculos '!AR78) | G73: =IF(C73="","",'Cálculos '!AU78) | H73: =+IF(C73="","",'Cálculos '!AV78) | I73: =+IF(C73="","",'Cálculos '!AT78) | J73: =+IF(C73="","",'Variación '!BV72) | K73: =+IF(C73="","",'Precio unitario '!F72) | L73: =IF(C73="","",+'Valor total'!H76) | M73: =+IF(C73="","",SUM(J73+K73+L73)) | N73: =+IF(C73="","",SUM(K73+L73+M73))
B74: =+B73+1 -> 71 | C74: =+IF('Cálculos '!C79="","",'Cálculos '!C79) | D74: =+IF('Cálculos '!D79="","",'Cálculos '!D79) | E74: =+IF('Cálculos '!E79="","",'Cálculos '!E79) | F74: =+IF(C74="","",'Cálculos '!AR79) | G74: =IF(C74="","",'Cálculos '!AU79) | H74: =+IF(C74="","",'Cálculos '!AV79) | I74: =+IF(C74="","",'Cálculos '!AT79) | J74: =+IF(C74="","",'Variación '!BV73) | K74: =+IF(C74="","",'Precio unitario '!F73) | L74: =IF(C74="","",+'Valor total'!H77) | M74: =+IF(C74="","",SUM(J74+K74+L74)) | N74: =+IF(C74="","",SUM(K74+L74+M74))
B75: =+B74+1 -> 72 | C75: =+IF('Cálculos '!C80="","",'Cálculos '!C80) | D75: =+IF('Cálculos '!D80="","",'Cálculos '!D80) | E75: =+IF('Cálculos '!E80="","",'Cálculos '!E80) | F75: =+IF(C75="","",'Cálculos '!AR80) | G75: =IF(C75="","",'Cálculos '!AU80) | H75: =+IF(C75="","",'Cálculos '!AV80) | I75: =+IF(C75="","",'Cálculos '!AT80) | J75: =+IF(C75="","",'Variación '!BV74) | K75: =+IF(C75="","",'Precio unitario '!F74) | L75: =IF(C75="","",+'Valor total'!H78) | M75: =+IF(C75="","",SUM(J75+K75+L75)) | N75: =+IF(C75="","",SUM(K75+L75+M75))
B76: =+B75+1 -> 73 | C76: =+IF('Cálculos '!C81="","",'Cálculos '!C81) | D76: =+IF('Cálculos '!D81="","",'Cálculos '!D81) | E76: =+IF('Cálculos '!E81="","",'Cálculos '!E81) | F76: =+IF(C76="","",'Cálculos '!AR81) | G76: =IF(C76="","",'Cálculos '!AU81) | H76: =+IF(C76="","",'Cálculos '!AV81) | I76: =+IF(C76="","",'Cálculos '!AT81) | J76: =+IF(C76="","",'Variación '!BV75) | K76: =+IF(C76="","",'Precio unitario '!F75) | L76: =IF(C76="","",+'Valor total'!H79) | M76: =+IF(C76="","",SUM(J76+K76+L76)) | N76: =+IF(C76="","",SUM(K76+L76+M76))
B77: =+B76+1 -> 74 | C77: =+IF('Cálculos '!C82="","",'Cálculos '!C82) | D77: =+IF('Cálculos '!D82="","",'Cálculos '!D82) | E77: =+IF('Cálculos '!E82="","",'Cálculos '!E82) | F77: =+IF(C77="","",'Cálculos '!AR82) | G77: =IF(C77="","",'Cálculos '!AU82) | H77: =+IF(C77="","",'Cálculos '!AV82) | I77: =+IF(C77="","",'Cálculos '!AT82) | J77: =+IF(C77="","",'Variación '!BV76) | K77: =+IF(C77="","",'Precio unitario '!F76) | L77: =IF(C77="","",+'Valor total'!H80) | M77: =+IF(C77="","",SUM(J77+K77+L77)) | N77: =+IF(C77="","",SUM(K77+L77+M77))
B78: =+B77+1 -> 75 | C78: =+IF('Cálculos '!C83="","",'Cálculos '!C83) | D78: =+IF('Cálculos '!D83="","",'Cálculos '!D83) | E78: =+IF('Cálculos '!E83="","",'Cálculos '!E83) | F78: =+IF(C78="","",'Cálculos '!AR83) | G78: =IF(C78="","",'Cálculos '!AU83) | H78: =+IF(C78="","",'Cálculos '!AV83) | I78: =+IF(C78="","",'Cálculos '!AT83) | J78: =+IF(C78="","",'Variación '!BV77) | K78: =+IF(C78="","",'Precio unitario '!F77) | L78: =IF(C78="","",+'Valor total'!H81) | M78: =+IF(C78="","",SUM(J78+K78+L78)) | N78: =+IF(C78="","",SUM(K78+L78+M78))
B79: =+B78+1 -> 76 | C79: =+IF('Cálculos '!C84="","",'Cálculos '!C84) | D79: =+IF('Cálculos '!D84="","",'Cálculos '!D84) | E79: =+IF('Cálculos '!E84="","",'Cálculos '!E84) | F79: =+IF(C79="","",'Cálculos '!AR84) | G79: =IF(C79="","",'Cálculos '!AU84) | H79: =+IF(C79="","",'Cálculos '!AV84) | I79: =+IF(C79="","",'Cálculos '!AT84) | J79: =+IF(C79="","",'Variación '!BV78) | K79: =+IF(C79="","",'Precio unitario '!F78) | L79: =IF(C79="","",+'Valor total'!H82) | M79: =+IF(C79="","",SUM(J79+K79+L79)) | N79: =+IF(C79="","",SUM(K79+L79+M79))
B80: =+B79+1 -> 77 | C80: =+IF('Cálculos '!C85="","",'Cálculos '!C85) | D80: =+IF('Cálculos '!D85="","",'Cálculos '!D85) | E80: =+IF('Cálculos '!E85="","",'Cálculos '!E85) | F80: =+IF(C80="","",'Cálculos '!AR85) | G80: =IF(C80="","",'Cálculos '!AU85) | H80: =+IF(C80="","",'Cálculos '!AV85) | I80: =+IF(C80="","",'Cálculos '!AT85) | J80: =+IF(C80="","",'Variación '!BV79) | K80: =+IF(C80="","",'Precio unitario '!F79) | L80: =IF(C80="","",+'Valor total'!H83) | M80: =+IF(C80="","",SUM(J80+K80+L80)) | N80: =+IF(C80="","",SUM(K80+L80+M80))
... B205: =+B204+1 -> 202 | C205: =+IF('Cálculos '!C210="","",'Cálculos '!C210) | D205: =+IF('Cálculos '!D210="","",'Cálculos '!D210) | E205: =+IF('Cálculos '!E210="","",'Cálculos '!E210) | F205: =+IF(C205="","",'Cálculos '!AR210) | G205: =IF(C205="","",'Cálculos '!AU210) | H205: =+IF(C205="","",'Cálculos '!AV210) | I205: =+IF(C205="","",'Cálculos '!AT210) | J205: =+IF(C205="","",'Variación '!BV204) | K205: =+IF(C205="","",'Precio unitario '!F204) | L205: =IF(C205="","",+'Valor total'!H208) | M205: =+IF(C205="","",SUM(J205+K205+L205)) | N205: =+IF(C205="","",SUM(K205+L205+M205))
B206: TOTAL | K206: =SUM(K4:K205) -> 42108789 | L206: =SUM(L4:L205) -> 8000670 | M206: =SUM(M4:M205) -> 0 | N206: =SUM(N4:N205) -> 50109459
