Workbook
Name contratación: 'IDENTIFICACION Y ANALISIS'!$B$39:$B$43
Name ejecución: 'IDENTIFICACION Y ANALISIS'!$B$45:$B$67
Name OPCIONES: 'ASIGNACION Y TRATAMIENTO'!$B$38:$B$40
Name planeación: 'IDENTIFICACION Y ANALISIS'!$B$19:$B$29
Name selección: 'IDENTIFICACION Y ANALISIS'!$B$31:$B$37

Sheet CONTEXTO
C2: MATRIZ DE RIESGOS EN CONTRATACIÓN | F2: Código: GCO-GCI-F164 Versión: 02 Vigencia: 01 de diciembre de 2022 Caso HOLA: 280117
B6: ESTABLECER EL CONTEXTO
B7: El punto inicial es identificar el contexto en el cual interactúa la Entidad Estatal para conocer el ambiente social, económico y político, e identificar (i) sus propios Riesgos; (ii) los Riesgos comunes a sus Procesos de Contratación; y (iii) los Riesgos del Proceso de Contratación en particular. (Aplica igual para contratos interadministrativos) En este paso la Entidad Estatal debe identificar los aspectos que se mencionan a continuación y los posibles efectos adversos que estos pueden generar.
B8: Objeto del Proceso de Contratación: CONTRATAR A MONTO AGOTABLE LOS MANTENIMIENTOS PREVENTIVOS Y/O CORRECTIVOS DE LOS EQUIPOS QUE CONFORMAN LA INFRAESTRUCTURA TECNOLÓGICA O CUALQUIER ELEMENTO ELECTRÓNICO EXISTENTE Y/O DE PROPIEDAD DEL FONDO DE DESARROLLO LOCAL DE SUBA Y SUS SEDES, INCLUIDO EL SUMINISTRO, INSTALACIÓN Y PUESTA EN FUNCIONAMIENTO DE REPUESTOS (BOLSA DE REPUESTOS)
B9: Partícipes del Proceso de Contratación: Agentes externos (Organismos de control, veedurías ciudadanas), agentes internos (supervisores, funcionarios y demás usuarios).
B10: Ciudadanía que se beneficia del Proceso de Contratación: Agentes internos (funcionarios, pasantes) y externos (contratistas, visitantes y usuarios externos en general)
B11: Capacidad de la Entidad Estatal entendida como la disponibilidad de recursos y conocimientos para el Proceso de Contratación: La disponibilidad de la Entidad de sus recursos y el conocimiento de su equipo humano se refleja en los diferentes funcionarios que participarán en las diversas etapas del proceso de selección: participan las áreas que requieren los procesos de contratación (Etapa de Planeación), Dirección de Contratación, Comité Evaluador (Etapa de selección), Dirección de Contratación (Etapa de contratación) y la supervisión y apoyos a la misma (Estapa de Ejecución).
B12: Suficiencia del presupuesto oficial del Proceso de Contratación: De acuerdo al Plan Anual de Adquisiciones se deben estimar los recursos necesarios para el desarrollo del proceso de la contratación, el cual tendrá el soporte presupuestal suficiente para su desarrollo.
B13: Condiciones geográficas y de acceso del lugar en el cual se debe cumplir el objeto del Proceso de Contratación: El suministro, obra o servicio se prestará principalmente en las Sedes de la Entidad, o en el lugar indicado en los estudios previos del proceso.
B14: Entorno socio ambiental: Si aplican
B15: Condiciones políticas: Si aplican
B16: Factores ambientales.
B17: Sector del objeto del Proceso de Contratación y su mercado: sector terciario
... B19: Experiencia propia y de otras Entidades Estatales en Procesos de Contratación del mismo tipo.

Sheet IDENTIFICACION Y ANALISIS
C2: MATRIZ DE RIESGOS DE CONTRATACIÓN | F2: Código: GCO-GCI-F164 Versión: 02 Vigencia: 01 de diciembre de 2022 Caso HOLA: 280117
B6: DEFINICIONES
B7: RIESGO: Evento que puede generar efectos adversos y de distinta magnitud en el logro de los objetivos del Proceso de Contratación o en la ejecución de un contrato RIESGOS PREVISIBLES: Son los posibles hechos o circunstancias que por la naturaleza del contrato y de la actividad a ejecutar es factible su ocurrencia. ETAPA DE PLANEACIÓN: Está comprendida desde el momento en que se identifican las necesidades que debe satisfacer la Secretaría Distrital de Gobierno y los Fondos de Desarrollo Local, a través del abastecimiento de bienes, obras o servicios, la elaboración del Plan Anual de Adquisiciones y la estructuración de los documentos y estudios previos. ETAPA DE SELECCIÓN: Está comprendida entre el acto de Apertura del Proceso de Contratación y la Adjudicación o la declaración de desierto del Proceso de Contratación ETAPA DE CONTRATACIÓN: Una vez adjudicado el contrato objeto del Proceso de Contratación, inicia la etapa para la celebración del contrato y el cumplimiento de los requisitos para de perfeccionamiento y ejecución. ETAPA DE EJECUCIÓN: Inicia una vez cumplidos los requisitos previstos para iniciar la ejecución del contrato respectivo y termina con el vencimiento del plazo del contrato o la fecha de liquidación si hay lugar a ella. RIESGO GENERAL: Es un riesgo de todos los procesos de contratación adelantados por la Entidad Estatal, por lo cual está presente en toda su actividad contractual. RIEGO ESPECIFICO: Es un riesgo propio del proceso de contratación objeto de análisis. RIESGOS ECONÓMICOS: Son los derivados del comportamiento del mercado, tales como la fluctuación de los precios de los insumos, desabastecimiento y especulación de los mismos, entre otros. RIESGOS SOCIALES O POLÍTICOS: son los derivados de los cambios de las políticas gubernamentales y de cambios en las condiciones sociales que tengan impacto en la ejecución del contrato. RIESGOS OPERACIONALES: Son los asociados a la operatividad del contrato, tales como la suficiencia del presupuesto oficial, del plazo o los derivados de procesos, procedimientos, parámetros, sistemas de información y tecnológicos, equipos humanos o técnicos inadecuados o insuficientes. RIESGOS FINANCIEROS: Son (i) el riesgo de consecución de financiación o riesgo de liquidez para obtener recursos para cumplir con el objeto del contrato, y (ii) el riesgo de las condiciones financieras establecidas para la obtención de los recursos, tales como plazos, tasas, garantías, contragarantías, y refinanciaciones, entre otros. RIESGOS REGULATORIOS: Derivados de cambios regulatorios o reglamentarios que afecten la ecuación económica del contrato. RIESGOS DE LA NATURALEZA: Son los eventos naturales previsibles en los cuales no hay intervención humana que puedan tener impacto en la ejecución del contrato, por ejemplo los temblores, inundaciones, lluvias, sequías, entre otros. RIESGOS AMBIENTALES: Son los derivados de las obligaciones legales o reglamentarias de carácter ambiental, así como de las licencias, planes de manejo o de permisos y autorizaciones ambientales, incluyendo tasas retributivas y compensatorias, obligaciones de mitigación, tareas de monitoreo y control, entre otras. RIESGOS TECNOLÓGICOS: Son los derivados de fallas en los sistemas de comunicación de voz y de datos, suspensión de servicios públicos, nuevos desarrollos tecnológicos o estándares que deben ser tenidos en cuenta para la ejecución del contrato, obsolescencia tecnológica.
B15: INSTRUCCIONES PARA LA IDENTIFICACIÓN, ANALISIS, EVALUACIÓN , ASIGNACIÓN Y TRATAMIENTO DE RIESGOS EN LA CONTRATACIÓN
B16: 1) Identifique los riesgos previsibles que le apliquen al objeto contractual que se adelante. Los relacionados a continuación se establecen de manera general y como proforma. No obstante, si del objeto contractual se identifican otros riesgos diferentes a los aquí determinados, por favor reemplace el texto de la casilla teniendo en cuenta la etapa del proceso. Así mismo, seleccione la clase, fuente y el tipo (Operacional, Económico, Sociales o Políticos, Regulatorios, Financieros, Tecnológicos, De la naturaleza, Ambientales) 2) Continúe en la hoja de "EVALUACIÓN" (SI EXISTEN DUDAS CONCEPTUALES PARA LA ELABORACIÓN DE LA MATRIZ DE RIESGO CONSULTE EL MANUAL PARA LA IDENTIFICACIÓN Y COBERTURA DEL RIESGO EN LOS PROCESOS DE CONTRATACIÓN EXPEDIDO POR COLOMBIA COMPRA EFICIENTE Y LA GUÍA DE RIESGOS PREVISIBLES CONTRACTUALES, EXPEDIDA POR LA VEEDURÍA DISTRITAL)
C17: ETAPAS | D17: CLASE | E17: FUENTE | F17: TIPO
C18: PLANEACIÓN
B19: Inadecuada escogencia de la modalidad de contratación | F19: Operacionales
B20: Requisitos habilitantes inapropiados para el proceso de selección | F20: Operacionales
B21: Inadecuado análisis económico estimativo del valor del contrato | D21: Especifico | E21: Interno | F21: Economicos
B22: Inadecuada descripción del bien o servicio requerido | F22: Operacionales
B23: Inadecuada elaboración de estudios y diseños | F23: Operacionales
B24: Requisitos habilitantes que impidan la selección objetiva | F24: Operacionales
B25: Falta de profundidad en el estudio de sector no identificandose claramente aspectos de oferta y demanda | F25: Economicos
B26: Ausencia de fundamentación de la justificación y conveniencia de la contratación | F26: Operacionales
B27: Inadecuada identificación de las condiciones contractuales | F27: Operacionales
B28: No aprobación o demoras en la expedición vigencias futuras | F28: Operacionales
B29: Apertura de procesos sin disponibilidad presupuestal | F29: Operacionales
C30: SELECCIÓN
B31: Inadecuada evaluación de las ofertas y/o verificación de requisitos habilitantes | F31: Operacionales
B32: Declaratoria de desierto del Proceso de selección | D32: General | E32: Interno | F32: Operacionales
B33: Falta de claridad en la elaboración de los actos administrativos | F33: Operacionales
B34: Contestación inoportuna a todas las observaciones formuladas a los documentos de la contratación | F34: Operacionales
B35: No publicación de la documentación del proceso de selección en el SECOP | F35: Operacionales
B36: Confabulacion de los proponentes (Colusión) | F36: Operacionales
B37: Selección de ofertas con precios artificialmente bajos. | F37: Operacionales
C38: CONTRATACIÓN
B39: Riesgo de que no se firme el contrato. | F39: Operacionales
B40: Falta de constitución o constitución tardía de la garantía única. Aceptación de garantías que no se ajustan a lo contemplado en el contrato | F40: Operacionales
B41: Falta de solicitud o solicitud tardía del registro presupuestal | F41: Operacionales
B42: No publicación de la documentación del proceso de selección en el SECOP | F42: Operacionales
B43: Presentación de reclamos de terceros sobre la selección del oferente que retrasen el perfeccionamiento del contrato. | F43: Operacionales
C44: EJECUCIÓN
F45: Economicos
B46: Cambio de precios en factores de producción. | F46: Economicos
F47: Economicos
B48: Factores políticos o macroeconómicos. | F48: Sociales o Políticos
B49: Incumplimiento del contratista en cuanto a las obligaciones, cantidad y/o calidad de los bienes a entregar y/o ejecución oportuna del objeto a contratar. | D49: General | E49: Externo | F49: Economicos
B50: Variación de los precios del mercado | D50: Especifico | E50: Externo | F50: Economicos
B51: Repuestos en mal estado o que no cumplan con los estandares de calidad requeridos | D51: Especifico | E51: Externo | F51: Operacionales
...

Sheet EVALUACION CON CONTROLES
C2: MATRIZ DE RIESGOS DE CONTRATACIÓN | Q2: Código: GCO-GCI-F164 Versión: 02 Vigencia: 01 de diciembre de 2022 Caso HOLA: 280117
B6: =+EVALUACION!B6 -> Objeto Contractual: CONTRATAR A MONTO AGOTABLE LOS MANTENIMIENTOS PREVENTIVOS Y/O CORRECTIVOS DE LOS EQUIPOS QUE CONFORMAN LA INFRAESTRUCTURA TECNOLÓGICA O CUALQUIER ELEMENTO ELECTRÓNICO EXISTENTE Y/O DE PROPIEDAD DEL FONDO DE DESARROLLO LOCAL DE SUBA Y SUS SEDES; INCLUIDO EL SUMINISTRO, INSTALACIÓN Y PUESTA EN FUNCIONAMIENTO DE REPUESTOS (BOLSA DE REPUESTOS)
B7: INSTRUCCIONES PARA LA IDENTIFICACIÓN, ANALISIS, EVALUACIÓN , ASIGNACIÓN Y TRATAMIENTO DE RIESGOS EN LA CONTRATACIÓN
B8: 1) Describa el tratamiento/controles a ser implementados
B9: 2) Diligencie la información de las siguientes columnas, de acuerdo con el análisis realizado a cada riesgo: Afecta el equilibrio económico, persona responsable de implementar el tratamiento, fecha estimada de inicio del tratamiento, fecha estimada en la que se completa el tratamiento, cómo se realiza el monitoreo y la periodicidad.
B10: 3) Continúe en la hoja de "ASIGNACIÓN Y TRATAMIENTO" y diligencie las siguientes casillas: A quien se le asigna y el porcentaje que asume cada una de las partes en caso de que sea compartido.
B15: ETAPA | C15: Descripción (Que puede pasar y, cómo puede ocurrir) | G15: Tratamiento/Controles a ser implementados | I15: Probabilidad de Ocurrencia | J15: Impacto | K15: Calificación Total | L15: Prioridad | M15: ¿Afecta el equilibrio económico del contrato? | N15: Persona responsable por implementar el tratamiento | O15: Fecha estimada en que se inicia el tratamiento | P15: Fecha estimada en que se completa el tratamiento | Q15: ¿Cómo se realiza el monitoreo? | R15: Periodicidad ¿Cuándo?
B16: SELECCIÓN | C16: Declaratoria de desierto del Proceso de selección | G16: 1. Durante la etapa de diseño del proceso el formulación del área responable y el área de contratos debrá revisar los documentos del proceso, haciendo énfasis en que los requisitos habilitantes estén acorde al objeto a contratar y no se planteen exigencias inalcanzables o muy restrictivas, ediante la coparqación con procesos similares de otras etidades. 2. Durante la etapa de recepción de ofertas el comité evaluador deberá realizar un analisis y consideración de las observaciones presentadas por los posibles interesados en la etapa del proyecto de pliegos y prepliego de condiciones definitivos, mediante reuniones del comite evaluador. | I16: 1 | J16: 2 | K16: =+I16+J16 -> 3 | L16: =IF(K16<=4,"BAJO",IF(K16=5,"MEDIO",IF(K16=6,"ALTO",IF(K16=7,"ALTO","EXTREMO")))) -> BAJO | M16: NO | N16: Formuladores y Comité de Contratación | O16: Etapa de planeación | P16: Al momento de la publicación del proceso | Q16: Revisión de los requisitos por parte del comité de contratación | R16: Acorde al cronogrma del proceso
B17: =+EVALUACION!B18 -> EJECUCIÓN | C17: Incumplimiento del contratista en cuanto a las obligaciones, cantidad y/o calidad de los bienes a entregar y/o ejecución oportuna del objeto a contratar. | G17: 1. Verificación por parte del apoyo a la supervisión de cada uno de los item solicitados y entregados en evento a realizar 2. El contratista deberá implementar medidas de seguimiento y evaluación de su personal (como realizar control de recorridos y rutinas del personal) para que ejerza sus labores de conformidad con los requisitos de la Entidad. | I17: =+EVALUACION!I18 -> 3 | J17: =+EVALUACION!J18 -> 3 | K17: =+I17+J17 -> 6 | L17: =IF(K17<=4,"BAJO",IF(K17=5,"MEDIO",IF(K17=6,"ALTO",IF(K17=7,"ALTO","EXTREMO")))) -> ALTO | M17: NO | N17: Supervisor o Apoyo a la supervisión y contratista | O17: Inicio del contrato | P17: finalización del contrato | Q17: Seguimiento al mercado | R17: Mensual
B18: =+EVALUACION!B19 -> EJECUCIÓN | C18: =+EVALUACION!C19 -> Repuestos en mal estado o que no cumplan con los estandares de calidad requeridos | G18: Antes de comprar nrepuesto se deberá realizar la aprobación de las fichas técnicas de los repuestos por parte de la ALS | I18: =+EVALUACION!I19 -> 1 | J18: =+EVALUACION!J19 -> 3 | K18: =+I18+J18 -> 4 | L18: =IF(K18<=4,"BAJO",IF(K18=5,"MEDIO",IF(K18=6,"ALTO",IF(K18=7,"ALTO","EXTREMO")))) -> BAJO | M18: NO | N18: Supervisor o Apoyo a la supervisión y contratista | O18: Cuando se realicen los mantenimiento preventivos | P18: finalización del contrato | Q18: Solicitud de las fichas técnicas de repuestos previo al mantenimiento | R18: Mensual
B19: =+EVALUACION!B20 -> EJECUCIÓN | C19: =+EVALUACION!C20 -> Suspensión del contrato por causas de fuerza mayor, caso fortuito y pandemias | G19: Durante la etapa de diseño del proceso el formulación del área responable y el área de contratos debrá revisar los documentos del proceso, haciendo énfasis en que los requisitos habilitantes estén acorde al objeto a contratar y no se planteen exigencias inalcanzables o muy restrictivas, ediante la coparqación con procesos similares de otras etidades. | I19: =+EVALUACION!I20 -> 1 | J19: =+EVALUACION!J20 -> 4 | K19: =+I19+J19 -> 5 | L19: =IF(K19<=4,"BAJO",IF(K19=5,"MEDIO",IF(K19=6,"ALTO",IF(K19=7,"ALTO","EXTREMO")))) -> MEDIO | M19: NO | N19: Supervisor o Apoyo a la supervisión y contratista | O19: Inicio del contrato | P19: finalización del contrato | Q19: Seguimiento a la ejecucióm | R19: Mensual
B20: =+EVALUACION!B21 -> EJECUCIÓN | C20: =+EVALUACION!C21 -> Defectos en los equipos, posterior al mantenimiento preventivo y/o correctivo. | G20: Cada que se realice un mantenimeinto se deberá hacer eguimiento y aprobación al mismo por parte del apoyo a la supervisión | I20: =+EVALUACION!I21 -> 2 | J20: =+EVALUACION!J21 -> 4 | K20: =+I20+J20 -> 6 | L20: =IF(K20<=4,"BAJO",IF(K20=5,"MEDIO",IF(K20=6,"ALTO",IF(K20=7,"ALTO","EXTREMO")))) -> ALTO | M20: NO | N20: Supervisor o Apoyo a la supervisión y contratista | O20: Inicio del contrato | P20: finalización del contrato | Q20: Seguimiento a la bitacora de intervención de equipos | R20: Mensual
B21: =+EVALUACION!B22 -> EJECUCIÓN | C21: =+EVALUACION!C22 -> Accidentes, desatres naturales, contingencias y/o emergencias presentados en las instalaciones de la entidad que afecten o dañene equipos objeto de mantenimiento y/o otros bienes | G21: En caso de ocurrencia de un accidente, desastre natural, contingencia, y/o emergencia el contratista deberá contar e implementar un protocolo de continuidad del servicio en la entidad y a su vez la entidad deberá contar e aplicar las garantias de las pólizas, a´si como contar e impletar el protocolo de continuidad del servicio de la ALS | I21: =+EVALUACION!I22 -> 2 | J21: =+EVALUACION!J22 -> 5 | K21: =+I21+J21 -> 7 | L21: =IF(K21<=4,"BAJO",IF(K21=5,"MEDIO",IF(K21=6,"ALTO",IF(K21=7,"ALTO","EXTREMO")))) -> ALTO | M21: NO | N21: Supervisor o Apoyo a la supervisión y contratista | O21: Inicio del contrato | P21: finalización del contrato | Q21: Seguimiento a la bitacora de intervención de equipos | R21: Mensual
B22: =+EVALUACION!B23 -> EJECUCIÓN | C22: =+EVALUACION!C23 -> Daños a los equipos objeto de mantenimiento y/o otros bienes | G22: 1. En caso de ocurrencia de un accidente, desastre natural, contingencia, y/o emergencia el contratista deberá contar con e implementar un protocolo de continuidad del servicio en la entidad y a su vez la entidad deberá contar con y aplicar las garantias de las pólizas de los equipos y bienes que sean propiedad de la enidad 2. La alcaldia deberá asignar los computadores y demas equipos de la entidad a empleados y contratistas y hacer efectiva(s) la(s) cláusula(s) de estos equipos. | I22: =+EVALUACION!I23 -> 3 | J22: =+EVALUACION!J23 -> 4 | K22: =+I22+J22 -> 7 | L22: =IF(K22<=4,"BAJO",IF(K22=5,"MEDIO",IF(K22=6,"ALTO",IF(K22=7,"ALTO","EXTREMO")))) -> ALTO | M22: NO | N22: Supervisor o Apoyo a la supervisión y contratista | O22: Inicio del contrato | P22: finalización del contrato | Q22: Seguimiento a la bitacora de intervención de equipos | R22: Mensual
B23: =+EVALUACION!B24 -> EJECUCIÓN | C23: =+EVALUACION!C24 -> Baja disponibilidad de repuestos en el mercado | G23: Seguimiento por parte del Apoyo a la supervisión de los precios de mercado. En caso de alza muy significativa de los precios de repuestos, el contratista deberá buscar alternativas para subsabar el inconveniente, inclyendo cambio de equipos. | I23: =+EVALUACION!I24 -> 1 | J23: =+EVALUACION!J24 -> 2 | K23: =+I23+J23 -> 3 | L23: =IF(K23<=4,"BAJO",IF(K23=5,"MEDIO",IF(K23=6,"ALTO",IF(K23=7,"ALTO","EXTREMO")))) -> BAJO | M23: NO | N23: Supervisor o Apoyo a la supervisión y contratista | O23: Inicio del contrato | P23: finalización del contrato | Q23: Seguimiento a la bitacora de intervención de equipos | R23: Mensual
B24: =+EVALUACION!B25 -> EJECUCIÓN | C24: =+EVALUACION!C25 -> Nuevos desarrollos técnologicos o estandares que influyen en la ejecución del contrato | G24: Seguimiento permanente por parte del Apoyo a la supervisión sobre avances tecnológicos | I24: =+EVALUACION!I25 -> 1 | J24: =+EVALUACION!J25 -> 1 | K24: =+I24+J24 -> 2 | L24: =IF(K24<=4,"BAJO",IF(K24=5,"MEDIO",IF(K24=6,"ALTO",IF(K24=7,"ALTO","EXTREMO")))) -> BAJO | M24: NO | N24: Supervisor o Apoyo a la supervisión y contratista | O24: Inicio del contrato | P24: finalización del contrato | Q24: Seguimiento a la bitacora de intervención de equipos | R24: Mensual
B25: =+EVALUACION!B26 -> PLANEACIÓN | C25: =+EVALUACION!C26 -> Cambios en el marco regulatorio o normatividad aplicable al proyecto. | G25: 1. Seguimiento permanente al comportamiento del mercado nacional e internacional por parte del apoyo a la supervisión del contrato 2. El contratista deberá contar con un listado de proveedores que permita contratar a precios rezonabes y frecer la catidad de productos requeridos. | I25: 1 | J25: 2 | K25: =+I25+J25 -> 3 | L25: =IF(K25<=4,"BAJO",IF(K25=5,"MEDIO",IF(K25=6,"ALTO",IF(K25=7,"ALTO","EXTREMO")))) -> BAJO | M25: NO | N25: Supervisor o Apoyo a la supervisión y contratista | O25: Inicio del contrato | P25: finalización del contrato | Q25: Seguimiento a la bitacora de intervención de equipos | R25: Mensual
B26: =+EVALUACION!B27 -> EJECUCIÓN | C26: =+EVALUACION!C27 -> Variación de los precios del mercado | G26: 1. Seguimiento permanente al comportamiento del mercado nacional e internacional por parte del apoyo a la supervisión del contrato 2. El contratista deberá contar con un listado de proveedores que permita contratar a precios rezonabes y frecer la catidad de productos requeridos. | I26: =+EVALUACION!I27 -> 1 | J26: =+EVALUACION!J27 -> 3 | K26: =+I26+J26 -> 4 | L26: =IF(K26<=4,"BAJO",IF(K26=5,"MEDIO",IF(K26=6,"ALTO",IF(K26=7,"ALTO","EXTREMO")))) -> BAJO | M26: NO | N26: Supervisor o Apoyo a la supervisión y contratista | O26: Inicio del contrato | P26: finalización del contrato | Q26: Seguimiento a la ejecucióm | R26: Mensual
C28: Categoria del Riesgo | H28: Impacto del Riesgo
B29: Probabilidad | C29: Catagoria | F29: Valoración | H29: Categoria | J29: Valoración | N29: Categoria del Riesgo
C30: Raro (puede ocurrir excepcionalmente) | F30: 1 | H30: Insignificante | J30: 1 | N30: Valoración del Riesgo | P30: Categoría
C31: Improbable (puede ocurrir ocasionalmente) | F31: 2 | H31: Menor | J31: 2 | N31: 8, 9 y 10 | P31: Riesgo extremo
C32: Posible (puede ocurrir en cualquier momento futuro) | F32: 3 | H32: Moderado | J32: 3 | N32: 6 y 7 | P32: Riesgo alto
C33: Probable (probablemente va a ocurrir) | F33: 4 | H33: Mayor | J33: 4 | N33: 5 | P33: Riesgo medio
C34: Casi cierto (ocurre en la mayoria de circunstancias) | F34: 5 | H34: Catastrófico | J34: 5 | N34: 2, 3 y 4 | P34: Riesgo bajo
C36: Valoración del Riesgo
C37: Calificación Cualitativa | G37: Obstruye la ejecución del contrato de manera intrascendente. | I37: Dificulta la ejecución del contrato de manera baja, aplicando medidas mínimas se pueden lograr el objeto contractual | L37: Afecta la ejecución del contrato sin alterar el beneficio para las partes | N37: Obstruye la ejecución del contrato sustancialmente pero aun así permite la consecución del objeto contractual | P37: Perturba la ejecución del contrato de manera grave imposibilitando la consecución del objeto contractual.
C38: Calificación Monetaria | G38: Los sobrecostos no representan más del uno por ciento (1%) del valor del contrato. | I38: Los sobrecostos no representan más del cinco por ciento (5%) del valor del contrato. | L38: Genera un impacto sobre el valor del contrato entre el cinco (5%) y el quince por ciento (15%). | N38: Incrementa el valor del contrato entre el quince (15%) y el treinta por ciento (30%). | P38: Impacto sobre el valor del contrato en más del treinta por ciento (30%).
C39: Catagoria | F39: Valoración | G39: Insignificante | I39: Menor | L39: Moderado | N39: Mayor | P39: Catastrófico
G40: 1 | I40: 2 | L40: 3 | N40: 4 | P40: 5
C41: Raro (puede ocurrir excepcionalmente) | F41: 1 | G41: 2 | I41: 3 | L41: 4 | N41: 5 | P41: 6
C42: Improbable (puede ocurrir ocasionalmente) | F42: 2 | G42: 3 | I42: 4 | L42: 5 | N42: 6 | P42: 7
C43: Posible (puede ocurrir en cualquier momento futuro) | F43: 3 | G43: 4 | I43: 5 | L43: 6 | N43: 7 | P43: 8
C44: Probable (probablemente va a ocurrir) | F44: 4 | G44: 5 | I44: 6 | L44: 7 | N44: 8 | P44: 9
C45: Casi cierto (ocurre en la mayoria de circunstancias) | F45: 5 | G45: 6 | I45: 7 | L45: 8 | N45: 9 | P45: 10

Sheet EVALUACION
C2: MATRIZ DE RIESGOS DE CONTRATACIÓN | K2: Código: GCO-GCI-F164 Versión: 02 Vigencia: 01 de diciembre de 2022 Caso HOLA: 280117
B6: Objeto Contractual: CONTRATAR A MONTO AGOTABLE LOS MANTENIMIENTOS PREVENTIVOS Y/O CORRECTIVOS DE LOS EQUIPOS QUE CONFORMAN LA INFRAESTRUCTURA TECNOLÓGICA O CUALQUIER ELEMENTO ELECTRÓNICO EXISTENTE Y/O DE PROPIEDAD DEL FONDO DE DESARROLLO LOCAL DE SUBA Y SUS SEDES; INCLUIDO EL SUMINISTRO, INSTALACIÓN Y PUESTA EN FUNCIONAMIENTO DE REPUESTOS (BOLSA DE REPUESTOS)
B7: INSTRUCCIONES PARA LA IDENTIFICACIÓN, ANALISIS, EVALUACIÓN , ASIGNACIÓN Y TRATAMIENTO DE RIESGOS EN LA CONTRATACIÓN
B8: 1) Diligencie el objeto contractual y seleccione la(s) etapas y los riesgos que aplican al objeto contractual, de acuerdo a lo definido en la hoja de "IDENTIFICACIÓN Y ANÁLISIS"
B9: 2) Describa las consecuencias de la ocurrencia del Riesgo/evento.
B10: 3) Asigne la probabilidad de ocurrencia del riesgo, de conformidad con la tabla de probabilidad y la valoración del riesgo (Cualitativa o Monetaria)
B11: 4) Asigne el impacto que generaría la materialización del riesgo, de conformidad con la tabla de impacto y la valoración del riesgo (Cualitativa o Monetaria)
B12: 5) Al realizar las anteriores actividades se obtendrá la calificación total y la valoración del riesgo (prioridad).
B13: 6) Continúe en la hoja de "EVALUACIÓN DE CONTROLES"
B15: CALIFICACIÓN | H15: Cualitativa
B16: ETAPA | C16: Descripción (Que puede pasar y, cómo puede ocurrir) | H16: Consecuencias de la ocurrencia del evento | I16: Probabilidad de Ocurrencia | J16: Impacto | K16: Calificación Total | L16: Prioridad
B17: SELECCIÓN | C17: Declaratoria de desierto del Proceso de selección | H17: Incumplimiento en la satisfacción de las necesidades de la entidad. Incumplimiento de las metas propuestas por la entidad. | I17: 1 | J17: 2 | K17: =I17+J17 -> 3 | L17: =IF(K17<=4,"BAJO",IF(K17=5,"MEDIO",IF(K17=6,"ALTO",IF(K17=7,"ALTO","EXTREMO")))) -> BAJO
B18: EJECUCIÓN | C18: Incumplimiento del contratista en cuanto a las obligaciones, cantidad y/o calidad de los bienes a entregar y/o ejecución oportuna del objeto a contratar. | H18: Incumplimiento del objeto o de las obligaciones contractuales | I18: 3 | J18: 3 | K18: =I18+J18 -> 6 | L18: =IF(K18<=4,"BAJO",IF(K18=5,"MEDIO",IF(K18=6,"ALTO",IF(K18=7,"ALTO","EXTREMO")))) -> ALTO
B19: EJECUCIÓN | C19: Repuestos en mal estado o que no cumplan con los estandares de calidad requeridos | H19: Reproceso de actividades que retrasan la ejecución del cronograma y entrega final | I19: 1 | J19: 3 | K19: =+I19+J19 -> 4 | L19: =IF(K19<=4,"BAJO",IF(K19=5,"MEDIO",IF(K19=6,"ALTO",IF(K19=7,"ALTO","EXTREMO")))) -> BAJO
B20: EJECUCIÓN | C20: Suspensión del contrato por causas de fuerza mayor, caso fortuito y pandemias | H20: Retraso en la ejecución del contrato | I20: 1 | J20: 4 | K20: =+I20+J20 -> 5 | L20: =IF(K20<=4,"BAJO",IF(K20=5,"MEDIO",IF(K20=6,"ALTO",IF(K20=7,"ALTO","EXTREMO")))) -> MEDIO
B21: EJECUCIÓN | C21: Defectos en los equipos, posterior al mantenimiento preventivo y/o correctivo. | H21: Reproceso de actividades que retrasan la ejecución del cronograma y entrega final | I21: 2 | J21: 4 | K21: =+I21+J21 -> 6 | L21: =IF(K21<=4,"BAJO",IF(K21=5,"MEDIO",IF(K21=6,"ALTO",IF(K21=7,"ALTO","EXTREMO")))) -> ALTO
B22: EJECUCIÓN | C22: Accidentes, desatres naturales, contingencias y/o emergencias presentados en las instalaciones de la entidad que afecten o dañene equipos objeto de mantenimiento y/o otros bienes | H22: interrupción total o parcial del funcionamiento de la Alcaldía Local de Suba - ALS. Interrupción en el trabajo algunos o todos los empleados y/o contratistas de la ALS. | I22: 2 | J22: 5 | K22: =+I22+J22 -> 7 | L22: =IF(K22<=4,"BAJO",IF(K22=5,"MEDIO",IF(K22=6,"ALTO",IF(K22=7,"ALTO","EXTREMO")))) -> ALTO
B23: EJECUCIÓN | C23: Daños a los equipos objeto de mantenimiento y/o otros bienes | H23: interrupción total o parcial del funcionamiento de la Alcaldía Local de Suba - ALS. Interrupción en el trabajo algunos o todos los empleados y/o contratistas de la ALS. | I23: 3 | J23: 4 | K23: =+I23+J23 -> 7 | L23: =IF(K23<=4,"BAJO",IF(K23=5,"MEDIO",IF(K23=6,"ALTO",IF(K23=7,"ALTO","EXTREMO")))) -> ALTO
B24: EJECUCIÓN | C24: Baja disponibilidad de repuestos en el mercado | H24: Aumento de costos asociados a la reparación y mantenimiento de equipos. | I24: 1 | J24: 2 | K24: =+I24+J24 -> 3 | L24: =IF(K24<=4,"BAJO",IF(K24=5,"MEDIO",IF(K24=6,"ALTO",IF(K24=7,"ALTO","EXTREMO")))) -> BAJO
B25: EJECUCIÓN | C25: Nuevos desarrollos técnologicos o estandares que influyen en la ejecución del contrato | H25: Atraso, inclumplimiento del contrato | I25: 1 | J25: 1 | K25: =+I25+J25 -> 2 | L25: =IF(K25<=4,"BAJO",IF(K25=5,"MEDIO",IF(K25=6,"ALTO",IF(K25=7,"ALTO","EXTREMO")))) -> BAJO
B26: PLANEACIÓN | C26: ='IDENTIFICACION Y ANALISIS'!B57 -> Cambios en el marco regulatorio o normatividad aplicable al proyecto. | H26: Atraso, inclumplimiento del contrato | I26: 2 | J26: 1 | K26: =+I26+J26 -> 3 | L26: =IF(K26<=4,"BAJO",IF(K26=5,"MEDIO",IF(K26=6,"ALTO",IF(K26=7,"ALTO","EXTREMO")))) -> BAJO
B27: EJECUCIÓN | C27: Variación de los precios del mercado | H27: Menor cantidad de mantenimientos preventivos y correctivos | I27: 1 | J27: 3 | K27: =+I27+J27 -> 4 | L27: =IF(K27<=4,"BAJO",IF(K27=5,"MEDIO",IF(K27=6,"ALTO",IF(K27=7,"ALTO","EXTREMO")))) -> BAJO
B30: Probabilidad | C30: Catagoria | E30: Valoración | G30: Impacto | H30: Categoria | I30: Valoración
C31: Raro (puede ocurrir excepcionalmente) | E31: 1 | H31: Insignificante | I31: 1
C32: Improbable (puede ocurrir ocasionalmente) | E32: 2 | H32: Menor | I32: 2
C33: Posible (puede ocurrir en cualquier momento futuro) | E33: 3 | H33: Moderado | I33: 3
C34: Probable (probablemente va a ocurrir) | E34: 4 | H34: Mayor | I34: 4
C35: Casi cierto (ocurre en la mayoria de circunstancias) | E35: 5 | H35: Catastrófico | I35: 5
C37: Valoración del Riesgo
C38: Calificación Cualitativa | F38: Obstruye la ejecución del contrato de manera intrascendente. | G38: Dificulta la ejecución del contrato de manera baja, aplicando medidas mínimas se pueden lograr el objeto contractual | H38: Afecta la ejecución del contrato sin alterar el beneficio para las partes | I38: Obstruye la ejecución del contrato sustancialmente pero aun así permite la consecución del objeto contractual | K38: Perturba la ejecución del contrato de manera grave imposibilitando la consecución del objeto contractual.
C39: Calificación Monetaria | F39: Los sobrecostos no representan más del uno por ciento (1%) del valor del contrato. | G39: Los sobrecostos no representan más del cinco por ciento (5%) del valor del contrato. | H39: Genera un impacto sobre el valor del contrato entre el cinco (5%) y el quince por ciento (15%). | I39: Incrementa el valor del contrato entre el quince (15%) y el treinta por ciento (30%). | K39: Impacto sobre el valor del contrato en más del treinta por ciento (30%).
C40: Categoría | E40: Valoración | F40: Insignificante | G40: Menor | H40: Moderado | I40: Mayor | K40: Catastrófico
F41: 1 | G41: 2 | H41: 3 | I41: 4 | K41: 5
C42: Raro (puede ocurrir excepcionalmente) | E42: 1 | F42: 2 | G42: 3 | H42: 4 | I42: 5 | K42: 6
C43: Improbable (puede ocurrir ocasionalmente) | E43: 2 | F43: 3 | G43: 4 | H43: 5 | I43: 6 | K43: 7
C44: Posible (puede ocurrir en cualquier momento futuro) | E44: 3 | F44: 4 | G44: 5 | H44: 6 | I44: 7 | K44: 8
C45: Probable (probablemente va a ocurrir) | E45: 4 | F45: 5 | G45: 6 | H45: 7 | I45: 8 | K45: 9
C46: Casi cierto (ocurre en la mayoria de circunstancias) | E46: 5 | F46: 6 | G46: 7 | H46: 8 | I46: 9 | K46: 10
G48: Categoria del Riesgo
G49: Valoración del Riesgo | H49: Categoría
...

Sheet ASIGNACION Y TRATAMIENTO
C2: MATRIZ DE RIESGOS DE CONTRATACIÓN | W2: Código: GCO-GCI-F164 Versión: 02 Vigencia: 01 de diciembre de 2022 Caso HOLA: 280117
B6: Objeto: COMPRA Y RENOVACIÓN DE LAS LICENCIAS DE LA SUITE ADOBE CREATIVE CLOUD, CON DESTINO AL FONDO DE DESARROLLO LOCAL DE SAN CRISTÓBAL, GARANTIZANDO LA CONTINUIDAD EN EL USO DE LAS HERRAMIENTAS TECNOLÓGICAS REQUERIDAS PARA EL DESARROLLO DE SUS FUNCIONES MISIONALES
B7: Esta matriz es un documento anexo del Estudio Previo
B10: No | C10: Descripción (Que puede pasar y, cómo puede ocurrir) | D10: Etapa | E10: Clase | F10: Fuente | G10: Consecuencias de la ocurrencia del evento | H10: Probabilidad | I10: Impacto | J10: Calificación total | K10: Prioridad | L10: ¿A quien se le asigna? | M10: % | N10: Tratamiento/Controles a ser implementados | O10: Probabilidad | P10: Impacto | Q10: Calificación total | R10: Prioridad | S10: ¿Afecta el equilibrio económico del contrato? | T10: Persona responsable por implementar el tratamiento | U10: Fecha estimada en que se inicia el tratamiento | V10: Fecha estimada en que se completa el tratamiento | W10: ¿Cómo se realiza el monitoreo? | X10: Periodicidad ¿Cuándo?
B11: 1 | C11: =+'EVALUACION CON CONTROLES'!C17:F17 -> Incumplimiento del contratista en cuanto a las obligaciones, cantidad y/o calidad de los bienes a entregar y/o ejecución oportuna del objeto a contratar. | D11: =+'EVALUACION CON CONTROLES'!B17 -> EJECUCIÓN | E11: =VLOOKUP(C11,'IDENTIFICACION Y ANALISIS'!$B$19:$F$67,3,FALSE) -> General | F11: =VLOOKUP(C11,'IDENTIFICACION Y ANALISIS'!$B$19:$F$67,4,FALSE) -> Externo | G11: =+EVALUACION!H18 -> Incumplimiento del objeto o de las obligaciones contractuales | H11: =+EVALUACION!I18 -> 3 | I11: =+EVALUACION!J18 -> 3 | J11: =+EVALUACION!K18 -> 6 | K11: =+EVALUACION!L18 -> ALTO | L11: CONTRATISTA Y SDG | M11: 50% contratista; 50% ALSC | N11: =+'EVALUACION CON CONTROLES'!G17 -> 1. Verificación por parte del apoyo a la supervisión de cada uno de los item solicitados y entregados en evento a realizar 2. El contratista deberá implementar medidas de seguimiento y evaluación de su personal (como realizar control de recorridos y rutinas del personal) para que ejerza sus labores de conformidad con los requisitos de la Entidad. | O11: 1 | P11: =+'EVALUACION CON CONTROLES'!J17 -> 3 | Q11: =+'EVALUACION CON CONTROLES'!K17 -> 6 | R11: =+'EVALUACION CON CONTROLES'!L17 -> ALTO | S11: SI | T11: =+'EVALUACION CON CONTROLES'!N17 -> Supervisor o Apoyo a la supervisión y contratista | U11: =+'EVALUACION CON CONTROLES'!O17 -> Inicio del contrato | V11: Finalización de la vigencia de la licencia. | W11: Seguimiento en la entrega del producto e instalación. | X11: Anual
B12: 2 | C12: Problemas técnicos o incompatibilidad | D12: =+'EVALUACION CON CONTROLES'!B18 -> EJECUCIÓN | E12: Especifico | F12: Externo | G12: Riesgo de que el software no funcione correctamente en el entorno del cliente, afectando la productividad | H12: =+EVALUACION!I19 -> 1 | I12: =+EVALUACION!J19 -> 3 | J12: =+EVALUACION!K19 -> 4 | K12: =+EVALUACION!L19 -> BAJO | L12: CONTRATISTA | M12: 1 | N12: Validar la descripción del producto a adquirir, validación de los equipos a donde se instala la licencia. | O12: 3 | P12: =+'EVALUACION CON CONTROLES'!J18 -> 3 | Q12: =+'EVALUACION CON CONTROLES'!K18 -> 4 | R12: ALTO | S12: NO | T12: Areá tecnica | U12: Al momneto de inciar la actualización de la licencia, y cada vez que exista una actualización de la misma. | V12: Finalización de la vigencia de la licencia. | W12: Validando los códigos de licencaimiento y acceso a las plataformas sin ningun problema ni costo adicional. | X12: Bimestral.
B13: 3 | C13: Incumplimiento en la entrega o soporte | D13: =+'EVALUACION CON CONTROLES'!B19 -> EJECUCIÓN | E13: General | F13: Externo | G13: Riesgo de que el proveedor no cumpla con los tiempos o calidad del servicio pactado | H13: =+EVALUACION!I20 -> 1 | I13: =+EVALUACION!J20 -> 4 | J13: =+EVALUACION!K20 -> 5 | K13: BAJO | L13: CONTRATISTA | M13: 1 | N13: 1. Incluir mecanismos de revisión interna antes de compartir información con Adobe o auditores externos. 2. Preparar estrategias para continuidad operativa en caso de fallos o retrasos | O13: 2 | P13: =+'EVALUACION CON CONTROLES'!J19 -> 4 | Q13: =+'EVALUACION CON CONTROLES'!K19 -> 5 | R13: =+'EVALUACION CON CONTROLES'!L19 -> MEDIO | S13: SI | T13: =+'EVALUACION CON CONTROLES'!N19 -> Supervisor o Apoyo a la supervisión y contratista | U13: Durante la ejecución del contrato. | V13: Finalización de la vigencia de la licencia. | W13: Seguimiento constante de soporte y actualizaciones. | X13: Cuándo se requiera.
B14: 4 | C14: Falsa percepción de cumplimiento | D14: =+'EVALUACION CON CONTROLES'!B20 -> EJECUCIÓN | E14: General | F14: Externo | G14: La complejidad del licenciamiento puede llevar a errores involuntarios, como compartir información no controlada con auditores | H14: =+EVALUACION!I21 -> 2 | I14: =+EVALUACION!J21 -> 4 | J14: =+EVALUACION!K21 -> 6 | K14: =+EVALUACION!L21 -> ALTO | L14: CONTRATISTA | M14: 1 | N14: No permitir el acceso a las plataformas, con contraseñas de la entidad, en un soporte por parte del proveedor. | O14: =+'EVALUACION CON CONTROLES'!I20 -> 2 | P14: =+'EVALUACION CON CONTROLES'!J20 -> 4 | Q14: =+'EVALUACION CON CONTROLES'!K20 -> 6 | R14: =+'EVALUACION CON CONTROLES'!L20 -> ALTO | S14: =+'EVALUACION CON CONTROLES'!M20 -> NO | T14: =+'EVALUACION CON CONTROLES'!N20 -> Supervisor o Apoyo a la supervisión y contratista | U14: Cuándo se requiera, llevar a cabo procesos de actualizacoión. | V14: Finalización de la vigencia de la licencia. | W14: Seguimiento constante de soporte y actualizaciones. | X14: Cuándo se requiera.
B15: 5 | C15: Accidentes, desatres naturales, contingencias y/o emergencias presentados en las instalaciones de la entidad que afecten o dañene equipos en donde se encuentre instalada la licencia y sus respectivos codigos de acceso. | D15: EJECUCIÓN | E15: Especifico | F15: Externo | G15: Se debe instalar nuevamente el licenciamiento. | H15: =+EVALUACION!I22 -> 2 | I15: =+EVALUACION!J22 -> 5 | J15: =+EVALUACION!K22 -> 7 | K15: MEDIO | L15: SDG | M15: 1 | N15: Contar con la solución para volver a instalar el Software y dejarlo funcional, en los equipos que se tienne establecidos al interior del FDLSC. | O15: =+'EVALUACION CON CONTROLES'!I21 -> 2 | P15: =+'EVALUACION CON CONTROLES'!J21 -> 5 | Q15: =+'EVALUACION CON CONTROLES'!K21 -> 7 | R15: =+'EVALUACION CON CONTROLES'!L21 -> ALTO | S15: =+'EVALUACION CON CONTROLES'!M21 -> NO | T15: =+'EVALUACION CON CONTROLES'!N21 -> Supervisor o Apoyo a la supervisión y contratista | U15: Cuándo se requiera. | V15: Finalización de la vigencia de la licencia. | W15: =+'EVALUACION CON CONTROLES'!Q21 -> Seguimiento a la bitacora de intervención de equipos | X15: Cuándo se requiera.
B16: 8 | C16: =+EVALUACION!C25 -> Nuevos desarrollos técnologicos o estandares que influyen en la ejecución del contrato | D16: EJECUCIÓN | E16: Especifico | F16: Externo | G16: El contratista o proveedor, debe contar con las actualizaciones pertinentes para mantener funcional el software. | H16: =+EVALUACION!I25 -> 1 | I16: =+EVALUACION!J25 -> 1 | J16: =+EVALUACION!K25 -> 2 | K16: =+EVALUACION!L25 -> BAJO | L16: CONTRATISTA Y SDG | M16: 50% contratista; 50% ALSC | N16: Contar con los respectivos accesos a las plataformas, contraseñas y usuarios, permisos para llevar a cabo la actualización de la licencia. | O16: =+'EVALUACION CON CONTROLES'!I24 -> 1 | P16: =+'EVALUACION CON CONTROLES'!J24 -> 1 | Q16: =+'EVALUACION CON CONTROLES'!K24 -> 2 | R16: MEDIO | S16: NO | T16: =+'EVALUACION CON CONTROLES'!N24 -> Supervisor o Apoyo a la supervisión y contratista | U16: Cuándo se requiera. | V16: Finalización de la vigencia de la licencia. | W16: =+'EVALUACION CON CONTROLES'!Q24 -> Seguimiento a la bitacora de intervención de equipos | X16: Cuándo se requiera necesario, actualizaciones
F18: Categoria | J18: Impacto del Riesgo
E19: Probabilidad | F19: Catagoria | G19: Valoración | J19: Categoria | L19: Valoración
F20: Raro (puede ocurrir excepcionalmente) | G20: 1 | J20: Insignificante | L20: 1
F21: Improbable (puede ocurrir ocasionalmente) | G21: 2 | J21: Menor | L21: 2
F22: Posible (puede ocurrir en cualquier momento futuro) | G22: 3 | J22: Moderado | L22: 3
F23: Probable (probablemente va a ocurrir) | G23: 4 | J23: Mayor | L23: 4
F24: Casi cierto (ocurre en la mayoria de circunstancias) | G24: 5 | J24: Catastrófico | L24: 5
D26: Valoración del Riesgo
D27: Catagoria | E27: Valoración | F27: Insignificante | H27: Menor | J27: Moderado | K27: Mayor | L27: Catastrófico | P27: Categoria del Riesgo
F28: 1 | H28: 2 | J28: 3 | K28: 4 | L28: 5 | P28: Valoración del Riesgo | S28: Categoría
D29: Raro (puede ocurrir excepcionalmente) | E29: 1 | F29: 2 | H29: 3 | J29: 4 | K29: 5 | L29: 6 | P29: 8, 9 y 10 | S29: Riesgo extremo
D30: Improbable (puede ocurrir ocasionalmente) | E30: 2 | F30: 3 | H30: 4 | J30: 5 | K30: 6 | L30: 7 | P30: 6 y 7 | S30: Riesgo alto
D31: Posible (puede ocurrir en cualquier momento futuro) | E31: 3 | F31: 4 | H31: 5 | J31: 6 | K31: 7 | L31: 8 | P31: 5 | S31: Riesgo medio
D32: Probable (probablemente va a ocurrir) | E32: 4 | F32: 5 | H32: 6 | J32: 7 | K32: 8 | L32: 9 | P32: 2, 3 y 4 | S32: Riesgo bajo
D33: Casi cierto (ocurre en la mayoria de circunstancias) | E33: 5 | F33: 6 | H33: 7 | J33: 8 | K33: 9 | L33: 10
B38: CONTRATISTA
B39: SDG
B40: CONTRATISTA Y SDG
