Workbook
Name \a: [1]Insumos!#REF!
Name \a: [1]Insumos!#REF!
Name \a: [1]Insumos!#REF!
Name \b: [2]INSUMOS!#REF!
Name \b: [2]INSUMOS!#REF!
Name \b: [2]INSUMOS!#REF!
Name \i: [2]INSUMOS!#REF!
Name \i: [2]INSUMOS!#REF!
Name \i: [2]INSUMOS!#REF!
Name \m: [2]INSUMOS!#REF!
Name \m: [2]INSUMOS!#REF!
Name \m: [2]INSUMOS!#REF!
Name \r: [2]INSUMOS!#REF!
Name \r: [2]INSUMOS!#REF!
Name \r: [2]INSUMOS!#REF!
Name \t: [2]INSUMOS!#REF!
Name \t: [2]INSUMOS!#REF!
Name \t: [2]INSUMOS!#REF!
Name \x: [2]INSUMOS!#REF!
Name \x: [2]INSUMOS!#REF!
Name \x: [2]INSUMOS!#REF!
Name _________________________________apu1: [2]INSUMOS!#REF!
Name _________________________________apu1: [2]INSUMOS!#REF!
Name _________________________________apu1: [2]INSUMOS!#REF!
Name ________________________________apu1: [2]INSUMOS!#REF!
Name ________________________________apu1: [2]INSUMOS!#REF!
Name ________________________________apu1: [2]INSUMOS!#REF!
Name _______________________________apu1: [2]INSUMOS!#REF!
Name _______________________________apu1: [2]INSUMOS!#REF!
Name _______________________________apu1: [2]INSUMOS!#REF!
Name ______________________________apu1: [2]INSUMOS!#REF!
Name ______________________________apu1: [2]INSUMOS!#REF!
Name ______________________________apu1: [2]INSUMOS!#REF!
Name ____________________________apu1: [2]INSUMOS!#REF!
Name ____________________________apu1: [2]INSUMOS!#REF!
Name ____________________________apu1: [2]INSUMOS!#REF!
Name ___________________________apu1: [2]INSUMOS!#REF!
Name ___________________________apu1: [2]INSUMOS!#REF!
Name ___________________________apu1: [2]INSUMOS!#REF!
Name __________________________apu1: [2]INSUMOS!#REF!
Name __________________________apu1: [2]INSUMOS!#REF!
Name __________________________apu1: [2]INSUMOS!#REF!
Name _________________________apu1: [2]INSUMOS!#REF!
Name _________________________apu1: [2]INSUMOS!#REF!
Name _________________________apu1: [2]INSUMOS!#REF!
Name ________________________apu1: [2]INSUMOS!#REF!
Name ________________________apu1: [2]INSUMOS!#REF!
Name ________________________apu1: [2]INSUMOS!#REF!
Name _______________________apu1: [2]INSUMOS!#REF!
Name _______________________apu1: [2]INSUMOS!#REF!
Name _______________________apu1: [2]INSUMOS!#REF!
Name _____________________apu1: [2]INSUMOS!#REF!
Name _____________________apu1: [2]INSUMOS!#REF!
Name _____________________apu1: [2]INSUMOS!#REF!
Name ____________________apu1: [2]INSUMOS!#REF!
Name ____________________apu1: [2]INSUMOS!#REF!
Name ____________________apu1: [2]INSUMOS!#REF!
Name ___________________apu1: [2]INSUMOS!#REF!
Name ___________________apu1: [2]INSUMOS!#REF!
Name ___________________apu1: [2]INSUMOS!#REF!

Sheet BASICO
A1: REPUBLICA DE COLOMBIA
A2: DEPARTAMENTO DEL PUTUMAYO
A3: MUNICIPIO DE SAN MIGUEL
A5: APU-BASICO
A7: =+Presupuesto!#REF! -> #REF!
A9: ACTIVIDAD:
B10: Concreto MR 21 Mpa | G10: Unidad: | H10: m3
A12: I | B12: EQUIPO
B13: DESCRIPCIÓN | D13: Tipo | E13: Tarifa/Día | F13: Rend | G13: V. Unitario.
B14: Herremienta menor | F14: 0.1 | G14: =H34*F14 -> 5130.9
E20: SUBTOTAL. | H20: =ROUND(SUM(G14:G19),0) -> 5131
A21: II | B21: MATERIALES EN OBRA.
B22: DESCRIPCIÓN | D22: Unidad | E22: Cant. | F22: Precio Unit. | G22: V. Unitario.
B23: Cemento gris | D23: kg | E23: 420 | F23: 650 | G23: =+F23*E23 -> 273000
B24: Arena | D24: m3 | E24: 0.67 | F24: 60000 | G24: =+F24*E24 -> 40200
B25: Triturado | D25: m3 | E25: 0.67 | F25: 70000 | G25: =--E25*F25 -> 46900
B26: Agua | D26: lt | E26: 210 | F26: 50 | G26: =--E26*F26 -> 10500
E28: SUBTOTAL | H28: =(SUM(G23:G26)) -> 370600
A29: III | B29: MANO DE OBRA.
A30: CAN | B30: DESCRIPCIÓN | C30: Jornal | D30: Prestac | E30: Jornal Total | F30: Rend. | G30: V. Unitario.
A31: 6 | B31: Ayudante | C31: 30000 | D31: 0.75 | E31: =+(A31*C31)+(A31*C31*D31) -> 315000 | F31: 7.5035876 | G31: =(E31)/(F31) -> 41979.919
A32: 1 | B32: Oficial | C32: 40000 | D32: 0.75 | E32: =(A32*C32)+(D32*C32*A32) -> 70000 | F32: =--F31 -> 7.5035876 | G32: =E32/F32 -> 9328.871
E34: SUBTOTAL | H34: =ROUND(SUM(G31)+(G32),0) -> 51309
A35: IV | B35: TRANSPORTE
B36: DESCRIPCIÓN | C36: Unidad | D36: Cantidad | E36: Prec.Unitario | G36: Vr. Unitario
E40: SUBTOTAL | H40: =ROUND(SUM(G37)+(G38),0) -> 0
D42: TOTAL COSTOS DIRECTOS. | H42: =SUM(H20:H41) -> 427040
A44: V | B44: COSTOS INDIRECTOS.
B45: DESCRIPCIÓN | C45: % | D45: COSTO DIRECTO | F45: V. UNITARIO
B46: ADMINISTRACIÓN | C46: 0.23 | G46: =+H42*C46 -> 98219.2
B47: IMPREVISTOS | C47: 0.04 | G47: =+H42*C47 -> 17081.6
B48: UTILIDAD | C48: 0.03 | G48: =+H42*C48 -> 12811.2
D49: TOTAL COSTOS INDIRECTOS | H49: =SUM(G45:G48) -> 128112
D51: TOTAL PRECIO UNITARIO. | H51: =H42+H49 -> 555152
A56: =+Presupuesto!A54 -> 0 | D56: =+Presupuesto!C53 -> ARQ. GUILLERMO YAMID VALLEJOS BENAVIDES
A57: =+Presupuesto!A55 -> 0 | D57: =+Presupuesto!C54 -> SECRETARIO DE PLANEACION Y OBRAS PUBLICAS
A58: =APU!#REF! -> #REF! | D58: =+Presupuesto!C55 -> SAN MIGUEL - PUTUMAYO

Sheet MEMORIA DE CANTIDADES DE OBRA 
B1: SECRETARIA DE PLANEACIÓN Y OBRAS PÚBLICAS | C1: CODIGO | E1: 103
C2: SERIE Y SUBSERIE | E2: 51
B3: NIT. 800252922-2
B4: Modelo Integrado de Planeación y Gestión | C4: VERSIÓN | E4: 1
B5: PRESUPUESTO | C5: FECHA DEL FORMATO | E5: D/M/A
E6: 44216
A8: =Presupuesto!A8 -> ADECUACION Y MEJORAMIENTO DE CANCHA DE FUTBOL MUNICIPAL DE LA DORADA PUTUMAYO
A11: MEMORIA DE CANTIDADES
A13: =Presupuesto!B14 -> PRELIMINARES
A14: ITEM: 1.1
A15: =Presupuesto!B15 -> LOCALIZACIÓN Y REPLANTEO | I15: M2
A16: Observación | B16: Direccion | C16: Cant | D16: Largo | E16: Ancho | F16: Alto | G16: Área | H16: Volumen | I16: Total
B17: zona graderias | C17: 5 | D17: 55.7 | E17: 0.7 | G17: =C17*D17*E17 -> 194.95 | I17: =G17 -> 194.95
C18: 5 | D18: 55.7 | E18: 0.07 | G18: =C18*D18*E18 -> 19.495 | I18: =G18 -> 19.495
B19: zona de baños y vestuarios | C19: 1 | D19: 7.5 | E19: 6.1 | G19: =C19*D19*E19 -> 45.75 | I19: =G19 -> 45.75
I24: =+D24 -> 0
A25: total | I25: =ROUND((SUM(I17:I24)),2) -> 260.2
A27: ITEM: 1,2
A28: =Presupuesto!B16 -> DEMOLICION MANUAL DE PISO (anden) MODULO DE BAÑOS Y VESTUARIO | I28: =Presupuesto!D16 -> M2
A29: Observación | B29: Direccion | C29: Cant | D29: Largo | E29: Ancho | F29: Alto | G29: Área | H29: Volumen | I29: Total
B30: anden perimetral de zona de baños | C30: 1 | D30: 19.7 | E30: 0.7 | G30: =C30*D30*E30 -> 13.79 | I30: =G30 -> 13.79
I34: =+C34 -> 0
A36: total | I36: =ROUND((SUM(I30:I35)),2) -> 13.79
A38: ITEM: 1,3 | I38: =Presupuesto!D17 -> M3
A39: =Presupuesto!B17 -> RETIRO Y DISPOSICION DE MATERIAL SOBRANTE | B39: Direccion | C39: Cant | D39: Largo | E39: Ancho | F39: Alto | G39: Área | H39: Volumen | I39: Total
A40: Observación | I40: =D40 -> 0
B41: retiro material producto de demolicion | C41: 1 | D41: 19.7 | E41: 0.7 | F41: 0.06 | I41: =+D41*E41*F41 -> 0.8274
I42: =H42 -> 0
A45: total | I45: =ROUND((SUM(I40:I44)),2) -> 0.83
A48: =Presupuesto!B19 -> CONCRETOS Y MAMPOSTERIA
A50: ITEM: 2,1 | I50: =Presupuesto!D20 -> M3
A51: =Presupuesto!B20 -> RELLENO Y CONFORMACION MATERIAL SELECCIONADO | B51: Direccion | C51: Cant | D51: Largo | E51: Ancho | F51: Alto | G51: Área | H51: Volumen | I51: Total
A52: Observación | I52: =D52 -> 0
B53: anden perimetral de zona de baños | C53: 1 | D53: 19.7 | E53: 0.7 | F53: 0.15 | H53: =C53*D53*E53*F53 -> 2.0685 | I53: =H53 -> 2.0685
I55: =G55 -> 0
I56: =G56 -> 0
A59: total | I59: =ROUND((SUM(I52:I58)),2) -> 2.07
A62: ITEM: 2,2 | I62: =Presupuesto!D21 -> M2
A63: =Presupuesto!B21 -> CONCRETO 21 Mpa RECONSTRUCCION SECCION DE GRADERIA | B63: Direccion | C63: Cant | D63: Largo | E63: Ancho | F63: Alto | G63: Área | H63: Volumen | I63: Total
A64: Observación | I64: =D64 -> 0
...

Sheet APU
C1: SECRETARIA DE PLANEACIÓN Y OBRAS PÚBLICAS | D1: CODIGO | F1: 103
D2: SERIE Y SUBSERIE | F2: 51
C3: NIT. 800252922-2
C4: Modelo Integrado de Planeación y Gestión | D4: VERSIÓN | F4: 1
C5: PRESUPUESTO | D5: FECHA DEL FORMATO | F5: D/M/A
F6: =+Presupuesto!F6 -> 45797
A8: =Presupuesto!A8 -> ADECUACION Y MEJORAMIENTO DE CANCHA DE FUTBOL MUNICIPAL DE LA DORADA PUTUMAYO
A11: ANALISIS DE PRECIOS UNITARIOS
A13: =Presupuesto!A15 -> 1.1 | B13: =Presupuesto!B15 -> LOCALIZACIÓN Y REPLANTEO | G13: Unidad: | H13: ='MEMORIA DE CANTIDADES DE OBRA '!I15 -> M2
A15: I | B15: EQUIPO
B16: DESCRIPCIÓN | D16: Tipo | E16: Tarifa/Día | F16: Rend | G16: V. Unitario.
B17: Herremienta menor | F17: 0.1 | G17: =ROUND((H34*F17),2) -> 283.33
E20: SUBTOTAL. | H20: =SUM(G17:G19) -> 283.33
A21: II | B21: MATERIALES EN OBRA.
B22: DESCRIPCIÓN | D22: Unidad | E22: Cant. | F22: Precio Unit. | G22: V. Unitario.
G23: =ROUND((E23*F23),0) -> 0
G24: =ROUND((E24*F24),0) -> 0
G25: =ROUND((E25*F25),0) -> 0
E28: SUBTOTAL | H28: =(SUM(G23:G25)) -> 0
A29: III | B29: MANO DE OBRA.
A30: CAN | B30: DESCRIPCIÓN | C30: Jornal | D30: Prestac | E30: Jornal Total | F30: Rend | G30: V. Unitario.
A31: 1 | B31: OBREROS | C31: 60000 | D31: 0.75 | E31: =+(A31*C31)+(A31*C31*D31) -> 105000 | F31: 105 | G31: =ROUND((E31)/(F31),2) -> 1000
A32: 1 | B32: OFICIAL | C32: 110000 | D32: 0.75 | E32: =+(A32*C32)+(A32*C32*D32) -> 192500 | F32: 105 | G32: =ROUND((E32)/(F32),2) -> 1833.33
E34: SUBTOTAL | H34: =SUM(G31)+(G32) -> 2833.33
A35: IV | B35: TRANSPORTE
B36: DESCRIPCIÓN | C36: Unidad | D36: Cantidad | E36: Prec.Unitario | G36: Vr. Unitario
E40: SUBTOTAL | H40: =ROUND(SUM(G37)+(G38),0) -> 0
D42: TOTAL COSTOS DIRECTOS. | H42: =ROUND((SUM(H20:H41)),2) -> 3116.66
A44: V | B44: COSTOS INDIRECTOS.
B45: DESCRIPCIÓN | C45: % | D45: COSTO DIRECTO | F45: V. UNITARIO
B46: ADMINISTRACIÓN | C46: 0.27 | G46: =ROUND((H42*C46),2) -> 841.5
B47: IMPREVISTOS | C47: 0.02 | G47: =ROUND((H42*C47),2) -> 62.33
B48: UTILIDAD | C48: 0.03 | G48: =ROUND((H42*C48),2) -> 93.5
D49: TOTAL COSTOS INDIRECTOS | H49: =SUM(G45:G48) -> 997.33
D51: TOTAL PRECIO UNITARIO. | H51: =H42+H49 -> 4113.99
A54: ING EDISON FIGUEROA ORTIZ | E54: =Presupuesto!C53 -> ARQ. GUILLERMO YAMID VALLEJOS BENAVIDES
A55: APOYO PROFESIONAL SPOPM | E55: =Presupuesto!C54 -> SECRETARIO DE PLANEACION Y OBRAS PUBLICAS
A56: MP 54202-356581 NTS
C58: SECRETARIA DE PLANEACIÓN Y OBRAS PÚBLICAS | D58: CODIGO | F58: 103
D59: SERIE Y SUBSERIE | F59: 51
...

Sheet CRONOGRAMA
A2: CRONOGRAMA DE ACTIVIDADES | G2: SEMANA 1 | H2: SEMANA 2
A3: REHABILITACIÓN DEL SISTEMA DE ALCANTARILLADO SANITARIO Y PLUVIAL - CALLE 5, CARRERA 3, CALLE 4, CALLE 3, CARRERA 2, CARRERA 5 , CARRERA 1ª CARRERA 6- EN EL CORREGIMIENTO DE PUERTO COLÓN MUNICIPIO DE SAN MIGUEL DEPARTAMENTO DEL PUTUMAYO
A5: ITEM | B5: DESCRIPCION | C5: UNIDAD | D5: CANTIDAD | E5: VR/UNITARIO | F5: VR/TOTAL
A6: 1 | B6: PRELIMINARES
A7: 1.1 | B7: Localizacion y replanteo | C7: m2 | D7: =+Presupuesto!#REF! -> #REF! | E7: =+Presupuesto!#REF! -> #REF! | F7: =ROUND((D7*E7),0) -> #REF! | G7: =+F7 -> #REF!
B8: SUBTOTAL | F8: =+F7 -> #REF!
A9: 2 | B9: ESTRUCTURA SANITARIA Y DE PAVIMENTO | J9: 2.55
A10: 2.1 | B10: Excavacion manual | C10: m3 | D10: =+Presupuesto!#REF! -> #REF! | E10: =+Presupuesto!#REF! -> #REF! | F10: =ROUND((D10*E10),0) -> #REF! | G10: =+F10 -> #REF! | J10: 5
A11: 2.2 | B11: Retiro tuberia existente en mal estado | C11: ml | D11: =+Presupuesto!#REF! -> #REF! | E11: =+Presupuesto!#REF! -> #REF! | F11: =ROUND((D11*E11),0) -> #REF! | G11: =+F11 -> #REF! | J11: 2.4
A12: 2.3 | B12: Retiro de material de excavacion y demolicion | C12: m3 | D12: =+Presupuesto!#REF! -> #REF! | E12: =+Presupuesto!#REF! -> #REF! | F12: =ROUND((D12*E12),0) -> #REF! | G12: =+F12 -> #REF! | J12: 1.8
A13: 2.4 | B13: Relleno con material grudo de rio | C13: m3 | D13: =+Presupuesto!#REF! -> #REF! | E13: =+Presupuesto!#REF! -> #REF! | F13: =ROUND((D13*E13),0) -> #REF! | G13: =+F13 -> #REF! | J13: 3.4
A14: 2.5 | B14: Instalacion de tuberia 8" (incluye encamado en arena) | C14: ml | D14: =+Presupuesto!#REF! -> #REF! | E14: =+Presupuesto!#REF! -> #REF! | F14: =ROUND((D14*E14),0) -> #REF! | G14: =+F14 -> #REF! | J14: 2
A15: 2.6 | B15: Kit silla Yee 6" a 8" | C15: und | D15: =+Presupuesto!#REF! -> #REF! | E15: =+Presupuesto!#REF! -> #REF! | F15: =ROUND((D15*E15),0) -> #REF! | G15: =+F15 -> #REF! | J15: 6.6
A16: 2.7 | B16: Relleno con material de excavación seleccionado, compactado | C16: m3 | D16: =+Presupuesto!#REF! -> #REF! | E16: =+Presupuesto!#REF! -> #REF! | F16: =ROUND((D16*E16),0) -> #REF! | H16: =+F16 -> #REF! | J16: 1.2
A17: 2.8 | B17: Subbase compactada con material de selección | C17: m3 | D17: =+Presupuesto!#REF! -> #REF! | E17: =+Presupuesto!#REF! -> #REF! | F17: =ROUND((D17*E17),0) -> #REF! | H17: =+F17 -> #REF! | J17: 2.4
A18: 2.9 | B18: Placa en concreto rigido de 3.8 MPA, e=20 cm incluye juntas de expansion y sellado | C18: m2 | D18: =+Presupuesto!#REF! -> #REF! | E18: =+Presupuesto!#REF! -> #REF! | F18: =ROUND((D18*E18),0) -> #REF! | H18: =+F18 -> #REF! | J18: 6
A19: =+Presupuesto!#REF! -> #REF! | B19: Suministro y aplicación de curador tipo antisol para concreto rigido | C19: m2 | D19: =+Presupuesto!#REF! -> #REF! | E19: =+Presupuesto!#REF! -> #REF! | F19: =ROUND((D19*E19),0) -> #REF! | H19: =+F19 -> #REF!
B20: SUBTOTAL | F20: =+F10+F11+F12+F13+F14+F15+F16+F17+F18+F19 -> #REF!
A21: 3 | B21: ALCANTARILLADO PLUVIAL
A22: 3.1 | B22: Limpieza y sondeo de tuberia 8 y 10" | C22: ml | D22: =+Presupuesto!#REF! -> #REF! | E22: =+Presupuesto!#REF! -> #REF! | F22: =ROUND((D22*E22),0) -> #REF! | H22: =+F22 -> #REF!
A23: 3.2 | B23: Limpieza de camras de inspeción | C23: und | D23: =+'Memoria de Cantidades'!J48 -> 34 | E23: =+Presupuesto!#REF! -> #REF! | F23: =ROUND((D23*E23),0) -> #REF! | H23: =+F23 -> #REF!
A24: 3.3 | B24: Limpieza de sumideros y cajillas (inclulle tuberia sumideros a tubo principal) | C24: und | D24: =+'Memoria de Cantidades'!J50 -> 11 | E24: =+Presupuesto!#REF! -> #REF! | F24: =ROUND((D24*E24),0) -> #REF! | H24: =+F24 -> #REF!
B25: SUBTOTAL | F25: =+F22+F23+F24 -> #REF! | G25: =SUM(G7:G24) -> #REF! | H25: =SUM(H16:H24) -> #REF!
B26: TOTAL COSTO DIRECTO OBRA | F26: =+F8+F20+F25 -> #REF!
B29: =+'Memoria de Cantidades'!B52 -> ALABORÓ: | F29: =+'Memoria de Cantidades'!E52 -> Vo.Bo.
B34: =+'Memoria de Cantidades'!B56 -> 0 | F34: =+'Memoria de Cantidades'!E56 -> ARQ. GUILLERMO YAMID VALLEJOS BENAVIDES
B35: =+'Memoria de Cantidades'!B57 -> 0 | F35: =+'Memoria de Cantidades'!E57 -> SECRETARIO DE PLANEACION Y OBRAS PUBLICAS
B36: =+'Memoria de Cantidades'!B58 -> #REF! | F36: =+'Memoria de Cantidades'!E58 -> SAN MIGUEL - PUTUMAYO

Sheet Memoria de Cantidades
A1: REPUBLICA DE COLOMBIA
A2: DEPARTAMENTO DEL PUTUMAYO
A3: MUNICIPIO DE SAN MIGUEL
A5: MEMORIA DE CANTIDADES
A6: =+Presupuesto!#REF! -> #REF!
A7: ITEM | B7: Descripción | C7: Und | D7: L (m) | E7: A (m) | F7: H(m) | G7: Área(m2) | H7: Volumen(m3) | I7: Kg | J7: Unidad | K7: Cantidad
A8: 1 | B8: PRELIMINARES
A9: 1.1 | B9: Localización y replanteo | C9: m2 | K9: =+G10 -> 3.5
B10: Sector la Vega calle 3 entre crr 2 y 3 | D10: 7 | E10: 0.5 | G10: =--D10*E10 -> 3.5
A11: 1.2 | B11: Demolicion placa existente | C11: m2 | K11: =+G12 -> 1
B12: =B10 -> Sector la Vega calle 3 entre crr 2 y 3 | D12: 2.5 | E12: 0.4 | G12: =--E12*D12 -> 1
A13: 2 | B13: ESTRUCTURA SANITARIA Y DE PAVIMENTO
A14: 2.1 | B14: Excavacion manual | C14: m3 | K14: =SUM(H15:H15) -> 2.55
B15: =B12 -> Sector la Vega calle 3 entre crr 2 y 3 | D15: 3.4 | E15: 0.5 | F15: 1.5 | H15: =+D15*E15*F15 -> 2.55
A16: 2.2 | B16: Retiro tuberia existente en mal estado | C16: ml | K16: =--D17 -> 2.5
B17: =B15 -> Sector la Vega calle 3 entre crr 2 y 3 | D17: 2.5
A18: 2.3 | B18: Retiro de material de excavacion y demolicion | C18: m3 | K18: =--H19 -> 1.7
B19: =B17 -> Sector la Vega calle 3 entre crr 2 y 3 | D19: 2.5 | E19: 1.7 | F19: 0.4 | H19: =+D19*E19*F19 -> 1.7
A20: 2.4 | B20: Relleno con material crudo de rio | C20: m3 | K20: =--H21 -> 0.375
B21: =B19 -> Sector la Vega calle 3 entre crr 2 y 3 | D21: =+D19 -> 2.5 | E21: 0.5 | F21: 0.3 | H21: =+D21*E21*F21 -> 0.375
A22: 2.5 | B22: Instalacion de tuberia 6" (incluye encamado en arena) | C22: ml | K22: =D23 -> 3.4
B23: =B21 -> Sector la Vega calle 3 entre crr 2 y 3 | D23: 3.4
A24: 2.6 | B24: Kit silla tee 6" a 12" | C24: und | K24: =--J25 -> 1
B25: =B23 -> Sector la Vega calle 3 entre crr 2 y 3 | J25: 1
A26: 2.7 | B26: Relleno con material de sitio seleccionado, compactado | C26: m3 | K26: =SUM(H27:H27) -> 1.625
B27: =B25 -> Sector la Vega calle 3 entre crr 2 y 3 | D27: 2.5 | E27: 0.5 | F27: 1.3 | H27: =+D27*E27*F27 -> 1.625
A28: 2.8 | B28: Subbase compactada con material de selección | C28: m3 | K28: =SUM(H29:H29) -> 0.5
B29: =B27 -> Sector la Vega calle 3 entre crr 2 y 3 | D29: 2.5 | E29: 1 | F29: 0.2 | H29: =--D29*E29*F29 -> 0.5
A30: 2.9 | B30: Placa en concreto rigido de 21 MPA, e=20 cm incluye juntas de expansion y sellado | C30: m2 | K30: =--G31 -> 0.88
B31: =B29 -> Sector la Vega calle 3 entre crr 2 y 3 | D31: 2.2 | E31: 0.4 | G31: =--D31*E31 -> 0.88
A32: 2.1 | B32: Suministro y aplicación de curador tipo antisol para concreto rigido | C32: m2 | K32: =--G33 -> 3
B33: =B31 -> Sector la Vega calle 3 entre crr 2 y 3 | D33: 3 | E33: 1 | G33: =--D33*E33 -> 3
A34: 3 | B34: ALCANTARILLADO SANITARIO Y PLUVIAL
A35: 4.1 | B35: =+Presupuesto!#REF! -> #REF! | C35: ml | K35: =SUM(K36:K46) -> 2328
B36: Carrera 3 sector de la entrada hasta estación de policia. | D36: =39.92+79.82+74.24+103.26+60.09+66.59+18.82+27 -> 469.74 | K36: =+D36 -> 469.74
B37: Calle 5 entre crr 5 a crr 3. | D37: =34.26+85.26+80.22+90.32+14.17 -> 304.23 | K37: =+D37 -> 304.23
B38: Carrera 3 entre calles 5 y 3. | D38: =21.71+11.22+12.57+47.95+38.64+14.74 -> 146.83 | K38: =+D38 -> 146.83
B39: Calle 3 entre crr 2 y crr 3 | D39: =42.91+56.52+56.63 -> 156.06 | K39: =+D39 -> 156.06
B40: Carrera 2 al descole del aserradero | D40: 180 | K40: =+D40 -> 180
B41: carrera 2 | D41: =40.24+23.31+79.03 -> 142.58 | K41: =+D41 -> 142.58
...

Sheet Presupuesto
C1: SECRETARIA DE PLANEACIÓN Y OBRAS PÚBLICAS | D1: CODIGO | F1: 103
D2: SERIE Y SUBSERIE | F2: 51
C3: NIT. 800252922-2
C4: Modelo Integrado de Planeación y Gestión | D4: VERSIÓN | F4: 1
C5: PRESUPUESTO | D5: FECHA DEL FORMATO | F5: D/M/A
F6: 45797
A8: ADECUACION Y MEJORAMIENTO DE CANCHA DE FUTBOL MUNICIPAL DE LA DORADA PUTUMAYO
A11: PRESUPUESTO GENERAL
A13: ITEM | B13: DESCRIPCION | D13: UNIDAD | E13: CANTIDAD | F13: VR/UNITARIO | G13: VR/TOTAL
A14: 1 | B14: PRELIMINARES
A15: 1.1 | B15: LOCALIZACIÓN Y REPLANTEO | D15: M2 | E15: ='MEMORIA DE CANTIDADES DE OBRA '!I25 -> 260.2 | F15: =APU!H42 -> 3116.66 | G15: =ROUND(E15*F15,2) -> 810954.93
A16: 1.2 | B16: DEMOLICION MANUAL DE PISO (anden) MODULO DE BAÑOS Y VESTUARIO | D16: M2 | E16: ='MEMORIA DE CANTIDADES DE OBRA '!I36 -> 13.79 | F16: =APU!H99 -> 55150 | G16: =ROUND(E16*F16,2) -> 760518.5
A17: 1.3 | B17: RETIRO Y DISPOSICION DE MATERIAL SOBRANTE | D17: M3 | E17: ='MEMORIA DE CANTIDADES DE OBRA '!I45 -> 0.83 | F17: =APU!H156 -> 13090 | G17: =ROUND(E17*F17,2) -> 10864.7
B18: subtotal | G18: =ROUND((SUM(G15:G17)),2) -> 1582338.1
A19: 2 | B19: CONCRETOS Y MAMPOSTERIA
A20: 2.1 | B20: RELLENO Y CONFORMACION MATERIAL SELECCIONADO | D20: M3 | E20: ='MEMORIA DE CANTIDADES DE OBRA '!I59 -> 2.07 | F20: =APU!H213 -> 98180.55 | G20: =ROUND(E20*F20,2) -> 203233.74
A21: 2.2 | B21: CONCRETO 21 Mpa RECONSTRUCCION SECCION DE GRADERIA | D21: M2 | E21: =+'MEMORIA DE CANTIDADES DE OBRA '!I73 -> 2.03 | F21: =+APU!H269 -> 289228.59 | G21: =ROUND(E21*F21,2) -> 587134.04
A22: 2.3 | B22: CONTRAPISO DE CONCRETO LIVIANO DE RESISTENCIA A COMPRESIÓN 2,5 MPA ESP 6 CM | D22: M2 | E22: =+'MEMORIA DE CANTIDADES DE OBRA '!I84 -> 14.11 | F22: =+APU!H326 -> 89415.3 | G22: =ROUND(E22*F22,2) -> 1261649.9
A23: 2.4 | B23: ACERO DE REFUERZO FY=420MPA PARA RECONSTRUCCION SECCION DE GRADERIA 2,9 m x 0,6 m, INCLUYE FIGURADO, AMARRE E INSTALACIÓN | D23: KG | E23: =+'MEMORIA DE CANTIDADES DE OBRA '!I97 -> 17.18 | F23: =APU!H380 -> 12035.25 | G23: =ROUND(E23*F23,2) -> 206765.6
A24: 2.5 | B24: MURO EN LADRILLO MACIZO PARA CERRAMIENTO DE ELECTROBOMBA | D24: M2 | E24: ='MEMORIA DE CANTIDADES DE OBRA '!I111 -> 0.48 | F24: =+APU!H434 -> 84578.16 | G24: =ROUND(E24*F24,2) -> 40597.52
B25: subtotal | G25: =ROUND((SUM(G20:G24)),2) -> 2299380.8
A26: 3 | B26: MANTENIMIENTO, MEJORAMIENTO DE UNIDAD SANITARIA
A27: 3.1 | B27: MANTENIMIENTO DE ALJIBE | D27: UND | E27: =+'MEMORIA DE CANTIDADES DE OBRA '!I124 -> 1 | F27: =+APU!H548 -> 673437.5 | G27: =ROUND(E27*F27,2) -> 673437.5
A28: 3.2 | B28: SUMINISTRO E INSTALACION DE TUBERIA PVC 3/4 | D28: UND | E28: =+'MEMORIA DE CANTIDADES DE OBRA '!I134 -> 1 | F28: =+APU!H609 -> 261325 | G28: =ROUND(E28*F28,2) -> 261325
A29: 3.3 | B29: SUMINISTRO E INSTALACION DE TANQUE PLASTICO 1000 LT | D29: UND | E29: =+'MEMORIA DE CANTIDADES DE OBRA '!I144 -> 1 | F29: =+APU!H664 -> 859083.33 | G29: =ROUND(E29*F29,2) -> 859083.33
A30: 3.4 | B30: SUMINISTRO E INSTALACION DE ACCESORIOS DE SANITARIOS | D30: UND | E30: =+'MEMORIA DE CANTIDADES DE OBRA '!I154 -> 3 | F30: =+APU!H720 -> 89816.67 | G30: =ROUND(E30*F30,2) -> 269450.01
A31: 3.5 | B31: SUMINISTRO E INSTALACION DE ACCESORIOS PARA DUCHAS | D31: UND | E31: =+'MEMORIA DE CANTIDADES DE OBRA '!I164 -> 2 | F31: =+APU!H776 -> 93180.56 | G31: =ROUND(E31*F31,2) -> 186361.12
B32: subtotal | G32: =ROUND((SUM(G27:G31)),2) -> 2249657
A33: 4 | B33: PINTURA
A34: 4.1 | B34: SUMINISTRO Y APLICACIÓN PINTURA ACRILICA EN AGUA SOBRE MUROS DE MODULOS SANITARIOS Y BESTUARIOS. | D34: M2 | E34: =+'MEMORIA DE CANTIDADES DE OBRA '!I186 -> 211.06 | F34: =+APU!H892 -> 22955 | G34: =ROUND(E34*F34,2) -> 4844882.3
A35: 4.2 | B35: LIMPIEZA MURO DE CERRAMIENTO DE CANCHA DE FUTBOL AMBAS CARAS | D35: ML | E35: =+'MEMORIA DE CANTIDADES DE OBRA '!I196 -> 360 | F35: =+APU!H951 -> 14315 | G35: =ROUND(E35*F35,2) -> 5153400
A36: 4.3 | B36: SUMINISTRO Y APLICACIÓN PINTURA ACRILICA SOBRE MURO DE CERRAMEINTO PERIMETRAL CANCHA DE FUTBOL | D36: M2 | E36: =+'MEMORIA DE CANTIDADES DE OBRA '!I206 -> 252 | F36: =+APU!H1009 -> 24333.75 | G36: =ROUND(E36*F36,2) -> 6132105
B37: subtotal | G37: =ROUND((SUM(G34:G36)),2) -> 16130387
A38: 5 | B38: REPARACION DE MALLA ESLABONADA GALVANIZADA CALIBRE 10 D=3" H=2.00, PARA CERRAMIENTO DE CANCHA DE FUTBOL
A39: 5.1 | B39: SUMINISTRO E INSTALACION DE MALLA ESLABONADA GALVANIZADA CALIBRE 10 H=2.00 mt | D39: M2 | E39: =+'MEMORIA DE CANTIDADES DE OBRA '!I218 -> 14.7 | F39: =+APU!H1070 -> 207239.73 | G39: =ROUND(E39*F39,2) -> 3046424
A40: 5.2 | B40: MANTENIMIENTO CANAL DE DRENAJE PERIMETRAL CANCHA DE FUTBOL | D40: ML | E40: 180 | F40: =+APU!H1131 -> 23100 | G40: =ROUND(E40*F40,2) -> 4158000
B41: subtotal | G41: =ROUND((SUM(G39:G40)),2) -> 7204424
A43: TOTAL COSTO DIRECTO OBRA | G43: =G18+G25+G32+G37+G41 -> 29466187
A44: ADMINISTRACION | F44: 0.27 | G44: =ROUND((G43*F44),2) -> 7955870.5 | I44: valor maximo de la minima cuantia
A45: IMPREVISTOS | F45: 0.02 | G45: =ROUND((G43*F45),2) -> 589323.74 | I45: 39858000
...

Sheet F.M 
D1: SECRETARIA DE PLANEACIÓN Y OBRAS PÚBLICAS | E1: CODIGO | F1: 103
E2: SERIE Y SUBSERIE | F2: 51
D3: NIT. 800252922-2
D4: Modelo Integrado de Planeación y Gestión | E4: VERSIÓN | F4: 1
D5: PRESUPUESTO | E5: FECHA DEL FORMATO | F5: D/M/A
F6: 44216
B8: =Presupuesto!A8 -> ADECUACION Y MEJORAMIENTO DE CANCHA DE FUTBOL MUNICIPAL DE LA DORADA PUTUMAYO
B11: FACTOR PRESTACIONAL PARA PERSONAL PROFESIONAL, ADMINISTRATIVO Y TECNICO | G11: %
B12: A. | D12: VALOR BASE (Sueldo) | G12: 100
B13: B. | D13: PRESTACIONES SOCIALES | G13: =SUM(G14:G29) -> 75.432
C14: a. | D14: Cesantías | F14: (A/12) | G14: 8.33
C15: b. | D15: Intereses sobre cesantía | F15: (a*12%) | G15: 1
C16: c. | D16: Prima anual | F16: (A/12) | G16: 8.33
C17: d. | D17: Caja de Compensación | F17: % A | G17: 4
C18: e. | D18: SENA | F18: % A | G18: 2
C19: f. | D19: ICBF | F19: % A | G19: 3
C20: g. | D20: Sistema de seguridad social : Salud | F20: % A | G20: 8.5
C21: h. | D21: Sistema de seguridad social : Pensiòn | F21: % A | G21: 12
C22: i. | D22: ARP personal en obra | F22: % A | G22: 6.96
C23: j. | D23: ARP personal en oficina | F23: % A | G23: 0.522
C24: k. | D24: Vacaciones | F24: (15/360*100) | G24: 4.17
C25: l. | D25: Ausencias justificadas | F25: (3/360*100) | G25: 0.83
... C29: p | D29: Bonoficación rereación | F29: % A | G29: 2
B30: C. | D30: SUMA (A + B) | G30: =G12+G13 -> 175.432
B32: E. | D32: FACTOR PRESTACIONAL | G32: =G30 -> 175.432
D33: FACTOR PRESTACIONAL FINAL | G33: =ROUND(G32/100,2) -> 1.75
B37: =+Presupuesto!C53 -> ARQ. GUILLERMO YAMID VALLEJOS BENAVIDES
B38: =+Presupuesto!C54 -> SECRETARIO DE PLANEACION Y OBRAS PUBLICAS
B39: =+Presupuesto!C55 -> SAN MIGUEL - PUTUMAYO

Sheet CRONOGRAMA--
C1: SECRETARIA DE PLANEACIÓN Y OBRAS PÚBLICAS | E1: CODIGO | G1: 103
E2: SERIE Y SUBSERIE | G2: 51
C3: NIT. 800252922-2
C4: Modelo Integrado de Planeación y Gestión | E4: VERSIÓN | G4: 1
C5: PRESUPUESTO | E5: FECHA DEL FORMATO | G5: D/M/A
G6: 44216
A8: =Presupuesto!A8 -> ADECUACION Y MEJORAMIENTO DE CANCHA DE FUTBOL MUNICIPAL DE LA DORADA PUTUMAYO
A11: CRONOGRAMA
I12: SEMANA 1 | J12: SEMANA 2
A13: ITEM | B13: DESCRIPCION | D13: UNIDAD | E13: CANTIDAD | F13: V/UNITARIO | G13: V/TOTAL | H13: %
B14: =Presupuesto!B15 -> LOCALIZACIÓN Y REPLANTEO
A15: =Presupuesto!A15 -> 1.1 | B15: =Presupuesto!B15 -> LOCALIZACIÓN Y REPLANTEO | D15: =Presupuesto!D15 -> M2 | E15: =Presupuesto!E15 -> 260.2 | F15: =Presupuesto!F15 -> 3116.66 | G15: =ROUND(E15*F15,2) -> 810954.93 | H15: =G15/G45 -> 0.020849654 | I15: =G15 -> 810954.93
A16: =+Presupuesto!A16 -> 1.2 | B16: =+Presupuesto!B16 -> DEMOLICION MANUAL DE PISO (anden) MODULO DE BAÑOS Y VESTUARIO | D16: =Presupuesto!D16 -> M2 | E16: =Presupuesto!E16 -> 13.79 | F16: =Presupuesto!F16 -> 55150 | G16: =ROUND(E16*F16,2) -> 760518.5 | H16: =G16/G45 -> 0.019552933 | I16: =G16 -> 760518.5
A17: =+Presupuesto!A17 -> 1.3 | B17: =+Presupuesto!B17 -> RETIRO Y DISPOSICION DE MATERIAL SOBRANTE | D17: =Presupuesto!D17 -> M3 | E17: =Presupuesto!E17 -> 0.83 | F17: =Presupuesto!F17 -> 13090 | G17: =ROUND(E17*F17,2) -> 10864.7 | H17: =G17/G45 -> 0.00027933147 | I17: =G17 -> 10864.7
B19: =Presupuesto!B19 -> CONCRETOS Y MAMPOSTERIA
A20: =+Presupuesto!A20 -> 2.1 | B20: =+Presupuesto!B20 -> RELLENO Y CONFORMACION MATERIAL SELECCIONADO | D20: =+Presupuesto!D20 -> M3 | E20: =+Presupuesto!E20 -> 2.07 | F20: =+Presupuesto!F20 -> 98180.55 | G20: =ROUND(E20*F20,2) -> 203233.74 | H20: =G20/G45 -> 0.00522514 | I20: =G20 -> 203233.74
A21: =+Presupuesto!A21 -> 2.2 | B21: =+Presupuesto!B21 -> CONCRETO 21 Mpa RECONSTRUCCION SECCION DE GRADERIA | D21: =+Presupuesto!D21 -> M2 | E21: =+Presupuesto!E21 -> 2.03 | F21: =+Presupuesto!F21 -> 289228.59 | G21: =ROUND(E21*F21,2) -> 587134.04 | H21: =G21/G45 -> 0.015095218 | I21: =G21 -> 587134.04
A22: =+Presupuesto!A22 -> 2.3 | B22: =+Presupuesto!B22 -> CONTRAPISO DE CONCRETO LIVIANO DE RESISTENCIA A COMPRESIÓN 2,5 MPA ESP 6 CM | D22: =+Presupuesto!D22 -> M2 | E22: =+Presupuesto!E22 -> 14.11 | F22: =+Presupuesto!F22 -> 89415.3 | G22: =ROUND(E22*F22,2) -> 1261649.9 | H22: =G22/G45 -> 0.032437022 | I22: =G22 -> 1261649.9
A23: =+Presupuesto!A23 -> 2.4 | B23: =+Presupuesto!B23 -> ACERO DE REFUERZO FY=420MPA PARA RECONSTRUCCION SECCION DE GRADERIA 2,9 m x 0,6 m, INCLUYE FIGURADO, AMARRE E INSTALACIÓN | D23: =+Presupuesto!D23 -> KG | E23: =+Presupuesto!E23 -> 17.18 | F23: =+Presupuesto!F23 -> 12035.25 | G23: =ROUND(E23*F23,2) -> 206765.6 | H23: =G23/G45 -> 0.0053159442 | I23: =G23 -> 206765.6
A24: =+Presupuesto!A24 -> 2.5 | B24: =+Presupuesto!B24 -> MURO EN LADRILLO MACIZO PARA CERRAMIENTO DE ELECTROBOMBA | D24: =+Presupuesto!D24 -> M2 | E24: =+Presupuesto!E24 -> 0.48 | F24: =+Presupuesto!F24 -> 84578.16 | G24: =ROUND(E24*F24,2) -> 40597.52 | H24: =G24/G45 -> 0.0010437624 | J24: =+G24 -> 40597.52
B26: =+Presupuesto!B26 -> MANTENIMIENTO, MEJORAMIENTO DE UNIDAD SANITARIA
A27: =+Presupuesto!A27 -> 3.1 | B27: =+Presupuesto!B27 -> MANTENIMIENTO DE ALJIBE | D27: =+Presupuesto!D27 -> UND | E27: =+Presupuesto!E27 -> 1 | F27: =+Presupuesto!F27 -> 673437.5 | G27: =+Presupuesto!G27 -> 673437.5 | H27: =G27/G45 -> 0.01731408 | J27: =G27 -> 673437.5
A28: =+Presupuesto!A28 -> 3.2 | B28: =+Presupuesto!B28 -> SUMINISTRO E INSTALACION DE TUBERIA PVC 3/4 | D28: =+Presupuesto!D28 -> UND | E28: =+Presupuesto!E28 -> 1 | F28: =+Presupuesto!F28 -> 261325 | G28: =+Presupuesto!G28 -> 261325 | H28: =G28/G45 -> 0.0067186665 | J28: =G28 -> 261325
A29: =+Presupuesto!A29 -> 3.3 | B29: =+Presupuesto!B29 -> SUMINISTRO E INSTALACION DE TANQUE PLASTICO 1000 LT | D29: =+Presupuesto!D29 -> UND | E29: =+Presupuesto!E29 -> 1 | F29: =+Presupuesto!F29 -> 859083.33 | G29: =+Presupuesto!G29 -> 859083.33 | H29: =G29/G45 -> 0.022087035 | J29: =G29 -> 859083.33
A30: =+Presupuesto!A30 -> 3.4 | B30: =+Presupuesto!B30 -> SUMINISTRO E INSTALACION DE ACCESORIOS DE SANITARIOS | D30: =+Presupuesto!D30 -> UND | E30: =+Presupuesto!E30 -> 3 | F30: =+Presupuesto!F30 -> 89816.67 | G30: =+Presupuesto!G30 -> 269450.01 | H30: =G30/G45 -> 0.0069275605 | J30: =G30 -> 269450.01
A31: =+Presupuesto!A31 -> 3.5 | B31: =+Presupuesto!B31 -> SUMINISTRO E INSTALACION DE ACCESORIOS PARA DUCHAS | D31: =+Presupuesto!D31 -> UND | E31: =+Presupuesto!E31 -> 2 | F31: =+Presupuesto!F31 -> 93180.56 | G31: =+Presupuesto!G31 -> 186361.12 | H31: =G31/G45 -> 0.0047913449 | J31: =G31 -> 186361.12
B32: =+Presupuesto!B33 -> PINTURA
A33: =+Presupuesto!A34 -> 4.1 | B33: =+Presupuesto!B34 -> SUMINISTRO Y APLICACIÓN PINTURA ACRILICA EN AGUA SOBRE MUROS DE MODULOS SANITARIOS Y BESTUARIOS. | D33: =+Presupuesto!D34 -> M2 | E33: =+Presupuesto!E34 -> 211.06 | F33: =+Presupuesto!F34 -> 22955 | G33: =ROUND(E33*F33,2) -> 4844882.3 | H33: =G33/G45 -> 0.12456194 | I33: =+G33 -> 4844882.3
A34: =+Presupuesto!A35 -> 4.2 | B34: =+Presupuesto!B35 -> LIMPIEZA MURO DE CERRAMIENTO DE CANCHA DE FUTBOL AMBAS CARAS | D34: =+Presupuesto!D35 -> ML | E34: =+Presupuesto!E35 -> 360 | F34: =+Presupuesto!F35 -> 14315 | G34: =ROUND(E34*F34,2) -> 5153400 | H34: =G34/G45 -> 0.13249393 | I34: =+G34 -> 5153400
A35: =+Presupuesto!A36 -> 4.3 | B35: =+Presupuesto!B36 -> SUMINISTRO Y APLICACIÓN PINTURA ACRILICA SOBRE MURO DE CERRAMEINTO PERIMETRAL CANCHA DE FUTBOL | D35: =+Presupuesto!D36 -> M2 | E35: =+Presupuesto!E36 -> 252 | F35: =+Presupuesto!F36 -> 24333.75 | G35: =ROUND(E35*F35,2) -> 6132105 | H35: =G35/G45 -> 0.15765644 | I35: =+G35 -> 6132105
B36: =+Presupuesto!B33 -> PINTURA
A37: =+Presupuesto!A39 -> 5.1 | B37: =+Presupuesto!B39 -> SUMINISTRO E INSTALACION DE MALLA ESLABONADA GALVANIZADA CALIBRE 10 H=2.00 mt | D37: =+Presupuesto!D39 -> M2 | E37: =+Presupuesto!E39 -> 14.7 | F37: =+Presupuesto!F39 -> 207239.73 | G37: =ROUND(E37*F37,2) -> 3046424 | H37: =G37/G45 -> 0.078323571 | J37: =+G37 -> 3046424
A38: =+Presupuesto!A40 -> 5.2 | B38: =+Presupuesto!B40 -> MANTENIMIENTO CANAL DE DRENAJE PERIMETRAL CANCHA DE FUTBOL | D38: =+Presupuesto!D40 -> ML | E38: =+Presupuesto!E40 -> 180 | F38: =+Presupuesto!F40 -> 23100 | G38: =ROUND(E38*F38,2) -> 4158000 | H38: =G38/G45 -> 0.10690219 | J38: =+G38 -> 4158000
A40: TOTAL COSTO DIRECTO OBRA | G40: =SUM(G15:G39) -> 29466187 | H40: =SUM(H15:H39) -> 0.75757576 | I40: =SUM(I15:I39) -> 19971509 | J40: =SUM(J15:J39) -> 9494678.5
A41: ADMINISTRACION | F41: 0.27 | G41: =ROUND((F41*G$40),2) -> 7955870.5 | H41: =G41/G$45 -> 0.20454545 | I41: =$F$41*I$40 -> 5392307.3 | J41: =$F$41*J$40 -> 2563563.2
A42: IMPREVISTOS | F42: 0.02 | G42: =ROUND((F42*G$40),2) -> 589323.74 | H42: =G42/G$45 -> 0.015151515 | I42: =$F$42*I$40 -> 399430.17 | J42: =$F$42*J$40 -> 189893.57
A43: UTILIDAD | F43: 0.03 | G43: =ROUND((F43*G$40),2) -> 883985.62 | H43: =G43/G$45 -> 0.022727273 | I43: =$F$43*I$40 -> 599145.26 | J43: =$F$43*J$40 -> 284840.36
A44: TOTAL COSTO INDIRECTO OBRA | G44: =SUM(G41:G43) -> 9429179.9 | H44: =SUM(H41:H43) -> 0.24242424 | I44: =SUM(I41:I43) -> 6390882.8 | J44: =SUM(J41:J43) -> 3038297.1
A45: TOTAL OBRA | G45: =G44+G40 -> 38895367 | H45: =H40+H44 -> 1 | I45: =I40+I44 -> 26362391 | J45: =J40+J44 -> 12532976
E50: =+Presupuesto!C53 -> ARQ. GUILLERMO YAMID VALLEJOS BENAVIDES
...

Sheet DESGLOSE AIU
B1: SECRETARIA DE PLANEACIÓN Y OBRA PÚBLICAS | D1: CÓDIGO | E1: 103
D2: SERIE Y SUBSERIE | E2: 51
B3: NIT. 800252922-2
B4: Modelo Integrado de Planeación y Gestión | D4: VERSIÓN | E4: 1
B5: PRESUPUESTO | D5: FECHA DEL FORMATO | E5: D/M/A
E6: 44216
A8: =Presupuesto!A8 -> ADECUACION Y MEJORAMIENTO DE CANCHA DE FUTBOL MUNICIPAL DE LA DORADA PUTUMAYO
A11: DESGLOCE A.I.U
A13: SALARIO PERSONAL ADMINISTRATIVO DE OBRA
A14: PERSONAL | B14: SUELDO BASICO | C14: FACTOR PRESTACIONAL | E14: SUELDO + PRESTACIONES
A15: Residente de Obra | B15: 2200000 | C15: 1.75 | E15: =B15*C15 -> 3850000
A16: 1. ADMINISTRACION
A17: 1.1. PERSONAL ADMINISTRATIVO DE OBRA | B17: SUELDO + PRESTACIONES | C17: DEDICACION | D17: MESES | E17: VALOR PARCIAL | F17: % SOBRE COSTO DIRECTO
A18: Residente de Obra | B18: =E15 -> 3850000 | C18: 0.6 | D18: 0.5 | E18: =ROUND((B18*C18*D18),0) -> 1155000 | F18: =E18/E48 -> 0.03919747
A19: 1.2. COSTOS DEL PROCESO
A20: Polizas y legalizacion del contrato | E20: 350000 | F20: =E20/E48 -> 0.011878021
A21: 1.3. GASTOS DE OBRA
A22: Edicion de informes | E22: 150000 | F22: =E22/E48 -> 0.0050905806
A23: Fotografias | E23: 150000 | F23: =E23/E48 -> 0.0050905806
A24: alquiler bodega | E24: 350000 | F24: =E24/E48 -> 0.011878021
A25: Seguridad Industrial | E25: 550000 | F25: =E25/E48 -> 0.018665462
A26: Otros | E26: 447882.02 | F26: =E26/E50 -> 0.011515048
A27: IMPUESTOS DE OBRA
A28: Otras obigaciones (Impuestos de ley) | E28: =E48*F28 -> 4802988.5 | F28: 0.163
A29: TOTAL ADMINISTRACION | E29: =ROUND(SUM(E18:E28),2) -> 7955870.5 | F29: =SUM(F18:F28) -> 0.26631518 | G29: =+Presupuesto!G44 -> 7955870.5 | H29: =G29-E29 -> 0
A31: 2. IMPREVISTOS
A32: DESCRIPCION | D32: VALOR PARCIAL | F32: PORCENTAJE
A33: IMPREVISTOS | D33: =ROUND((F33*E48),2) -> 589323.74 | F33: 0.02
A34: TOTAL UTILIDAD | D34: =D33 -> 589323.74 | F34: =SUM(F33) -> 0.02
A36: 3. UTILIDAD
A37: DESCRIPCION | D37: VALOR PARCIAL | F37: PORCENTAJE
A38: UTILIDAD | D38: =ROUND((F38*E48),2) -> 883985.62 | F38: 0.03
A39: TOTAL UTILIDAD | D39: =D38 -> 883985.62 | F39: =SUM(F38) -> 0.03
A41: TOTAL COSTO DIRECTO A.I.U
A42: RESUMEN
A43: DESCRIPCION | D43: VALOR PARCIAL | F43: PORCENTAJE | G43: total obra
A44: ADMINISTRACION | D44: =ROUND((F44*E48),2) -> 7955870.5 | F44: 0.27 | G44: A | H44: 7441639
A45: IMPREVISTOS | D45: =ROUND((F45*E48),2) -> 589323.74 | F45: 0.02 | G45: I | H45: 551232.52
A46: UTILIDAD | D46: =ROUND((F46*E48),2) -> 883985.62 | F46: 0.03 | G46: U | H46: 826848.78
A47: TOTAL | D47: =SUM(D44:E46) -> 9429179.9 | F47: =SUM(F44:F46) -> 0.32 | G47: tot AIU | H47: =SUM(H44:H46) -> 8819720.3
...

Sheet BASICOS RURAL
B1: SECRETARIA DE PLANEACIÓN Y OBRA PÚBLICAS | E1: CÓDIGO | G1: 103
E2: SERIE Y SUBSERIE | G2: 51
B3: NIT. 800252922-2
B4: Modelo Integrado de Planeación y Gestión | E4: VERSIÓN | G4: 1
B5: PRESUPUESTO | E5: FECHA DEL FORMATO | G5: D/M/A
G6: 44216
A7: =Presupuesto!A8 -> ADECUACION Y MEJORAMIENTO DE CANCHA DE FUTBOL MUNICIPAL DE LA DORADA PUTUMAYO
A12: BASICOS ZONA RURAL
A13: ANALISIS DE PRECIOS UNITARIOS
A15: BASICO I | B15: CONCRETO 3000 PSI | G15: Unidad: | H15: M3
A17: I | B17: HERRAMIENTA Y EQUIPO
B18: DESCRIPCIÓN | D18: Unidad | E18: Tarifa/Día | F18: Rend | G18: V. Unitario. | I18: ALQUILER EQUIPOS
B19: Mezcladora | D19: Hora | E19: =M19 -> 15000 | F19: 3.5 | G19: =E19*F19 -> 52500 | I19: TROMPO | J19: capa 2 bultos dia | L19: 120000 | M19: =L19/8 -> 15000
B20: Vibrador | D20: Hora | E20: =M20 -> 12500 | F20: 3.5 | G20: =E20*F20 -> 43750 | I20: VIBRO | J20: alquiler dia | L20: 100000 | M20: =L20/8 -> 12500
E21: SUBTOTAL. | H21: =ROUND(SUM(G19:G20),0) -> 96250
A22: II | B22: MATERIALES EN OBRA. | I22: COSTOS PUESTO EN ZONA RURAL DISPERSA
B23: DESCRIPCIÓN | D23: Unidad | E23: Cant. | F23: Precio Unit. | G23: V. Unitario. | I23: CEMENTO | J23: bulto 50Kg, con transpr | L23: 40000 | M23: =L23/50 -> 800
B24: CEMENTO GRIS TIPO 1 | D24: KG | E24: 350 | F24: =M23 -> 800 | G24: =+F24*E24 -> 280000 | I24: ARENA | J24: viaje de volqueta 5 M3 | L24: 800000 | M24: =L24/5 -> 160000
B25: AGUA | D25: LTS | E25: 210 | F25: 180 | G25: =+F25*E25 -> 37800 | I25: TRITURADO | J25: viaje de volqueta 5 M3 | L25: 1625000 | M25: =L25/5 -> 325000
B26: ARENA DE RIO | D26: M3 | E26: 0.56 | F26: =M24 -> 160000 | G26: =+F26*E26 -> 89600
B27: TRITURADO | D27: M3 | E27: 0.84 | F27: =M25 -> 325000 | G27: =+F27*E27 -> 273000
E28: SUBTOTAL | H28: =(SUM(G24:G27)) -> 680400
A29: III | B29: MANO DE OBRA.
B30: DESCRIPCIÓN | C30: H-H | D30: Prestac | E30: Cant. | F30: Rend. | G30: V. Unitario.
E32: SUBTOTAL | H32: =SUM(G31) -> 0
A33: IV | B33: TRANSPORTE
B34: DESCRIPCIÓN | C34: Unidad | D34: Cantidad | E34: Prec.Unitario | G34: Vr. Unitario
E36: SUBTOTAL | H36: =SUM(G35) -> 0
D38: TOTAL COSTOS DIRECTOS. | H38: =ROUND(SUM(H21:H37),0) -> 776650
A39: V | B39: COSTOS INDIRECTOS.
B40: DESCRIPCIÓN | C40: % | D40: COSTO DIRECTO | F40: V. UNITARIO
B41: ADMINISTRACIÓN | C41: 0.1 | G41: =+H38*C41 -> 77665
B42: IMPREVISTOS | C42: 0.02 | G42: =+H38*C42 -> 15533
D43: TOTAL COSTOS INDIRECTOS | H43: =SUM(G41:G42) -> 93198
D45: TOTAL PRECIO UNITARIO. | H45: =ROUND((H38+H43),0) -> 869848
A50: =Presupuesto!C53 -> ARQ. GUILLERMO YAMID VALLEJOS BENAVIDES
A51: =Presupuesto!C54 -> SECRETARIO DE PLANEACION Y OBRAS PUBLICAS
A52: =Presupuesto!C55 -> SAN MIGUEL - PUTUMAYO
B53: SECRETARIA DE PLANEACIÓN Y OBRA PÚBLICAS | E53: CÓDIGO | G53: 103
E54: SERIE Y SUBSERIE | G54: 51
...

Sheet BASICOS URBANOS
B1: SECRETARIA DE PLANEACIÓN Y OBRA PÚBLICAS | E1: CÓDIGO | G1: 103
E2: SERIE Y SUBSERIE | G2: 51
B3: NIT. 800252922-2
B4: Modelo Integrado de Planeación y Gestión | E4: VERSIÓN | G4: 1
B5: PRESUPUESTO | E5: FECHA DEL FORMATO | G5: D/M/A
G6: 44216
A7: =Presupuesto!A8 -> ADECUACION Y MEJORAMIENTO DE CANCHA DE FUTBOL MUNICIPAL DE LA DORADA PUTUMAYO
A12: BASICOS ZONA RURAL
A13: ANALISIS DE PRECIOS UNITARIOS
A15: BASICO I | B15: CONCRETO 3000 PSI | G15: Unidad: | H15: M3
A17: I | B17: HERRAMIENTA Y EQUIPO
B18: DESCRIPCIÓN | D18: Unidad | E18: Tarifa/Día | F18: Rend | G18: V. Unitario. | I18: ALQUILER EQUIPOS
B19: Mezcladora | D19: Hora | E19: =M19 -> 15000 | F19: 3.5 | G19: =E19*F19 -> 52500 | I19: TROMPO | J19: capa 2 bultos dia | L19: 120000 | M19: =L19/8 -> 15000
B20: Vibrador | D20: Hora | E20: =M20 -> 12500 | F20: 3.5 | G20: =E20*F20 -> 43750 | I20: VIBRO | J20: alquiler dia | L20: 100000 | M20: =L20/8 -> 12500
E21: SUBTOTAL. | H21: =ROUND(SUM(G19:G20),0) -> 96250
A22: II | B22: MATERIALES EN OBRA. | I22: COSTOS PUESTO EN ZONA RURAL DISPERSA
B23: DESCRIPCIÓN | D23: Unidad | E23: Cant. | F23: Precio Unit. | G23: V. Unitario. | I23: CEMENTO | J23: bulto 50Kg, con transpr | L23: 38000 | M23: =L23/50 -> 760
B24: CEMENTO GRIS TIPO 1 | D24: KG | E24: 350 | F24: =M23 -> 760 | G24: =+F24*E24 -> 266000 | I24: ARENA | J24: viaje de volqueta 6 M3 | L24: 300000 | M24: =L24/6 -> 50000
B25: AGUA | D25: LTS | E25: 210 | F25: 180 | G25: =+F25*E25 -> 37800 | I25: TRITURADO | J25: viaje de volqueta 6 M3 | L25: 1500000 | M25: =L25/6 -> 250000
B26: ARENA DE RIO | D26: M3 | E26: 0.56 | F26: =M24 -> 50000 | G26: =+F26*E26 -> 28000
B27: TRITURADO | D27: M3 | E27: 0.84 | F27: =M25 -> 250000 | G27: =+F27*E27 -> 210000
E28: SUBTOTAL | H28: =(SUM(G24:G27)) -> 541800
A29: III | B29: MANO DE OBRA.
B30: DESCRIPCIÓN | C30: H-H | D30: Prestac | E30: Cant. | F30: Rend. | G30: V. Unitario.
E32: SUBTOTAL | H32: =SUM(G31) -> 0
A33: IV | B33: TRANSPORTE
B34: DESCRIPCIÓN | C34: Unidad | D34: Cantidad | E34: Prec.Unitario | G34: Vr. Unitario
E36: SUBTOTAL | H36: =SUM(G35) -> 0
D38: TOTAL COSTOS DIRECTOS. | H38: =ROUND(SUM(H21:H37),0) -> 638050
A39: V | B39: COSTOS INDIRECTOS.
B40: DESCRIPCIÓN | C40: % | D40: COSTO DIRECTO | F40: V. UNITARIO
B41: ADMINISTRACIÓN | C41: 0.1 | G41: =+H38*C41 -> 63805
B42: IMPREVISTOS | C42: 0.02 | G42: =+H38*C42 -> 12761
D43: TOTAL COSTOS INDIRECTOS | H43: =SUM(G41:G42) -> 76566
D45: TOTAL PRECIO UNITARIO. | H45: =ROUND((H38+H43),0) -> 714616
A50: =Presupuesto!C53 -> ARQ. GUILLERMO YAMID VALLEJOS BENAVIDES
A51: =Presupuesto!C54 -> SECRETARIO DE PLANEACION Y OBRAS PUBLICAS
A52: =Presupuesto!C55 -> SAN MIGUEL - PUTUMAYO
B53: SECRETARIA DE PLANEACIÓN Y OBRA PÚBLICAS | E53: CÓDIGO | G53: 103
E54: SERIE Y SUBSERIE | G54: 51
...
