Workbook
Name BASE1: #REF!
Name BASE2: #REF!
Name CLASIFICACIÓN_DE_LAS_PERSONAS_NATURALES: #REF!
Name números: [1]Números!$A$2:$B$1001
Name P.N.: #REF!

Sheet DATOS DE ENTRADA.
A1: DATOS DE INGRESO A PLANILLA DE CONTRATISTAS POR CONCEPTO DE HONORARIOS Y/O SERVICIOS PERSONALES - FORMATO
A2: SENA- 2020
A4: DATOS DEL CONTRATISTA
A5: CÓDIGO DE REGIONAL | B5: 50
A6: CÓDIGO DE CENTRO | B6: 911710
A7: FECHA DE DILIGENCIAMIENTO PLANILLA | B7: 20 de marzo de 2020
A8: NOMBRES Y APELLIDOS | B8: RUBEN DARIO CELY VELASQUEZ
A9: Nº IDENTIFICACIÓN | B9: 1122649400
A10: IP o NÚMERO TELEFÓNICO DE CONTACTO | B10: 3134123924
A11: DIRECCIÓN ELECTRÓNICA | B11: rdcely0@misena.edu.co
A12: REGIONAL | B12: META
A13: GRUPO/DEPENDENCIA | B13: COORDINACIÓN ACADÉMICA PROGRAMAS ESPECIALES
A14: NOMBRE DEL BANCO AL CUAL CONSIGNAR | B14: BANCO DE BOGOTA
A15: TIPO DE CUENTA | B15: AHORROS
A16: NÚMERO DE CUENTA | B16: 361-054-810
A17: HA CONTRATADO O VINCULADO DOS O MAS TRABAJADORES ASOCIADOS A SU ACTIVIDAD PARA CUMPLIR CON EL OBJETO DE SU CONTRATO? | B17: NO
A18: SUS INGRESOS FUERON IGUALES O SUPERIORES EN EL 2019 A $ 47´978.000 | B18: NO
A19: SUS INGRESOS DEL CONTRATO SUSCRITO CON LA ENTIDAD EN EL 2020 SUPERA LOS $ 117´503.000 | B19: NO
A20: REALIZÓ LA INDUCCIÓN SST | B20: SI
A21: REGIMEN IVA | B21: NO RESPONSABLE
... A26: ES OBJETO ACTUAL DE EMBARGO? | B26: NO
A27: VALOR DEL EMBARGO (SI ES OBJETO A ELLO) | B27: 0
A28: TIENE DESCUENTOS POR LIBRANZA? | B28: NO
A29: VALOR DEL DESCUENTO POR LIBRANZA | B29: 0
A30: MES OBJETO DE COBRO EN ESTA PLANILLA | B30: marzo
A31: MES AL CUAL CORRESPONDE LA COTIZACIÓN DE APORTES A SEGURIDAD SOCIAL | B31: febrero
A32: OBJETO CONTRACTUAL | B32: Prestar servicios personales de carácter temporal para planear y orientar la Formación Profesional Integral, que programe el Centro Agroindustrial del Meta en sus diferentes niveles y modalidades, atendiendo las políticas institucionales y la normatividad del programa Articulación con la Media Tecnica en la Especialidad de AMBIENTAL - GESTION DEL RECURSO HIDRICO
A34: DATOS DEL SUPERVISOR
A35: NOMBRES Y APELLIDOS | B35: GLADYS GUTIÉRREZ SARMIENTO
A36: CARGO | B36: PROFESIONAL GRADO 02
A37: DIRECCIÓN ELECTRÓNICA | B37: gladysgutierrez@sena.edu.co
A39: DATOS DEL ORDENADOR DEL PAGO
A40: NOMBRES Y APELLIDOS | B40: RAFAEL ANGEL AGUILERA MARTINEZ
A41: CARGO | B41: SUBDIRECTOR ( E ) CENTRO AGROINDUSTRIAL DEL META
A44: DATOS DEL CONTRATO OBJETO DE COBRO
A45: Nº DEL CONTRATO (Nº/año) | B45: CO1.PCCNTR.1360120
A46: FECHA DE INICIO | B46: 43871
A47: FECHA DE TERMINACIÓN | B47: 44172
A48: VALOR TOTAL DEL CONTRATO | B48: 36133030
A49: Nº COMPROMISO SIIF | B49: 16220
...

Sheet FORMATO
B1: FORMATO PARA PAGO DE CONTRATOS POR CONCEPTO DE HONORARIOS Y/O PRESTACIÓN DE SERVICIOS PERSONALES | G1: Código Regional | H1: =+'DATOS DE ENTRADA.'!B5 -> 50
G2: Código Centro | H2: =+'DATOS DE ENTRADA.'!B6 -> 911710
B3: ='DATOS DE ENTRADA.'!B12 -> META | G3: Fecha elaboración | H3: ='DATOS DE ENTRADA.'!B7 -> 20 de marzo de 2020
B4: ='DATOS DE ENTRADA.'!B13 -> COORDINACIÓN ACADÉMICA PROGRAMAS ESPECIALES | G4: Versión | H4: 2.2
H5: 43872
A6: DATOS DEL CONTRATISTA
A8: Nombres y apellidos contratista: | B8: ='DATOS DE ENTRADA.'!B8 -> RUBEN DARIO CELY VELASQUEZ | E8: C.C. | F8: ='DATOS DE ENTRADA.'!B9 -> 1122649400 | G8: IP/Nº de contacto | H8: ='DATOS DE ENTRADA.'!B10 -> 3134123924
A9: Correo electrónico contratista: | B9: =+'DATOS DE ENTRADA.'!B11 -> rdcely0@misena.edu.co
A11: Régimen del IVA: | B11: ='DATOS DE ENTRADA.'!B21 -> NO RESPONSABLE | D11: Es declarante de renta? | F11: ='DATOS DE ENTRADA.'!B23 -> SI | G11: Es Pensionado? | H11: ='DATOS DE ENTRADA.'!B24 -> NO
A12: Ha contratado o vinculado dos o más trabajadores asociados a su actividad para cumplir con el objeto de su contrato? | C12: =+'DATOS DE ENTRADA.'!B17 -> NO | D12: Inducción SST | E12: ='DATOS DE ENTRADA.'!B20 -> SI | F12: Presta Servicios Excluidos de IVA ? | H12: =+'DATOS DE ENTRADA.'!B22 -> SI
A13: Banco al cual consignar: | B13: ='DATOS DE ENTRADA.'!B14 -> BANCO DE BOGOTA | D13: Tipo de cta | E13: ='DATOS DE ENTRADA.'!B15 -> AHORROS | F13: Nº Cuenta | G13: ='DATOS DE ENTRADA.'!B16 -> 361-054-810
A14: Sus ingresos en el 2019 fueron iguales o superiores a $47'978.000 | C14: =+'DATOS DE ENTRADA.'!B18 -> NO | D14: Sus ingresos del contrato suscrito con la Entidad en el 2020 supera los $ 117´503.000 | H14: ='DATOS DE ENTRADA.'!B19 -> NO
A16: DATOS DEL CONTRATO Y PERIODO OBJETO DE PAGO
A18: Nº del contrato: | B18: =+'DATOS DE ENTRADA.'!B45 -> CO1.PCCNTR.1360120 | E18: Nº Compromiso SIIF | G18: ='DATOS DE ENTRADA.'!B49 -> 16220
A20: Valor Total del Contrato | B20: ='DATOS DE ENTRADA.'!B48 -> 36133030 | C20: N ° Pago | D20: Periodo objeto de pago | H20: Valor Bruto Pago
A21: Saldo Anterior del Contrato | B21: =+'DATOS DE ENTRADA.'!B56 -> 33699829 | C21: =+'DATOS DE ENTRADA.'!B55 -> 2 | D21: Del | E21: ='DATOS DE ENTRADA.'!B53 -> 43891 | F21: Al | G21: ='DATOS DE ENTRADA.'!B54 -> 43921 | H21: =+ROUND(IF('DATOS DE ENTRADA.'!B117=TRUE,'DATOS DE ENTRADA.'!B62,'DATOS DE ENTRADA.'!B67),0) -> 3649801
A22: Nuevo Saldo del Contrato | B22: =+'DATOS DE ENTRADA.'!B57 -> 30050028 | D22: Comisiones | E22: ='DATOS DE ENTRADA.'!B101 -> 0
A23: Deducción màxima por salud | B23: =IF(C41>(C31*0.4*0.125),C31*0.4*0.125,C41) -> 182490.05 | E23: Base retfte (80%) | G23: =C34*0.8 -> 2919840.8
B25: ='DATOS DE ENTRADA.'!B32 -> Prestar servicios personales de carácter temporal para planear y orientar la Formación Profesional Integral, que programe el Centro Agroindustrial del Meta en sus diferentes niveles y modalidades, atendiendo las políticas institucionales y la normatividad del programa Articulación con la Media Tecnica en la Especialidad de AMBIENTAL - GESTION DEL RECURSO HIDRICO
A26: OBJETO CONTRACTUAL:
A29: RESUMEN PAGOS GENERADOS EN EL PERIODO OBJETO DE PAGO
A31: Ingresos por honorarios | C31: =+ROUND(IF(AND('DATOS DE ENTRADA.'!B107=FALSE,'DATOS DE ENTRADA.'!B109=TRUE),FORMATO!H21/1.19,FORMATO!H21),0) -> 3649801 | E31: =+CONCATENATE("Tarifa de Retencion en la Fuente ",+HLOOKUP(H31,$D$170:$F$171,2,0)) -> Tarifa de Retencion en la Fuente ART 383° | H31: =+H42 -> 0
A32: Ingresos por comisiones | C32: =+ROUND(IF(AND('DATOS DE ENTRADA.'!B107=FALSE,'DATOS DE ENTRADA.'!B109=TRUE),'DATOS DE ENTRADA.'!B101/1.19,'DATOS DE ENTRADA.'!B101),0) -> 0 | E32: Retencion en la Fuente del Periodo | H32: =+G42+'DATOS DE ENTRADA.'!C101+'DATOS DE ENTRADA.'!C149 -> 0
A33: Ingresos de otros meses cobrados en el mes | C33: =+ROUND(IF(AND('DATOS DE ENTRADA.'!B107=FALSE,'DATOS DE ENTRADA.'!B109=TRUE),'DATOS DE ENTRADA.'!B149/1.19,'DATOS DE ENTRADA.'!B149),0) -> 0 | E33: Menos, Retefuente Comisiones | H33: ='DATOS DE ENTRADA.'!C101 -> 0
A34: TOTAL INGRESOS DEL PERIODO | C34: =C31+C32+C33 -> 3649801 | E34: Menos, Retefuente Otros Ingresos | H34: =+'DATOS DE ENTRADA.'!C149 -> 0
A35: BASE PARA RETENCION EN LA FUENTE | C35: =+HLOOKUP(H31,$D$166:$F$172,7,0) -> 2001540.8 | E35: TOTAL RETEFUENTE PRESENTE PAGO | H35: =+H32-H34-H33 -> 0
A37: LIQUIDACIÓN DE PAGO A SEGURIDAD SOCIAL Y LIQUIDACIÓN DEL NETO A PAGAR
A38: Nº Planilla PILA, o , Nº Radicación pago SS | B38: ='DATOS DE ENTRADA.'!B31 -> febrero | C38: ='DATOS DE ENTRADA.'!B76 -> 40687892 | E38: Valor Base retención en la fuente | G38: =ROUND(C35,0) -> 2001541 | H38: TARIFA
C39: APORTES DEL MES OBJETO DE COBRO | D39: APORTES DEL MES ANTERIOR | E39: Valor Base retención en la fuente ICA | G39: =+IF(ROUND(+(C31+C32-C41-C42),0)<=0,0,ROUND(+(C31+C32-C41-C42),0)) -> 3233701
A40: Ingreso Base de Cotización IBC | B40: ='DATOS DE ENTRADA.'!B30 -> marzo | C40: =+IF('DATOS DE ENTRADA.'!B79>='DATOS DE ENTRADA.'!B105,'DATOS DE ENTRADA.'!B79,"ERROR") -> 1459920.4 | D40: =+IF('DATOS DE ENTRADA.'!B68>0,'DATOS DE ENTRADA.'!D79,0) -> 973280.27 | E40: Valor base IVA | G40: =ROUND(IF('DATOS DE ENTRADA.'!B107=TRUE,0,+C31+C32),0) -> 0
A41: Aporte obligatorio a seguridad social salud | C41: =+'DATOS DE ENTRADA.'!B80 -> 182500 | D41: =+ROUNDUP(+D40*12.5/100,-2) -> 121700 | E41: IVA (Si es RESPONSABLE) | G41: =+IF('DATOS DE ENTRADA.'!B22="NO",ROUND(G40*H41,0),0) -> 0 | H41: 0.19
A42: Aporte obligatorio a seguridad social Pensión | C42: =+'DATOS DE ENTRADA.'!B81 -> 233600 | D42: =+ROUNDUP(+IF('DATOS DE ENTRADA.'!B113=FALSE,0,+D40*0.16),-2) -> 155800 | E42: Menos Retención en la Fuente | G42: =+IF(C12="NO",+ROUND(+IF(E169>F169,E169,F169),0),D169) -> 0 | H42: =+HLOOKUP(G42,D169:F170,2,0) -> 0
A43: Aporte obligatorio a Fondo de solidaridad Pensional | C43: =+'DATOS DE ENTRADA.'!B82 -> 0 | D43: =+ROUNDUP(+IF('DATOS DE ENTRADA.'!B113=FALSE,0,+IF(D40>=(828116*4),D40*0.01,0)),-2) -> 0 | E43: Menos Retencion IVA | G43: =ROUND(G41*H43,0) -> 0 | H43: 0.15
A44: ARL | C44: =+'DATOS DE ENTRADA.'!B83 -> 15300 | D44: =+ROUNDUP(+IF(OR('DATOS DE ENTRADA.'!B85="IV",'DATOS DE ENTRADA.'!B85="V"),0,+VLOOKUP('DATOS DE ENTRADA.'!B85,'DATOS DE ENTRADA.'!$B$155:$C$157,2,0)*D40),-2) -> 10200 | E44: Reteica | G44: =ROUND(IF((C31+C32-C41-C42)*H44<0,0,(C31+C32-C41-C42)*H44),0) -> 12935 | H44: 0.004
A45: Aportes voluntarios a Fondo de pensiones Obligatorias | C45: ='DATOS DE ENTRADA.'!B84 -> 0
A46: Aportes voluntarios a cuentas AFC Y AVC | C46: =+'DATOS DE ENTRADA.'!B87 -> 0 | E46: Otras Retenciones | G46: =ROUND(IF(($C$31+$C$32)*H46<0,0,($C$31+$C$32)*H46),0) -> 0 | H46: 0
A47: Aportes voluntarios a Fondo de pensiones Voluntarias | B47: 7128000 | C47: =+IF(B47<'DATOS DE ENTRADA.'!B86,FORMATO!B47,'DATOS DE ENTRADA.'!B86) -> 0 | E47: Otras Retenciones | G47: =ROUND(IF(($C$31+$C$32)*H47<0,0,($C$31+$C$32)*H47),0) -> 0 | H47: 0
A48: Intereses Préstamo de Vivienda | B48: =100*G112 -> 3560700 | C48: =+IF(B48<'DATOS DE ENTRADA.'!B89,FORMATO!B48,'DATOS DE ENTRADA.'!B89) -> 200000 | E48: Otras Retenciones | G48: =ROUND(IF(($C$31+$C$32)*H48<0,0,($C$31+$C$32)*H48),0) -> 0 | H48: 0
A49: Aportes pensión de ingresos de otros meses cobrados en el mes | C49: ='DATOS DE ENTRADA.'!E149 -> 0 | E49: Otras Retenciones | G49: =ROUND(IF(($C$31+$C$32)*H49<0,0,($C$31+$C$32)*H49),0) -> 0 | H49: 0
A50: Aportes salud de ingresos de otros meses cobrados en el mes | C50: ='DATOS DE ENTRADA.'!D149 -> 0 | E50: Otras Retenciones | G50: =ROUND(IF(($C$31+$C$32)*H50<0,0,($C$31+$C$32)*H50),0) -> 0 | H50: 0
...

Sheet DESCRIPCIÓN DE CAMPOS
A1: DESCRIPCIÓN DE LOS CAMPOS DE LA PLANILLA
A3: DATOS DEL CONTRATISTA
A4: CÓDIGO DE REGIONAL | B4: Número que le corresponde a la Regional a la que pertenece el Contratista
A5: CÓDIGO DE CENTRO | B5: Número que le corresponde al centro al que pertenece el Contratista
A6: FECHA DE DILIGENCIAMIENTO PLANILLA | B6: Fecha en la cual diligencia la planilla para pago
A7: NOMBRES Y APELLIDOS | B7: Nombres y apellidos del contratista
A8: Nº IDENTIFICACIÓN | B8: Número del documento de identificación
A9: IP o NÚMERO TELEFÓNICO DE CONTACTO | B9: Número de teléfono de contacto
A10: DIRECCIÓN ELECTRÓNICA | B10: Correo electrónico del contratista
A11: REGIONAL | B11: Nombre de la Regional a la que pertenece
A12: GRUPO/DEPENDENCIA | B12: Nombre del área o Centro de formación al que pertenece
A13: NOMBRE DEL BANCO AL CUAL CONSIGNAR | B13: Nombre del Banco en el cual se debe consignar el valor a pagar
A14: TIPO DE CUENTA | B14: Debe escoger una de las opciones que da la casilla
A15: NÚMERO DE CUENTA | B15: Número de cuenta a la cual se debe consignar
... A24: DEPENDIENTES? | B24: Debe escoger una de la opción "SI", siempre y cuando se encuente en alguno de los siguientes casos:
B25: 1. Los hijos del contribuyente que tengan hasta 18 años de edad.
B26: 2. Los hijos del contribuyente con edad entre 18 y 23 años, cuando el padre o madre contribuyente persona natural se encuentre financiando su educación en instituciones formales de educación superior certificadas por el ICFES ' o la autoridad oficial correspondiente; o en los programas técnicos de educación no formal debidamente acreditados por la autoridad competente.
B27: 3. Los hijos del contribuyente mayores de 18 años que se encuentren en situación de dependencia originada en factores físicos o psicológicos que sean certificados por Medicina Legal.
B28: 4. El cónyuge o compañero permanente del contribuyente que se encuentre en situación de dependencia sea por ausencia de ingresos o ingresos en el año menores a doscientas sesenta (260) UVT, certificada por contador público, o por dependencia originada en factores físicos o psicológicos que sean certificados por Medicina Legal, y,
B29: 5. Los padres y los hermanos del contribuyente que se encuentren en situación de dependencia, sea por ausencia de ingresos o ingresos en el año menores a doscientas sesenta (260) UVT, certificada por contador público, o por dependencia originada en factores físicos o psicológicos que sean certificados por Medicina Legal.
A30: ¿ES OBJETO ACTUAL DE EMBARGO? | B30: Debe escoger una de las opciones que da la casilla "SI" o "NO"
A31: VALOR DEL EMBARGO (SI ES OBJETO A ELLO) | B31: Si tiene algún embargo debe incluir el valor a descontar
A32: TIENE DESCUENTOS POR LIBRANZA? | B32: Debe escoger una de las opciones que da la casilla "SI" o "NO"
A33: VALOR DEL DESCUENTO POR LIBRANZA (SI ES OBJETO A ELLO) | B33: Si tiene alguna libranza debe incluir el valor a descontar
A34: MES OBJETO DE COBRO EN ESTA PLANILLA | B34: Seleccione el mes al que corresponde el cobro de esta planilla
A35: MES AL CUAL CORRESPONDE LA COTIZACIÓN DE APORTES A SEGURIDAD SOCIAL | B35: Seleccione el mes al que corresponde el periodo de cotización de la seguridad social
A38: DATOS DEL SUPERVISOR
A39: NOMBRES Y APELLIDOS | B39: Nombres y apellidos del Supervisor del contrato
A40: CARGO | B40: Cargo del Supervisor del Contrato
A41: DIRECCIÓN ELECTRÓNICA | B41: Correo electrónico del supervisor
A43: DATOS DEL ORDENADOR DEL PAGO
A44: NOMBRES Y APELLIDOS | B44: Nombre del Director de área, Director Regional o Subdirector de Centro que autoriza el pago
A45: CARGO | B45: Cargo del ordenador del pago
A48: DATOS DEL CONTRATO OBJETO DE COBRO
A49: Nº DEL CONTRATO (Nº/año) | B49: Número y año correspondiente al contrato objeto de cobro
A50: FECHA DE INICIO | B50: Fecha de inicio del contrato
A51: FECHA DE TERMINACIÓN | B51: Fecha de terminación del contrato
A52: VALOR TOTAL DEL CONTRATO | B52: Específique el valor total del contrato. En caso de que pertenezca al régimen común informar este valor con IVA incluido
A53: Nº COMPROMISO SIIF | B53: Nº único de registro en el SIIF- Lo suministra presupuesto
A54: FORMA DE ESTIMACIÓN DEL PAGO | B54: Debe escoger una de las opciones que da la casilla
...

Sheet Hoja1
A1: 3181962 | B1: JAIME ENRIQUE CAMACHO PARDO | C1: 147000000 | F1: REGIONAL | G1: CENTRO - DEPENDENCIA | H1: NUMERO CONTRATO | I1: CTPS_VALR_INICIAL_CONTRTO | J1: OBJETO | K1: TIPO IDENTIFICACION | L1: NUMERO IDENTIFICACION | M1: NOMBRE CONTRATISTA
A2: 80082963 | B2: JERONIMO SILVA VALENZUELA | C2: 121000000 | F2: DIRECCION GENERAL | G2: DESPACHO DIRECCION DIGENERAL | H2: 92 | I2: 147000000 | J2: APOYAR AL SERVICIO NACIONAL DE APRENDIZAJE SENA EN LA GESTION DE SERVICIOS DE TECNOLOGIA DE INFORMACION Y COMUNICACIONES TIC DE ACUERDO AL PLAN ESTRATEGICO 2011-2014 Y EL SISTEMA INTEGRADO DE GESTION DE LA ENTIDAD. | K2: CÉDULA DE CIUDADANÍA | L2: 3181962 | M2: JAIME ENRIQUE CAMACHO PARDO
A3: 65633630 | B3: GREACE ANGELLY VANEGAS CAMACHO | C3: 134000000 | F3: DIRECCION GENERAL | G3: DESPACHO DIRECCION DIGENERAL | H3: 484 | I3: 121000000 | J3: BRINDAR APOYO A LA DIRECCION GENERAL DEL SENA EN LA COORDINACION, SEGUIMIENTO Y REVISION DE LAS SEDES REGIONALES Y SUS CENTROS DE FORMACION DE ACUERDO A LAS DIRECTRICES Y PARAMETROS DEL COMITE DE DIRECCION Y DEL CONSEJO DIRECTIVO DE LA ENTIDAD. | K3: CÉDULA DE CIUDADANÍA | L3: 80082963 | M3: JERONIMO SILVA VALENZUELA
A4: 52851341 | B4: ALLISON GONZALEZ CASTILLO | C4: 152000000 | F4: DIRECCION GENERAL | G4: DESPACHO DIRECCION DIGENERAL | H4: 489 | I4: 134000000 | J4: APOYAR AL DESPACHO DE LA DIRECCION GENERAL DEL SENA EN LA IMPLEMENTACION DE ESTRATEGIAS DE COMUNICACION ACORDES CON LOS MEDIOS MASIVOS DE COMUNICACION NACIONAL, ESTRATEGIAS DE COMUNICACION DIRIGIDAS A PUBLICOS ESPECIFICOS, MANEJO DE REDES SOCIALES Y DEMAS HERRAMIENTAS QUE PERMITAN MEJORAR LA IMAGEN | K4: CÉDULA DE CIUDADANÍA | L4: 65633630 | M4: GREACE ANGELLY VANEGAS CAMACHO
A5: 79148880 | B5: RODRIGO VERA JAIMES | C5: 152000000 | F5: DIRECCION GENERAL | G5: DESPACHO DIRECCION DIGENERAL | H5: 17 | I5: 152000000 | J5: APOYAR A LA DG DEL SENA EN EL SEGUIMIENTO A COMPROMISOS SURGIDOS DE REUNIONES DEL DIRECTOR GENERAL, EL ANALISIS Y ESTRUCTURACION DE NUEVOS INDICADORES DEL DESPACHO DEL DIRECTOR GENERAL | K5: CÉDULA DE CIUDADANÍA | L5: 52851341 | M5: ALLISON GONZALEZ CASTILLO
A6: 13440761 | B6: SAMUEL OTTO SALAZAR NIETO | C6: 148000000 | F6: DIRECCION GENERAL | G6: DESPACHO DIRECCION DIGENERAL | H6: 21 | I6: 152000000 | J6: CONSOLIDAR EN LA DIRECCION GENERAL LOS LINEAMIENTOS DE UN SISTEMA DE GESTION INTEGRAL BAJOLOS ESTANDARES INTERNACIONALES DELA ORGANIZACION ISO, EFECTUAR LA SENSIBILIZACION Y CAPACITACION EN CULTURA Y CALIDAD, AMBIENTAL Y SEGURIDAD Y SALUD OCUPACIONAL. | K6: CÉDULA DE CIUDADANÍA | L6: 79148880 | M6: RODRIGO VERA JAIMES
A7: 51732659 | B7: MARIA PATRICIA ASMAR AMADOR | C7: 147000000 | F7: DIRECCION GENERAL | G7: DESPACHO DIRECCION DIGENERAL | H7: 18 | I7: 148000000 | J7: APOYAR AL DESPACHO DE DG DEL SENA EN LA ELABORACION DE ESTRATEGIAS DE COMUNICACION ACORDES CON LAS TICS, LOS NUEVOS MEDIOS Y LAS TENDENCIAS QUE PERMITAN DIMANIZAR EL POSICIONAMIENTO DE LA IMAGEN INSTITUCIONAL, LA DIVULGACION DE LA OFERTA DEL SENA Y LA COMUNICACION INTERNA. | K7: CÉDULA DE CIUDADANÍA | L7: 13440761 | M7: SAMUEL OTTO SALAZAR NIETO
A8: 39152988 | B8: DIANA LIVINGSTON POMARE | C8: 131000000 | F8: DIRECCION GENERAL | G8: DESPACHO DIRECCION DIGENERAL | H8: 86 | I8: 147000000 | J8: APOYAR AL SENA EN LA EJECUCIÓN DE POLÍTICAS Y PROYECTOS PARA EL FORTALECIMIENTO DEL NIVEL REGIONAL DE LA ENTIDAD. | K8: CÉDULA DE CIUDADANÍA | L8: 51732659 | M8: MARIA PATRICIA ASMAR AMADOR
F9: SAN ANDRES | G9: CENTRO DE FORMACION TURISTICA GENTE DE | H9: 218 | I9: 131000000 | J9: PRESTACION DE SERVICIOS TEMPORALES COMO INSTRUCTOR TUTOR VIRTUAL | K9: CÉDULA DE CIUDADANÍA | L9: 39152988 | M9: DIANA LIVINGSTON POMARE
