Workbook
Name \0: #REF!
Name \0: #REF!
Name \00: #REF!
Name \00: #REF!
Name \a: #REF!
Name \a: #REF!
Name \AA: #REF!
Name \AA: #REF!
Name \b: #REF!
Name \b: #REF!
Name \bb: #REF!
Name \bb: #REF!
Name \c: #REF!
Name \E: #REF!
Name \E: #REF!
Name \EE: #REF!
Name \EE: #REF!
Name \G: #REF!
Name \G: #REF!
Name \i: #REF!
Name \k: #REF!
Name \k: #REF!
Name \l: #REF!
Name \l: #REF!
Name \M: #REF!
Name \M: #REF!
Name \ñ: #REF!
Name \ñ: #REF!
Name \P: #REF!
Name \P: #REF!
Name \R: #REF!
Name \R: #REF!
Name \s: #REF!
Name \s: #REF!
Name \t: #REF!
Name \V: #REF!
Name \X: AIU!ERR
Name \X: [0]!ERR
Name \Z: AIU!ERR
Name \Z: [0]!ERR
Name _________________________________________________i1: #REF!
Name ________________________________________________i1: #REF!
Name _______________________________________________i1: #REF!
Name ______________________________________________i1: #REF!
Name _____________________________________________i1: #REF!
Name ____________________________________________i1: #REF!
Name ___________________________________________i1: #REF!
Name __________________________________________i1: #REF!
Name _________________________________________i1: #REF!
Name ________________________________________i1: #REF!
Name _______________________________________i1: #REF!
Name ______________________________________i1: #REF!
Name _____________________________________i1: #REF!
Name ____________________________________i1: #REF!
Name ___________________________________i1: #REF!
Name __________________________________i1: #REF!
Name _________________________________i1: #REF!
Name ________________________________i1: #REF!
Name _______________________________i1: #REF!
Name ______________________________i1: #REF!

Sheet PRESUPUESTO
B2: Formulario 1 - Propuesta económica - Licitación de obra pública de infraestructura social
B3: Código | C3: CCE-EICP-FM-116
B4: Versión | C4: 1
B6: PRESUPUESTO OFICIAL ESTIMADO MC-LPO-0004-2025 CENTRO CULTURAL - CASA DE LOS SABERES MAGUI, NARIÑO
B7: [La Entidad puede utilizar este Formulario de detalle del Presupuesto Oficial para determinar las condiciones bajo las cuales los Proponentes analizarán y presentarán su propuesta económica de forma detallada, sin perjuicio que la Entidad pueda modificarlo o establecer la presentación de la oferta económica con un Formulario distinto al indicado.]
B8: Adicionalmente, cuando el Proceso de Contratación es estructurado por Precios Unitarios, la Entidad debe aplicar las notas 1, 2 y 3 del presente Formulario y las casillas de "Descripción", "Porcentaje" de la Administración, Imprevisto, Utilidad y total A.I.U. resaltadas en color amarillo. Tratándose de otras modalidades de precio, la Entidad puede o no configurar los mismos aspectos.
B10: ÍTEM DE PAGO | C10: DESCRIPCIÓN
B11: 1 | C11: ACTIVIDADES PRELIMINARES, DESMONTES Y DEMOLICIONES | D11: UND. | E11: CANTIDAD | F11: VALOR UNITARIO | G11: VALOR TOTAL
B12: 1.01 | C12: Preliminares | G12: =IFERROR(ROUND((E12*F12),0),"")
B13: 1.01.01 | C13: CERRAMIENTO PROVISIONAL EN TELA VERDE H=2.20 m, Incluye postes en madera rolliza y/o guadua, poli sombra verde y todos los elementos, materiales y mano de obra requeridos para su correcta ejecución | D13: m | E13: =ROUND((31.59+19.32+30.97+19.33),2) -> 101.21 | F13: 19299 | G13: =IFERROR(ROUND((E13*F13),0),"") -> 1953252
B14: 1.01.03 | C14: LOCALIZACIÓN TRAZADO Y REPLANTEO CON COMISIÓN TOPOGRÁFICA | D14: m2 | E14: 322 | F14: 3854 | G14: =IFERROR(ROUND((E14*F14),0),"") -> 1240988
B15: 1.01.04 | C15: RED AGUA PROVISIONAL, longitud 50 m, incluye trámite de conexión y contador | D15: u | E15: 1 | F15: 535959 | G15: =IFERROR(ROUND((E15*F15),0),"") -> 535959
B16: 1.01.05 | C16: RED ELÉCTRICA PROVISIONAL longitud 50 m, incluye trámite de conexión y contador | D16: u | E16: 1 | F16: 1747136 | G16: =IFERROR(ROUND((E16*F16),0),"") -> 1747136
B17: Total | D17: =SUBTOTAL(103,POE_PRELIMINARES[UND.]) -> 4 | G17: =SUBTOTAL(109,POE_PRELIMINARES[[VALOR TOTAL ]]) -> 5477335
B18: 2 | C18: MOVIMIENTO DE TIERRAS | D18: UND. | E18: CANTIDAD | F18: VALOR UNITARIO | G18: VALOR TOTAL
B19: 2.02 | C19: CORTE Y/O EXCAVACIÓN MANUAL y/o MECÁNICA DE TERRENO, (Para elementos estructurales, redes, y todos los elementos constructivos que lo requieran, unidad medida en bloque en planos o en terreno, no se reconocerán sobreanchos ni sobre excavaciones) incluye selección, trasiego, almacenamiento en obra, disposición interna en el proyecto, profundidad hasta 2,00 m. | D19: m3 | E19: =ROUND((1.1*525.7),2) -> 578.27 | F19: 48548 | G19: =IFERROR(ROUND($E19*$F19,0),"") -> 28073852
B20: 2.04 | C20: RELLENO CON MATERIAL SELECCIONADO PRODUCTO DE LA EXCAVACIÓN, compactado al 95%, aplica también para rellenos de redes. | D20: m3 | E20: =ROUND((1.1*326.24),2) -> 358.86 | F20: 27288 | G20: =IFERROR(ROUND($E20*$F20,0),"") -> 9792572
B21: 2.05 | C21: RELLENO MANUAL CON ARENA DE PEÑA LAVADA, atraque para tuberías (ver diseño de conexiones) Incluye suministro, extendida de manera uniforme. | D21: m3 | E21: 30.6 | F21: 233993 | G21: =IFERROR(ROUND($E21*$F21,0),"") -> 7160186
B22: 2.06 | C22: RELLENO CON MATERIAL SELECCIONADO GRANULAR TIPO B-200 compactado al 95% según estudio de suelos, incluye suministro del material | D22: m3 | E22: =ROUND((12.87*(1.5/2)),2) -> 9.65 | F22: 78977 | G22: =IFERROR(ROUND($E22*$F22,0),"") -> 762128
B23: Total | G23: =SUBTOTAL(109,PE_MOVIMIENTO_TIERRAS[[VALOR TOTAL ]]) -> 45788738
B24: 3 | C24: CIMENTACIÓN | D24: UND. | E24: CANTIDAD | F24: VALOR UNITARIO | G24: VALOR TOTAL
B25: 3.01 | C25: SOLADO DE LIMPIEZA e=0.05 m concreto f'c = 2000 psi, según recomendación estudio de suelos y planos estructurales | D25: m2 | E25: =ROUND(93,2) -> 93 | F25: 34659 | G25: =IFERROR(ROUND($E25*$F25,0),"") -> 3223287
B26: 3.02 | C26: CONCRETO CICLÓPEO (Según recomendación de estudio de suelos y diseño de cimentación), Incluye, mano de obra, herramienta, suministro de concreto y demás materiales necesarios para la realización de la actividad | D26: m3 | E26: =ROUND(48.15,2) -> 48.15 | F26: 368768 | G26: =IFERROR(ROUND($E26*$F26,0),"") -> 17756179
B27: 3.04 | C27: ZAPATAS EN CONCRETO IMPERMEABILIZADO, f'c = 3.500 PSI (Según recomendación de estudio de suelos y diseño de cimentación, no incluye acero de refuerzo), Incluye, formaleta, mano de obra, herramienta, suministro de concreto y demás materiales necesarios para la realización de la actividad | D27: m3 | E27: =ROUND(30.34,2) -> 30.34 | F27: 890012 | G27: =IFERROR(ROUND($E27*$F27,0),"") -> 27002964
B28: 3.07 | C28: VIGA DE AMARRE EN CONCRETO IMPERMEABILIZADO, f'c = 3.500 PSI (Según recomendación de estudio de suelos y diseño de cimentación, no incluye acero de refuerzo), Incluye formaleta, mano de obra, herramienta, suministro de concreto y demás materiales necesarios para la realización de la actividad. Incluye construcción de muesca para apoyo de placa de contrapiso según planos. | D28: m3 | E28: =ROUND(18.45,2) -> 18.45 | F28: 935528 | G28: =IFERROR(ROUND($E28*$F28,0),"") -> 17260492
B29: Total | G29: =SUBTOTAL(109,POE_CIMENTACIÓN[[VALOR TOTAL ]]) -> 65242922
B30: 4 | C30: REFUERZO | D30: UND. | E30: CANTIDAD | F30: VALOR UNITARIO | G30: VALOR TOTAL
B31: 4.01 | C31: Suministro e instalación de Acero De Refuerzo 60.000 PSI (Desperdicio incluido en el valor del APU) | D31: kg | E31: =ROUND(15170.67,2) -> 15170.67 | F31: 8357 | G31: =IFERROR(ROUND($E31*$F31,0),"") -> 126781289
B32: 4.02 | C32: Suministro e instalación de refuerzo en MALLA ELECTROSOLDADA (Desperdicio incluido en el valor del APU) | D32: kg | E32: =ROUND(1987.6,2) -> 1987.6 | F32: 8531 | G32: =IFERROR(ROUND($E32*$F32,0),"") -> 16956216
B33: 4.03 | C33: ANCLAJE MANUAL EMPLEANDO VARILLA Ø 3/8" PARA PERFORACIÓN Ø 1/2" PROF MAX 0,30 M FIJADO MEDIANTE EPÓXICO DE DOS COMPONENTES 100% SOLIDOS INSENSIBLE A LA HUMEDAD Y TIXOTRÓPICO | D33: u | E33: 50 | F33: 13178 | G33: =IFERROR(ROUND($E33*$F33,0),"") -> 658900
B34: 4.04 | C34: ANCLAJE MANUAL EMPLEANDO VARILLA Ø 1/2" PARA PERFORACIÓN Ø 5/8" PROF MAX 0,30 M FIJADO MEDIANTE EPÓXICO DE DOS COMPONENTES 100% SOLIDOS INSENSIBLE A LA HUMEDAD Y TIXOTRÓPICO | D34: u | E34: 40 | F34: 14708 | G34: =IFERROR(ROUND($E34*$F34,0),"") -> 588320
B35: Total | G35: =SUBTOTAL(109,POE_REFUERZO[[VALOR TOTAL ]]) -> 144984725
B36: 5 | C36: ESTRUCTURAS EN CONCRETO | D36: UND. | E36: CANTIDAD | F36: VALOR UNITARIO | G36: VALOR TOTAL
B37: 5.03 | C37: PLACA DE CONTRAPISO EN CONCRETO REFORZADO, f´c=20,7 Mpa (3.000 PSI) e=0.10, según diseño de cimentación y diseño estructural, incluye formaleta, juntas de construcción y de dilatación ubicadas según detalle constructivo, mano de obra, herramienta, suministro de concreto y demás materiales necesarios para la realización de la actividad | D37: m2 | E37: =ROUND(279.02+11.505,2) -> 290.53 | F37: 139882 | G37: =IFERROR(ROUND($E37*$F37,0),"") -> 40639917
B38: 5.07 | C38: CONSTRUCCIÓN DE ESCALERA EN CONCRETO 20,7 Mpa (3.000 PSI) sobre terreno e = 0,12 m | D38: m2 | E38: =ROUND((26.091+1.1),2) -> 27.19 | F38: 125177 | G38: =IFERROR(ROUND($E38*$F38,0),"") -> 3403563
B39: 5.09 | C39: CORTE EN PLACA PARA DILATACIONES DE PISO, con máquina cortadora y disco diamantado h.=1/3 espesor de la placa de contrapiso / entrepiso Pf.>4,1<=7,0 cm (ver adicional el ítem de sellante). | D39: m | E39: =ROUND(34.4,2) -> 34.4 | F39: 6499 | G39: =IFERROR(ROUND($E39*$F39,0),"") -> 223566
B40: 5.10 | C40: Suministro y aplicación de sellante elástico de poliuretano de alta resistencia química para juntas de dilatación de medidas Pf.>4,1<=10,0 mm a.>6,1<=10,0 mm, tipo Sika Flex Pro 3 WF de SIKA o equivalente de igual calidad o superior. Incluye limpieza en seco de las caras laterales de contacto, y perfil cilíndrico de espuma de polietileno de célula cerrada ø.=5/8" (16,0 mm) para limitar la profundidad a rellenar, tipo SikaRod de SIKA o equivalente. | D40: m | E40: =ROUND(34.2,2) -> 34.2 | F40: 19508 | G40: =IFERROR(ROUND($E40*$F40,0),"") -> 667174
B41: 5.11 | C41: COLUMNA DE CONCRETO REFORZADO f´c=28 Mpa (4.000 PSI), dimensiones según diseño, incluye formaleta metálica acabo liso, mano de obra, herramienta, suministro de concreto y demás materiales necesarios para la realización de la actividad | D41: m3 | E41: =ROUND(14.27,2) -> 14.27 | F41: 1093636 | G41: =IFERROR(ROUND($E41*$F41,0),"") -> 15606186
B42: 5.14 | C42: VIGA AÉREA EN CONCRETO REFORZADO f´c=28 Mpa (4.000 PSI), dimensiones según diseño, incluye formaleta metálica acabo liso, mano de obra, herramienta, suministro de concreto y demás materiales necesarios para la realización de la actividad | D42: m3 | E42: =ROUND(33.77,2) -> 33.77 | F42: 1166317 | G42: =IFERROR(ROUND($E42*$F42,0),"") -> 39386525
B43: 5.18 | C43: LOSA DE ENTREPISO MACIZA EN CONCRETO REFORZADO f'c = 4000 PSI (e=0.10) Según diseños, dimensiones y detalles según diseño, incluye formaleta, mano de obra, herramienta, suministro de concreto y demás materiales necesarios para la realización de la actividad | D43: m2 | E43: =ROUND(10.5,2) -> 10.5 | F43: 223392 | G43: =IFERROR(ROUND($E43*$F43,0),"") -> 2345616
...

Sheet AIU
C1: MC-LPO-0004-2025 CENTRO CULTURAL - CASA DE LOS SABERES MAGUI, NARIÑO | L1: 1264461957 | M1: VALOR presupuestado PROCESO
L2: 935945194 | M2: COSTO DIRECTO
C3: ANALISIS DEL AIU | L3: =+L1-L2 -> 328516763 | M3: COSTO INDIRECTO
C5: A1- IMPUESTOS Y PÓLIZAS | D5: Unidad | E5: Porcentaje | G5: Cantidad | I5: COSTO | L5: =L3=I52 -> FALSE
A6: A1 | C6: Retefuente | D6: Global | E6: 0.02 | G6: 1 | I6: =ROUND(($L$1-$I$51)*G6*E6,0) -> 25111410
C7: Contribución contratos O.P. | D7: Global | E7: 0.05 | G7: 1 | I7: =ROUND(($L$1-$I$51)*G7*E7,0) -> 62778524
C8: Transacciones financieras (4 x 1000) | D8: Global | E8: 0.004 | G8: 1 | I8: =ROUND(($L$1-$I$51)*G8*E8,0) -> 5022282
C9: Rete ICA 6.9/1000 | D9: Global | E9: 0.0069 | G9: 1 | I9: =ROUND(($L$1-$I$51)*G9*E9,0) -> 8663436
C10: FIC | D10: Global | E10: 0.0025 | G10: 1 | I10: =ROUND(($L$1-$I$51)*G10*E10,0) -> 3138926
C11: Estampilla Pro Universidad Nacional | D11: Global | E11: 0.005 | G11: 1 | I11: =ROUND(($L$1-$I$51)*G11*E11,0) -> 6277852
C12: Impuesto de Timbre | D12: Global | E12: 0.005 | G12: 1 | I12: =ROUND(($L$1-$I$51)*G12*E12,0) -> 6277852
C13: Administración fiducia 1 SMMLV por mes de duración | D13: Mes | E13: 1488981 | G13: 3 | I13: =ROUND(G13*E13,0) -> 4466943
C14: Pólizas | D14: Global | E14: 0.01252 | G14: 1 | I14: =ROUND($L$1*G14*E14,0) -> 15831064
C15: PORCENTAJE IMPUESTOS Y OTROS SOBRE CONTRATO | E15: =SUM(E6:E14) -> 1488981.1 | I15: =SUM(I6:I14) -> 137568289
C17: A2- PERSONAL | D17: VALOR BRUTO | E17: Carga Prestacional | F17: DEDICACION % | G17: Cantidad Y/O Turnos | H17: Plazo (mes) | I17: VALOR NETO
A18: A2 | C18: Director de Diseños y Obra | D18: 7415424 | E18: 1.6019 | F18: 0.3 | G18: 1 | H18: 6 | I18: =IFERROR(ROUND(E18*D18*G18*F18*H18,0),"") -> 21381782
C19: Residente de obra | D19: 5372002 | E19: 1.6019 | F19: 1 | G19: 1 | H19: 6 | I19: =IFERROR(ROUND(E19*D19*G19*F19*H19,0),"") -> 51632460
C20: Profesional Social | D20: 4500046 | E20: 1.6019 | F20: 0.3 | G20: 1 | H20: 6 | I20: =IFERROR(ROUND(E20*D20*G20*F20*H20,0),"") -> 12975523
C21: Especialista en geotecnia | D21: 4500046 | E21: 1.6019 | F21: 0.2 | G21: 1 | H21: 2 | I21: =IFERROR(ROUND(E21*D21*G21*F21*H21,0),"") -> 2883449
C22: Especialista estructural | D22: 4500046 | E22: 1.6019 | F22: 0.2 | G22: 1 | H22: 3 | I22: =IFERROR(ROUND(E22*D22*G22*F22*H22,0),"") -> 4325174
C23: Especialista Hidrosanitario | D23: 4500046 | E23: 1.6019 | F23: 0.15 | G23: 1 | H23: 3 | I23: =IFERROR(ROUND(E23*D23*G23*F23*H23,0),"") -> 3243881
C24: Especialista eléctrico de iluminación y electrónico | D24: 4500046 | E24: 1.6019 | F24: 0.15 | G24: 1 | H24: 3 | I24: =IFERROR(ROUND(E24*D24*G24*F24*H24,0),"") -> 3243881
C25: Profesional en Seguridad y Salud en el Trabajo, y medio ambiente | D25: 4500046 | E25: 1.6019 | F25: 0.5 | G25: 1 | H25: 6 | I25: =IFERROR(ROUND(E25*D25*G25*F25*H25,0),"") -> 21625871
I26: =IFERROR(ROUND(E26*D26*G26*F26*H26,0),"") -> 0
I27: =IFERROR(ROUND(E27*D27*G27*F27*H27,0),"") -> 0
I28: =IFERROR(ROUND(E28*D28*G28*F28*H28,0),"") -> 0
C29: PERSONAL | I29: =SUM(I18:I28) -> 121312021
C31: GASTOS GENERALES | D31: UN | F31: CANTIDAD | H31: VALOR BRUTO | I31: VALOR NETO
A32: A3 | C32: PAPELERÍA, FOTOCOPIAS Y EQUIPOS | D32: mes | F32: 6 | H32: 12680.784 | I32: =ROUND(H32*F32,0) -> 76085
C33: EQUIPOS OFICINA (COMPUTADORES Y ESCANER) (3 UNIDADES) | D33: mes | F33: 6 | H33: 339150 | I33: =ROUND(H33*F33,0) -> 2034900
C34: EQUIPOS DE COMUNICACIÓN | D34: mes | F34: 6 | H34: 82699.588 | I34: =ROUND(H34*F34,0) -> 496198
C35: SOFTWARE LICENCIADO | D35: Global | F35: 1 | H35: 608687 | I35: =ROUND(H35*F35,0) -> 608687
C36: ADECUACION ESPACIO PARA ALMACÉN, MUEBLES, BAÑOS (INCLUYE RETIRO AL FINALIZAR LA OBRA) | D36: Global | F36: 1 | H36: 1351000 | I36: =ROUND(H36*F36,0) -> 1351000
C37: IMPLEMENTACIÓN PLAN AMBIENTAL Y SEGURIDAD INDUSTRIAL - Elementos de seguridad Industrial, incluye trabajo de alturas, señalizacion y proteccion de zonas de trabajo | D37: Global | F37: 1 | H37: 4267205 | I37: =ROUND(H37*F37,0) -> 4267205
C38: ENSAYOS DE LABORATORIO (incluiye pueba de tintas, concretos, aceros, ferroscan) | D38: Global | F38: 1 | H38: =4672000-24400 -> 4647600 | I38: =ROUND(H38*F38,0) -> 4647600
C39: SERVICIOS PÚBLICOS | D39: mes | F39: 6 | H39: =120000+50000+200000 -> 370000 | I39: =ROUND(H39*F39,0) -> 2220000
C40: IMPLEMENTACIÓN PLAN DE MANEJO DE TRANSITO - Elementos de seguridad Industrial, señalizacion y proteccion de zonas de trabajo | D40: Global | F40: 1 | H40: 569340.94 | I40: =ROUND(H40*F40,0) -> 569341
C41: VALLA INFORMATIVA DEL PROYECTO (2,00 X3,00MTS) BANNER CON OJALETES CON ESTRUCTURA METALICA DE SOPORTE | D41: Global | F41: 1 | H41: 1843657 | I41: =ROUND(H41*F41,0) -> 1843657
C42: GASTOS GENERALES | I42: =SUM(I32:I41) -> 18114673
C44: TOTAL ADMINISTRACIÓN | E44: PORCENTAJE | H44: =+I44/I46 -> 0.29595214 | I44: =+I42+I29+I15 -> 276994983
...

Sheet FORMULARIO 1
B2: Formulario 1 - Propuesta económica - Licitación de obra pública de infraestructura social
B3: Código | C3: CCE-EICP-FM-116
B4: Versión | C4: 1
B6: FORMULARIO 1 - MC-LPO-0004-2025 CENTRO CULTURAL - CASA DE LOS SABERES MAGUI, NARIÑO
B7: [La Entidad puede utilizar este Formulario de presentación de Propuesta Económica de forma detallada, sin perjuicio que la Entidad pueda modificarlo o establecer la presentación de la oferta económica con un Formulario distinto al indicado.] [Los Proponentes emplearán el Formulario establecido por la Entidad para determinar su propuesta económica conforme al Formulario 1 - Presupuesto Oficial publicado por la Entidad]
B8: Adicionalmente, cuando el Proceso de Contratación es estructurado por Precios Unitarios, la Entidad debe aplicar las notas 1, 2 y 3 del presente Formulario y las casillas de "Descripción", "Porcentaje" de la Administración, Imprevisto, Utilidad y total A.I.U. resaltadas en color amarillo. Tratándose de otras modalidades de precio, la Entidad puede o no configurar los mismos aspectos.
B10: ÍTEM DE PAGO | C10: DESCRIPCIÓN
B11: 1 | C11: ACTIVIDADES PRELIMINARES, DESMONTES Y DEMOLICIONES | D11: UND. | E11: CANTIDAD | F11: VALOR UNITARIO OFICIAL | G11: VALOR UNITARIO OFERTADO | H11: VALOR TOTAL
B12: 1.01 | C12: Preliminares | H12: =IFERROR(ROUND((E12*G12),0),"")
B13: 1.01.01 | C13: CERRAMIENTO PROVISIONAL EN TELA VERDE H=2.20 m, Incluye postes en madera rolliza y/o guadua, poli sombra verde y todos los elementos, materiales y mano de obra requeridos para su correcta ejecución | D13: m | E13: =ROUND((31.59+19.32+30.97+19.33),2) -> 101.21 | F13: 19299 | G13: 17614.2 | H13: =IFERROR(ROUND((E13*G13),0),"") -> 1782733
B14: 1.01.03 | C14: LOCALIZACIÓN TRAZADO Y REPLANTEO CON COMISIÓN TOPOGRÁFICA | D14: m2 | E14: 322 | F14: 3854 | G14: 3517.55 | H14: =IFERROR(ROUND((E14*G14),0),"") -> 1132651
B15: 1.01.04 | C15: RED AGUA PROVISIONAL, longitud 50 m, incluye trámite de conexión y contador | D15: u | E15: 1 | F15: 535959 | G15: 489169.78 | H15: =IFERROR(ROUND((E15*G15),0),"") -> 489170
B16: 1.01.05 | C16: RED ELÉCTRICA PROVISIONAL longitud 50 m, incluye trámite de conexión y contador | D16: u | E16: 1 | F16: 1747136 | G16: 1594611 | H16: =IFERROR(ROUND((E16*G16),0),"") -> 1594611
B17: Total | D17: =SUBTOTAL(103,'FORMULARIO 1'!$D$12:$D$16) -> 4 | H17: =SUBTOTAL(109,'FORMULARIO 1'!$H$12:$H$16) -> 4999165
B18: 2 | C18: MOVIMIENTO DE TIERRAS | D18: UND. | E18: CANTIDAD | F18: VALOR UNITARIO OFICIAL | G18: VALOR UNITARIO OFERTADO | H18: VALOR TOTAL
B19: 2.02 | C19: CORTE Y/O EXCAVACIÓN MANUAL y/o MECÁNICA DE TERRENO, (Para elementos estructurales, redes, y todos los elementos constructivos que lo requieran, unidad medida en bloque en planos o en terreno, no se reconocerán sobreanchos ni sobre excavaciones) incluye selección, trasiego, almacenamiento en obra, disposición interna en el proyecto, profundidad hasta 2,00 m. | D19: m3 | E19: =ROUND((1.1*525.7),2) -> 578.27 | F19: 48548 | G19: 44309.76 | H19: =IFERROR(ROUND($E19*$G19,0),"") -> 25623005
B20: 2.04 | C20: RELLENO CON MATERIAL SELECCIONADO PRODUCTO DE LA EXCAVACIÓN, compactado al 95%, aplica también para rellenos de redes. | D20: m3 | E20: =ROUND((1.1*326.24),2) -> 358.86 | F20: 27288 | G20: 24905.76 | H20: =IFERROR(ROUND($E20*$G20,0),"") -> 8937681
B21: 2.05 | C21: RELLENO MANUAL CON ARENA DE PEÑA LAVADA, atraque para tuberías (ver diseño de conexiones) Incluye suministro, extendida de manera uniforme. | D21: m3 | E21: 30.6 | F21: 233993 | G21: 213565.41 | H21: =IFERROR(ROUND($E21*$G21,0),"") -> 6535102
B22: 2.06 | C22: RELLENO CON MATERIAL SELECCIONADO GRANULAR TIPO B-200 compactado al 95% según estudio de suelos, incluye suministro del material | D22: m3 | E22: =ROUND((12.87*(1.5/2)),2) -> 9.65 | F22: 78977 | G22: 72082.31 | H22: =IFERROR(ROUND($E22*$G22,0),"") -> 695594
B23: Total | H23: =SUBTOTAL(109,'FORMULARIO 1'!$H$19:$H$22) -> 41791382
B24: 3 | C24: CIMENTACIÓN | D24: UND. | E24: CANTIDAD | F24: VALOR UNITARIO OFICIAL | G24: VALOR UNITARIO OFERTADO | H24: VALOR TOTAL
B25: 3.01 | C25: SOLADO DE LIMPIEZA e=0.05 m concreto f'c = 2000 psi, según recomendación estudio de suelos y planos estructurales | D25: m2 | E25: =ROUND(93,2) -> 93 | F25: 34659 | G25: 31633.27 | H25: =IFERROR(ROUND($E25*$G25,0),"") -> 2941894
B26: 3.02 | C26: CONCRETO CICLÓPEO (Según recomendación de estudio de suelos y diseño de cimentación), Incluye, mano de obra, herramienta, suministro de concreto y demás materiales necesarios para la realización de la actividad | D26: m3 | E26: =ROUND(48.15,2) -> 48.15 | F26: 368768 | G26: 336574.55 | H26: =IFERROR(ROUND($E26*$G26,0),"") -> 16206065
B27: 3.04 | C27: ZAPATAS EN CONCRETO IMPERMEABILIZADO, f'c = 3.500 PSI (Según recomendación de estudio de suelos y diseño de cimentación, no incluye acero de refuerzo), Incluye, formaleta, mano de obra, herramienta, suministro de concreto y demás materiales necesarios para la realización de la actividad | D27: m3 | E27: =ROUND(30.34,2) -> 30.34 | F27: 890012 | G27: 812313.95 | H27: =IFERROR(ROUND($E27*$G27,0),"") -> 24645605
B28: 3.07 | C28: VIGA DE AMARRE EN CONCRETO IMPERMEABILIZADO, f'c = 3.500 PSI (Según recomendación de estudio de suelos y diseño de cimentación, no incluye acero de refuerzo), Incluye formaleta, mano de obra, herramienta, suministro de concreto y demás materiales necesarios para la realización de la actividad. Incluye construcción de muesca para apoyo de placa de contrapiso según planos. | D28: m3 | E28: =ROUND(18.45,2) -> 18.45 | F28: 935528 | G28: 853856.41 | H28: =IFERROR(ROUND($E28*$G28,0),"") -> 15753651
B29: Total | H29: =SUBTOTAL(109,'FORMULARIO 1'!$H$25:$H$28) -> 59547215
B30: 4 | C30: REFUERZO | D30: UND. | E30: CANTIDAD | F30: VALOR UNITARIO OFICIAL | G30: VALOR UNITARIO OFERTADO | H30: VALOR TOTAL
B31: 4.01 | C31: Suministro e instalación de Acero De Refuerzo 60.000 PSI (Desperdicio incluido en el valor del APU) | D31: kg | E31: =ROUND(15170.67,2) -> 15170.67 | F31: 8357 | G31: 7627.43 | H31: =IFERROR(ROUND($E31*$G31,0),"") -> 115713223
B32: 4.02 | C32: Suministro e instalación de refuerzo en MALLA ELECTROSOLDADA (Desperdicio incluido en el valor del APU) | D32: kg | E32: =ROUND(1987.6,2) -> 1987.6 | F32: 8531 | G32: 7786.24 | H32: =IFERROR(ROUND($E32*$G32,0),"") -> 15475931
B33: 4.03 | C33: ANCLAJE MANUAL EMPLEANDO VARILLA Ø 3/8" PARA PERFORACIÓN Ø 1/2" PROF MAX 0,30 M FIJADO MEDIANTE EPÓXICO DE DOS COMPONENTES 100% SOLIDOS INSENSIBLE A LA HUMEDAD Y TIXOTRÓPICO | D33: u | E33: 50 | F33: 13178 | G33: 12027.56 | H33: =IFERROR(ROUND($E33*$G33,0),"") -> 601378
B34: 4.04 | C34: ANCLAJE MANUAL EMPLEANDO VARILLA Ø 1/2" PARA PERFORACIÓN Ø 5/8" PROF MAX 0,30 M FIJADO MEDIANTE EPÓXICO DE DOS COMPONENTES 100% SOLIDOS INSENSIBLE A LA HUMEDAD Y TIXOTRÓPICO | D34: u | E34: 40 | F34: 14708 | G34: 13423.99 | H34: =IFERROR(ROUND($E34*$G34,0),"") -> 536960
B35: Total | H35: =SUBTOTAL(109,'FORMULARIO 1'!$H$31:$H$34) -> 132327492
B36: 5 | C36: ESTRUCTURAS EN CONCRETO | D36: UND. | E36: CANTIDAD | F36: VALOR UNITARIO OFICIAL | G36: VALOR UNITARIO OFERTADO | H36: VALOR TOTAL
B37: 5.03 | C37: PLACA DE CONTRAPISO EN CONCRETO REFORZADO, f´c=20,7 Mpa (3.000 PSI) e=0.10, según diseño de cimentación y diseño estructural, incluye formaleta, juntas de construcción y de dilatación ubicadas según detalle constructivo, mano de obra, herramienta, suministro de concreto y demás materiales necesarios para la realización de la actividad | D37: m2 | E37: =ROUND(279.02+11.505,2) -> 290.53 | F37: 139882 | G37: 127670.3 | H37: =IFERROR(ROUND($E37*$G37,0),"") -> 37092052
B38: 5.07 | C38: CONSTRUCCIÓN DE ESCALERA EN CONCRETO 20,7 Mpa (3.000 PSI) sobre terreno e = 0,12 m | D38: m2 | E38: =ROUND((26.091+1.1),2) -> 27.19 | F38: 125177 | G38: 114249.05 | H38: =IFERROR(ROUND($E38*$G38,0),"") -> 3106432
B39: 5.09 | C39: CORTE EN PLACA PARA DILATACIONES DE PISO, con máquina cortadora y disco diamantado h.=1/3 espesor de la placa de contrapiso / entrepiso Pf.>4,1<=7,0 cm (ver adicional el ítem de sellante). | D39: m | E39: =ROUND(34.4,2) -> 34.4 | F39: 6499 | G39: 5931.64 | H39: =IFERROR(ROUND($E39*$G39,0),"") -> 204048
B40: 5.10 | C40: Suministro y aplicación de sellante elástico de poliuretano de alta resistencia química para juntas de dilatación de medidas Pf.>4,1<=10,0 mm a.>6,1<=10,0 mm, tipo Sika Flex Pro 3 WF de SIKA o equivalente de igual calidad o superior. Incluye limpieza en seco de las caras laterales de contacto, y perfil cilíndrico de espuma de polietileno de célula cerrada ø.=5/8" (16,0 mm) para limitar la profundidad a rellenar, tipo SikaRod de SIKA o equivalente. | D40: m | E40: =ROUND(34.2,2) -> 34.2 | F40: 19508 | G40: 17804.95 | H40: =IFERROR(ROUND($E40*$G40,0),"") -> 608929
B41: 5.11 | C41: COLUMNA DE CONCRETO REFORZADO f´c=28 Mpa (4.000 PSI), dimensiones según diseño, incluye formaleta metálica acabo liso, mano de obra, herramienta, suministro de concreto y demás materiales necesarios para la realización de la actividad | D41: m3 | E41: =ROUND(14.27,2) -> 14.27 | F41: 1093636 | G41: 998161.58 | H41: =IFERROR(ROUND($E41*$G41,0),"") -> 14243766
B42: 5.14 | C42: VIGA AÉREA EN CONCRETO REFORZADO f´c=28 Mpa (4.000 PSI), dimensiones según diseño, incluye formaleta metálica acabo liso, mano de obra, herramienta, suministro de concreto y demás materiales necesarios para la realización de la actividad | D42: m3 | E42: =ROUND(33.77,2) -> 33.77 | F42: 1166317 | G42: 1064497.5 | H42: =IFERROR(ROUND($E42*$G42,0),"") -> 35948082
B43: 5.18 | C43: LOSA DE ENTREPISO MACIZA EN CONCRETO REFORZADO f'c = 4000 PSI (e=0.10) Según diseños, dimensiones y detalles según diseño, incluye formaleta, mano de obra, herramienta, suministro de concreto y demás materiales necesarios para la realización de la actividad | D43: m2 | E43: =ROUND(10.5,2) -> 10.5 | F43: 223392 | G43: 203889.88 | H43: =IFERROR(ROUND($E43*$G43,0),"") -> 2140844
...
