Workbook

Sheet GAS COMBUSTIBLE
B2: DESCRIPCIÓN | C2: CANTIDAD | D2: COTIZACIÓN N°1 | E2: COTIZACIÓN N°2 | F2: COTIZACIÓN N°3 | G2: PRODEIO
B3: CILINDRO GAS 40 lb | C3: 1 | D3: 122000 | E3: 135000 | F3: 128500 | G3: =(D3+E3+F3)/3 -> 128500
B4: CILINDRO GAS 100 lb | C4: 1 | D4: 320000 | E4: 345000 | F4: 332500 | G4: =(D4+E4+F4)/3 -> 332500
B7: ESTABLECIMIENTOS EDUCATIVOS | C7: CUPOS | D7: PRESENTACIÓN | E7: CANTIDAD/MES | F7: 7 MESES | G7: VALOR TOTAL
B8: I.E AURELIO MEJIA | C8: 368 | D8: 100 lb | E8: 1 | F8: 7 | G8: =(E8*F8*$G$4) -> 2327500
B9: SEDE ASTURIAS | C9: 32 | D9: 40 lb | E9: 1 | F9: 7 | G9: =(E9*F9*$G$3) -> 899500
B10: SEDE LOS COMUNEROS | C10: 59 | D10: 40 lb | E10: 1 | F10: 7 | G10: =(E10*F10*$G$3) -> 899500
B11: SEDE SAN JUDAS | C11: 27 | D11: 40 lb | E11: 1 | F11: 7 | G11: =(E11*F11*$G$3) -> 899500
B12: SEDE SAN LORENZO | C12: 15 | D12: 40 lb | E12: 1 | F12: 7 | G12: =(E12*F12*$G$3) -> 899500
B13: SEDE BUENOS AIRES | C13: 237 | D13: 100 lb | E13: 1 | F13: 7 | G13: =(E13*F13*$G$4) -> 2327500
B14: SEDE ROMUALDO GALLEGO | C14: 319 | D14: 100 lb | E14: 1 | F14: 7 | G14: =(E14*F14*$G$4) -> 2327500
B15: I. E GUARUMO | C15: 949 | D15: 100 lb | E15: 2 | F15: 7 | G15: =(E15*F15*$G$4) -> 4655000
B16: SEDE RIOMAN | C16: 174 | D16: 40 lb | E16: 1 | F16: 7 | G16: =(E16*F16*$G$3) -> 899500
B17: I.E MANIZALEZ | C17: 195 | D17: 100 lb | E17: 1 | F17: 7 | G17: =(E17*F17*$G$4) -> 2327500
B18: SEDE NICARAGUA | C18: 21 | D18: 40 lb | E18: 1 | F18: 7 | G18: =(E18*F18*$G$3) -> 899500
B19: SEDE SANTA LUCIA | C19: 15 | D19: 40 lb | E19: 1 | F19: 7 | G19: =(E19*F19*$G$3) -> 899500
B20: I.E PIAMONTE | C20: 317 | D20: 100 lb | E20: 1 | F20: 7 | G20: =(E20*F20*$G$4) -> 2327500
B21: SEDE SAN MATIAS | C21: 58 | D21: 40 lb | E21: 1 | F21: 7 | G21: =(E21*F21*$G$3) -> 899500
B22: SEDE AGUA LINDA | C22: 8 | D22: 40 lb | E22: 1 | F22: 7 | G22: =(E22*F22*$G$3) -> 899500
B23: SEDE CACUCHO | C23: 16 | D23: 40 lb | E23: 1 | F23: 7 | G23: =(E23*F23*$G$3) -> 899500
B24: SEDE LA GRANJA | C24: 27 | D24: 40 lb | E24: 1 | F24: 7 | G24: =(E24*F24*$G$3) -> 899500
B25: I.E GASPAR DE RODAS | C25: 1222 | D25: 100 lb | E25: 2 | F25: 7 | G25: =(E25*F25*$G$4) -> 4655000
B26: SEDE LA CEIBA | C26: 16 | D26: 40 lb | E26: 1 | F26: 7 | G26: =(E26*F26*$G$3) -> 899500
B27: C.E.R SANTA INES DEL MONTE | C27: 68 | D27: 40 lb | E27: 1 | F27: 7 | G27: =(E27*F27*$G$3) -> 899500
B28: SEDE LA LANCHA | C28: 28 | D28: 40 lb | E28: 1 | F28: 7 | G28: =(E28*F28*$G$3) -> 899500
B29: SEDE GETSEMANI | C29: 53 | D29: 40 lb | E29: 1 | F29: 7 | G29: =(E29*F29*$G$3) -> 899500
B30: SEDE PATIO BONITO | C30: 8 | D30: 40 lb | E30: 1 | F30: 7 | G30: =(E30*F30*$G$3) -> 899500
B31: I.E.R EL TIGRE | C31: 121 | D31: 40 lb | E31: 1 | F31: 7 | G31: =(E31*F31*$G$3) -> 899500
B32: E.R EL CALVARIO | C32: 15 | D32: 40 lb | E32: 1 | F32: 7 | G32: =(E32*F32*$G$3) -> 899500
B33: E.R ALTO TAMANA | C33: 8 | D33: 40 lb | E33: 1 | F33: 7 | G33: =(E33*F33*$G$3) -> 899500
B34: C.E.R PELADERO | C34: 34 | D34: 40 lb | E34: 1 | F34: 7 | G34: =(E34*F34*$G$3) -> 899500
B35: E.R ESPIRITU SANTO | C35: 79 | D35: 40 lb | E35: 1 | F35: 7 | G35: =(E35*F35*$G$3) -> 899500
B36: E.R.I MURIBA | C36: 56 | D36: 40 lb | E36: 1 | F36: 7 | G36: =(E36*F36*$G$3) -> 899500
B37: ESCUELA LA FLORESTA | C37: 89 | D37: 40 lb | E37: 1 | F37: 7 | G37: =(E37*F37*$G$3) -> 899500
... B74: I.E.R MARIANO SUAREZ ALTOS DE TIGRE | C74: 60 | D74: 40 lb | E74: 1 | F74: 7 | G74: =(E74*F74*$G$3) -> 899500
B75: SEDE BUENOS AIRES | C75: 237 | D75: 100 lb | E75: 1 | F75: 7 | G75: =(E75*F75*$G$4) -> 2327500
B76: SEDE ROMUALDO GALLEGO | C76: 346 | D76: 100 lb | E76: 1 | F76: 7 | G76: =(E76*F76*$G$4) -> 2327500
B77: VALOR TOTAL GAS COMBUSTIBLE | G77: =SUM(G8:G76) -> 79572500
B80: PAE REGULAR MAYORITARIO
B81: PAE REGULAR INDÍGENA
...

Sheet ALIMENTOS
B3: DESCRIPCIÓN | C3: PRESENTACIÓN | D3: COTIZACIÓN N°1 | E3: COTIZACIÓN N°2 | F3: COTIZACIÓN N°3 | G3: PROMEDIO
B4: ACEITE | C4: 500 ml | D4: 5950 | E4: 4200 | F4: 7500 | G4: =(D4+E4+F4)/3 -> 5883.3333
B5: ARROZ | C5: 500 gr | D5: 2900 | E5: 2400 | F5: 2900 | G5: =(D5+E5+F5)/3 -> 2733.3333
B6: HARINA DE TRIGO | C6: 500 gr | D6: 3300 | E6: 2000 | F6: 2350 | G6: =(D6+E6+F6)/3 -> 2550
B7: HARINA DE MAIZ | C7: 500 gr | D7: 4500 | E7: 3200 | F7: 3400 | G7: =(D7+E7+F7)/3 -> 3700
B8: AZÚCAR | C8: 500 gr | D8: 3500 | E8: 2800 | F8: 2700 | G8: =(D8+E8+F8)/3 -> 3000
B9: PANELA | C9: 500 gr | D9: 2600 | E9: 2200 | F9: 5100 | G9: =(D9+E9+F9)/3 -> 3300
B10: FRIJOL | C10: 500 gr | D10: 6400 | E10: 4500 | F10: 6300 | G10: =(D10+E10+F10)/3 -> 5733.3333
B11: SAL | C11: 500 gr | D11: 3500 | E11: 1200 | F11: 1700 | G11: =(D11+E11+F11)/3 -> 2133.3333
B12: HUEVO TIPO A | C12: Und | D12: 700 | E12: 600 | F12: 700 | G12: =(D12+E12+F12)/3 -> 666.66667
B13: PAN BOLA - 50 gr | C13: Und | D13: 1700 | E13: 800 | F13: 1700 | G13: =(D13+E13+F13)/3 -> 1400
B14: PAN HAMBURGUESA - 50 gr | C14: Und | D14: 850 | E14: 1400 | F14: 2500 | G14: =(D14+E14+F14)/3 -> 1583.3333
B15: GALLETA DE SAL | C15: 335 gr | D15: 5900 | E15: 5800 | F15: 4650 | G15: =(D15+E15+F15)/3 -> 5450
... B102: AJÍ DULCE | C102: 500 gr | D102: 4490 | E102: 4500 | F102: 4480 | G102: =(D102+E102+F102)/3 -> 4490

Sheet PAE REGULAR
B2: PAE REGULAR MAYORITARIO
B3: PRODUCTOS | C3: MENÚ N°1 | D3: MENÚ N°2 | E3: MENÚ N°3 | F3: MENÚ N°4 | G3: MENÚ N°5 | H3: MENÚ N°6 | I3: MENÚ N°7 | J3: MENÚ N°8 | K3: MENÚ N°9 | L3: MENÚ N°10 | M3: MENÚ N°11 | N3: MENÚ N°12 | O3: MENÚ N°13 | P3: MENÚ N°14 | Q3: MENÚ N°15 | R3: MENÚ N°16 | S3: MENÚ N°17 | T3: MENÚ N°18 | U3: MENÚ N°19 | V3: MENÚ N°20 | W3: TOTAL | X3: 5,310 CUPOS | Y3: PRESENTACIÓN | Z3: CANTIDAD LIBRA - 1/2 LITRO | AA3: CANTIDAD REDONDEADA | AB3: VALOR UNITARIO | AC3: VALOR 20 MENÚS - 583 CUPOS | AD3: VALOR 6 ENTREGAS - 20 MENÚS
B4: ACEITE | C4: 5 | D4: 9 | E4: 1 | F4: 2 | G4: 5 | I4: 7 | J4: 3 | K4: 7 | L4: 12 | N4: 5 | O4: 11 | P4: 6 | Q4: 6 | R4: 5 | S4: 3 | T4: 7 | U4: 3 | V4: 8 | W4: =SUM(C4:V4) -> 105 | X4: =W4*5310 -> 557550 | Y4: 500 | Z4: =X4/Y4 -> 1115.1 | AA4: =+ROUNDUP(Z4,0) -> 1116 | AB4: 5883 | AC4: =AA4*AB4 -> 6565428 | AD4: =AC4*6 -> 39392568
B5: ARROZ | D5: 40 | E5: 40 | I5: 40 | J5: 40 | M5: 20 | N5: 40 | P5: 40 | Q5: 40 | R5: 40 | S5: 40 | U5: 40 | V5: 40 | W5: =SUM(C5:V5) -> 460 | X5: =W5*5310 -> 2442600 | Y5: 500 | Z5: =X5/Y5 -> 4885.2 | AA5: =+ROUNDUP(Z5,0) -> 4886 | AB5: 2733 | AC5: =AA5*AB5 -> 13353438 | AD5: =AC5*6 -> 80120628
B6: HARINA DE TRIGO | C6: 10 | G6: 10 | K6: 10 | W6: =SUM(C6:V6) -> 30 | X6: =W6*5310 -> 159300 | Y6: 500 | Z6: =X6/Y6 -> 318.6 | AA6: =+ROUNDUP(Z6,0) -> 319 | AB6: 2550 | AC6: =AA6*AB6 -> 813450 | AD6: =AC6*6 -> 4880700
B7: HARINA DE MAIZ | F7: 50 | W7: =SUM(C7:V7) -> 50 | X7: =W7*5310 -> 265500 | Y7: 500 | Z7: =X7/Y7 -> 531 | AA7: =+ROUNDUP(Z7,0) -> 531 | AB7: 3700 | AC7: =AA7*AB7 -> 1964700 | AD7: =AC7*6 -> 11788200
B8: AZUCAR | G8: 9 | J8: 9 | K8: 9 | M8: 9 | N8: 9 | S8: 9 | W8: =SUM(C8:V8) -> 54 | X8: =W8*5310 -> 286740 | Y8: 500 | Z8: =X8/Y8 -> 573.48 | AA8: =+ROUNDUP(Z8,0) -> 574 | AB8: 3000 | AC8: =AA8*AB8 -> 1722000 | AD8: =AC8*6 -> 10332000
B9: PANELA | C9: 9 | D9: 9 | E9: 9 | F9: 9 | G9: 2 | I9: 9 | K9: 2 | L9: 9 | O9: 9 | P9: 9 | Q9: 9 | R9: 9 | T9: 9 | U9: 9 | V9: 9 | W9: =SUM(C9:V9) -> 121 | X9: =W9*5310 -> 642510 | Y9: 500 | Z9: =X9/Y9 -> 1285.02 | AA9: =+ROUNDUP(Z9,0) -> 1286 | AB9: 3300 | AC9: =AA9*AB9 -> 4243800 | AD9: =AC9*6 -> 25462800
B10: FRIJOL | I10: 20 | V10: 20 | W10: =SUM(C10:V10) -> 40 | X10: =W10*5310 -> 212400 | Y10: 500 | Z10: =X10/Y10 -> 424.8 | AA10: =+ROUNDUP(Z10,0) -> 425 | AB10: 5733 | AC10: =AA10*AB10 -> 2436525 | AD10: =AC10*6 -> 14619150
B11: SAL | C11: 0.3 | D11: 0.9 | E11: 0.6 | F11: 1.3 | G11: 1 | I11: 1.1 | J11: 0.9 | K11: 0.9 | L11: 0.8 | N11: 0.8 | O11: 0.8 | P11: 0.9 | Q11: 0.9 | R11: 0.8 | S11: 0.9 | T11: 0.6 | U11: 0.9 | V11: 0.9 | W11: =SUM(C11:V11) -> 15.3 | X11: =W11*5310 -> 81243 | Y11: 500 | Z11: =X11/Y11 -> 162.486 | AA11: =+ROUNDUP(Z11,0) -> 163 | AB11: 2133 | AC11: =AA11*AB11 -> 347679 | AD11: =AC11*6 -> 2086074
B12: HUEVO TIPO A | C12: 10 | E12: 55 | G12: 10 | I12: 55 | K12: 55 | P12: 8 | Q12: 55 | R12: 55 | V12: 55 | W12: =SUM(C12:V12)/55 -> 6.5090909 | X12: =W12*5310 -> 34563.273 | Y12: 1 | Z12: =X12/Y12 -> 34563.273 | AA12: =+ROUNDUP(Z12,0) -> 34564 | AB12: 667 | AC12: =AA12*AB12 -> 23054188 | AD12: =AC12*6 -> 138325128
B13: PAN BOLA - 20 gr | E13: 1 | W13: =SUM(C13:V13) -> 1 | X13: =W13*5310 -> 5310 | Y13: 1 | Z13: =X13/Y13 -> 5310 | AA13: =+ROUNDUP(Z13,0) -> 5310 | AB13: 700 | AC13: =AA13*AB13 -> 3717000 | AD13: =AC13*6 -> 22302000
B14: PAN HAMBURGUESA 50 gr | G14: 1 | W14: =SUM(C14:V14) -> 1 | X14: =W14*5310 -> 5310 | Y14: 1 | Z14: =X14/Y14 -> 5310 | AA14: =+ROUNDUP(Z14,0) -> 5310 | AB14: 1583 | AC14: =AA14*AB14 -> 8405730 | AD14: =AC14*6 -> 50434380
B15: GALLETA DE SAL | F15: 16 | M15: 16 | T15: 16 | W15: =SUM(C15:V15) -> 48 | X15: =W15*5310 -> 254880 | Y15: 400 | Z15: =X15/Y15 -> 637.2 | AA15: =+ROUNDUP(Z15,0) -> 638 | AB15: 5450 | AC15: =AA15*AB15 -> 3477100 | AD15: =AC15*6 -> 20862600
B16: PAN TAJADO | C16: 42 | W16: =SUM(C16:V16) -> 42 | X16: =W16*5310 -> 223020 | Y16: 400 | Z16: =X16/Y16 -> 557.55 | AA16: =+ROUNDUP(Z16,0) -> 558 | AB16: 5533 | AC16: =AA16*AB16 -> 3087414 | AD16: =AC16*6 -> 18524484
B17: ATÚN | K17: 25 | W17: =SUM(C17:V17) -> 25 | X17: =W17*5310 -> 132750 | Y17: 170 | Z17: =X17/Y17 -> 780.88235 | AA17: =+ROUNDUP(Z17,0) -> 781 | AB17: 5933 | AC17: =AA17*AB17 -> 4633673 | AD17: =AC17*6 -> 27802038
B18: PASTA TORNILLO | K18: 20 | W18: =SUM(C18:V18) -> 20 | X18: =W18*5310 -> 106200 | Y18: 250 | Z18: =X18/Y18 -> 424.8 | AA18: =+ROUNDUP(Z18,0) -> 425 | AB18: 3267 | AC18: =AA18*AB18 -> 1388475 | AD18: =AC18*6 -> 8330850
B19: PASTA TIPO ESPAGUETI | O19: 25 | W19: =SUM(C19:V19) -> 25 | X19: =W19*5310 -> 132750 | Y19: 250 | Z19: =X19/Y19 -> 531 | AA19: =+ROUNDUP(Z19,0) -> 531 | AB19: 2900 | AC19: =AA19*AB19 -> 1539900 | AD19: =AC19*6 -> 9239400
B20: LECHE EN POLVO ENTERA | C20: 15 | D20: 15 | E20: 15 | F20: 15 | G20: 15 | I20: 15 | J20: 15 | K20: 15 | L20: 15 | M20: 15 | N20: 15 | O20: 15 | P20: 15 | Q20: 15 | R20: 15 | S20: 15 | T20: 15 | U20: 15 | V20: 15 | W20: =SUM(C20:V20) -> 285 | X20: =W20*5310 -> 1513350 | Y20: 380 | Z20: =X20/Y20 -> 3982.5 | AA20: =+ROUNDUP(Z20,0) -> 3983 | AB20: 14117 | AC20: =AA20*AB20 -> 56228011 | AD20: =AC20*6 -> 337368066
B21: COCOA EN POLVO SIN AZUCAR | C21: 3 | E21: 3 | L21: 3 | P21: 3 | R21: 3 | T21: 3 | U21: 3 | W21: =SUM(C21:V21) -> 21 | X21: =W21*5310 -> 111510 | Y21: 125 | Z21: =X21/Y21 -> 892.08 | AA21: =+ROUNDUP(Z21,0) -> 893 | AB21: 7767 | AC21: =AA21*AB21 -> 6935931 | AD21: =AC21*6 -> 41615586
B22: CANELA EN POLVO | M22: 0.01 | W22: =SUM(C22:V22) -> 0.01 | X22: =W22*5310 -> 53.1 | Y22: 20 | Z22: =X22/Y22 -> 2.655 | AA22: =+ROUNDUP(Z22,0) -> 3 | AB22: 2883 | AC22: =AA22*AB22 -> 8649 | AD22: =AC22*6 -> 51894
B23: OREGANO SECO | O23: 0.3 | W23: =SUM(C23:V23) -> 0.3 | X23: =W23*5310 -> 1593 | Y23: 20 | Z23: =X23/Y23 -> 79.65 | AA23: =+ROUNDUP(Z23,0) -> 80 | AB23: 1533 | AC23: =AA23*AB23 -> 122640 | AD23: =AC23*6 -> 735840
B24: LAUREL SECO | O24: 0.6 | W24: =SUM(C24:V24) -> 0.6 | X24: =W24*5310 -> 3186 | Y24: 20 | Z24: =X24/Y24 -> 159.3 | AA24: =+ROUNDUP(Z24,0) -> 160 | AB24: 1567 | AC24: =AA24*AB24 -> 250720 | AD24: =AC24*6 -> 1504320
B25: CREMA DE LECHE | M25: 5 | W25: =SUM(C25:V25) -> 5 | X25: =W25*5310 -> 26550 | Y25: 200 | Z25: =X25/Y25 -> 132.75 | AA25: =+ROUNDUP(Z25,0) -> 133 | AB25: 4733 | AC25: =AA25*AB25 -> 629489 | AD25: =AC25*6 -> 3776934
B26: LENTEJA | G26: 30 | P26: 20 | W26: =SUM(C26:V26) -> 50 | X26: =W26*5310 -> 265500 | Y26: 500 | Z26: =X26/Y26 -> 531 | AA26: =+ROUNDUP(Z26,0) -> 531 | AB26: 5400 | AC26: =AA26*AB26 -> 2867400 | AD26: =AC26*6 -> 17204400
B27: MARGARINA | C27: 1 | E27: 3 | F27: 4 | G27: 2 | J27: 5 | Q27: 3 | S27: 6 | W27: =SUM(C27:V27) -> 24 | X27: =W27*5310 -> 127440 | Y27: 125 | Z27: =X27/Y27 -> 1019.52 | AA27: =+ROUNDUP(Z27,0) -> 1020 | AB27: 2333 | AC27: =AA27*AB27 -> 2379660 | AD27: =AC27*6 -> 14277960
B28: AVENA MOLIDA | J28: 8 | W28: =SUM(C28:V28) -> 8 | X28: =W28*5310 -> 42480 | Y28: 500 | Z28: =X28/Y28 -> 84.96 | AA28: =+ROUNDUP(Z28,0) -> 85 | AB28: 4583 | AC28: =AA28*AB28 -> 389555 | AD28: =AC28*6 -> 2337330
B29: AVENA EN HOJUELAS | P29: 10 | W29: =SUM(C29:V29) -> 10 | X29: =W29*5310 -> 53100 | Y29: 500 | Z29: =X29/Y29 -> 106.2 | AA29: =+ROUNDUP(Z29,0) -> 107 | AB29: 4233 | AC29: =AA29*AB29 -> 452931 | AD29: =AC29*6 -> 2717586
B30: CEREAL DE MAIZ EN HOJUELAS | H30: 30 | W30: =SUM(C30:V30) -> 30 | X30: =W30*5310 -> 159300 | Y30: 250 | Z30: =X30/Y30 -> 637.2 | AA30: =+ROUNDUP(Z30,0) -> 638 | AB30: 5767 | AC30: =AA30*AB30 -> 3679346 | AD30: =AC30*6 -> 22076076
B31: QUESO BLANCO O CAMPESINO | C31: 50 | H31: 50 | M31: 60 | T31: 15 | W31: =SUM(C31:V31) -> 175 | X31: =W31*5310 -> 929250 | Y31: 500 | Z31: =X31/Y31 -> 1858.5 | AA31: =+ROUNDUP(Z31,0) -> 1859 | AB31: 13667 | AC31: =AA31*AB31 -> 25406953 | AD31: =AC31*6 -> 152441718
B32: QUESO TIPO MOZARELLA | G32: 15 | W32: =SUM(C32:V32) -> 15 | X32: =W32*5310 -> 79650 | Y32: 500 | Z32: =X32/Y32 -> 159.3 | AA32: =+ROUNDUP(Z32,0) -> 160 | AB32: 17033 | AC32: =AA32*AB32 -> 2725280 | AD32: =AC32*6 -> 16351680
B33: YOGURT - 200 ml | H33: 1 | W33: =SUM(C33:V33) -> 1 | X33: =W33*5310 -> 5310 | Y33: 1 | Z33: =X33/Y33 -> 5310 | AA33: =+ROUNDUP(Z33,0) -> 5310 | AB33: 2000 | AC33: =AA33*AB33 -> 10620000 | AD33: =AC33*6 -> 63720000
B34: CARNE DE RES | F34: 60 | J34: 60 | T34: 60 | W34: =SUM(C34:V34) -> 180 | X34: =W34*5310 -> 955800 | Y34: 500 | Z34: =X34/Y34 -> 1911.6 | AA34: =+ROUNDUP(Z34,0) -> 1912 | AB34: 14333.333 | AC34: =AA34*AB34 -> 27405333 | AD34: =AC34*6 -> 164432000
B35: CARNE DE CERDO | D35: 60 | G35: 30 | L35: 60 | N35: 60 | O35: 60 | P35: 30 | S35: 60 | U35: 60 | W35: =SUM(C35:V35) -> 420 | X35: =W35*5310 -> 2230200 | Y35: 500 | Z35: =X35/Y35 -> 4460.4 | AA35: =+ROUNDUP(Z35,0) -> 4461 | AB35: 11366.667 | AC35: =AA35*AB35 -> 50706700 | AD35: =AC35*6 -> 304240200
B36: FRUTA ENTERA 1 Opciones: Guayaba común en cascos, Mandarina, Banano, Murrapo, Naranja dulce en cascos | C36: 180 | H36: 90 | L36: 180 | P36: 180 | R36: 180 | W36: =SUM(C36:V36) -> 810 | X36: =W36*5310 -> 4301100 | Y36: 500 | Z36: =X36/Y36 -> 8602.2 | AA36: =+ROUNDUP(Z36,0) -> 8603 | AB36: 2016.6667 | AC36: =AA36*AB36 -> 17349383 | AD36: =AC36*6 -> 1.040963e+08
B37: FRUTA ENTERA 2 Mango maduro o pintón picado, Manzana, Pera, Sandia en trozos, Uchuvas, Higo | E37: 180 | H37: 90 | N37: 60 | W37: =SUM(C37:V37) -> 330 | X37: =W37*5310 -> 1752300 | Y37: 500 | Z37: =X37/Y37 -> 3504.6 | AA37: =+ROUNDUP(Z37,0) -> 3505 | AB37: 2866.6667 | AC37: =AA37*AB37 -> 10047667 | AD37: =AC37*6 -> 60286000
B38: FRUTA ENTERA 3 Piña oro miel picada, Papayuela picada, Papaya picada, Melón picado | V38: 180 | W38: =SUM(C38:V38) -> 180 | X38: =W38*5310 -> 955800 | Y38: 500 | Z38: =X38/Y38 -> 1911.6 | AA38: =+ROUNDUP(Z38,0) -> 1912 | AB38: 3033.3333 | AC38: =AA38*AB38 -> 5799733.3 | AD38: =AC38*6 -> 34798400
B39: FRUTA DE COSECHA JUGO (Mango, guayaba, maracuyá, guanabana, tomate de árbol, banano, mora, lulo, uchuva) | G39: 60 | K39: 60 | M39: 60 | S39: 60 | W39: =SUM(C39:V39) -> 240 | X39: =W39*5310 -> 1274400 | Y39: 500 | Z39: =X39/Y39 -> 2548.8 | AA39: =+ROUNDUP(Z39,0) -> 2549 | AB39: 2850 | AC39: =AA39*AB39 -> 7264650 | AD39: =AC39*6 -> 43587900
B40: PAPA CAPIRA | G40: 60 | L40: 150 | N40: 60 | P40: 20 | W40: =SUM(C40:V40) -> 290 | X40: =W40*5310 -> 1539900 | Y40: 500 | Z40: =X40/Y40 -> 3079.8 | AA40: =+ROUNDUP(Z40,0) -> 3080 | AB40: 4133 | AC40: =AA40*AB40 -> 12729640 | AD40: =AC40*6 -> 76377840
B41: PAPA COMÚN | J41: 70 | W41: =SUM(C41:V41) -> 70 | X41: =W41*5310 -> 371700 | Y41: 500 | Z41: =X41/Y41 -> 743.4 | AA41: =+ROUNDUP(Z41,0) -> 744 | AB41: 4200 | AC41: =AA41*AB41 -> 3124800 | AD41: =AC41*6 -> 18748800
...

Sheet PAE INDÍGENA
B3: PRODUCTOS | C3: MENÚ N°1 | D3: MENÚ N°2 | E3: MENÚ N°3 | F3: MENÚ N°4 | G3: MENÚ N°5 | H3: MENÚ N°6 | I3: MENÚ N°7 | J3: MENÚ N°8 | K3: MENÚ N°9 | L3: MENÚ N°10 | M3: MENÚ N°11 | N3: MENÚ N°12 | O3: MENÚ N°13 | P3: MENÚ N°14 | Q3: MENÚ N°15 | R3: MENÚ N°16 | S3: MENÚ N°17 | T3: MENÚ N°18 | U3: MENÚ N°19 | V3: MENÚ N°20 | W3: TOTAL | X3: 390 CUPOS | Y3: PRESENTACIÓN | Z3: CANTIDAD (lb, ml, und) | AA3: CANTIDAD REDONDEADA | AB3: VALOR UNITARIO | AC3: VALOR 20 MENÚS - 583 CUPOS | AD3: VALOR 6 ENTREGAS - 20 MENÚS
B4: ACEITE | D4: 14 | E4: 4 | F4: 9 | G4: 9 | H4: 11 | I4: 9 | J4: 9 | K4: 11.5 | L4: 9 | M4: 11 | N4: 14 | O4: 5 | P4: 12 | Q4: 6.5 | R4: 10 | S4: 15 | T4: 15 | U4: 5 | W4: =SUM(C4:V4) -> 179 | X4: =W4*390 -> 69810 | Y4: 500 | Z4: =X4/Y4 -> 139.62 | AA4: =+ROUNDUP(Z4,0) -> 140 | AB4: 5883 | AC4: =AA4*AB4 -> 823620 | AD4: =AC4*6 -> 4941720
B5: ARROZ | D5: 60 | E5: 60 | F5: 60 | G5: 60 | I5: 60 | J5: 60 | K5: 60 | L5: 60 | N5: 60 | P5: 60 | Q5: 60 | S5: 60 | V5: 60 | W5: =SUM(C5:V5) -> 780 | X5: =W5*390 -> 304200 | Y5: 500 | Z5: =X5/Y5 -> 608.4 | AA5: =+ROUNDUP(Z5,0) -> 609 | AB5: 2733 | AC5: =AA5*AB5 -> 1664397 | AD5: =AC5*6 -> 9986382
B6: MAIZ CARIACO | D6: 10 | O6: 10 | W6: =SUM(C6:V6) -> 20 | X6: =W6*390 -> 7800 | Y6: 500 | Z6: =X6/Y6 -> 15.6 | AA6: =+ROUNDUP(Z6,0) -> 16 | AB6: 12000 | AC6: =AA6*AB6 -> 192000 | AD6: =AC6*6 -> 1152000
B7: PIMIENTA | D7: 0.5 | M7: 0.1 | O7: 0.1 | V7: 0.1 | W7: =SUM(C7:V7) -> 0.8 | X7: =W7*390 -> 312 | Y7: 20 | Z7: =X7/Y7 -> 15.6 | AA7: =+ROUNDUP(Z7,0) -> 16 | AB7: 2267 | AC7: =AA7*AB7 -> 36272 | AD7: =AC7*6 -> 217632
B8: AZUCAR | C8: 5 | D8: 10 | F8: 12 | G8: 10 | I8: 12 | K8: 10 | L8: 10 | M8: 5 | N8: 10 | O8: 10 | P8: 10 | Q8: 10 | R8: 10 | T8: 10 | U8: 10 | W8: =SUM(C8:V8) -> 144 | X8: =W8*390 -> 56160 | Y8: 500 | Z8: =X8/Y8 -> 112.32 | AA8: =+ROUNDUP(Z8,0) -> 113 | AB8: 3000 | AC8: =AA8*AB8 -> 339000 | AD8: =AC8*6 -> 2034000
B9: PANELA | E9: 10 | H9: 10 | J9: 10 | S9: 10 | V9: 10 | W9: =SUM(C9:V9) -> 50 | X9: =W9*390 -> 19500 | Y9: 500 | Z9: =X9/Y9 -> 39 | AA9: =+ROUNDUP(Z9,0) -> 39 | AB9: 3300 | AC9: =AA9*AB9 -> 128700 | AD9: =AC9*6 -> 772200
B10: OREGANO | E10: 0.1 | W10: =SUM(C10:V10) -> 0.1 | X10: =W10*390 -> 39 | Y10: 20 | Z10: =X10/Y10 -> 1.95 | AA10: =+ROUNDUP(Z10,0) -> 2 | AB10: 1533 | AC10: =AA10*AB10 -> 3066 | AD10: =AC10*6 -> 18396
B11: SAL | C11: 0.1 | D11: 1.2 | E11: 10 | F11: 1.5 | G11: 1.5 | H11: 0.5 | I11: 61 | J11: 1.5 | K11: 1.5 | L11: 1 | M11: 1.1 | N11: 1.5 | O11: 0.7 | P11: 1.3 | Q11: 1 | R11: 0.2 | S11: 1.5 | T11: 0.5 | U11: 0.6 | W11: =SUM(C11:V11) -> 88.2 | X11: =W11*390 -> 34398 | Y11: 500 | Z11: =X11/Y11 -> 68.796 | AA11: =+ROUNDUP(Z11,0) -> 69 | AB11: 2133 | AC11: =AA11*AB11 -> 147177 | AD11: =AC11*6 -> 883062
B12: HUEVO TIPO A | D12: 55 | K12: 55 | O12: 55 | R12: 55 | T12: 55 | W12: =SUM(C12:V12)/55 -> 5 | X12: =W12*390 -> 1950 | Y12: 1 | Z12: =X12/Y12 -> 1950 | AA12: =+ROUNDUP(Z12,0) -> 1950 | AB12: 667 | AC12: =AA12*AB12 -> 1300650 | AD12: =AC12*6 -> 7803900
B13: CACAO | D13: 5 | O13: 10 | W13: =SUM(C13:V13) -> 15 | X13: =W13*390 -> 5850 | Y13: 500 | Z13: =X13/Y13 -> 11.7 | AA13: =+ROUNDUP(Z13,0) -> 12 | AB13: 24133 | AC13: =AA13*AB13 -> 289596 | AD13: =AC13*6 -> 1737576
B14: CANELA | D14: 2 | H14: 0.5 | K14: 1 | M14: 0.5 | N14: 2 | O14: 2 | R14: 0.1 | U14: 1 | V14: 0.1 | W14: =SUM(C14:V14) -> 9.2 | X14: =W14*390 -> 3588 | Y14: 20 | Z14: =X14/Y14 -> 179.4 | AA14: =+ROUNDUP(Z14,0) -> 180 | AB14: 2883 | AC14: =AA14*AB14 -> 518940 | AD14: =AC14*6 -> 3113640
B15: UVAS PASAS | V15: 10 | W15: =SUM(C15:V15) -> 10 | X15: =W15*390 -> 3900 | Y15: 250 | Z15: =X15/Y15 -> 15.6 | AA15: =+ROUNDUP(Z15,0) -> 16 | AB15: 4033 | AC15: =AA15*AB15 -> 64528 | AD15: =AC15*6 -> 387168
B16: NUEZ MOSCADA | R16: 0.1 | U16: 0.1 | W16: =SUM(C16:V16) -> 0.2 | X16: =W16*390 -> 78 | Y16: 20 | Z16: =X16/Y16 -> 3.9 | AA16: =+ROUNDUP(Z16,0) -> 4 | AB16: 2700 | AC16: =AA16*AB16 -> 10800 | AD16: =AC16*6 -> 64800
B17: GALLETAS DE SODA | V17: 21 | W17: =SUM(C17:V17) -> 21 | X17: =W17*390 -> 8190 | Y17: 400 | Z17: =X17/Y17 -> 20.475 | AA17: =+ROUNDUP(Z17,0) -> 21 | AB17: 5450 | AC17: =AA17*AB17 -> 114450 | AD17: =AC17*6 -> 686700
B18: GALLETA DE LIMON - 30 gr | C18: 1 | W18: =SUM(C18:V18) -> 1 | X18: =W18*390 -> 390 | Y18: 1 | Z18: =X18/Y18 -> 390 | AA18: =+ROUNDUP(Z18,0) -> 390 | AB18: 1367 | AC18: =AA18*AB18 -> 533130 | AD18: =AC18*6 -> 3198780
B19: MAIZ BLANCO TRILLADO | C19: 70 | M19: 20 | O19: 60 | U19: 80 | W19: =SUM(C19:V19) -> 230 | X19: =W19*390 -> 89700 | Y19: 500 | Z19: =X19/Y19 -> 179.4 | AA19: =+ROUNDUP(Z19,0) -> 180 | AB19: 4133 | AC19: =AA19*AB19 -> 743940 | AD19: =AC19*6 -> 4463640
B20: MAIZ AMARILLO TRILLADO | M20: 60 | W20: =SUM(C20:V20) -> 60 | X20: =W20*390 -> 23400 | Y20: 500 | Z20: =X20/Y20 -> 46.8 | AA20: =+ROUNDUP(Z20,0) -> 47 | AB20: 4133 | AC20: =AA20*AB20 -> 194251 | AD20: =AC20*6 -> 1165506
B21: MAIZ TIERNO AMARILLO | R21: 80 | W21: =SUM(C21:V21) -> 80 | X21: =W21*390 -> 31200 | Y21: 500 | Z21: =X21/Y21 -> 62.4 | AA21: =+ROUNDUP(Z21,0) -> 63 | AB21: 9867 | AC21: =AA21*AB21 -> 621621 | AD21: =AC21*6 -> 3729726
B22: CLAVOS DE OLOR | D22: 0.5 | M22: 0.1 | V22: 0.5 | W22: =SUM(C22:V22) -> 1.1 | X22: =W22*390 -> 429 | Y22: 20 | Z22: =X22/Y22 -> 21.45 | AA22: =+ROUNDUP(Z22,0) -> 22 | AB22: 2900 | AC22: =AA22*AB22 -> 63800 | AD22: =AC22*6 -> 382800
B23: PASTA TIPO ESPAGUETI | H23: 60 | W23: =SUM(C23:V23) -> 60 | X23: =W23*390 -> 23400 | Y23: 250 | Z23: =X23/Y23 -> 93.6 | AA23: =+ROUNDUP(Z23,0) -> 94 | AB23: 2900 | AC23: =AA23*AB23 -> 272600 | AD23: =AC23*6 -> 1635600
B24: LECHE ENTERA EN POLVO | D24: 15 | G24: 15 | H24: 15 | K24: 15 | L24: 15 | N24: 15 | O24: 15 | P24: 15 | R24: 15 | U24: 15 | V24: 15 | W24: =SUM(C24:V24) -> 165 | X24: =W24*390 -> 64350 | Y24: 380 | Z24: =X24/Y24 -> 169.34211 | AA24: =+ROUNDUP(Z24,0) -> 170 | AB24: 14117 | AC24: =AA24*AB24 -> 2399890 | AD24: =AC24*6 -> 14399340
B25: LECHE LIQUIDA | C25: 120 | M25: 120 | W25: =SUM(C25:V25) -> 240 | X25: =W25*390 -> 93600 | Y25: 900 | Z25: =X25/Y25 -> 104 | AA25: =+ROUNDUP(Z25,0) -> 104 | AB25: 5167 | AC25: =AA25*AB25 -> 537368 | AD25: =AC25*6 -> 3224208
B26: BOCADILLO | M26: 15 | W26: =SUM(C26:V26) -> 15 | X26: =W26*390 -> 5850 | Y26: 20 | Z26: =X26/Y26 -> 292.5 | AA26: =+ROUNDUP(Z26,0) -> 293 | AB26: 1367 | AC26: =AA26*AB26 -> 400531 | AD26: =AC26*6 -> 2403186
B27: ACHIOTE | D27: 0.1 | E27: 0.1 | G27: 0.1 | K27: 1 | L27: 0.2 | O27: 0.1 | P27: 0.1 | S27: 0.1 | U27: 0.1 | W27: =SUM(C27:V27) -> 1.9 | X27: =W27*390 -> 741 | Y27: 20 | Z27: =X27/Y27 -> 37.05 | AA27: =+ROUNDUP(Z27,0) -> 38 | AB27: 3190 | AC27: =AA27*AB27 -> 121220 | AD27: =AC27*6 -> 727320
B28: FRIJOL | J28: 25 | L28: 15 | W28: =SUM(C28:V28) -> 40 | X28: =W28*390 -> 15600 | Y28: 500 | Z28: =X28/Y28 -> 31.2 | AA28: =+ROUNDUP(Z28,0) -> 32 | AB28: 5733 | AC28: =AA28*AB28 -> 183456 | AD28: =AC28*6 -> 1100736
B29: SUERO COSTEÑO | G29: 10 | T29: 10 | W29: =SUM(C29:V29) -> 20 | X29: =W29*390 -> 7800 | Y29: 500 | Z29: =X29/Y29 -> 15.6 | AA29: =+ROUNDUP(Z29,0) -> 16 | AB29: 3700 | AC29: =AA29*AB29 -> 59200 | AD29: =AC29*6 -> 355200
B30: FILETE DE PESCADO | L30: 60 | W30: =SUM(C30:V30) -> 60 | X30: =W30*390 -> 23400 | Y30: 500 | Z30: =X30/Y30 -> 46.8 | AA30: =+ROUNDUP(Z30,0) -> 47 | AB30: 16100 | AC30: =AA30*AB30 -> 756700 | AD30: =AC30*6 -> 4540200
B31: QUESO CAMPESINO | C31: 50 | F31: 35 | H31: 50 | K31: 25 | Q31: 35 | R31: 35 | V31: 50 | W31: =SUM(C31:V31) -> 280 | X31: =W31*390 -> 109200 | Y31: 500 | Z31: =X31/Y31 -> 218.4 | AA31: =+ROUNDUP(Z31,0) -> 219 | AB31: 13667 | AC31: =AA31*AB31 -> 2993073 | AD31: =AC31*6 -> 17958438
B32: CARNE DE RES | F32: 60 | G32: 60 | O32: 20 | P32: 60 | U32: 60 | W32: =SUM(C32:V32) -> 260 | X32: =W32*390 -> 101400 | Y32: 500 | Z32: =X32/Y32 -> 202.8 | AA32: =+ROUNDUP(Z32,0) -> 203 | AB32: 14333.333 | AC32: =AA32*AB32 -> 2909666.7 | AD32: =AC32*6 -> 17458000
B33: CARNE DE CERDO | I33: 60 | J33: 60 | N33: 60 | Q33: 60 | S33: 60 | T33: 60 | W33: =SUM(C33:V33) -> 360 | X33: =W33*390 -> 140400 | Y33: 500 | Z33: =X33/Y33 -> 280.8 | AA33: =+ROUNDUP(Z33,0) -> 281 | AB33: 11366.667 | AC33: =AA33*AB33 -> 3194033.3 | AD33: =AC33*6 -> 19164200
B34: CARNE DE RES MOLIDA | M34: 60 | W34: =SUM(C34:V34) -> 60 | X34: =W34*390 -> 23400 | Y34: 500 | Z34: =X34/Y34 -> 46.8 | AA34: =+ROUNDUP(Z34,0) -> 47 | AB34: 15500 | AC34: =AA34*AB34 -> 728500 | AD34: =AC34*6 -> 4371000
B35: GALLINA CRIOLLA | E35: 120 | W35: =SUM(C35:V35) -> 120 | X35: =W35*390 -> 46800 | Y35: 500 | Z35: =X35/Y35 -> 93.6 | AA35: =+ROUNDUP(Z35,0) -> 94 | AB35: 16500 | AC35: =AA35*AB35 -> 1551000 | AD35: =AC35*6 -> 9306000
B36: BANANO | C36: 180 | S36: 180 | W36: =SUM(C36:V36) -> 360 | X36: =W36*390 -> 140400 | Y36: 500 | Z36: =X36/Y36 -> 280.8 | AA36: =+ROUNDUP(Z36,0) -> 281 | AB36: 3900 | AC36: =AA36*AB36 -> 1095900 | AD36: =AC36*6 -> 6575400
B37: NARANJA | J37: 70 | W37: =SUM(C37:V37) -> 70 | X37: =W37*390 -> 27300 | Y37: 500 | Z37: =X37/Y37 -> 54.6 | AA37: =+ROUNDUP(Z37,0) -> 55 | AB37: 5867 | AC37: =AA37*AB37 -> 322685 | AD37: =AC37*6 -> 1936110
B38: PIMENTON | J38: 2 | W38: =SUM(C38:V38) -> 2 | X38: =W38*390 -> 780 | Y38: 500 | Z38: =X38/Y38 -> 1.56 | AA38: =+ROUNDUP(Z38,0) -> 2 | AB38: 3767 | AC38: =AA38*AB38 -> 7534 | AD38: =AC38*6 -> 45204
B39: PAPA CAPIRA | E39: 30 | W39: =SUM(C39:V39) -> 30 | X39: =W39*390 -> 11700 | Y39: 500 | Z39: =X39/Y39 -> 23.4 | AA39: =+ROUNDUP(Z39,0) -> 24 | AB39: 4133 | AC39: =AA39*AB39 -> 99192 | AD39: =AC39*6 -> 595152
B40: YUCA | E40: 30 | G40: 55 | I40: 30 | K40: 20 | N40: 55 | Q40: 30 | T40: 60 | U40: 20 | W40: =SUM(C40:V40) -> 300 | X40: =W40*390 -> 117000 | Y40: 500 | Z40: =X40/Y40 -> 234 | AA40: =+ROUNDUP(Z40,0) -> 234 | AB40: 2083 | AC40: =AA40*AB40 -> 487422 | AD40: =AC40*6 -> 2924532
B41: TOMATE | D41: 40 | F41: 15 | G41: 15 | H41: 20 | J41: 10 | K41: 27 | L41: 10 | N41: 35 | O41: 10 | P41: 15 | Q41: 25 | T41: 30 | U41: 15 | W41: =SUM(C41:V41) -> 267 | X41: =W41*390 -> 104130 | Y41: 500 | Z41: =X41/Y41 -> 208.26 | AA41: =+ROUNDUP(Z41,0) -> 209 | AB41: 3833 | AC41: =AA41*AB41 -> 801097 | AD41: =AC41*6 -> 4806582
B42: ESPINACA | E42: 5 | G42: 3 | O42: 10 | P42: 3 | W42: =SUM(C42:V42) -> 21 | X42: =W42*390 -> 8190 | Y42: 500 | Z42: =X42/Y42 -> 16.38 | AA42: =+ROUNDUP(Z42,0) -> 17 | AB42: 3167 | AC42: =AA42*AB42 -> 53839 | AD42: =AC42*6 -> 323034
...

Sheet JORNADA ÚNICA
B2: PRODUCTOS | C2: MENÚ N°1 | D2: MENÚ N°2 | E2: MENÚ N°3 | F2: MENÚ N°4 | G2: MENÚ N°5 | H2: MENÚ N°6 | I2: MENÚ N°7 | J2: MENÚ N°8 | K2: MENÚ N°9 | L2: MENÚ N°10 | M2: MENÚ N°11 | N2: MENÚ N°12 | O2: MENÚ N°13 | P2: MENÚ N°14 | Q2: MENÚ N°15 | R2: MENÚ N°16 | S2: MENÚ N°17 | T2: MENÚ N°18 | U2: MENÚ N°19 | V2: MENÚ N°20 | W2: TOTAL | X2: 583 CUPOS | Y2: PRESENTACIÓN | Z2: CANTIDAD LIBRA - 1/2 LITRO | AA2: CANTIDAD REDONDEADA | AB2: VALOR UNITARIO | AC2: VALOR 20 MENÚS - 583 CUPOS | AD2: VALOR 6 ENTREGAS - 20 MENÚS
B3: ACEITE | C3: 14 | D3: 16 | E3: 16 | F3: 14 | G3: 16 | H3: 17 | I3: 16 | J3: 16 | K3: 16 | L3: 12 | M3: 16 | N3: 18 | O3: 16 | P3: 8 | Q3: 16 | R3: 16 | S3: 16 | T3: 12 | U3: 18 | V3: 18 | W3: =SUM(C3:V3) -> 307 | X3: =W3*583 -> 178981 | Y3: 500 | Z3: =X3/Y3 -> 357.962 | AA3: =+ROUNDUP(Z3,0) -> 358 | AB3: 5883 | AC3: =AA3*AB3 -> 2106114 | AD3: =AC3*6 -> 12636684
B4: ARROZ | C4: 60 | D4: 60 | E4: 60 | F4: 60 | G4: 60 | H4: 60 | I4: 60 | J4: 60 | K4: 60 | M4: 60 | N4: 60 | O4: 60 | P4: 60 | Q4: 60 | R4: 60 | S4: 60 | U4: 60 | V4: 60 | W4: =SUM(C4:V4) -> 1080 | X4: =W4*583 -> 629640 | Y4: 500 | Z4: =X4/Y4 -> 1259.28 | AA4: =+ROUNDUP(Z4,0) -> 1260 | AB4: 2733 | AC4: =AA4*AB4 -> 3443580 | AD4: =AC4*6 -> 20661480
B5: HARINA DE TRIGO | C5: 10 | W5: =SUM(C5:V5) -> 10 | X5: =W5*583 -> 5830 | Y5: 500 | Z5: =X5/Y5 -> 11.66 | AA5: =+ROUNDUP(Z5,0) -> 12 | AB5: 2550 | AC5: =AA5*AB5 -> 30600 | AD5: =AC5*6 -> 183600
B6: HARINA DE MAIZ | F6: 40 | H6: 40 | N6: 40 | U6: 50 | W6: =SUM(C6:V6) -> 170 | X6: =W6*583 -> 99110 | Y6: 500 | Z6: =X6/Y6 -> 198.22 | AA6: =+ROUNDUP(Z6,0) -> 199 | AB6: 3700 | AC6: =AA6*AB6 -> 736300 | AD6: =AC6*6 -> 4417800
B7: AZUCAR | C7: 10 | D7: 10 | E7: 10 | F7: 10 | G7: 10 | H7: 10 | I7: 10 | J7: 10 | K7: 10 | L7: 10 | M7: 10 | N7: 10 | O7: 10 | P7: 10 | Q7: 10 | R7: 10 | S7: 10 | T7: 10 | U7: 10 | V7: 10 | W7: =SUM(C7:V7) -> 200 | X7: =W7*583 -> 116600 | Y7: 500 | Z7: =X7/Y7 -> 233.2 | AA7: =+ROUNDUP(Z7,0) -> 234 | AB7: 3000 | AC7: =AA7*AB7 -> 702000 | AD7: =AC7*6 -> 4212000
B8: PANELA | P8: 2 | W8: =SUM(C8:V8) -> 2 | X8: =W8*583 -> 1166 | Y8: 500 | Z8: =X8/Y8 -> 2.332 | AA8: =+ROUNDUP(Z8,0) -> 3 | AB8: 3300 | AC8: =AA8*AB8 -> 9900 | AD8: =AC8*6 -> 59400
B9: FRIJOL | D9: 30 | J9: 30 | V9: 30 | W9: =SUM(C9:V9) -> 90 | X9: =W9*583 -> 52470 | Y9: 500 | Z9: =X9/Y9 -> 104.94 | AA9: =+ROUNDUP(Z9,0) -> 105 | AB9: 5733 | AC9: =AA9*AB9 -> 601965 | AD9: =AC9*6 -> 3611790
B10: FRIJOL BLANQUILLO | N10: 30 | W10: =SUM(C10:V10) -> 30 | X10: =W10*583 -> 17490 | Y10: 500 | Z10: =X10/Y10 -> 34.98 | AA10: =+ROUNDUP(Z10,0) -> 35 | AB10: 5733 | AC10: =AA10*AB10 -> 200655 | AD10: =AC10*6 -> 1203930
B11: SAL | C11: 1.8 | D11: 2 | E11: 2 | F11: 2.3 | G11: 2.3 | H11: 2.3 | I11: 2 | J11: 2.3 | K11: 1.5 | L11: 2 | M11: 2.3 | N11: 2.3 | O11: 2 | P11: 2 | Q11: 1.5 | R11: 2 | S11: 2.3 | T11: 2.5 | U11: 2 | V11: 2.3 | W11: =SUM(C11:V11) -> 41.7 | X11: =W11*583 -> 24311.1 | Y11: 500 | Z11: =X11/Y11 -> 48.6222 | AA11: =+ROUNDUP(Z11,0) -> 49 | AB11: 2133 | AC11: =AA11*AB11 -> 104517 | AD11: =AC11*6 -> 627102
B12: HUEVO TIPO A | C12: 13 | D12: 55 | L12: 55 | P12: 55 | T12: 55 | W12: =SUM(C12:V12)/55 -> 4.2363636 | X12: =W12*583 -> 2469.8 | Y12: 1 | Z12: =X12/Y12 -> 2469.8 | AA12: =+ROUNDUP(Z12,0) -> 2470 | AB12: 667 | AC12: =AA12*AB12 -> 1647490 | AD12: =AC12*6 -> 9884940
B13: ATÚN LOMITOS | L13: 30 | T13: 30 | W13: =SUM(C13:V13) -> 60 | X13: =W13*583 -> 34980 | Y13: 170 | Z13: =X13/Y13 -> 205.76471 | AA13: =+ROUNDUP(Z13,0) -> 206 | AB13: 5933 | AC13: =AA13*AB13 -> 1222198 | AD13: =AC13*6 -> 7333188
B14: PASTA PARA SOPAS | H14: 8 | W14: =SUM(C14:V14) -> 8 | X14: =W14*583 -> 4664 | Y14: 250 | Z14: =X14/Y14 -> 18.656 | AA14: =+ROUNDUP(Z14,0) -> 19 | AB14: 3267 | AC14: =AA14*AB14 -> 62073 | AD14: =AC14*6 -> 372438
B15: FIDEOS (CABELLO DE ANGEL) | E15: 10 | W15: =SUM(C15:V15) -> 10 | X15: =W15*583 -> 5830 | Y15: 250 | Z15: =X15/Y15 -> 23.32 | AA15: =+ROUNDUP(Z15,0) -> 24 | AB15: 2600 | AC15: =AA15*AB15 -> 62400 | AD15: =AC15*6 -> 374400
B16: PASTA TIPO ESPAGUETI | L16: 60 | T16: 60 | W16: =SUM(C16:V16) -> 120 | X16: =W16*583 -> 69960 | Y16: 250 | Z16: =X16/Y16 -> 279.84 | AA16: =+ROUNDUP(Z16,0) -> 280 | AB16: 2900 | AC16: =AA16*AB16 -> 812000 | AD16: =AC16*6 -> 4872000
B17: LECHE EN POLVO ENTERA | C17: 20 | E17: 20 | G17: 20 | H17: 20 | I17: 20 | K17: 20 | M17: 20 | O17: 20 | Q17: 20 | R17: 20 | T17: 20 | U17: 20 | W17: =SUM(C17:V17) -> 240 | X17: =W17*583 -> 139920 | Y17: 380 | Z17: =X17/Y17 -> 368.21053 | AA17: =+ROUNDUP(Z17,0) -> 369 | AB17: 14117 | AC17: =AA17*AB17 -> 5209173 | AD17: =AC17*6 -> 31255038
B18: CANELA EN POLVO | P18: 0.1 | W18: =SUM(C18:V18) -> 0.1 | X18: =W18*583 -> 58.3 | Y18: 20 | Z18: =X18/Y18 -> 2.915 | AA18: =+ROUNDUP(Z18,0) -> 3 | AB18: 2883 | AC18: =AA18*AB18 -> 8649 | AD18: =AC18*6 -> 51894
B19: CREMA DE LECHE | L19: 5 | T19: 5 | W19: =SUM(C19:V19) -> 10 | X19: =W19*583 -> 5830 | Y19: 200 | Z19: =X19/Y19 -> 29.15 | AA19: =+ROUNDUP(Z19,0) -> 30 | AB19: 4733 | AC19: =AA19*AB19 -> 141990 | AD19: =AC19*6 -> 851940
B20: LENTEJA | L20: 30 | P20: 30 | S20: 30 | W20: =SUM(C20:V20) -> 90 | X20: =W20*583 -> 52470 | Y20: 500 | Z20: =X20/Y20 -> 104.94 | AA20: =+ROUNDUP(Z20,0) -> 105 | AB20: 5400 | AC20: =AA20*AB20 -> 567000 | AD20: =AC20*6 -> 3402000
B21: MARGARINA | P21: 3 | W21: =SUM(C21:V21) -> 3 | X21: =W21*583 -> 1749 | Y21: 125 | Z21: =X21/Y21 -> 13.992 | AA21: =+ROUNDUP(Z21,0) -> 14 | AB21: 2333 | AC21: =AA21*AB21 -> 32662 | AD21: =AC21*6 -> 195972
B22: QUESO BLANCO O CAMPESINO | C22: 10 | W22: =SUM(C22:V22) -> 10 | X22: =W22*583 -> 5830 | Y22: 500 | Z22: =X22/Y22 -> 11.66 | AA22: =+ROUNDUP(Z22,0) -> 12 | AB22: 13667 | AC22: =AA22*AB22 -> 164004 | AD22: =AC22*6 -> 984024
B23: QUESO TIPO MOZARELLA | P23: 14 | W23: =SUM(C23:V23) -> 14 | X23: =W23*583 -> 8162 | Y23: 500 | Z23: =X23/Y23 -> 16.324 | AA23: =+ROUNDUP(Z23,0) -> 17 | AB23: 17033 | AC23: =AA23*AB23 -> 289561 | AD23: =AC23*6 -> 1737366
B24: CARNE DE RES | E24: 70 | I24: 70 | O24: 70 | P24: 50 | S24: 70 | W24: =SUM(C24:V24) -> 330 | X24: =W24*583 -> 192390 | Y24: 500 | Z24: =X24/Y24 -> 384.78 | AA24: =+ROUNDUP(Z24,0) -> 385 | AB24: 14333.333 | AC24: =AA24*AB24 -> 5518333.3 | AD24: =AC24*6 -> 33110000
B25: CARNE DE CERDO | D25: 60 | F25: 70 | G25: 70 | H25: 70 | J25: 70 | K25: 70 | M25: 70 | N25: 70 | Q25: 70 | R25: 70 | U25: 70 | V25: 70 | W25: =SUM(C25:V25) -> 830 | X25: =W25*583 -> 483890 | Y25: 500 | Z25: =X25/Y25 -> 967.78 | AA25: =+ROUNDUP(Z25,0) -> 968 | AB25: 11366.667 | AC25: =AA25*AB25 -> 11002933 | AD25: =AC25*6 -> 66017600
B26: FRUTA DE COSECHA JUGO | C26: 50 | D26: 70 | E26: 50 | F26: 50 | G26: 70 | H26: 50 | I26: 50 | J26: 70 | K26: 50 | L26: 70 | M26: 50 | N26: 70 | O26: 50 | P26: 50 | Q26: 50 | R26: 50 | S26: 70 | T26: 70 | U26: 50 | V26: 70 | W26: =SUM(C26:V26) -> 1160 | X26: =W26*583 -> 676280 | Y26: 500 | Z26: =X26/Y26 -> 1352.56 | AA26: =+ROUNDUP(Z26,0) -> 1353 | AB26: 2850 | AC26: =AA26*AB26 -> 3856050 | AD26: =AC26*6 -> 23136300
B27: FRUTA ENSALADA (mango, manzana o piña) | F27: 20 | W27: =SUM(C27:V27) -> 20 | X27: =W27*583 -> 11660 | Y27: 500 | Z27: =X27/Y27 -> 23.32 | AA27: =+ROUNDUP(Z27,0) -> 24 | AB27: 4800 | AC27: =AA27*AB27 -> 115200 | AD27: =AC27*6 -> 691200
B28: PAPA COMÚN | C28: 80 | H28: 40 | M28: 130 | N28: 30 | P28: 30 | S28: 110 | V28: 110 | W28: =SUM(C28:V28) -> 530 | X28: =W28*583 -> 308990 | Y28: 500 | Z28: =X28/Y28 -> 617.98 | AA28: =+ROUNDUP(Z28,0) -> 618 | AB28: 4133 | AC28: =AA28*AB28 -> 2554194 | AD28: =AC28*6 -> 15325164
B29: PAPA NEVADA | F29: 35 | L29: 30 | S29: 30 | W29: =SUM(C29:V29) -> 95 | X29: =W29*583 -> 55385 | Y29: 500 | Z29: =X29/Y29 -> 110.77 | AA29: =+ROUNDUP(Z29,0) -> 111 | AB29: 4367 | AC29: =AA29*AB29 -> 484737 | AD29: =AC29*6 -> 2908422
B30: PAPA CRIOLLA | C30: 30 | G30: 30 | I30: 120 | T30: 30 | W30: =SUM(C30:V30) -> 210 | X30: =W30*583 -> 122430 | Y30: 500 | Z30: =X30/Y30 -> 244.86 | AA30: =+ROUNDUP(Z30,0) -> 245 | AB30: 4000 | AC30: =AA30*AB30 -> 980000 | AD30: =AC30*6 -> 5880000
B31: YUCA | E31: 110 | G31: 100 | J31: 100 | O31: 110 | W31: =SUM(C31:V31) -> 420 | X31: =W31*583 -> 244860 | Y31: 500 | Z31: =X31/Y31 -> 489.72 | AA31: =+ROUNDUP(Z31,0) -> 490 | AB31: 2083 | AC31: =AA31*AB31 -> 1020670 | AD31: =AC31*6 -> 6124020
B32: TOMATE | C32: 53 | D32: 63 | E32: 40 | F32: 28 | G32: 45 | H32: 63 | I32: 20 | J32: 28 | K32: 45 | L32: 73 | M32: 45 | N32: 28 | O32: 50 | P32: 28 | Q32: 45 | R32: 20 | S32: 28 | T32: 70 | U32: 40 | V32: 28 | W32: =SUM(C32:V32) -> 840 | X32: =W32*583 -> 489720 | Y32: 500 | Z32: =X32/Y32 -> 979.44 | AA32: =+ROUNDUP(Z32,0) -> 980 | AB32: 3833 | AC32: =AA32*AB32 -> 3756340 | AD32: =AC32*6 -> 22538040
B33: CEBOLLA BLANCA | C33: 17 | D33: 32 | E33: 17 | F33: 17 | G33: 17 | H33: 32 | I33: 9 | J33: 17 | K33: 9 | L33: 24 | M33: 17 | N33: 17 | O33: 24 | P33: 17 | Q33: 8 | R33: 9 | S33: 17 | T33: 39 | U33: 8 | V33: 17 | W33: =SUM(C33:V33) -> 364 | X33: =W33*583 -> 212212 | Y33: 500 | Z33: =X33/Y33 -> 424.424 | AA33: =+ROUNDUP(Z33,0) -> 425 | AB33: 3500 | AC33: =AA33*AB33 -> 1487500 | AD33: =AC33*6 -> 8925000
B34: ESPINACA | C34: 6 | I34: 6 | M34: 6 | W34: =SUM(C34:V34) -> 18 | X34: =W34*583 -> 10494 | Y34: 500 | Z34: =X34/Y34 -> 20.988 | AA34: =+ROUNDUP(Z34,0) -> 21 | AB34: 3167 | AC34: =AA34*AB34 -> 66507 | AD34: =AC34*6 -> 399042
B35: CILANTRO | C35: 1 | G35: 1 | H35: 1 | T35: 1 | W35: =SUM(C35:V35) -> 4 | X35: =W35*583 -> 2332 | Y35: 500 | Z35: =X35/Y35 -> 4.664 | AA35: =+ROUNDUP(Z35,0) -> 5 | AB35: 3233 | AC35: =AA35*AB35 -> 16165 | AD35: =AC35*6 -> 96990
B36: PLATANO | D36: 170 | J36: 60 | K36: 110 | L36: 110 | P36: 80 | Q36: 110 | R36: 110 | T36: 110 | V36: 30 | W36: =SUM(C36:V36) -> 890 | X36: =W36*583 -> 518870 | Y36: 500 | Z36: =X36/Y36 -> 1037.74 | AA36: =+ROUNDUP(Z36,0) -> 1038 | AB36: 4800 | AC36: =AA36*AB36 -> 4982400 | AD36: =AC36*6 -> 29894400
B37: ZANAHORIA | C37: 70 | D37: 20 | E37: 30 | F37: 51 | G37: 25 | H37: 20 | I37: 25 | J37: 50 | K37: 31 | L37: 15 | M37: 50 | N37: 40 | O37: 6 | P37: 40 | R37: 30 | S37: 46 | T37: 25 | V37: 40 | W37: =SUM(C37:V37) -> 614 | X37: =W37*583 -> 357962 | Y37: 500 | Z37: =X37/Y37 -> 715.924 | AA37: =+ROUNDUP(Z37,0) -> 716 | AB37: 3300 | AC37: =AA37*AB37 -> 2362800 | AD37: =AC37*6 -> 14176800
B38: HABICHUELA | C38: 15 | R38: 20 | W38: =SUM(C38:V38) -> 35 | X38: =W38*583 -> 20405 | Y38: 500 | Z38: =X38/Y38 -> 40.81 | AA38: =+ROUNDUP(Z38,0) -> 41 | AB38: 3740 | AC38: =AA38*AB38 -> 153340 | AD38: =AC38*6 -> 920040
B39: PIMENTON | Q39: 6 | U39: 6 | W39: =SUM(C39:V39) -> 12 | X39: =W39*583 -> 6996 | Y39: 500 | Z39: =X39/Y39 -> 13.992 | AA39: =+ROUNDUP(Z39,0) -> 14 | AB39: 3767 | AC39: =AA39*AB39 -> 52738 | AD39: =AC39*6 -> 316428
B40: AJO | C40: 0.3 | D40: 0.3 | E40: 0.3 | F40: 0.6 | G40: 0.3 | H40: 0.3 | I40: 0.3 | J40: 0.3 | K40: 0.3 | L40: 0.6 | M40: 0.6 | N40: 0.3 | O40: 0.3 | P40: 0.6 | Q40: 0.3 | R40: 0.3 | S40: 0.6 | T40: 0.3 | U40: 0.3 | V40: 0.3 | W40: =SUM(C40:V40) -> 7.5 | X40: =W40*583 -> 4372.5 | Y40: 500 | Z40: =X40/Y40 -> 8.745 | AA40: =+ROUNDUP(Z40,0) -> 9 | AB40: 4267 | AC40: =AA40*AB40 -> 38403 | AD40: =AC40*6 -> 230418
B41: LIMÓN | D41: 10 | E41: 10 | F41: 10 | G41: 10 | H41: 10 | I41: 10 | J41: 10 | K41: 10 | L41: 10 | M41: 10 | N41: 10 | O41: 10 | P41: 10 | Q41: 10 | R41: 10 | S41: 10 | T41: 10 | U41: 10 | V41: 10 | W41: =SUM(C41:V41) -> 190 | X41: =W41*583 -> 110770 | Y41: 500 | Z41: =X41/Y41 -> 221.54 | AA41: =+ROUNDUP(Z41,0) -> 222 | AB41: 2500 | AC41: =AA41*AB41 -> 555000 | AD41: =AC41*6 -> 3330000
...

Sheet TRANSPORTE
B2: VALOR TRANSPORTE POR ENTREGA
B4: ESTABLECIMIENTOS EDUCATIVOS | C4: # ENTREGAS | D4: COTIZACIÓN N°1 | E4: COTIZACIÓN N°2 | F4: COTIZACIÓN N°3 | G4: PROMEDIO | H4: 14 ENTREGAS
B5: I.E AURELIO MEJIA | C5: 1 | D5: 120000 | E5: 109523 | F5: 119047 | G5: =(D5+E5+F5)/3 -> 116190 | H5: =G5*14 -> 1626660
B6: SEDE ASTURIAS | C6: 1 | D6: 120000 | E6: 109523 | F6: 119047 | G6: =(D6+E6+F6)/3 -> 116190 | H6: =G6*14 -> 1626660
B7: SEDE LOS COMUNEROS | C7: 1 | D7: 120000 | E7: 109523 | F7: 119047 | G7: =(D7+E7+F7)/3 -> 116190 | H7: =G7*14 -> 1626660
B8: SEDE SAN JUDAS | C8: 1 | D8: 120000 | E8: 109523 | F8: 119047 | G8: =(D8+E8+F8)/3 -> 116190 | H8: =G8*14 -> 1626660
B9: SEDE SAN LORENZO | C9: 1 | D9: 120000 | E9: 109523 | F9: 119047 | G9: =(D9+E9+F9)/3 -> 116190 | H9: =G9*14 -> 1626660
B10: SEDE BUENOS AIRES | C10: 1 | D10: 120000 | E10: 109523 | F10: 119047 | G10: =(D10+E10+F10)/3 -> 116190 | H10: =G10*14 -> 1626660
B11: SEDE ROMUALDO GALLEGO | C11: 1 | D11: 120000 | E11: 109523 | F11: 119047 | G11: =(D11+E11+F11)/3 -> 116190 | H11: =G11*14 -> 1626660
B12: I. E GUARUMO | C12: 1 | D12: 120000 | E12: 109523 | F12: 119047 | G12: =(D12+E12+F12)/3 -> 116190 | H12: =G12*14 -> 1626660
B13: SEDE RIOMAN | C13: 1 | D13: 120000 | E13: 90000 | F13: 167441 | G13: =(D13+E13+F13)/3 -> 125813.67 | H13: =G13*14 -> 1761391.3
B14: I.E MANIZALEZ | C14: 1 | D14: 150000 | E14: 90000 | F14: 103333 | G14: =(D14+E14+F14)/3 -> 114444.33 | H14: =G14*14 -> 1602220.7
B15: SEDE NICARAGUA | C15: 1 | D15: 150000 | E15: 90000 | F15: 103333 | G15: =(D15+E15+F15)/3 -> 114444.33 | H15: =G15*14 -> 1602220.7
B16: SEDE SANTA LUCIA | C16: 1 | D16: 150000 | E16: 151162 | F16: 103333 | G16: =(D16+E16+F16)/3 -> 134831.67 | H16: =G16*14 -> 1887643.3
... B71: I.E.R MARIANO SUAREZ ALTOS DE TIGRE | C71: 1 | D71: 120000 | E71: 151162 | F71: 167441 | G71: =(D71+E71+F71)/3 -> 146201 | H71: =G71*14 -> 2046814
B72: VALOR TOTAL TRANSPORTE | H72: =SUM(H5:H71) -> 1.4867218e+08

Sheet VALOR ASEO
B3: DESCRIPCIÓN | C3: PRESENTACIÓN | D3: COTIZACIÓN N°1 | E3: COTIZACIÓN N°2 | F3: COTIZACIÓN N°3 | G3: PROMEDIO
B4: DETERNGENTE EN POLVO | C4: KG | D4: 8000 | E4: 6500 | F4: 6500 | G4: =(D4+E4+F4)/3 -> 7000
B5: LAVA LOZA CREMA | C5: KG | D5: 9000 | E5: 5400 | F5: 10200 | G5: =(D5+E5+F5)/3 -> 8200
B6: JABÓN LIQUIDO PARA LAVADO DE MANOS | C6: LITRO | D6: 3000 | E6: 6800 | F6: 8900 | G6: =(D6+E6+F6)/3 -> 6233.3333
B7: TOALLAS DE COCINA DESECHABLES | C7: PAQUETE | D7: 4500 | E7: 8800 | F7: 6300 | G7: =(D7+E7+F7)/3 -> 6533.3333
B8: ESCOBA | C8: UND | D8: 10000 | E8: 6500 | F8: 7200 | G8: =(D8+E8+F8)/3 -> 7900
B9: TRAPERO | C9: UND | D9: 10000 | E9: 8700 | F9: 7200 | G9: =(D9+E9+F9)/3 -> 8633.3333
B10: RECOGEDOR DE BASURA | C10: UND | D10: 7000 | E10: 6500 | F10: 6500 | G10: =(D10+E10+F10)/3 -> 6666.6667
B11: BRILLOS | C11: BOLSA | D11: 2000 | E11: 4000 | F11: 6500 | G11: =(D11+E11+F11)/3 -> 4166.6667
B12: ESPONJAS METALICAS | C12: BOLSA | D12: 3000 | E12: 6000 | F12: 4500 | G12: =(D12+E12+F12)/3 -> 4500
B13: ESPONJAS PARA LAVAR PLATOS | C13: PAQUETE | D13: 10100 | E13: 6000 | F13: 3000 | G13: =(D13+E13+F13)/3 -> 6366.6667
B14: HIPOCLORITO DE SODIO AL 5,25% | C14: 5 LITROS | D14: 16000 | E14: 5700 | F14: 2900 | G14: =(D14+E14+F14)/3 -> 8200
B15: HIPOCLORITO DE SODIO AL 5,25% | C15: 20 LITROS | D15: 38000 | E15: 32500 | F15: 32000 | G15: =(D15+E15+F15)/3 -> 34166.667
B16: DETERGENTE BARRA, PARA MANEJO DE UTENSILIOS DE COCINA (KG) | C16: KG | D16: 2500 | E16: 3400 | F16: 2500 | G16: =(D16+E16+F16)/2 -> 4200
B17: KIT DE CANECAS PARA MANEJO DE RESIDUOS, 3 CANECAS (BLANCA, VERDE Y NEGRA), POR CADA RESTAURANTE ESCOLAR, DEBIDAMENTE IDENTIFICADAS, ENTREGADAS AL INICIO DEL CONTRATO | C17: UND | D17: 204000 | E17: 269000 | F17: 439000 | G17: =(D17+E17+F17)/3 -> 304000
B18: BOLSA PARA BASURA TRES COLORES (BLANCA, VERDE Y NEGRA) | C18: PAQUETE | D18: 29000 | E18: 35450 | F18: 30000 | G18: =(D18+E18+F18)/3 -> 31483.333
B19: TOALLAS REUTILIZABLES | C19: PAQUETE | D19: 7800 | E19: 8800 | F19: 4500 | G19: =(D19+E19+F19)/2 -> 10550

Sheet IMPLEMENTOS DE ASEO (2)
C2: ESTABLECIMIENTOS EDUCATIVOS | D2: CUPOS | E2: DETERNGENTE EN POLVO | F2: LAVA LOZA CREMA | G2: JABÓN LIQUIDO PARA LAVADO DE MANOS | H2: TOALLAS DE COCINA DESECHABLES | I2: ESCOBA | J2: TRAPERO | K2: RECOGEDOR DE BASURA | L2: BRILLOS | M2: ESPONJAS METALICAS | N2: ESPONJAS PARA LAVAR PLATOS | O2: HIPOCLORITO DE SODIO AL 5,25% | P2: HIPOCLORITO DE SODIO AL 5,25% | Q2: DETERGENTE BARRA, PARA MANEJO DE UTENSILIOS DE COCINA (KG) | R2: KIT DE CANECAS PARA MANEJO DE RESIDUOS, 3 CANECAS, POR CADA RESTAURANTE ESCOLAR, DEBIDAMENTE IDENTIFICADAS, ENTREGADAS AL INICIO DEL CONTRATO | S2: BOLSA PARA BASURA TRES COLORES (BLANCA, VERDE Y NEGRA) PAQUETE - 10 UNIDADES | V2: TOALLAS REUTILIZABLES
E3: KG | F3: KG | G3: LITRO | H3: PAQUETE | I3: UND | J3: UND | K3: UND | L3: BOLSA | M3: BOLSA | N3: PAQUETE | O3: 5 LITROS | P3: 20 LITROS | Q3: KG | R3: UND | S3: BLANCA | T3: VERDE | U3: NEGRA | V3: PAQUETE
C4: I.E AURELIO MEJIA | D4: 368 | E4: 3 | F4: 3 | G4: 2 | H4: 2 | I4: 1 | J4: 1 | K4: 1 | L4: 3 | M4: 3 | N4: 3 | O4: 2 | P4: 0 | Q4: 3 | R4: 1 | S4: 2 | T4: 2 | U4: 2 | V4: 3
C5: SEDE ASTURIAS | D5: 32 | E5: 2 | F5: 2 | G5: 1 | H5: 2 | I5: 1 | J5: 1 | K5: 1 | L5: 2 | M5: 2 | N5: 2 | O5: 1 | P5: 0 | Q5: 2 | R5: 1 | S5: 2 | T5: 2 | U5: 2 | V5: 2
C6: SEDE LOS COMUNEROS | D6: 59 | E6: 2 | F6: 2 | G6: 1 | H6: 2 | I6: 1 | J6: 1 | K6: 1 | L6: 2 | M6: 2 | N6: 2 | O6: 1 | P6: 0 | Q6: 2 | R6: 1 | S6: 2 | T6: 2 | U6: 2 | V6: 2
C7: SEDE SAN JUDAS | D7: 27 | E7: 2 | F7: 2 | G7: 1 | H7: 2 | I7: 1 | J7: 1 | K7: 1 | L7: 2 | M7: 2 | N7: 2 | O7: 1 | P7: 0 | Q7: 2 | R7: 1 | S7: 2 | T7: 2 | U7: 2 | V7: 2
C8: SEDE SAN LORENZO | D8: 15 | E8: 2 | F8: 2 | G8: 1 | H8: 2 | I8: 1 | J8: 1 | K8: 1 | L8: 2 | M8: 2 | N8: 2 | O8: 1 | P8: 0 | Q8: 2 | R8: 1 | S8: 2 | T8: 2 | U8: 2 | V8: 2
C9: SEDE BUENOS AIRES | D9: 237 | E9: 3 | F9: 3 | G9: 2 | H9: 2 | I9: 1 | J9: 1 | K9: 1 | L9: 3 | M9: 3 | N9: 3 | O9: 2 | P9: 0 | Q9: 3 | R9: 1 | S9: 2 | T9: 2 | U9: 2 | V9: 3
C10: SEDE ROMUALDO GALLEGO | D10: 319 | E10: 3 | F10: 3 | G10: 2 | H10: 2 | I10: 1 | J10: 1 | K10: 1 | L10: 3 | M10: 3 | N10: 3 | O10: 2 | P10: 0 | Q10: 3 | R10: 1 | S10: 2 | T10: 2 | U10: 2 | V10: 3
C11: I. E GUARUMO | D11: 949 | E11: 5 | F11: 5 | G11: 5 | H11: 5 | I11: 1 | J11: 1 | K11: 1 | L11: 5 | M11: 5 | N11: 5 | O11: 0 | P11: 1 | Q11: 5 | R11: 1 | S11: 2 | T11: 2 | U11: 2 | V11: 5
C12: SEDE RIOMAN | D12: 174 | E12: 3 | F12: 3 | G12: 2 | H12: 2 | I12: 1 | J12: 1 | K12: 1 | L12: 3 | M12: 3 | N12: 3 | O12: 2 | P12: 0 | Q12: 3 | R12: 1 | S12: 2 | T12: 2 | U12: 2 | V12: 3
C13: I.E MANIZALEZ | D13: 195 | E13: 3 | F13: 3 | G13: 2 | H13: 2 | I13: 1 | J13: 1 | K13: 1 | L13: 3 | M13: 3 | N13: 3 | O13: 2 | P13: 0 | Q13: 3 | R13: 1 | S13: 2 | T13: 2 | U13: 2 | V13: 3
C14: SEDE NICARAGUA | D14: 21 | E14: 2 | F14: 2 | G14: 1 | H14: 2 | I14: 1 | J14: 1 | K14: 1 | L14: 2 | M14: 2 | N14: 2 | O14: 1 | P14: 0 | Q14: 2 | R14: 1 | S14: 2 | T14: 2 | U14: 2 | V14: 2
C15: SEDE SANTA LUCIA | D15: 15 | E15: 2 | F15: 2 | G15: 1 | H15: 2 | I15: 1 | J15: 1 | K15: 1 | L15: 2 | M15: 2 | N15: 2 | O15: 1 | P15: 0 | Q15: 2 | R15: 1 | S15: 2 | T15: 2 | U15: 2 | V15: 2
... C72: SEDE ROMUALDO GALLEGO | D72: 346 | E72: 3 | F72: 3 | G72: 2 | H72: 2 | I72: 1 | J72: 1 | K72: 1 | L72: 3 | M72: 3 | N72: 3 | O72: 2 | P72: 0 | Q72: 3 | R72: 1 | S72: 2 | T72: 2 | U72: 2 | V72: 3
C73: CANTIDAD / MES | E73: =SUM(E4:E72) -> 154 | F73: =SUM(F4:F72) -> 154 | G73: =SUM(G4:G72) -> 87 | H73: =SUM(H4:H72) -> 144 | I73: =SUM(I4:I72) -> 69 | J73: =SUM(J4:J72) -> 69 | K73: =SUM(K4:K72) -> 69 | L73: =SUM(L4:L72) -> 154 | ... V73: =SUM(V4:V72) -> 154
C74: MESES | E74: 7 | F74: 7 | G74: 7 | H74: 7 | I74: 3 | J74: 3 | K74: 3 | L74: 7 | M74: 7 | N74: 7 | O74: 7 | P74: 7 | Q74: 7 | R74: 1 | S74: 6 | T74: 6 | U74: 6 | V74: 7
C75: CANTIDAD TOTAL GENERAL | E75: =E73*E74 -> 1078 | F75: =F73*F74 -> 1078 | G75: =G73*G74 -> 609 | H75: =H73*H74 -> 1008 | I75: =I73*I74 -> 207 | J75: =J73*J74 -> 207 | K75: =K73*K74 -> 207 | L75: =L73*L74 -> 1078 | ... V75: =V73*V74 -> 1078
C76: VALOR | E76: =E75*'VALOR ASEO'!G4 -> 7546000 | F76: =F75*'VALOR ASEO'!G5 -> 8839600 | G76: =G75*'VALOR ASEO'!$G$6 -> 3796100 | H76: =H75*'VALOR ASEO'!$G$7 -> 6585600 | I76: =I75*'VALOR ASEO'!$G$8 -> 1635300 | J76: =J75*'VALOR ASEO'!$G$9 -> 1787100 | K76: =K75*'VALOR ASEO'!$G$10 -> 1380000 | L76: =L75*'VALOR ASEO'!$G$11 -> 4491666.7 | M76: =M75*'VALOR ASEO'!$G$12 -> 4851000 | N76: =N75*'VALOR ASEO'!$G$13 -> 6863266.7 | O76: =O75*'VALOR ASEO'!$G$14 -> 4419800 | P76: =P75*'VALOR ASEO'!$G$15 -> 478333.33 | Q76: =Q75*'VALOR ASEO'!$G$16 -> 4527600 | R76: =R75*'VALOR ASEO'!$G$17 -> 20976000 | S76: =S75*'VALOR ASEO'!$G$18 -> 26068200 | T76: =T75*'VALOR ASEO'!$G$18 -> 26068200 | U76: =U75*'VALOR ASEO'!$G$18 -> 26068200 | V76: =V75*'VALOR ASEO'!$G$19 -> 11372900
V77: =SUM(E76:V76) -> 1.6775487e+08

Sheet EXAMENES MÉDICOS Y DOTACIÓN
B3: EXAMENES MÉDICOS Y DE LABORATORIO | C3: VALOR UNITARIO | F3: DESCRIPCIÓN | G3: N° MANIPULADORAS | H3: VALOR UNITARIO | I3: VALOR TOTAL
B4: FROTIS GARGANTA | C4: 40000 | F4: EXÁMENES MÉDICOS Y DE LABORATORIO | G4: 106 | H4: =C7 -> 120000 | I4: =G4*H4 -> 12720000
B5: FROTIS UÑAS | C5: 40000 | F5: DOTACIÓN | G5: 106 | H5: =D19 -> 194000 | I5: =G5*H5 -> 20564000
B6: COPROLOGICO | C6: 40000 | F6: VALOR TOTAL EXÁMENES MÉDICOS Y DOTACIÓN | I6: =SUM(I4:I5) -> 33284000
C7: =SUM(C4:C6) -> 120000
B10: DOTACIÓN | C10: PRESENTACIÓN | D10: VALOR
B11: GORRO | C11: UND | D11: 15000
B12: BATA | C12: UND | D12: 30000
B13: DELANTAL | C13: UND | D13: 30000
B14: PANTALÓN | C14: UND | D14: 55000
B15: ZAPATOS | C15: PAR | D15: 50000
B16: GUANTES PARA EL SERVIDO DE LOS ALIMJENTOS | C16: PAR | D16: 5000
B17: GUANTES PARA LA LIMPIEZA Y DESINFECCIÓN | C17: PAR | D17: 5000
B18: TAPABOCAS | C18: UND | D18: 4000
D19: =SUM(D11:D18) -> 194000

Sheet PÓLIZAS
B2: DESCRIPCIÓN | C2: VALOR
B3: PÓLIZA DE CUMPLIMIENTO Y RESPONSABILIDAD CIVIL | C3: 56000000

Sheet IMPUESTOS MUNICIPIO
B4: DESCRIPCIÓN | C4: PORCENTAJE | D4: VALOR
B5: IMPUESTO MUNICIPIO | C5: 0.121 | D5: 5.8948673e+08

Sheet MANIPULADORAS DE ALIMENTOS
B2: VALOR DÍA 4 HORAS | C2: 50609.602
B3: VALOR DÍA 6 HORAS | C3: 66687.274
B5: MES EJECUCIÓN | C5: N° Manipuladores 4 Horas | D5: N° Manipuladores 5 Horas | E5: N° Manipuladores 6 Horas | F5: N° Manipuladores 7 Horas | G5: N° Manipuladores 8 Horas | H5: N° Total Manipuladores que prestaron el servicio | I5: Días Laborados durante el Mes | J5: VALOR PAGO RECONOCIMIENTO
B6: ENERO (Proyectado) | C6: 48 | E6: 58 | H6: =SUM(C6:G6) -> 106 | I6: 15 | J6: =((C6*$C$2*I6)+(E6*$C$3*I6)) -> 94456842
H7: =SUM(C7:G7) -> 0
H8: =SUM(C8:G8) -> 0
C9: =SUM(C6:C8) -> 48 | D9: =SUM(D6:D8) -> 0 | E9: =SUM(E6:E8) -> 58 | F9: =SUM(F6:F8) -> 0 | G9: =SUM(G6:G8) -> 0 | H9: =SUM(H6:H8) -> 106 | I9: =SUM(I6:I8) -> 15 | J9: =SUM(J6:J8) -> 94456842
B10: FEBRERO (Proyectado) | C10: 48 | E10: 58 | H10: =SUM(C10:G10) -> 106 | I10: 20 | J10: =((C10*$C$2*I10)+(E10*$C$3*I10)) -> 1.2594246e+08
H11: =SUM(C11:G11) -> 0
H12: =SUM(C12:G12) -> 0
C13: =SUM(C10:C12) -> 48 | D13: =SUM(D10:D12) -> 0 | E13: =SUM(E10:E12) -> 58 | F13: =SUM(F10:F12) -> 0 | G13: =SUM(G10:G12) -> 0 | H13: =C13+D13+E13+F13+G13 -> 106 | I13: =SUM(I10:I12) -> 20 | J13: =SUM(J10:J12) -> 1.2594246e+08
B14: MARZO (Proyectado) | C14: 48 | E14: 58 | H14: =SUM(C14:G14) -> 106 | I14: 20 | J14: =((C14*$C$2*I14)+(E14*$C$3*I14)) -> 1.2594246e+08
H15: =SUM(C15:G15) -> 0
H16: =SUM(C16:G16) -> 0
C17: =SUM(C14:C16) -> 48 | D17: =SUM(D14:D16) -> 0 | E17: =SUM(E14:E16) -> 58 | F17: =SUM(F14:F16) -> 0 | G17: =SUM(G14:G16) -> 0 | H17: =C17+D17+E17+F17+G17 -> 106 | I17: _ | J17: =SUM(J14:J16) -> 1.2594246e+08
B18: ABRIL (Proyectado) | C18: 48 | E18: 58 | H18: =SUM(C18:G18) -> 106 | I18: 18 | J18: =((C18*$C$2*I18)+(E18*$C$3*I18)) -> 1.1334821e+08
H19: =SUM(C19:G19) -> 0
H20: =SUM(C20:G20) -> 0
C21: =SUM(C18:C20) -> 48 | D21: =SUM(D18:D20) -> 0 | E21: =SUM(E18:E20) -> 58 | F21: =SUM(F18:F20) -> 0 | G21: =SUM(G18:G20) -> 0 | H21: =SUM(H18:H20) -> 106 | I21: =SUM(I18:I20) -> 18 | J21: =SUM(J18:J20) -> 1.1334821e+08
B22: MAYO (Proyectado) | C22: 48 | E22: 58 | H22: =SUM(C22:G22) -> 106 | I22: 21 | J22: =((C22*$C$2*I22)+(E22*$C$3*I22)) -> 1.3223958e+08
H23: =SUM(C23:G23) -> 0
H24: =SUM(C24:G24) -> 0
C25: =SUM(C22:C24) -> 48 | D25: =SUM(D22:D24) -> 0 | E25: =SUM(E22:E24) -> 58 | F25: =SUM(F22:F24) -> 0 | G25: =SUM(G22:G24) -> 0 | H25: =SUM(H22:H24) -> 106 | I25: =SUM(I22:I24) -> 21 | J25: =SUM(J22:J24) -> 1.3223958e+08
B26: JUNIO (Proyectado) | C26: 48 | E26: 58 | H26: =SUM(C26:G26) -> 106 | I26: 4 | J26: =((C26*$C$2*I26)+(E26*$C$3*I26)) -> 25188491
H27: =SUM(C27:G27) -> 0
H28: =SUM(C28:G28) -> 0
C29: =SUM(C26:C28) -> 48 | D29: =SUM(D26:D28) -> 0 | E29: =SUM(E26:E28) -> 58 | F29: =SUM(F26:F28) -> 0 | G29: =SUM(G26:G28) -> 0 | H29: =C29+D29+E29+F29+G29 -> 106 | I29: =SUM(I26:I28) -> 4 | J29: =SUM(J26:J28) -> 25188491
B30: JULIO (Proyectado) | C30: 48 | E30: 58 | H30: =SUM(C30:G30) -> 106 | I30: 22 | J30: =((C30*$C$2*I30)+(E30*$C$3*I30)) -> 1.385367e+08
H31: =SUM(C31:G31) -> 0
H32: =SUM(C32:G32) -> 0
C33: =SUM(C30:C32) -> 48 | D33: =SUM(D30:D32) -> 0 | E33: =SUM(E30:E32) -> 58 | F33: =SUM(F30:F32) -> 0 | G33: =SUM(G30:G32) -> 0 | H33: =SUM(H30:H32) -> 106 | I33: =SUM(I30:I32) -> 22 | J33: =SUM(J30:J32) -> 1.385367e+08
B34: AGOSTO (Proyectado) | C34: 48 | E34: 58 | H34: =SUM(C34:G34) -> 106 | J34: =((C34*$C$2*I34)+(E34*$C$3*I34)) -> 0
H35: =SUM(C35:G35) -> 0
H36: =SUM(C36:G36) -> 0
C37: =SUM(C34:C36) -> 48 | D37: =SUM(D34:D36) -> 0 | E37: =SUM(E34:E36) -> 58 | F37: =SUM(F34:F36) -> 0 | G37: =SUM(G34:G36) -> 0 | H37: =SUM(H34:H36) -> 106 | I37: =SUM(I34:I36) -> 0 | J37: =SUM(J34:J36) -> 0
B38: VALOR ESTIPULADO PARA LIQUIDACIÓN
B39: TOTAL | I39: =I6+I10+I14+I18+I22+I26+I30+I34 -> 120 | J39: =J9+J13+J17+J21+J25+J29+J33+J37 -> 7.5565474e+08

Sheet LOGISTICA
B3: LOGISTICA | D3: MESES | E3: N° ENTREGAS | F3: VALOR TOTAL
B4: ALQUILER BODEGA - MES | C4: 1200000 | D4: 7 | E4: 0 | F4: =C4*D4 -> 8400000
B5: SERVICIOS PÚBLICOS - MES | C5: 450000 | D5: 7 | E5: 0 | F5: =C5*D5 -> 3150000
B6: PAGO AL PERSONAL DE LA BODEGA - POR ENTREGA | C6: 900000 | D6: 0 | E6: 14 | F6: =C6*E6 -> 12600000
B7: PAPELERIA - POR ENTREGA | C7: 350000 | D7: 0 | E7: 14 | F7: =C7*E7 -> 4900000
B8: INSUMOS ASEO BODEGA - MES | C8: 450000 | D8: 7 | E8: 0 | F8: =C8*D8 -> 3150000
B9: INSUMOS NECESARIOS PARA EMPACAR LOS ALIMENTOS PARA LAS SEDES EDUCATIVAS POR ENTREGA | C9: 500000 | D9: 0 | E9: 14 | F9: =C9*E9 -> 7000000
B10: VALOR TOTAL | F10: =SUM(F4:F9) -> 39200000

Sheet PRESUPUESTO
B3: PRESUPUESTO PAE CÁCERES 2025 - 120 DÍAS
B4: GAS COMBUSTIBLE | D4: ='GAS COMBUSTIBLE'!G77 -> 79572500
B5: ALIMENTOS | C5: PAE REGULAR | D5: ='PAE REGULAR'!AD53 -> 2299117264
C6: PAE INDÍGENA | D6: ='PAE INDÍGENA'!AD71 -> 250969212
C7: JORNADA ÚNICA | D7: ='JORNADA ÚNICA'!AD47 -> 357976006
B8: TRANSPORTE DE ALIMENTOS | D8: =TRANSPORTE!H72 -> 1.4867218e+08
B9: IMPLEMENTOS DE ASEO | D9: ='IMPLEMENTOS DE ASEO (2)'!V77 -> 1.6775487e+08
B10: EXÁMENES MÉDICOS Y DOTACIÓN | D10: ='EXAMENES MÉDICOS Y DOTACIÓN'!I6 -> 33284000
B11: PÓLIZAS | D11: =PÓLIZAS!C3 -> 56000000
B12: IMPUESTO MUNICIPIO | D12: ='IMPUESTOS MUNICIPIO'!D5 -> 5.8948673e+08
B13: PAGO MANIPULADORAS | D13: 7.5565474e+08
B14: LOGISTICA | D14: =LOGISTICA!F10 -> 39200000
B15: TOTAL PRESUPUESTO | D15: =SUM(D4:D14) -> 4.7776875e+09
