Workbook

Sheet CANASTA
B1: SECRETARIA DE BIENESTAR SOCIAL MUNICIPAL SANTIAGO DE CALI- SUBSECRETARIA DE PRIMERA INFANCIA
B2: FORMATO INFORME FINANCIERO CANASTA DEL MES
B3: MODALIDAD INSTITUCIONAL 2.025
C5: ENTIDAD: ASOCIACIÓN EDUCATIVA COLEGIO ARANGO Y CUERO
C6: PERIODO DE REPORTE: | D6: MES | E6: FEBRERO
C7: CONCEPTO CANASTA | D7: TIPO DE COSTO | E7: VALOR PRESUPUESTADO DEL MES | F7: NUMERO DE PERSONAS EN TALENTO HUMANO | G7: EJECUTADO EN EL MES | H7: DIFERENCIA DE EJECUCION MES
B8: TALENTO HUMANO | C8: Coordinador/a | D8: Fijo | E8: 55242584 | F8: 12 | G8: 55242588 | H8: =E8-G8 -> -3.5904
C9: Agente educativa | D9: Fijo | E9: 3.3683413e+08 | F9: 88 | G9: 331040066 | H9: =E9-G9 -> 5794060.9
C10: Agente educativa Perfil 2 | D10: Fijo | E10: 21352716 | F10: 7 | G10: 21352716 | H10: =E10-G10 -> 0
C11: Agente educativa Sala Cuna | D11: Fijo | E11: 30163103 | F11: 8 | G11: 30163104 | H11: =E11-G11 -> -1.4359999
C12: Profesional de Atención Psic. | D12: Fijo | E12: 42213792 | F12: 12 | G12: 42213792 | H12: =E12-G12 -> 0
C13: Profesional de Nutrición | D13: Fijo | E13: 15569608 | F13: 5 | G13: 14661381 | H13: =E13-G13 -> 908227
C14: Auxiliar de enfermeria | D14: Fijo | E14: 36536460 | F14: 12 | G14: 36536460 | H14: =E14-G14 -> 0
C15: Auxiliar Pedagógico | D15: Fijo | E15: 1.1990319e+08 | F15: 45 | G15: 119661449 | H15: =E15-G15 -> 241739.8
C16: Auxiliar Pedagógico Perfil 2 | D16: Fijo | E16: 2417403 | F16: 1 | G16: 2417403 | H16: =E16-G16 -> 0
C17: Auxiliar Pedagógico de sala cuna | D17: Fijo | E17: 10636573 | F17: 4 | G17: 10636573 | H17: =E17-G17 -> 0.2
C18: Manipulador de alimentos | D18: Fijo | E18: 123287553 | F18: 50 | G18: 120870150 | H18: =E18-G18 -> 2417403
C19: Auxiliar de Servicios Generales | D19: Fijo | E19: 58017672 | F19: 22 | G19: 50765463 | H19: =E19-G19 -> 7252209
C20: Auxiliar administrativo | D20: Fijo | E20: 35852664 | F20: 12 | G20: 35852664 | H20: =E20-G20 -> 0
C21: Sub total presupuesto general Talento Humano. | E21: =SUM(E8:E20) -> 8.8802744e+08 | F21: =SUM(F8:F20) -> 278 | G21: =SUM(G8:G20) -> 871413809 | H21: =SUM(H8:H20) -> 16613635
B22: INFRAESTRUCTURA | C22: Arriendo | D22: Fijo | E22: 57368700 | F22: 0 | G22: =+'A2 INFR. ARRI. SERV.P.C.F'!G26 -> 50994400 | H22: 0
C23: Servicios Públicos | D23: Fijo | E23: 5032761 | F23: 0 | G23: =+'A2 INFR. ARRI. SERV.P.C.F'!H26 -> 5581172 | H23: =E23-G23 -> -548411.01
C24: Sub total presupuesto general Infraestructura | E24: =SUM(E22:E23) -> 62401461 | F24: =SUM(F22:F23) -> 0 | G24: =SUM(G22:G23) -> 56575572 | H24: =SUM(H22:H23) -> -548411.01
B25: DOTACION NO FUNGIBLE | C25: DOTACIÓN NO FUNGLIBLE | D25: Variable | E25: 0 | F25: 0 | G25: 0 | H25: 0
C26: SUBTOTAL DOTACION NO FUNGIBLE | E26: =+E25 -> 0 | G26: =+G25 -> 0 | H26: =+H25 -> 0
B27: GASTOS OPERATIVOS | C27: Gastos Operativos | D27: Fijo | E27: 2.5719251e+08 | F27: 0 | G27: =+'A3 GTS OPERAT. C.F.'!N60 -> 2.110575e+08 | H27: =E27-G27 -> 46135004
C28: Sub total presupuesto general Gastos Operativos | E28: =SUM(E27) -> 2.5719251e+08 | F28: =SUM(F27) -> 0 | G28: =SUM(G27) -> 2.110575e+08 | H28: =SUM(H27) -> 46135004
B29: DOTACION DE CONSUMO | C29: Material didáctico de consumo | D29: Variable | E29: 23750000 | F29: 0 | G29: =+'A4 DOTA CONSUMO C.V'!H8 -> 23749852 | H29: =E29-G29 -> 148
C30: Dotación de aseo | D30: Variable | E30: 11875000 | F30: 0 | G30: =+'A4 DOTA CONSUMO C.V'!I9 -> 11877400 | H30: =E30-G30 -> -2400
C31: Sub total presupuesto general dotación | E31: =SUM(E29:E30) -> 35625000 | F31: =SUM(F29:F30) -> 0 | G31: =SUM(G29:G30) -> 35627252 | H31: =SUM(H29:H30) -> -2252
B32: POLIZA NIÑOS | C32: Poliza de NIños | D32: Variable | E32: 0 | F32: 0 | G32: =+SEGUROS!G8 -> 0 | H32: =E32-G32 -> 0
C33: Sub total presupuesto general de Seguro. | E33: =E32 -> 0 | F33: =F32 -> 0 | G33: =G32 -> 0 | H33: =H32 -> 0
B34: ALIMENTACIÓN | C34: Alimentación | D34: Variable | E34: 345087500 | F34: 0 | G34: =+'A6 ALIMENTACION'!I17 -> 273108447 | H34: =E34-G34 -> 71979053
C35: Sub total presupuesto general alimentación | E35: =SUM(E34:E34) -> 345087500 | F35: =SUM(F34:F34) -> 0 | G35: =SUM(G34:G34) -> 273108447 | H35: =SUM(H34:H34) -> 71979053
B36: INFRAESTRUCTURA | C36: Mantenimiento y Adecuaciones | D36: Variable | E36: 5225000 | F36: 0 | G36: =+'A7 INFR.MTTO ADEC. C.V.'!K19 -> 5225000 | H36: =E36-G36 -> 0
C37: Sub total presupuesto Mantenimiento y Adecuaciones | E37: =SUM(E36:E36) -> 5225000 | F37: =SUM(F36:F36) -> 0 | G37: =+G36 -> 5225000 | H37: =SUM(H36:H36) -> 0
C38: GRAN TOTAL | E38: =E21+E24+E28+E31+E33+E35+E37+E26 -> 1.5935589e+09 | F38: 0 | G38: =+G37+G35+G31+G28+G26+G24+G21+G33 -> 1.4530076e+09 | H38: =H21+H24+H28+H31+H33+H35+H37 -> 1.3417703e+08
B39: Nombre y apellidos Representante Legal | D39: No de Cédula | F39: Firma del Representante Legal
B40: LUIS ARANGO RUIZ | D40: 16634779
B42: Supervisor del Contrato | D42: No de Cédula | F42: VoBo Firma Supervisor del Contrato

Sheet A1 TH 
C4: SECRETARIA DE BIENESTAR SOCIAL MUNICIPAL SANTIAGO DE CALI- SUBSECRETARIA DE PRIMERA INFANCIA | PRG4: .
C5: ANEXO 1 EXPLICATIVO DE TALENTO HUMANO -COSTOS FIJOS AÑO 2025
C6: ENTIDAD : | D6: ASOCIACIÓN EDUCATIVA COLEGIO ARANGO Y CUERO | H6: PERIODO DEL REPORTE | J6: FEBRERO | K6: DESDE | L6: 01 DE FEBRERO DEL 2025 | O6: HASTA | P6: 28 DE FEBRERO DEL 2025
A7: No | B7: No | C7: DOCUMENTO DE IDENTIDAD No | D7: NOMBRE DEL EMPLEADO | E7: CARGO | F7: DIAS A LIQUIDAR | G7: SALARIO MENSUAL | H7: SUELDO BASICO DEVENGADO | I7: INCAPACIDADES | J7: AUXILIO DE TRANSPORTE | K7: TOTAL NOMINA | L7: CESANTIAS | M7: I/S/C | N7: PRIMA | O7: VACACIONES | P7: TOTAL PRESTACIONES SOCIALES | Q7: SALUD | R7: PENSION | S7: ARL | T7: TOTAL SEGURIDAD SOCIAL | U7: CAJA DE COMPENSACION FAMILIAR | V7: ICBF | W7: SENA | X7: TOTAL APORTES PARAFISCALES | Y7: DOTACION EMPLEADOS MES | Z7: OTROS / HONORARIOS | AA7: TOTAL GASTO DE PERSONAL MES | AB7: OBSERVACIONES Y/O NOVEDADES DE PERSONAL
A8: 1 | B8: 1 | C8: 66853083 | D8: ALDERETE CAICEDO VIVIAN | E8: COORDINADOR | F8: 30 | G8: 4603549 | H8: =+G8/30*F8 -> 4603549 | I8: 0 | J8: 0 | K8: =+H8+I8+J8 -> 4603549 | L8: 0 | M8: 0 | N8: 0 | O8: 0 | P8: =+L8+M8+N8+O8 -> 0 | Q8: 0 | R8: 0 | S8: 0 | T8: =+Q8+R8+S8 -> 0 | U8: 0 | V8: 0 | W8: 0 | X8: =+U8+V8+W8 -> 0 | Y8: 0 | Z8: 0 | AA8: =+K8 -> 4603549
A9: 2 | B9: 2 | C9: 1144038589 | D9: ARANGO CUERO LUISA KATHERINE | E9: COORDINADOR | F9: 30 | G9: 4603549 | H9: =+G9/30*F9 -> 4603549 | I9: 0 | J9: 0 | K9: =+H9+I9+J9 -> 4603549 | L9: 0 | M9: 0 | N9: 0 | O9: 0 | P9: =+L9+M9+N9+O9 -> 0 | Q9: 0 | R9: 0 | S9: 0 | T9: =+Q9+R9+S9 -> 0 | U9: 0 | V9: 0 | W9: 0 | X9: =+U9+V9+W9 -> 0 | Y9: 0 | Z9: 0 | AA9: =+K9 -> 4603549
A10: 3 | B10: 3 | C10: 1144055599 | D10: BERNAL ARIAS KELLY TATIANA | E10: COORDINADOR | F10: 30 | G10: 4603549 | H10: =+G10/30*F10 -> 4603549 | I10: 0 | J10: 0 | K10: =+H10+I10+J10 -> 4603549 | L10: 0 | M10: 0 | N10: 0 | O10: 0 | P10: =+L10+M10+N10+O10 -> 0 | Q10: 0 | R10: 0 | S10: 0 | T10: =+Q10+R10+S10 -> 0 | U10: 0 | V10: 0 | W10: 0 | X10: =+U10+V10+W10 -> 0 | Y10: 0 | Z10: 0 | AA10: =+K10 -> 4603549
A11: 4 | B11: 4 | C11: 67041343 | D11: ERAZO RODRIGUEZ VIVIANA | E11: COORDINADOR | F11: 30 | G11: 4603549 | H11: =+G11/30*F11 -> 4603549 | I11: 0 | J11: 0 | K11: =+H11+I11+J11 -> 4603549 | L11: 0 | M11: 0 | N11: 0 | O11: 0 | P11: =+L11+M11+N11+O11 -> 0 | Q11: 0 | R11: 0 | S11: 0 | T11: =+Q11+R11+S11 -> 0 | U11: 0 | V11: 0 | W11: 0 | X11: =+U11+V11+W11 -> 0 | Y11: 0 | Z11: 0 | AA11: =+K11 -> 4603549
A12: 5 | B12: 5 | C12: 1144158737 | D12: GALINDEZ GONZALEZ STEPHANIA | E12: COORDINADOR | F12: 30 | G12: 4603549 | H12: =+G12/30*F12 -> 4603549 | I12: 0 | J12: 0 | K12: =+H12+I12+J12 -> 4603549 | L12: 0 | M12: 0 | N12: 0 | O12: 0 | P12: =+L12+M12+N12+O12 -> 0 | Q12: 0 | R12: 0 | S12: 0 | T12: =+Q12+R12+S12 -> 0 | U12: 0 | V12: 0 | W12: 0 | X12: =+U12+V12+W12 -> 0 | Y12: 0 | Z12: 0 | AA12: =+K12 -> 4603549
A13: 6 | B13: 6 | C13: 1130589883 | D13: MUÑOZ ORTIZ INGRID CATALINA | E13: COORDINADOR | F13: 30 | G13: 4603549 | H13: =+G13/30*F13 -> 4603549 | I13: 0 | J13: 0 | K13: =+H13+I13+J13 -> 4603549 | L13: 0 | M13: 0 | N13: 0 | O13: 0 | P13: =+L13+M13+N13+O13 -> 0 | Q13: 0 | R13: 0 | S13: 0 | T13: =+Q13+R13+S13 -> 0 | U13: 0 | V13: 0 | W13: 0 | X13: =+U13+V13+W13 -> 0 | Y13: 0 | Z13: 0 | AA13: =+K13 -> 4603549
A14: 7 | B14: 7 | C14: 29108362 | D14: OCAMPO RENGIFO PAOLA ANDREA | E14: COORDINADOR | F14: 30 | G14: 4603549 | H14: =+G14/30*F14 -> 4603549 | I14: 0 | J14: 0 | K14: =+H14+I14+J14 -> 4603549 | L14: 0 | M14: 0 | N14: 0 | O14: 0 | P14: =+L14+M14+N14+O14 -> 0 | Q14: 0 | R14: 0 | S14: 0 | T14: =+Q14+R14+S14 -> 0 | U14: 0 | V14: 0 | W14: 0 | X14: =+U14+V14+W14 -> 0 | Y14: 0 | Z14: 0 | AA14: =+K14 -> 4603549
A15: 8 | B15: 8 | C15: 48628634 | D15: SOLIS PLAYONERO ANA LUCIA | E15: COORDINADOR | F15: 30 | G15: 4603549 | H15: =+G15/30*F15 -> 4603549 | I15: 0 | J15: 0 | K15: =+H15+I15+J15 -> 4603549 | L15: 0 | M15: 0 | N15: 0 | O15: 0 | P15: =+L15+M15+N15+O15 -> 0 | Q15: 0 | R15: 0 | S15: 0 | T15: =+Q15+R15+S15 -> 0 | U15: 0 | V15: 0 | W15: 0 | X15: =+U15+V15+W15 -> 0 | Y15: 0 | Z15: 0 | AA15: =+K15 -> 4603549
A16: 9 | B16: 9 | C16: 1143855491 | D16: URREA VASQUEZ OLGA LUCIA | E16: COORDINADOR | F16: 30 | G16: 4603549 | H16: =+G16/30*F16 -> 4603549 | I16: 0 | J16: 0 | K16: =+H16+I16+J16 -> 4603549 | L16: 0 | M16: 0 | N16: 0 | O16: 0 | P16: =+L16+M16+N16+O16 -> 0 | Q16: 0 | R16: 0 | S16: 0 | T16: =+Q16+R16+S16 -> 0 | U16: 0 | V16: 0 | W16: 0 | X16: =+U16+V16+W16 -> 0 | Y16: 0 | Z16: 0 | AA16: =+K16 -> 4603549
A17: 10 | B17: 10 | C17: 25618281 | D17: VALLECILLA ARBOLEDA MARIBEL | E17: COORDINADOR | F17: 30 | G17: 4603549 | H17: =+G17/30*F17 -> 4603549 | I17: 0 | J17: 0 | K17: =+H17+I17+J17 -> 4603549 | L17: 0 | M17: 0 | N17: 0 | O17: 0 | P17: =+L17+M17+N17+O17 -> 0 | Q17: 0 | R17: 0 | S17: 0 | T17: =+Q17+R17+S17 -> 0 | U17: 0 | V17: 0 | W17: 0 | X17: =+U17+V17+W17 -> 0 | Y17: 0 | Z17: 0 | AA17: =+K17 -> 4603549
A18: 11 | B18: 11 | C18: 1130626822 | D18: VELASCO PADILLA KATHERYNE | E18: COORDINADOR | F18: 30 | G18: 4603549 | H18: =+G18/30*F18 -> 4603549 | I18: 0 | J18: 0 | K18: =+H18+I18+J18 -> 4603549 | L18: 0 | M18: 0 | N18: 0 | O18: 0 | P18: =+L18+M18+N18+O18 -> 0 | Q18: 0 | R18: 0 | S18: 0 | T18: =+Q18+R18+S18 -> 0 | U18: 0 | V18: 0 | W18: 0 | X18: =+U18+V18+W18 -> 0 | Y18: 0 | Z18: 0 | AA18: =+K18 -> 4603549
A19: 12 | B19: 12 | C19: 31909234 | D19: VICTORIA CAICEDO MARIA EUGENIA | E19: COORDINADOR | F19: 30 | G19: 4603549 | H19: =+G19/30*F19 -> 4603549 | I19: 0 | J19: 0 | K19: =+H19+I19+J19 -> 4603549 | L19: 0 | M19: 0 | N19: 0 | O19: 0 | P19: =+L19+M19+N19+O19 -> 0 | Q19: 0 | R19: 0 | S19: 0 | T19: =+Q19+R19+S19 -> 0 | U19: 0 | V19: 0 | W19: 0 | X19: =+U19+V19+W19 -> 0 | Y19: 0 | Z19: 0 | AA19: =+K19 -> 4603549
... A285: 278 | B285: 22 | C285: 38670134 | D285: VARGAS BALANTA MARIA DEL PILAR | E285: AUXILIAR DE SERVICIOS GENERALES | F285: 30 | G285: 2417403 | H285: =+G285/30*F285 -> 2417403 | I285: 0 | J285: 0 | K285: =+H285+I285+J285 -> 2417403 | L285: 0 | M285: 0 | N285: 0 | O285: 0 | P285: =+L285+M285+N285+O285 -> 0 | Q285: 0 | R285: 0 | S285: 0 | T285: =+Q285+R285+S285 -> 0 | U285: 0 | V285: 0 | W285: 0 | X285: =+U285+V285+W285 -> 0 | Y285: 0 | Z285: 0 | AA285: =+K285 -> 2417403
A286: TOTAL | F286: 13 | G286: =SUM(G8:G285) -> 8.7938592e+08 | H286: =SUM(H8:H285) -> 8.7141381e+08 | I286: =SUM(I8:I285) -> 0 | J286: =SUM(J8:J285) -> 0 | K286: =SUM(K8:K285) -> 8.7141381e+08 | L286: =SUM(L8:L285) -> 0 | M286: =SUM(M8:M285) -> 0 | N286: =SUM(N8:N285) -> 0 | ... AA286: =SUM(AA8:AA285) -> 8.7141381e+08
A287: ELABORADO POR: | G287: REVISADO POR :
A290: NOMBRE Y CARGO | G290: NOMBRE Y CARGO | J290: NOMBRE Y FIRMA REP LEGAL

Sheet A2  INFR. ARRI. SERV.P.C.F
B2: SECRETARIA DE BIENESTAR SOCIAL MUNICIPAL SANTIAGO DE CALI- SUBSECRETARIA DE PRIMERA INFANCIA
B3: ANEXO 2 EXPLICATIVO DE INFRAESTRUCTURA- COSTOS FIJOS AÑO 2025
B4: ENTIDAD | C4: ASOCIACIÓN EDUCATIVA COLEGIO ARANGO Y CUERO
B5: PERIODO DE REPORTE: | C5: FEBRERO | D5: DESDE | E5: 01 DE FEBRERO DEL 2025 | G5: HASTA | H5: 28 DE FEBRERO DEL 2025
G6: CONCEPTOS DE GASTOS INFRAESTRUCTURA
B7: No | C7: FECHA | D7: BENEFICIARIO DEL PAGO | E7: IDENTIFICACIÓN | F7: FACTURA No | G7: ARRENDAMIENTO | H7: SERVICIOS PUBLIOCS | J7: TOTAL | K7: OBSERVACIONES
B8: 1 | C8: 45694 | D8: VIDAGAS | E8: 900335279 - 0 | G8: 0 | H8: 305000 | J8: =SUM(G8:I8) -> 305000
B9: 2 | C9: 45695 | D9: VIDAGAS | E9: 900335279 - 0 | G9: 0 | H9: 80000 | J9: =SUM(G9:I9) -> 80000
B10: 3 | C10: 45699 | D10: GASES DE OCCIDENTE SA ESP | E10: 800167643-5 | G10: 0 | H10: 291686 | J10: =SUM(G10:I10) -> 291686
B11: 4 | C11: 45700 | D11: VIDAGAS | E11: 900335279 - 0 | G11: 0 | H11: 510000 | J11: =SUM(G11:I11) -> 510000
B12: 5 | C12: 45700 | D12: VIDAGAS | E12: 900335279 - 0 | G12: 0 | H12: 150000 | J12: =SUM(G12:I12) -> 150000
B13: 6 | C13: 45707 | D13: FUNDACION CARIÑO | E13: 900224702 - 9 | F13: 13 | G13: 8924020 | H13: 0 | I13: 0 | J13: =SUM(G13:I13) -> 8924020
B14: 7 | C14: 45712 | D14: EMPRESAS MUNICIPALES DE CALI E.I.C.E. E.S.P. | E14: 890399003 - 4 | G14: 0 | H14: 2465093 | J14: =SUM(G14:I14) -> 2465093
B15: 8 | C15: 45712 | D15: EMPRESAS MUNICIPALES DE CALI E.I.C.E. E.S.P. | E15: 890399003 - 4 | G15: 0 | H15: 788364 | J15: =SUM(G15:I15) -> 788364
B16: 9 | C16: 45712 | D16: EMPRESAS MUNICIPALES DE CALI E.I.C.E. E.S.P. | E16: 890399003 - 4 | G16: 0 | H16: 991029 | J16: =SUM(G16:I16) -> 991029
B17: 10 | C17: 45716 | D17: FUNDACION EUDES | E17: 800132978 | F17: 1 | G17: 6374300 | H17: 0 | I17: 0 | J17: =SUM(G17:I17) -> 6374300
B18: 11 | C18: 45716 | D18: CLARA INES ZAPATA RIVERA | E18: 31148433 | F18: 2 | G18: 10198880 | H18: 0 | I18: 0 | J18: =SUM(G18:I18) -> 10198880
B19: 12 | C19: 45716 | D19: ROCIO VILLAMIZAR RINCON | E19: 66808585 | F19: 1 | G19: 5099440 | H19: 0 | I19: 0 | J19: =SUM(G19:I19) -> 5099440
B20: 13 | C20: 45716 | D20: DAYAN STEFANYA PALACIOS CASTAÑEDA | E20: 1144197549 | F20: 1 | G20: 6374300 | H20: 0 | I20: 0 | J20: =SUM(G20:I20) -> 6374300
B21: 14 | C21: 45716 | D21: DAYAN STEFANYA PALACIOS CASTAÑEDA | E21: 1144197549 | F21: 2 | G21: 6374300 | H21: 0 | I21: 0 | J21: =SUM(G21:I21) -> 6374300
B22: 15 | C22: 45716 | D22: MARTHA ESNEIDA BENAVIDES RIVERA | E22: 31145431 | F22: 1 | G22: 7649160 | H22: 0 | I22: 0 | J22: =SUM(G22:I22) -> 7649160
B23: 16 | J23: =SUM(G23:I23) -> 0
B24: 17 | J24: =SUM(G24:I24) -> 0
B25: 18 | J25: =SUM(G25:I25) -> 0
G26: =SUM(G8:G25) -> 50994400 | H26: =SUM(H8:H25) -> 5581172 | I26: =SUM(I13:I25) -> 0 | J26: =SUM(J8:J25) -> 56575572
B27: ELABORADO POR: | F27: REVISADO POR :
B31: NOMBRE Y CARGO | F31: NOMBRE Y CARGO | H31: NOMBRE Y FIRMA REP LEGAL

Sheet A4 DOTA CONSUMO C.V
B2: SECRETARIA DE BIENESTAR SOCIAL MUNICIPAL SANTIAGO DE CALI- SUBSECRETARIA DE PRIMERA INFANCIA
B3: ANEXO 4 EXPLICATIVO DE DOTACION DE CONSUMO- COSTOS VARIABLES AÑO 2025
B4: ENTIDAD | C4: ASOCIACION EDUCATIVA COLEGIO ARANGO Y CUERO
B5: PERIODO DE REPORTE: | C5: FEBRERO | D5: DESDE | E5: 01 DE FEBRERO DEL 2025 | G5: HASTA | H5: 28 DE FEBRERO DEL 2025
G6: CONCEPTOS DE DOTACION DE CONSUMO
B7: No | C7: FECHA | D7: BENEFICIARIO DEL PAGO | E7: IDENTIFICACION | F7: FACTURA No | H7: MATERIAL DIDACTICO DE CONSUMO Y PAPELERIA | I7: DOTACION DE ASEO | J7: TOTAL GASTOS DOTACION DE CONSUMO | K7: OBSERVACIONES
B8: 1 | C8: 45716 | D8: DISTRIPAPELES E INSULOS ACUARELA | E8: 38949067 - 5 | H8: 23749852 | I8: 0 | J8: =SUM(H8:I8) -> 23749852
B9: =+B8+1 -> 2 | C9: 45716 | D9: DISTRIPAPELES E INSULOS ACUARELA | E9: 38949067 - 5 | H9: 0 | I9: 11877400 | J9: =SUM(H9:I9) -> 11877400
B10: =+B9+1 -> 3 | J10: =SUM(H10:I10) -> 0
B11: =+B10+1 -> 4 | J11: =SUM(H11:I11) -> 0
B12: =+B11+1 -> 5 | J12: =SUM(H12:I12) -> 0
B13: =+B12+1 -> 6 | J13: =SUM(H13:I13) -> 0
B14: =+B13+1 -> 7 | J14: =SUM(H14:I14) -> 0
B15: =+B14+1 -> 8 | J15: =SUM(H15:I15) -> 0
B16: =+B15+1 -> 9 | J16: =SUM(H16:I16) -> 0
B17: =+B16+1 -> 10 | J17: =SUM(G17:I17) -> 0
J18: =SUM(G18:I18) -> 0
J19: =SUM(G19:I19) -> 0
J20: =SUM(G20:I20) -> 0
J21: =SUM(G21:I21) -> 0
J22: =SUM(G22:I22) -> 0
J23: =SUM(G23:I23) -> 0
J24: =SUM(G24:I24) -> 0
J25: =SUM(G25:I25) -> 0
J26: =SUM(G26:I26) -> 0
J27: =SUM(G27:I27) -> 0
J28: =SUM(G28:I28) -> 0
J29: =SUM(G29:I29) -> 0
G30: =SUM(G8:G29) -> 0 | H30: =SUM(H8:H29) -> 23749852 | I30: =SUM(I8:I29) -> 11877400 | J30: =SUM(G30:I30) -> 35627252
B31: ELABORADO POR: | F31: REVISADO POR :
B34: NOMBRE Y CARGO | F34: NOMBRE Y CARGO | H34: NOMBRE Y FIRMA REP LEGAL

Sheet SEGUROS
B2: SECRETARIA DE BIENESTAR SOCIAL MUNICIPAL SANTIAGO DE CALI- SUBSECRETARIA DE PRIMERA INFANCIA
B3: ANEXO 8 EXPLICATIVO DE SEGUROS DE LOS NIÑOS - COSTOS VARIABLES AÑO 2025
B4: ENTIDAD | C4: ASOCIACION EDUCATIVA COLEGIO ARANGO Y CUERO
B5: PERIODO DE REPORTE: | C5: DESDE | F5: HASTA
F6: CONCEPTOS DE SEGURO
B7: No | C7: BENEFICIARIO DEL PAGO | D7: IDENTIFICACION | E7: FACTURA No | F7: SEGURO | G7: TOTAL | H7: OBSERVACIONES
B9: 2 | G9: =SUM(F9) -> 0
C19: TOTAL | F19: =SUM(F8:F18) -> 0 | G19: =SUM(G8:G18) -> 0
B20: ELABORADO POR: | E20: REVISADO POR : | H20: OBSERVACIONES OTRAS DEL MES :
E23: NOMBRE Y CARGO | G23: NOMBRE Y FIRMA REP LEGAL

Sheet A6 ALIMENTACION
A2: SECRETARIA DE BIENESTAR SOCIAL MUNICIPAL SANTIAGO DE CALI- SUBSECRETARIA DE PRIMERA INFANCIA
A3: ANEXO 6 EXPLICATIVO DE ALIMENTACION- COSTOS VARIABLES AÑO 2025
A4: ENTIDAD | C4: ASOCIACIÓN EDUCATIVA COLEGIO ARANGO Y CUERO
A5: PERIODO DE REPORTE: | D5: DESDE | E5: 01 DE FEBRERO DEL 2025 | G5: HASTA | H5: 28 DE FEBRERO DEL 2025
G6: CONCEPTO DE ALIMENTACION
A7: No | B7: NOTA DE CAUSACION No | C7: CPBTE EGRESO No | D7: BENEFICIARIO DEL PAGO | E7: IDENTIFICACION | F7: FACTURA No | G7: CUPOS ATENDIDOS | H7: GRUPO ETARIO | I7: TOTAL GASTO DE ALIMENTACION | J7: OBSERVACIONES
A8: 1 | D8: CORPORACION NUTRICION SALUD Y SANIDAD DE COLOMBIA CORPOSSANID | E8: 901.363.579 - 8 | H8: DE 6 MESES A 5 AÑOS | I8: 183699595
A9: 2 | D9: ASOCIACION AGROPECUARIA VALLES DE ALEGRIA | E9: 901.795.835 - 2 | H9: DE 6 MESES A 5 AÑOS | I9: 89408852
A10: 3
A11: 4
D17: TOTAL | G17: =SUM(G8:G16) -> 0 | H17: =SUM(H8:H16) -> 0 | I17: =SUM(I8:I16) -> 273108447
A18: ELABORADO POR: | F18: REVISADO POR : | I18: OBSERVACIONES OTRAS DEL MES :
A21: CONTADURA PUBLICA | F21: NOMBRE Y CARGO | H21: NOMBRE Y FIRMA REP LEGAL

Sheet A3 GTS OPERAT. C.F.
B2: SECRETARIA DE BIENESTAR SOCIAL MUNICIPAL SANTIAGO DE CALI- SUBSECRETARIA DE PRIMERA INFANCIA
B3: ANEXO 3 EXPLICATIVO DE GASTOS OPERATIVOS- COSTOS FIJOS AÑO 2025
B4: ENTIDAD | C4: ASOCIACION EDUCATIVA COLEGIO ARANGO Y CUERO
B5: PERIODO DE REPORTE: | C5: ENERO | D5: DESDE | E5: 15 DE ENERO DEL 2025 | H5: HASTA | I5: 30 DE ENERO DEL 2025
E6: CONCEPTO
B7: No | C7: FECHA | D7: BENEFICIARIO DEL PAGO | E7: IDENTIFICACIÓN | F7: FACTURA | G7: PAPELERIA | H7: SERVICIOS PUBLICOS | I7: FUMIGACION | J7: PERIFONEO | K7: TRASPORTE DE ALIMENTOS | L7: FOTOCOPIAS IMPRESIONES Y ESCANER | M7: ESTAMPILLAS/ IMPUESTO MUNICIPAL | N7: TOTAL GASTOS OPERATIVOS | O7: OBSERVACIONES
C8: 45686 | D8: TRANSPORTE LOGISTICO LOS CRISTALES S.A.S. | E8: 900438788 - 0 | F8: FEVN622 | G8: 0 | H8: 0 | I8: 0 | J8: 0 | K8: 7651800 | L8: 0 | M8: 0 | N8: =SUM(G8:M8) -> 7651800
C9: 45694 | D9: PLANETA CONTROL Y PREVENCION DE PLAGAS S.A.S. | E9: 900939670 | F9: FEVL1462 | G9: 0 | H9: 0 | I9: 2856000 | J9: 0 | K9: 0 | L9: 0 | M9: 0 | N9: =SUM(G9:M9) -> 2856000
B10: 1 | C10: 45707 | D10: FUNDACION CARIÑO | E10: 900224702 - 9 | F10: 13 | G10: 0 | H10: 53419 | I10: 0 | J10: 0 | K10: 0 | L10: 0 | M10: 0 | N10: =SUM(G10:M10) -> 53419
B11: 1 | C11: 45671 | D11: HACIENDA MUNICIPAL | E11: 890399011 | G11: 0 | H11: 0 | I11: 0 | J11: 0 | K11: 0 | L11: 0 | M11: =+estampillas!B15 -> 1.8089448e+08 | N11: =SUM(G11:M11) -> 1.8089448e+08
C12: 45715 | D12: TRANSPORTE LOGISTICO LOS CRISTALES S.A.S. | E12: 900438788 - 0 | F12: FEVN622 | G12: 0 | H12: 0 | I12: 0 | J12: 0 | K12: 14911200 | L12: 0 | M12: 0 | N12: =SUM(G12:M12) -> 14911200
B13: 2 | C13: 45716 | D13: MARIA ANA DE JESUS DE LA CRUZ HURTADO | E13: 38949067-5 | G13: 4690600 | H13: 0 | I13: 0 | J13: 0 | K13: 0 | L13: 0 | M13: 0 | N13: =SUM(G13:M13) -> 4690600
B14: =+B13+1 -> 3 | N14: =SUM(G14:M14) -> 0
B15: =+B14+1 -> 4 | N15: =SUM(G15:M15) -> 0
B16: =+B15+1 -> 5 | N16: =SUM(G16:M16) -> 0
B17: =+B16+1 -> 6 | N17: =SUM(G17:M17) -> 0
B18: =+B17+1 -> 7 | N18: =SUM(G18:M18) -> 0
B19: =+B18+1 -> 8 | N19: =SUM(G19:M19) -> 0
B20: =+B19+1 -> 9 | N20: =SUM(G20:M20) -> 0
B21: =+B20+1 -> 10 | N21: =SUM(G21:M21) -> 0
B22: =+B21+1 -> 11 | N22: =SUM(G22:M22) -> 0
B23: =+B22+1 -> 12 | N23: =SUM(G23:M23) -> 0
B24: =+B23+1 -> 13 | N24: =SUM(G24:M24) -> 0
B25: =+B24+1 -> 14 | N25: =SUM(G25:M25) -> 0
B26: =+B25+1 -> 15 | N26: =SUM(G26:M26) -> 0
B27: =+B26+1 -> 16 | D27: ESTAMPILLA | N27: =SUM(G27:M27) -> 0
B28: =+B27+1 -> 17 | C28: JUN-30-17 | N28: =SUM(G28:M28) -> 0
B29: =+B28+1 -> 18 | C29: JUN-30-17 | N29: =SUM(G29:M29) -> 0
B30: =+B29+1 -> 19 | C30: JUN-30-17 | N30: =SUM(G30:M30) -> 0
B31: =+B30+1 -> 20 | C31: JUN-30-17 | N31: =SUM(G31:M31) -> 0
B32: =+B31+1 -> 21 | C32: JUN-30-17 | N32: =SUM(G32:M32) -> 0
B33: =+B32+1 -> 22 | C33: JUN-30-17 | N33: =SUM(G33:M33) -> 0
B34: =+B33+1 -> 23 | C34: JUN-30-17 | N34: =SUM(G34:M34) -> 0
B35: =+B34+1 -> 24 | C35: JUN-30-17 | N35: =SUM(G35:M35) -> 0
B36: =+B35+1 -> 25 | C36: JUN-30-17 | N36: =SUM(G36:M36) -> 0
B37: =+B36+1 -> 26 | C37: JUN-30-17 | N37: =SUM(G37:M37) -> 0
B38: =+B37+1 -> 27 | C38: JUN-30-17 | N38: =SUM(G38:M38) -> 0
B39: =+B38+1 -> 28 | C39: JUN-30-17 | N39: =SUM(G39:M39) -> 0
... B59: =+B58+1 -> 48 | C59: JUN-30-17 | N59: =SUM(G59:M59) -> 0
G60: =SUM(G8:G59) -> 4690600 | H60: =SUM(H8:H59) -> 53419 | I60: =SUM(I8:I59) -> 2856000 | J60: =SUM(J8:J59) -> 0 | K60: =SUM(K8:K59) -> 22563000 | L60: =SUM(L8:L59) -> 0 | M60: =SUM(M8:M59) -> 1.8089448e+08 | N60: =SUM(N8:N59) -> 2.110575e+08
...

Sheet A7 INFR.MTTO ADEC. C.V.
B2: SECRETARIA DE BIENESTAR SOCIAL MUNICIPAL SANTIAGO DE CALI- SUBSECRETARIA DE PRIMERA INFANCIA
B3: ANEXO 7 EXPLICATIVO DE INFRAESTRUCTURA- MANTENIMIENTO Y ADECUACIONES C.V. AÑO 2025
B4: ENTIDAD | C4: ASOCIACIÓN EDUCATIVA COLEGIO ARANGO Y CUERO
B5: PERIODO DE REPORTE: | C5: FEBRERO | D5: DESDE | E5: 01 DE FEBRERO DEL 2025 | H5: HASTA | I5: 28DE FEBERO DEL 2025
G6: CONCEPTO MANTENIMIENTO Y ADECUACIONES
B7: No | C7: FECHA DOC | D7: BENEFICIARIO DEL PAGO | E7: IDENTIFICACION | F7: FACTURA No | G7: MANTENIMIENTO Y REPARACIONES | H7: FUMIGACIÓN Y PODA | K7: TOTAL GASTOS DE INFRAESTRUCTURA | L7: OBSERVACIONES
B8: 1 | C8: 45716 | D8: LUIS MIGUEL CARBONERO HURTADO | E8: 1002946453 | F8: 2 | G8: 5225000 | H8: 0 | I8: 0 | J8: 0 | K8: =SUM(G8:J8) -> 5225000
B9: =+B8+1 -> 2 | K9: 0
B10: 3 | K10: 0
B11: =+B10+1 -> 4 | K11: =SUM(G11:J11) -> 0
B12: 5 | K12: =SUM(G12:J12) -> 0
B13: =+B12+1 -> 6 | K13: =SUM(G13:J13) -> 0
B14: 7 | K14: =SUM(G14:J14) -> 0
B15: 2 | K15: =SUM(G15:J15) -> 0
B16: 3 | K16: =SUM(G16:J16) -> 0
K17: =SUM(G17:J17) -> 0
K18: =SUM(G18:J18) -> 0
D19: TOTAL | G19: =+SUM(G8:G18) -> 5225000 | H19: =SUM(H8:H18) -> 0 | I19: =SUM(I8:I18) -> 0 | J19: =SUM(J8:J18) -> 0 | K19: =SUM(G19:J19) -> 5225000
B20: ELABORADO POR: | G20: REVISADO POR : | K20: OBSERVACIONES OTRAS DEL MES :
B23: CONTADORA PUBLICA | G23: NOMBRE Y CARGO | I23: NOMBRE Y FIRMA REP LEGAL

Sheet estampillas
A2: ESTAMPILLAS MODALIDAD INSTITUCIONAL
A4: CONCEPTO | B4: VALOR EJECUTADO
A5: Sub total presupuesto general Talento Humano. | B5: =+CANASTA!G21 -> 871413809
A6: Sub total presupuesto general Infraestructura servicios publicos | B6: =+CANASTA!G24 -> 56575572
A7: Sub total presupuesto general Gastos Operativos | B7: =+'A3 GTS OPERAT. C.F.'!G60+'A3 GTS OPERAT. C.F.'!H60+'A3 GTS OPERAT. C.F.'!I60+'A3 GTS OPERAT. C.F.'!K60 -> 30163019
A8: Sub total presupuesto general dotación | B8: =+CANASTA!G31 -> 35627252
A9: Sub total presupuesto general de Seguro. | B9: =+CANASTA!G32 -> 0
A10: Sub total presupuesto general de Dotación No Fungible. | B10: 0
A11: Sub total presupuesto general alimentación | B11: =+CANASTA!G34 -> 273108447
A12: Sub total presupuesto Mantenimiento y Adecuaciones | B12: =+CANASTA!G36 -> 5225000
A13: TOTAL | B13: =SUM(B5:B12) -> 1272113099
A15: ESTAMPILLAS DE 12% SOBRE EL VALOR EJECUTADO | B15: =+B13*14.22% -> 1.8089448e+08
A17: SUMA DE EJECUCIÓN DE GASTOS OPERATIVOS MAS ESTAMPILLAS | B17: =+B15+B7 -> 2.110575e+08
A19: TOTAL CANASTA CON LA INCLUSIÓN DE ESTAMPILLAS | B19: =+B13+B15 -> 1.4530076e+09
A23: __________________________________________ | B23: _______________________________________
A25: CONTADORA PUBLICA TP | B25: REPRESENTANTE LEGAL
