Workbook

Sheet Resumen PP
B2: ITEM | C2: DETALLE | D2: VALOR
B3: 1 | C3: Talento humano Transversal | D3: ='Talento Humano '!I20 -> 118500000
B4: 2 | C4: Reactivacion Economica | D4: =+'Rea Economica 7 pueblos '!F247 -> 353585951
B5: 3 | C5: Idioma Propio | D5: =+'Idioma propio 7 pueblos'!F225 -> 121461180
B6: 4 | C6: Medicina Tradicional | D6: =+'Medicina Ancestral 7 pueblos'!F302 -> 174377744
B7: 5 | C7: Evento de cierre General Proyecto | D7: ='Evento de Cierre General'!F13 -> 38128465
B8: Subtotal | D8: =SUM(D3:D7) -> 8.0605334e+08
B9: 6 | C9: Gastos Adminsitrativos 10% | D9: =+D8*0.1 -> 80605334
B10: TOTAL | D10: =D3+D4+D5+D6+D7+D9 -> 8.8665867e+08

Sheet Talento Humano 
A1: RECURSO HUMANO
A2: Nombre del perfil | B2: Cantidad | C2: Formación académica | D2: Experiencia | E2: Tiempo | F2: Unidad de medida | G2: Cantidad | H2: Valor Unitario | I2: Valor Total
A3: PERSONAL TRANSVERSAL
A4: Coordinador (Persona Sabedora o Sabedor con identidad cultural indígena) | B4: 1 | C4: Profesional titulado en áreas como Ciencias Sociales, Antropología, Trabajo Social, Educación, Medicina Tradicional, Gestión Cultural o afines, y acreditar pertenencia a un pueblo indígena de la localidad de Usme | D4: Mínimo dos (2) años de experiencia en la coordinación de proyectos sociales o comunitarios, preferiblemente con enfoque étnico, que incluyan componentes de fortalecimiento cultural, medicina ancestral o revitalización de la lengua. Se valorará experiencia previa en articulación con autoridades indígenas y entidades públicas o privadas | E4: 4 meses 100% | F4: Mes | G4: 4 | H4: 6000000 | I4: =G4*H4 -> 24000000
A5: Profesional de apoyo | B5: 1 | C5: Profesional titulado en Administración de Empresas, Contaduría, Economía, Gestión Pública, Finanzas o carreras afines | D5: Mínimo dos (2) años de experiencia en apoyo administrativo y financiero de proyectos sociales o comunitarios | E5: 4 meses 100% | F5: Mes | G5: 4 | H5: 3500000 | I5: =G5*H5 -> 14000000
A6: Comunicador Social | B6: 1 | C6: Profesional titulado en comunicación social o afines | D6: Mínimo de un (1) año de experiencia en trabajo con comunidades indígenas | E6: 3 meses 100% | F6: Mes | G6: 3 | H6: 3500000 | I6: =G6*H6 -> 10500000
A7: TOTAL RECURSO HUMANO | I7: =I4+I5+I6 -> 48500000
A8: COMPONENTE 1. REACTIVACIÓN ECONÓMICA
A9: Sabedor o tallerista | B9: 7 | C9: No requiere estudios de formación | D9: Requiere experiencia práctica mínima de 2 años en procesos de formación, preferiblemente en procesos de fortalecimiento económico, recuperación de saberes productivos o proyectos comunitarios | E9: 30 horas 100% | F9: Sesiones | G9: 28 | H9: 600000 | I9: =G9*H9 -> 16800000
A10: Relator | B10: 7 | C10: Técnico o tecnólogo en áreas relacionadas con proyectos sociales o comunitarios, como Gestión de Proyectos, Gestión Administrativa, Sistemas, Gestión Documental, Comunicación Social o carreras afines | D10: Mínimo un (1) año de experiencia en la elaboración de relatorías, sistematización de actividades, registro de memorias y manejo de herramientas ofimáticas (Word, Excel, PowerPoint) | E10: 30 horas 100% | F10: Sesiones | G10: 28 | H10: 400000 | I10: =G10*H10 -> 11200000
A11: TOTAL COMPONENTE 1. REACTIVACIÓN ECONÓMICA | I11: =I9+I10 -> 28000000
A12: COMPONENTE 2. FORTALECIMIENTO DE USOS Y COSTUMBRES
A13: Sabedor o tallerista | B13: 7 | C13: No requiere estudios de formación | D13: Requiere experiencia práctica mínima de 2 años en procesos de formación | E13: 30 horas 100% | F13: Sesiones | G13: 21 | H13: 600000 | I13: =G13*H13 -> 12600000
A14: Relator | B14: 7 | C14: No requiere estudios de formación | D14: Requiere experiencia práctica | E14: 30 horas 100% | F14: Sesiones | G14: 21 | H14: 400000 | I14: =G14*H14 -> 8400000
A15: TOTAL COMPONENTE 2. FORTALECIMIENTO DE USOS Y COSTUMBRES | I15: =I13+I14 -> 21000000
A16: COMPONENTE 3. MEDICINA ANCESTRAL
A17: Medico ancestral | B17: 7 | C17: Equipo de Sabedoras y Sabedores (proporcional a cada pueblo étnico), Parteras y parteros (proporcionales a cada pueblo étnico), Sobanderos y sobanderas, Comadronas, Médicos y Médicas ancestrales. | D17: Experiencia general mínimo de dos (2) años, la cual deberá ser certificada por los(as) Gobernadores(as), Consultivo(a) o Representante Legal de la Comunidad a la que representen. | E17: 30 horas 100% | F17: Sesiones | G17: 21 | H17: 600000 | I17: =G17*H17 -> 12600000
A18: Relator | B18: 7 | C18: No requiere estudios de formación | D18: Requiere experiencia práctica | E18: 30 horas 100% | F18: Sesiones | G18: 21 | H18: 400000 | I18: =G18*H18 -> 8400000
A19: TOTAL COMPONENTE 3. MEDICINA ANCESTRAL | I19: =I17+I18 -> 21000000
A20: Total Talento Humano | I20: =I19+I15+I7+I11 -> 118500000

Sheet Rea Economica 7 pueblos 
A1: Insumos pueblo indigena Andoque
A2: PUEBLO INDIGENA ANDOQUE
A3: ÍTEM | B3: CARACTERISTICAS TECNICAS | C3: CANTIDAD | D3: UNIDAD DE MEDIDA | E3: VALOR UNITARIO | F3: VALOR TOTAL
A4: INSUMOS PARA LA ARMONIZACIÓN
A5: Mambe | B5: Hoja de coca tostada y pulverizada | C5: 10 | D5: kilo | E5: 100000 | F5: =C5*E5 -> 1000000
A6: Ambil | B6: Elemento que se procesa del tabaco, se mezcla con sal de monte y baba natural para obtener una mezcla homogénea chiclosa para contribuir a la concentración. | C6: 2 | D6: kilo | E6: 142155 | F6: =C6*E6 -> 284310
A7: Almidon de yuca | B7: Polvo fino natural obtenido de la molienda de la yuca, mezclado con plantas naturales | C7: 12 | D7: libra | E7: 15000 | F7: =C7*E7 -> 180000
A8: Incienso natural | B8: Mezcla de resinas vegetales y aceites esenciales que se quema para desprender un humo con aroma | C8: 6 | D8: kilo | E8: 18954 | F8: =C8*E8 -> 113724
A9: Carbón medicinal | B9: Roca sedimentaria combistible | C9: 2 | D9: kilo | E9: 40000 | F9: =C9*E9 -> 80000
A10: Albahaca | B10: Planta aromática | C10: 6 | D10: kilo | E10: 8424 | F10: =C10*E10 -> 50544
A11: Sal de monte | B11: Sal purificada para curaciones | C11: 2 | D11: kilo | E11: 273780 | F11: =C11*E11 -> 547560
A12: TOTAL ARMONIZACIÓN | F12: =SUM(F5:F11) -> 2256138
A13: ALIMENTACIÓN
A14: Alimento propio Andoque | B14: Pescado en caldo de piaa, Cazabe, Caguana | C14: 15 | D14: Platos servidos | E14: 35000 | F14: =C14*E14 -> 525000
A15: Alimento propio Andoque | B15: Gallina Moqueoo, Cazabe Chucula | C15: 15 | D15: Platos servidos | E15: 35000 | F15: =C15*E15 -> 525000
A16: Alimento propio Andoque | B16: Pescado asado embuelto de yuca, jugo caramgucgo | C16: 15 | D16: Platos servidos | E16: 35000 | F16: =C16*E16 -> 525000
A17: Alimento propio Andoque | B17: Caldo de Cachama, Jugo de Azai | C17: 15 | D17: Platos servidos | E17: 35000 | F17: =C17*E17 -> 525000
A18: TOTAL ALIMENTACIÓN | F18: =SUM(F14:F17) -> 2100000
A19: INSUMOS PARA LOS TALLERES / tejido de canasta
A20: Bejuco Yaré 1 mt | B20: Bejuco natural de un metro de territorio | C20: 15 | D20: Arroba | E20: 250000 | F20: =C20*E20 -> 3750000
A21: Bejuco Yaré 2 mt | B21: Bejuco natural de dos metros de territorio | C21: 25 | D21: Arroba | E21: 350000 | F21: =C21*E21 -> 8750000
A22: Bejuco Yaré 5 mt | B22: Bejuco natural de cinco metros de territorio | C22: 6 | D22: Arroba | E22: 450000 | F22: =C22*E22 -> 2700000
A23: Fibra de Gurumo | B23: Fibra natural de terrtorio de 2 metros | C23: 15 | D23: Arroba | E23: 350000 | F23: =C23*E23 -> 5250000
A24: Bejuco Jalapatras | B24: Bejuco natural de territorio de 4 metros | C24: 10 | D24: Arroba | E24: 500000 | F24: =C24*E24 -> 5000000
A25: Bejuco Gu+oo | B25: Bejuco natural de territorio de 2 metros | C25: 24 | D25: Arroba | E25: 250000 | F25: =C25*E25 -> 6000000
A26: Bejuco Gu+oo | B26: Bejuco natural de territorio de 5 metros | C26: 10 | D26: Arroba | E26: 250000 | F26: =C26*E26 -> 2500000
A27: Cortesa de Arbol | B27: Carguero de Corteza de Arbol Balso natural | C27: 10 | D27: Arroba | E27: 250000 | F27: =C27*E27 -> 2500000
A28: Fibra de Cumare | B28: Fibra natural de terrtorio de palma de Cumare | C28: 5 | D28: Arroba | E28: 750000 | F28: =C28*E28 -> 3750000
A29: Pintura Natural | B29: Pintura Natural de corteza de arboles | C29: 9 | D29: Galon | E29: 25000 | F29: =C29*E29 -> 225000
A30: TOTAL INSUMOS PARA LOS TALLERES | F30: =SUM(F20:F29) -> 40425000
A31: TOTAL PUEBLO INDIGENA ANDOQUE | F31: =+F12+F18+F30 -> 44781138
A33: Insumos pueblo indigena Inga
A34: PUEBLO INDIGENA INGA
A35: ÍTEM | B35: CARACTERISTICAS TECNICAS | C35: CANTIDAD | D35: UNIDAD DE MEDIDA | E35: VALOR UNITARIO | F35: VALOR TOTAL
A36: INSUMOS PARA LA ARMONIZACIÓN
A37: Frutas De Cosecha Surtidas | B37: Variedad de frutas manzana, mandarina, banano, piña, tomate de árbol | C37: 10 | D37: libra | E37: 20000 | F37: =C37*E37 -> 200000
A38: Binan | B38: Bebida tradicional de territorio | C38: 2 | D38: Botella | E38: 200000 | F38: =C38*E38 -> 400000
A39: Chondur | B39: Semilla natural para preparar perfumes y sahumerios | C39: 2 | D39: Libra | E39: 80000 | F39: =C39*E39 -> 160000
A40: Pájaro Mancua | B40: Nido de especie tradicional de territorio | C40: 1 | D40: Atado | E40: 180000 | F40: =C40*E40 -> 180000
A41: Kullankilla | B41: planta tradicional territorio | C41: 1 | D41: Atado | E41: 200000 | F41: =C41*E41 -> 200000
...

Sheet Idioma propio 7 pueblos
A1: Insumos pueblo indigena Andoque
A2: PUEBLO INDIGENA ANDOQUE
A3: ÍTEM | B3: CARACTERISTICAS TECNICAS | C3: CANTIDAD | D3: UNIDAD DE MEDIDA | E3: VALOR UNITARIO | F3: VALOR TOTAL
A4: INSUMOS PARA LA ARMONIZACIÓN
A5: Mambe | B5: Hoja de coca tostada y pulverizada | C5: 12 | D5: Kilo | E5: 100000 | F5: =C5*E5 -> 1200000
A6: Ambil | B6: Elemento que se procesa del tabaco, se mezcla con sal de monte y baba natural para obtener una mezcla homogénea chiclosa para contribuir a la concentración. | C6: 2 | D6: kilo | E6: 142155 | F6: =C6*E6 -> 284310
A7: Almidon de yuca | B7: Polvo fino natural obtenido de la molienda de la yuca, mezclado con plantas naturales | C7: 12 | D7: libra | E7: 15000 | F7: =C7*E7 -> 180000
A8: Incienso natural | B8: Mezcla de resinas vegetales y aceites esenciales que se quema para desprender un humo con aroma | C8: 6 | D8: kilo | E8: 18954 | F8: =C8*E8 -> 113724
A9: Carbón medicinal | B9: Roca sedimentaria combistible | C9: 2 | D9: kilo | E9: 40000 | F9: =C9*E9 -> 80000
A10: Albahaca | B10: Planta aromática | C10: 6 | D10: kilo | E10: 8424 | F10: =C10*E10 -> 50544
A11: Sal de monte | B11: Sal purificada para curaciones | C11: 2 | D11: kilo | E11: 273780 | F11: =C11*E11 -> 547560
A12: TOTAL ARMONIZACIÓN | F12: =SUM(F5:F11) -> 2456138
A13: ALIMENTACIÓN
A14: Alimento propio Andoque | B14: Pescado en caldo de piaa, Cazabe, Caguana | C14: 15 | D14: Unidad | E14: 35000 | F14: =C14*E14 -> 525000
A15: Alimento propio Andoque | B15: Gallina Moqueoo Y caguna de Piña | C15: 15 | D15: Unidad | E15: 35000 | F15: =C15*E15 -> 525000
A16: Alimento propio Andoque | B16: Pescado asado embuelto de yuca, jugo caramgucgo | C16: 15 | D16: Unidad | E16: 35000 | F16: =C16*E16 -> 525000
A17: Alimento propio Andoque | B17: Gallina Moqueoo Y caguna de Piña | C17: 15 | D17: Unidad | E17: 35000 | F17: =C17*E17 -> 525000
A18: TOTAL ALIMENTACIÓN | F18: =F14+F15+F16+F17 -> 2100000
A19: INSUMOS PARA LOS TALLERES
A20: Telas lienzo | B20: Metro de tela de lienzo | C20: 40 | D20: Metro | E20: 12000 | F20: =C20*E20 -> 480000
A21: Hilos de costura | B21: Cono, el hilo grueso suele estar compuesto por un 30% de lana y un 70% de acrílico | C21: 14 | D21: Cono | E21: 55000 | F21: =C21*E21 -> 770000
A22: Aguja No. 14 | B22: Paño de aguja para coser No. 14 | C22: 20 | D22: Paño | E22: 5000 | F22: =C22*E22 -> 100000
A23: Hilazas | B23: Las hilazas, hilos de fibras cortas entrelazadas, se caracterizan por su composición, grosor, resistencia, textura y uso | C23: 6 | D23: Rollo | E23: 32000 | F23: =C23*E23 -> 192000
A24: Juego de Pinceles | B24: Juego de pinceles de 10 unidades, pincel plano con ángulo de varios los tamaños | C24: 5 | D24: Juego | E24: 12000 | F24: =C24*E24 -> 60000
A25: Tijeras | B25: Tijeras de 17cm gran calidad, fabricadas en acero inoxidable; Asas ergonómicas; Afilado especial | C25: 20 | D25: Unidad | E25: 5000 | F25: =C25*E25 -> 100000
A26: Juego de Pinturas para tela | B26: Juego De 24 Colores De Pintura De Tela Acrílica Permanente, Botellas | C26: 4 | D26: Juego | E26: 250000 | F26: =C26*E26 -> 1000000
A27: Bejuco Cumare | B27: Bejuco de planta territorial | C27: 4 | D27: Arroba | E27: 160000 | F27: =C27*E27 -> 640000
A28: Frutos silvestres | B28: Semillas nativas | C28: 20 | D28: Kilo | E28: 150000 | F28: =C28*E28 -> 3000000
A29: Cremalleras | B29: Cremallera para ropa gruesa | C29: 20 | D29: Paquete x 20 | E29: 200000 | F29: =C29*E29 -> 4000000
A30: Elástico para costura | B30: Rollo de elástico de 40mm blanco | C30: 2 | D30: Rollo | E30: 55000 | F30: =C30*E30 -> 110000
A31: TOTAL INSUMOS PARA LOS TALLERES | F31: =SUM(F20:F30) -> 10452000
A32: TOTAL PUEBLO INDIGENA ANDOQUE | F32: =+F12+F18+F31 -> 15008138
A34: Insumos pueblo indigena Inga
A35: PUEBLO INDIGENA INGA
A36: ÍTEM | B36: CARACTERISTICAS TECNICAS | C36: CANTIDAD | D36: UNIDAD DE MEDIDA | E36: VALOR UNITARIO | F36: VALOR TOTAL
A37: INSUMOS PARA LA ARMONIZACIÓN
A38: Frutas De Cosecha Surtidas | B38: Variedad de frutas manzana, mandarina, banano, piña, tomate de árbol | C38: 10 | D38: Libra | E38: 20000 | F38: =C38*E38 -> 200000
A39: Binan | B39: Bebida tradicional de territorio | C39: 2 | D39: Botella | E39: 200000 | F39: =C39*E39 -> 400000
A40: Chondur | B40: Semilla natural para preparar perfumes y sahumerios | C40: 2 | D40: Libra | E40: 80000 | F40: =C40*E40 -> 160000
A41: Pájaro Mancua | B41: Nido de especie tradicional de territorio | C41: 1 | D41: Atado | E41: 180000 | F41: =C41*E41 -> 180000
...

Sheet Medicina Ancestral 7 pueblos
A1: Insumos pueblo indigena Andoque
A2: PUEBLO INDIGENA ANDOQUE
A3: ÍTEM | B3: CARACTERISTICAS TECNICAS | C3: CANTIDAD | D3: UNIDAD DE MEDIDA | E3: VALOR UNITARIO | F3: VALOR TOTAL
A4: INSUMOS PARA LA ARMONIZACIÓN
A5: Mambe | B5: Hoja de coca tostada y pulverizada | C5: 12 | D5: Kilo | E5: 100000 | F5: =C5*E5 -> 1200000
A6: Ambil | B6: Elemento que se procesa del tabaco, se mezcla con sal de monte y baba natural para obtener una mezcla homogénea chiclosa para contribuir a la concentración. | C6: 2 | D6: kilo | E6: 142155 | F6: =C6*E6 -> 284310
A7: Almidon de yuca | B7: Polvo fino natural obtenido de la molienda de la yuca, mezclado con plantas naturales | C7: 12 | D7: libra | E7: 15000 | F7: =C7*E7 -> 180000
A8: Incienso natural | B8: Mezcla de resinas vegetales y aceites esenciales que se quema para desprender un humo con aroma | C8: 6 | D8: kilo | E8: 18954 | F8: =C8*E8 -> 113724
A9: Carbón medicinal | B9: Roca sedimentaria combistible | C9: 2 | D9: kilo | E9: 40000 | F9: =C9*E9 -> 80000
A10: Albahaca | B10: Planta aromática | C10: 6 | D10: kilo | E10: 8424 | F10: =C10*E10 -> 50544
A11: Sal de monte | B11: Sal purificada para curaciones | C11: 2 | D11: kilo | E11: 273780 | F11: =C11*E11 -> 547560
A12: TOTAL ARMONIZACIÓN | F12: =SUM(F5:F11) -> 2456138
A13: ALIMENTACIÓN
A14: Alimento propio Andoque | B14: Pescado en caldo de piaa, Cazabe, Caguana | C14: 15 | D14: Unidad | E14: 35000 | F14: =C14*E14 -> 525000
A15: Alimento propio Andoque | B15: Gallina Moqueoo, Cazabe Chucula | C15: 15 | D15: Unidad | E15: 35000 | F15: =C15*E15 -> 525000
A16: Alimento propio Andoque | B16: Pescado asado embuelto de yuca, jugo caramgucgo | C16: 15 | D16: Unidad | E16: 35000 | F16: =C16*E16 -> 525000
A17: Alimento propio Andoque | B17: Pescado en caldo de piaa, Cazabe, Caguana | C17: 15 | D17: Unidad | E17: 35000 | F17: =C17*E17 -> 525000
A18: TOTAL ALIMENTACIÓN | F18: =F14+F15+F16+F17 -> 2100000
A19: INSUMOS PARA LOS TALLERES
A20: Tabaco Prensado | B20: Hojas de Tabaco Verde Prensado | C20: 35 | D20: Paca | E20: 250000 | F20: =C20*E20 -> 8750000
A21: Sal | B21: Sal Natural del Monte | C21: 7 | D21: Kilo | E21: 273780 | F21: =C21*E21 -> 1916460
A22: Yuca | B22: Almidos de Yuca | C22: 100 | D22: Libra | E22: 15000 | F22: =C22*E22 -> 1500000
A23: Estufa | B23: Estufa en parrilla Industrial 4 puestos doble calibre 22 de acero inoxidable | C23: 1 | D23: Unidad | E23: 2800000 | F23: =C23*E23 -> 2800000
A24: Olla | B24: Olla de aluminio de 120 litros | C24: 2 | D24: Unidad | E24: 350000 | F24: =C24*E24 -> 700000
A25: Olla | B25: Olla de aluminio de 60 litros | C25: 2 | D25: Unidad | E25: 250000 | F25: =C25*E25 -> 500000
A26: Tanques | B26: Tanques Plasticos de 160 litros | C26: 4 | D26: Unidad | E26: 125000 | F26: =C26*E26 -> 500000
A27: Cilindro | B27: Pipeta de Gas de 100 libras | C27: 2 | D27: Unidad | E27: 250000 | F27: =C27*E27 -> 500000
A28: TOTAL INSUMOS PARA LOS TALLERES | F28: =SUM(F20:F27) -> 17166460
A29: TOTAL PUEBLO INDIGENA ANDOQUE | F29: =+F12+F18+F28 -> 21722598
A31: Insumos pueblo indigena Inga
A32: PUEBLO INDIGENA INGA
A33: ÍTEM | B33: CARACTERISTICAS TECNICAS | C33: CANTIDAD | D33: UNIDAD DE MEDIDA | E33: VALOR UNITARIO | F33: VALOR TOTAL
A34: INSUMOS PARA LA ARMONIZACIÓN
A35: Frutas De Cosecha Surtidas | B35: Variedad de frutas manzana, mandarina, banano, piña, tomate de árbol | C35: 10 | D35: libra | E35: 20000 | F35: =C35*E35 -> 200000
A36: Binan | B36: Bebida tradicional de territorio | C36: 2 | D36: Botella | E36: 200000 | F36: =C36*E36 -> 400000
A37: Chondur | B37: Semilla natural para preparar perfumes y sahumerios | C37: 2 | D37: Libra | E37: 80000 | F37: =C37*E37 -> 160000
A38: Pájaro Mancua | B38: Nido de especie tradicional de territorio | C38: 1 | D38: Atado | E38: 180000 | F38: =C38*E38 -> 180000
A39: Kullankilla | B39: planta tradicional territorio | C39: 1 | D39: Atado | E39: 200000 | F39: =C39*E39 -> 200000
A40: Uaira | B40: planta tradicional territorio | C40: 3 | D40: undiad | E40: 45000 | F40: =C40*E40 -> 135000
A41: 7 Esencias De Los Andes | B41: Loción preparada con diferentes esencias para ungir | C41: 9 | D41: Botella | E41: 45000 | F41: =C41*E41 -> 405000
...

Sheet Evento de Cierre General
A1: ÍTEM | B1: CARACTERISTICAS TECNICAS | C1: CANTIDAD | D1: UNIDAD DE MEDIDA | E1: VALOR UNITARIO | F1: VALOR TOTAL
A2: CARPA 4X4 | B2: Carpa 4x4 Para Eventos Tipo Kiosko Lona Pvc 100% Impermeable | C2: 7 | D2: Unidad | E2: 950000 | F2: =C2*E2 -> 6650000
A3: Mesa Plegable | B3: Metal/Polietileno Blanco 180x75x74 Cm | C3: 7 | D3: Unidad | E3: 280729.8 | F3: =C3*E3 -> 1965108.6
A4: Silla Plástica con brazos | B4: Silla Plástica con brazos | C4: 71 | D4: Unidad | E4: 38000 | F4: =C4*E4 -> 2698000
A5: Agenda | B5: Agenda personalizada con Logo de la Mesa Local Indigena de usme | C5: 140 | D5: Unidad | E5: 21007.35 | F5: =C5*E5 -> 2941029
A6: ESFERO ECOLÓGICO | B6: Esfero Ecológico personalizado con Logo de la Mesa Local Indigena de usme | C6: 200 | D6: Unidad | E6: 1948.05 | F6: =C6*E6 -> 389610
A7: Bolso Ecologico | B7: Bolsa en material ecologico estampado logo de la Mesa local indigena de Usme | C7: 200 | D7: Unidad | E7: 25000 | F7: =C7*E7 -> 5000000
A8: MONTAJE SONIDO 200 300 PERSONAS | B8: • Servicio de montaje con las siguientes características: sonido: 1 Consola de 6 a 8 canales para micrófono y/o línea, 2 canales estéreo independientes, ecualizador paramétrico mínimo de 3 vías por canal, outputs XLR balanceados, phantom power para los micrófonos de condensador, dos (2) cables conversores RCA plug de 1/8 estéreo. • 1 Rack o mesa o soporte similar para ubicar la consola y demás elementos componentes del servicio • Micrófono inalámbrico de diadema con frecuencia seleccionable de UHF o Digital, Diversificado con Doble Antena, condensador con patrón polar cardiode, con una respuesta en frecuencia de 50Hz-20kHz como mínimo, con sus respectivas baterías y pilas de repuesto. • (Marcas Profesionalmente Reconocidas) • 2 Micrófono Formato: de mano. Cable de 4.57m. • Conector/es de salida: 3-pin xlrm. • Frecuencia máxima: 15000Hz.Frecuencia mínima: 70Hz Impedancia 600Ω. • bases de micrófonos. con sus respectivos elementos para su correcto y óptimo funcionamiento. Batería nueva al momento del préstamo del servicio. (Marcas Profesionalmente Reconocidas) • Altavoz de sonido auto amplificado o con sistema de etapa de amplificación (Marcas Profesionalmente Reconocidas para garantizar una mejor prestación de servicio evitando que lleven sonidos obsoletos o de baja garantía.) • Cables de energía y señal para su perfecto funcionamiento. • El equipo debe cumplir con una cobertura mínima de 90 db de presión de sonido constante sin distorsión en exteriores y a una distancia al menos de 30 mts. • Debe cumplir con las siguientes características: Caja mínimo a dos (2) vías. (+- 600 watts RMS) - Driver de 100watts para frecuencias altas de 1.5” (+-100w) - Sub-bajo acorde de mínimo 15” (+-500w) Respuesta en frecuencia mínima de 30hz a 2.5Khz - Dos (2) sistemas para el montaje de parlantes (trípode o estructura en aluminio) debe garantizar estabilidad y seguridad, deben estar en perfecto estado. | C8: 1 | D8: Unidad | E8: 1555807.5 | F8: =C8*E8 -> 1555807.5
A9: TARIMA-CARPA 12x6 | B9: Alquiler Tarima de 12 x 6 mts con carpa estructural, escalera a la altura requerida (1,5 mts) y faldones. Estructura certificada, debe tener extintor multiproposito 20 libras. Incluye transporte, montaje y desmontaje | C9: 1 | D9: Unidad | E9: 4100000 | F9: =C9*E9 -> 4100000
A10: PRESENTADOR(A) O MAESTRA(O) DE CEREMONIAS | B10: Presentador o maestro de ceremonia con experiencia en presentación y manejo de eventos culturales populares. Jornada por 5-8 horas | C10: 2 | D10: Unidad | E10: 286889.85 | F10: =C10*E10 -> 573779.7
A11: Ofrenda Tradicional | B11: Ofrenda Tradicional | C11: 1 | D11: Unidad | E11: 1755130 | F11: =C11*E11 -> 1755130
A12: Grupos artísticos | B12: Agrupación artística que pertenece a los pueblos indígenas, presentación entre 45-60 minutos. | C12: 3 | D12: Unidad | E12: 3500000 | F12: =+E12*C12 -> 10500000
A13: GRAN TOTAL | F13: =SUM(F2:F12) -> 38128465

Sheet Modif
A1: PUEBLO INDÍGENA | B1: ÍTEM | C1: CARACTERISTICAS TECNICAS | D1: CANTIDAD | E1: UNIDAD DE MEDIDA | F1: VALOR UNITARIO | G1: VALOR TOTAL | H1: UNIDAD DE MEDIDA CTO 1224-2024 | I1: VALOR CTO 1224-2024 | J1: CONVERSIÓN UNIDAD DE MEDIDA | K1: VALOR UNITARIO MODIFICADO (VALOR CTO 1224-2024 + IPC 2025 - 5,30%) | L1: VALOR TOTAL MODIFICADO | N1: 0.053
A2: ANDOQUE | B2: Ambil | C2: Elemento que se procesa del tabaco, se mezcla con sal de monte y baba natural para obtener una mezcla homogénea chiclosa para contribuir a la concentración. | D2: 2 | E2: kilo | F2: 900000 | G2: =D2*F2 -> 1800000 | H2: Kilo | I2: 135000 | J2: 135000 | K2: =+J2*(1+$N$1) -> 142155 | L2: =+K2*D2 -> 284310
A3: ANDOQUE | B3: Incienso natural | C3: Mezcla de resinas vegetales y aceites esenciales que se quema para desprender un humo con aroma | D3: 6 | E3: kilo | F3: 90000 | G3: =D3*F3 -> 540000 | H3: Kilo | I3: 18000 | J3: 18000 | K3: =+J3*(1+$N$1) -> 18954 | L3: =+K3*D3 -> 113724
A4: ANDOQUE | B4: Albahaca | C4: Planta aromática | D4: 6 | E4: kilo | F4: 20000 | G4: =D4*F4 -> 120000 | H4: Kilo | I4: 8000 | J4: 8000 | K4: =+J4*(1+$N$1) -> 8424 | L4: =+K4*D4 -> 50544
A5: ANDOQUE | B5: Sal de monte | C5: Sal purificada para curaciones | D5: 2 | E5: kilo | F5: 900000 | G5: =D5*F5 -> 1800000 | H5: Libra | I5: 130000 | J5: 260000 | K5: =+J5*(1+$N$1) -> 273780 | L5: =+K5*D5 -> 547560
A6: NASA | B6: Hoja de coca | C6: Hoja tostada traída del territorio | D6: 1 | E6: Kilo | F6: 100000 | G6: =D6*F6 -> 100000 | H6: Libra | I6: 5000 | J6: 10000 | K6: =+J6*(1+$N$1) -> 10530 | L6: =+K6*D6 -> 10530
A7: NASA | B7: Planta Fresca | C7: Bolsa de plantas frescas para armonizar los espíritus | D7: 1 | E7: Libra | F7: 200000 | G7: =D7*F7 -> 200000 | H7: Libra | I7: 25000 | J7: 25000 | K7: =+J7*(1+$N$1) -> 26325 | L7: =+K7*D7 -> 26325
A8: NASA | B8: Planta Dulce | C8: Bolsa de plantas dulces para armonizar los espíritus | D8: 1 | E8: Libra | F8: 200000 | G8: =D8*F8 -> 200000 | H8: Libra | I8: 25000 | J8: 25000 | K8: =+J8*(1+$N$1) -> 26325 | L8: =+K8*D8 -> 26325
A9: NASA | B9: Plantas Amargas | C9: Bolsa de plantas amargas para armonizar los espíritus | D9: 1 | E9: Libra | F9: 200000 | G9: =D9*F9 -> 200000 | H9: Libra | I9: 25000 | J9: 25000 | K9: =+J9*(1+$N$1) -> 26325 | L9: =+K9*D9 -> 26325
A10: NASA | B10: Maíz Blanco | C10: Maíz traído del territorio utilizado para remedio en la armonización | D10: 1 | E10: Libra | F10: 300000 | G10: =D10*F10 -> 300000 | H10: Libra | I10: 40000 | J10: 25000 | K10: =+J10*(1+$N$1) -> 26325 | L10: =+K10*D10 -> 26325
A11: NASA | B11: Hoja de coca | C11: Hoja tostada traída del territorio | D11: 10 | E11: Kilo | F11: 100000 | G11: =F11*D11 -> 1000000 | H11: Libra | I11: 5000 | J11: 10000 | K11: =+J11*(1+$N$1) -> 10530 | L11: =+K11*D11 -> 105300
A12: NASA | B12: Planta Fresca | C12: Musgo de paramo para refrescamiento de espíritus | D12: 1 | E12: Kilo | F12: 300000 | G12: =F12*D12 -> 300000 | H12: libra | I12: 40000 | J12: 80000 | K12: =+J12*(1+$N$1) -> 84240 | L12: =+K12*D12 -> 84240
A13: NASA | B13: Planta Fresca | C13: Maíz de paramo para refrescamiento de los espíritus | D13: 1 | E13: Kilo | F13: 500000 | G13: =F13*D13 -> 500000 | H13: libra | I13: 40000 | J13: 80000 | K13: =+J13*(1+$N$1) -> 84240 | L13: =+K13*D13 -> 84240
A14: NASA | B14: Planta Fresca | C14: Chaiutse para refrescamiento de los espíritus | D14: 1 | E14: Kilo | F14: 500000 | G14: =F14*D14 -> 500000 | H14: libra | I14: 25000 | J14: 50000 | K14: =+J14*(1+$N$1) -> 52650 | L14: =+K14*D14 -> 52650
A15: NASA | B15: Planta Fresca | C15: Orejuela para refrescamiento de los espíritus | D15: 2 | E15: Kilo | F15: 400000 | G15: =F15*D15 -> 800000 | H15: libra | I15: 25000 | J15: 50000 | K15: =+J15*(1+$N$1) -> 52650 | L15: =+K15*D15 -> 105300
A16: NASA | B16: Planta Fresca | C16: Amanzaguapo para refrescamiento de los espíritus | D16: 1 | E16: Kilo | F16: 300000 | G16: =F16*D16 -> 300000 | H16: libra | I16: 25000 | J16: 50000 | K16: =+J16*(1+$N$1) -> 52650 | L16: =+K16*D16 -> 52650
A17: NASA | B17: Planta Fresca | C17: Homormiga para refrescamiento de los espíritus | D17: 1 | E17: Kilo | F17: 300000 | G17: =F17*D17 -> 300000 | H17: libra | I17: 25000 | J17: 50000 | K17: =+J17*(1+$N$1) -> 52650 | L17: =+K17*D17 -> 52650
A18: NASA | B18: Planta Fresca | C18: Abrecamino para refrescamiento de los espíritus | D18: 1 | E18: Kilo | F18: 250000 | G18: =F18*D18 -> 250000 | H18: Kilo | I18: 30000 | J18: 30000 | K18: =+J18*(1+$N$1) -> 31590 | L18: =+K18*D18 -> 31590
A19: NASA | B19: Planta dulce | C19: Yacuma blanca para potencializar los espíritus | D19: 1 | E19: Kilo | F19: 1000000 | G19: =F19*D19 -> 1000000 | H19: libra | I19: 25000 | J19: 50000 | K19: =+J19*(1+$N$1) -> 52650 | L19: =+K19*D19 -> 52650
A20: NASA | B20: Planta dulce | C20: Estevia para potencializar los espíritus | D20: 1 | E20: Kilo | F20: 500000 | G20: =F20*D20 -> 500000 | H20: libra | I20: 25000 | J20: 50000 | K20: =+J20*(1+$N$1) -> 52650 | L20: =+K20*D20 -> 52650
A21: NASA | B21: Planta dulce | C21: Alegron para potencializar los espíritus | D21: 1 | E21: Kilo | F21: 200000 | G21: =F21*D21 -> 200000 | H21: libra | I21: 30000 | J21: 60000 | K21: =+J21*(1+$N$1) -> 63180 | L21: =+K21*D21 -> 63180
A22: NASA | B22: Planta dulce | C22: Flor de pensamiento para potencializar los espíritus | D22: 1 | E22: Kilo | F22: 500000 | G22: =F22*D22 -> 500000 | H22: libra | I22: 25000 | J22: 50000 | K22: =+J22*(1+$N$1) -> 52650 | L22: =+K22*D22 -> 52650
... A36: NASA | B36: Flor de manzanilla | C36: Para preparación de cremas para la piel | D36: 5 | E36: Kilos | F36: 90000 | G36: =F36*D36 -> 450000 | H36: kilo | I36: 40000 | J36: 40000 | K36: =+J36*(1+$N$1) -> 42120 | L36: =+K36*D36 -> 210600
A37: PASTOS | B37: Palo Santo | C37: Madera sagrada y espiritual propia del pueblo Pastos | D37: 2 | E37: Libra | F37: 30000 | G37: =D37*F37 -> 60000 | H37: kilo | I37: 35000 | J37: =+I37/2 -> 17500 | K37: =+J37*(1+$N$1) -> 18427.5 | L37: =+K37*D37 -> 36855
A38: PASTOS | B38: Ruda | C38: Planta medicinal | D38: 15 | E38: Atado | F38: 150000 | G38: =D38*F38 -> 2250000 | H38: atao | I38: 25000 | J38: 25000 | K38: =+J38*(1+$N$1) -> 26325 | L38: =+K38*D38 -> 394875
A39: PIJAO | B39: Tapetuza | C39: tapetuza elaborado por los medicos ancestrales propios de la comunidad indígena Ambika Pijao | D39: 11 | E39: Botella | F39: 200000 | G39: =F39*D39 -> 2200000 | H39: unidad | I39: 150000 | J39: 150000 | K39: =+J39*(1+$N$1) -> 157950 | L39: =+K39*D39 -> 1737450
A40: PIJAO | B40: Noni | C40: Noni elaborado por los médicos ancestrales propios de la comunidad indigena Ambika Pijao | D40: 8 | E40: Botella | F40: 200000 | G40: =F40*D40 -> 1600000 | H40: unidad | I40: 80000 | J40: 80000 | K40: =+J40*(1+$N$1) -> 84240 | L40: =+K40*D40 -> 673920
A41: PIJAO | B41: Tabaco Ambika | C41: Paca de tabacos armonizados por el medico ancestral de la comunidad. | D41: 6 | E41: Paca | F41: 70000 | G41: =F41*D41 -> 420000 | H41: paquete | I41: 20000 | J41: 20000 | K41: =+J41*(1+$N$1) -> 21060 | L41: =+K41*D41 -> 126360
A42: PIJAO | B42: Limpia | C42: Limpia elaborada por los medicos ancestrales propios de la comunidad indigena Ambika Pijao. | D42: 6 | E42: Botella | F42: 200000 | G42: =F42*D42 -> 1200000 | H42: unidad | I42: 50000 | J42: 50000 | K42: =+J42*(1+$N$1) -> 52650 | L42: =+K42*D42 -> 315900
A43: PIJAO | B43: Veladora Blanca | C43: Velones blancos grandes elaborados en parafina artesanal hecha a mano Dimensiones aproximadas: 7 cm x 18 cm | D43: 7 | E43: Unidad | F43: 30000 | G43: =F43*D43 -> 210000 | H43: unidad | I43: 20000 | J43: 20000 | K43: =+J43*(1+$N$1) -> 21060 | L43: =+K43*D43 -> 147420
A44: PIJAO | B44: Frutas | C44: unidades de frutas como banano, naranja, mandarina, limones, manzana, pera, carambolo | D44: 5 | E44: Libra | F44: 20000 | G44: =F44*D44 -> 100000 | H44: libras | I44: 2000 | J44: 2000 | K44: =+J44*(1+$N$1) -> 2106 | L44: =+K44*D44 -> 10530
A45: PIJAO | B45: Plantas medicinales | C45: manojo de plantas como mastranto, limonaria, manzanilla, viravira, abrecaminos, ruda, hoja de tabaco | D45: 70 | E45: Manojo | F45: 20000 | G45: =F45*D45 -> 1400000 | H45: libras | I45: 5000 | J45: 5000 | K45: =+J45*(1+$N$1) -> 5265 | L45: =+K45*D45 -> 368550
A46: KAMENTSA | B46: Yagé | C46: Frasco de 250 mls – líquido a base de bejuco natural. | D46: 1 | E46: Frasco | F46: 305000 | G46: =D46*F46 -> 305000 | H46: Envase x 120 ml | I46: 100000 | J46: =+(I46/12)*250 -> 2083333.3 | K46: =+J46*(1+$N$1) -> 2193750 | L46: =+K46*D46 -> 2193750
A47: UITOTO | B47: Ambil | C47: Elemento que se procesa del tabaco, se mezcla con sal de monte y baba natural para obtener una mezcla homogénea chiclosa para contribuir a la concentración. | D47: 1 | E47: kilo | F47: 900000 | G47: =D47*F47 -> 900000 | H47: Kilo | I47: 135000 | J47: 135000 | K47: =+J47*(1+$N$1) -> 142155 | L47: =+K47*D47 -> 142155
A48: UITOTO | B48: Incienso natural | C48: Mezcla de resinas vegetales y aceites esenciales que se quema para desprender un humo con aroma | D48: 2 | E48: kilo | F48: 90000 | G48: =D48*F48 -> 180000 | H48: Kilo | I48: 18000 | J48: 18000 | K48: =+J48*(1+$N$1) -> 18954 | L48: =+K48*D48 -> 37908
A49: UITOTO | B49: Sal de monte | C49: Sal purificada para curaciones | D49: 2 | E49: kilo | F49: 900000 | G49: =D49*F49 -> 1800000 | H49: Libra | I49: 130000 | J49: 260000 | K49: =+J49*(1+$N$1) -> 273780 | L49: =+K49*D49 -> 547560
A50: LOGISTICA | B50: Mesa Plegable | C50: Metal/Polietileno Blanco 180x75x74 Cm | D50: 7 | E50: Unidad | F50: 450000 | G50: =D50*F50 -> 3150000 | H50: Unidad | I50: 266600 | J50: 266600 | K50: =+J50*(1+$N$1) -> 280729.8 | L50: =+K50*D50 -> 1965108.6
A51: LOGISTICA | B51: Agenda | C51: Agenda personalizada con Logo de la Mesa Local Indigena de usme | D51: 140 | E51: Unidad | F51: 45000 | G51: =D51*F51 -> 6300000 | H51: Unidad | I51: 19950 | J51: 19950 | K51: =+J51*(1+$N$1) -> 21007.35 | L51: =+K51*D51 -> 2941029
A52: LOGISTICA | B52: ESFERO ECOLÓGICO | C52: Esfero Ecológico personalizado con Logo de la Mesa Local Indigena de usme | D52: 200 | E52: Unidad | F52: 6500 | G52: =D52*F52 -> 1300000 | H52: Unidad | I52: 1850 | J52: 1850 | K52: =+J52*(1+$N$1) -> 1948.05 | L52: =+K52*D52 -> 389610
A53: LOGISTICA | B53: MONTAJE SONIDO 200 300 PERSONAS | C53: • Servicio de montaje con las siguientes características: sonido: 1 Consola de 6 a 8 canales para micrófono y/o línea, 2 canales estéreo independientes, ecualizador paramétrico mínimo de 3 vías por canal, outputs XLR balanceados, phantom power para los micrófonos de condensador, dos (2) cables conversores RCA plug de 1/8 estéreo. • 1 Rack o mesa o soporte similar para ubicar la consola y demás elementos componentes del servicio • Micrófono inalámbrico de diadema con frecuencia seleccionable de UHF o Digital, Diversificado con Doble Antena, condensador con patrón polar cardiode, con una respuesta en frecuencia de 50Hz-20kHz como mínimo, con sus respectivas baterías y pilas de repuesto. • (Marcas Profesionalmente Reconocidas) • 2 Micrófono Formato: de mano. Cable de 4.57m. • Conector/es de salida: 3-pin xlrm. • Frecuencia máxima: 15000Hz.Frecuencia mínima: 70Hz Impedancia 600Ω. • bases de micrófonos. con sus respectivos elementos para su correcto y óptimo funcionamiento. Batería nueva al momento del préstamo del servicio. (Marcas Profesionalmente Reconocidas) • Altavoz de sonido auto amplificado o con sistema de etapa de amplificación (Marcas Profesionalmente Reconocidas para garantizar una mejor prestación de servicio evitando que lleven sonidos obsoletos o de baja garantía.) • Cables de energía y señal para su perfecto funcionamiento. • El equipo debe cumplir con una cobertura mínima de 90 db de presión de sonido constante sin distorsión en exteriores y a una distancia al menos de 30 mts. • Debe cumplir con las siguientes características: Caja mínimo a dos (2) vías. (+- 600 watts RMS) - Driver de 100watts para frecuencias altas de 1.5” (+-100w) - Sub-bajo acorde de mínimo 15” (+-500w) Respuesta en frecuencia mínima de 30hz a 2.5Khz - Dos (2) sistemas para el montaje de parlantes (trípode o estructura en aluminio) debe garantizar estabilidad y seguridad, deben estar en perfecto estado. | D53: 1 | E53: Unidad | F53: 4200000 | G53: =D53*F53 -> 4200000 | H53: Unidad | I53: 1477500 | J53: 1477500 | K53: =+J53*(1+$N$1) -> 1555807.5 | L53: =+K53*D53 -> 1555807.5
...

Sheet Hoja2
A1: PUEBLO INDÍGENA | B1: ÍTEM | C1: CARACTERISTICAS TECNICAS | D1: CANTIDAD | E1: UNIDAD DE MEDIDA | F1: VALOR UNITARIO | G1: VALOR TOTAL | H1: VALOR UNITARIO MODIFICADO | I1: VALOR TOTAL MODIFICADO | J1: OBSERVACIÓN
A2: ANDOQUE | B2: Fibra de Gurumo | C2: Fibra natural de terrtorio de 2 metros | D2: 15 | E2: Arroba | F2: 400000 | G2: =D2*F2 -> 6000000 | H2: 350000 | I2: =+H2*D2 -> 5250000 | J2: Se identifica el mismo elemento con un menor valor en el pueblo Uitoto
A3: ANDOQUE | B3: Bejuco Gu+oo | C3: Bejuco natural de territorio de 5 metros | D3: 10 | E3: Arroba | F3: 350000 | G3: =D3*F3 -> 3500000 | H3: 250000 | I3: =+H3*D3 -> 2500000 | J3: Se identifica el mismo elemento con un menor valor en el pueblo Uitoto
A4: ANDOQUE | B4: Pintura Natural | C4: Pintura Natural de corteza de arboles | D4: 9 | E4: Galon | F4: 180000 | G4: =D4*F4 -> 1620000 | H4: 25000 | I4: =+H4*D4 -> 225000 | J4: Se identifica el mismo elemento con un menor valor en el pueblo Uitoto
A5: UITOTO | B5: Bejuco Yare Natuarl | C5: Bejuco Natiral 1 metro | D5: 3 | E5: Arroba | F5: 350000 | G5: =F5*D5 -> 1050000 | H5: 300000 | I5: =+H5*D5 -> 900000 | J5: Se identifica el mismo elemento con un menor valor en el pueblo Andoque
A6: UITOTO | B6: Bejuco Natural GU+O | C6: Bejuco Natural 2 Metros | D6: 5 | E6: Arroba | F6: 350000 | G6: =F6*D6 -> 1750000 | H6: 300000 | I6: =+H6*D6 -> 1500000 | J6: Se identifica el mismo elemento con un menor valor en el pueblo Andoque
A7: PASTOS | B7: Sándalo | C7: Brisas de madera que vienen con aroma | D7: 1 | E7: Libra | F7: 450000 | G7: =D7*F7 -> 450000 | H7: 45000 | I7: =+H7*D7 -> 45000 | J7: Error de digitación
A8: PASTOS | B8: Gancho pescador para aretes | C8: Un gancho pescador para aretes es un tipo de cierre o herraje utilizado en bisutería para sujetar los aretes al lóbulo de la oreja | D8: 10 | E8: Libra | F8: 100000 | G8: =D8*F8 -> 1000000 | H8: 50000 | I8: =+H8*D8 -> 500000 | J8: Por error de digitación en la unidad de medida el kilo es a $100.000
A9: INGA | B9: Chaquira No. 10 | C9: Chaquira color surtido No. 10 | D9: 42 | E9: Libra | F9: 93000 | G9: =D9*F9 -> 3906000 | H9: 80000 | I9: =+H9*D9 -> 3360000 | J9: Se identifica el mismo elemento con un menor valor en el pueblo Kamentsa
A10: ANDOQUE | B10: Juego de Pinceles | C10: Juego de pinceles de 10 unidades, pincel plano con ángulo de varios los tamaños | D10: 5 | E10: Juego | F10: 120000 | G10: =D10*F10 -> 600000 | H10: 12000 | I10: =+H10*D10 -> 60000 | J10: Error de digitación
A11: ANDOQUE | B11: Tijeras | C11: Tijeras de 17cm gran calidad, fabricadas en acero inoxidable; Asas ergonómicas; Afilado especial | D11: 20 | E11: Unidad | F11: 37500 | G11: =D11*F11 -> 750000 | H11: 5000 | I11: =+H11*D11 -> 100000 | J11: Se identifica el mismo elemento con un menor valor en el pueblo Nasa
A12: UITOTO | B12: Tijeras | C12: Tijeras de 17cm gran calidad, fabricadas en acero inoxidable; Asas ergonómicas; Afilado especial | D12: 20 | E12: Unidad | F12: 37500 | G12: =D12*F12 -> 750000 | H12: 5000 | I12: =+H12*D12 -> 100000 | J12: Se identifica el mismo elemento con un menor valor en el pueblo Nasa
A13: UITOTO | B13: Cremalleras | C13: Cremallera para ropa gruesa | D13: 20 | E13: Unidad | F13: 200000 | G13: =D13*F13 -> 4000000 | H13: 200000 | I13: =+H13*D13 -> 4000000 | J13: Se modifica la unidad de medida ya que no es por unidad sino paquete x 20 unidades
A14: ANDOQUE | B14: Fibra de Cumare | C14: Fibra natural de terrtorio de palma de Cumare | D14: 5 | E14: Arroba | F14: 750000 | G14: =D14*F14 -> 3750000 | H14: 160000 | I14: =+H14*D14 -> 800000 | J14: Se identifica el mismo elemento con un menor valor en el pueblo Uitoto
A15: KAMENTSA | B15: Alquiler de espacio | C15: Para la realización de las sesiones | D15: 3 | E15: Dia | F15: 120000 | G15: =D15*F15 -> 360000 | H15: 60000 | I15: =+H15*D15 -> 180000 | J15: Se modifica el valor y la unidad de medida para dar claridad son 3 sesiones a $60.000
A16: KAMENTSA | B16: Alquiler de espacio | C16: Para los Tres (3) sesiones | D16: 15 | E16: Unidades | F16: 12000 | G16: =F16*D16 -> 180000 | H16: 60000 | I16: 180000 | J16: Se modifica el valor y la unidad de medida para dar claridad son 3 sesiones a $60.000
A17: NASA | B17: Ruana | C17: Limpieza espiritual en la medicina ancestral | D17: 3 | E17: Unidades | F17: 847960 | G17: =F17*D17 -> 2543880 | H17: 420000 | I17: =+H17*D17 -> 1260000 | J17: Se identifica el mismo elemento con un menor valor en el componente de idioma propio
