Workbook
Name AMAZONAS: 'Departamentos_y_municipios_ (2'!$H$1093:$H$1103
Name Antioquia: 'Departamentos_y_municipios_ (2'!$H$2:$H$126
Name ARAUCA: 'Departamentos_y_municipios_ (2'!$H$1052:$H$1058
Name ATLÁNTICO: 'Departamentos_y_municipios_ (2'!$H$127:$H$149
Name BOLÍVAR: 'Departamentos_y_municipios_ (2'!$H$152:$H$197
Name BOYACÁ: 'Departamentos_y_municipios_ (2'!$H$198:$H$320
Name CALDAS: 'Departamentos_y_municipios_ (2'!$H$321:$H$347
Name CAQUETÁ: 'Departamentos_y_municipios_ (2'!$H$348:$H$363
Name CASANARE: 'Departamentos_y_municipios_ (2'!$H$1059:$H$1077
Name CAUCA: 'Departamentos_y_municipios_ (2'!$H$364:$H$405
Name CESAR: 'Departamentos_y_municipios_ (2'!$H$406:$H$430
Name CHOCÓ: 'Departamentos_y_municipios_ (2'!$H$578:$H$608
Name CÓRDOBA: 'Departamentos_y_municipios_ (2'!$H$431:$H$460
Name CUNDINAMARCA: 'Departamentos_y_municipios_ (2'!$H$461:$H$577
Name DIRECCIÓN_GENERAL: 'Departamentos_y_municipios_ (2'!$H$151
Name DISTRITO_CAPITAL: 'Departamentos_y_municipios_ (2'!$H$150
Name GUAINÍA: 'Departamentos_y_municipios_ (2'!$H$1104:$H$1112
Name GUAVIARE: 'Departamentos_y_municipios_ (2'!$H$1113:$H$1116
Name HUILA: 'Departamentos_y_municipios_ (2'!$H$609:$H$645
Name LA_GUAJIRA: 'Departamentos_y_municipios_ (2'!$H$646:$H$660
Name MAGDALENA: 'Departamentos_y_municipios_ (2'!$H$661:$H$690
Name META: 'Departamentos_y_municipios_ (2'!$H$691:$H$719
Name NARIÑO: 'Departamentos_y_municipios_ (2'!$H$720:$H$783
Name NOM_BPIN: '[1]RUBROS X BPIN '!$A$2:$D$338
Name NORTE_DE_SANTANDER: 'Departamentos_y_municipios_ (2'!$H$784:$H$823
Name PUTUMAYO: 'Departamentos_y_municipios_ (2'!$H$1078:$H$1090
Name QUINDÍO: 'Departamentos_y_municipios_ (2'!$H$824:$H$835
Name Regional_Antioquia: #REF!
Name Regional_Valle: #REF!
Name regionales: [2]regionales!$A$1:$B$34
Name RISARALDA: 'Departamentos_y_municipios_ (2'!$H$836:$H$849
Name SAN_ANDRES_Y_PROVIDENCIA: 'Departamentos_y_municipios_ (2'!$H$1091:$H$1092
Name SANTANDER: 'Departamentos_y_municipios_ (2'!$H$850:$H$936
Name SUCRE: 'Departamentos_y_municipios_ (2'!$H$937:$H$962
Name TOLIMA: 'Departamentos_y_municipios_ (2'!$H$963:$H$1009
Name VALLE_DEL_CAUCA: 'Departamentos_y_municipios_ (2'!$H$1010:$H$1051
Name VAUPÉS: 'Departamentos_y_municipios_ (2'!$H$1117:$H$1122
Name VICHADA: 'Departamentos_y_municipios_ (2'!$H$1123:$H$1126

Sheet INSTRUCCIONES
D1: Versión:09
D2: Código: GIL-F-047
B3: PROCESO
B4: GESTIÓN DE INFRAESTRUCTURA Y LOGÍSTICA
B5: NOMBRE DEL FORMATO
B6: FORMATO DE CONSTRUCCIONES EN CURSO
B7: CLASIFICACIÓN DE LA INFORMACIÓN
B8: Pública | C8: Pública Clasificada | D8: Pública Reservada
B9: INSTRUCCIONES PARA EL DILIGENCIAMIENTO DEL FORMATO
B10: NO IMPRIMIR
B11: 1. Generalidades
B12: Este formato debe ser diligenciado por el supervisor de cada uno de estos contratos, los profesionales homólogos del grupo de Infraestructura, con el apoyo del profesional del área de Contabilidad de cada Centro de Formación, Regional y Dirección General, en caso de ser requerido.
B13: Este formato debe ser diligenciado con el soporte GIL-F-029 "Certificación Contrato para Intervenciones a inmuebles"
B14: Este formato debe contener, además de los pagos de contratos de obra e interventoría, aquellos que se requieran para colocar en condiciones de uso el inmueble. Tales como: licencias, estudios, entre otros.
B15: Este formato debe diligenciarse de manera mensual, con la información de los pagos y legalizaciones o amortizaciones realizadas para cada uno de los contratos de obra y relacionados.
B16: Al momento del diligenciamiento se debe tener en cuenta que de seleccionar SI en la columna ¿OBRA TERMINADA Y EN CONDICIONES DE USO?, se deben tener los documentos soportes como actas y demás que certifiquen la terminación y recibo a satisfacción de la obra por parte de la entidad, de acuerdo a lo enunciado en la guía GIL-G-005 "Guía para la Identificación de Hechos Económicos Presentados en los Inmuebles del SENA"
B17: Toda obra que se termine, debe registrarse en el Formato GIL-F-045 "Formato Reporte de reconocimiento de obras terminadas" y diligenciarlo de acuerdo a las instrucciones de este.
B18: El profesional de contabilidad de la Regional, Centro de formación o Direccion general encargado de apoyar y consolidar, debe verificar que la sumatoria de los valores ingresados como afectación a la cuenta 1615 columna "VALOR TOTAL PAGADO CONSTRUCCION EN CURSO/CONTRATO" debe ser igual al saldo que registra la cuenta en el sistema SIIF Nación II al corte del mes a reportar, de no ser así debe dar la alerta al supervisor para su revisión.
B19: 2. Instrucciones para diligenciar las casillas
B20: CAMPO | C20: DESCRIPCIÓN CAMPO
B21: INFORMACION DE OBRA Y CONTRATO
B22: ITEM | C22: Consecutivo numérico que identifica el orden dentro del cuadro, de cada una de los registros de las transacciones realizadas.
B23: PROYECTO REFERENTE | C23: Nombre de la obra en curso la cual agrupa los distintos contratos ya sean de obra, interventoría, pago de licencias, entre otros, que conforman la totalidad de la inversión, identificando el proyecto a nivel general; pero este debe incluir si maneja contratos para la licencia, estudios y diseños, interventorías, consultorías y el contrato de obra.
B24: NOMBRE REGIONAL O CENTRO DE FORMACIÓN EJECUCIÓN PRESUPUESTAL | C24: Nombre del Centro de Formación o Regional el cual suscribió el contrato. Seleccionar de la lista desplegable.
B25: CÓDIGO PCI EJECUCIÓN PRESUPUESTAL | C25: Código de la posición del catalogo institucional del centro de costo por el cual se esta realizando la ejecución presupuestal de la obra. Campo formulado por favor no modificar.
B26: CIUDAD O MUNICIPIO | C26: Diligenciar con la información correspondiente.
B27: NOMBRE REGIONAL O CENTRO DE FORMACIÓN EJECUCIÓN DE OBRA | C27: Seleccione de la lista, el nombre de la Regional a la cual pertenece el bien inmueble en el cual se realiza la intervención.
B28: CODIGO PCI EJECUCION DE OBRA | C28: Código de la posición del catalogo institucional del centro de costo al cual fue asignado el inmueble en el que se está desarrollando la obra. Campo formulado, por favor no modificar.
B29: DIRECCIÓN DEL INMUEBLE OBJETO DE LA OBRA | C29: Dirección del Inmueble sobre el cual se está adelantando la obra tal como se muestra en el avalúo.
B30: LINK DEL SECOP II | C30: Adjuntar el enlace que dirigirá al contrato de la obra en el SECOP II.
B31: No. CÉDULA O NIT DEL CONTRATISTA | C31: Número de documento de identificación del contratista de obra, interventoría o municipio en caso de pago de licencias y otros.
B32: NOMBRE TERCERO CONTRATISTA | C32: Nombre del contratista de obra, interventoría o municipio en caso de pago de licencias y otros.
B33: CONTRATO No. | C33: Número del contrato suscrito por la entidad por medio del cual se adquieren los bienes y servicios. En caso de pagos de licencias u otros diferentes a contratos, se debe registrar el número de la resolución que autoriza el pago o numero de factura que se está pagando.
... B40: OBJETO/ DESCRIPCIÓN | C40: Objeto con el cual se suscribió el contrato. Para el caso de pago de licencias u otros conceptos, ingresar el concepto del pago.
B41: OBLIGACIONES Y AMORTIZACIONES DE ANTICIPOS
B42: TIPO DE REGISTRO | C42: Seleccionar de la lista desplegable si el registro que se está ingresando, corresponde al pago de una obligación o al registro de una amortización de un anticipo.
B43: NÚMERO DE REGISTRO | C43: Consecutivo numérico del registro de la legalización o amortización del anticipo, que se genera por parte de la persona de contabilidad en el Sistema SIIF Nación II.
B44: CÓDIGO CONTABLE AFECTADO EN LA OBLIGACION O AMORTIZACIÓN | C44: Código contable que identifica la afectación en el registro de la obligación o amortización de anticipo, por parte del profesional de cuentas por pagar. Por favor seleccionar la cuenta y tener en cuenta que si alguna licencia o pago no desarrolla una obra, hasta tanto no se asignen recursos, se incluye en la cuenta de construcciones no explotadas para llevar el control.
B45: FECHA DE LA OBLIGACIÓN O AMORTIZACIÓN | C45: Fecha del registro de la obligación o amortización en el sistema SIIF Nación II.
B46: VALOR DE LA OBLIGACIÓN O AMORTIZACIÓN | C46: Valor por el cual se registra la obligación o amortización del anticipo.
...

Sheet FORMATO GIL-F-047
AI1: Versión: 09
AI2: Código: GIL-F- 047
B3: PROCESO
B4: GESTIÓN DE INFRAESTRUCTURA Y LOGÍSTICA
B5: NOMBRE DEL FORMATO
B6: FORMATO DE CONSTRUCCIONES EN CURSO
B7: CLASIFICACIÓN DE LA INFORMACIÓN
B8: Pública | M8: Pública Clasificada | Y8: Pública Reservada
B9: CORTE AL MES DE _______ DE ______
B10: POR FAVOR LEER LAS INSTRUCCIONES ANTES DE DILIGENCIAR (CLIC AQUÍ)
B11: INFORMACIÓN DE OBRA Y CONTRATO | U11: OBLIGACIONES Y AMORTIZACIONES DE ANTICIPOS | AB11: VALOR TOTAL PAGADO CONSTRUCCIÓN EN CURSO/CONTRATO Afectado a cuenta 1615 | AC11: PORCENTAJE DE AVANCE LA OBRA DE ACUERDO CON PROGRAMACIÓN DE OBRA | AD11: FIN DE OBRA | AG11: NOMBRES DE RESPONSABLES DE LA INFORMACIÓN
B12: ITEM | C12: PROYECTO REFERENTE | D12: NOMBRE REGIONAL O CENTRO DE FORMACIÓN EJECUCIÓN PRESUPUESTAL | E12: CÓDIGO PCI EJECUCIÓN PRESUPUESTAL | F12: CIUDAD O MUNICIPIO | G12: NOMBRE REGIONAL O CENTRO DE FORMACIÓN EJECUCIÓN DE OBRA | H12: CÓDIGO PCI EJECUCIÓN DE OBRA | I12: DIRECCIÓN DEL INMUEBLE OBJETO DE LA OBRA | J12: LINK SECOP II | K12: No. CÉDULA O NIT DEL CONTRATISTA | L12: NOMBRE TERCERO CONTRATISTA | M12: CONTRATO No. | N12: FECHA DEL CONTRATO (DD-MM-AA) | O12: FECHA DE INICIO (DD-MM-AA) | P12: FECHA ESTIMADA DE TERMINACIÓN DE LA OBRA (DD-MM-AA) | Q12: VALOR INICIAL DEL CONTRATO | R12: ADICIONES O DISMINUCIONES AL VALOR DEL CONTRATO | S12: VALOR TOTAL DEL CONTRATO | T12: OBJETO/ DESCRIPCIÓN | U12: TIPO DE REGISTRO | V12: NÚMERO DE REGISTRO | W12: CÓDIGO CONTABLE AFECTADO EN LA OBLIGACIÓN O AMORTIZACIÓN | X12: FECHA DE LA OBLIGACIÓN O AMORTIZACIÓN (DD-MM-AA) | Y12: VALOR DE LA OBLIGACIÓN O AMORTIZACIÓN | Z12: VALOR DE IVA | AA12: CONCEPTO DEL PAGO O AMORTIZACIÓN | AD12: ¿OBRA TERMINADA Y EN CONDICIONES DE USO? | AE12: ESTADO CONTRATO | AF12: OBSERVACIONES | AG12: SUPERVISOR DEL CONTRATO | AH12: SUPERVISOR DELEGADO ACTUALMENTE | AI12: COORDINADOR GRUPO ADMINISTRATIVO MIXTO Y/O COORD INFRAESTRUCTURA (DG)
B13: 1 | C13: CO1.PCCNTR.8516891 | D13: DISTRITO CAPITAL Centro Para La Industria De La Comunicación Gráfica | E13: =+VLOOKUP(D13,'LISTADO PCI''s'!$A$2:$C$153,3,0) -> 36-02-00-011-921710 | F13: BOGOTÁ | G13: DISTRITO CAPITAL Centro Para La Industria De La Comunicación Gráfica | H13: =+VLOOKUP(G13,'LISTADO PCI''s'!$A$2:$C$153,3,0) -> 36-02-00-011-921710 | I13: Cl. 15 #31-42 | J13: https://community.secop.gov.co/Public/Tendering/ContractNoticePhases/View?PPI=CO1.PPI.42793622&isFromPublicArea=True&isModal=False | K13: 900342685 | L13: EDIZA INGENIEROS SAS | M13: CO1.PCCNTR.8516891 | N13: 45967 | O13: 45967 | P13: 46010 | Q13: 81269930 | R13: 38730070 | S13: =+Q13+R13 -> 120000000 | T13: CONTRATAR EL REEMPLAZO DE LA CUBIERTA TRASLUCIDA ENPOLICARBONATO TERRAZA SEGUNDO PISO DEL CENTRO PARA LA INDUSTRIA DE LA COMUNICACIÓN GRAFICA | U13: OBLIGACION | V13: 362125 - 362225 | W13: 161501001 | X13: 46019 | Y13: 120000000 | Z13: 749014.45 | AA13: Pago único por el reemplazo de la cubierta traslúcida en policarbonato en la terraza segundo piso del CENTRO PARA LA INDUSTRIA DE LA COMUNICACIÓN GRAFICA, contrato No. CO1.PCCNTR. 8516891, por ejecución completa de la obra. | AB13: =+Y13-Z13 -> 1.1925099e+08 | AC13: 1 | AD13: SI | AE13: FINALIZADO | AF13: NINGUNA | AG13: Carlos Mario Insignares Guerra | AH13: Carlos Mario Insignares Guerra | AI13: Juan Ricardo Montealegre Franco
B14: =+B13+1 -> 2 | E14: =+VLOOKUP(D14,'LISTADO PCI''s'!$A$2:$C$153,3,0) -> #N/A | H14: =+VLOOKUP(G14,'LISTADO PCI''s'!$A$2:$C$153,3,0) -> #N/A | S14: =+Q14+R14 -> 0 | AB14: =+Y14-Z14 -> 0
B15: =+B14+1 -> 3 | E15: =+VLOOKUP(D15,'LISTADO PCI''s'!$A$2:$C$153,3,0) -> #N/A | H15: =+VLOOKUP(G15,'LISTADO PCI''s'!$A$2:$C$153,3,0) -> #N/A | S15: =+Q15+R15 -> 0 | AB15: =+Y15-Z15 -> 0
B16: =+B15+1 -> 4 | E16: =+VLOOKUP(D16,'LISTADO PCI''s'!$A$2:$C$153,3,0) -> #N/A | H16: =+VLOOKUP(G16,'LISTADO PCI''s'!$A$2:$C$153,3,0) -> #N/A | S16: =+Q16+R16 -> 0 | AB16: =+Y16-Z16 -> 0
B17: =+B16+1 -> 5 | E17: =+VLOOKUP(D17,'LISTADO PCI''s'!$A$2:$C$153,3,0) -> #N/A | H17: =+VLOOKUP(G17,'LISTADO PCI''s'!$A$2:$C$153,3,0) -> #N/A | S17: =+Q17+R17 -> 0 | AB17: =+Y17-Z17 -> 0
B18: =+B17+1 -> 6 | E18: =+VLOOKUP(D18,'LISTADO PCI''s'!$A$2:$C$153,3,0) -> #N/A | H18: =+VLOOKUP(G18,'LISTADO PCI''s'!$A$2:$C$153,3,0) -> #N/A | S18: =+Q18+R18 -> 0 | AB18: =+Y18-Z18 -> 0
B19: =+B18+1 -> 7 | E19: =+VLOOKUP(D19,'LISTADO PCI''s'!$A$2:$C$153,3,0) -> #N/A | H19: =+VLOOKUP(G19,'LISTADO PCI''s'!$A$2:$C$153,3,0) -> #N/A | S19: =+Q19+R19 -> 0 | AB19: =+Y19-Z19 -> 0
B20: =+B19+1 -> 8 | E20: =+VLOOKUP(D20,'LISTADO PCI''s'!$A$2:$C$153,3,0) -> #N/A | H20: =+VLOOKUP(G20,'LISTADO PCI''s'!$A$2:$C$153,3,0) -> #N/A | S20: =+Q20+R20 -> 0 | AB20: =+Y20-Z20 -> 0
B21: =+B20+1 -> 9 | E21: =+VLOOKUP(D21,'LISTADO PCI''s'!$A$2:$C$153,3,0) -> #N/A | H21: =+VLOOKUP(G21,'LISTADO PCI''s'!$A$2:$C$153,3,0) -> #N/A | S21: =+Q21+R21 -> 0 | AB21: =+Y21-Z21 -> 0
B22: =+B21+1 -> 10 | E22: =+VLOOKUP(D22,'LISTADO PCI''s'!$A$2:$C$153,3,0) -> #N/A | H22: =+VLOOKUP(G22,'LISTADO PCI''s'!$A$2:$C$153,3,0) -> #N/A | S22: =+Q22+R22 -> 0 | AB22: =+Y22-Z22 -> 0
B23: =+B22+1 -> 11 | E23: =+VLOOKUP(D23,'LISTADO PCI''s'!$A$2:$C$153,3,0) -> #N/A | H23: =+VLOOKUP(G23,'LISTADO PCI''s'!$A$2:$C$153,3,0) -> #N/A | S23: =+Q23+R23 -> 0 | AB23: =+Y23-Z23 -> 0
B24: =+B23+1 -> 12 | E24: =+VLOOKUP(D24,'LISTADO PCI''s'!$A$2:$C$153,3,0) -> #N/A | H24: =+VLOOKUP(G24,'LISTADO PCI''s'!$A$2:$C$153,3,0) -> #N/A | S24: =+Q24+R24 -> 0 | AB24: =+Y24-Z24 -> 0
B25: =+B24+1 -> 13 | E25: =+VLOOKUP(D25,'LISTADO PCI''s'!$A$2:$C$153,3,0) -> #N/A | H25: =+VLOOKUP(G25,'LISTADO PCI''s'!$A$2:$C$153,3,0) -> #N/A | S25: =+Q25+R25 -> 0 | AB25: =+Y25-Z25 -> 0
... B33: =+B32+1 -> 21 | E33: =+VLOOKUP(D33,'LISTADO PCI''s'!$A$2:$C$153,3,0) -> #N/A | H33: =+VLOOKUP(G33,'LISTADO PCI''s'!$A$2:$C$153,3,0) -> #N/A | S33: =+Q33+R33 -> 0 | AB33: =+Y33-Z33 -> 0
B34: TOTAL CUENTA 1615 CONSTRUCCIONES EN CURSO | AB34: =SUM(AB13:AB33) -> 1.1925099e+08

Sheet LISTAS
A1: TIPO DE REGISTRO
A2: OBLIGACION | C2: SI
A3: AMORTIZACION DE ANTICIPO | C3: NO
A6: 161501001
A7: 161504001
A8: 161505001
A9: 161590001
A10: 163702001
A11: 163702002
A12: 163702003
A13: 163702004

Sheet LISTADO PCI's
A1: CONCATENADO | B1: REGIONAL | C1: PCI | D1: Descripción | G1: REGIONAL
A2: =+B2&" "&D2 -> DIRECCIÓN GENERAL Dirección General | B2: DIRECCIÓN GENERAL | C2: 36-02-00-001-0000 | D2: Dirección General | G2: DIRECCIÓN GENERAL
A3: =+B3&" "&D3 -> ANTIOQUIA Dirección Regional | B3: ANTIOQUIA | C3: 36-02-00-005-000000 | D3: Dirección Regional | G3: ANTIOQUIA
A4: =+B4&" "&D4 -> ANTIOQUIA Centro De Los Recursos Naturales Renovables-La Salada | B4: ANTIOQUIA | C4: 36-02-00-005-910110 | D4: Centro De Los Recursos Naturales Renovables-La Salada | G4: ATLÁNTICO
A5: =+B5&" "&D5 -> ANTIOQUIA Centro De Formación Profesional Minero Ambiental | B5: ANTIOQUIA | C5: 36-02-00-005-912710 | D5: Centro De Formación Profesional Minero Ambiental | G5: DISTRITO CAPITAL
A6: =+B6&" "&D6 -> ANTIOQUIA Centro De Diseño Y Manufactura Del Cuero | B6: ANTIOQUIA | C6: 36-02-00-005-920110 | D6: Centro De Diseño Y Manufactura Del Cuero | G6: BOLÍVAR
A7: =+B7&" "&D7 -> ANTIOQUIA Centro De Formación En Diseño, Confección y Moda | B7: ANTIOQUIA | C7: 36-02-00-005-920210 | D7: Centro De Formación En Diseño, Confección y Moda | G7: BOYACÁ
A8: =+B8&" "&D8 -> ANTIOQUIA Centro Para El Desarrollo Del Hábitat Y la Construcción. | B8: ANTIOQUIA | C8: 36-02-00-005-920310 | D8: Centro Para El Desarrollo Del Hábitat Y la Construcción. | G8: CALDAS
A9: =+B9&" "&D9 -> ANTIOQUIA Centro De Tecnología De La Manufactura Avanzada | B9: ANTIOQUIA | C9: 36-02-00-005-920410 | D9: Centro De Tecnología De La Manufactura Avanzada | G9: CAQUETÁ
A10: =+B10&" "&D10 -> ANTIOQUIA Centro Tecnológico Del Mobiliario | B10: ANTIOQUIA | C10: 36-02-00-005-920510 | D10: Centro Tecnológico Del Mobiliario | G10: CAUCA
A11: =+B11&" "&D11 -> ANTIOQUIA Centro Textil y De Gestión Industrial | B11: ANTIOQUIA | C11: 36-02-00-005-920610 | D11: Centro Textil y De Gestión Industrial | G11: CESAR
A12: =+B12&" "&D12 -> ANTIOQUIA Centro De Comercio | B12: ANTIOQUIA | C12: 36-02-00-005-930110 | D12: Centro De Comercio | G12: CÓRDOBA
A13: =+B13&" "&D13 -> ANTIOQUIA Centro De Servicios De Salud | B13: ANTIOQUIA | C13: 36-02-00-005-940110 | D13: Centro De Servicios De Salud | G13: CUNDINAMARCA
... A35: =+B35&" "&D35 -> BOYACÁ Centro De Desarrollo Agropecuario Y Agroindustrial | B35: BOYACÁ | C35: 36-02-00-015-911010 | D35: Centro De Desarrollo Agropecuario Y Agroindustrial | G35: VICHADA
A36: =+B36&" "&D36 -> BOYACÁ Centro Minero | B36: BOYACÁ | C36: 36-02-00-015-911110 | D36: Centro Minero
A37: =+B37&" "&D37 -> BOYACÁ Centro De Gestión Administrativa Y Fortalecimiento Empresarial | B37: BOYACÁ | C37: 36-02-00-015-930510 | D37: Centro De Gestión Administrativa Y Fortalecimiento Empresarial
A38: =+B38&" "&D38 -> BOYACÁ Centro Industrial De Mantenimiento Y Manufactura | B38: BOYACÁ | C38: 36-02-00-015-951410 | D38: Centro Industrial De Mantenimiento Y Manufactura
A39: =+B39&" "&D39 -> BOYACÁ Centro de la innovación Agroindustrial y de Servicios. | B39: BOYACÁ | C39: 36-02-00-015-955110 | D39: Centro de la innovación Agroindustrial y de Servicios.
A40: =+B40&" "&D40 -> CALDAS Dirección Regional | B40: CALDAS | C40: 36-02-00-017-000000 | D40: Dirección Regional
A41: =+B41&" "&D41 -> CALDAS Centro Para La Formación Cafetera | B41: CALDAS | C41: 36-02-00-017-911210 | D41: Centro Para La Formación Cafetera
A42: =+B42&" "&D42 -> CALDAS Centro De Automatización Industrial | B42: CALDAS | C42: 36-02-00-017-921910 | D42: Centro De Automatización Industrial
A43: =+B43&" "&D43 -> CALDAS Centro De Procesos Industriales y Construcción. | B43: CALDAS | C43: 36-02-00-017-922010 | D43: Centro De Procesos Industriales y Construcción.
A44: =+B44&" "&D44 -> CALDAS Centro De Comercio Y Servicios | B44: CALDAS | C44: 36-02-00-017-930610 | D44: Centro De Comercio Y Servicios
A45: =+B45&" "&D45 -> CALDAS Centro Pecuario Y Agroempresarial | B45: CALDAS | C45: 36-02-00-017-951510 | D45: Centro Pecuario Y Agroempresarial
A46: =+B46&" "&D46 -> CAQUETÁ Dirección Regional | B46: CAQUETÁ | C46: 36-02-00-018-000000 | D46: Dirección Regional
A47: =+B47&" "&D47 -> CAQUETÁ Centro Tecnológico De La Amazonia | B47: CAQUETÁ | C47: 36-02-00-018-951610 | D47: Centro Tecnológico De La Amazonia
... A153: =+B153&" "&D153 -> VICHADA Centro De Producción Y Transformación Agroindustrial de la Orinoquía | B153: VICHADA | C153: 36-02-00-099-953110 | D153: Centro De Producción Y Transformación Agroindustrial de la Orinoquía

Sheet Departamentos_y_municipios_ (2
A1: REGION | B1: CÓDIGO DANE DEL DEPARTAMENTO | C1: DEPARTAMENTO | E1: CÓDIGO DANE DEL DEPARTAMENTO | G1: MUNICIPIO | H1: MUNICIPIO FINAL
A2: Región Eje Cafetero - Antioquia | B2: 05 | C2: ANTIOQUIA | D2: =+E2&F2 -> 05001 | E2: 05 | F2: 001 | G2: Medellín | H2: Medellín 05001
A3: Región Eje Cafetero - Antioquia | B3: 05 | C3: ANTIOQUIA | D3: =+E3&F3 -> 05002 | E3: 05 | F3: 002 | G3: Abejorral | H3: Abejorral 05002
A4: Región Eje Cafetero - Antioquia | B4: 05 | C4: ANTIOQUIA | D4: =+E4&F4 -> 05004 | E4: 05 | F4: 004 | G4: Abriaquí | H4: Abriaquí 05004
A5: Región Eje Cafetero - Antioquia | B5: 05 | C5: ANTIOQUIA | D5: =+E5&F5 -> 05021 | E5: 05 | F5: 021 | G5: Alejandría | H5: Alejandría 05021
A6: Región Eje Cafetero - Antioquia | B6: 05 | C6: ANTIOQUIA | D6: =+E6&F6 -> 05030 | E6: 05 | F6: 030 | G6: Amagá | H6: Amagá 05030
A7: Región Eje Cafetero - Antioquia | B7: 05 | C7: ANTIOQUIA | D7: =+E7&F7 -> 05031 | E7: 05 | F7: 031 | G7: Amalfi | H7: Amalfi 05031
A8: Región Eje Cafetero - Antioquia | B8: 05 | C8: ANTIOQUIA | D8: =+E8&F8 -> 05034 | E8: 05 | F8: 034 | G8: Andes | H8: Andes 05034
A9: Región Eje Cafetero - Antioquia | B9: 05 | C9: ANTIOQUIA | D9: =+E9&F9 -> 05036 | E9: 05 | F9: 036 | G9: Angelópolis | H9: Angelópolis 05036
A10: Región Eje Cafetero - Antioquia | B10: 05 | C10: ANTIOQUIA | D10: =+E10&F10 -> 05038 | E10: 05 | F10: 038 | G10: Angostura | H10: Angostura 05038
A11: Región Eje Cafetero - Antioquia | B11: 05 | C11: ANTIOQUIA | D11: =+E11&F11 -> 05040 | E11: 05 | F11: 040 | G11: Anorí | H11: Anorí 05040
A12: Región Eje Cafetero - Antioquia | B12: 05 | C12: ANTIOQUIA | D12: =+E12&F12 -> 05044 | E12: 05 | F12: 044 | G12: Anza | H12: Anza 05044
A13: Región Eje Cafetero - Antioquia | B13: 05 | C13: ANTIOQUIA | D13: =+E13&F13 -> 05045 | E13: 05 | F13: 045 | G13: Apartadó | H13: Apartadó 05045
... A20: Región Eje Cafetero - Antioquia | B20: 05 | C20: ANTIOQUIA | D20: =+E20&F20 -> 05093 | E20: 05 | F20: 093 | G20: Betulia | H20: Betulia 05093
A21: Región Eje Cafetero - Antioquia | B21: 05 | C21: ANTIOQUIA | D21: =+E21&F21 -> 05101 | E21: 05 | F21: 101 | G21: Ciudad Bolívar | H21: Ciudad Bolívar 05101
A22: Región Eje Cafetero - Antioquia | B22: 05 | C22: ANTIOQUIA | D22: =+E22&F22 -> 05107 | E22: 05 | F22: 107 | G22: Briceño | H22: Briceño 05107
A23: Región Eje Cafetero - Antioquia | B23: 05 | C23: ANTIOQUIA | D23: =+E23&F23 -> 05113 | E23: 05 | F23: 113 | G23: Buriticá | H23: Buriticá 05113
A24: Región Eje Cafetero - Antioquia | B24: 05 | C24: ANTIOQUIA | D24: =+E24&F24 -> 05120 | E24: 05 | F24: 120 | G24: Cáceres | H24: Cáceres 05120
A25: Región Eje Cafetero - Antioquia | B25: 05 | C25: ANTIOQUIA | D25: =+E25&F25 -> 05125 | E25: 05 | F25: 125 | G25: Caicedo | H25: Caicedo 05125
A26: Región Eje Cafetero - Antioquia | B26: 05 | C26: ANTIOQUIA | D26: =+E26&F26 -> 05129 | E26: 05 | F26: 129 | G26: Caldas | H26: Caldas 05129
A27: Región Eje Cafetero - Antioquia | B27: 05 | C27: ANTIOQUIA | D27: =+E27&F27 -> 05134 | E27: 05 | F27: 134 | G27: Campamento | H27: Campamento 05134
A28: Región Eje Cafetero - Antioquia | B28: 05 | C28: ANTIOQUIA | D28: =+E28&F28 -> 05138 | E28: 05 | F28: 138 | G28: Cañasgordas | H28: Cañasgordas 05138
A29: Región Eje Cafetero - Antioquia | B29: 05 | C29: ANTIOQUIA | D29: =+E29&F29 -> 05142 | E29: 05 | F29: 142 | G29: Caracolí | H29: Caracolí 05142
A30: Región Eje Cafetero - Antioquia | B30: 05 | C30: ANTIOQUIA | D30: =+E30&F30 -> 05145 | E30: 05 | F30: 145 | G30: Caramanta | H30: Caramanta 05145
A31: Región Eje Cafetero - Antioquia | B31: 05 | C31: ANTIOQUIA | D31: =+E31&F31 -> 05147 | E31: 05 | F31: 147 | G31: Carepa | H31: Carepa 05147
A32: Región Eje Cafetero - Antioquia | B32: 05 | C32: ANTIOQUIA | D32: =+E32&F32 -> 05150 | E32: 05 | F32: 150 | G32: Carolina | H32: Carolina 05150
... A116: Región Eje Cafetero - Antioquia | B116: 05 | C116: ANTIOQUIA | D116: =+E116&F116 -> 05756 | E116: 05 | F116: 756 | G116: Sonsón | H116: Sonsón 05756
A117: Región Eje Cafetero - Antioquia | B117: 05 | C117: ANTIOQUIA | D117: =+E117&F117 -> 05086 | E117: 05 | F117: 086 | G117: Belmira | H117: Belmira 05086
A118: Región Eje Cafetero - Antioquia | B118: 05 | C118: ANTIOQUIA | D118: =+E118&F118 -> 05665 | E118: 05 | F118: 665 | G118: San Pedro de Uraba | H118: San Pedro de Uraba 05665
A119: Región Eje Cafetero - Antioquia | B119: 05 | C119: ANTIOQUIA | D119: =+E119&F119 -> 05042 | E119: 05 | F119: 042 | G119: Santafé de Antioquia | H119: Santafé de Antioquia 05042
A120: Región Eje Cafetero - Antioquia | B120: 05 | C120: ANTIOQUIA | D120: =+E120&F120 -> 05686 | E120: 05 | F120: 686 | G120: Santa Rosa de Osos | H120: Santa Rosa de Osos 05686
A121: Región Eje Cafetero - Antioquia | B121: 05 | C121: ANTIOQUIA | D121: =+E121&F121 -> 05647 | E121: 05 | F121: 647 | G121: San Andrés de Cuerquía | H121: San Andrés de Cuerquía 05647
A122: Región Eje Cafetero - Antioquia | B122: 05 | C122: ANTIOQUIA | D122: =+E122&F122 -> 05873 | E122: 05 | F122: 873 | G122: Vigía del Fuerte | H122: Vigía del Fuerte 05873
A123: Región Eje Cafetero - Antioquia | B123: 05 | C123: ANTIOQUIA | D123: =+E123&F123 -> 05658 | E123: 05 | F123: 658 | G123: San José de La Montaña | H123: San José de La Montaña 05658
A124: Región Eje Cafetero - Antioquia | B124: 05 | C124: ANTIOQUIA | D124: =+E124&F124 -> 05659 | E124: 05 | F124: 659 | G124: San Juan de Urabá | H124: San Juan de Urabá 05659
A125: Región Eje Cafetero - Antioquia | B125: 05 | C125: ANTIOQUIA | D125: =+E125&F125 -> 05148 | E125: 05 | F125: 148 | G125: El Carmen de Viboral | H125: El Carmen de Viboral 05148
A126: Región Eje Cafetero - Antioquia | B126: 05 | C126: ANTIOQUIA | D126: =+E126&F126 -> 05649 | E126: 05 | F126: 649 | G126: San Carlos | H126: San Carlos 05649
A127: Región Caribe | B127: 08 | C127: ATLÁNTICO | D127: =+E127&F127 -> 08001 | E127: 08 | F127: 001 | G127: Barranquilla | H127: Barranquilla 08001
A128: Región Caribe | B128: 08 | C128: ATLÁNTICO | D128: =+E128&F128 -> 08078 | E128: 08 | F128: 078 | G128: Baranoa | H128: Baranoa 08078
A129: Región Caribe | B129: 08 | C129: ATLÁNTICO | D129: =+E129&F129 -> 08141 | E129: 08 | F129: 141 | G129: Candelaria | H129: Candelaria 08141
...
