Workbook
Name tdRepliesUniqueIdentifierCol_lnkRepliesUniqueIdentifierViewLink_14: CONSOLIDADO!#REF!

Sheet CONSOLIDADO
B3: FORMATO DE EVALUACIÓN FONDO DE DESARROLLO LOCAL DE SAN CRISTOBAL
B4: EVALUACIÓN CONDICONES DE EXPERIENCIA Y REQUISITOS TÉCNICOS | D4: FDLSC-MIC-022-2025
B5: NOMBRE DE PROPONENTE | C5: (1) Condiciones de Experiencia HABILITADO / NO HABILITADO | D5: (2) Requisitos Técnicos HABILITADO / NO HABILITADO | E5: Consolidado HABILITADO / NO HABILITADO
B6: NOSTOS COMPANY | C6: HABILITADO | D6: NO HABILITADO | E6: RECHAZADO
B7: FUNDACION SOCIAL HORMIGUITA | C7: NO HABILITADO | D7: NO HABILITADO | E7: RECHAZADO
B8: CEDEINCO | C8: HABILITADO | D8: HABILITADO | E8: HABILITADO
B9: INPROHC SAS | C9: NO HABILITADO | D9: NO HABILITADO | E9: RECHAZADO
B10: CASTECK | C10: HABILITADO | D10: NO HABILITADO | E10: RECHAZADO
B14: Bogotá D. C.29 /12/2025
C20: Firma
B21: GINA PAOLA YARA PALENCIA Evaluador Técnico

Sheet (1) CONDICIONES EXPERIENCIA
B2: REQUISITOS HABILITANTES DE CONDICIONES DE EXPERIENCIA | J2: =CONSOLIDADO!D4 -> FDLSC-MIC-022-2025
B4: OBJETO | C4: CONTRATAR LA ADQUISICIÓN DE IMPLEMENTOS DE SEGURIDAD PERSONAL Y APOYO OPERATIVO PARA FUNCIONARIOS Y CONTRATISTAS DE LA ALCALDÍA LOCAL DE SAN CRISTÓBAL
B5: EXPERIENCIA DEL PROPONENTE | C5: con el fin de garantizar la idoneidad del contratista, el área técnica establece como requisito habilitante técnico que los proponentes acrediten experiencia en la celebración y ejecución de TRES (3) CONTRATOS ejecutado y terminado a la fecha de cierre del presente proceso, que comprenda el suministro de elementos de protección personal (EPP) o similar al objeto del presente proceso de contratación. Cuya sumatoria sea por un valor igual o superior al presupuesto oficial expresado en S.M.M.L.V.
B6: PRESUPUESTO OFICIAL EN PESOS >= A: | C6: 62009348 | F6: PRESUPUESTO OFICIAL EN SMMLV >= A: | H6: =(C6/1423500) -> 43.561186
B8: =CONSOLIDADO!B6 -> NOSTOS COMPANY | F8: FORMATO DE EXPERIENCIA (CUMPLE/ NO CUMPLE) | J8: N/A
B10: 1. Nombre o razón social del contratante. | C10: 2. Nombre o razón social del contratista. | D10: 3. Número del contrato. | E10: 4. Objeto del contrato | F10: 5. Valor del contrato SMMLV | G10: 6. Valor en pesos | H10: 7. Consecutivo RUP | I10: RESULTADO CUMPLE / NO CUMPLE | J10: OBSERVACIONES
B11: INVIMA | C11: AMERICANA CORP SAS | E11: ADQUISICION DE ELEMENTOS DE EPP DESTINADOS PARA FUNCIONARIOS DEL INVIMA QUE LABORAN EN DIFERENTES AREAS DEL PAIS | F11: =G11/616000 -> 233.76623 | G11: 144000000 | H11: N/A | I11: CUMPLE
B12: COTA | C12: AMERICANA CORP SAS | D12: 665-2015 | E12: COMPRA DE ELEMENTOS PARA ATENCION Y PREVENCION DE DESASTRES DEL MUNICIPIO DE COTA CUNDINAMARCA | F12: =G12/644350 -> 620.78063 | G12: 400000000 | H12: N/A | I12: CUMPLE
B13: SECRETARIA DISTRITAL DE SEGURIDAD, CONVIVENCIA Y JUSTICIA | C13: AMERICANA CORP SAS | D13: 1789-2020 | E13: ADQUISICION DE ELEMENTOS Y BIOSEGURIDAD PARA LA POLICIA DE BOGOTA Y LOS INVESTIGADORES DE APOYO QUINCY | F13: =G13/908526 -> 2201.367 | G13: 1999999173 | H13: N/A | I13: CUMPLE
B14: SUMATORIA DEL VALOR CONTRATOS QUE ACREDITAN LA EXPERIENCIA REQUERIDA | F14: =F13+F12+F11 -> 3055.9139 | G14: RESULTADO: HABILITADO / NO HABILITADO | J14: HABILITADO
B15: OBSERVACIÓN RESULTADO DE EVALUACIÓN
B17: =CONSOLIDADO!B7 -> FUNDACION SOCIAL HORMIGUITA | F17: FORMATO DE EXPERIENCIA (CUMPLE/ NO CUMPLE) | J17: N/A
B19: 1. Nombre o razón social del contratante. | C19: 2. Nombre o razón social del contratista. | D19: 3. Número del contrato. | E19: 4. Objeto del contrato | F19: 5. Valor del contrato SMMLV | G19: VALOR EN PESOS | H19: 7. Consecutivo RUP | I19: RESULTADO CUMPLE / NO CUMPLE | J19: OBSERVACIONES
B20: BIOINSUMOS SAS | C20: FUNDACION SOCIAL HORMIGUITA | D20: 015-2025 | E20: COMPRA Y SUMINISTRO DE ELEMENTOS DE DOTACIÓN, DESCANSO, ASEO Y VESTUARIO DESTINADOS AL APOYO LOGÍSTICO Y DE BIENESTAR DE LA POBLACIÓN PRIVADA DE LA LIBERTAD (PPL), | F20: =G20/1423500 -> 59.009484 | G20: 84000000 | H20: N/A | I20: CUMPLE
B23: SUMATORIA DEL VALOR CONTRATOS QUE ACREDITAN LA EXPERIENCIA REQUERIDA | F23: =SUM(F20:F20) -> 59.009484 | G23: RESULTADO: HABILITADO / NO HABILITADO | J23: NO HABILITADO
B24: OBSERVACIÓN RESULTADO DE EVALUACIÓN | F24: NO APORTA SUBSANACION AL RESPECTO, POR ELLO DENTRO DEL FACTOR DE EXPERIENCIA PROCEDERA A CALIFICARSE COMO RECHAZADO.
B26: =CONSOLIDADO!B8 -> CEDEINCO | F26: FORMATO DE EXPERIENCIA (CUMPLE/ NO CUMPLE) | J26: N/A
B28: 1. Nombre o razón social del contratante. | C28: 2. Nombre o razón social del contratista. | D28: 3. Número del contrato. | E28: 4. Objeto del contrato | F28: 5. Valor del contrato SMMLV | G28: VALOR EN PESOS | H28: 7. Consecutivo RUP | I28: RESULTADO CUMPLE / NO CUMPLE | J28: OBSERVACIONES
B29: BUILT FUTURE | C29: CEDEINCO | D29: 54-2019 | E29: Suministro de elementos de Proteccion Personal (EPP)para preservar la proteccion de la nuestra planta de personal durante la emergencia COVID-19 | F29: =G29/877803 -> 176.5772 | G29: 155000000 | H29: N/A | I29: CUMPLE
B30: FRADES | C30: CEDEINCO | D30: 114 | E30: DQUISICION DE ELEMENTOS DE PROTECCION PERSONAL (EPP) PARA PROTECCION DE LOS EMPLEADOS DE LA FUNDACION DURANTE LA EMERGENCIA DEL COVID 19 | F30: 114 | G30: 100000000 | H30: N/A | I30: CUMPLE
B31: FRADES | C31: CEDEINCO | D31: 181 | E31: ADQUISICION DE ELEMENTOS DE PROTECCION PERSONAL (EPP) PARA LOS EMPLEADOS DE LA FUNDACION DURANTE EL AÑO 2019 | F31: 181 | G31: 150000000 | H31: N/A | I31: CUMPLE
B32: SUMATORIA DEL VALOR CONTRATOS QUE ACREDITAN LA EXPERIENCIA REQUERIDA | F32: =SUM(F29:F29) -> 176.5772 | G32: RESULTADO: HABILITADO / NO HABILITADO | J32: HABILITADO
B33: OBSERVACIÓN RESULTADO DE EVALUACIÓN
B36: =CONSOLIDADO!B9 -> INPROHC SAS | F36: FORMATO DE EXPERIENCIA (CUMPLE/ NO CUMPLE) | J36: N/A
B38: 1. Nombre o razón social del contratante. | C38: 2. Nombre o razón social del contratista. | D38: 3. Número del contrato. | E38: 4. Objeto del contrato | F38: 5. Valor del contrato SMMLV | G38: VALOR EN PESOS | H38: 7. Consecutivo RUP | I38: RESULTADO CUMPLE / NO CUMPLE | J38: OBSERVACIONES
B39: AGENCIA DE FUERZAS MILITARES DE CALI | C39: INPROHC SAS | E39: ADQUISICIÓN DE EPP PARA LOS FUNCIONARIOS QUE CONFORMAN LA PLANTA DE PERSONAL DE LOS CATERING, CONDUCTORES, AUXILIARES DE CAD&S Y SOLDADOS DE APOYO A LOS CATERING DE LA REGIONAL SUROCCIDENTE" | F39: 71 | G39: 64539360 | H39: N/A | I39: CUMPLE
B40: INDUMIL | C40: INPROHC SAS | E40: ADQUICIÓN DE ELEMENTOS DE PROTECCIÓN PERSONAL | F40: 56 | G40: 484848926 | H40: N/A | I40: CUMPLE
B42: SUMATORIA DEL VALOR CONTRATOS QUE ACREDITAN LA EXPERIENCIA REQUERIDA | F42: =SUM(F39:F41) -> 127 | G42: RESULTADO: HABILITADO / NO HABILITADO | J42: NO HABILITADO
B43: OBSERVACIÓN RESULTADO DE EVALUACIÓN | F43: NO APORTA SUBSANACION AL RESPECTO, POR ELLO DENTRO DEL FACTOR DE EXPERIENCIA PROCEDERA A CALIFICARSE COMO RECHAZADO.
B45: =CONSOLIDADO!B10 -> CASTECK | F45: FORMATO DE EXPERIENCIA (CUMPLE/ NO CUMPLE) | J45: N/A
B47: 1. Nombre o razón social del contratante. | C47: 2. Nombre o razón social del contratista. | D47: 3. Número del contrato. | E47: 4. Objeto del contrato | F47: 5. Valor del contrato SMMLV | G47: VALOR EN PESOS | H47: 7. Consecutivo RUP | I47: RESULTADO CUMPLE / NO CUMPLE | J47: OBSERVACIONES
B48: EMPRESA MUNICIPAL DE ACUEDUCTO ALCANTARILLADO Y ASEO DE FUNZA EMAAF E S P | C48: CASTECK | D48: 2023-092 | E48: SUMINISTROS DE ELEMENTOS DE SEGURIDAD INDUSTRIAL PARA LOS TRABAJADORES DE LA EMAAF E.S.P PARA LA VIGENCIA DE 2023 | F48: 162.86 | G48: 188924610 | H48: N/A | I48: CUMPLE
B49: AGENCIA NACIONAL DE MINERIA | C49: CASTECK | D49: 685-2024 | E49: ADQUIRIR ELEMENTOS DE PROTECCIÓN PERSONAL Y DE BIOSEGURIDAD, PREHOSPITALARIOS E INSUMOS PARA LA ATENCIÓN DE EMERGENCIAS MINERAS Y ACTIVIDADES DE FORMACIÓN EN SALVAMENTO MINERO LOTE 1Y LOTE 2 | F49: 383.63 | G49: 498731170 | H49: N/A | I49: CUMPLE
B50: FONDO DE DESARROLLO LOCAL DE SAN CRISTÓBAL | C50: CASTECK | D50: 654-2022 | E50: “LA ADQUISICIÓN DE CHAQUETAS Y OTROS ELEMENTOS AFINES PARA PROMOVER Y FORTALECER LA IMAGEN INSTITUCIONAL EN EL DESARROLLO DE DIFERENTES ACTIVIDADES EN EL MARCO DEL PLAN DE DESARROLLO 2021-2024, DE CONFORMIDAD CON LAS CONDICIONES, CANTIDADES Y ESPECIFICACIONES TECNICAS ESTABLECIDAS.” | F50: 276.02 | G50: 160100500 | H50: N/A | I50: CUMPLE
B51: SUMATORIA DEL VALOR CONTRATOS QUE ACREDITAN LA EXPERIENCIA REQUERIDA | F51: =SUM(F48:F50) -> 822.51 | G51: RESULTADO: HABILITADO / NO HABILITADO | J51: HABILITADO
B52: OBSERVACIÓN RESULTADO DE EVALUACIÓN

Sheet (2) REQUISITOS TECNICOS
B2: REQUISITOS HABILITANTES TÉCNICOS | G2: =CONSOLIDADO!D4 -> FDLSC-MIC-022-2025
B3: NOMBRE DE PROPONENTE | C3: CUMPLIMIENTO DE ESPECIFICACIONES TECNICAS formato 11 | D3: Certificación de cumplimiento de normas técnicas Fichas tecnicas | E3: Garantía de calidad de los productos | F3: Compromiso de entrega y logística | G3: RESULTADO | H3: OBSERVACIONES
C4: CUMPLE /NO CUMPLE | G4: HABILITADO/ NO HABILITADO
B5: =CONSOLIDADO!B6 -> NOSTOS COMPANY | C5: CUMPLE | D5: SUBSANA | E5: NO ES SUBSANADO POR EL OFERENTE | F5: NO ES SUBSANADO POR EL OFERENTE | G5: NO HABILITADO | H5: NO ES SUBSANADO LO REQUERIDO POR PARTE DEL OFERENTE
B6: =CONSOLIDADO!B7 -> FUNDACION SOCIAL HORMIGUITA | C6: CUMPLE | D6: NO APORTA | E6: NO ES SUBSANADO POR EL OFERENTE | F6: NO ES SUBSANADO POR EL OFERENTE | G6: NO HABILITADO | H6: NO SE RECIBIO SUBSANACION DE DICHO COMPONENTE REQUERIDO
B7: =CONSOLIDADO!B8 -> CEDEINCO | C7: CUMPLE | D7: SUBSANA | E7: SUBSANA | F7: SUBSANA | G7: HABILITADO
B8: =CONSOLIDADO!B9 -> INPROHC SAS | C8: CUMPLE | D8: NO SE RECIBIO SUBSANACION DE DICHO COMPONENTE REQUERIDO | E8: CUMPLE | F8: CUMPLE | G8: NO HABILITADO | H8: NO SE RECIBIO SUBSANACION DE DICHO COMPONENTE REQUERIDO
B9: =CONSOLIDADO!B10 -> CASTECK | C9: CUMPLE | D9: NO SE RECIBIO SUBSANACION DE DICHO COMPONENTE REQUERIDO | E9: CUMPLE | F9: CUMPLE | G9: NO HABILITADO | H9: NO SE RECIBIO SUBSANACION DE DICHO COMPONENTE REQUERIDO
