Workbook
Name contratación: 'IDENTIFICACION Y ANALISIS'!$B$41:$B$45
Name ejecución: 'IDENTIFICACION Y ANALISIS'!$B$47:$B$70
Name OPCIONES: 'ASIGNACION Y TRATAMIENTO'!$B$69:$B$71
Name planeación: 'IDENTIFICACION Y ANALISIS'!$B$19:$B$29
Name selección: 'IDENTIFICACION Y ANALISIS'!$B$31:$B$37

Sheet CONTEXTO
C2: MATRIZ DE RIESGOS EN CONTRATACIÓN | F2: Código: GCO-GCI-F164 Versión: 02 Vigencia: 01 de diciembre de 2022 Caso HOLA: 280117
B6: ESTABLECER EL CONTEXTO
B7: El punto inicial es identificar el contexto en el cual interactúa la Entidad Estatal para conocer el ambiente social, económico y político, e identificar (i) sus propios Riesgos; (ii) los Riesgos comunes a sus Procesos de Contratación; y (iii) los Riesgos del Proceso de Contratación en particular. (Aplica igual para contratos interadministrativos) En este paso la Entidad Estatal debe identificar los aspectos que se mencionan a continuación y los posibles efectos adversos que estos pueden generar.
B8: Objeto del Proceso de Contratación:Prestar servicios para atender a personas con discapacidad y sus cuidadores mediante el desarrollo de actividades complementarias en salud, así como ejecutar acciones orientadas al fortalecimiento del bienestar físico, nutricional y oral de la comunidad, en el marco de la estrategia territorial de salud y del Proyecto 2543 “Chapinero cuida tu vida: acciones integrales en salud y bienestar comunitario”
B9: Partícipes del Proceso de Contratación: Agentes externos (Organismos de control, veedurías ciudadanas), agentes internos (supervisores, funcionarios y demás usuarios).
B10: Ciudadanía que se beneficia del Proceso de Contratación: Agentes internos (funcionarios, pasantes) y externos (contratistas, visitantes y usuarios externos en general)
B11: Capacidad de la Entidad Estatal entendida como la disponibilidad de recursos y conocimientos para el Proceso de Contratación: La disponibilidad de la Entidad de sus recursos y el conocimiento de su equipo humano se refleja en los diferentes funcionarios que participarán en las diversas etapas del proceso de selección: participan las áreas que requieren los procesos de contratación (Etapa de Planeación), Dirección de Contratación, Comité Evaluador (Etapa de selección), Dirección de Contratación (Etapa de contratación) y la supervisión y apoyos a la misma (Estapa de Ejecución).
B12: Suficiencia del presupuesto oficial del Proceso de Contratación: De acuerdo al Plan Anual de Adquisiciones se deben estimar los recursos necesarios para el desarrollo del proceso de la contratación, el cual tendrá el soporte presupuestal suficiente para su desarrollo.
B13: Condiciones geográficas y de acceso del lugar en el cual se debe cumplir el objeto del Proceso de Contratación: El suministro, obra o servicio se prestará principalmente en las Sedes de la Entidad, o en el lugar indicado en los estudios previos del proceso.
B14: Entorno socio ambiental: Si aplican
B15: Condiciones políticas: Si aplican
B16: Factores ambientales.
B17: Sector del objeto del Proceso de Contratación y su mercado.
... B19: Experiencia propia y de otras Entidades Estatales en Procesos de Contratación del mismo tipo.

Sheet IDENTIFICACION Y ANALISIS
C2: MATRIZ DE RIESGOS DE CONTRATACIÓN | F2: Código: GCO-GCI-F164 Versión: 02 Vigencia: 01 de diciembre de 2022 Caso HOLA: 280117
B6: DEFINICIONES
B7: RIESGO: Evento que puede generar efectos adversos y de distinta magnitud en el logro de los objetivos del Proceso de Contratación o en la ejecución de un contrato RIESGOS PREVISIBLES: Son los posibles hechos o circunstancias que por la naturaleza del contrato y de la actividad a ejecutar es factible su ocurrencia. ETAPA DE PLANEACIÓN: Está comprendida desde el momento en que se identifican las necesidades que debe satisfacer la Secretaría Distrital de Gobierno y los Fondos de Desarrollo Local, a través del abastecimiento de bienes, obras o servicios, la elaboración del Plan Anual de Adquisiciones y la estructuración de los documentos y estudios previos. ETAPA DE SELECCIÓN: Está comprendida entre el acto de Apertura del Proceso de Contratación y la Adjudicación o la declaración de desierto del Proceso de Contratación ETAPA DE CONTRATACIÓN: Una vez adjudicado el contrato objeto del Proceso de Contratación, inicia la etapa para la celebración del contrato y el cumplimiento de los requisitos para de perfeccionamiento y ejecución. ETAPA DE EJECUCIÓN: Inicia una vez cumplidos los requisitos previstos para iniciar la ejecución del contrato respectivo y termina con el vencimiento del plazo del contrato o la fecha de liquidación si hay lugar a ella. RIESGO GENERAL: Es un riesgo de todos los procesos de contratación adelantados por la Entidad Estatal, por lo cual está presente en toda su actividad contractual. RIEGO ESPECIFICO: Es un riesgo propio del proceso de contratación objeto de análisis. RIESGOS ECONÓMICOS: Son los derivados del comportamiento del mercado, tales como la fluctuación de los precios de los insumos, desabastecimiento y especulación de los mismos, entre otros. RIESGOS SOCIALES O POLÍTICOS: son los derivados de los cambios de las políticas gubernamentales y de cambios en las condiciones sociales que tengan impacto en la ejecución del contrato. RIESGOS OPERACIONALES: Son los asociados a la operatividad del contrato, tales como la suficiencia del presupuesto oficial, del plazo o los derivados de procesos, procedimientos, parámetros, sistemas de información y tecnológicos, equipos humanos o técnicos inadecuados o insuficientes. RIESGOS FINANCIEROS: Son (i) el riesgo de consecución de financiación o riesgo de liquidez para obtener recursos para cumplir con el objeto del contrato, y (ii) el riesgo de las condiciones financieras establecidas para la obtención de los recursos, tales como plazos, tasas, garantías, contragarantías, y refinanciaciones, entre otros. RIESGOS REGULATORIOS: Derivados de cambios regulatorios o reglamentarios que afecten la ecuación económica del contrato. RIESGOS DE LA NATURALEZA: Son los eventos naturales previsibles en los cuales no hay intervención humana que puedan tener impacto en la ejecución del contrato, por ejemplo los temblores, inundaciones, lluvias, sequías, entre otros. RIESGOS AMBIENTALES: Son los derivados de las obligaciones legales o reglamentarias de carácter ambiental, así como de las licencias, planes de manejo o de permisos y autorizaciones ambientales, incluyendo tasas retributivas y compensatorias, obligaciones de mitigación, tareas de monitoreo y control, entre otras. RIESGOS TECNOLÓGICOS: Son los derivados de fallas en los sistemas de comunicación de voz y de datos, suspensión de servicios públicos, nuevos desarrollos tecnológicos o estándares que deben ser tenidos en cuenta para la ejecución del contrato, obsolescencia tecnológica.
B15: INSTRUCCIONES PARA LA IDENTIFICACIÓN, ANALISIS, EVALUACIÓN , ASIGNACIÓN Y TRATAMIENTO DE RIESGOS EN LA CONTRATACIÓN
B16: 1) Identifique los riesgos previsibles que le apliquen al objeto contractual que se adelante. Los relacionados a continuación se establecen de manera general y como proforma. No obstante, si del objeto contractual se identifican otros riesgos diferentes a los aquí determinados, por favor reemplace el texto de la casilla teniendo en cuenta la etapa del proceso. Así mismo, seleccione la clase, fuente y el tipo (Operacional, Económico, Sociales o Políticos, Regulatorios, Financieros, Tecnológicos, De la naturaleza, Ambientales) 2) Continúe en la hoja de "EVALUACIÓN" (SI EXISTEN DUDAS CONCEPTUALES PARA LA ELABORACIÓN DE LA MATRIZ DE RIESGO CONSULTE EL MANUAL PARA LA IDENTIFICACIÓN Y COBERTURA DEL RIESGO EN LOS PROCESOS DE CONTRATACIÓN EXPEDIDO POR COLOMBIA COMPRA EFICIENTE Y LA GUÍA DE RIESGOS PREVISIBLES CONTRACTUALES, EXPEDIDA POR LA VEEDURÍA DISTRITAL)
C17: ETAPAS | D17: CLASE | E17: FUENTE | F17: TIPO
C18: PLANEACIÓN
B19: Inadecuada escogencia de la modalidad de contratación | D19: General | E19: Interno | F19: Operacionales
B20: Requisitos habilitantes inapropiados para el proceso de selección | D20: General | E20: Interno | F20: Operacionales
B21: Inadecuado análisis económico estimativo del valor del contrato | D21: General | E21: Interno | F21: Economicos
B22: Inadecuada descripción del bien o servicio requerido | D22: General | E22: Interno | F22: Operacionales
B23: Inadecuada elaboración de estudios y diseños | D23: General | E23: Interno | F23: Operacionales
B24: Requisitos habilitantes que impidan la selección objetiva | D24: General | E24: Interno | F24: Operacionales
B25: Falta de profundidad en el estudio de sector no identificandose claramente aspectos de oferta y demanda | D25: General | E25: Interno | F25: Economicos
B26: Ausencia de fundamentación de la justificación y conveniencia de la contratación | D26: General | E26: Interno | F26: Operacionales
B27: Inadecuada identificación de las condiciones contractuales | D27: General | E27: Interno | F27: Operacionales
B28: No aprobación o demoras en la expedición vigencias futuras | D28: Estatal | E28: Interno | F28: Operacionales
B29: Apertura de procesos sin disponibilidad presupuestal | D29: Estatal | E29: Interno | F29: Operacionales
C30: SELECCIÓN
B31: Inadecuada evaluación de las ofertas y/o verificación de requisitos habilitantes | D31: General | E31: Interno | F31: Operacionales
B32: Inadecuado manejo administrativo del proceso contractual | D32: General | E32: Interno | F32: Operacionales
B33: Falta de claridad en la elaboración de los actos administrativos | D33: General | E33: Interno | F33: Operacionales
B34: Contestación inoportuna a todas las observaciones formuladas a los documentos de la contratación | D34: General | E34: Interno | F34: Operacionales
B35: No publicación de la documentación del proceso de selección en el SECOP | D35: General | E35: Interno | F35: Operacionales
B36: Confabulacion de los proponentes (Colusión) | D36: General | E36: Externo | F36: Operacionales
B37: Selección de ofertas con precios artificialmente bajos. | D37: General | E37: Interno | F37: Operacionales
B38: Adjudicar el contrato a un proponente que pueda suministrar bienes de mala calidad o que preste servicios de forma incorrecta, debido a la presentación de ofertas artificialmente baja. | D38: General | E38: Interno | F38: Operacionales
B39: Declaratoria Desierta del Proceso de Contratación, por que los oferentes no cumplen la totalidad de Requisitos Habilitantes o por encontrarse incursos en alguna inhabilidad o incompatibilidad | D39: General | E39: Externo | F39: Operacionales
C40: CONTRATACIÓN
B41: Riesgo de que no se firme el contrato. | D41: General | E41: Interno | F41: Operacionales
B42: Falta de constitución o constitución tardía de la garantía única. Aceptación de garantías que no se ajustan a lo contemplado en el contrato | D42: General | E42: Interno | F42: Operacionales
B43: Falta de solicitud o solicitud tardía del registro presupuestal | D43: Estatal | E43: Interno | F43: Operacionales
B44: No publicación de la documentación del proceso de selección en el SECOP | D44: General | E44: Interno | F44: Operacionales
B45: Presentación de reclamos de terceros sobre la selección del oferente que retrasen el perfeccionamiento del contrato. | D45: General | E45: Externo | F45: Operacionales
C46: EJECUCIÓN
B47: Fluctuaciones del valor de la moneda | D47: General | E47: Externo | F47: Economicos
B48: Cambio de precios en factores de producción. | D48: General | E48: Externo | F48: Economicos
B49: Variación de los precios del mercado | D49: General | E49: Externo | F49: Economicos
B50: Factores políticos o macroeconómicos. | D50: General | E50: Externo | F50: Sociales o Políticos
B51: Cancelación de pedidos. | D51: Especifico | E51: Interno | F51: Economicos
...

Sheet EVALUACION
C2: MATRIZ DE RIESGOS DE CONTRATACIÓN | K2: Código: GCO-GCI-F164 Versión: 02 Vigencia: 01 de diciembre de 2022 Caso HOLA: 280117
B6: Objeto Contractual: “Prestar servicios para atender a personas con discapacidad y sus cuidadores mediante el desarrollo de actividades complementarias en salud, así como ejecutar acciones orientadas al fortalecimiento del bienestar físico, nutricional y oral de la comunidad, en el marco de la estrategia territorial de salud y del Proyecto 2543 “Chapinero cuida tu vida: acciones integrales en salud y bienestar comunitario”
B7: INSTRUCCIONES PARA LA IDENTIFICACIÓN, ANALISIS, EVALUACIÓN , ASIGNACIÓN Y TRATAMIENTO DE RIESGOS EN LA CONTRATACIÓN
B8: 1) Diligencie el objeto contractual y seleccione la(s) etapas y los riesgos que aplican al objeto contractual, de acuerdo a lo definido en la hoja de "IDENTIFICACIÓN Y ANÁLISIS"
B9: 2) Describa las consecuencias de la ocurrencia del Riesgo/evento.
B10: 3) Asigne la probabilidad de ocurrencia del riesgo, de conformidad con la tabla de probabilidad y la valoración del riesgo (Cualitativa o Monetaria)
B11: 4) Asigne el impacto que generaría la materialización del riesgo, de conformidad con la tabla de impacto y la valoración del riesgo (Cualitativa o Monetaria)
B12: 5) Al realizar las anteriores actividades se obtendrá la calificación total y la valoración del riesgo (prioridad).
B13: 6) Continúe en la hoja de "EVALUACIÓN DE CONTROLES"
B15: CALIFICACIÓN | H15: Cualitativa
B16: ETAPA | C16: Descripción (Que puede pasar y, cómo puede ocurrir) | H16: Consecuencias de la ocurrencia del evento | I16: Probabilidad de Ocurrencia | J16: Impacto | K16: Calificación Total | L16: Prioridad
B17: PLANEACIÓN | C17: ='IDENTIFICACION Y ANALISIS'!B19 -> Inadecuada escogencia de la modalidad de contratación | H17: Retrasos prolongados en el inicio del proceso (por impugnaciones o necesidad de corrección). | I17: 2 | J17: 4 | K17: =I17+J17 -> 6 | L17: =IF(K17<=4,"BAJO",IF(K17=5,"MEDIO",IF(K17=6,"ALTO",IF(K17=7,"ALTO","EXTREMO")))) -> ALTO
B18: PLANEACIÓN | C18: ='IDENTIFICACION Y ANALISIS'!B20 -> Requisitos habilitantes inapropiados para el proceso de selección | H18: Reducción de la pluralidad de oferentes a la Subred Norte para contratar kist, refrigerios y las activiades de cuidadores, limitando la competencia y, potencialmente, dejando fuera a operadores con la mejor experiencia en prevención y trabajo comunitario en Chapinero. | I18: 1 | J18: 3 | K18: =+I18+J18 -> 4 | L18: =IF(K18<=4,"BAJO",IF(K18=5,"MEDIO",IF(K18=6,"ALTO",IF(K18=7,"ALTO","EXTREMO")))) -> BAJO
B19: PLANEACIÓN | C19: ='IDENTIFICACION Y ANALISIS'!B21 -> Inadecuado análisis económico estimativo del valor del contrato | H19: Insuficiencia presupuestal que obliga a reducir el alcance, el número de profesionales (psicólogos, trabajadores sociales) o la cobertura del programa, comprometiendo su calidad. | I19: 2 | J19: 3 | K19: =+I19+J19 -> 5 | L19: =IF(K19<=4,"BAJO",IF(K19=5,"MEDIO",IF(K19=6,"ALTO",IF(K19=7,"ALTO","EXTREMO")))) -> MEDIO
B20: PLANEACIÓN | C20: ='IDENTIFICACION Y ANALISIS'!B22 -> Inadecuada descripción del bien o servicio requerido | H20: Contratación de servicios que no responden a las problemáticas locales específicas de Chapinero, lo que resulta en una intervención ineficaz para la población con discapacidad, sus cuidadores y personas en riesgo de malnutrición | I20: 4 | J20: 3 | K20: =+I20+J20 -> 7 | L20: =IF(K20<=4,"BAJO",IF(K20=5,"MEDIO",IF(K20=6,"ALTO",IF(K20=7,"ALTO","EXTREMO")))) -> ALTO
B21: PLANEACIÓN | C21: ='IDENTIFICACION Y ANALISIS'!B23 -> Inadecuada elaboración de estudios y diseños | H21: Documentos técnicos erróneos que fuerzan a realizar modificaciones contractuales y suspensiones durante la ejecución, afectando la continuidad de las activiades para personas con discapacidad, sus cuidadores y personas en riesgo de malnutirición. | I21: 2 | J21: 3 | K21: =+I21+J21 -> 5 | L21: =IF(K21<=4,"BAJO",IF(K21=5,"MEDIO",IF(K21=6,"ALTO",IF(K21=7,"ALTO","EXTREMO")))) -> MEDIO
B22: PLANEACIÓN | C22: ='IDENTIFICACION Y ANALISIS'!B24 -> Requisitos habilitantes que impidan la selección objetiva | H22: Adjudicación a un proponente que, a pesar de cumplir formalmente, carece de la idoneidad técnica o social para manejar personas con discapacidad, sus cuidadores y personas en riesgo de malnutirición | I22: 1 | J22: 3 | K22: =+I22+J22 -> 4 | L22: =IF(K22<=4,"BAJO",IF(K22=5,"MEDIO",IF(K22=6,"ALTO",IF(K22=7,"ALTO","EXTREMO")))) -> BAJO
B23: PLANEACIÓN | C23: ='IDENTIFICACION Y ANALISIS'!B25 -> Falta de profundidad en el estudio de sector no identificandose claramente aspectos de oferta y demanda | H23: Diseño de un programa que desconoce la realidad del mercado, lo que puede llevar a una demanda insatisfecha de servicios o a la falta de profesionales idóneos para la ejecución. | I23: 3 | J23: 3 | K23: =+I23+J23 -> 6 | L23: =IF(K23<=4,"BAJO",IF(K23=5,"MEDIO",IF(K23=6,"ALTO",IF(K23=7,"ALTO","EXTREMO")))) -> ALTO
B24: PLANEACIÓN | C24: ='IDENTIFICACION Y ANALISIS'!B26 -> Ausencia de fundamentación de la justificación y conveniencia de la contratación | H24: Cuestionamientos legales y disciplinarios que pueden resultar en la suspensión definitiva del proceso, perdiéndose el recurso y la oportunidad de intervención social. | I24: 2 | J24: 2 | K24: =+I24+J24 -> 4 | L24: =IF(K24<=4,"BAJO",IF(K24=5,"MEDIO",IF(K24=6,"ALTO",IF(K24=7,"ALTO","EXTREMO")))) -> BAJO
B25: PLANEACIÓN | C25: ='IDENTIFICACION Y ANALISIS'!B27 -> Inadecuada identificación de las condiciones contractuales | H25: Generación de controversias, litigios o incumplimientos que detienen la prestación del servicio o desincentivan la participación del contratista. | I25: 1 | J25: 2 | K25: =+I25+J25 -> 3 | L25: =IF(K25<=4,"BAJO",IF(K25=5,"MEDIO",IF(K25=6,"ALTO",IF(K25=7,"ALTO","EXTREMO")))) -> BAJO
B26: PLANEACIÓN | C26: ='IDENTIFICACION Y ANALISIS'!B28 -> No aprobación o demoras en la expedición vigencias futuras | H26: Imposibilidad de garantizar la continuidad de los programas a largo plazo, generando desconfianza en la comunidad y desmotivación en los equipos de trabajo. | I26: 3 | J26: 4 | K26: =+I26+J26 -> 7 | L26: =IF(K26<=4,"BAJO",IF(K26=5,"MEDIO",IF(K26=6,"ALTO",IF(K26=7,"ALTO","EXTREMO")))) -> ALTO
B27: PLANEACIÓN | C27: ='IDENTIFICACION Y ANALISIS'!B29 -> Apertura de procesos sin disponibilidad presupuestal | H27: Nulidad o anulación del proceso y potencial sanción, obligando a reiniciar la planeación y perdiendo tiempo valioso para la atención de la emergencia social. | I27: 3 | J27: 4 | K27: =+I27+J27 -> 7 | L27: =IF(K27<=4,"BAJO",IF(K27=5,"MEDIO",IF(K27=6,"ALTO",IF(K27=7,"ALTO","EXTREMO")))) -> ALTO
B28: SELECCIÓN | C28: ='IDENTIFICACION Y ANALISIS'!B31 -> Inadecuada evaluación de las ofertas y/o verificación de requisitos habilitantes | H28: Selección de un contratista inelegible o menos apto, poniendo en riesgo la calidad, legalidad y efectividad de los programas de prevención. | I28: 2 | J28: 3 | K28: =+I28+J28 -> 5 | L28: =IF(K28<=4,"BAJO",IF(K28=5,"MEDIO",IF(K28=6,"ALTO",IF(K28=7,"ALTO","EXTREMO")))) -> MEDIO
B29: SELECCIÓN | C29: ='IDENTIFICACION Y ANALISIS'!B32 -> Inadecuado manejo administrativo del proceso contractual | H29: Nulidad del proceso o sanciones, deteniendo la contratación y, por ende, la provisión de los servicios. | I29: 1 | J29: 3 | K29: =+I29+J29 -> 4 | L29: =IF(K29<=4,"BAJO",IF(K29=5,"MEDIO",IF(K29=6,"ALTO",IF(K29=7,"ALTO","EXTREMO")))) -> BAJO
B30: SELECCIÓN | C30: ='IDENTIFICACION Y ANALISIS'!B33 -> Falta de claridad en la elaboración de los actos administrativos | H30: Actos administrativos susceptibles de recursos y demandas que paralizan o dilatan la adjudicación del contrato. | I30: 1 | J30: 3 | K30: =+I30+J30 -> 4 | L30: =IF(K30<=4,"BAJO",IF(K30=5,"MEDIO",IF(K30=6,"ALTO",IF(K30=7,"ALTO","EXTREMO")))) -> BAJO
B31: SELECCIÓN | C31: ='IDENTIFICACION Y ANALISIS'!B34 -> Contestación inoportuna a todas las observaciones formuladas a los documentos de la contratación | H31: Demoras en la adjudicación que consumen el tiempo disponible para la ejecución del proyecto y reducen su duración efectiva. | I31: 2 | J31: 3 | K31: =+I31+J31 -> 5 | L31: =IF(K31<=4,"BAJO",IF(K31=5,"MEDIO",IF(K31=6,"ALTO",IF(K31=7,"ALTO","EXTREMO")))) -> MEDIO
B32: SELECCIÓN | C32: ='IDENTIFICACION Y ANALISIS'!B35 -> No publicación de la documentación del proceso de selección en el SECOP | H32: Violación del principio de transparencia, lo que puede acarrear la nulidad del contrato y sanciones al funcionario responsable. | I32: 1 | J32: 3 | K32: =+I32+J32 -> 4 | L32: =IF(K32<=4,"BAJO",IF(K32=5,"MEDIO",IF(K32=6,"ALTO",IF(K32=7,"ALTO","EXTREMO")))) -> BAJO
B33: SELECCIÓN | C33: ='IDENTIFICACION Y ANALISIS'!B36 -> Confabulacion de los proponentes (Colusión) | H33: Adjudicación con sobrecostos, lo que implica una pérdida de eficiencia en el uso de los recursos, llegando a menos beneficiarios. | I33: 3 | J33: 4 | K33: =+I33+J33 -> 7 | L33: =IF(K33<=4,"BAJO",IF(K33=5,"MEDIO",IF(K33=6,"ALTO",IF(K33=7,"ALTO","EXTREMO")))) -> ALTO
B34: SELECCIÓN | C34: ='IDENTIFICACION Y ANALISIS'!B37 -> Selección de ofertas con precios artificialmente bajos. | H34: Alto riesgo de incumplimiento o de terminación anticipada del contrato debido a la inviabilidad económica del contratista para mantener la calidad del servicio. | I34: 3 | J34: 4 | K34: =+I34+J34 -> 7 | L34: =IF(K34<=4,"BAJO",IF(K34=5,"MEDIO",IF(K34=6,"ALTO",IF(K34=7,"ALTO","EXTREMO")))) -> ALTO
B35: SELECCIÓN | C35: ='IDENTIFICACION Y ANALISIS'!B38 -> Adjudicar el contrato a un proponente que pueda suministrar bienes de mala calidad o que preste servicios de forma incorrecta, debido a la presentación de ofertas artificialmente baja. | H35: Los servicios de personas con discapacidad, sus cuidadores y personas en riesgo de malnutirición no son sofucientes y las metodologías no se aplican correctamente, fracasando el objetivo del proyecto. | I35: 2 | J35: 4 | K35: =+I35+J35 -> 6 | L35: =IF(K35<=4,"BAJO",IF(K35=5,"MEDIO",IF(K35=6,"ALTO",IF(K35=7,"ALTO","EXTREMO")))) -> ALTO
B36: SELECCIÓN | C36: ='IDENTIFICACION Y ANALISIS'!B39 -> Declaratoria Desierta del Proceso de Contratación, por que los oferentes no cumplen la totalidad de Requisitos Habilitantes o por encontrarse incursos en alguna inhabilidad o incompatibilidad | H36: Retraso grave o imposibilidad de ejecutar el proyecto, obligando a iniciar un nuevo proceso y dejando a la población sin la actividad programada. | I36: 3 | J36: 5 | K36: =+I36+J36 -> 8 | L36: =IF(K36<=4,"BAJO",IF(K36=5,"MEDIO",IF(K36=6,"ALTO",IF(K36=7,"ALTO","EXTREMO")))) -> EXTREMO
B37: CONTRATACIÓN | C37: {='IDENTIFICACION Y ANALISIS'!B41:C41} -> Riesgo de que no se firme el contrato. | D37: 0 | H37: Cierre del proceso y necesidad de una nueva selección, perdiendo la oportunidad de atención comunitaria programada. | I37: 1 | J37: 5 | K37: =+I37+J37 -> 6 | L37: =IF(K37<=4,"BAJO",IF(K37=5,"MEDIO",IF(K37=6,"ALTO",IF(K37=7,"ALTO","EXTREMO")))) -> ALTO
B38: CONTRATACIÓN | C38: {='IDENTIFICACION Y ANALISIS'!B42:C42} -> Falta de constitución o constitución tardía de la garantía única. Aceptación de garantías que no se ajustan a lo contemplado en el contrato | D38: 0 | H38: El contrato queda sin respaldo, imposibilitando a la entidad resarcirse en caso de incumplimiento, poniendo en riesgo la continuidad del servicio o la inversión. | I38: 2 | J38: 3 | K38: =+I38+J38 -> 5 | L38: =IF(K38<=4,"BAJO",IF(K38=5,"MEDIO",IF(K38=6,"ALTO",IF(K38=7,"ALTO","EXTREMO")))) -> MEDIO
B39: CONTRATACIÓN | C39: {='IDENTIFICACION Y ANALISIS'!B43:C43} -> Falta de solicitud o solicitud tardía del registro presupuestal | D39: 0 | H39: Suspensión de la ejecución y prohibición de realizar pagos, lo que provoca el abandono de la labor por parte del equipo profesional. | I39: 2 | J39: 3 | K39: =+I39+J39 -> 5 | L39: =IF(K39<=4,"BAJO",IF(K39=5,"MEDIO",IF(K39=6,"ALTO",IF(K39=7,"ALTO","EXTREMO")))) -> MEDIO
B40: CONTRATACIÓN | C40: {='IDENTIFICACION Y ANALISIS'!B44:C44} -> No publicación de la documentación del proceso de selección en el SECOP | D40: 0 | H40: Invalidez del contrato y sanción. | I40: 1 | J40: 4 | K40: =+I40+J40 -> 5 | L40: =IF(K40<=4,"BAJO",IF(K40=5,"MEDIO",IF(K40=6,"ALTO",IF(K40=7,"ALTO","EXTREMO")))) -> MEDIO
B41: CONTRATACIÓN | C41: {='IDENTIFICACION Y ANALISIS'!B45:C45} -> Presentación de reclamos de terceros sobre la selección del oferente que retrasen el perfeccionamiento del contrato. | D41: 0 | H41: Paralización del inicio de la ejecución, lo que interrumpe la línea de tiempo de la intervención y afecta la población vulnerable. | I41: 3 | J41: 4 | K41: =+I41+J41 -> 7 | L41: =IF(K41<=4,"BAJO",IF(K41=5,"MEDIO",IF(K41=6,"ALTO",IF(K41=7,"ALTO","EXTREMO")))) -> ALTO
B42: EJECUCIÓN | C42: {='IDENTIFICACION Y ANALISIS'!B47:C47} -> Fluctuaciones del valor de la moneda | D42: 0 | H42: Afectación del equilibrio económico del contrato si hay componentes importados, que puede llevar a una suspensión o a la reducción de la calidad del material. | I42: 3 | J42: 1 | K42: =+I42+J42 -> 4 | L42: =IF(K42<=4,"BAJO",IF(K42=5,"MEDIO",IF(K42=6,"ALTO",IF(K42=7,"ALTO","EXTREMO")))) -> BAJO
B43: EJECUCIÓN | C43: {='IDENTIFICACION Y ANALISIS'!B49:C49} -> Variación de los precios del mercado | D43: 0 | H43: Incremento en los costos de operación (ej. salarios de profesionales especializados), obligando al contratista a reducir la calidad de los perfiles profesionales o el número de horas de servicio. | I43: 4 | J43: 3 | K43: =+I43+J43 -> 7 | L43: =IF(K43<=4,"BAJO",IF(K43=5,"MEDIO",IF(K43=6,"ALTO",IF(K43=7,"ALTO","EXTREMO")))) -> ALTO
B44: EJECUCIÓN | C44: {='IDENTIFICACION Y ANALISIS'!B50:C50} -> Factores políticos o macroeconómicos. | D44: 0 | H44: Cambios en las prioridades de gasto local o nacional que afectan los desembolsos, generando incertidumbre y riesgo de terminación anticipada. | I44: 2 | J44: 2 | K44: =+I44+J44 -> 4 | L44: =IF(K44<=4,"BAJO",IF(K44=5,"MEDIO",IF(K44=6,"ALTO",IF(K44=7,"ALTO","EXTREMO")))) -> BAJO
B45: EJECUCIÓN | C45: ='IDENTIFICACION Y ANALISIS'!B52 -> Variación en la disponibilidad o en el costo de los insumos necesarios para prestar los servicios. | H45: El "insumo" principal es el recurso humano cualificado. El aumento de su costo o su baja disponibilidad disminuye la cobertura o la calidad de las actividades programadas para personas con discapacidad, sus cuidadores y personas en riesgo de malnutirición | I45: 3 | J45: 2 | K45: =+I45+J45 -> 5 | L45: =IF(K45<=4,"BAJO",IF(K45=5,"MEDIO",IF(K45=6,"ALTO",IF(K45=7,"ALTO","EXTREMO")))) -> MEDIO
...

Sheet EVALUACION CON CONTROLES
C2: MATRIZ DE RIESGOS DE CONTRATACIÓN | Q2: Código: GCO-GCI-F164 Versión: 02 Vigencia: 01 de diciembre de 2022 Caso HOLA: 280117
B6: Objeto: Prestar servicios para atender a personas con discapacidad y sus cuidadores mediante el desarrollo de actividades complementarias en salud, así como ejecutar acciones orientadas al fortalecimiento del bienestar físico, nutricional y oral de la comunidad, en el marco de la estrategia territorial de salud y del Proyecto 2543 “Chapinero cuida tu vida: acciones integrales en salud y bienestar comunitario”
B7: INSTRUCCIONES PARA LA IDENTIFICACIÓN, ANALISIS, EVALUACIÓN , ASIGNACIÓN Y TRATAMIENTO DE RIESGOS EN LA CONTRATACIÓN
B8: 1) Describa el tratamiento/controles a ser implementados
B9: 2) Diligencie la información de las siguientes columnas, de acuerdo con el análisis realizado a cada riesgo: Afecta el equilibrio económico, persona responsable de implementar el tratamiento, fecha estimada de inicio del tratamiento, fecha estimada en la que se completa el tratamiento, cómo se realiza el monitoreo y la periodicidad.
B10: 3) Continúe en la hoja de "ASIGNACIÓN Y TRATAMIENTO" y diligencie las siguientes casillas: A quien se le asigna y el porcentaje que asume cada una de las partes en caso de que sea compartido.
B15: ETAPA | C15: Descripción (Que puede pasar y, cómo puede ocurrir) | G15: Tratamiento/Controles a ser implementados | I15: Probabilidad de Ocurrencia | J15: Impacto | K15: Calificación Total | L15: Prioridad | M15: ¿Afecta el equilibrio económico del contrato? | N15: Persona responsable por implementar el tratamiento | O15: Fecha estimada en que se inicia el tratamiento | P15: Fecha estimada en que se completa el tratamiento | Q15: ¿Cómo se realiza el monitoreo? | R15: Periodicidad ¿Cuándo?
B16: =+EVALUACION!B17 -> PLANEACIÓN | C16: =+EVALUACION!C17 -> Inadecuada escogencia de la modalidad de contratación | G16: Revisión exhaustiva y aval de la Oficina Asesora Jurídica sobre la justificación de la modalidad de selección. | I16: =+EVALUACION!I17 -> 2 | J16: =+EVALUACION!J17 -> 4 | K16: =+I16+J16 -> 6 | L16: =IF(K16<=4,"BAJO",IF(K16=5,"MEDIO",IF(K16=6,"ALTO",IF(K16=7,"ALTO","EXTREMO")))) -> ALTO | M16: No | N16: FDLCH | O16: Posterior al proceso de planeación. | P16: Previo al proceso de contratación. | Q16: Revisión del documento de justificación legal. | R16: Única.
B17: =+EVALUACION!B18 -> PLANEACIÓN | C17: =+EVALUACION!C18 -> Requisitos habilitantes inapropiados para el proceso de selección | G17: Elaboración de pliegos con análisis de proporcionalidad y razonabilidad. Publicación del proyecto de pliego para observaciones del sector. | I17: =+EVALUACION!I18 -> 1 | J17: =+EVALUACION!J18 -> 3 | K17: =+I17+J17 -> 4 | L17: =IF(K17<=4,"BAJO",IF(K17=5,"MEDIO",IF(K17=6,"ALTO",IF(K17=7,"ALTO","EXTREMO")))) -> BAJO | M17: No | N17: FDLCH | O17: Posterior al proceso de planeación. | P17: Fecha en la que finaliza la etapa precontractual. | Q17: Verificación de actas y análisis de observaciones. | R17: Única.
B18: =+EVALUACION!B19 -> PLANEACIÓN | C18: =+EVALUACION!C19 -> Inadecuado análisis económico estimativo del valor del contrato | G18: Estudio de mercado con al menos tres (3) cotizaciones o referencias (contratos, precios de DANE) válidas. Certificación de suficiencia de costos por el área financiera. | I18: =+EVALUACION!I19 -> 2 | J18: =+EVALUACION!J19 -> 3 | K18: =+I18+J18 -> 5 | L18: =IF(K18<=4,"BAJO",IF(K18=5,"MEDIO",IF(K18=6,"ALTO",IF(K18=7,"ALTO","EXTREMO")))) -> MEDIO | M18: Si | N18: FDLCH | O18: Posterior al proceso de planeación. | P18: Fecha en la que finaliza la etapa precontractual. | Q18: Verificación de las fuentes de cotización y el consolidado. | R18: Única.
B19: =+EVALUACION!B20 -> PLANEACIÓN | C19: =+EVALUACION!C20 -> Inadecuada descripción del bien o servicio requerido | G19: Validación de los Términos de Referencia (TdR) con el área misional y con el supervisor futuro. Uso de la guía de elaboración de TdR. | I19: =+EVALUACION!I20 -> 4 | J19: =+EVALUACION!J20 -> 3 | K19: =+I19+J19 -> 7 | L19: =IF(K19<=4,"BAJO",IF(K19=5,"MEDIO",IF(K19=6,"ALTO",IF(K19=7,"ALTO","EXTREMO")))) -> ALTO | M19: No | N19: FDLCH | O19: Posterior al proceso de planeación. | P19: Previo al proceso de contratación. | Q19: Revisión y firma de las Especificaciones Técnicas por el área misional. | R19: Única.
B20: =+EVALUACION!B21 -> PLANEACIÓN | C20: =+EVALUACION!C21 -> Inadecuada elaboración de estudios y diseños | G20: Revisión por un equipo técnico independiente (validador) y aprobación formal de los documentos técnicos del proyecto. | I20: =+EVALUACION!I21 -> 2 | J20: =+EVALUACION!J21 -> 3 | K20: =+I20+J20 -> 5 | L20: =IF(K20<=4,"BAJO",IF(K20=5,"MEDIO",IF(K20=6,"ALTO",IF(K20=7,"ALTO","EXTREMO")))) -> MEDIO | M20: No | N20: FDLCH | O20: Posterior al proceso de planeación. | P20: Previo al proceso de contratación. | Q20: Revisión del aval técnico. | R20: Única.
B21: =+EVALUACION!B22 -> PLANEACIÓN | C21: =+EVALUACION!C22 -> Requisitos habilitantes que impidan la selección objetiva | G21: Aplicación del Manual de Contratación y control de legalidad por Jurídica para evitar requisitos excesivos o discriminatorios. | I21: =+EVALUACION!I22 -> 1 | J21: =+EVALUACION!J22 -> 3 | K21: =+I21+J21 -> 4 | L21: =IF(K21<=4,"BAJO",IF(K21=5,"MEDIO",IF(K21=6,"ALTO",IF(K21=7,"ALTO","EXTREMO")))) -> BAJO | M21: No | N21: FDLCH | O21: Posterior al proceso de planeación. | P21: Fecha en la que finaliza la etapa precontractual. | Q21: Verificación de la no existencia de requisitos desproporcionados. | R21: Única.
B22: =+EVALUACION!B23 -> PLANEACIÓN | C22: =+EVALUACION!C23 -> Falta de profundidad en el estudio de sector no identificandose claramente aspectos de oferta y demanda | G22: Documentar el estudio de sector con datos actualizados de la oferta de servicios para personas con discapacidad, sus cuidadores y personas en riesgo de malnutirición en Chapinero y análisis de la demanda. | I22: =+EVALUACION!I23 -> 3 | J22: =+EVALUACION!J23 -> 3 | K22: =+I22+J22 -> 6 | L22: =IF(K22<=4,"BAJO",IF(K22=5,"MEDIO",IF(K22=6,"ALTO",IF(K22=7,"ALTO","EXTREMO")))) -> ALTO | M22: Si | N22: FDLCH | O22: Posterior al proceso de planeación. | P22: Previo al proceso de contratación. | Q22: Revisión de las fuentes de información y conclusiones. | R22: Única.
B23: =+EVALUACION!B24 -> PLANEACIÓN | C23: =+EVALUACION!C24 -> Ausencia de fundamentación de la justificación y conveniencia de la contratación | G23: Elaboración del Documento de Justificación y Conveniencia de la Contratación, incluyendo el Plan Anual de Adquisiciones (PAA). | I23: =+EVALUACION!I24 -> 2 | J23: =+EVALUACION!J24 -> 2 | K23: =+I23+J23 -> 4 | L23: =IF(K23<=4,"BAJO",IF(K23=5,"MEDIO",IF(K23=6,"ALTO",IF(K23=7,"ALTO","EXTREMO")))) -> BAJO | M23: No | N23: FDLCH | O23: Posterior al proceso de planeación. | P23: Previo al proceso de contratación. | Q23: Revisión del documento en el expediente. | R23: Única.
B24: =+EVALUACION!B25 -> PLANEACIÓN | C24: =+EVALUACION!C25 -> Inadecuada identificación de las condiciones contractuales | G24: Uso de minutas estandarizadas y revisión legal para la inclusión de cláusulas de supervisión claras y específicas al objeto. | I24: =+EVALUACION!I25 -> 1 | J24: =+EVALUACION!J25 -> 2 | K24: =+I24+J24 -> 3 | L24: =IF(K24<=4,"BAJO",IF(K24=5,"MEDIO",IF(K24=6,"ALTO",IF(K24=7,"ALTO","EXTREMO")))) -> BAJO | M24: No | N24: FDLCH | O24: Posterior al proceso de planeación. | P24: Previo al proceso de contratación. | Q24: Chequeo de las cláusulas obligatorias. | R24: Única.
B25: =+EVALUACION!B26 -> PLANEACIÓN | C25: =+EVALUACION!C26 -> No aprobación o demoras en la expedición vigencias futuras | G25: Radicación de la solicitud de Vigencias Futuras ante la Secretaría de Hacienda (o ente competente) con la antelación requerida. | I25: =+EVALUACION!I26 -> 3 | J25: =+EVALUACION!J26 -> 4 | K25: =+I25+J25 -> 7 | L25: =IF(K25<=4,"BAJO",IF(K25=5,"MEDIO",IF(K25=6,"ALTO",IF(K25=7,"ALTO","EXTREMO")))) -> ALTO | M25: Si | N25: FDLCH | O25: Durante la etapa precontractual y ejecución del contrato. | P25: Fecha en la que finaliza la etapa precontractual. | Q25: Reporte semanal del estado del trámite. | R25: Semanal.
B26: =+EVALUACION!B27 -> PLANEACIÓN | C26: =+EVALUACION!C27 -> Apertura de procesos sin disponibilidad presupuestal | G26: Exigir la emisión y anexar el Certificado de Disponibilidad Presupuestal (CDP) al expediente antes de cualquier acto de apertura. | I26: =+EVALUACION!I27 -> 3 | J26: =+EVALUACION!J27 -> 4 | K26: =+I26+J26 -> 7 | L26: =IF(K26<=4,"BAJO",IF(K26=5,"MEDIO",IF(K26=6,"ALTO",IF(K26=7,"ALTO","EXTREMO")))) -> ALTO | M26: Si | N26: FDLCH | O26: Posterior al proceso de planeación. | P26: Previo al proceso de contratación. | Q26: Revisión del CDP adjunto en el expediente. | R26: Única.
B27: =+EVALUACION!B28 -> SELECCIÓN | C27: =+EVALUACION!C28 -> Inadecuada evaluación de las ofertas y/o verificación de requisitos habilitantes | G27: Capacitación y nombramiento de un Comité Evaluador idóneo. Utilización de listas de chequeo y matriz de evaluación. | I27: =+EVALUACION!I28 -> 2 | J27: =+EVALUACION!J28 -> 3 | K27: =+I27+J27 -> 5 | L27: =IF(K27<=4,"BAJO",IF(K27=5,"MEDIO",IF(K27=6,"ALTO",IF(K27=7,"ALTO","EXTREMO")))) -> MEDIO | M27: No | N27: FDLCH | O27: Posterior al proceso de planeación. | P27: Previo al proceso de contratación. | Q27: Revisión del informe final de evaluación. | R27: Única.
... B52: =+EVALUACION!B53 -> EJECUCIÓN | C52: =+EVALUACION!C53 -> Eventos naturales tales como lluvias, inundaciones y sequias entre otros | G52: Exigir al Contratista un Plan de Contingencia y Recuperación (PCR) que incluya alternativas de intervención (presencial/virtual/reubicación). | I52: =+EVALUACION!I53 -> 4 | J52: =+EVALUACION!J53 -> 2 | K52: =+I52+J52 -> 6 | L52: =IF(K52<=4,"BAJO",IF(K52=5,"MEDIO",IF(K52=6,"ALTO",IF(K52=7,"ALTO","EXTREMO")))) -> ALTO | M52: No | N52: Contratista | O52: Inicio del contrato. | P52: Fecha en que finaliza el contrato. | Q52: Reporte de la aplicación del PCR y suspensión de actividades. | R52: Por Evento.
C54: Categoria del Riesgo | H54: Impacto del Riesgo
B55: Probabilidad | C55: Catagoria | F55: Valoración | H55: Categoria | J55: Valoración | N55: Categoria del Riesgo
C56: Raro (puede ocurrir excepcionalmente) | F56: 1 | H56: Insignificante | J56: 1 | N56: Valoración del Riesgo | P56: Categoría
C57: Improbable (puede ocurrir ocasionalmente) | F57: 2 | H57: Menor | J57: 2 | N57: 8, 9 y 10 | P57: Riesgo extremo
C58: Posible (puede ocurrir en cualquier momento futuro) | F58: 3 | H58: Moderado | J58: 3 | N58: 6 y 7 | P58: Riesgo alto
C59: Probable (probablemente va a ocurrir) | F59: 4 | H59: Mayor | J59: 4 | N59: 5 | P59: Riesgo medio
C60: Casi cierto (ocurre en la mayoria de circunstancias) | F60: 5 | H60: Catastrófico | J60: 5 | N60: 2, 3 y 4 | P60: Riesgo bajo
C62: Valoración del Riesgo
C63: Calificación Cualitativa | G63: Obstruye la ejecución del contrato de manera intrascendente. | I63: Dificulta la ejecución del contrato de manera baja, aplicando medidas mínimas se pueden lograr el objeto contractual | L63: Afecta la ejecución del contrato sin alterar el beneficio para las partes | N63: Obstruye la ejecución del contrato sustancialmente pero aun así permite la consecución del objeto contractual | P63: Perturba la ejecución del contrato de manera grave imposibilitando la consecución del objeto contractual.
C64: Calificación Monetaria | G64: Los sobrecostos no representan más del uno por ciento (1%) del valor del contrato. | I64: Los sobrecostos no representan más del cinco por ciento (5%) del valor del contrato. | L64: Genera un impacto sobre el valor del contrato entre el cinco (5%) y el quince por ciento (15%). | N64: Incrementa el valor del contrato entre el quince (15%) y el treinta por ciento (30%). | P64: Impacto sobre el valor del contrato en más del treinta por ciento (30%).
C65: Catagoria | F65: Valoración | G65: Insignificante | I65: Menor | L65: Moderado | N65: Mayor | P65: Catastrófico
G66: 1 | I66: 2 | L66: 3 | N66: 4 | P66: 5
C67: Raro (puede ocurrir excepcionalmente) | F67: 1 | G67: 2 | I67: 3 | L67: 4 | N67: 5 | P67: 6
C68: Improbable (puede ocurrir ocasionalmente) | F68: 2 | G68: 3 | I68: 4 | L68: 5 | N68: 6 | P68: 7
C69: Posible (puede ocurrir en cualquier momento futuro) | F69: 3 | G69: 4 | I69: 5 | L69: 6 | N69: 7 | P69: 8
C70: Probable (probablemente va a ocurrir) | F70: 4 | G70: 5 | I70: 6 | L70: 7 | N70: 8 | P70: 9
C71: Casi cierto (ocurre en la mayoria de circunstancias) | F71: 5 | G71: 6 | I71: 7 | L71: 8 | N71: 9 | P71: 10

Sheet ASIGNACION Y TRATAMIENTO
C2: MATRIZ DE RIESGOS DE CONTRATACIÓN | W2: Código: GCO-GCI-F164 Versión: 02 Vigencia: 01 de diciembre de 2022 Caso HOLA: 280117
B6: Objeto: Prestar servicios para atender a personas con discapacidad y sus cuidadores mediante el desarrollo de actividades complementarias en salud, así como ejecutar acciones orientadas al fortalecimiento del bienestar físico, nutricional y oral de la comunidad, en el marco de la estrategia territorial de salud y del Proyecto 2543 “Chapinero cuida tu vida: acciones integrales en salud y bienestar comunitario”
B7: Esta matriz es un documento anexo del Estudio Previo
B10: No | C10: Descripción (Que puede pasar y, cómo puede ocurrir) | D10: Etapa | E10: Clase | F10: Fuente | G10: Consecuencias de la ocurrencia del evento | H10: Probabilidad | I10: Impacto | J10: Calificación total | K10: Prioridad | L10: ¿A quien se le asigna? | M10: % | N10: Tratamiento/Controles a ser implementados | O10: Probabilidad | P10: Impacto | Q10: Calificación total | R10: Prioridad | S10: ¿Afecta el equilibrio económico del contrato? | T10: Persona responsable por implementar el tratamiento | U10: Fecha estimada en que se inicia el tratamiento | V10: Fecha estimada en que se completa el tratamiento | W10: ¿Cómo se realiza el monitoreo | X10: Periodicidad ¿Cuándo?
B11: 1 | C11: =+'EVALUACION CON CONTROLES'!C16:F16 -> Inadecuada escogencia de la modalidad de contratación | D11: =+'EVALUACION CON CONTROLES'!B16 -> PLANEACIÓN | E11: =VLOOKUP(C11,'IDENTIFICACION Y ANALISIS'!$B$19:$F$70,3,FALSE) -> General | F11: =VLOOKUP(C11,'IDENTIFICACION Y ANALISIS'!$B$19:$F$70,4,FALSE) -> Interno | G11: =+EVALUACION!H17 -> Retrasos prolongados en el inicio del proceso (por impugnaciones o necesidad de corrección). | H11: =+EVALUACION!I17 -> 2 | I11: =+EVALUACION!J17 -> 4 | J11: =+EVALUACION!K17 -> 6 | K11: =+EVALUACION!L17 -> ALTO | L11: =+'EVALUACION CON CONTROLES'!N16 -> FDLCH | M11: 100 | N11: =+'EVALUACION CON CONTROLES'!G16 -> Revisión exhaustiva y aval de la Oficina Asesora Jurídica sobre la justificación de la modalidad de selección. | O11: =+'EVALUACION CON CONTROLES'!I16 -> 2 | P11: =+'EVALUACION CON CONTROLES'!J16 -> 4 | Q11: =+'EVALUACION CON CONTROLES'!K16 -> 6 | R11: =+'EVALUACION CON CONTROLES'!L16 -> ALTO | S11: =+'EVALUACION CON CONTROLES'!M16 -> No | T11: =+'EVALUACION CON CONTROLES'!N16 -> FDLCH | U11: =+'EVALUACION CON CONTROLES'!O16 -> Posterior al proceso de planeación. | V11: =+'EVALUACION CON CONTROLES'!P16 -> Previo al proceso de contratación. | ... X11: =+'EVALUACION CON CONTROLES'!R16 -> Única.
B12: 2 | C12: =+'EVALUACION CON CONTROLES'!C17:F17 -> Requisitos habilitantes inapropiados para el proceso de selección | D12: =+'EVALUACION CON CONTROLES'!B17 -> PLANEACIÓN | E12: =VLOOKUP(C12,'IDENTIFICACION Y ANALISIS'!$B$19:$F$70,3,FALSE) -> General | F12: =VLOOKUP(C12,'IDENTIFICACION Y ANALISIS'!$B$19:$F$70,4,FALSE) -> Interno | G12: =+EVALUACION!H18 -> Reducción de la pluralidad de oferentes a la Subred Norte para contratar kist, refrigerios y las activiades de cuidadores, limitando la competencia y, potencialmente, dejando fuera a operadores con la mejor experiencia en prevención y trabajo comunitario en Chapinero. | H12: =+EVALUACION!I18 -> 1 | I12: =+EVALUACION!J18 -> 3 | J12: =+EVALUACION!K18 -> 4 | K12: =+EVALUACION!L18 -> BAJO | L12: =+'EVALUACION CON CONTROLES'!N17 -> FDLCH | M12: 100 | N12: =+'EVALUACION CON CONTROLES'!G17 -> Elaboración de pliegos con análisis de proporcionalidad y razonabilidad. Publicación del proyecto de pliego para observaciones del sector. | O12: =+'EVALUACION CON CONTROLES'!I17 -> 1 | P12: =+'EVALUACION CON CONTROLES'!J17 -> 3 | Q12: =+'EVALUACION CON CONTROLES'!K17 -> 4 | R12: =+'EVALUACION CON CONTROLES'!L17 -> BAJO | S12: =+'EVALUACION CON CONTROLES'!M17 -> No | T12: =+'EVALUACION CON CONTROLES'!N17 -> FDLCH | U12: =+'EVALUACION CON CONTROLES'!O17 -> Posterior al proceso de planeación. | V12: =+'EVALUACION CON CONTROLES'!P17 -> Fecha en la que finaliza la etapa precontractual. | ... X12: =+'EVALUACION CON CONTROLES'!R17 -> Única.
B13: 3 | C13: =+'EVALUACION CON CONTROLES'!C18:F18 -> Inadecuado análisis económico estimativo del valor del contrato | D13: =+'EVALUACION CON CONTROLES'!B18 -> PLANEACIÓN | E13: =VLOOKUP(C13,'IDENTIFICACION Y ANALISIS'!$B$19:$F$70,3,FALSE) -> General | F13: =VLOOKUP(C13,'IDENTIFICACION Y ANALISIS'!$B$19:$F$70,4,FALSE) -> Interno | G13: =+EVALUACION!H19 -> Insuficiencia presupuestal que obliga a reducir el alcance, el número de profesionales (psicólogos, trabajadores sociales) o la cobertura del programa, comprometiendo su calidad. | H13: =+EVALUACION!I19 -> 2 | I13: =+EVALUACION!J19 -> 3 | J13: =+EVALUACION!K19 -> 5 | K13: =+EVALUACION!L19 -> MEDIO | L13: =+'EVALUACION CON CONTROLES'!N18 -> FDLCH | M13: 100 | N13: =+'EVALUACION CON CONTROLES'!G18 -> Estudio de mercado con al menos tres (3) cotizaciones o referencias (contratos, precios de DANE) válidas. Certificación de suficiencia de costos por el área financiera. | O13: =+'EVALUACION CON CONTROLES'!I18 -> 2 | P13: =+'EVALUACION CON CONTROLES'!J18 -> 3 | Q13: =+'EVALUACION CON CONTROLES'!K18 -> 5 | R13: =+'EVALUACION CON CONTROLES'!L18 -> MEDIO | S13: =+'EVALUACION CON CONTROLES'!M18 -> Si | T13: =+'EVALUACION CON CONTROLES'!N18 -> FDLCH | U13: =+'EVALUACION CON CONTROLES'!O18 -> Posterior al proceso de planeación. | V13: =+'EVALUACION CON CONTROLES'!P18 -> Fecha en la que finaliza la etapa precontractual. | ... X13: =+'EVALUACION CON CONTROLES'!R18 -> Única.
B14: 4 | C14: =+'EVALUACION CON CONTROLES'!C19:F19 -> Inadecuada descripción del bien o servicio requerido | D14: =+'EVALUACION CON CONTROLES'!B19 -> PLANEACIÓN | E14: =VLOOKUP(C14,'IDENTIFICACION Y ANALISIS'!$B$19:$F$70,3,FALSE) -> General | F14: =VLOOKUP(C14,'IDENTIFICACION Y ANALISIS'!$B$19:$F$70,4,FALSE) -> Interno | G14: =+EVALUACION!H20 -> Contratación de servicios que no responden a las problemáticas locales específicas de Chapinero, lo que resulta en una intervención ineficaz para la población con discapacidad, sus cuidadores y personas en riesgo de malnutrición | H14: =+EVALUACION!I20 -> 4 | I14: =+EVALUACION!J20 -> 3 | J14: =+EVALUACION!K20 -> 7 | K14: =+EVALUACION!L20 -> ALTO | L14: =+'EVALUACION CON CONTROLES'!N19 -> FDLCH | M14: 100 | N14: =+'EVALUACION CON CONTROLES'!G19 -> Validación de los Términos de Referencia (TdR) con el área misional y con el supervisor futuro. Uso de la guía de elaboración de TdR. | O14: =+'EVALUACION CON CONTROLES'!I19 -> 4 | P14: =+'EVALUACION CON CONTROLES'!J19 -> 3 | Q14: =+'EVALUACION CON CONTROLES'!K19 -> 7 | R14: =+'EVALUACION CON CONTROLES'!L19 -> ALTO | S14: =+'EVALUACION CON CONTROLES'!M19 -> No | T14: =+'EVALUACION CON CONTROLES'!N19 -> FDLCH | U14: =+'EVALUACION CON CONTROLES'!O19 -> Posterior al proceso de planeación. | V14: =+'EVALUACION CON CONTROLES'!P19 -> Previo al proceso de contratación. | ... X14: =+'EVALUACION CON CONTROLES'!R19 -> Única.
B15: 5 | C15: =+'EVALUACION CON CONTROLES'!C20:F20 -> Inadecuada elaboración de estudios y diseños | D15: =+'EVALUACION CON CONTROLES'!B20 -> PLANEACIÓN | E15: =VLOOKUP(C15,'IDENTIFICACION Y ANALISIS'!$B$19:$F$70,3,FALSE) -> General | F15: =VLOOKUP(C15,'IDENTIFICACION Y ANALISIS'!$B$19:$F$70,4,FALSE) -> Interno | G15: =+EVALUACION!H21 -> Documentos técnicos erróneos que fuerzan a realizar modificaciones contractuales y suspensiones durante la ejecución, afectando la continuidad de las activiades para personas con discapacidad, sus cuidadores y personas en riesgo de malnutirición. | H15: =+EVALUACION!I21 -> 2 | I15: =+EVALUACION!J21 -> 3 | J15: =+EVALUACION!K21 -> 5 | K15: =+EVALUACION!L21 -> MEDIO | L15: =+'EVALUACION CON CONTROLES'!N20 -> FDLCH | M15: 100 | N15: =+'EVALUACION CON CONTROLES'!G20 -> Revisión por un equipo técnico independiente (validador) y aprobación formal de los documentos técnicos del proyecto. | O15: =+'EVALUACION CON CONTROLES'!I20 -> 2 | P15: =+'EVALUACION CON CONTROLES'!J20 -> 3 | Q15: =+'EVALUACION CON CONTROLES'!K20 -> 5 | R15: =+'EVALUACION CON CONTROLES'!L20 -> MEDIO | S15: =+'EVALUACION CON CONTROLES'!M20 -> No | T15: =+'EVALUACION CON CONTROLES'!N20 -> FDLCH | U15: =+'EVALUACION CON CONTROLES'!O20 -> Posterior al proceso de planeación. | V15: =+'EVALUACION CON CONTROLES'!P20 -> Previo al proceso de contratación. | ... X15: =+'EVALUACION CON CONTROLES'!R20 -> Única.
B16: 6 | C16: =+'EVALUACION CON CONTROLES'!C21:F21 -> Requisitos habilitantes que impidan la selección objetiva | D16: =+'EVALUACION CON CONTROLES'!B21 -> PLANEACIÓN | E16: =VLOOKUP(C16,'IDENTIFICACION Y ANALISIS'!$B$19:$F$70,3,FALSE) -> General | F16: =VLOOKUP(C16,'IDENTIFICACION Y ANALISIS'!$B$19:$F$70,4,FALSE) -> Interno | G16: =+EVALUACION!H22 -> Adjudicación a un proponente que, a pesar de cumplir formalmente, carece de la idoneidad técnica o social para manejar personas con discapacidad, sus cuidadores y personas en riesgo de malnutirición | H16: =+EVALUACION!I22 -> 1 | I16: =+EVALUACION!J22 -> 3 | J16: =+EVALUACION!K22 -> 4 | K16: =+EVALUACION!L22 -> BAJO | L16: =+'EVALUACION CON CONTROLES'!N21 -> FDLCH | M16: 100 | N16: =+'EVALUACION CON CONTROLES'!G21 -> Aplicación del Manual de Contratación y control de legalidad por Jurídica para evitar requisitos excesivos o discriminatorios. | O16: =+'EVALUACION CON CONTROLES'!I21 -> 1 | P16: =+'EVALUACION CON CONTROLES'!J21 -> 3 | Q16: =+'EVALUACION CON CONTROLES'!K21 -> 4 | R16: =+'EVALUACION CON CONTROLES'!L21 -> BAJO | S16: =+'EVALUACION CON CONTROLES'!M21 -> No | T16: =+'EVALUACION CON CONTROLES'!N21 -> FDLCH | U16: =+'EVALUACION CON CONTROLES'!O21 -> Posterior al proceso de planeación. | V16: =+'EVALUACION CON CONTROLES'!P21 -> Fecha en la que finaliza la etapa precontractual. | ... X16: =+'EVALUACION CON CONTROLES'!R21 -> Única.
B17: 7 | C17: =+'EVALUACION CON CONTROLES'!C22:F22 -> Falta de profundidad en el estudio de sector no identificandose claramente aspectos de oferta y demanda | D17: =+'EVALUACION CON CONTROLES'!B22 -> PLANEACIÓN | E17: =VLOOKUP(C17,'IDENTIFICACION Y ANALISIS'!$B$19:$F$70,3,FALSE) -> General | F17: =VLOOKUP(C17,'IDENTIFICACION Y ANALISIS'!$B$19:$F$70,4,FALSE) -> Interno | G17: =+EVALUACION!H23 -> Diseño de un programa que desconoce la realidad del mercado, lo que puede llevar a una demanda insatisfecha de servicios o a la falta de profesionales idóneos para la ejecución. | H17: =+EVALUACION!I23 -> 3 | I17: =+EVALUACION!J23 -> 3 | J17: =+EVALUACION!K23 -> 6 | K17: =+EVALUACION!L23 -> ALTO | L17: =+'EVALUACION CON CONTROLES'!N22 -> FDLCH | M17: 100 | N17: =+'EVALUACION CON CONTROLES'!G22 -> Documentar el estudio de sector con datos actualizados de la oferta de servicios para personas con discapacidad, sus cuidadores y personas en riesgo de malnutirición en Chapinero y análisis de la demanda. | O17: =+'EVALUACION CON CONTROLES'!I22 -> 3 | P17: =+'EVALUACION CON CONTROLES'!J22 -> 3 | Q17: =+'EVALUACION CON CONTROLES'!K22 -> 6 | R17: =+'EVALUACION CON CONTROLES'!L22 -> ALTO | S17: =+'EVALUACION CON CONTROLES'!M22 -> Si | T17: =+'EVALUACION CON CONTROLES'!N22 -> FDLCH | U17: =+'EVALUACION CON CONTROLES'!O22 -> Posterior al proceso de planeación. | V17: =+'EVALUACION CON CONTROLES'!P22 -> Previo al proceso de contratación. | ... X17: =+'EVALUACION CON CONTROLES'!R22 -> Única.
B18: 8 | C18: =+'EVALUACION CON CONTROLES'!C23:F23 -> Ausencia de fundamentación de la justificación y conveniencia de la contratación | D18: =+'EVALUACION CON CONTROLES'!B23 -> PLANEACIÓN | E18: =VLOOKUP(C18,'IDENTIFICACION Y ANALISIS'!$B$19:$F$70,3,FALSE) -> General | F18: =VLOOKUP(C18,'IDENTIFICACION Y ANALISIS'!$B$19:$F$70,4,FALSE) -> Interno | G18: =+EVALUACION!H24 -> Cuestionamientos legales y disciplinarios que pueden resultar en la suspensión definitiva del proceso, perdiéndose el recurso y la oportunidad de intervención social. | H18: =+EVALUACION!I24 -> 2 | I18: =+EVALUACION!J24 -> 2 | J18: =+EVALUACION!K24 -> 4 | K18: =+EVALUACION!L24 -> BAJO | L18: =+'EVALUACION CON CONTROLES'!N23 -> FDLCH | M18: 100 | N18: =+'EVALUACION CON CONTROLES'!G23 -> Elaboración del Documento de Justificación y Conveniencia de la Contratación, incluyendo el Plan Anual de Adquisiciones (PAA). | O18: =+'EVALUACION CON CONTROLES'!I23 -> 2 | P18: =+'EVALUACION CON CONTROLES'!J23 -> 2 | Q18: =+'EVALUACION CON CONTROLES'!K23 -> 4 | R18: =+'EVALUACION CON CONTROLES'!L23 -> BAJO | S18: =+'EVALUACION CON CONTROLES'!M23 -> No | T18: =+'EVALUACION CON CONTROLES'!N23 -> FDLCH | U18: =+'EVALUACION CON CONTROLES'!O23 -> Posterior al proceso de planeación. | V18: =+'EVALUACION CON CONTROLES'!P23 -> Previo al proceso de contratación. | ... X18: =+'EVALUACION CON CONTROLES'!R23 -> Única.
B19: 9 | C19: =+'EVALUACION CON CONTROLES'!C24:F24 -> Inadecuada identificación de las condiciones contractuales | D19: =+'EVALUACION CON CONTROLES'!B24 -> PLANEACIÓN | E19: =VLOOKUP(C19,'IDENTIFICACION Y ANALISIS'!$B$19:$F$70,3,FALSE) -> General | F19: =VLOOKUP(C19,'IDENTIFICACION Y ANALISIS'!$B$19:$F$70,4,FALSE) -> Interno | G19: =+EVALUACION!H25 -> Generación de controversias, litigios o incumplimientos que detienen la prestación del servicio o desincentivan la participación del contratista. | H19: =+EVALUACION!I25 -> 1 | I19: =+EVALUACION!J25 -> 2 | J19: =+EVALUACION!K25 -> 3 | K19: =+EVALUACION!L25 -> BAJO | L19: =+'EVALUACION CON CONTROLES'!N24 -> FDLCH | M19: 100 | N19: =+'EVALUACION CON CONTROLES'!G24 -> Uso de minutas estandarizadas y revisión legal para la inclusión de cláusulas de supervisión claras y específicas al objeto. | O19: =+'EVALUACION CON CONTROLES'!I24 -> 1 | P19: =+'EVALUACION CON CONTROLES'!J24 -> 2 | Q19: =+'EVALUACION CON CONTROLES'!K24 -> 3 | R19: =+'EVALUACION CON CONTROLES'!L24 -> BAJO | S19: =+'EVALUACION CON CONTROLES'!M24 -> No | T19: =+'EVALUACION CON CONTROLES'!N24 -> FDLCH | U19: =+'EVALUACION CON CONTROLES'!O24 -> Posterior al proceso de planeación. | V19: =+'EVALUACION CON CONTROLES'!P24 -> Previo al proceso de contratación. | ... X19: =+'EVALUACION CON CONTROLES'!R24 -> Única.
B20: 10 | C20: =+'EVALUACION CON CONTROLES'!C25:F25 -> No aprobación o demoras en la expedición vigencias futuras | D20: =+'EVALUACION CON CONTROLES'!B25 -> PLANEACIÓN | E20: =VLOOKUP(C20,'IDENTIFICACION Y ANALISIS'!$B$19:$F$70,3,FALSE) -> Estatal | F20: =VLOOKUP(C20,'IDENTIFICACION Y ANALISIS'!$B$19:$F$70,4,FALSE) -> Interno | G20: =+EVALUACION!H26 -> Imposibilidad de garantizar la continuidad de los programas a largo plazo, generando desconfianza en la comunidad y desmotivación en los equipos de trabajo. | H20: =+EVALUACION!I26 -> 3 | I20: =+EVALUACION!J26 -> 4 | J20: =+EVALUACION!K26 -> 7 | K20: =+EVALUACION!L26 -> ALTO | L20: =+'EVALUACION CON CONTROLES'!N25 -> FDLCH | M20: 100 | N20: =+'EVALUACION CON CONTROLES'!G25 -> Radicación de la solicitud de Vigencias Futuras ante la Secretaría de Hacienda (o ente competente) con la antelación requerida. | O20: =+'EVALUACION CON CONTROLES'!I25 -> 3 | P20: =+'EVALUACION CON CONTROLES'!J25 -> 4 | Q20: =+'EVALUACION CON CONTROLES'!K25 -> 7 | R20: =+'EVALUACION CON CONTROLES'!L25 -> ALTO | S20: =+'EVALUACION CON CONTROLES'!M25 -> Si | T20: =+'EVALUACION CON CONTROLES'!N25 -> FDLCH | U20: =+'EVALUACION CON CONTROLES'!O25 -> Durante la etapa precontractual y ejecución del contrato. | V20: =+'EVALUACION CON CONTROLES'!P25 -> Fecha en la que finaliza la etapa precontractual. | ... X20: =+'EVALUACION CON CONTROLES'!R25 -> Semanal.
B21: 11 | C21: =+'EVALUACION CON CONTROLES'!C26:F26 -> Apertura de procesos sin disponibilidad presupuestal | D21: =+'EVALUACION CON CONTROLES'!B26 -> PLANEACIÓN | E21: =VLOOKUP(C21,'IDENTIFICACION Y ANALISIS'!$B$19:$F$70,3,FALSE) -> Estatal | F21: =VLOOKUP(C21,'IDENTIFICACION Y ANALISIS'!$B$19:$F$70,4,FALSE) -> Interno | G21: =+EVALUACION!H27 -> Nulidad o anulación del proceso y potencial sanción, obligando a reiniciar la planeación y perdiendo tiempo valioso para la atención de la emergencia social. | H21: =+EVALUACION!I27 -> 3 | I21: =+EVALUACION!J27 -> 4 | J21: =+EVALUACION!K27 -> 7 | K21: =+EVALUACION!L27 -> ALTO | L21: =+'EVALUACION CON CONTROLES'!N26 -> FDLCH | M21: 100 | N21: =+'EVALUACION CON CONTROLES'!G26 -> Exigir la emisión y anexar el Certificado de Disponibilidad Presupuestal (CDP) al expediente antes de cualquier acto de apertura. | O21: =+'EVALUACION CON CONTROLES'!I26 -> 3 | P21: =+'EVALUACION CON CONTROLES'!J26 -> 4 | Q21: =+'EVALUACION CON CONTROLES'!K26 -> 7 | R21: =+'EVALUACION CON CONTROLES'!L26 -> ALTO | S21: =+'EVALUACION CON CONTROLES'!M26 -> Si | T21: =+'EVALUACION CON CONTROLES'!N26 -> FDLCH | U21: =+'EVALUACION CON CONTROLES'!O26 -> Posterior al proceso de planeación. | V21: =+'EVALUACION CON CONTROLES'!P26 -> Previo al proceso de contratación. | ... X21: =+'EVALUACION CON CONTROLES'!R26 -> Única.
B22: 12 | C22: =+'EVALUACION CON CONTROLES'!C27:F27 -> Inadecuada evaluación de las ofertas y/o verificación de requisitos habilitantes | D22: =+'EVALUACION CON CONTROLES'!B27 -> SELECCIÓN | E22: =VLOOKUP(C22,'IDENTIFICACION Y ANALISIS'!$B$19:$F$70,3,FALSE) -> General | F22: =VLOOKUP(C22,'IDENTIFICACION Y ANALISIS'!$B$19:$F$70,4,FALSE) -> Interno | G22: =+EVALUACION!H28 -> Selección de un contratista inelegible o menos apto, poniendo en riesgo la calidad, legalidad y efectividad de los programas de prevención. | H22: =+EVALUACION!I28 -> 2 | I22: =+EVALUACION!J28 -> 3 | J22: =+EVALUACION!K28 -> 5 | K22: =+EVALUACION!L28 -> MEDIO | L22: =+'EVALUACION CON CONTROLES'!N27 -> FDLCH | M22: 100 | N22: =+'EVALUACION CON CONTROLES'!G27 -> Capacitación y nombramiento de un Comité Evaluador idóneo. Utilización de listas de chequeo y matriz de evaluación. | O22: =+'EVALUACION CON CONTROLES'!I27 -> 2 | P22: =+'EVALUACION CON CONTROLES'!J27 -> 3 | Q22: =+'EVALUACION CON CONTROLES'!K27 -> 5 | R22: =+'EVALUACION CON CONTROLES'!L27 -> MEDIO | S22: =+'EVALUACION CON CONTROLES'!M27 -> No | T22: =+'EVALUACION CON CONTROLES'!N27 -> FDLCH | U22: =+'EVALUACION CON CONTROLES'!O27 -> Posterior al proceso de planeación. | V22: =+'EVALUACION CON CONTROLES'!P27 -> Previo al proceso de contratación. | ... X22: =+'EVALUACION CON CONTROLES'!R27 -> Única.
... B44: 34 | C44: =+'EVALUACION CON CONTROLES'!C49:F49 -> Variación de tasas o tarifas | D44: =+'EVALUACION CON CONTROLES'!B49 -> EJECUCIÓN | E44: =VLOOKUP(C44,'IDENTIFICACION Y ANALISIS'!$B$19:$F$70,3,FALSE) -> General | F44: =VLOOKUP(C44,'IDENTIFICACION Y ANALISIS'!$B$19:$F$70,4,FALSE) -> Externo | G44: =+EVALUACION!H50 -> Impacto en la viabilidad financiera del contratista, que puede llevar a incumplimientos. | H44: =+EVALUACION!I50 -> 4 | I44: =+EVALUACION!J50 -> 3 | J44: =+EVALUACION!K50 -> 7 | K44: =+EVALUACION!L50 -> ALTO | L44: =+'EVALUACION CON CONTROLES'!N49 -> FDLCH | M44: 100 | N44: =+'EVALUACION CON CONTROLES'!G49 -> Cláusula de Equilibrio Económico (Teoría de la Imprevisión). | O44: =+'EVALUACION CON CONTROLES'!I49 -> 4 | P44: =+'EVALUACION CON CONTROLES'!J49 -> 3 | Q44: =+'EVALUACION CON CONTROLES'!K49 -> 7 | R44: =+'EVALUACION CON CONTROLES'!L49 -> ALTO | S44: =+'EVALUACION CON CONTROLES'!M49 -> Si | T44: =+'EVALUACION CON CONTROLES'!N49 -> FDLCH | U44: =+'EVALUACION CON CONTROLES'!O49 -> Inicio del contrato. | V44: =+'EVALUACION CON CONTROLES'!P49 -> Fecha de liquidación del contrato. | ... X44: =+'EVALUACION CON CONTROLES'!R49 -> Trimestral.
B45: 35 | C45: =+'EVALUACION CON CONTROLES'!C50:F50 -> Demora en el inicio previsto para la ejecución de la obra | D45: =+'EVALUACION CON CONTROLES'!B50 -> EJECUCIÓN | E45: =VLOOKUP(C45,'IDENTIFICACION Y ANALISIS'!$B$19:$F$70,3,FALSE) -> Especifico | F45: =VLOOKUP(C45,'IDENTIFICACION Y ANALISIS'!$B$19:$F$70,4,FALSE) -> Interno | G45: =+EVALUACION!H51 -> Pérdida de la ventana de oportunidad para realizar la intervención, afectando la efectividad del programa y el cumplimiento de las metas de atención anual. | H45: =+EVALUACION!I51 -> 4 | I45: =+EVALUACION!J51 -> 3 | J45: =+EVALUACION!K51 -> 7 | K45: =+EVALUACION!L51 -> ALTO | L45: =+'EVALUACION CON CONTROLES'!N50 -> Contratista / FDLCH | M45: 50/50 | N45: =+'EVALUACION CON CONTROLES'!G50 -> Aplicar la cláusula de multas y sanciones estipuladas en el contrato. Exigir un cronograma de ejecución detallado. | O45: =+'EVALUACION CON CONTROLES'!I50 -> 4 | P45: =+'EVALUACION CON CONTROLES'!J50 -> 3 | Q45: =+'EVALUACION CON CONTROLES'!K50 -> 7 | R45: =+'EVALUACION CON CONTROLES'!L50 -> ALTO | S45: =+'EVALUACION CON CONTROLES'!M50 -> No | T45: =+'EVALUACION CON CONTROLES'!N50 -> Contratista / FDLCH | U45: =+'EVALUACION CON CONTROLES'!O50 -> Inicio del contrato. | V45: =+'EVALUACION CON CONTROLES'!P50 -> Durante la ejecución del contrato. | ... X45: =+'EVALUACION CON CONTROLES'!R50 -> Mensual.
