Workbook
Name \a: [1]Insumos!#REF!
Name \a: [1]Insumos!#REF!
Name \a: [1]Insumos!#REF!
Name \b: [2]INSUMOS!#REF!
Name \b: [2]INSUMOS!#REF!
Name \b: [2]INSUMOS!#REF!
Name \i: [2]INSUMOS!#REF!
Name \i: [2]INSUMOS!#REF!
Name \i: [2]INSUMOS!#REF!
Name \m: [2]INSUMOS!#REF!
Name \m: [2]INSUMOS!#REF!
Name \m: [2]INSUMOS!#REF!
Name \r: [2]INSUMOS!#REF!
Name \r: [2]INSUMOS!#REF!
Name \r: [2]INSUMOS!#REF!
Name \t: [2]INSUMOS!#REF!
Name \t: [2]INSUMOS!#REF!
Name \t: [2]INSUMOS!#REF!
Name \x: [2]INSUMOS!#REF!
Name \x: [2]INSUMOS!#REF!
Name \x: [2]INSUMOS!#REF!
Name _________________________________apu1: [2]INSUMOS!#REF!
Name _________________________________apu1: [2]INSUMOS!#REF!
Name _________________________________apu1: [2]INSUMOS!#REF!
Name ________________________________apu1: [2]INSUMOS!#REF!
Name ________________________________apu1: [2]INSUMOS!#REF!
Name ________________________________apu1: [2]INSUMOS!#REF!
Name _______________________________apu1: [2]INSUMOS!#REF!
Name _______________________________apu1: [2]INSUMOS!#REF!
Name _______________________________apu1: [2]INSUMOS!#REF!
Name ______________________________apu1: [2]INSUMOS!#REF!
Name ______________________________apu1: [2]INSUMOS!#REF!
Name ______________________________apu1: [2]INSUMOS!#REF!
Name ____________________________apu1: [2]INSUMOS!#REF!
Name ____________________________apu1: [2]INSUMOS!#REF!
Name ____________________________apu1: [2]INSUMOS!#REF!
Name ___________________________apu1: [2]INSUMOS!#REF!
Name ___________________________apu1: [2]INSUMOS!#REF!
Name ___________________________apu1: [2]INSUMOS!#REF!
Name __________________________apu1: [2]INSUMOS!#REF!
Name __________________________apu1: [2]INSUMOS!#REF!
Name __________________________apu1: [2]INSUMOS!#REF!
Name _________________________apu1: [2]INSUMOS!#REF!
Name _________________________apu1: [2]INSUMOS!#REF!
Name _________________________apu1: [2]INSUMOS!#REF!
Name ________________________apu1: [2]INSUMOS!#REF!
Name ________________________apu1: [2]INSUMOS!#REF!
Name ________________________apu1: [2]INSUMOS!#REF!
Name _______________________apu1: [2]INSUMOS!#REF!
Name _______________________apu1: [2]INSUMOS!#REF!
Name _______________________apu1: [2]INSUMOS!#REF!
Name _____________________apu1: [2]INSUMOS!#REF!
Name _____________________apu1: [2]INSUMOS!#REF!
Name _____________________apu1: [2]INSUMOS!#REF!
Name ____________________apu1: [2]INSUMOS!#REF!
Name ____________________apu1: [2]INSUMOS!#REF!
Name ____________________apu1: [2]INSUMOS!#REF!
Name ___________________apu1: [2]INSUMOS!#REF!
Name ___________________apu1: [2]INSUMOS!#REF!
Name ___________________apu1: [2]INSUMOS!#REF!

Sheet BASICO
A1: REPUBLICA DE COLOMBIA
A2: DEPARTAMENTO DEL PUTUMAYO
A3: MUNICIPIO DE SAN MIGUEL
A5: APU-BASICO
A7: =+#REF! -> #REF!
A9: ACTIVIDAD:
B10: Concreto MR 21 Mpa | G10: Unidad: | H10: m3
A12: I | B12: EQUIPO
B13: DESCRIPCIÓN | D13: Tipo | E13: Tarifa/Día | F13: Rend | G13: V. Unitario.
B14: Herremienta menor | F14: 0.1 | G14: =H34*F14 -> 5130.9
E20: SUBTOTAL. | H20: =ROUND(SUM(G14:G19),0) -> 5131
A21: II | B21: MATERIALES EN OBRA.
B22: DESCRIPCIÓN | D22: Unidad | E22: Cant. | F22: Precio Unit. | G22: V. Unitario.
B23: Cemento gris | D23: kg | E23: 420 | F23: 650 | G23: =+F23*E23 -> 273000
B24: Arena | D24: m3 | E24: 0.67 | F24: 60000 | G24: =+F24*E24 -> 40200
B25: Triturado | D25: m3 | E25: 0.67 | F25: 70000 | G25: =--E25*F25 -> 46900
B26: Agua | D26: lt | E26: 210 | F26: 50 | G26: =--E26*F26 -> 10500
E28: SUBTOTAL | H28: =(SUM(G23:G26)) -> 370600
A29: III | B29: MANO DE OBRA.
A30: CAN | B30: DESCRIPCIÓN | C30: Jornal | D30: Prestac | E30: Jornal Total | F30: Rend. | G30: V. Unitario.
A31: 6 | B31: Ayudante | C31: 30000 | D31: 0.75 | E31: =+(A31*C31)+(A31*C31*D31) -> 315000 | F31: 7.5035876 | G31: =(E31)/(F31) -> 41979.919
A32: 1 | B32: Oficial | C32: 40000 | D32: 0.75 | E32: =(A32*C32)+(D32*C32*A32) -> 70000 | F32: =--F31 -> 7.5035876 | G32: =E32/F32 -> 9328.871
E34: SUBTOTAL | H34: =ROUND(SUM(G31)+(G32),0) -> 51309
A35: IV | B35: TRANSPORTE
B36: DESCRIPCIÓN | C36: Unidad | D36: Cantidad | E36: Prec.Unitario | G36: Vr. Unitario
E40: SUBTOTAL | H40: =ROUND(SUM(G37)+(G38),0) -> 0
D42: TOTAL COSTOS DIRECTOS. | H42: =SUM(H20:H41) -> 427040
A44: V | B44: COSTOS INDIRECTOS.
B45: DESCRIPCIÓN | C45: % | D45: COSTO DIRECTO | F45: V. UNITARIO
B46: ADMINISTRACIÓN | C46: 0.23 | G46: =+H42*C46 -> 98219.2
B47: IMPREVISTOS | C47: 0.04 | G47: =+H42*C47 -> 17081.6
B48: UTILIDAD | C48: 0.03 | G48: =+H42*C48 -> 12811.2
D49: TOTAL COSTOS INDIRECTOS | H49: =SUM(G45:G48) -> 128112
D51: TOTAL PRECIO UNITARIO. | H51: =H42+H49 -> 555152
A56: =+#REF! -> #REF! | D56: =+#REF! -> #REF!
A57: =+#REF! -> #REF! | D57: =+#REF! -> #REF!
A58: =#REF! -> #REF! | D58: =+#REF! -> #REF!

Sheet PRESUPUESTO
C1: SECRETARIA DE PLANEACIÓN Y OBRAS PÚBLICAS | D1: CODIGO | F1: 103
D2: SERIE Y SUBSERIE | F2: 51
C3: NIT. 800252922-2
C4: Modelo Integrado de Planeación y Gestión | D4: VERSIÓN | F4: 1
C5: PRESUPUESTO | D5: FECHA DEL FORMATO | F5: D/M/A
F6: 45402
A8: MANTENIMIENTO Y REPARACION DE PUENTE VEHICULAR VIA LA GUISITA EN EL MUNICIPIO DE SAN MIGUEL PUTUMAYO
K10: =5000000/12 -> 416666.67 | L10: 200
A11: PRESUPUESTO GENERAL | J11: TUBERIA 12" | K11: 5000000 | L11: 12 METROS
J12: TUBERIA 6" | K12: 100000
A13: ITEM | B13: DESCRIPCION | D13: UNIDAD | E13: CANTIDAD | F13: VR/UNITARIO | G13: VR/TOTAL | J13: TUBERIA 3 1/2" | K13: 450000 | L13: 9.30 METROS | M13: =450000/9 -> 50000
A14: PUENTE VEHICULAR LA GUISITA | J14: TUBERIA 8" | K14: 200000
A15: 1 | B15: MANTENIMIENTO Y REPARACION DE ESTRUCTURA PRINCIPAL | J15: TUBERIA 20" | K15: 5700000 | L15: 12 METROS
A16: 1.1 | B16: Manetimiento y reparacion de pilares en H Tuberia 12" | D16: ML | E16: ='MEMORIA CANTIDADES'!I29 -> 54 | F16: =APUS!H39 -> 703812.5 | G16: =+ROUND(E16*F16,2) -> 38005875
A17: 1.2 | B17: Mantenimiento y reparacion de vigas longitudinales y transversales Tuberia 6" | D17: ML | E17: ='MEMORIA CANTIDADES'!I45 -> 129 | F17: =APUS!H92 -> 203812.5 | G17: =+ROUND(E17*F17,2) -> 26291812
B18: subtotal | G18: =ROUND(SUM(G16:G17),2) -> 64297688
A19: 2 | B19: MANTENIMIENTO Y REPARACION DE ELEMENTOS COMPLEMENTARIOS
A20: 2.1 | B20: Mantenimiento y reparacion de barandas o pasamanos metalicos Tuberia 3 1/2" | D20: ML | E20: ='MEMORIA CANTIDADES'!I60 -> 72 | F20: =APUS!H147 -> 111541.66 | G20: =+ROUND(E20*F20,2) -> 8030999.5
A21: 2.2 | B21: Mantenimiento y reparacion de aletas laterales en estribos Lamina alfajor 4.5mm | D21: M2 | E21: ='MEMORIA CANTIDADES'!I76 -> 96 | F21: =APUS!H203 -> 227975 | G21: =+ROUND(E21*F21,2) -> 21885600
A22: 2.3 | B22: Mantenimiento y reparacion de soporte vertical para aletas Tuberia 6" | D22: ML | E22: ='MEMORIA CANTIDADES'!I91 -> 84 | F22: =APUS!H259 -> 353812.5 | G22: =+ROUND(E22*F22,2) -> 29720250
A23: 2.4 | B23: Mantenimiento y reparacion de soporte horizontal para aletas Tuberia 3 1/2" | D23: ML | E23: ='MEMORIA CANTIDADES'!I108 -> 72 | F23: =APUS!H314 -> 111541.66 | G23: =+ROUND(E23*F23,2) -> 8030999.5
B24: subtotal | G24: =ROUND(SUM(G20:G23),2) -> 67667849
A25: 3 | B25: MANTENIMIENTO Y REPARACION DE LOSA DE RODADURA
A26: 3.1 | B26: Mantenimiento y reparacion de losa de rodadura en Lamina 12mm | D26: M2 | E26: ='MEMORIA CANTIDADES'!I124 -> 40 | F26: =APUS!H370 -> 227975 | G26: =+ROUND(E26*F26,2) -> 9119000
B27: subtotal | G27: =ROUND(SUM(G26:G26),2) -> 9119000
A28: 4 | B28: PINTURA BASE Y ANTICORROSIVO
A29: 4.1 | B29: Reparacion de pintura para tuberia longitudinal y transversal | D29: GLB | E29: ='MEMORIA CANTIDADES'!I138 -> 1 | F29: =APUS!H426 -> 3989408 | G29: =+ROUND(E29*F29,2) -> 3989408
B30: subtotal | G30: =ROUND(SUM(G29:G29),2) -> 3989408
A31: TOTAL COSTO DIRECTO | G31: =G18+G24+G27+G30 -> 1.4507394e+08
A32: ADMINISTRACIÓN | F32: ='DESGLOSE AIU'!$F$41 -> 0.2948957 | G32: =ROUND(F32*$G$31,2) -> 42781682
A33: IMPREVISTOS | F33: ='DESGLOSE AIU'!$F$42 -> 0.02 | G33: =ROUND(F33*$G$31,2) -> 2901478.9
A34: UTILIDAD | F34: ='DESGLOSE AIU'!$F$43 -> 0.03 | G34: =ROUND(F34*$G$31,2) -> 4352218.3
A35: TOTAL COSTO INDIRECTO | G35: =SUM(G32:G34) -> 50035379
A36: TOTAL OBRA | G36: =ROUND(G31+G35,2) -> 1.9510932e+08
B41: _________________________________________
B42: REALIZO: ING JEISSON ARLED BUESAQUILLO | E42: ARQ. GUILLERMO YAMID VALLEJOS BENAVIDES
B43: Apoyo Profesional SPOPM | E43: SECRETARIO DE PLANEACION Y OBRAS PUBLICAS
E44: SAN MIGUEL - PUTUMAYO

Sheet APUS
C1: SECRETARIA DE PLANEACIÓN Y OBRAS PÚBLICAS | D1: CODIGO | F1: 103
D2: SERIE Y SUBSERIE | F2: 51
C3: NIT. 800252922-2
C4: Modelo Integrado de Planeación y Gestión | D4: VERSIÓN | F4: 1
C5: PRESUPUESTO | D5: FECHA DEL FORMATO | F5: D/M/A
F6: =PRESUPUESTO!F6 -> 45402
A8: =+PRESUPUESTO!$A$8 -> MANTENIMIENTO Y REPARACION DE PUENTE VEHICULAR VIA LA GUISITA EN EL MUNICIPIO DE SAN MIGUEL PUTUMAYO
A11: 1.1 | B11: =VLOOKUP(A11,PRESUPUESTO!$A$15:$G$32,2,) -> Manetimiento y reparacion de pilares en H Tuberia 12" | G11: Unidad: | H11: =VLOOKUP(A11,PRESUPUESTO!$A$15:$G$32,4,) -> ML
A13: I | B13: EQUIPO
B14: DESCRIPCIÓN | D14: Tipo | E14: Tarifa/Hora | F14: Rend | G14: V. Unitario.
B15: Herremienta menor | F15: 0.1 | G15: =ROUND(H31*F15,2) -> 7437.5
B16: Retroexcavadora | D16: H-M | E16: 130000 | F16: 0.5 | G16: =+E16*F16 -> 65000
B17: Equipo de soldadura electrica AC/DC 110/220 | D17: Hora | E17: =100000/8 -> 12500 | F17: 0.5 | G17: =E17*F17 -> 6250
E18: SUBTOTAL. | H18: =ROUND(SUM(G15:G17),2) -> 78687.5
A19: II | B19: MATERIALES EN OBRA.
B20: DESCRIPCIÓN | D20: Unidad | E20: Cant. | F20: Precio Unit. | G20: V. Unitario.
B21: Tuberia acero al carbon 12" | D21: ML | E21: 1 | F21: 500000 | G21: =ROUND(E21*F21,2) -> 500000
B22: Soldadura SMAW E7018 5/32 | D22: Kg | E22: 1 | F22: 35000 | G22: =E22*F22 -> 35000
B23: Bridas, uniones, tornilleria | D23: Und | E23: 0.05 | F23: 275000 | G23: =E23*F23 -> 13750
E25: SUBTOTAL | H25: =ROUND(SUM(G21:G24),2) -> 548750
A26: III | B26: MANO DE OBRA.
A27: CAN | B27: DESCRIPCIÓN | C27: Jornal | D27: Prestac | E27: Jornal Total | F27: Redn ml/Dia | G27: V. Unitario.
A28: 1 | B28: Soldador | C28: 110000 | D28: 0.75 | E28: =+(A28*C28)+(A28*C28*D28) -> 192500 | F28: 4 | G28: =ROUND(E28/(F28),2) -> 48125
A29: 1 | B29: Ayudante soldador | C29: 60000 | D29: 0.75 | E29: =+(A29*C29)+(A29*C29*D29) -> 105000 | F29: 4 | G29: =ROUND(E29/(F29),2) -> 26250
E31: SUBTOTAL | H31: =ROUND(SUM(G28)+(G29),2) -> 74375
A32: IV | B32: TRANSPORTE
B33: DESCRIPCIÓN | C33: Unidad | D33: Cantidad | E33: Prec.Unitario | G33: Vr. Unitario
B34: Transporte tuberia | C34: Tonelada | D34: 0.01 | E34: =3000000/15 -> 200000 | G34: =D34*E34 -> 2000
E37: SUBTOTAL | H37: =ROUND(SUM(G34)+(G35),0) -> 2000
D39: TOTAL COSTOS DIRECTOS. | H39: =ROUND(SUM(H18:H38),2) -> 703812.5
A41: V | B41: COSTOS INDIRECTOS.
B42: DESCRIPCIÓN | D42: % | F42: V. UNITARIO
B43: ADMINISTRACIÓN | D43: 0.27 | F43: =+H39*D43 -> 190029.38
B44: IMPREVISTOS | D44: 0.02 | F44: =+H39*D44 -> 14076.25
B45: UTILIDAD | D45: 0.03 | F45: =+H39*D45 -> 21114.375
D46: TOTAL COSTOS INDIRECTOS | H46: =SUM(F43:G45) -> 225220
D48: TOTAL PRECIO UNITARIO. | H48: =H39+H46 -> 929032.5
A52: Reviso: | B52: Ing. Jeisson Arled Buesaquillo Madroñero | E52: ARQ. GUILLERMO YAMID VALLEJOS BENAVIDES
A53: Apoyo Profesional SPOPM | E53: =+$E$106 -> SECRETARIO DE PLANEACION Y OBRAS PUBLICAS
E54: =+$E$107 -> SAN MIGUEL - PUTUMAYO
...

Sheet MEMORIA CANTIDADES
C1: SECRETARIA DE PLANEACIÓN Y OBRAS PÚBLICAS | E1: CODIGO | G1: 103
E2: SERIE Y SUBSERIE | G2: 51
C3: NIT. 800252922-2
C4: Modelo Integrado de Planeación y Gestión | E4: VERSIÓN | G4: 1
C5: PRESUPUESTO | E5: FECHA DEL FORMATO | G5: D/M/A
G6: 44216
A8: =+PRESUPUESTO!$A$8 -> MANTENIMIENTO Y REPARACION DE PUENTE VEHICULAR VIA LA GUISITA EN EL MUNICIPIO DE SAN MIGUEL PUTUMAYO
A12: MEMORIA DE CANTIDADES
A14: =PRESUPUESTO!B15 -> MANTENIMIENTO Y REPARACION DE ESTRUCTURA PRINCIPAL
A16: ITEM | C16: =VLOOKUP(A17,PRESUPUESTO!$A$15:$G$32,2,) -> Manetimiento y reparacion de pilares en H Tuberia 12" | I16: UNIDAD
A17: 1.1 | I17: =VLOOKUP(A17,PRESUPUESTO!$A$15:$G$32,4,) -> ML
A18: DESCRIPCION | D18: ANCHO | E18: LONGITUD | F18: AREA | G18: No. ELEM. | I18: TOTAL
A19: ESTRUCTURA H | C19: TUBERIA VERTICAL PARA H | E19: 7 | G19: 6 | I19: =E19*G19 -> 42
A20: ESTRUCTURA H | C20: TUBERIA HORIZONTAL PARA H | E20: 4 | G20: 3 | I20: =E20*G20 -> 12
A29: TOTAL | I29: =SUM(I19:I28) -> 54
A31: ITEM | C31: =VLOOKUP(A32,PRESUPUESTO!$A$15:$G$32,2,) -> Mantenimiento y reparacion de vigas longitudinales y transversales Tuberia 6" | I31: UNIDAD
A32: 1.2 | I32: =VLOOKUP(A32,PRESUPUESTO!$A$15:$G$32,4,) -> ML
A33: DESCRIPCION | D33: ANCHO | E33: LONGITUD | F33: AREA | G33: No. ELEM. | I33: TOTAL
A34: ESTRUCTURA H | C34: TUBERIA DE SOPORTE VERTICAL | E34: 4 | G34: 3 | I34: =E34*G34 -> 12
A35: ESTRUCTURA H | C35: TUBERIA DE SOPORTE HORIZONTAL | E35: 4 | G35: 3 | I35: =E35*G35 -> 12
A36: ESTRUCTURA DE RODADURA | C36: TUBERIA LONGITUDINAL DE RODADURA | E36: 15 | G36: 7 | I36: =E36*G36 -> 105
A45: TOTAL | I45: =SUM(I34:I44) -> 129
A47: ITEM | C47: =VLOOKUP(A48,PRESUPUESTO!$A$15:$G$32,2,) -> Mantenimiento y reparacion de barandas o pasamanos metalicos Tuberia 3 1/2" | I47: UNIDAD
A48: 2.1 | I48: =VLOOKUP(A48,PRESUPUESTO!$A$15:$G$32,4,) -> ML
A49: DESCRIPCION | D49: ANCHO | E49: LARGO | F49: AREA | G49: No. ELEM. | I49: TOTAL
A50: TUBERIA BARANDAS | C50: TUBERIA HORIZONTAL | E50: 10 | G50: 6 | I50: =E50*G50 -> 60
A51: TUBERIA BARANDAS | C51: TUBERIA VERTICAL | E51: 1 | G51: 12 | I51: =E51*G51 -> 12
A60: TOTAL | I60: =SUM(I50:I59) -> 72
A62: ITEM | C62: =VLOOKUP(A63,PRESUPUESTO!$A$15:$G$32,2,) -> Mantenimiento y reparacion de aletas laterales en estribos Lamina alfajor 4.5mm | I62: UNIDAD
A63: 2.2 | I63: =VLOOKUP(A63,PRESUPUESTO!$A$15:$G$32,4,) -> M2
A64: DESCRIPCION | D64: ANCHO | E64: ALTO | F64: AREA | G64: No. ELEM. | I64: TOTAL
A65: ALETAS EN ESTRIBOS | C65: LAMINA DE CONTENCION EN ESTRIBOS | D65: 6 | E65: 4 | F65: =D65*E65 -> 24 | G65: 4 | I65: =F65*G65 -> 96
A76: TOTAL | I76: =SUM(I65:I75) -> 96
A78: ITEM | C78: =VLOOKUP(A79,PRESUPUESTO!$A$15:$G$32,2,) -> Mantenimiento y reparacion de soporte vertical para aletas Tuberia 6" | I78: UNIDAD
A79: 2.3 | I79: =VLOOKUP(A79,PRESUPUESTO!$A$15:$G$32,4,) -> ML
A80: DESCRIPCION | D80: ANCHO | E80: LONGITUD | F80: AREA | G80: No. ELEM. | I80: TOTAL
A81: ESTRUCTURA DE ALETAS | C81: TUBERIA VERTICAL DE CONTENCION | E81: 7 | G81: 12 | I81: =E81*G81 -> 84
A91: TOTAL | I91: =SUM(I81:I90) -> 84
A93: ITEM | C93: =VLOOKUP(A94,PRESUPUESTO!$A$15:$G$32,2,) -> Mantenimiento y reparacion de soporte horizontal para aletas Tuberia 3 1/2" | I93: UNIDAD
A94: 2.4 | I94: =VLOOKUP(A94,PRESUPUESTO!$A$15:$G$32,4,) -> ML
...

Sheet Memoria de Cantidades
A1: REPUBLICA DE COLOMBIA
A2: DEPARTAMENTO DEL PUTUMAYO
A3: MUNICIPIO DE SAN MIGUEL
A5: MEMORIA DE CANTIDADES
A6: =+#REF! -> #REF!
A7: ITEM | B7: Descripción | C7: Und | D7: L (m) | E7: A (m) | F7: H(m) | G7: Área(m2) | H7: Volumen(m3) | I7: Kg | J7: Unidad | K7: Cantidad
A8: 1 | B8: PRELIMINARES
A9: 1.1 | B9: Localización y replanteo | C9: m2 | K9: =+G10 -> 3.5
B10: Sector la Vega calle 3 entre crr 2 y 3 | D10: 7 | E10: 0.5 | G10: =--D10*E10 -> 3.5
A11: 1.2 | B11: Demolicion placa existente | C11: m2 | K11: =+G12 -> 1
B12: =B10 -> Sector la Vega calle 3 entre crr 2 y 3 | D12: 2.5 | E12: 0.4 | G12: =--E12*D12 -> 1
A13: 2 | B13: ESTRUCTURA SANITARIA Y DE PAVIMENTO
A14: 2.1 | B14: Excavacion manual | C14: m3 | K14: =SUM(H15:H15) -> 2.55
B15: =B12 -> Sector la Vega calle 3 entre crr 2 y 3 | D15: 3.4 | E15: 0.5 | F15: 1.5 | H15: =+D15*E15*F15 -> 2.55
A16: 2.2 | B16: Retiro tuberia existente en mal estado | C16: ml | K16: =--D17 -> 2.5
B17: =B15 -> Sector la Vega calle 3 entre crr 2 y 3 | D17: 2.5
A18: 2.3 | B18: Retiro de material de excavacion y demolicion | C18: m3 | K18: =--H19 -> 1.7
B19: =B17 -> Sector la Vega calle 3 entre crr 2 y 3 | D19: 2.5 | E19: 1.7 | F19: 0.4 | H19: =+D19*E19*F19 -> 1.7
A20: 2.4 | B20: Relleno con material crudo de rio | C20: m3 | K20: =--H21 -> 0.375
B21: =B19 -> Sector la Vega calle 3 entre crr 2 y 3 | D21: =+D19 -> 2.5 | E21: 0.5 | F21: 0.3 | H21: =+D21*E21*F21 -> 0.375
A22: 2.5 | B22: Instalacion de tuberia 6" (incluye encamado en arena) | C22: ml | K22: =D23 -> 3.4
B23: =B21 -> Sector la Vega calle 3 entre crr 2 y 3 | D23: 3.4
A24: 2.6 | B24: Kit silla tee 6" a 12" | C24: und | K24: =--J25 -> 1
B25: =B23 -> Sector la Vega calle 3 entre crr 2 y 3 | J25: 1
A26: 2.7 | B26: Relleno con material de sitio seleccionado, compactado | C26: m3 | K26: =SUM(H27:H27) -> 1.625
B27: =B25 -> Sector la Vega calle 3 entre crr 2 y 3 | D27: 2.5 | E27: 0.5 | F27: 1.3 | H27: =+D27*E27*F27 -> 1.625
A28: 2.8 | B28: Subbase compactada con material de selección | C28: m3 | K28: =SUM(H29:H29) -> 0.5
B29: =B27 -> Sector la Vega calle 3 entre crr 2 y 3 | D29: 2.5 | E29: 1 | F29: 0.2 | H29: =--D29*E29*F29 -> 0.5
A30: 2.9 | B30: Placa en concreto rigido de 21 MPA, e=20 cm incluye juntas de expansion y sellado | C30: m2 | K30: =--G31 -> 0.88
B31: =B29 -> Sector la Vega calle 3 entre crr 2 y 3 | D31: 2.2 | E31: 0.4 | G31: =--D31*E31 -> 0.88
A32: 2.1 | B32: Suministro y aplicación de curador tipo antisol para concreto rigido | C32: m2 | K32: =--G33 -> 3
B33: =B31 -> Sector la Vega calle 3 entre crr 2 y 3 | D33: 3 | E33: 1 | G33: =--D33*E33 -> 3
A34: 3 | B34: ALCANTARILLADO SANITARIO Y PLUVIAL
A35: 4.1 | B35: =+#REF! -> #REF! | C35: ml | K35: =SUM(K36:K46) -> 2328
B36: Carrera 3 sector de la entrada hasta estación de policia. | D36: =39.92+79.82+74.24+103.26+60.09+66.59+18.82+27 -> 469.74 | K36: =+D36 -> 469.74
B37: Calle 5 entre crr 5 a crr 3. | D37: =34.26+85.26+80.22+90.32+14.17 -> 304.23 | K37: =+D37 -> 304.23
B38: Carrera 3 entre calles 5 y 3. | D38: =21.71+11.22+12.57+47.95+38.64+14.74 -> 146.83 | K38: =+D38 -> 146.83
B39: Calle 3 entre crr 2 y crr 3 | D39: =42.91+56.52+56.63 -> 156.06 | K39: =+D39 -> 156.06
B40: Carrera 2 al descole del aserradero | D40: 180 | K40: =+D40 -> 180
B41: carrera 2 | D41: =40.24+23.31+79.03 -> 142.58 | K41: =+D41 -> 142.58
...

Sheet F.M 
D1: SECRETARIA DE PLANEACIÓN Y OBRAS PÚBLICAS | E1: CODIGO | F1: 103
E2: SERIE Y SUBSERIE | F2: 51
D3: NIT. 800252922-2
D4: Modelo Integrado de Planeación y Gestión | E4: VERSIÓN | F4: 1
D5: PRESUPUESTO | E5: FECHA DEL FORMATO | F5: D/M/A
F6: 44216
B8: =+PRESUPUESTO!A8 -> MANTENIMIENTO Y REPARACION DE PUENTE VEHICULAR VIA LA GUISITA EN EL MUNICIPIO DE SAN MIGUEL PUTUMAYO
B11: FACTOR PRESTACIONAL PARA PERSONAL PROFESIONAL, ADMINISTRATIVO Y TECNICO | G11: %
B12: A. | D12: VALOR BASE (Sueldo) | G12: 100
B13: B. | D13: PRESTACIONES SOCIALES | G13: =SUM(G14:G29) -> 75.432
C14: a. | D14: Cesantías | F14: (A/12) | G14: 8.33
C15: b. | D15: Intereses sobre cesantía | F15: (a*12%) | G15: 1
C16: c. | D16: Prima anual | F16: (A/12) | G16: 8.33
C17: d. | D17: Caja de Compensación | F17: % A | G17: 4
C18: e. | D18: SENA | F18: % A | G18: 2
C19: f. | D19: ICBF | F19: % A | G19: 3
C20: g. | D20: Sistema de seguridad social : Salud | F20: % A | G20: 8.5
C21: h. | D21: Sistema de seguridad social : Pensiòn | F21: % A | G21: 12
C22: i. | D22: ARP personal en obra | F22: % A | G22: 6.96
C23: j. | D23: ARP personal en oficina | F23: % A | G23: 0.522
C24: k. | D24: Vacaciones | F24: (15/360*100) | G24: 4.17
C25: l. | D25: Ausencias justificadas | F25: (3/360*100) | G25: 0.83
... C29: p | D29: Bonoficación rereación | F29: % A | G29: 2
B30: C. | D30: SUMA (A + B) | G30: =G12+G13 -> 175.432
B32: E. | D32: FACTOR PRESTACIONAL | G32: =G30 -> 175.432
D33: FACTOR PRESTACIONAL FINAL | G33: =ROUND(G32/100,2) -> 1.75
B39: _________________________________________ | E39: ARQ. GUILLERMO YAMID VALLEJOS BENAVIDES
B40: REALIZO: ING JEISSON ARLED BUESAQUILLO | E40: SECRETARIO DE PLANEACION Y OBRAS PUBLICAS
B41: Apoyo Profesional SPOPM | E41: SAN MIGUEL - PUTUMAYO

Sheet DESGLOSE AIU
B1: SECRETARIA DE PLANEACIÓN Y OBRA PÚBLICAS | D1: CÓDIGO | E1: 103
D2: SERIE Y SUBSERIE | E2: 51
B3: NIT. 800252922-2
B4: Modelo Integrado de Planeación y Gestión | D4: VERSIÓN | E4: 1
B5: PRESUPUESTO | D5: FECHA DEL FORMATO | E5: D/M/A
E6: =PRESUPUESTO!F6 -> 45402
A8: =+PRESUPUESTO!A8 -> MANTENIMIENTO Y REPARACION DE PUENTE VEHICULAR VIA LA GUISITA EN EL MUNICIPIO DE SAN MIGUEL PUTUMAYO
A10: DESGLOCE A.I.U - I.E.R AGUA CLARA SEDE CAMPESTRE HELICONIAS
A12: SALARIO PERSONAL ADMINISTRATIVO DE OBRA
A13: PERSONAL | B13: SUELDO BASICO | C13: FACTOR PRESTACIONAL | E13: SUELDO + PRESTACIONES
A14: Residente de Obra | B14: 3500000 | C14: =+'F.M '!G33 -> 1.75 | E14: =B14*C14 -> 6125000
A15: 1. ADMINISTRACION
A16: 1.1. PERSONAL ADMINISTRATIVO DE OBRA | B16: SUELDO + PRESTACIONES | C16: DEDICACION | D16: MESES | E16: VALOR PARCIAL | F16: % SOBRE COSTO DIRECTO
A17: Residente de Obra | B17: =E14 -> 6125000 | C17: 1 | D17: 1 | E17: =ROUND((B17*C17*D17),0) -> 6125000 | F17: =E17/E45 -> 0.042219849
A18: 1.2. COSTOS DEL PROCESO
A19: Polizas y legalizacion del contrato | E19: 5500000 | F19: =E19/E45 -> 0.037911701
A20: 1.3. GASTOS DE OBRA
A21: Edicion de informes | E21: 250000 | F21: =E21/E45 -> 0.0017232591
A22: Seguridad Industrial | E22: 2500000 | F22: =E22/E45 -> 0.017232591
A23: Otros | E23: 6210368.4 | F23: =E23/E45 -> 0.042808296
A24: IMPUESTOS DE OBRA
A25: Otras obigaciones (Impuestos de ley) | E25: =E45*F25 -> 22196314 | F25: 0.153
A26: TOTAL ADMINISTRACION | E26: =SUM(E17:E25) -> 42781682 | F26: =SUM(F17:F25) -> 0.2948957
A28: 2. IMPREVISTOS
A29: DESCRIPCION | D29: VALOR PARCIAL | F29: PORCENTAJE
A30: IMPREVISTOS | D30: =F30*E45 -> 2901478.9 | F30: 0.02
A31: TOTAL UTILIDAD | D31: =D30 -> 2901478.9 | F31: =SUM(F30) -> 0.02
A33: 3. UTILIDAD
A34: DESCRIPCION | D34: VALOR PARCIAL | F34: PORCENTAJE
A35: UTILIDAD | D35: =F35*E45 -> 4352218.3 | F35: 0.03
A36: TOTAL UTILIDAD | D36: =D35 -> 4352218.3 | F36: =SUM(F35) -> 0.03 | H36: xx
A38: TOTAL COSTO DIRECTO A.I.U
A39: RESUMEN
A40: DESCRIPCION | D40: VALOR PARCIAL | F40: PORCENTAJE
A41: ADMINISTRACION | D41: =+F41*E45 -> 42781682 | F41: =F26 -> 0.2948957 | H41: =J41-I41 -> -0.00080001354 | I41: =D41 -> 42781682 | J41: =PRESUPUESTO!G32 -> 42781682
A42: IMPREVISTOS | D42: =F42*E45 -> 2901478.9 | F42: =F31 -> 0.02 | H42: =J42-I42 -> -0.0008000005 | I42: =D42 -> 2901478.9 | J42: =PRESUPUESTO!G33 -> 2901478.9
A43: UTILIDAD | D43: =F43*E45 -> 4352218.3 | F43: =F36 -> 0.03 | H43: =J43-I43 -> 0.0037999991 | I43: =D43 -> 4352218.3 | J43: =PRESUPUESTO!G34 -> 4352218.3
A44: TOTAL | D44: =SUM(D41:E43) -> 50035379 | F44: =SUM(F41:F43) -> 0.3448957
A45: COSTO DIRECTO | E45: =PRESUPUESTO!G31 -> 1.4507394e+08
A46: COSTO INDIRECTO (32%) | E46: =+D44 -> 50035379
...

Sheet BASICOS RURAL
B1: SECRETARIA DE PLANEACIÓN Y OBRA PÚBLICAS | E1: CÓDIGO | G1: 103
E2: SERIE Y SUBSERIE | G2: 51
B3: NIT. 800252922-2
B4: Modelo Integrado de Planeación y Gestión | E4: VERSIÓN | G4: 1
B5: PRESUPUESTO | E5: FECHA DEL FORMATO | G5: D/M/A
G6: =PRESUPUESTO!F6 -> 45402
A7: =+PRESUPUESTO!A8 -> MANTENIMIENTO Y REPARACION DE PUENTE VEHICULAR VIA LA GUISITA EN EL MUNICIPIO DE SAN MIGUEL PUTUMAYO
A11: ANALISIS DE PRECIOS UNITARIOS
A13: BASICO I | B13: MORTERO 1:3 | G13: Unidad: | H13: M3
A15: I | B15: HERRAMIENTA Y EQUIPO
B16: DESCRIPCIÓN | D16: Unidad | E16: Tarifa/Día | F16: Rend | G16: V. Unitario. | I16: ALQUILER EQUIPOS
I17: TROMPO | J17: capa 2 bultos dia | L17: 120000 | M17: =L17/8 -> 15000
I18: VIBRO | J18: alquiler dia | L18: 100000 | M18: =L18/8 -> 12500
E19: SUBTOTAL. | H19: =ROUND(SUM(G17:G18),0) -> 0 | I19: MARTILLO DEMOLEDOR | J19: alquiler dia | L19: 100000 | M19: =L19/8 -> 12500
A20: II | B20: MATERIALES EN OBRA.
B21: DESCRIPCIÓN | D21: Unidad | E21: Cant. | F21: Precio Unit. | G21: V. Unitario. | I21: COSTOS PUESTO EN ZONA RURAL DISPERSA
B22: CEMENTO GRIS TIPO 1 | D22: KG | E22: 450 | F22: =M22 -> 800 | G22: =+F22*E22 -> 360000 | I22: CEMENTO | J22: bulto 50Kg, con transpr | L22: 40000 | M22: =L22/50 -> 800
B23: AGUA | D23: LTS | E23: 260 | F23: 180 | G23: =+F23*E23 -> 46800 | I23: ARENA | J23: viaje de volqueta 5 M3 | L23: 800000 | M23: =L23/5 -> 160000
B24: ARENA DE RIO | D24: M3 | E24: 1.08 | F24: =M23 -> 160000 | G24: =+F24*E24 -> 172800 | I24: TRITURADO | J24: viaje de volqueta 5 M3 | L24: 1625000 | M24: =L24/5 -> 325000
E26: SUBTOTAL | H26: =(SUM(G22:G25)) -> 579600
A27: III | B27: MANO DE OBRA.
B28: DESCRIPCIÓN | C28: H-H | D28: Prestac | E28: Cant. | F28: Rend. | G28: V. Unitario.
E30: SUBTOTAL | H30: =SUM(G29) -> 0
A31: IV | B31: TRANSPORTE
B32: DESCRIPCIÓN | C32: Unidad | D32: Cantidad | E32: Prec.Unitario | G32: Vr. Unitario
E34: SUBTOTAL | H34: =SUM(G33) -> 0
D36: TOTAL COSTOS DIRECTOS. | H36: =ROUND(SUM(H19:H35),0) -> 579600
A37: V | B37: COSTOS INDIRECTOS.
B38: DESCRIPCIÓN | C38: % | D38: COSTO DIRECTO | F38: V. UNITARIO
B39: ADMINISTRACIÓN | C39: 0.1 | G39: =+H36*C39 -> 57960
B40: IMPREVISTOS | C40: 0.02 | G40: =+H36*C40 -> 11592
D41: TOTAL COSTOS INDIRECTOS | H41: =SUM(G39:G40) -> 69552
D43: TOTAL PRECIO UNITARIO. | H43: =ROUND((H36+H41),0) -> 649152
A48: =[12]Presupuesto!C73 -> ARQ. GUILLERMO YAMID VALLEJOS BENAVIDES
A49: =[12]Presupuesto!C74 -> SECRETARIO DE PLANEACION Y OBRAS PUBLICAS
A50: =[12]Presupuesto!C75 -> SAN MIGUEL - PUTUMAYO
B51: SECRETARIA DE PLANEACIÓN Y OBRA PÚBLICAS | E51: CÓDIGO | G51: 103
E52: SERIE Y SUBSERIE | G52: 51
B53: NIT. 800252922-2
B54: Modelo Integrado de Planeación y Gestión | E54: VERSIÓN | G54: 1
...
