Workbook

Sheet 1. Oferentes 1 a 8
C1: VERIFICACIÓN FINANCIERA Y CAPACIDAD ORGANIZACIONAL | N1: Código: GCO-GCI-F107 Versión: 03 Vigencia: 21 de diciembre de 2022 Caso HOLA: 282943
B6: OBJETO: “REALIZAR LA INTERVENTORIA TÉCNICA, ADMINISTRATIVA, FINANCIERA, SISO, JURÍDICA, AMBIENTAL Y CONTABLE A LA EJECUCION DEL CONTRATO DE OBRA PUBLICA QUE CELEBRE EL FONDO DE DESARROLLO LOCAL DE USME COMO RESULTADO DE LA ADJUDICACION DE LA LICITACION PUBLICA QUE TIENE POR OBJETO "REALIZAR LAS OBRAS DE CONSERVACIÓN DE LA MALLA VIAL Y ESPACIO PÚBLICO ASOCIADO EN LA LOCALIDAD DE USME, BOGOTÁ, D.C. A TRAVÉS DEL SISTEMA DE PRECIOS UNITARIOS FIJOS Y A MONTO AGOTABLE”
B7: CONCEPTO / NOMBRE OFERENTE | C7: OSAC S.A.S NIT: 860033402 1 | D7: PROYECTO SANABRIA SAS N.I.T: 901.633.148-6 | E7: MAVECA INGENIERIA SAS NIT:901646981-1 | F7: GRUPO METRO COLOMBIA S.A.S NIT: 830010109 8 | G7: SOLUCIONES AVANZADAS DE INGENIERA Y CONSTRUCCION S A S NIT: 900641841 2 | H7: CODIPRO INGENIERIA Y ARQUITECTURA LTDA CONSTRUCCIONES DISEÑOS Y PROYECTOS NIT: 800172033 2 | I7: INGEBAMER S.A.S. NIT:901194158-5 | J7: CONSORCIO USMINIA | K7: HUPERNIKAO INGENIERIA S.A.S. NIT: 900234357 3 | L7: CONSULTORIA TECNICA DE OBRAS S.A.S. SIGLA C.T.O. INGENIERIA S.A.S. NIT: 900.944.467 - 1 | M7: CONSORCIO HUPK INTERVIAL USME | N7: INGENIEROS CONSTRUCTORES Y ASESORES SAS NIT: 900104908 4 | P7: Datos para validación financiera
B8: Oferente No. | C8: 1 | D8: =C8+1 -> 2 | E8: =D8+1 -> 3 | F8: =E8+1 -> 4 | G8: =F8+1 -> 5 | H8: A | I8: B | J8: =G8+1 -> 6 | K8: A | L8: B | M8: =J8+1 -> 7 | N8: =M8+1 -> 8
B9: BALANCE GENERAL CON CORTE A 31 DE DICIEMBRE DEL AÑO: 2024 | C9: 31-DIC.-2024 RUP | D9: 31-DIC.-2024 RUP | E9: 31-DIC.-2024 RUP | F9: 31-DIC.-2024 RUP | G9: 31-DIC.-2024 RUP | H9: 31-DIC.-2024 RUP | I9: 31-DIC.-2024 RUP | J9: 31-DIC.-2024 RUP | K9: 31-DIC.-2024 RUP | L9: 31-DIC.-2024 RUP | M9: 31-DIC.-2024 RUP | N9: 31-DIC.-2024 RUP
B10: PRESENTACIÓN DE RUP VIGENTE EN TÉRMINO | C10: =IF(C72<=$B$73,"CUMPLE","NO CUMPLE") -> CUMPLE | D10: =IF(D72<=$B$73,"CUMPLE","NO CUMPLE") -> CUMPLE | E10: =IF(E72<=$B$73,"CUMPLE","NO CUMPLE") -> CUMPLE | F10: =IF(F72<=$B$73,"CUMPLE","NO CUMPLE") -> CUMPLE | G10: =IF(G72<=$B$73,"CUMPLE","NO CUMPLE") -> CUMPLE | H10: =IF(H72<=$B$73,"CUMPLE","NO CUMPLE") -> CUMPLE | I10: =IF(I72<=$B$73,"CUMPLE","NO CUMPLE") -> CUMPLE | J10: =IF(COUNTIF(H10:I10,"NO CUMPLE")>=1,"NO CUMPLE","CUMPLE") -> CUMPLE | K10: =IF(K72<=$B$73,"CUMPLE","NO CUMPLE") -> CUMPLE | L10: =IF(L72<=$B$73,"CUMPLE","NO CUMPLE") -> CUMPLE | M10: =IF(COUNTIF(K10:L10,"NO CUMPLE")>=1,"NO CUMPLE","CUMPLE") -> CUMPLE | N10: =IF(N72<=$B$73,"CUMPLE","NO CUMPLE") -> CUMPLE
B11: INFORMACION TOMADA DEL RUP VIGENTE | C11: 1 | D11: 1 | E11: 1 | F11: 1 | G11: 1 | H11: 0.9 | I11: 0.1 | J11: =SUM(H11:I11) -> 1 | K11: 0.9 | L11: 0.1 | M11: =SUM(K11:L11) -> 1 | N11: 1
B12: ACTIVO CORRIENTE | C12: 215852078 | D12: 1346584051 | E12: 96318000 | F12: 5893479654 | G12: 3680196195 | H12: 2454079265 | I12: 289747048 | J12: =SUM(H12:I12) -> 2743826313 | K12: 1090857894 | L12: 475930599 | M12: =SUM(K12:L12) -> 1566788493 | N12: 6544877034
B13: PASIVO CORRIENTE | C13: 34625482 | D13: 359816997 | E13: 0 | F13: 281774166 | G13: 2389173572 | H13: 724182963 | I13: 21225585 | J13: =SUM(H13:I13) -> 745408548 | K13: 189635270 | L13: 329870592 | M13: =SUM(K13:L13) -> 519505862 | N13: 802904736
B14: ACTIVO TOTAL | C14: 286160992 | D14: 1440319685 | E14: 761518000 | F14: 5902352534 | G14: 5842367742 | H14: 2469890314 | I14: 289747048 | J14: =SUM(H14:I14) -> 2759637362 | K14: 1455684402 | L14: 903742751 | M14: =SUM(K14:L14) -> 2359427153 | N14: 8648308736
B15: PASIVO TOTAL | C15: 34625482 | D15: 359816997 | E15: 475408869 | F15: 281774166 | G15: 3227492998 | H15: 861175105 | I15: 21225585 | J15: =SUM(H15:I15) -> 882400690 | K15: 472055665 | L15: 329870592 | M15: =SUM(K15:L15) -> 801926257 | N15: 1992144845
B16: PATRIMONIO | C16: 251535510 | D16: 1080502688 | E16: 286109131 | F16: 5620578368 | G16: 2614874744 | H16: 1608715209 | I16: 268521463 | J16: =SUM(H16:I16) -> 1877236672 | K16: 983628737 | L16: 573872159 | M16: =SUM(K16:L16) -> 1557500896 | N16: 6656163891
B17: Activo total-Pasivo total-Patrimonio | C17: =+C14-C15-C16 -> 0 | D17: =+D14-D15-D16 -> 0 | E17: =+E14-E15-E16 -> 0 | F17: =+F14-F15-F16 -> 0 | G17: =+G14-G15-G16 -> 0 | H17: =+H14-H15-H16 -> 0 | I17: =+I14-I15-I16 -> 0 | J17: =+J14-J15-J16 -> 0 | ... N17: =+N14-N15-N16 -> 0
B18: UTILIDAD OPERACIONAL | C18: 54459875 | D18: 504516920 | E18: 59492896 | F18: 1590767501 | G18: 593156994 | H18: 28597103 | I18: 32748144 | J18: =SUM(H18:I18) -> 61345247 | K18: 275425073 | L18: 44306582 | M18: =SUM(K18:L18) -> 319731655 | N18: 1269585884
B19: GASTOS DE INTERESES | C19: 3332784 | D19: 0 | E19: 325000 | F19: 297101 | G19: 138898061 | H19: 2220720 | I19: 1361421 | J19: =SUM(H19:I19) -> 3582141 | K19: 53842893 | L19: 1395213 | M19: =SUM(K19:L19) -> 55238106 | N19: 12768145
B20: Rentabilidad del Patrimonio (Utilidad Operacional / Patrimonio) | C20: =IFERROR((C18/C16),"-") -> 0.21650969 | D20: =IFERROR((D18/D16),"-") -> 0.46692796 | E20: =IFERROR((E18/E16),"-") -> 0.20793777 | F20: =IFERROR((F18/F16),"-") -> 0.28302559 | G20: =IFERROR((G18/G16),"-") -> 0.22683954 | H20: =IFERROR((H18/H16),"-") -> 0.017776361 | I20: =IFERROR((I18/I16),"-") -> 0.12195727 | J20: =IFERROR((J18/J16),"-") -> 0.032678483 | ... N20: =IFERROR((N18/N16),"-") -> 0.19073837
B21: Rentabilidad del Activo (Utilidad Operacional / Activo Total) | C21: =IFERROR((C18/C14),"-") -> 0.19031201 | D21: =IFERROR((D18/D14),"-") -> 0.35028121 | E21: =IFERROR((E18/E14),"-") -> 0.078124084 | F21: =IFERROR((F18/F14),"-") -> 0.26951415 | G21: =IFERROR((G18/G14),"-") -> 0.10152682 | H21: =IFERROR((H18/H14),"-") -> 0.011578289 | I21: =IFERROR((I18/I14),"-") -> 0.11302322 | J21: =IFERROR((J18/J14),"-") -> 0.02222946 | ... N21: =IFERROR((N18/N14),"-") -> 0.14680164 | P21: MiPyME | Q21: Gran Empresa
B22: VALOR DEL PRESUPUESTO OFICIAL | C22: =IF(C11=1,$P$22,"") -> 344857484 | D22: =IF(D11=1,$P$22,"") -> 344857484 | E22: =IF(E11=1,$P$22,"") -> 344857484 | F22: =IF(F11=1,$P$22,"") -> 344857484 | G22: =IF(G11=1,$P$22,"") -> 344857484 | H22: =IF(H11=1,$P$22,"") | I22: =IF(I11=1,$P$22,"") | J22: =IF(J11=1,$P$22,"") -> 344857484 | ... N22: =IF(N11=1,$P$22,"") -> 344857484 | P22: 344857484 | Q22: =P22 -> 344857484
B23: CRITERIO DE VERIFICACIÓN FINANCIERA | P23: FDLU-CMA-027-2025 (143212)
B24: CUMPLE | P24: 1423500 | Q24: SMMLV 2025
B25: NO CUMPLE | O25: >0 | P25: =Q22/P24 -> 242.26026 | Q25: <4.000 | R25: Rango 1
B26: CRITERIO DE VERIFICACIÓN FINANCIERA | P26: Plazo: | Q26: Seis (6) meses
B27: =CONCATENATE("Índice de Liquidez: ",CHAR(10),$P$21," ≥ ",P27," veces. ",IF($P$21=$Q$21,"",_xlfn.CONCAT($Q$21," ≥ ",Q27," veces."))) -> Índice de Liquidez: MiPyME ≥ 1,1 veces. Gran Empresa ≥ 1,2 veces. | C27: =IFERROR(IF(C74=$P$21,IF(C28>=$P$27,$B$24,$B$25),IF(C28>=$Q$27,$B$24,$B$25)),"-") -> CUMPLE | D27: =IFERROR(IF(D74=$P$21,IF(D28>=$P$27,$B$24,$B$25),IF(D28>=$Q$27,$B$24,$B$25)),"-") -> CUMPLE | E27: =IFERROR(IF(E74=$P$21,IF(E28>=$P$27,$B$24,$B$25),IF(E28>=$Q$27,$B$24,$B$25)),"-") -> CUMPLE | F27: =IFERROR(IF(F74=$P$21,IF(F28>=$P$27,$B$24,$B$25),IF(F28>=$Q$27,$B$24,$B$25)),"-") -> CUMPLE | G27: =IFERROR(IF(G74=$P$21,IF(G28>=$P$27,$B$24,$B$25),IF(G28>=$Q$27,$B$24,$B$25)),"-") -> CUMPLE | J27: =IFERROR(IF(J74=$P$21,IF(J28>=$P$27,$B$24,$B$25),IF(J28>=$Q$27,$B$24,$B$25)),"-") -> CUMPLE | M27: =IFERROR(IF(M74=$P$21,IF(M28>=$P$27,$B$24,$B$25),IF(M28>=$Q$27,$B$24,$B$25)),"-") -> CUMPLE | N27: =IFERROR(IF(N74=$P$21,IF(N28>=$P$27,$B$24,$B$25),IF(N28>=$Q$27,$B$24,$B$25)),"-") -> CUMPLE | P27: 1.1 | Q27: 1.2
B28: IL = Activo corriente / Pasivo corriente | C28: =IFERROR(C12/C13,"-") -> 6.2339083 | D28: =IFERROR(D12/D13,"-") -> 3.7424137 | E28: =IFERROR(E12/E13,"-") -> - | F28: =IFERROR(F12/F13,"-") -> 20.915614 | G28: =IFERROR(G12/G13,"-") -> 1.5403637 | J28: =IFERROR(J12/J13,"-") -> 3.6809697 | M28: =IFERROR(M12/M13,"-") -> 3.0159207 | N28: =IFERROR(N12/N13,"-") -> 8.1514989
B29: =CONCATENATE("Endeudamiento total: ",CHAR(10),$P$21," ≤ ",TEXT(P29,"#0 %"),". ",IF($P$21=$Q$21,"",_xlfn.CONCAT($Q$21," ≤ ",TEXT(Q29,"#0 %.")))) -> Endeudamiento total: MiPyME ≤ 65 %. Gran Empresa ≤ 65 %. | C29: =IFERROR(IF(C74=$P$21,IF(C30<=$P$29,$B$24,$B$25),IF(C30<=$Q$29,$B$24,$B$25)),"-") -> CUMPLE | D29: =IFERROR(IF(D74=$P$21,IF(D30<=$P$29,$B$24,$B$25),IF(D30<=$Q$29,$B$24,$B$25)),"-") -> CUMPLE | E29: =IFERROR(IF(E74=$P$21,IF(E30<=$P$29,$B$24,$B$25),IF(E30<=$Q$29,$B$24,$B$25)),"-") -> CUMPLE | F29: =IFERROR(IF(F74=$P$21,IF(F30<=$P$29,$B$24,$B$25),IF(F30<=$Q$29,$B$24,$B$25)),"-") -> CUMPLE | G29: =IFERROR(IF(G74=$P$21,IF(G30<=$P$29,$B$24,$B$25),IF(G30<=$Q$29,$B$24,$B$25)),"-") -> CUMPLE | J29: =IFERROR(IF(J74=$P$21,IF(J30<=$P$29,$B$24,$B$25),IF(J30<=$Q$29,$B$24,$B$25)),"-") -> CUMPLE | M29: =IFERROR(IF(M74=$P$21,IF(M30<=$P$29,$B$24,$B$25),IF(M30<=$Q$29,$B$24,$B$25)),"-") -> CUMPLE | N29: =IFERROR(IF(N74=$P$21,IF(N30<=$P$29,$B$24,$B$25),IF(N30<=$Q$29,$B$24,$B$25)),"-") -> CUMPLE | P29: 0.65 | Q29: 0.65
B30: ET = (Pasivo total / Activo total)*100 | C30: =IFERROR(C15/C14,"-") -> 0.12100001 | D30: =IFERROR(D15/D14,"-") -> 0.24981745 | E30: =IFERROR(E15/E14,"-") -> 0.62429105 | F30: =IFERROR(F15/F14,"-") -> 0.047739298 | G30: =IFERROR(G15/G14,"-") -> 0.55242894 | J30: =IFERROR(J15/J14,"-") -> 0.31975241 | M30: =IFERROR(M15/M14,"-") -> 0.33988176 | N30: =IFERROR(N15/N14,"-") -> 0.2303508
B31: =CONCATENATE("Razón de Cobertura de Intereses: ",CHAR(10),$P$21," ≥ ",P31," vez(ces) o Indet."," ",IF($P$21=$Q$21,"",_xlfn.CONCAT($Q$21," ≥ ",Q31," vez(ces) o Indet."))) -> Razón de Cobertura de Intereses: MiPyME ≥ 1,5 vez(ces) o Indet. Gran Empresa ≥ 1,5 vez(ces) o Indet. | C31: =IFERROR(IF(C74=$P$21,IF(AND(C32="Indeterminado",C18<=0),$B$25,IF(C32>=$P$31,$B$24,$B$25)),IF(AND(C32="Indeterminado",C18<=0),$B$25,IF(C32>=$Q$31,$B$24,$B$25))),"-") -> CUMPLE | D31: =IFERROR(IF(D74=$P$21,IF(AND(D32="Indeterminado",D18<=0),$B$25,IF(D32>=$P$31,$B$24,$B$25)),IF(AND(D32="Indeterminado",D18<=0),$B$25,IF(D32>=$Q$31,$B$24,$B$25))),"-") -> CUMPLE | E31: =IFERROR(IF(E74=$P$21,IF(AND(E32="Indeterminado",E18<=0),$B$25,IF(E32>=$P$31,$B$24,$B$25)),IF(AND(E32="Indeterminado",E18<=0),$B$25,IF(E32>=$Q$31,$B$24,$B$25))),"-") -> CUMPLE | F31: =IFERROR(IF(F74=$P$21,IF(AND(F32="Indeterminado",F18<=0),$B$25,IF(F32>=$P$31,$B$24,$B$25)),IF(AND(F32="Indeterminado",F18<=0),$B$25,IF(F32>=$Q$31,$B$24,$B$25))),"-") -> CUMPLE | G31: =IFERROR(IF(G74=$P$21,IF(AND(G32="Indeterminado",G18<=0),$B$25,IF(G32>=$P$31,$B$24,$B$25)),IF(AND(G32="Indeterminado",G18<=0),$B$25,IF(G32>=$Q$31,$B$24,$B$25))),"-") -> CUMPLE | J31: =IFERROR(IF(J74=$P$21,IF(AND(J32="Indeterminado",J18<=0),$B$25,IF(J32>=$P$31,$B$24,$B$25)),IF(AND(J32="Indeterminado",J18<=0),$B$25,IF(J32>=$Q$31,$B$24,$B$25))),"-") -> CUMPLE | M31: =IFERROR(IF(M74=$P$21,IF(AND(M32="Indeterminado",M18<=0),$B$25,IF(M32>=$P$31,$B$24,$B$25)),IF(AND(M32="Indeterminado",M18<=0),$B$25,IF(M32>=$Q$31,$B$24,$B$25))),"-") -> CUMPLE | N31: =IFERROR(IF(N74=$P$21,IF(AND(N32="Indeterminado",N18<=0),$B$25,IF(N32>=$P$31,$B$24,$B$25)),IF(AND(N32="Indeterminado",N18<=0),$B$25,IF(N32>=$Q$31,$B$24,$B$25))),"-") -> CUMPLE | P31: 1.5 | Q31: 1.5
B32: RC= (Utilidad Operacional) / (Gastos de Intereses) | C32: =IFERROR(C18/C19,"Indeterminado") -> 16.340655 | D32: =IFERROR(D18/D19,"Indeterminado") -> Indeterminado | E32: =IFERROR(E18/E19,"Indeterminado") -> 183.05506 | F32: =IFERROR(F18/F19,"Indeterminado") -> 5354.2987 | G32: =IFERROR(G18/G19,"Indeterminado") -> 4.2704483 | J32: =IFERROR(J18/J19,"Indeterminado") -> 17.125302 | M32: =IFERROR(M18/M19,"Indeterminado") -> 5.7882444 | N32: =IFERROR(N18/N19,"Indeterminado") -> 99.433855
B33: =CONCATENATE("Capital de trabajo:",CHAR(10),$P$21," ≥ ",TEXT(P33,"0 %")," del PO. ",IF($P$21=$Q$21,"",_xlfn.CONCAT($Q$21," ≥ ",TEXT(Q33,"0 %")," del PO."))) -> Capital de trabajo: MiPyME ≥ 25 % del PO. Gran Empresa ≥ 25 % del PO. | C33: =IFERROR(IF(C74=$P$21,IF(C34>(C22*$P$33),$B$24,$B$25),IF(C34>(C22*$Q$33),$B$24,$B$25)),"-") -> CUMPLE | D33: =IFERROR(IF(D74=$P$21,IF(D34>(D22*$P$33),$B$24,$B$25),IF(D34>(D22*$Q$33),$B$24,$B$25)),"-") -> CUMPLE | E33: =IFERROR(IF(E74=$P$21,IF(E34>(E22*$P$33),$B$24,$B$25),IF(E34>(E22*$Q$33),$B$24,$B$25)),"-") -> CUMPLE | F33: =IFERROR(IF(F74=$P$21,IF(F34>(F22*$P$33),$B$24,$B$25),IF(F34>(F22*$Q$33),$B$24,$B$25)),"-") -> CUMPLE | G33: =IFERROR(IF(G74=$P$21,IF(G34>(G22*$P$33),$B$24,$B$25),IF(G34>(G22*$Q$33),$B$24,$B$25)),"-") -> CUMPLE | J33: =IFERROR(IF(J74=$P$21,IF(J34>(J22*$P$33),$B$24,$B$25),IF(J34>(J22*$Q$33),$B$24,$B$25)),"-") -> CUMPLE | M33: =IFERROR(IF(M74=$P$21,IF(M34>(M22*$P$33),$B$24,$B$25),IF(M34>(M22*$Q$33),$B$24,$B$25)),"-") -> CUMPLE | N33: =IFERROR(IF(N74=$P$21,IF(N34>(N22*$P$33),$B$24,$B$25),IF(N34>(N22*$Q$33),$B$24,$B$25)),"-") -> CUMPLE | P33: 0.25 | Q33: 0.25
B34: =CONCATENATE("CT = Activo Corriente - Pasivo Corriente ≥ ",TEXT((P22*P33),"$###.###.###.##0")) -> CT = Activo Corriente - Pasivo Corriente ≥ $86.214.371 | C34: =IFERROR(C12-C13,"-") -> 181226596 | D34: =IFERROR(D12-D13,"-") -> 986767054 | E34: =IFERROR(E12-E13,"-") -> 96318000 | F34: =IFERROR(F12-F13,"-") -> 5611705488 | G34: =IFERROR(G12-G13,"-") -> 1291022623 | J34: =IFERROR(J12-J13,"-") -> 1998417765 | M34: =IFERROR(M12-M13,"-") -> 1047282631 | N34: =IFERROR(N12-N13,"-") -> 5741972298
B35: CRITERIO DE VERIFICACIÓN CAPACIDAD ORGANIZACIONAL
B37: =CONCATENATE("Indicador Rentabilidad del Patrimonio",CHAR(10),$P$21," ≥ ",TEXT(P37,"#0 %. "),IF($P$21=$Q$21,"",_xlfn.CONCAT($Q$21," ≥ ",TEXT(Q37,"#0 %.")))) -> Indicador Rentabilidad del Patrimonio MiPyME ≥ 2 %. Gran Empresa ≥ 4 %. | C37: =IFERROR(IF((IF(C74=$P$21,IF(C38>=$P$37,$B$24,$B$25),IF(C38>=$Q$37,$B$24,$B$25)))="No hábil",IF(AND(C38<0,C16>0,C74="ESAL"),$B$24,$B$25),IF(C74=$P$21,IF(C38>=$P$37,$B$24,$B$25),IF(C38>=$Q$37,$B$24,$B$25))),"-") -> CUMPLE | D37: =IFERROR(IF((IF(D74=$P$21,IF(D38>=$P$37,$B$24,$B$25),IF(D38>=$Q$37,$B$24,$B$25)))="No hábil",IF(AND(D38<0,D16>0,D74="ESAL"),$B$24,$B$25),IF(D74=$P$21,IF(D38>=$P$37,$B$24,$B$25),IF(D38>=$Q$37,$B$24,$B$25))),"-") -> CUMPLE | E37: =IFERROR(IF((IF(E74=$P$21,IF(E38>=$P$37,$B$24,$B$25),IF(E38>=$Q$37,$B$24,$B$25)))="No hábil",IF(AND(E38<0,E16>0,E74="ESAL"),$B$24,$B$25),IF(E74=$P$21,IF(E38>=$P$37,$B$24,$B$25),IF(E38>=$Q$37,$B$24,$B$25))),"-") -> CUMPLE | F37: =IFERROR(IF((IF(F74=$P$21,IF(F38>=$P$37,$B$24,$B$25),IF(F38>=$Q$37,$B$24,$B$25)))="No hábil",IF(AND(F38<0,F16>0,F74="ESAL"),$B$24,$B$25),IF(F74=$P$21,IF(F38>=$P$37,$B$24,$B$25),IF(F38>=$Q$37,$B$24,$B$25))),"-") -> CUMPLE | G37: =IFERROR(IF((IF(G74=$P$21,IF(G38>=$P$37,$B$24,$B$25),IF(G38>=$Q$37,$B$24,$B$25)))="No hábil",IF(AND(G38<0,G16>0,G74="ESAL"),$B$24,$B$25),IF(G74=$P$21,IF(G38>=$P$37,$B$24,$B$25),IF(G38>=$Q$37,$B$24,$B$25))),"-") -> CUMPLE | H37: - | I37: - | J37: =IFERROR(IF((IF(J74=$P$21,IF(J38>=$P$37,$B$24,$B$25),IF(J38>=$Q$37,$B$24,$B$25)))="No hábil",IF(AND(J38<0,J16>0,J74="ESAL"),$B$24,$B$25),IF(J74=$P$21,IF(J38>=$P$37,$B$24,$B$25),IF(J38>=$Q$37,$B$24,$B$25))),"-") -> CUMPLE | K37: - | L37: - | M37: =IFERROR(IF((IF(M74=$P$21,IF(M38>=$P$37,$B$24,$B$25),IF(M38>=$Q$37,$B$24,$B$25)))="No hábil",IF(AND(M38<0,M16>0,M74="ESAL"),$B$24,$B$25),IF(M74=$P$21,IF(M38>=$P$37,$B$24,$B$25),IF(M38>=$Q$37,$B$24,$B$25))),"-") -> CUMPLE | N37: =IFERROR(IF((IF(N74=$P$21,IF(N38>=$P$37,$B$24,$B$25),IF(N38>=$Q$37,$B$24,$B$25)))="No hábil",IF(AND(N38<0,N16>0,N74="ESAL"),$B$24,$B$25),IF(N74=$P$21,IF(N38>=$P$37,$B$24,$B$25),IF(N38>=$Q$37,$B$24,$B$25))),"-") -> CUMPLE | P37: 0.02 | Q37: 0.04
B38: RP = (Utilidad Operacional / Patrimonio) | C38: =IFERROR(C18/C16,"-") -> 0.21650969 | D38: =IFERROR(D18/D16,"-") -> 0.46692796 | E38: =IFERROR(E18/E16,"-") -> 0.20793777 | F38: =IFERROR(F18/F16,"-") -> 0.28302559 | G38: =IFERROR(G18/G16,"-") -> 0.22683954 | H38: - | I38: - | J38: =IFERROR(J18/J16,"-") -> 0.032678483 | K38: - | L38: - | M38: =IFERROR(M18/M16,"-") -> 0.20528505 | N38: =IFERROR(N18/N16,"-") -> 0.19073837
B39: =CONCATENATE("Indicador Rentabilidad del Activo",CHAR(10),$P$21," ≥ ",TEXT(P39,"#0 %. "),IF($P$21=$Q$21,"",_xlfn.CONCAT($Q$21," ≥ ",TEXT(Q39,"#0 %.")))) -> Indicador Rentabilidad del Activo MiPyME ≥ 1 %. Gran Empresa ≥ 3 %. | C39: =IFERROR(IF((IF(C74=$P$21,IF(C40>=$P$39,$B$24,$B$25),IF(C40>=$Q$39,$B$24,$B$25)))="No hábil",IF(AND(C40<0,C16>0,C74="ESAL"),$B$24,$B$25),IF(C74=$P$21,IF(C40>=$P$39,$B$24,$B$25),IF(C40>=$Q$39,$B$24,$B$25))),"-") -> CUMPLE | D39: =IFERROR(IF((IF(D74=$P$21,IF(D40>=$P$39,$B$24,$B$25),IF(D40>=$Q$39,$B$24,$B$25)))="No hábil",IF(AND(D40<0,D16>0,D74="ESAL"),$B$24,$B$25),IF(D74=$P$21,IF(D40>=$P$39,$B$24,$B$25),IF(D40>=$Q$39,$B$24,$B$25))),"-") -> CUMPLE | E39: =IFERROR(IF((IF(E74=$P$21,IF(E40>=$P$39,$B$24,$B$25),IF(E40>=$Q$39,$B$24,$B$25)))="No hábil",IF(AND(E40<0,E16>0,E74="ESAL"),$B$24,$B$25),IF(E74=$P$21,IF(E40>=$P$39,$B$24,$B$25),IF(E40>=$Q$39,$B$24,$B$25))),"-") -> CUMPLE | F39: =IFERROR(IF((IF(F74=$P$21,IF(F40>=$P$39,$B$24,$B$25),IF(F40>=$Q$39,$B$24,$B$25)))="No hábil",IF(AND(F40<0,F16>0,F74="ESAL"),$B$24,$B$25),IF(F74=$P$21,IF(F40>=$P$39,$B$24,$B$25),IF(F40>=$Q$39,$B$24,$B$25))),"-") -> CUMPLE | G39: =IFERROR(IF((IF(G74=$P$21,IF(G40>=$P$39,$B$24,$B$25),IF(G40>=$Q$39,$B$24,$B$25)))="No hábil",IF(AND(G40<0,G16>0,G74="ESAL"),$B$24,$B$25),IF(G74=$P$21,IF(G40>=$P$39,$B$24,$B$25),IF(G40>=$Q$39,$B$24,$B$25))),"-") -> CUMPLE | H39: - | I39: - | J39: =IFERROR(IF((IF(J74=$P$21,IF(J40>=$P$39,$B$24,$B$25),IF(J40>=$Q$39,$B$24,$B$25)))="No hábil",IF(AND(J40<0,J16>0,J74="ESAL"),$B$24,$B$25),IF(J74=$P$21,IF(J40>=$P$39,$B$24,$B$25),IF(J40>=$Q$39,$B$24,$B$25))),"-") -> CUMPLE | K39: - | L39: - | M39: =IFERROR(IF((IF(M74=$P$21,IF(M40>=$P$39,$B$24,$B$25),IF(M40>=$Q$39,$B$24,$B$25)))="No hábil",IF(AND(M40<0,M16>0,M74="ESAL"),$B$24,$B$25),IF(M74=$P$21,IF(M40>=$P$39,$B$24,$B$25),IF(M40>=$Q$39,$B$24,$B$25))),"-") -> CUMPLE | N39: =IFERROR(IF((IF(N74=$P$21,IF(N40>=$P$39,$B$24,$B$25),IF(N40>=$Q$39,$B$24,$B$25)))="No hábil",IF(AND(N40<0,N16>0,N74="ESAL"),$B$24,$B$25),IF(N74=$P$21,IF(N40>=$P$39,$B$24,$B$25),IF(N40>=$Q$39,$B$24,$B$25))),"-") -> CUMPLE | P39: 0.01 | Q39: 0.03
B40: RA = (Utilidad Operacional / Activo Total) | C40: =IFERROR(C18/C14,"-") -> 0.19031201 | D40: =IFERROR(D18/D14,"-") -> 0.35028121 | E40: =IFERROR(E18/E14,"-") -> 0.078124084 | F40: =IFERROR(F18/F14,"-") -> 0.26951415 | G40: =IFERROR(G18/G14,"-") -> 0.10152682 | H40: - | I40: - | J40: =IFERROR(J18/J14,"-") -> 0.02222946 | K40: - | L40: - | M40: =IFERROR(M18/M14,"-") -> 0.13551241 | N40: =IFERROR(N18/N14,"-") -> 0.14680164
B41: CUMPLIMIENTO REQUISITOS HABLITANTES | C41: =IF(C10="NO CUMPLE","DEBE SUBSANAR",IF(COUNTIF(C27:C40,"NO CUMPLE")>=1,"NO HABILITADO","HABILITADO")) -> HABILITADO | D41: =IF(D10="NO CUMPLE","DEBE SUBSANAR",IF(COUNTIF(D27:D40,"NO CUMPLE")>=1,"NO HABILITADO","HABILITADO")) -> HABILITADO | E41: =IF(E10="NO CUMPLE","DEBE SUBSANAR",IF(COUNTIF(E27:E40,"NO CUMPLE")>=1,"NO HABILITADO","HABILITADO")) -> HABILITADO | F41: =IF(F10="NO CUMPLE","DEBE SUBSANAR",IF(COUNTIF(F27:F40,"NO CUMPLE")>=1,"NO HABILITADO","HABILITADO")) -> HABILITADO | G41: =IF(G10="NO CUMPLE","DEBE SUBSANAR",IF(COUNTIF(G27:G40,"NO CUMPLE")>=1,"NO HABILITADO","HABILITADO")) -> HABILITADO | J41: =IF(J10="NO CUMPLE","DEBE SUBSANAR",IF(COUNTIF(J27:J40,"NO CUMPLE")>=1,"NO HABILITADO","HABILITADO")) -> HABILITADO | M41: =IF(M10="NO CUMPLE","DEBE SUBSANAR",IF(COUNTIF(M27:M40,"NO CUMPLE")>=1,"NO HABILITADO","HABILITADO")) -> HABILITADO | N41: =IF(N10="NO CUMPLE","DEBE SUBSANAR",IF(COUNTIF(N27:N40,"NO CUMPLE")>=1,"NO HABILITADO","HABILITADO")) -> HABILITADO
P42: MiPyME:
B43: NOTA: Una vez verificada la Información Financiera presentada por cada uno de los proponentes, se informa que las sociedades arriba descritas, que | P43: Tratándose de Proponentes Plurales estos indicadores solo se aplicarán si por lo menos uno de los integrantes acredita la calidad de Mipyme de conformidad con lo previsto en el artículo 2.2.1.2.4.2.4. del Decreto 1082 de 2015, o la normas que los modifiquen, sustituyan o complementen, y tienen una participación igual o superior al diez por ciento (10 %) en el Consorcio o en la Unión Temporal.
B44: cumplen con lo solicitado en los pliegos de condiciones definitivos en cuanto a los Indicadores Financieros requeridos, se encuentran HABILITADAS.
B46: =B71 -> Fecha de cierre del proceso:
...

Sheet 2. Oferentes 9 a 13
C1: VERIFICACIÓN FINANCIERA Y CAPACIDAD ORGANIZACIONAL | Q1: Código: GCO-GCI-F107 Versión: 03 Vigencia: 21 de diciembre de 2022 Caso HOLA: 282943
B6: OBJETO: “REALIZAR LA INTERVENTORIA TÉCNICA, ADMINISTRATIVA, FINANCIERA, SISO, JURÍDICA, AMBIENTAL Y CONTABLE A LA EJECUCION DEL CONTRATO DE OBRA PUBLICA QUE CELEBRE EL FONDO DE DESARROLLO LOCAL DE USME COMO RESULTADO DE LA ADJUDICACION DE LA LICITACION PUBLICA QUE TIENE POR OBJETO "REALIZAR LAS OBRAS DE CONSERVACIÓN DE LA MALLA VIAL Y ESPACIO PÚBLICO ASOCIADO EN LA LOCALIDAD DE USME, BOGOTÁ, D.C. A TRAVÉS DEL SISTEMA DE PRECIOS UNITARIOS FIJOS Y A MONTO AGOTABLE”
B7: CONCEPTO / NOMBRE OFERENTE | C7: KALPA INGENIERIA SAS SOCIEDAD DE BENEFICIO E INTERÉS COLECTIVO-BIC NIT: 901506984 3 | D7: SUMAK INGENIERIA S.A.S NIT: 900922872 7 | E7: CONSORCIO 3871 USME | F7: AC2R INGENIERIA Y PROYECTOS S.A.S NIT: 830123577 7 | G7: MARC PROYECTOS S.A.S. NIT: 901.191.916 - 8 | H7: CON Y CON SAS NIT:800232208-2 | I7: CONSORCIO INTERVIAL AMC | J7: MSC INGENIERIA S A S NIT: 830090285 8 | K7: AMV CONSULTORES SAS NIT: 901245617 4 | L7: CORTES LEIVA ASOCIADOS S A S NIT: 900.859.890 - 0 | M7: CONSORCIO VIAL | N7: INGENIEROS CONSULTORES Y CONSTRUCTORES ARG SAS NIT: 900008687 0 | O7: ESTUDIO, DISEÑO Y CONSTRUCCION EN INGENIERIA S.A.S NIT: 901216827 0 | P7: TABIQUE ENGENHARIA LDA. NIT: 900891853 2 | Q7: CONSORCIO VIAL TAED 027-USME | S7: Datos para validación financiera
B8: Oferente No. | C8: A | D8: B | E8: ='1. Oferentes 1 a 8'!N8+1 -> 9 | F8: A | G8: B | H8: C | I8: =E8+1 -> 10 | J8: A | K8: B | L8: C | M8: =I8+1 -> 11 | N8: =M8+1 -> 12 | O8: A | P8: B | Q8: =N8+1 -> 13
B9: BALANCE GENERAL CON CORTE A 31 DE DICIEMBRE DEL AÑO: 2024 | C9: 31-DIC.-2024 RUP | D9: 31-DIC.-2024 RUP | E9: 31-DIC.-2024 RUP | F9: 31-DIC.-2024 RUP | G9: 31-DIC.-2024 RUP | H9: 31-DIC.-2024 RUP | I9: 31-DIC.-2024 RUP | J9: 31-DIC.-2024 RUP | K9: 31-DIC.-2024 RUP | L9: 31-DIC.-2024 RUP | M9: 31-DIC.-2024 RUP | N9: 31-DIC.-2024 RUP | O9: 31-DIC.-2024 RUP | P9: 31-DIC.-2024 RUP | Q9: 31-DIC.-2024 RUP
B10: PRESENTACIÓN DE RUP VIGENTE EN TÉRMINO | C10: =IF(C72<=$B$73,"CUMPLE","NO CUMPLE") -> CUMPLE | D10: =IF(D72<=$B$73,"CUMPLE","NO CUMPLE") -> CUMPLE | E10: =IF(COUNTIF(C10:D10,"NO CUMPLE")>=1,"NO CUMPLE","CUMPLE") -> CUMPLE | F10: =IF(F72<=$B$73,"CUMPLE","NO CUMPLE") -> CUMPLE | G10: =IF(G72<=$B$73,"CUMPLE","NO CUMPLE") -> CUMPLE | H10: =IF(H72<=$B$73,"CUMPLE","NO CUMPLE") -> CUMPLE | I10: =IF(COUNTIF(F10:H10,"NO CUMPLE")>=1,"NO CUMPLE","CUMPLE") -> CUMPLE | J10: =IF(J72<=$B$73,"CUMPLE","NO CUMPLE") -> CUMPLE | K10: =IF(K72<=$B$73,"CUMPLE","NO CUMPLE") -> CUMPLE | L10: =IF(L72<=$B$73,"CUMPLE","NO CUMPLE") -> CUMPLE | M10: =IF(COUNTIF(J10:L10,"NO CUMPLE")>=1,"NO CUMPLE","CUMPLE") -> CUMPLE | N10: =IF(N72<=$B$73,"CUMPLE","NO CUMPLE") -> CUMPLE | O10: =IF(O72<=$B$73,"CUMPLE","NO CUMPLE") -> CUMPLE | P10: =IF(P72<=$B$73,"CUMPLE","NO CUMPLE") -> CUMPLE | Q10: =IF(COUNTIF(O10:P10,"NO CUMPLE")>=1,"NO CUMPLE","CUMPLE") -> CUMPLE
B11: INFORMACION TOMADA DEL RUP VIGENTE | C11: 0.99 | D11: 0.01 | E11: =SUM(C11:D11) -> 1 | F11: 0.4 | G11: 0.4 | H11: 0.2 | I11: =SUM(F11:H11) -> 1 | J11: 0.45 | K11: 0.45 | L11: 0.1 | M11: =SUM(J11:L11) -> 1 | N11: 1 | O11: 0.5 | P11: 0.5 | Q11: =SUM(O11:P11) -> 1
B12: ACTIVO CORRIENTE | C12: 4322492340 | D12: 3774255097 | E12: =SUM(C12:D12) -> 8096747437 | F12: 6066351767 | G12: 1036289375 | H12: 781682291 | I12: =SUM(F12:H12) -> 7884323433 | J12: 879251948 | K12: 1160091309 | L12: 385635843 | M12: =SUM(J12:L12) -> 2424979100 | N12: 2024234243 | O12: 76621082 | P12: 1.1245466e+10 | Q12: =SUM(O12:P12) -> 1.1322087e+10
B13: PASIVO CORRIENTE | C13: 1709972534 | D13: 1586842025 | E13: =SUM(C13:D13) -> 3296814559 | F13: 65655303 | G13: 134427869 | H13: 202062680 | I13: =SUM(F13:H13) -> 402145852 | J13: 24423133 | K13: 825145424 | L13: 11454391 | M13: =SUM(J13:L13) -> 861022948 | N13: 543167712 | O13: 16945934 | P13: 2.7873445e+09 | Q13: =SUM(O13:P13) -> 2.8042905e+09
B14: ACTIVO TOTAL | C14: 4322492340 | D14: 3784679390 | E14: =SUM(C14:D14) -> 8107171730 | F14: 6709005000 | G14: 1491420335 | H14: 1275877748 | I14: =SUM(F14:H14) -> 9476303083 | J14: 879251948 | K14: 1287046751 | L14: 494122470 | M14: =SUM(J14:L14) -> 2660421169 | N14: 2236559243 | O14: 79146936 | P14: 1.172715e+10 | Q14: =SUM(O14:P14) -> 1.1806297e+10
B15: PASIVO TOTAL | C15: 1709972534 | D15: 1586842025 | E15: =SUM(C15:D15) -> 3296814559 | F15: 1385804698 | G15: 949575110 | H15: 243714454 | I15: =SUM(F15:H15) -> 2579094262 | J15: 70367490 | K15: 825145424 | L15: 11454391 | M15: =SUM(J15:L15) -> 906967305 | N15: 1014720545 | O15: 16945934 | P15: 3.5860872e+09 | Q15: =SUM(O15:P15) -> 3.6030332e+09
B16: PATRIMONIO | C16: 2612519806 | D16: 2197837365 | E16: =SUM(C16:D16) -> 4810357171 | F16: 5323200302 | G16: 541845225 | H16: 1032163294 | I16: =SUM(F16:H16) -> 6897208821 | J16: 808884458 | K16: 461901327 | L16: 482668079 | M16: =SUM(J16:L16) -> 1753453864 | N16: 1221838698 | O16: 62201002 | P16: 8.141063e+09 | Q16: =SUM(O16:P16) -> 8.203264e+09
B17: Activo total-Pasivo total-Patrimonio | C17: =+C14-C15-C16 -> 0 | D17: =+D14-D15-D16 -> 0 | E17: =+E14-E15-E16 -> 0 | F17: =+F14-F15-F16 -> 0 | G17: =+G14-G15-G16 -> 0 | H17: =+H14-H15-H16 -> 0 | I17: =+I14-I15-I16 -> 0 | J17: =+J14-J15-J16 -> 0 | ... Q17: =+Q14-Q15-Q16 -> 0.0099983215
B18: UTILIDAD OPERACIONAL | C18: 1657036887 | D18: 419661429 | E18: =SUM(C18:D18) -> 2076698316 | F18: 262951234 | G18: 102283682 | H18: 122009869 | I18: =SUM(F18:H18) -> 487244785 | J18: 20068177 | K18: 314946218 | L18: 27110112 | M18: =SUM(J18:L18) -> 362124507 | N18: 364425271 | O18: 9214117 | P18: 1.3888804e+09 | Q18: =SUM(O18:P18) -> 1.3980945e+09
B19: GASTOS DE INTERESES | C19: 0 | D19: 4801596 | E19: =SUM(C19:D19) -> 4801596 | F19: 58963000 | G19: 234000 | H19: 0 | I19: =SUM(F19:H19) -> 59197000 | J19: 0 | K19: 468800 | L19: 0 | M19: =SUM(J19:L19) -> 468800 | N19: 43628874 | O19: 46000 | P19: 63300725 | Q19: =SUM(O19:P19) -> 63346725
B20: Rentabilidad del Patrimonio (Utilidad Operacional / Patrimonio) | C20: =IFERROR((C18/C16),"-") -> 0.63426768 | D20: =IFERROR((D18/D16),"-") -> 0.19094289 | E20: =IFERROR((E18/E16),"-") -> 0.43171395 | F20: =IFERROR((F18/F16),"-") -> 0.049397208 | G20: =IFERROR((G18/G16),"-") -> 0.18876919 | H20: =IFERROR((H18/H16),"-") -> 0.11820791 | I20: =IFERROR((I18/I16),"-") -> 0.070643763 | J20: =IFERROR((J18/J16),"-") -> 0.024809695 | ... Q20: =IFERROR((Q18/Q16),"-") -> 0.17043149
B21: Rentabilidad del Activo (Utilidad Operacional / Activo Total) | C21: =IFERROR((C18/C14),"-") -> 0.38335219 | D21: =IFERROR((D18/D14),"-") -> 0.11088427 | E21: =IFERROR((E18/E14),"-") -> 0.25615571 | F21: =IFERROR((F18/F14),"-") -> 0.039193775 | G21: =IFERROR((G18/G14),"-") -> 0.068581392 | H21: =IFERROR((H18/H14),"-") -> 0.095628182 | I21: =IFERROR((I18/I14),"-") -> 0.05141718 | J21: =IFERROR((J18/J14),"-") -> 0.022824148 | ... Q21: =IFERROR((Q18/Q14),"-") -> 0.11841939 | S21: MiPyME | T21: Gran Empresa
B22: VALOR DEL PRESUPUESTO OFICIAL | C22: =IF(C11=1,$S$22,"") | D22: =IF(D11=1,$S$22,"") | E22: =IF(E11=1,$S$22,"") -> 344857484 | F22: =IF(F11=1,$S$22,"") | G22: =IF(G11=1,$S$22,"") | H22: =IF(H11=1,$S$22,"") | I22: =IF(I11=1,$S$22,"") -> 344857484 | J22: =IF(J11=1,$S$22,"") | ... Q22: =IF(Q11=1,$S$22,"") -> 344857484 | S22: 344857484 | T22: =S22 -> 344857484
B23: CRITERIO DE VERIFICACIÓN FINANCIERA | S23: FDLU-CMA-027-2025 (143212)
B24: CUMPLE | S24: 1423500 | T24: SMMLV 2025
B25: NO CUMPLE | R25: >0 | S25: =T22/S24 -> 242.26026 | T25: <4.000 | U25: Rango 1
B26: CRITERIO DE VERIFICACIÓN FINANCIERA | S26: Plazo: | T26: Seis (6) meses
B27: =CONCATENATE("Índice de Liquidez: ",CHAR(10),$S$21," ≥ ",S27," veces. ",IF($S$21=$T$21,"",_xlfn.CONCAT($T$21," ≥ ",T27," veces."))) -> Índice de Liquidez: MiPyME ≥ 1,1 veces. Gran Empresa ≥ 1,2 veces. | E27: =IFERROR(IF(E74=$S$21,IF(E28>=$S$27,$B$24,$B$25),IF(E28>=$T$27,$B$24,$B$25)),"-") -> CUMPLE | I27: =IFERROR(IF(I74=$S$21,IF(I28>=$S$27,$B$24,$B$25),IF(I28>=$T$27,$B$24,$B$25)),"-") -> CUMPLE | M27: =IFERROR(IF(M74=$S$21,IF(M28>=$S$27,$B$24,$B$25),IF(M28>=$T$27,$B$24,$B$25)),"-") -> CUMPLE | N27: =IFERROR(IF(N74=$S$21,IF(N28>=$S$27,$B$24,$B$25),IF(N28>=$T$27,$B$24,$B$25)),"-") -> CUMPLE | Q27: =IFERROR(IF(Q74=$S$21,IF(Q28>=$S$27,$B$24,$B$25),IF(Q28>=$T$27,$B$24,$B$25)),"-") -> CUMPLE | S27: 1.1 | T27: 1.2
B28: IL = Activo corriente / Pasivo corriente | E28: =IFERROR(E12/E13,"-") -> 2.4559305 | I28: =IFERROR(I12/I13,"-") -> 19.605632 | M28: =IFERROR(M12/M13,"-") -> 2.8163931 | N28: =IFERROR(N12/N13,"-") -> 3.7267205 | Q28: =IFERROR(Q12/Q13,"-") -> 4.0374158
B29: =CONCATENATE("Endeudamiento total: ",CHAR(10),$S$21," ≤ ",TEXT(S29,"#0 %"),". ",IF($S$21=$T$21,"",_xlfn.CONCAT($T$21," ≤ ",TEXT(T29,"#0 %.")))) -> Endeudamiento total: MiPyME ≤ 65 %. Gran Empresa ≤ 65 %. | E29: =IFERROR(IF(E74=$S$21,IF(E30<=$S$29,$B$24,$B$25),IF(E30<=$T$29,$B$24,$B$25)),"-") -> CUMPLE | I29: =IFERROR(IF(I74=$S$21,IF(I30<=$S$29,$B$24,$B$25),IF(I30<=$T$29,$B$24,$B$25)),"-") -> CUMPLE | M29: =IFERROR(IF(M74=$S$21,IF(M30<=$S$29,$B$24,$B$25),IF(M30<=$T$29,$B$24,$B$25)),"-") -> CUMPLE | N29: =IFERROR(IF(N74=$S$21,IF(N30<=$S$29,$B$24,$B$25),IF(N30<=$T$29,$B$24,$B$25)),"-") -> CUMPLE | Q29: =IFERROR(IF(Q74=$S$21,IF(Q30<=$S$29,$B$24,$B$25),IF(Q30<=$T$29,$B$24,$B$25)),"-") -> CUMPLE | S29: 0.65 | T29: 0.65
B30: ET = (Pasivo total / Activo total)*100 | E30: =IFERROR(E15/E14,"-") -> 0.40665409 | I30: =IFERROR(I15/I14,"-") -> 0.27216249 | M30: =IFERROR(M15/M14,"-") -> 0.34091117 | N30: =IFERROR(N15/N14,"-") -> 0.45369715 | Q30: =IFERROR(Q15/Q14,"-") -> 0.30517893
B31: =CONCATENATE("Razón de Cobertura de Intereses: ",CHAR(10),$S$21," ≥ ",S31," vez(ces) o Indet."," ",IF($S$21=$T$21,"",_xlfn.CONCAT($T$21," ≥ ",T31," vez(ces) o Indet."))) -> Razón de Cobertura de Intereses: MiPyME ≥ 1,5 vez(ces) o Indet. Gran Empresa ≥ 1,5 vez(ces) o Indet. | E31: =IFERROR(IF(E74=$S$21,IF(AND(E32="Indeterminado",E18<=0),$B$25,IF(E32>=$S$31,$B$24,$B$25)),IF(AND(E32="Indeterminado",E18<=0),$B$25,IF(E32>=$T$31,$B$24,$B$25))),"-") -> CUMPLE | I31: =IFERROR(IF(I74=$S$21,IF(AND(I32="Indeterminado",I18<=0),$B$25,IF(I32>=$S$31,$B$24,$B$25)),IF(AND(I32="Indeterminado",I18<=0),$B$25,IF(I32>=$T$31,$B$24,$B$25))),"-") -> CUMPLE | M31: =IFERROR(IF(M74=$S$21,IF(AND(M32="Indeterminado",M18<=0),$B$25,IF(M32>=$S$31,$B$24,$B$25)),IF(AND(M32="Indeterminado",M18<=0),$B$25,IF(M32>=$T$31,$B$24,$B$25))),"-") -> CUMPLE | N31: =IFERROR(IF(N74=$S$21,IF(AND(N32="Indeterminado",N18<=0),$B$25,IF(N32>=$S$31,$B$24,$B$25)),IF(AND(N32="Indeterminado",N18<=0),$B$25,IF(N32>=$T$31,$B$24,$B$25))),"-") -> CUMPLE | Q31: =IFERROR(IF(Q74=$S$21,IF(AND(Q32="Indeterminado",Q18<=0),$B$25,IF(Q32>=$S$31,$B$24,$B$25)),IF(AND(Q32="Indeterminado",Q18<=0),$B$25,IF(Q32>=$T$31,$B$24,$B$25))),"-") -> CUMPLE | S31: 1.5 | T31: 1.5
B32: RC= (Utilidad Operacional) / (Gastos de Intereses) | E32: =IFERROR(E18/E19,"Indeterminado") -> 432.50168 | I32: =IFERROR(I18/I19,"Indeterminado") -> 8.2309033 | M32: =IFERROR(M18/M19,"Indeterminado") -> 772.44989 | N32: =IFERROR(N18/N19,"Indeterminado") -> 8.3528461 | Q32: =IFERROR(Q18/Q19,"Indeterminado") -> 22.070509
B33: =CONCATENATE("Capital de trabajo:",CHAR(10),$S$21," ≥ ",TEXT(S33,"0 %")," del PO. ",IF($S$21=$T$21,"",_xlfn.CONCAT($T$21," ≥ ",TEXT(T33,"0 %")," del PO."))) -> Capital de trabajo: MiPyME ≥ 25 % del PO. Gran Empresa ≥ 25 % del PO. | E33: =IFERROR(IF(E74=$S$21,IF(E34>(E22*$S$33),$B$24,$B$25),IF(E34>(E22*$T$33),$B$24,$B$25)),"-") -> CUMPLE | I33: =IFERROR(IF(I74=$S$21,IF(I34>(I22*$S$33),$B$24,$B$25),IF(I34>(I22*$T$33),$B$24,$B$25)),"-") -> CUMPLE | M33: =IFERROR(IF(M74=$S$21,IF(M34>(M22*$S$33),$B$24,$B$25),IF(M34>(M22*$T$33),$B$24,$B$25)),"-") -> CUMPLE | N33: =IFERROR(IF(N74=$S$21,IF(N34>(N22*$S$33),$B$24,$B$25),IF(N34>(N22*$T$33),$B$24,$B$25)),"-") -> CUMPLE | Q33: =IFERROR(IF(Q74=$S$21,IF(Q34>(Q22*$S$33),$B$24,$B$25),IF(Q34>(Q22*$T$33),$B$24,$B$25)),"-") -> CUMPLE | S33: 0.25 | T33: 0.25
B34: =CONCATENATE("CT = Activo Corriente - Pasivo Corriente ≥ ",TEXT((S22*S33),"$###.###.###.##0")) -> CT = Activo Corriente - Pasivo Corriente ≥ $86.214.371 | E34: =IFERROR(E12-E13,"-") -> 4799932878 | I34: =IFERROR(I12-I13,"-") -> 7482177581 | M34: =IFERROR(M12-M13,"-") -> 1563956152 | N34: =IFERROR(N12-N13,"-") -> 1481066531 | Q34: =IFERROR(Q12-Q13,"-") -> 8.5177963e+09
B35: CRITERIO DE VERIFICACIÓN CAPACIDAD ORGANIZACIONAL
B37: =CONCATENATE("Indicador Rentabilidad del Patrimonio",CHAR(10),$S$21," ≥ ",TEXT(S37,"#0 %. "),IF($S$21=$T$21,"",_xlfn.CONCAT($T$21," ≥ ",TEXT(T37,"#0 %.")))) -> Indicador Rentabilidad del Patrimonio MiPyME ≥ 2 %. Gran Empresa ≥ 4 %. | C37: - | D37: - | E37: =IFERROR(IF((IF(E74=$S$21,IF(E38>=$S$37,$B$24,$B$25),IF(E38>=$T$37,$B$24,$B$25)))="No hábil",IF(AND(E38<0,E16>0,E74="ESAL"),$B$24,$B$25),IF(E74=$S$21,IF(E38>=$S$37,$B$24,$B$25),IF(E38>=$T$37,$B$24,$B$25))),"-") -> CUMPLE | F37: - | G37: - | H37: - | I37: =IFERROR(IF((IF(I74=$S$21,IF(I38>=$S$37,$B$24,$B$25),IF(I38>=$T$37,$B$24,$B$25)))="No hábil",IF(AND(I38<0,I16>0,I74="ESAL"),$B$24,$B$25),IF(I74=$S$21,IF(I38>=$S$37,$B$24,$B$25),IF(I38>=$T$37,$B$24,$B$25))),"-") -> CUMPLE | J37: - | K37: - | L37: - | M37: =IFERROR(IF((IF(M74=$S$21,IF(M38>=$S$37,$B$24,$B$25),IF(M38>=$T$37,$B$24,$B$25)))="No hábil",IF(AND(M38<0,M16>0,M74="ESAL"),$B$24,$B$25),IF(M74=$S$21,IF(M38>=$S$37,$B$24,$B$25),IF(M38>=$T$37,$B$24,$B$25))),"-") -> CUMPLE | N37: =IFERROR(IF((IF(N74=$S$21,IF(N38>=$S$37,$B$24,$B$25),IF(N38>=$T$37,$B$24,$B$25)))="No hábil",IF(AND(N38<0,N16>0,N74="ESAL"),$B$24,$B$25),IF(N74=$S$21,IF(N38>=$S$37,$B$24,$B$25),IF(N38>=$T$37,$B$24,$B$25))),"-") -> CUMPLE | O37: - | P37: - | Q37: =IFERROR(IF((IF(Q74=$S$21,IF(Q38>=$S$37,$B$24,$B$25),IF(Q38>=$T$37,$B$24,$B$25)))="No hábil",IF(AND(Q38<0,Q16>0,Q74="ESAL"),$B$24,$B$25),IF(Q74=$S$21,IF(Q38>=$S$37,$B$24,$B$25),IF(Q38>=$T$37,$B$24,$B$25))),"-") -> CUMPLE | S37: 0.02 | T37: 0.04
B38: RP = (Utilidad Operacional / Patrimonio) | C38: - | D38: - | E38: =IFERROR(E18/E16,"-") -> 0.43171395 | F38: - | G38: - | H38: - | I38: =IFERROR(I18/I16,"-") -> 0.070643763 | J38: - | K38: - | L38: - | M38: =IFERROR(M18/M16,"-") -> 0.20652069 | N38: =IFERROR(N18/N16,"-") -> 0.29825972 | O38: - | P38: - | Q38: =IFERROR(Q18/Q16,"-") -> 0.17043149
B39: =CONCATENATE("Indicador Rentabilidad del Activo",CHAR(10),$S$21," ≥ ",TEXT(S39,"#0 %. "),IF($S$21=$T$21,"",_xlfn.CONCAT($T$21," ≥ ",TEXT(T39,"#0 %.")))) -> Indicador Rentabilidad del Activo MiPyME ≥ 1 %. Gran Empresa ≥ 3 %. | C39: - | D39: - | E39: =IFERROR(IF((IF(E74=$S$21,IF(E40>=$S$39,$B$24,$B$25),IF(E40>=$T$39,$B$24,$B$25)))="No hábil",IF(AND(E40<0,E16>0,E74="ESAL"),$B$24,$B$25),IF(E74=$S$21,IF(E40>=$S$39,$B$24,$B$25),IF(E40>=$T$39,$B$24,$B$25))),"-") -> CUMPLE | F39: - | G39: - | H39: - | I39: =IFERROR(IF((IF(I74=$S$21,IF(I40>=$S$39,$B$24,$B$25),IF(I40>=$T$39,$B$24,$B$25)))="No hábil",IF(AND(I40<0,I16>0,I74="ESAL"),$B$24,$B$25),IF(I74=$S$21,IF(I40>=$S$39,$B$24,$B$25),IF(I40>=$T$39,$B$24,$B$25))),"-") -> CUMPLE | J39: - | K39: - | L39: - | M39: =IFERROR(IF((IF(M74=$S$21,IF(M40>=$S$39,$B$24,$B$25),IF(M40>=$T$39,$B$24,$B$25)))="No hábil",IF(AND(M40<0,M16>0,M74="ESAL"),$B$24,$B$25),IF(M74=$S$21,IF(M40>=$S$39,$B$24,$B$25),IF(M40>=$T$39,$B$24,$B$25))),"-") -> CUMPLE | N39: =IFERROR(IF((IF(N74=$S$21,IF(N40>=$S$39,$B$24,$B$25),IF(N40>=$T$39,$B$24,$B$25)))="No hábil",IF(AND(N40<0,N16>0,N74="ESAL"),$B$24,$B$25),IF(N74=$S$21,IF(N40>=$S$39,$B$24,$B$25),IF(N40>=$T$39,$B$24,$B$25))),"-") -> CUMPLE | O39: - | P39: - | Q39: =IFERROR(IF((IF(Q74=$S$21,IF(Q40>=$S$39,$B$24,$B$25),IF(Q40>=$T$39,$B$24,$B$25)))="No hábil",IF(AND(Q40<0,Q16>0,Q74="ESAL"),$B$24,$B$25),IF(Q74=$S$21,IF(Q40>=$S$39,$B$24,$B$25),IF(Q40>=$T$39,$B$24,$B$25))),"-") -> CUMPLE | S39: 0.01 | T39: 0.03
B40: RA = (Utilidad Operacional / Activo Total) | C40: - | D40: - | E40: =IFERROR(E18/E14,"-") -> 0.25615571 | F40: - | G40: - | H40: - | I40: =IFERROR(I18/I14,"-") -> 0.05141718 | J40: - | K40: - | L40: - | M40: =IFERROR(M18/M14,"-") -> 0.13611548 | N40: =IFERROR(N18/N14,"-") -> 0.16294014 | O40: - | P40: - | Q40: =IFERROR(Q18/Q14,"-") -> 0.11841939
B41: CUMPLIMIENTO REQUISITOS HABLITANTES | E41: =IF(E10="NO CUMPLE","DEBE SUBSANAR",IF(COUNTIF(E27:E40,"NO CUMPLE")>=1,"NO HABILITADO","HABILITADO")) -> HABILITADO | I41: =IF(I10="NO CUMPLE","DEBE SUBSANAR",IF(COUNTIF(I27:I40,"NO CUMPLE")>=1,"NO HABILITADO","HABILITADO")) -> HABILITADO | M41: =IF(M10="NO CUMPLE","DEBE SUBSANAR",IF(COUNTIF(M27:M40,"NO CUMPLE")>=1,"NO HABILITADO","HABILITADO")) -> HABILITADO | N41: =IF(N10="NO CUMPLE","DEBE SUBSANAR",IF(COUNTIF(N27:N40,"NO CUMPLE")>=1,"NO HABILITADO","HABILITADO")) -> HABILITADO | Q41: =IF(Q10="NO CUMPLE","DEBE SUBSANAR",IF(COUNTIF(Q27:Q40,"NO CUMPLE")>=1,"NO HABILITADO","HABILITADO")) -> HABILITADO
S42: MiPyME:
B43: NOTA: Una vez verificada la Información Financiera presentada por cada uno de los proponentes, se informa que las sociedades arriba descritas, que | S43: Tratándose de Proponentes Plurales estos indicadores solo se aplicarán si por lo menos uno de los integrantes acredita la calidad de Mipyme de conformidad con lo previsto en el artículo 2.2.1.2.4.2.4. del Decreto 1082 de 2015, o la normas que los modifiquen, sustituyan o complementen, y tienen una participación igual o superior al diez por ciento (10 %) en el Consorcio o en la Unión Temporal.
B44: cumplen con lo solicitado en los pliegos de condiciones definitivos en cuanto a los Indicadores Financieros requeridos, se encuentran HABILITADAS.
B46: =B71 -> Fecha de cierre del proceso:
...

Sheet 3. Oferentes 14 a 19
C1: VERIFICACIÓN FINANCIERA Y CAPACIDAD ORGANIZACIONAL | Q1: Código: GCO-GCI-F107 Versión: 03 Vigencia: 21 de diciembre de 2022 Caso HOLA: 282943
B6: OBJETO: “REALIZAR LA INTERVENTORIA TÉCNICA, ADMINISTRATIVA, FINANCIERA, SISO, JURÍDICA, AMBIENTAL Y CONTABLE A LA EJECUCION DEL CONTRATO DE OBRA PUBLICA QUE CELEBRE EL FONDO DE DESARROLLO LOCAL DE USME COMO RESULTADO DE LA ADJUDICACION DE LA LICITACION PUBLICA QUE TIENE POR OBJETO "REALIZAR LAS OBRAS DE CONSERVACIÓN DE LA MALLA VIAL Y ESPACIO PÚBLICO ASOCIADO EN LA LOCALIDAD DE USME, BOGOTÁ, D.C. A TRAVÉS DEL SISTEMA DE PRECIOS UNITARIOS FIJOS Y A MONTO AGOTABLE”
B7: CONCEPTO / NOMBRE OFERENTE | C7: HR INGENIERIA SAS NIT: 830133073 1 | D7: AS INGENIERIA Y CONSULTORIA S.A.S NIT:901728234-0 | E7: LEPESQUEUR MARTINEZ ALFREDO JOSE NIT:10766786-4 | F7: CONSORCIO INTEROBRAS USME | G7: ARCELIA ARIAS DIAZ NIT: 41773229 5 | H7: ARENAS PRADA NORTON FERNANDO NIT:93396792-2 | I7: MCPP INGENIERIA SAS NIT: 901957001 3 | J7: CONSORCIO INTER USME | K7: PROYECTISTAS DE COLOMBIA & CIA. S.A.S PROYECTCOL S.A.S NIT:830144388-1 | L7: JMELO INGENIERIA DE PROYECTOS S.A.S. NIT: 900866325 1 | M7: CONSORCIO VIAS PJ | N7: GRUPO IRT S.A.S. NIT: 901.291.784 - 1 | O7: SPL INFRAESTRUCTURA SAS NIT: 901920140 9 | P7: SPL INGENIERIA SAS NIT: 901554678 9 | Q7: CONSORCIO SPL INFRAESTRUCTURA 027 | S7: Datos para validación financiera
B8: Oferente No. | C8: ='2. Oferentes 9 a 13'!Q8+1 -> 14 | D8: A | E8: B | F8: =C8+1 -> 15 | G8: A | H8: B | I8: C | J8: =F8+1 -> 16 | K8: A | L8: B | M8: =J8+1 -> 17 | N8: =M8+1 -> 18 | O8: A | P8: B | Q8: =N8+1 -> 19
B9: BALANCE GENERAL CON CORTE A 31 DE DICIEMBRE DEL AÑO: 2024 | C9: 31-DIC.-2024 RUP | D9: 31-DIC.-2024 RUP | E9: 31-DIC.-2024 RUP | F9: 31-DIC.-2024 RUP | G9: 31-DIC.-2024 RUP | H9: 31-DIC.-2024 RUP | I9: 22-MAY.-2025 RUP | J9: 31-DIC.-2024 RUP | K9: 31-DIC.-2024 RUP | L9: 31-DIC.-2024 RUP | M9: 31-DIC.-2024 RUP | N9: 31-DIC.-2024 RUP | O9: 24-FEB.-2025 RUP | P9: 31-DIC.-2024 RUP | Q9: 31-DIC.-2024 RUP
B10: PRESENTACIÓN DE RUP VIGENTE EN TÉRMINO | C10: =IF(C72<=$B$73,"CUMPLE","NO CUMPLE") -> CUMPLE | D10: =IF(D72<=$B$73,"CUMPLE","NO CUMPLE") -> CUMPLE | E10: =IF(E72<=$B$73,"CUMPLE","NO CUMPLE") -> CUMPLE | F10: =IF(COUNTIF(D10:E10,"NO CUMPLE")>=1,"NO CUMPLE","CUMPLE") -> CUMPLE | G10: =IF(G72<=$B$73,"CUMPLE","NO CUMPLE") -> CUMPLE | H10: =IF(H72<=$B$73,"CUMPLE","NO CUMPLE") -> CUMPLE | I10: =IF(I72<=$B$73,"CUMPLE","NO CUMPLE") -> CUMPLE | J10: =IF(COUNTIF(G10:I10,"NO CUMPLE")>=1,"NO CUMPLE","CUMPLE") -> CUMPLE | K10: =IF(K72<=$B$73,"CUMPLE","NO CUMPLE") -> CUMPLE | L10: =IF(L72<=$B$73,"CUMPLE","NO CUMPLE") -> CUMPLE | M10: =IF(COUNTIF(K10:L10,"NO CUMPLE")>=1,"NO CUMPLE","CUMPLE") -> CUMPLE | N10: =IF(N72<=$B$73,"CUMPLE","NO CUMPLE") -> CUMPLE | O10: =IF(O72<=$B$73,"CUMPLE","NO CUMPLE") -> CUMPLE | P10: =IF(P72<=$B$73,"CUMPLE","NO CUMPLE") -> CUMPLE | Q10: =IF(COUNTIF(O10:P10,"NO CUMPLE")>=1,"NO CUMPLE","CUMPLE") -> CUMPLE
B11: INFORMACION TOMADA DEL RUP VIGENTE | C11: 1 | D11: 0.9 | E11: 0.1 | F11: =SUM(D11:E11) -> 1 | G11: 0.35 | H11: 0.1 | I11: 0.55 | J11: =SUM(G11:I11) -> 1 | K11: 0.6 | L11: 0.4 | M11: =SUM(K11:L11) -> 1 | N11: 1 | O11: 0.9 | P11: 0.1 | Q11: =SUM(O11:P11) -> 1
B12: ACTIVO CORRIENTE | C12: 1457879835 | D12: 757194290 | E12: 1934273583 | F12: =SUM(D12:E12) -> 2691467873 | G12: 859768153 | H12: 1503994085 | I12: 300000000 | J12: =SUM(G12:I12) -> 2663762238 | K12: 3510776903 | L12: 567154000 | M12: =SUM(K12:L12) -> 4077930903 | N12: 414064000 | O12: 100000000 | P12: 339225745 | Q12: =SUM(O12:P12) -> 439225745
B13: PASIVO CORRIENTE | C13: 120364445 | D13: 6314795 | E13: 201221385 | F13: =SUM(D13:E13) -> 207536180 | G13: 40819931 | H13: 9065000 | I13: 0 | J13: =SUM(G13:I13) -> 49884931 | K13: 664142147 | L13: 19586000 | M13: =SUM(K13:L13) -> 683728147 | N13: 5632000 | O13: 0 | P13: 55321057 | Q13: =SUM(O13:P13) -> 55321057
B14: ACTIVO TOTAL | C14: 1479838865 | D14: 757194290 | E14: 3608532785 | F14: =SUM(D14:E14) -> 4365727075 | G14: 2077968554 | H14: 3532144085 | I14: 300000000 | J14: =SUM(G14:I14) -> 5910112639 | K14: 3510776903 | L14: 664340000 | M14: =SUM(K14:L14) -> 4175116903 | N14: 419990000 | O14: 100000000 | P14: 340485745 | Q14: =SUM(O14:P14) -> 440485745
B15: PASIVO TOTAL | C15: 350921791 | D15: 6314795 | E15: 709283926 | F15: =SUM(D15:E15) -> 715598721 | G15: 40819931 | H15: 74565000 | I15: 0 | J15: =SUM(G15:I15) -> 115384931 | K15: 664142147 | L15: 166581000 | M15: =SUM(K15:L15) -> 830723147 | N15: 5632000 | O15: 0 | P15: 209535859 | Q15: =SUM(O15:P15) -> 209535859
B16: PATRIMONIO | C16: 1128917074 | D16: 750879495 | E16: 2899248859 | F16: =SUM(D16:E16) -> 3650128354 | G16: 2037148623 | H16: 3457579085 | I16: 300000000 | J16: =SUM(G16:I16) -> 5794727708 | K16: 2846634756 | L16: 497759000 | M16: =SUM(K16:L16) -> 3344393756 | N16: 414358000 | O16: 100000000 | P16: 130949886 | Q16: =SUM(O16:P16) -> 230949886
B17: Activo total-Pasivo total-Patrimonio | C17: =+C14-C15-C16 -> 0 | D17: =+D14-D15-D16 -> 0 | E17: =+E14-E15-E16 -> 0 | F17: =+F14-F15-F16 -> 0 | G17: =+G14-G15-G16 -> 0 | H17: =+H14-H15-H16 -> 0 | I17: =+I14-I15-I16 -> 0 | J17: =+J14-J15-J16 -> 0 | ... Q17: =+Q14-Q15-Q16 -> 0
B18: UTILIDAD OPERACIONAL | C18: 51389885 | D18: 35438630 | E18: 694366025 | F18: =SUM(D18:E18) -> 729804655 | G18: 2707933 | H18: 206605432 | I18: 0 | J18: =SUM(G18:I18) -> 209313365 | K18: 244232754 | L18: 7757000 | M18: =SUM(K18:L18) -> 251989754 | N18: 131295000 | O18: 0 | P18: 10797473 | Q18: =SUM(O18:P18) -> 10797473
B19: GASTOS DE INTERESES | C19: 1871224 | D19: 0 | E19: 64072586 | F19: =SUM(D19:E19) -> 64072586 | G19: 12051710 | H19: 76945000 | I19: 0 | J19: =SUM(G19:I19) -> 88996710 | K19: 9948026 | L19: 0 | M19: =SUM(K19:L19) -> 9948026 | N19: 46000 | O19: 0 | P19: 994484 | Q19: =SUM(O19:P19) -> 994484
B20: Rentabilidad del Patrimonio (Utilidad Operacional / Patrimonio) | C20: =IFERROR((C18/C16),"-") -> 0.045521399 | D20: =IFERROR((D18/D16),"-") -> 0.047196162 | E20: =IFERROR((E18/E16),"-") -> 0.23949859 | F20: =IFERROR((F18/F16),"-") -> 0.19993945 | G20: =IFERROR((G18/G16),"-") -> 0.0013292761 | H20: =IFERROR((H18/H16),"-") -> 0.059754362 | I20: =IFERROR((I18/I16),"-") -> 0 | J20: =IFERROR((J18/J16),"-") -> 0.036121346 | ... Q20: =IFERROR((Q18/Q16),"-") -> 0.04675245
B21: Rentabilidad del Activo (Utilidad Operacional / Activo Total) | C21: =IFERROR((C18/C14),"-") -> 0.034726676 | D21: =IFERROR((D18/D14),"-") -> 0.046802558 | E21: =IFERROR((E18/E14),"-") -> 0.19242337 | F21: =IFERROR((F18/F14),"-") -> 0.16716681 | G21: =IFERROR((G18/G14),"-") -> 0.0013031636 | H21: =IFERROR((H18/H14),"-") -> 0.058492923 | I21: =IFERROR((I18/I14),"-") -> 0 | J21: =IFERROR((J18/J14),"-") -> 0.035416138 | ... Q21: =IFERROR((Q18/Q14),"-") -> 0.02451265 | S21: MiPyME | T21: Gran Empresa
B22: VALOR DEL PRESUPUESTO OFICIAL | C22: =IF(C11=1,$S$22,"") -> 344857484 | D22: =IF(D11=1,$S$22,"") | E22: =IF(E11=1,$S$22,"") | F22: =IF(F11=1,$S$22,"") -> 344857484 | G22: =IF(G11=1,$S$22,"") | H22: =IF(H11=1,$S$22,"") | I22: =IF(I11=1,$S$22,"") | J22: =IF(J11=1,$S$22,"") -> 344857484 | ... Q22: =IF(Q11=1,$S$22,"") -> 344857484 | S22: 344857484 | T22: =S22 -> 344857484
B23: CRITERIO DE VERIFICACIÓN FINANCIERA | S23: FDLU-CMA-027-2025 (143212)
B24: CUMPLE | S24: 1423500 | T24: SMMLV 2025
B25: NO CUMPLE | R25: >0 | S25: =T22/S24 -> 242.26026 | T25: <4.000 | U25: Rango 1
B26: CRITERIO DE VERIFICACIÓN FINANCIERA | S26: Plazo: | T26: Seis (6) meses
B27: =CONCATENATE("Índice de Liquidez: ",CHAR(10),$S$21," ≥ ",S27," veces. ",IF($S$21=$T$21,"",_xlfn.CONCAT($T$21," ≥ ",T27," veces."))) -> Índice de Liquidez: MiPyME ≥ 1,1 veces. Gran Empresa ≥ 1,2 veces. | C27: =IFERROR(IF(C74=$S$21,IF(C28>=$S$27,$B$24,$B$25),IF(C28>=$T$27,$B$24,$B$25)),"-") -> CUMPLE | F27: =IFERROR(IF(F74=$S$21,IF(F28>=$S$27,$B$24,$B$25),IF(F28>=$T$27,$B$24,$B$25)),"-") -> CUMPLE | J27: =IFERROR(IF(J74=$S$21,IF(J28>=$S$27,$B$24,$B$25),IF(J28>=$T$27,$B$24,$B$25)),"-") -> CUMPLE | M27: =IFERROR(IF(M74=$S$21,IF(M28>=$S$27,$B$24,$B$25),IF(M28>=$T$27,$B$24,$B$25)),"-") -> CUMPLE | N27: =IFERROR(IF(N74=$S$21,IF(N28>=$S$27,$B$24,$B$25),IF(N28>=$T$27,$B$24,$B$25)),"-") -> CUMPLE | Q27: =IFERROR(IF(Q74=$S$21,IF(Q28>=$S$27,$B$24,$B$25),IF(Q28>=$T$27,$B$24,$B$25)),"-") -> CUMPLE | S27: 1.1 | T27: 1.2
B28: IL = Activo corriente / Pasivo corriente | C28: =IFERROR(C12/C13,"-") -> 12.112213 | F28: =IFERROR(F12/F13,"-") -> 12.968668 | J28: =IFERROR(J12/J13,"-") -> 53.398134 | M28: =IFERROR(M12/M13,"-") -> 5.9642578 | N28: =IFERROR(N12/N13,"-") -> 73.519886 | Q28: =IFERROR(Q12/Q13,"-") -> 7.9395762
B29: =CONCATENATE("Endeudamiento total: ",CHAR(10),$S$21," ≤ ",TEXT(S29,"#0 %"),". ",IF($S$21=$T$21,"",_xlfn.CONCAT($T$21," ≤ ",TEXT(T29,"#0 %.")))) -> Endeudamiento total: MiPyME ≤ 65 %. Gran Empresa ≤ 65 %. | C29: =IFERROR(IF(C74=$S$21,IF(C30<=$S$29,$B$24,$B$25),IF(C30<=$T$29,$B$24,$B$25)),"-") -> CUMPLE | F29: =IFERROR(IF(F74=$S$21,IF(F30<=$S$29,$B$24,$B$25),IF(F30<=$T$29,$B$24,$B$25)),"-") -> CUMPLE | J29: =IFERROR(IF(J74=$S$21,IF(J30<=$S$29,$B$24,$B$25),IF(J30<=$T$29,$B$24,$B$25)),"-") -> CUMPLE | M29: =IFERROR(IF(M74=$S$21,IF(M30<=$S$29,$B$24,$B$25),IF(M30<=$T$29,$B$24,$B$25)),"-") -> CUMPLE | N29: =IFERROR(IF(N74=$S$21,IF(N30<=$S$29,$B$24,$B$25),IF(N30<=$T$29,$B$24,$B$25)),"-") -> CUMPLE | Q29: =IFERROR(IF(Q74=$S$21,IF(Q30<=$S$29,$B$24,$B$25),IF(Q30<=$T$29,$B$24,$B$25)),"-") -> CUMPLE | S29: 0.65 | T29: 0.65
B30: ET = (Pasivo total / Activo total)*100 | C30: =IFERROR(C15/C14,"-") -> 0.23713514 | F30: =IFERROR(F15/F14,"-") -> 0.16391284 | J30: =IFERROR(J15/J14,"-") -> 0.019523305 | M30: =IFERROR(M15/M14,"-") -> 0.19897003 | N30: =IFERROR(N15/N14,"-") -> 0.013409843 | Q30: =IFERROR(Q15/Q14,"-") -> 0.47569271
B31: =CONCATENATE("Razón de Cobertura de Intereses: ",CHAR(10),$S$21," ≥ ",S31," vez(ces) o Indet."," ",IF($S$21=$T$21,"",_xlfn.CONCAT($T$21," ≥ ",T31," vez(ces) o Indet."))) -> Razón de Cobertura de Intereses: MiPyME ≥ 1,5 vez(ces) o Indet. Gran Empresa ≥ 1,5 vez(ces) o Indet. | C31: =IFERROR(IF(C74=$S$21,IF(AND(C32="Indeterminado",C18<=0),$B$25,IF(C32>=$S$31,$B$24,$B$25)),IF(AND(C32="Indeterminado",C18<=0),$B$25,IF(C32>=$T$31,$B$24,$B$25))),"-") -> CUMPLE | F31: =IFERROR(IF(F74=$S$21,IF(AND(F32="Indeterminado",F18<=0),$B$25,IF(F32>=$S$31,$B$24,$B$25)),IF(AND(F32="Indeterminado",F18<=0),$B$25,IF(F32>=$T$31,$B$24,$B$25))),"-") -> CUMPLE | J31: =IFERROR(IF(J74=$S$21,IF(AND(J32="Indeterminado",J18<=0),$B$25,IF(J32>=$S$31,$B$24,$B$25)),IF(AND(J32="Indeterminado",J18<=0),$B$25,IF(J32>=$T$31,$B$24,$B$25))),"-") -> CUMPLE | M31: =IFERROR(IF(M74=$S$21,IF(AND(M32="Indeterminado",M18<=0),$B$25,IF(M32>=$S$31,$B$24,$B$25)),IF(AND(M32="Indeterminado",M18<=0),$B$25,IF(M32>=$T$31,$B$24,$B$25))),"-") -> CUMPLE | N31: =IFERROR(IF(N74=$S$21,IF(AND(N32="Indeterminado",N18<=0),$B$25,IF(N32>=$S$31,$B$24,$B$25)),IF(AND(N32="Indeterminado",N18<=0),$B$25,IF(N32>=$T$31,$B$24,$B$25))),"-") -> CUMPLE | Q31: =IFERROR(IF(Q74=$S$21,IF(AND(Q32="Indeterminado",Q18<=0),$B$25,IF(Q32>=$S$31,$B$24,$B$25)),IF(AND(Q32="Indeterminado",Q18<=0),$B$25,IF(Q32>=$T$31,$B$24,$B$25))),"-") -> CUMPLE | S31: 1.5 | T31: 1.5
B32: RC= (Utilidad Operacional) / (Gastos de Intereses) | C32: =IFERROR(C18/C19,"Indeterminado") -> 27.463246 | F32: =IFERROR(F18/F19,"Indeterminado") -> 11.390279 | J32: =IFERROR(J18/J19,"Indeterminado") -> 2.3519225 | M32: =IFERROR(M18/M19,"Indeterminado") -> 25.330629 | N32: =IFERROR(N18/N19,"Indeterminado") -> 2854.2391 | Q32: =IFERROR(Q18/Q19,"Indeterminado") -> 10.857362
B33: =CONCATENATE("Capital de trabajo:",CHAR(10),$S$21," ≥ ",TEXT(S33,"0 %")," del PO. ",IF($S$21=$T$21,"",_xlfn.CONCAT($T$21," ≥ ",TEXT(T33,"0 %")," del PO."))) -> Capital de trabajo: MiPyME ≥ 25 % del PO. Gran Empresa ≥ 25 % del PO. | C33: =IFERROR(IF(C74=$S$21,IF(C34>(C22*$S$33),$B$24,$B$25),IF(C34>(C22*$T$33),$B$24,$B$25)),"-") -> CUMPLE | F33: =IFERROR(IF(F74=$S$21,IF(F34>(F22*$S$33),$B$24,$B$25),IF(F34>(F22*$T$33),$B$24,$B$25)),"-") -> CUMPLE | J33: =IFERROR(IF(J74=$S$21,IF(J34>(J22*$S$33),$B$24,$B$25),IF(J34>(J22*$T$33),$B$24,$B$25)),"-") -> CUMPLE | M33: =IFERROR(IF(M74=$S$21,IF(M34>(M22*$S$33),$B$24,$B$25),IF(M34>(M22*$T$33),$B$24,$B$25)),"-") -> CUMPLE | N33: =IFERROR(IF(N74=$S$21,IF(N34>(N22*$S$33),$B$24,$B$25),IF(N34>(N22*$T$33),$B$24,$B$25)),"-") -> CUMPLE | Q33: =IFERROR(IF(Q74=$S$21,IF(Q34>(Q22*$S$33),$B$24,$B$25),IF(Q34>(Q22*$T$33),$B$24,$B$25)),"-") -> CUMPLE | S33: 0.25 | T33: 0.25
B34: =CONCATENATE("CT = Activo Corriente - Pasivo Corriente ≥ ",TEXT((S22*S33),"$###.###.###.##0")) -> CT = Activo Corriente - Pasivo Corriente ≥ $86.214.371 | C34: =IFERROR(C12-C13,"-") -> 1337515390 | F34: =IFERROR(F12-F13,"-") -> 2483931693 | J34: =IFERROR(J12-J13,"-") -> 2613877307 | M34: =IFERROR(M12-M13,"-") -> 3394202756 | N34: =IFERROR(N12-N13,"-") -> 408432000 | Q34: =IFERROR(Q12-Q13,"-") -> 383904688
B35: CRITERIO DE VERIFICACIÓN CAPACIDAD ORGANIZACIONAL
B37: =CONCATENATE("Indicador Rentabilidad del Patrimonio",CHAR(10),$S$21," ≥ ",TEXT(S37,"#0 %. "),IF($S$21=$T$21,"",_xlfn.CONCAT($T$21," ≥ ",TEXT(T37,"#0 %.")))) -> Indicador Rentabilidad del Patrimonio MiPyME ≥ 2 %. Gran Empresa ≥ 4 %. | C37: =IFERROR(IF((IF(C74=$S$21,IF(C38>=$S$37,$B$24,$B$25),IF(C38>=$T$37,$B$24,$B$25)))="No hábil",IF(AND(C38<0,C16>0,C74="ESAL"),$B$24,$B$25),IF(C74=$S$21,IF(C38>=$S$37,$B$24,$B$25),IF(C38>=$T$37,$B$24,$B$25))),"-") -> CUMPLE | D37: - | E37: - | F37: =IFERROR(IF((IF(F74=$S$21,IF(F38>=$S$37,$B$24,$B$25),IF(F38>=$T$37,$B$24,$B$25)))="No hábil",IF(AND(F38<0,F16>0,F74="ESAL"),$B$24,$B$25),IF(F74=$S$21,IF(F38>=$S$37,$B$24,$B$25),IF(F38>=$T$37,$B$24,$B$25))),"-") -> CUMPLE | G37: - | H37: - | I37: - | J37: =IFERROR(IF((IF(J74=$S$21,IF(J38>=$S$37,$B$24,$B$25),IF(J38>=$T$37,$B$24,$B$25)))="No hábil",IF(AND(J38<0,J16>0,J74="ESAL"),$B$24,$B$25),IF(J74=$S$21,IF(J38>=$S$37,$B$24,$B$25),IF(J38>=$T$37,$B$24,$B$25))),"-") -> CUMPLE | K37: - | L37: - | M37: =IFERROR(IF((IF(M74=$S$21,IF(M38>=$S$37,$B$24,$B$25),IF(M38>=$T$37,$B$24,$B$25)))="No hábil",IF(AND(M38<0,M16>0,M74="ESAL"),$B$24,$B$25),IF(M74=$S$21,IF(M38>=$S$37,$B$24,$B$25),IF(M38>=$T$37,$B$24,$B$25))),"-") -> CUMPLE | N37: =IFERROR(IF((IF(N74=$S$21,IF(N38>=$S$37,$B$24,$B$25),IF(N38>=$T$37,$B$24,$B$25)))="No hábil",IF(AND(N38<0,N16>0,N74="ESAL"),$B$24,$B$25),IF(N74=$S$21,IF(N38>=$S$37,$B$24,$B$25),IF(N38>=$T$37,$B$24,$B$25))),"-") -> CUMPLE | O37: - | P37: - | Q37: =IFERROR(IF((IF(Q74=$S$21,IF(Q38>=$S$37,$B$24,$B$25),IF(Q38>=$T$37,$B$24,$B$25)))="No hábil",IF(AND(Q38<0,Q16>0,Q74="ESAL"),$B$24,$B$25),IF(Q74=$S$21,IF(Q38>=$S$37,$B$24,$B$25),IF(Q38>=$T$37,$B$24,$B$25))),"-") -> CUMPLE | S37: 0.02 | T37: 0.04
B38: RP = (Utilidad Operacional / Patrimonio) | C38: =IFERROR(C18/C16,"-") -> 0.045521399 | D38: - | E38: - | F38: =IFERROR(F18/F16,"-") -> 0.19993945 | G38: - | H38: - | I38: - | J38: =IFERROR(J18/J16,"-") -> 0.036121346 | K38: - | L38: - | M38: =IFERROR(M18/M16,"-") -> 0.075346916 | N38: =IFERROR(N18/N16,"-") -> 0.31686368 | O38: - | P38: - | Q38: =IFERROR(Q18/Q16,"-") -> 0.04675245
B39: =CONCATENATE("Indicador Rentabilidad del Activo",CHAR(10),$S$21," ≥ ",TEXT(S39,"#0 %. "),IF($S$21=$T$21,"",_xlfn.CONCAT($T$21," ≥ ",TEXT(T39,"#0 %.")))) -> Indicador Rentabilidad del Activo MiPyME ≥ 1 %. Gran Empresa ≥ 3 %. | C39: =IFERROR(IF((IF(C74=$S$21,IF(C40>=$S$39,$B$24,$B$25),IF(C40>=$T$39,$B$24,$B$25)))="No hábil",IF(AND(C40<0,C16>0,C74="ESAL"),$B$24,$B$25),IF(C74=$S$21,IF(C40>=$S$39,$B$24,$B$25),IF(C40>=$T$39,$B$24,$B$25))),"-") -> CUMPLE | D39: - | E39: - | F39: =IFERROR(IF((IF(F74=$S$21,IF(F40>=$S$39,$B$24,$B$25),IF(F40>=$T$39,$B$24,$B$25)))="No hábil",IF(AND(F40<0,F16>0,F74="ESAL"),$B$24,$B$25),IF(F74=$S$21,IF(F40>=$S$39,$B$24,$B$25),IF(F40>=$T$39,$B$24,$B$25))),"-") -> CUMPLE | G39: - | H39: - | I39: - | J39: =IFERROR(IF((IF(J74=$S$21,IF(J40>=$S$39,$B$24,$B$25),IF(J40>=$T$39,$B$24,$B$25)))="No hábil",IF(AND(J40<0,J16>0,J74="ESAL"),$B$24,$B$25),IF(J74=$S$21,IF(J40>=$S$39,$B$24,$B$25),IF(J40>=$T$39,$B$24,$B$25))),"-") -> CUMPLE | K39: - | L39: - | M39: =IFERROR(IF((IF(M74=$S$21,IF(M40>=$S$39,$B$24,$B$25),IF(M40>=$T$39,$B$24,$B$25)))="No hábil",IF(AND(M40<0,M16>0,M74="ESAL"),$B$24,$B$25),IF(M74=$S$21,IF(M40>=$S$39,$B$24,$B$25),IF(M40>=$T$39,$B$24,$B$25))),"-") -> CUMPLE | N39: =IFERROR(IF((IF(N74=$S$21,IF(N40>=$S$39,$B$24,$B$25),IF(N40>=$T$39,$B$24,$B$25)))="No hábil",IF(AND(N40<0,N16>0,N74="ESAL"),$B$24,$B$25),IF(N74=$S$21,IF(N40>=$S$39,$B$24,$B$25),IF(N40>=$T$39,$B$24,$B$25))),"-") -> CUMPLE | O39: - | P39: - | Q39: =IFERROR(IF((IF(Q74=$S$21,IF(Q40>=$S$39,$B$24,$B$25),IF(Q40>=$T$39,$B$24,$B$25)))="No hábil",IF(AND(Q40<0,Q16>0,Q74="ESAL"),$B$24,$B$25),IF(Q74=$S$21,IF(Q40>=$S$39,$B$24,$B$25),IF(Q40>=$T$39,$B$24,$B$25))),"-") -> CUMPLE | S39: 0.01 | T39: 0.03
B40: RA = (Utilidad Operacional / Activo Total) | C40: =IFERROR(C18/C14,"-") -> 0.034726676 | D40: - | E40: - | F40: =IFERROR(F18/F14,"-") -> 0.16716681 | G40: - | H40: - | I40: - | J40: =IFERROR(J18/J14,"-") -> 0.035416138 | K40: - | L40: - | M40: =IFERROR(M18/M14,"-") -> 0.060355137 | N40: =IFERROR(N18/N14,"-") -> 0.31261459 | O40: - | P40: - | Q40: =IFERROR(Q18/Q14,"-") -> 0.02451265
B41: CUMPLIMIENTO REQUISITOS HABLITANTES | C41: =IF(C10="NO CUMPLE","DEBE SUBSANAR",IF(COUNTIF(C27:C40,"NO CUMPLE")>=1,"NO HABILITADO","HABILITADO")) -> HABILITADO | F41: =IF(F10="NO CUMPLE","DEBE SUBSANAR",IF(COUNTIF(F27:F40,"NO CUMPLE")>=1,"NO HABILITADO","HABILITADO")) -> HABILITADO | J41: =IF(J10="NO CUMPLE","DEBE SUBSANAR",IF(COUNTIF(J27:J40,"NO CUMPLE")>=1,"NO HABILITADO","HABILITADO")) -> HABILITADO | M41: =IF(M10="NO CUMPLE","DEBE SUBSANAR",IF(COUNTIF(M27:M40,"NO CUMPLE")>=1,"NO HABILITADO","HABILITADO")) -> HABILITADO | N41: =IF(N10="NO CUMPLE","DEBE SUBSANAR",IF(COUNTIF(N27:N40,"NO CUMPLE")>=1,"NO HABILITADO","HABILITADO")) -> HABILITADO | Q41: =IF(Q10="NO CUMPLE","DEBE SUBSANAR",IF(COUNTIF(Q27:Q40,"NO CUMPLE")>=1,"NO HABILITADO","HABILITADO")) -> HABILITADO
S42: MiPyME:
B43: NOTA: Una vez verificada la Información Financiera presentada por cada uno de los proponentes, se informa que las sociedades arriba descritas, que | S43: Tratándose de Proponentes Plurales estos indicadores solo se aplicarán si por lo menos uno de los integrantes acredita la calidad de Mipyme de conformidad con lo previsto en el artículo 2.2.1.2.4.2.4. del Decreto 1082 de 2015, o la normas que los modifiquen, sustituyan o complementen, y tienen una participación igual o superior al diez por ciento (10 %) en el Consorcio o en la Unión Temporal.
B44: cumplen con lo solicitado en los pliegos de condiciones definitivos en cuanto a los Indicadores Financieros requeridos, se encuentran HABILITADAS.
B46: =B71 -> Fecha de cierre del proceso:
...

Sheet 4. Oferentes 20 a 27
C1: VERIFICACIÓN FINANCIERA Y CAPACIDAD ORGANIZACIONAL | N1: Código: GCO-GCI-F107 Versión: 03 Vigencia: 21 de diciembre de 2022 Caso HOLA: 282943
B6: OBJETO: “REALIZAR LA INTERVENTORIA TÉCNICA, ADMINISTRATIVA, FINANCIERA, SISO, JURÍDICA, AMBIENTAL Y CONTABLE A LA EJECUCION DEL CONTRATO DE OBRA PUBLICA QUE CELEBRE EL FONDO DE DESARROLLO LOCAL DE USME COMO RESULTADO DE LA ADJUDICACION DE LA LICITACION PUBLICA QUE TIENE POR OBJETO "REALIZAR LAS OBRAS DE CONSERVACIÓN DE LA MALLA VIAL Y ESPACIO PÚBLICO ASOCIADO EN LA LOCALIDAD DE USME, BOGOTÁ, D.C. A TRAVÉS DEL SISTEMA DE PRECIOS UNITARIOS FIJOS Y A MONTO AGOTABLE”
B7: CONCEPTO / NOMBRE OFERENTE | C7: INVESTMENT & CONSTRUCTION SAS NIT: 900224218 5 | D7: PROYECTISTAS ASOCIADOS SAS NIT: 900426155 7 | E7: CONSTRUCTORA TEATINO VARGAS - CONSTRUTEV S.A.S NIT: 830512601 5 | F7: CONSORCIO VÍAS URBANAS P&C U-027 | G7: INTERVENTORIA Y CONSTRUCIVILES S.A.S NIT: 900107376 1 | H7: EQUILATERO ARQUITECTURA E INGENIERÍA SAS NIT: 901272510-1 | I7: MIRS LATINOAMERICA S A S NIT: 900241875 6 | J7: R & M CONSTRUCCIONES E INTERVENTORIAS S A S NIT: 830028126 2 | K7: KONSTRUCCIONES Y KONSULTORIAS S.A.S SIGLA:KONKON S.A.S NIT:901839938-3 | L7: ENVIRONMENTAL AND GEOMECHANICAL SOLUTIONS EGS SAS NIT: 900573269 7 | M7: JAPG INGENIERÍA SAS NIT: 901795306 8 | N7: CONSORCIO INT VUM 25 | P7: Datos para validación financiera
B8: Oferente No. | C8: ='3. Oferentes 14 a 19'!Q8+1 -> 20 | D8: A | E8: B | F8: =C8+1 -> 21 | G8: =F8+1 -> 22 | H8: =G8+1 -> 23 | I8: =H8+1 -> 24 | J8: =I8+1 -> 25 | K8: =J8+1 -> 26 | L8: A | M8: B | N8: =K8+1 -> 27
B9: BALANCE GENERAL CON CORTE A 31 DE DICIEMBRE DEL AÑO: 2024 | C9: 31-DIC.-2024 RUP | D9: 31-DIC.-2024 RUP | E9: 31-DIC.-2024 RUP | F9: 31-DIC.-2024 RUP | G9: 31-DIC.-2024 RUP | H9: 31-DIC.-2024 RUP | I9: 31-DIC.-2024 RUP | J9: 31-DIC.-2024 RUP | K9: 31-DIC.-2024 RUP | L9: 31-DIC.-2024 RUP | M9: 31-DIC.-2024 RUP | N9: 31-DIC.-2024 RUP
B10: PRESENTACIÓN DE RUP VIGENTE EN TÉRMINO | C10: =IF(C72<=$B$73,"CUMPLE","NO CUMPLE") -> CUMPLE | D10: =IF(D72<=$B$73,"CUMPLE","NO CUMPLE") -> CUMPLE | E10: =IF(E72<=$B$73,"CUMPLE","NO CUMPLE") -> CUMPLE | F10: =IF(COUNTIF(D10:E10,"NO CUMPLE")>=1,"NO CUMPLE","CUMPLE") -> CUMPLE | G10: =IF(G72<=$B$73,"CUMPLE","NO CUMPLE") -> CUMPLE | H10: =IF(H72<=$B$73,"CUMPLE","NO CUMPLE") -> CUMPLE | I10: =IF(I72<=$B$73,"CUMPLE","NO CUMPLE") -> CUMPLE | J10: =IF(J72<=$B$73,"CUMPLE","NO CUMPLE") -> CUMPLE | K10: =IF(K72<=$B$73,"CUMPLE","NO CUMPLE") -> CUMPLE | L10: =IF(L72<=$B$73,"CUMPLE","NO CUMPLE") -> CUMPLE | M10: =IF(M72<=$B$73,"CUMPLE","NO CUMPLE") -> CUMPLE | N10: =IF(COUNTIF(L10:M10,"NO CUMPLE")>=1,"NO CUMPLE","CUMPLE") -> CUMPLE
B11: INFORMACION TOMADA DEL RUP VIGENTE | C11: 1 | D11: 0.91 | E11: 0.09 | F11: =SUM(D11:E11) -> 1 | G11: 1 | H11: 1 | I11: 1 | J11: 1 | K11: 1 | L11: 0.9 | M11: 0.1 | N11: =SUM(L11:M11) -> 1
B12: ACTIVO CORRIENTE | C12: 673712000 | D12: 4405927512 | E12: 2468805755 | F12: =SUM(D12:E12) -> 6874733267 | G12: 2098030864 | H12: 641795229 | I12: 12037051207 | J12: 3705875802 | K12: 2002000000 | L12: 1703170880 | M12: 105500000 | N12: =SUM(L12:M12) -> 1808670880
B13: PASIVO CORRIENTE | C13: 39783900 | D13: 956671956 | E13: 233774736 | F13: =SUM(D13:E13) -> 1190446692 | G13: 508404352 | H13: 66839189 | I13: 382523581 | J13: 342227519 | K13: 51520000 | L13: 119872910 | M13: 1850000 | N13: =SUM(L13:M13) -> 121722910
B14: ACTIVO TOTAL | C14: 1613114000 | D14: 6761210620 | E14: 3035024936 | F14: =SUM(D14:E14) -> 9796235556 | G14: 3964420864 | H14: 739886871 | I14: 12204499539 | J14: 6517780388 | K14: 2037021000 | L14: 4782035780 | M14: 125000000 | N14: =SUM(L14:M14) -> 4907035780
