Workbook

Sheet Instrucciones
E2: Código: BS-FT-041
E4: Versión: 1
B5: Proceso de Gestión Financiera
B6: Revisión de Idoneidad Profesional para Contratos de Prestación de Servicios Profesionales y de Apoyos a la Gestión
B8: INSTRUCCIONES PARA EL DILIGENCIAMIENTO DEL FORMATO
B9: NO IMPRIMIR
B10: 1. Generalidades
B12: a) Objetivo: Verificar la idoneidad profesional de personas naturales cuando la necesidad a contratar corresponde a servicios profesionales y de apoyo a la gestión
B13: b) Si hay un procedimiento que refiera este formato (Nombre y código):BS-FT-001 Detección de Necesidades y Solicitud de CDP_V15
B14: c) Quién(es) lo diligencian: El gestor de la necesidad
B15: d) Frecuencia de diligenciamiento: Cuando exista la necesidad de suscribir un contrato de prestación de servicios y de apoyos a la gestión
B16: e) Qué trámite surte el formato una vez diligenciado: Reposa como soporte del documento de detección de necesidades y solicitud de CDP
B17: f) Si se requiere imprimir (en lo posible no): No se requiere imprimir
B18: g) Quíén lo guarda: El usuario comprador en el expediente de la etapa precontractual del contrato
B20: 2. Instrucciones para diligenciar las casillas
B22: NOMBRE DE LA CASILLA | C22: INSTRUCCIONES | E22: TENER EN CUENTA
B23: Verificador | C23: Indicar el nombre y apellidos así como el cargo del gestor de la necesidad o de la persona que va a realizar la verificación de la idoneidad profesional para contratos de prestación de servicios profesionales y de apoyos a la gestión. | E23: No aplica
B24: Tabla de Honorarios CREG | C24: Seleccionar el número de nivel correspondiente al futuro contratista, conforme a la necesidad identificada y de acuerdo con la tabla de honorarios vigente. Esta selección debe realizarse mediante la lista desplegable habilitada en el formulario. La información de las filas siguientes en este item, se reflejarán de forma automática, la cual se encuentra parametrizada conforme con la tabla de honorarios. | E24: No aplica
B25: Formación Académica | C25: Relacionar el nombre del título profesional y del posgrado del futuro contratista objeto de verificación de la idoneidad. Así mismo, marque con una X en los campos de Cumple / No Cumple según corresponda, de acuerdo a la necesidad identificada a contratar. | E25: No aplica
B26: Experiencia Laboral | C26: Indicar el nombre de cada una de las entidades o empresas que emitieron certificaciones de experiencia laboral, especificando la fecha de inicio y la fecha de retiro conforme a lo señalado en cada certificación aportada. Posteriormente, marque con una “X” la opción correspondiente en la columna Cumple / No Cumple, según la verificación realizada frente a la necesidad identificada para el proceso de contratación, así como en el total de experiencia. | E26: No aplica
B27: Aplicación de Equivalencia | C27: Seleccione, mediante la lista desplegable, la opción que corresponda según la equivalencia requerida para cumplir con el perfil definido en la detección de necesidades y en la solicitud del Certificado de Disponibilidad Presupuestal (CDP), en relación con el futuro contratista objeto de revisión en materia de idoneidad. | E27: No aplica
B28: Requiere Tarjeta Profesional para la suscripción del Contrato | C28: Marcar con una X en la opción SI (__) / NO (____) si la profesión profesional relacionada en la necesidad a contratar requiere de tarjeta profesional. | E28: No aplica
B29: Fecha de Elaboración | C29: Mencionar la fecha en la cual se realiza la verificación de la idoneidad del futuro contratista objeto a la revisión. | E29: No aplica

Sheet Verificacion Idoneidad
A8: REVISIÓN DE IDONEIDAD PROFESIONAL PARA CONTRATOS DE PRESTACIÓN DE SERVICIOS PROFESIONALES Y DE APOYOS A LA GESTIÓN
A10: VERIFICADOR
A11: NOMBRES Y APELLIDOS | B11: Uldy Delgado Echeverria
A12: CARGO | B12: Asesor
A14: TABLA DE HONORARIOS CREG
A15: NIVEL | B15: 14
A16: TIPO | B16: =+IFERROR(VLOOKUP(B15,Hoja2!A1:B17,2,0),0) -> Servicios Profesionales
A17: FORMACIÓN | B17: =+IFERROR(VLOOKUP(B15,Hoja2!A1:C17,3,0),0) -> Título profesional y título de posgrado en la modalidad de maestría
A18: EXPERIENCIA | B18: =+IFERROR(VLOOKUP(B15,Hoja2!A1:D17,4,0),0) -> Experiencia profesional relacionada de setenta y un (71) meses en adelante.
A19: HONORARIOS DESDE | B19: =+IFERROR(VLOOKUP(B15,Hoja2!A1:E17,5,0),0) -> 14454296
A20: HONORARIOS HASTA | B20: =+IFERROR(VLOOKUP(B15,Hoja2!A1:F17,6,0),0) -> 16425336
A22: IDONEIDAD DE (NOMBRE CANDIDATO)
A23: FORMACIÓN ACADÉMICA
D24: CUMPLE | E24: NO CUMPLE
A25: Titulo Profesional | D25: x
A26: Titulo de Estudio de posgrado | D26: x
A28: EXPERIENCIA LABORAL
A29: ENTIDAD | B29: Fecha de Ingreso | C29: Fecha de Retiro | D29: Meses | E29: Días | F29: CUMPLE | G29: NO CUMPLE
B30: (DD/MM/AAAA) | C30: (DD/MM/AAAA)
A31: Contraloria General de la República | D31: =+E31/30 -> 0 | E31: =_xlfn.DAYS(C31,B31) -> 0
A32: Cementos del Caribe (Carbones del San Jorge) | B32: 35492 | C32: 35783 | D32: =+E32/30 -> 9.7 | E32: =_xlfn.DAYS(C32,B32) -> 291
A33: Registraduría Nacional del Estado Civil | D33: =+E33/30 -> 0 | E33: =_xlfn.DAYS(C33,B33) -> 0
A34: Empresa Nacional Minera - Minercol | B34: 36543 | C34: 38398 | D34: =+E34/30 -> 61.833333 | E34: =_xlfn.DAYS(C34,B34) -> 1855
A35: Beneficencia de Cundinamarca | B35: 38399 | C35: 39503 | D35: =+E35/30 -> 36.8 | E35: =_xlfn.DAYS(C35,B35) -> 1104
A36: Agencia Nacional de Hidrocarburos - ANH | B36: 39829 | C36: 40932 | D36: =+E36/30 -> 36.766667 | E36: =_xlfn.DAYS(C36,B36) -> 1103
A37: P1 Energy | B37: 40940 | C37: 41425 | D37: =+E37/30 -> 16.166667 | E37: =_xlfn.DAYS(C37,B37) -> 485
A38: Suelopetrol C.A.S.A.C.A. Sucursal Colombia | B38: 41429 | C38: 41788 | D38: =+E38/30 -> 11.966667 | E38: =_xlfn.DAYS(C38,B38) -> 359
A39: Petronova | B39: 41761 | C39: 42132 | D39: =+E39/30 -> 12.366667 | E39: =_xlfn.DAYS(C39,B39) -> 371
A40: Consejo de Estado | B40: 42135 | C40: 42408 | D40: =+E40/30 -> 9.1 | E40: =_xlfn.DAYS(C40,B40) -> 273
A41: Agencia Nacional de Minería - ANM | B41: 42410 | C41: 43342 | D41: =+E41/30 -> 31.066667 | E41: =_xlfn.DAYS(C41,B41) -> 932
A42: Agencia Nacional de Hidrocarburos - ANH | B42: 43440 | C42: 43465 | D42: =+E42/30 -> 0.83333333 | E42: =_xlfn.DAYS(C42,B42) -> 25
A43: Consejo de Estado | B43: 43678 | C43: 43863 | D43: =+E43/30 -> 6.1666667 | E43: =_xlfn.DAYS(C43,B43) -> 185
A44: Consejo de Estado | B44: 43871 | C44: 44181 | D44: =+E44/30 -> 10.333333 | E44: =_xlfn.DAYS(C44,B44) -> 310
A45: Consejo de Estado | B45: 44236 | C45: 44977 | D45: =+E45/30 -> 24.7 | E45: =_xlfn.DAYS(C45,B45) -> 741
... A50: Comisión de Regulación de Energía y Gas - CREG | B50: 45672 | C50: 46022 | D50: =+E50/30 -> 11.666667 | E50: =_xlfn.DAYS(C50,B50) -> 350
A51: TOTAL EXPERIENCIA | D51: =SUM(D31:D40) -> 194.7 | E51: =SUM(E31:E40) -> 5841
A53: APLICACIÓN DE EQUIVALENCIA RESOLUCIÓN CREG NÚMERO UAE_99_380 DE 2025
A54: APLICA EQUIVALENCIA | B54: v) Cuando se exija título de posgrado en modalidad de maestría, éste podrá ser equivalente por el de doctorado.
B56: SI | C56: NO
A57: Requiere Tarjeta Profesional para la suscripción del Contrato | B57: x
A58: Cuenta con tarjeta profesional | B58: x
A60: Fecha de elaboración: | B60: 5 de diciembre de 2025

Sheet Hoja1
A1: TIPO | B1: NIVEL | C1: FORMACIÓN | D1: EXPERIENCIA | E1: DESDE | F1: HASTA
A2: Servicios Profesionales | B2: 14 | C2: Título profesional y título de posgrado en la modalidad de maestría | D2: Experiencia profesional relacionada de setenta y un (71) meses en adelante. | E2: 14454296 | F2: 16425336
A3: Servicios Profesionales | B3: 13 | C3: Título Profesional y título de posgrado. | D3: Experiencia profesional relacionada de sesenta y un (61) meses hasta setenta (70) meses. | E3: 12718453 | F3: 14452788
A4: Servicios Profesionales | B4: 12 | C4: Título Profesional y título de posgrado. | D4: Experiencia profesional relacionada de cincuenta y un (51) meses hasta sesenta (60) meses. | E4: 11190839 | F4: 12716862
A5: Servicios Profesionales | B5: 11 | C5: Título Profesional y título de posgrado. | D5: Experiencia profesional relacionada de treinta y siete (37) meses hasta cincuenta (50) meses. | E5: 9846574 | F5: 11189289
A6: Servicios Profesionales | B6: 10 | C6: Título Profesional y título de posgrado. | D6: Experiencia profesional relacionada de veinticinco (25) meses hasta treinta y seis (36) meses. | E6: 8663548 | F6: 9844941
A7: Servicios Profesionales | B7: 9 | C7: Título Profesional y título de posgrado. | D7: Experiencia profesional de trece (13) meses hasta veinticuatro (24) meses. | E7: 6891354 | F7: 8661831
A8: Servicios Profesionales | B8: 8 | C8: Título Profesional y título de posgrado. | D8: Experiencia profesional de un (1) mes hasta doce (12) meses. | E8: 4764897 | F8: 6890307
A9: Servicios Profesionales | B9: 7 | C9: Título Profesional. | D9: Sin experiencia | E9: 3769200 | F9: 4763850
A10: Apoyo a la Gestión | B10: 6 | C10: Título de formación tecnológica. | D10: Experiencia labora de doce l12) meses de experiencia laboral. | E10: 3560847 | F10: 3769200
A11: Apoyo a la Gestión | B11: 5.2 | C11: Título de formación técnica profesional. | D11: No requiere experiencia. | E11: 2909613 | F11: 3258454
A12: Apoyo a la Gestión | B12: 5.1 | C12: Aprobación de dos (2) años de educación superior. | D12: Experiencia laboral de siete (7) hasta doce (12) meses.
A13: Apoyo a la Gestión | B13: 4.2 | C13: Aprobación de dos (2) años de educación superior. | D13: Experiencia laboral de Seis (6) meses. | E13: 2598654 | F13: 2909333
A14: Apoyo a la Gestión | B14: 4.1 | C14: Diploma de bachiller. | D14: Experiencia laboral de veinticinco (25) hasta treinta y seis (36) meses.
A15: Apoyo a la Gestión | B15: 3 | C15: Diploma de bachiller. | D15: Experiencia laboral de trece (13) hasta veinticuatro (24) meses. | E15: 2320152 | F15: 2597620
A16: Apoyo a la Gestión | B16: 2 | C16: Diploma de bachiller. | D16: Experiencia laboral de un (1) mes hasta doce (12) meses. | E16: 2070966 | F16: 2319303
A17: Apoyo a la Gestión | B17: 1 | C17: Diploma de bachiller. | D17: No requiere experiencia | E17: SMMLV | F17: 2070807

Sheet Hoja2
A1: NIVEL | B1: TIPO | C1: FORMACIÓN | D1: EXPERIENCIA | E1: DESDE | F1: HASTA
A2: 14 | B2: Servicios Profesionales | C2: Título profesional y título de posgrado en la modalidad de maestría | D2: Experiencia profesional relacionada de setenta y un (71) meses en adelante. | E2: 14454296 | F2: 16425336
A3: 13 | B3: Servicios Profesionales | C3: Título Profesional y título de posgrado. | D3: Experiencia profesional relacionada de sesenta y un (61) meses hasta setenta (70) meses. | E3: 12718453 | F3: 14452788
A4: 12 | B4: Servicios Profesionales | C4: Título Profesional y título de posgrado. | D4: Experiencia profesional relacionada de cincuenta y un (51) meses hasta sesenta (60) meses. | E4: 11190839 | F4: 12716862
A5: 11 | B5: Servicios Profesionales | C5: Título Profesional y título de posgrado. | D5: Experiencia profesional relacionada de treinta y siete (37) meses hasta cincuenta (50) meses. | E5: 9846574 | F5: 11189289
A6: 10 | B6: Servicios Profesionales | C6: Título Profesional y título de posgrado. | D6: Experiencia profesional relacionada de veinticinco (25) meses hasta treinta y seis (36) meses. | E6: 8663548 | F6: 9844941
A7: 9 | B7: Servicios Profesionales | C7: Título Profesional y título de posgrado. | D7: Experiencia profesional de trece (13) meses hasta veinticuatro (24) meses. | E7: 6891354 | F7: 8661831
A8: 8 | B8: Servicios Profesionales | C8: Título Profesional y título de posgrado. | D8: Experiencia profesional de un (1) mes hasta doce (12) meses. | E8: 4764897 | F8: 6890307
A9: 7 | B9: Servicios Profesionales | C9: Título Profesional. | D9: Sin experiencia | E9: 3769200 | F9: 4763850
A10: 6 | B10: Apoyo a la Gestión | C10: Título de formación tecnológica. | D10: Experiencia labora de doce l12) meses de experiencia laboral. | E10: 3560847 | F10: 3769200
A11: 5.2 | B11: Apoyo a la Gestión | C11: Título de formación técnica profesional. | D11: No requiere experiencia. | E11: 2909613 | F11: 3258454
A12: 5.1 | B12: Apoyo a la Gestión | C12: Aprobación de dos (2) años de educación superior. | D12: Experiencia laboral de siete (7) hasta doce (12) meses.
A13: 4.2 | B13: Apoyo a la Gestión | C13: Aprobación de dos (2) años de educación superior. | D13: Experiencia laboral de Seis (6) meses. | E13: 2598654 | F13: 2909333
A14: 4.1 | B14: Apoyo a la Gestión | C14: Diploma de bachiller. | D14: Experiencia laboral de veinticinco (25) hasta treinta y seis (36) meses.
A15: 3 | B15: Apoyo a la Gestión | C15: Diploma de bachiller. | D15: Experiencia laboral de trece (13) hasta veinticuatro (24) meses. | E15: 2320152 | F15: 2597620
A16: 2 | B16: Apoyo a la Gestión | C16: Diploma de bachiller. | D16: Experiencia laboral de un (1) mes hasta doce (12) meses. | E16: 2070966 | F16: 2319303
A17: 1 | B17: Apoyo a la Gestión | C17: Diploma de bachiller. | D17: No requiere experiencia | E17: SMMLV | F17: 2070807

Sheet Hoja3
A1: EQUIVALENCIA
A2: i) El título de Doctorado por cuatro (4) años de experiencia relacionada o viceversa,
A3: ii) El título de postgrado en modalidad de Maestría por tres (3) años de experiencia profesional relacionada o viceversa.
A4: iii) El título de postgrado en la modalidad de Especialización por dos (2) años de experiencia profesional relacionada o viceversa.
A5: iv) Cuando se exija título de posgrado en modalidad de especialización, éste podrá ser equivalente por el de maestría o doctorado.
A6: v) Cuando se exija título de posgrado en modalidad de maestría, éste podrá ser equivalente por el de doctorado.
