Workbook
Name riesgos: '[1]OADS-F-41'!#REF!

Sheet Instructivo
B2: CODIGO: OADS-F-42 | G2: ESE HOSPITAL UNIVERSITARIO SAN RAFAEL TUNJA
B4: VERSION: 01 | G4: MAPA DE RIESGOS CONTRACTUALES | AX4: 45322
B6: Objeto del contrato
B8: Proceso | C8: Tipo de contrato | D8: Identificación del riesgo | M8: Análisis del riesgo inherente | U8: Evaluación del riesgo - Valoración de los controles | AK8: Evaluación del riesgo - Nivel del riesgo residual | AU8: Monitoreo y seguimiento
D9: No. DEL RIESGO | E9: Etapa | F9: Descripción del Riesgo | G9: Causas | H9: Consecuencias | I9: Clase | J9: Fuente | K9: Tipo | L9: ¿A quién se le asigna? | M9: Probabilidad | P9: Impacto | S9: Zona de riesgo inherente | U9: No. Control | V9: Descripción del Control/tratamiento | W9: Fecha estimada inicio tratamiento | X9: Fecha estimada completa tratamiento | Y9: Atributos | AK9: Probabilidad | AN9: Impacto | AQ9: Zona de riesgo inherente | AS9: ¿Afecta la ejecución del contrato? | AT9: Estrategia/ Tratamiento | AU9: ¿Cómo se realiza el monitoreo y seguimiento? | AV9: Responsable | AW9: Fecha Implementación | AX9: Fecha Seguimiento | AY9: Producto final
Y10: Tipo | AA10: Implementación | AC10: Documentación | AE10: Frecuencia | AG10: Evidencia | AJ10: Soporte Evidencia
B11: Proceso en el cual se identica la necesidad del objeto contractual | C11: Selecciona de la lista desplegable el tipo o modalidad de contrato al cual se va a realizar la identificación de los riesgos contractuales - Contratación pública - Contratación directa - Subasta interna | D11: Se enumera el riesgo a identificar | E11: Selecciona la etapa de contratación especifica en la que se va a identificar el riesgo - Planeación: Etapa en la que se elaboran los estudios de conveniencia y oportunidades, y los pliegos de condiciones. Estructura técnica, financiera, económica y jurídicamente cualquier tipo de proceso contractual el cual soporta en las necesidades del hospital con el fin de satisfacer la prestación servicios de salud. - Selección: Etapa en la que selecciona al contratista teniendo en cuenta la oferta más favorable articulada con las normas aplicables a cada modalidad de selección de contratista. - Contratación: Inicia una vez se suscribe el contrato objeto del Proceso de Contratación hasta la legalización de este (pólizas, acta de aprobación, acta de inicio), en la cual se debe cumplir con el cronograma previsto para la celebración del contrato, el registro presupuestal, la publicación en el SECOP y el cumplimiento de los requisitos para el perfeccionamiento, ejecución y pago. - Ejecución: Inicia una vez cumplidos los requisitos previstos para iniciar la ejecución del contrato respectivo, avance, recibo final y termina con el vencimiento del plazo del contrato o la fecha de liquidación si hay lugar a ella. | F11: Se da respuesta al ¿Qué puede salir mal en la etapa de contratación asociada al objeto contractual? (En la hoja denominada identificación se pueden encontrar algunos ejemplos de riesgos identificados en el desarrollo de diferentes estudios previos los cuales pueden ser utilizados para los casos en que aplique) | G11: Se da respuesta al ¿Cómo puede ocurrir?¿Por qué puede ocurrir? | H11: Se da respuesta a ¿Qué podría pasar en caso en que el riesgo se presentara? ¿Qué impacto generaría su materialización? | I11: Se selecciona la clase del riesgo: General: Riesgo de todos los Procesos de Contratación adelantados por el hospital, por lo cual está presente en toda su actividad contractual. Especifico: Riesgo propio del Proceso de Contratación objeto de análisis. | J11: Se selecciona la fuente del riesgo: Interno: Riesgo asociado a la operación, capacidad, o situación particular del hospital (reputacional, tecnológico). Externo: Riesgo del sector del objeto del Proceso de Contratación, o asociado a asuntos no referidos al hospital (desastres económicos, existencia de monopolios, circunstancias electorales) | K11: Se selecciona el tipo del riesgo: Económicos: Los derivados del comportamiento del mercado, tales como la fluctuación de los precios de los insumos, desabastecimiento y especulación de estos, entre otros. Sociales o Políticos: Los derivados de los cambios de las políticas gubernamentales y de cambios en las condiciones sociales que tengan impacto en la ejecución del contrato. Operacionales: Los asociados a la operatividad del contrato, tales como la suficiencia del presupuesto oficial, del plazo o los derivados de procesos, procedimientos, parámetros, sistemas de información y tecnológicos, equipos humanos o técnicos inadecuados o insuficientes. Financieros: - El riesgo de consecución de financiación o riesgo de liquidez para obtener recursos para cumplir con el objeto del contrato. - El riesgo de las condiciones financieras establecidas para la obtención de los recursos, tales como plazos, tasas, garantías, contragarantías, y refinanciaciones, entre otros | L11: Se seleciona el responsable a quien se le asigna el riesgo: Entidad Contratista Entidad y contratista | M11: De acuerdo a experiencia, historicos, estudios tecnicos y/o publicaciones o noticias sobre la ocurrencia del riesgo indentificado, selecciona la probabilidad de que ocurra el riesgo: 1. El riesgo puede ocurrir solo en circunstancias excepcionales 2. El riesgo puede ocurrir en algún momento 3. El riesgo podría ocurrir en algún momento 4. El riesgo probablemente ocurrirá en la mayoría de las circunstancias 5. Se espera que el riesgo ocurra en la mayoría de las circunstancias | N11: Las filas N y O se encuentran parametrizadas, las cuales apareceran acorde a la selección de la casilla M | P11: De acuerdo a experiencia, historicos, estudios tecnicos y/o publicaciones o noticias sobre la ocurrencia del riesgo indentificado, selecciona el impacto que puede llegar a generar en caso que se materialice el riesgo: 1. Obstruye la ejecución del contrato de manera intrascendente./ Los sobrecostos no representan más del uno por ciento (1%) del valor del contrato. 2. Dificulta la ejecución del contrato de manera baja. aplicando medidas mínimas se puede lograr el objeto contractual./ Los sobrecostos no representan más del cinco por ciento (5%) del valor del contrato 3. Afecta la ejecución del contrato sin alternar el beneficio para las partes./ Generará un impacto sobre el valor del contrato entre cinco (5%) y el quince por ciento (15%) 4. Obstruye la ejecución del contrato sustancialmente pero aun así permite la consecución del objeto contractual./ Incrementa el valor del contrato entre quince (15%) y el treinta por ciento (30%) 5. Perturba la ejecución del contrato de manera grave imposibilitando la consecución del objeto contractual./ Impacto sobre el valor del contrato en más de treinta por ciento (30%) | Q11: Las filas Q y R se encuentran parametrizadas, las cuales apareceran acorde a la selección de la casilla P | S11: Las filas S y T se encuentran parametrizadas, las cuales apareceran acorde a la selección de las casillas M y P | U11: Se enumeran los controles existentes por riesgo | V11: Se definen la medidas que permiten evitar o reducir el riesgo a través de acciones, necesarias para controlar, evitar o reducir la materialización del riesgo.Que existen actualmente, se tiene en cuenta: Responsable de ejecutar el control: Identifica el cargo de la persona que ejecuta el control, en caso de que sean controles automaticos se identifica el sistema que realiza la actividad. Acción: Se determina mediante verbos que indican la acción que deben realizar como parte del control. Complemento: Son los detalles que se permiten identificar el objeto del control. "Responsable de ejecutar el control + acción + complemento" | W11: Selecciona el momento en el que se da inicio el control: - Desde la planeación - Desde la selección - Desde la contratación - Desde la ejecución | X11: Selecciona el momento en el que se da fin al control: - Hasta la selección - Hasta la contratación - Hasta la ejecución - Hasta la liquidación | Y11: Selecciona el tipo de control: - Preventivo - Correctivo - Detectivo | AA11: Selecciona como se realiza la implementación del riesgo actualmente: - Automático. - Manual. | AC11: Selecciona si el control descrito se encuentra documentado o no en alguna metodologia institucional (Programas, manuales, procedimientos, etc) | AE11: Selecciona si el control se aplica aleatoreo o continuo. | AG11: Selecciona si se cuenta o no con resgistro que permita soportar la evidencia del control. | AJ11: Se describe el soporte especifico que permita evidenciar la ejecución del control descrito | AK11: De acuerdo a experiencia, historicos, estudios tecnicos y/o publicaciones o noticias sobre la ocurrencia del riesgo indentificado, selecciona la probabilidad de que ocurra el riesgo despues de implementar los controles: 1. El riesgo puede ocurrir solo en circunstancias excepcionales 2. El riesgo puede ocurrir en algún momento 3. El riesgo podría ocurrir en algún momento 4. El riesgo probablemente ocurrirá en la mayoría de las circunstancias 5. Se espera que el riesgo ocurra en la mayoría de las circunstancias | AL11: Las filas ALy AM se encuentran parametrizadas, las cuales apareceran acorde a la selección de la casilla AK | AN11: De acuerdo a experiencia, historicos, estudios tecnicos y/o publicaciones o noticias sobre la ocurrencia del riesgo indentificado, selecciona el impacto que puede llegar a generar en caso que se materialice el riesgo despues de implementar los controles: 1. Obstruye la ejecución del contrato de manera intrascendente./ Los sobrecostos no representan más del uno por ciento (1%) del valor del contrato. 2. Dificulta la ejecución del contrato de manera baja. aplicando medidas mínimas se puede lograr el objeto contractual./ Los sobrecostos no representan más del cinco por ciento (5%) del valor del contrato 3. Afecta la ejecución del contrato sin alternar el beneficio para las partes./ Generará un impacto sobre el valor del contrato entre cinco (5%) y el quince por ciento (15%) 4. Obstruye la ejecución del contrato sustancialmente pero aun así permite la consecución del objeto contractual./ Incrementa el valor del contrato entre quince (15%) y el treinta por ciento (30%) 5. Perturba la ejecución del contrato de manera grave imposibilitando la consecución del objeto contractual./ Impacto sobre el valor del contrato en más de treinta por ciento (30%) | AO11: Las filas AO y AP se encuentran parametrizadas, las cuales apareceran acorde a la selección de la casilla AN | AQ11: Las filas AQ y AR se encuentran parametrizadas, las cuales apareceran acorde a la selección de las casillas AK y AN | AS11: Selecciona si el riesgo afecta o no la ejecución del contrato | AT11: Selecciona la estrategia o tratamiento a tomar frente al riesgo identificado: - Evitar el Riesgo - Transferir el Riesgo - Aceptar el Riesgo -Reducir la probabilidad de la ocurrencia del evento - Reducir las consecuencias o el impacto del Riesgo | AU11: Se describen las acciones que se van a llevar a cabo en el monitoreo y seguimiento de los controles definidos para evitar la materizalización del riesgo | AV11: Cargo del responsable de las acciones descritas | AW11: Fecha en que se implementa el seguimiento | AX11: Fecha en que se realiza seguimiento | AY11: Evidencia final de la acción definida

Sheet Mapa final
B2: CODIGO: OADS-F-42 | G2: ESE HOSPITAL UNIVERSITARIO SAN RAFAEL TUNJA
B4: VERSION: 01 | G4: MAPA DE RIESGOS CONTRACTUALES | AX4: 45322
B6: Objeto del contrato
B8: Proceso | C8: Tipo de contrato | D8: Identificación del riesgo | M8: Análisis del riesgo inherente | U8: Evaluación del riesgo - Valoración de los controles | AK8: Evaluación del riesgo - Nivel del riesgo residual | AU8: Monitoreo y seguimiento
D9: No. DEL RIESGO | E9: Etapa | F9: Descripción del Riesgo | G9: Causas | H9: Consecuencias | I9: Clase | J9: Fuente | K9: Tipo | L9: ¿A quién se le asigna? | M9: Probabilidad | P9: Impacto | S9: Zona de riesgo inherente | U9: No. Control | V9: Descripción del Control/tratamiento | W9: Fecha estimada inicio tratamiento | X9: Fecha estimada completa tratamiento | Y9: Atributos | AK9: Probabilidad | AN9: Impacto | AQ9: Zona de riesgo inherente | AS9: ¿Afecta la ejecución del contrato? | AT9: Estrategia/ Tratamiento | AU9: ¿Cómo se realiza el monitoreo y seguimiento? | AV9: Responsable | AW9: Fecha Implementación | AX9: Fecha Seguimiento | AY9: Producto final
Y10: Tipo | AA10: Implementación | AC10: Documentación | AE10: Frecuencia | AG10: Evidencia | AJ10: Soporte Evidencia
C11: Contratación directa | D11: 1 | E11: Planeación | I11: General | J11: Interno | K11: Operacionales | L11: Entidad | M11: Se espera que el riesgo ocurra en la mayoría de las circunstancias | N11: =+IF(M11=Probabilidad!$D$3,Probabilidad!$C$3,IF(M11=Probabilidad!$D$4,Probabilidad!$C$4,IF('Mapa final'!M11=Probabilidad!$D$5,Probabilidad!$C$5,IF('Mapa final'!M11=Probabilidad!$D$6,Probabilidad!$C$6,IF('Mapa final'!M11=Probabilidad!$D$7,Probabilidad!$C$7,Probabilidad!$C$7))))) -> 5 | O11: =+IF(M11=Probabilidad!$D$3,Probabilidad!$B$3,IF(M11=Probabilidad!$D$4,Probabilidad!$B$4,IF('Mapa final'!M11=Probabilidad!$D$5,Probabilidad!$B$5,IF('Mapa final'!M11=Probabilidad!$D$6,Probabilidad!$B$6,IF('Mapa final'!M11=Probabilidad!$D$7,Probabilidad!$B$7,Probabilidad!$B$7))))) -> Casi cierto | P11: Los sobrecostos no representan más del cinco por ciento (5%) del valor del contrato | Q11: =VLOOKUP('Mapa final'!P11,Impacto!$B$3:$D$7,3,FALSE) -> 2 | R11: =VLOOKUP('Mapa final'!P11,Impacto!$B$3:$D$7,2,FALSE) -> Menor | S11: =+N11+Q11 -> 7 | T11: =IF(S11 <= 4, "Bajo", IF(S11 = 5, "Medio", IF(AND(S11 >= 6, S11 <= 7), "Alto", IF(S11 > 7, "Extremo", "")))) -> Alto | U11: 1 | V11: Responsable+Acción+frecuencia+soporte | W11: Desde la planeación | X11: Hasta la selección | Y11: Preventivo | Z11: 0.2 | AA11: Automatico | AB11: 0.15 | AC11: Documentado | AD11: =+VLOOKUP(AC11,Controles!I2:J3,2) -> 0.1 | AE11: Aleatoria | AF11: =+VLOOKUP(AE11,Controles!L2:M3,2) -> #N/A | AG11: Con registro | AH11: =+VLOOKUP(AG11,Controles!O2:P3,2) -> 0.1 | AI11: =+AVERAGE(Z11+AB11+AD11+AF11+AH11) -> #N/A | AJ11: Lista de chequeo con lo que contempla el eco | AK11: El riesgo puede ocurrir solo en circunstancias excepcionales | AL11: =+IF(AK11=Probabilidad!$D$3,Probabilidad!$C$3,IF(AK11=Probabilidad!$D$4,Probabilidad!$C$4,IF('Mapa final'!AK11=Probabilidad!$D$5,Probabilidad!$C$5,IF('Mapa final'!AK11=Probabilidad!$D$6,Probabilidad!$C$6,IF('Mapa final'!AK11=Probabilidad!$D$7,Probabilidad!$C$7,Probabilidad!$C$7))))) -> 1 | AM11: =+IF(AK11=Probabilidad!$D$3,Probabilidad!$B$3,IF(AK11=Probabilidad!$D$4,Probabilidad!$B$4,IF('Mapa final'!AK11=Probabilidad!$D$5,Probabilidad!$B$5,IF('Mapa final'!AK11=Probabilidad!$D$6,Probabilidad!$B$6,IF('Mapa final'!AK11=Probabilidad!$D$7,Probabilidad!$B$7,Probabilidad!$B$7))))) -> Raro | AN11: Generará un impacto sobre el valor del contrato entre cinco (5%) y el quince por ciento (15%) | AO11: =VLOOKUP('Mapa final'!AN11,Impacto!$B$3:$D$7,3,FALSE) -> 3 | AP11: =VLOOKUP('Mapa final'!AN11,Impacto!$B$3:$D$7,2,FALSE) -> Moderado | AQ11: =+AL11+AO11 -> 4 | AR11: =IF(AQ11 <= 4, "Bajo", IF(AQ11 = 5, "Medio", IF(AND(AQ11 >= 6, AQ11 <= 7), "Alto", IF(AQ11 > 7, "Extremo", "")))) -> Bajo | AS11: Si | AT11: Reducir la probabilidad
C12: Contratación directa | D12: 2 | E12: Selección | I12: Especifico | J12: Externo | K12: Financieros | L12: Entidad y contratista | M12: El riesgo puede ocurrir solo en circunstancias excepcionales | N12: =+IF(M12=Probabilidad!$D$3,Probabilidad!$C$3,IF(M12=Probabilidad!$D$4,Probabilidad!$C$4,IF('Mapa final'!M12=Probabilidad!$D$5,Probabilidad!$C$5,IF('Mapa final'!M12=Probabilidad!$D$6,Probabilidad!$C$6,IF('Mapa final'!M12=Probabilidad!$D$7,Probabilidad!$C$7,Probabilidad!$C$7))))) -> 1 | O12: =+IF(M12=Probabilidad!$D$3,Probabilidad!$B$3,IF(M12=Probabilidad!$D$4,Probabilidad!$B$4,IF('Mapa final'!M12=Probabilidad!$D$5,Probabilidad!$B$5,IF('Mapa final'!M12=Probabilidad!$D$6,Probabilidad!$B$6,IF('Mapa final'!M12=Probabilidad!$D$7,Probabilidad!$B$7,Probabilidad!$B$7))))) -> Raro | P12: Los sobrecostos no representan más del uno por ciento (1%) del valor del contrato | Q12: =VLOOKUP('Mapa final'!P12,Impacto!$B$3:$D$7,3,FALSE) -> 1 | R12: =VLOOKUP('Mapa final'!P12,Impacto!$B$3:$D$7,2,FALSE) -> Insignificante | S12: 2 | T12: =IF(S12 <= 4, "Bajo", IF(S12 = 5, "Medio", IF(AND(S12 >= 6, S12 <= 7), "Alto", IF(S12 > 7, "Extremo", "")))) -> Bajo | AG12: Con Registro | AK12: El riesgo puede ocurrir solo en circunstancias excepcionales | AL12: =+IF(AK12=Probabilidad!$D$3,Probabilidad!$C$3,IF(AK12=Probabilidad!$D$4,Probabilidad!$C$4,IF('Mapa final'!AK12=Probabilidad!$D$5,Probabilidad!$C$5,IF('Mapa final'!AK12=Probabilidad!$D$6,Probabilidad!$C$6,IF('Mapa final'!AK12=Probabilidad!$D$7,Probabilidad!$C$7,Probabilidad!$C$7))))) -> 1 | AM12: =+IF(AK12=Probabilidad!$D$3,Probabilidad!$B$3,IF(AK12=Probabilidad!$D$4,Probabilidad!$B$4,IF('Mapa final'!AK12=Probabilidad!$D$5,Probabilidad!$B$5,IF('Mapa final'!AK12=Probabilidad!$D$6,Probabilidad!$B$6,IF('Mapa final'!AK12=Probabilidad!$D$7,Probabilidad!$B$7,Probabilidad!$B$7))))) -> Raro | AN12: Generará un impacto sobre el valor del contrato entre cinco (5%) y el quince por ciento (15%) | AO12: =VLOOKUP('Mapa final'!AN12,Impacto!$B$3:$D$7,3,FALSE) -> 3 | AP12: =VLOOKUP('Mapa final'!AN12,Impacto!$B$3:$D$7,2,FALSE) -> Moderado | AQ12: =+AL12+AO12 -> 4 | AR12: =IF(AQ12 <= 4, "Bajo", IF(AQ12 = 5, "Medio", IF(AND(AQ12 >= 6, AQ12 <= 7), "Alto", IF(AQ12 > 7, "Extremo", "")))) -> Bajo | AS12: Si | AT12: Reducir la probabilidad
C13: Contratación directa | D13: 3 | E13: Contratación | I13: General | J13: Interno | K13: Financieros | L13: Entidad y contratista | M13: El riesgo puede ocurrir solo en circunstancias excepcionales | N13: =+IF(M13=Probabilidad!$D$3,Probabilidad!$C$3,IF(M13=Probabilidad!$D$4,Probabilidad!$C$4,IF('Mapa final'!M13=Probabilidad!$D$5,Probabilidad!$C$5,IF('Mapa final'!M13=Probabilidad!$D$6,Probabilidad!$C$6,IF('Mapa final'!M13=Probabilidad!$D$7,Probabilidad!$C$7,Probabilidad!$C$7))))) -> 1 | O13: =+IF(M13=Probabilidad!$D$3,Probabilidad!$B$3,IF(M13=Probabilidad!$D$4,Probabilidad!$B$4,IF('Mapa final'!M13=Probabilidad!$D$5,Probabilidad!$B$5,IF('Mapa final'!M13=Probabilidad!$D$6,Probabilidad!$B$6,IF('Mapa final'!M13=Probabilidad!$D$7,Probabilidad!$B$7,Probabilidad!$B$7))))) -> Raro | P13: Los sobrecostos no representan más del uno por ciento (1%) del valor del contrato | Q13: =VLOOKUP('Mapa final'!P13,Impacto!$B$3:$D$7,3,FALSE) -> 1 | R13: =VLOOKUP('Mapa final'!P13,Impacto!$B$3:$D$7,2,FALSE) -> Insignificante | S13: 2 | T13: =IF(S13 <= 4, "Bajo", IF(S13 = 5, "Medio", IF(AND(S13 >= 6, S13 <= 7), "Alto", IF(S13 > 7, "Extremo", "")))) -> Bajo | AG13: Con Registro | AK13: El riesgo puede ocurrir solo en circunstancias excepcionales | AL13: =+IF(AK13=Probabilidad!$D$3,Probabilidad!$C$3,IF(AK13=Probabilidad!$D$4,Probabilidad!$C$4,IF('Mapa final'!AK13=Probabilidad!$D$5,Probabilidad!$C$5,IF('Mapa final'!AK13=Probabilidad!$D$6,Probabilidad!$C$6,IF('Mapa final'!AK13=Probabilidad!$D$7,Probabilidad!$C$7,Probabilidad!$C$7))))) -> 1 | AM13: =+IF(AK13=Probabilidad!$D$3,Probabilidad!$B$3,IF(AK13=Probabilidad!$D$4,Probabilidad!$B$4,IF('Mapa final'!AK13=Probabilidad!$D$5,Probabilidad!$B$5,IF('Mapa final'!AK13=Probabilidad!$D$6,Probabilidad!$B$6,IF('Mapa final'!AK13=Probabilidad!$D$7,Probabilidad!$B$7,Probabilidad!$B$7))))) -> Raro | AN13: Generará un impacto sobre el valor del contrato entre cinco (5%) y el quince por ciento (15%) | AO13: =VLOOKUP('Mapa final'!AN13,Impacto!$B$3:$D$7,3,FALSE) -> 3 | AP13: =VLOOKUP('Mapa final'!AN13,Impacto!$B$3:$D$7,2,FALSE) -> Moderado | AQ13: =+AL13+AO13 -> 4 | AR13: =IF(AQ13 <= 4, "Bajo", IF(AQ13 = 5, "Medio", IF(AND(AQ13 >= 6, AQ13 <= 7), "Alto", IF(AQ13 > 7, "Extremo", "")))) -> Bajo | AS13: Si | AT13: Reducir la probabilidad
C14: Contratación directa | D14: 4 | E14: Ejecución | L14: Entidad y contratista | M14: El riesgo puede ocurrir solo en circunstancias excepcionales | N14: =+IF(M14=Probabilidad!$D$3,Probabilidad!$C$3,IF(M14=Probabilidad!$D$4,Probabilidad!$C$4,IF('Mapa final'!M14=Probabilidad!$D$5,Probabilidad!$C$5,IF('Mapa final'!M14=Probabilidad!$D$6,Probabilidad!$C$6,IF('Mapa final'!M14=Probabilidad!$D$7,Probabilidad!$C$7,Probabilidad!$C$7))))) -> 1 | O14: =+IF(M14=Probabilidad!$D$3,Probabilidad!$B$3,IF(M14=Probabilidad!$D$4,Probabilidad!$B$4,IF('Mapa final'!M14=Probabilidad!$D$5,Probabilidad!$B$5,IF('Mapa final'!M14=Probabilidad!$D$6,Probabilidad!$B$6,IF('Mapa final'!M14=Probabilidad!$D$7,Probabilidad!$B$7,Probabilidad!$B$7))))) -> Raro | P14: Los sobrecostos no representan más del uno por ciento (1%) del valor del contrato | Q14: =VLOOKUP('Mapa final'!P14,Impacto!$B$3:$D$7,3,FALSE) -> 1 | R14: =VLOOKUP('Mapa final'!P14,Impacto!$B$3:$D$7,2,FALSE) -> Insignificante | S14: 2 | T14: =IF(S14 <= 4, "Bajo", IF(S14 = 5, "Medio", IF(AND(S14 >= 6, S14 <= 7), "Alto", IF(S14 > 7, "Extremo", "")))) -> Bajo | AG14: Con Registro | AK14: El riesgo puede ocurrir solo en circunstancias excepcionales | AL14: =+IF(AK14=Probabilidad!$D$3,Probabilidad!$C$3,IF(AK14=Probabilidad!$D$4,Probabilidad!$C$4,IF('Mapa final'!AK14=Probabilidad!$D$5,Probabilidad!$C$5,IF('Mapa final'!AK14=Probabilidad!$D$6,Probabilidad!$C$6,IF('Mapa final'!AK14=Probabilidad!$D$7,Probabilidad!$C$7,Probabilidad!$C$7))))) -> 1 | AM14: =+IF(AK14=Probabilidad!$D$3,Probabilidad!$B$3,IF(AK14=Probabilidad!$D$4,Probabilidad!$B$4,IF('Mapa final'!AK14=Probabilidad!$D$5,Probabilidad!$B$5,IF('Mapa final'!AK14=Probabilidad!$D$6,Probabilidad!$B$6,IF('Mapa final'!AK14=Probabilidad!$D$7,Probabilidad!$B$7,Probabilidad!$B$7))))) -> Raro | AN14: Generará un impacto sobre el valor del contrato entre cinco (5%) y el quince por ciento (15%) | AO14: =VLOOKUP('Mapa final'!AN14,Impacto!$B$3:$D$7,3,FALSE) -> 3 | AP14: =VLOOKUP('Mapa final'!AN14,Impacto!$B$3:$D$7,2,FALSE) -> Moderado | AQ14: =+AL14+AO14 -> 4 | AR14: =IF(AQ14 <= 4, "Bajo", IF(AQ14 = 5, "Medio", IF(AND(AQ14 >= 6, AQ14 <= 7), "Alto", IF(AQ14 > 7, "Extremo", "")))) -> Bajo | AS14: Si | AT14: Reducir la probabilidad
C15: Contratación directa | D15: 5 | E15: Ejecución | L15: Entidad y contratista | M15: El riesgo puede ocurrir solo en circunstancias excepcionales | N15: =+IF(M15=Probabilidad!$D$3,Probabilidad!$C$3,IF(M15=Probabilidad!$D$4,Probabilidad!$C$4,IF('Mapa final'!M15=Probabilidad!$D$5,Probabilidad!$C$5,IF('Mapa final'!M15=Probabilidad!$D$6,Probabilidad!$C$6,IF('Mapa final'!M15=Probabilidad!$D$7,Probabilidad!$C$7,Probabilidad!$C$7))))) -> 1 | O15: =+IF(M15=Probabilidad!$D$3,Probabilidad!$B$3,IF(M15=Probabilidad!$D$4,Probabilidad!$B$4,IF('Mapa final'!M15=Probabilidad!$D$5,Probabilidad!$B$5,IF('Mapa final'!M15=Probabilidad!$D$6,Probabilidad!$B$6,IF('Mapa final'!M15=Probabilidad!$D$7,Probabilidad!$B$7,Probabilidad!$B$7))))) -> Raro | P15: Los sobrecostos no representan más del uno por ciento (1%) del valor del contrato | Q15: =VLOOKUP('Mapa final'!P15,Impacto!$B$3:$D$7,3,FALSE) -> 1 | R15: =VLOOKUP('Mapa final'!P15,Impacto!$B$3:$D$7,2,FALSE) -> Insignificante | S15: 2 | T15: =IF(S15 <= 4, "Bajo", IF(S15 = 5, "Medio", IF(AND(S15 >= 6, S15 <= 7), "Alto", IF(S15 > 7, "Extremo", "")))) -> Bajo | AG15: Con Registro | AK15: El riesgo puede ocurrir solo en circunstancias excepcionales | AL15: =+IF(AK15=Probabilidad!$D$3,Probabilidad!$C$3,IF(AK15=Probabilidad!$D$4,Probabilidad!$C$4,IF('Mapa final'!AK15=Probabilidad!$D$5,Probabilidad!$C$5,IF('Mapa final'!AK15=Probabilidad!$D$6,Probabilidad!$C$6,IF('Mapa final'!AK15=Probabilidad!$D$7,Probabilidad!$C$7,Probabilidad!$C$7))))) -> 1 | AM15: =+IF(AK15=Probabilidad!$D$3,Probabilidad!$B$3,IF(AK15=Probabilidad!$D$4,Probabilidad!$B$4,IF('Mapa final'!AK15=Probabilidad!$D$5,Probabilidad!$B$5,IF('Mapa final'!AK15=Probabilidad!$D$6,Probabilidad!$B$6,IF('Mapa final'!AK15=Probabilidad!$D$7,Probabilidad!$B$7,Probabilidad!$B$7))))) -> Raro | AN15: Generará un impacto sobre el valor del contrato entre cinco (5%) y el quince por ciento (15%) | AO15: =VLOOKUP('Mapa final'!AN15,Impacto!$B$3:$D$7,3,FALSE) -> 3 | AP15: =VLOOKUP('Mapa final'!AN15,Impacto!$B$3:$D$7,2,FALSE) -> Moderado | AQ15: =+AL15+AO15 -> 4 | AR15: =IF(AQ15 <= 4, "Bajo", IF(AQ15 = 5, "Medio", IF(AND(AQ15 >= 6, AQ15 <= 7), "Alto", IF(AQ15 > 7, "Extremo", "")))) -> Bajo | AS15: Si | AT15: Reducir la probabilidad
C16: Contratación directa | D16: 6 | E16: Ejecución | L16: Entidad y contratista | M16: El riesgo puede ocurrir solo en circunstancias excepcionales | N16: =+IF(M16=Probabilidad!$D$3,Probabilidad!$C$3,IF(M16=Probabilidad!$D$4,Probabilidad!$C$4,IF('Mapa final'!M16=Probabilidad!$D$5,Probabilidad!$C$5,IF('Mapa final'!M16=Probabilidad!$D$6,Probabilidad!$C$6,IF('Mapa final'!M16=Probabilidad!$D$7,Probabilidad!$C$7,Probabilidad!$C$7))))) -> 1 | O16: =+IF(M16=Probabilidad!$D$3,Probabilidad!$B$3,IF(M16=Probabilidad!$D$4,Probabilidad!$B$4,IF('Mapa final'!M16=Probabilidad!$D$5,Probabilidad!$B$5,IF('Mapa final'!M16=Probabilidad!$D$6,Probabilidad!$B$6,IF('Mapa final'!M16=Probabilidad!$D$7,Probabilidad!$B$7,Probabilidad!$B$7))))) -> Raro | P16: Los sobrecostos no representan más del uno por ciento (1%) del valor del contrato | Q16: =VLOOKUP('Mapa final'!P16,Impacto!$B$3:$D$7,3,FALSE) -> 1 | R16: =VLOOKUP('Mapa final'!P16,Impacto!$B$3:$D$7,2,FALSE) -> Insignificante | S16: 2 | T16: =IF(S16 <= 4, "Bajo", IF(S16 = 5, "Medio", IF(AND(S16 >= 6, S16 <= 7), "Alto", IF(S16 > 7, "Extremo", "")))) -> Bajo | AG16: Con Registro | AK16: El riesgo puede ocurrir solo en circunstancias excepcionales | AL16: =+IF(AK16=Probabilidad!$D$3,Probabilidad!$C$3,IF(AK16=Probabilidad!$D$4,Probabilidad!$C$4,IF('Mapa final'!AK16=Probabilidad!$D$5,Probabilidad!$C$5,IF('Mapa final'!AK16=Probabilidad!$D$6,Probabilidad!$C$6,IF('Mapa final'!AK16=Probabilidad!$D$7,Probabilidad!$C$7,Probabilidad!$C$7))))) -> 1 | AM16: =+IF(AK16=Probabilidad!$D$3,Probabilidad!$B$3,IF(AK16=Probabilidad!$D$4,Probabilidad!$B$4,IF('Mapa final'!AK16=Probabilidad!$D$5,Probabilidad!$B$5,IF('Mapa final'!AK16=Probabilidad!$D$6,Probabilidad!$B$6,IF('Mapa final'!AK16=Probabilidad!$D$7,Probabilidad!$B$7,Probabilidad!$B$7))))) -> Raro | AN16: Generará un impacto sobre el valor del contrato entre cinco (5%) y el quince por ciento (15%) | AO16: =VLOOKUP('Mapa final'!AN16,Impacto!$B$3:$D$7,3,FALSE) -> 3 | AP16: =VLOOKUP('Mapa final'!AN16,Impacto!$B$3:$D$7,2,FALSE) -> Moderado | AQ16: =+AL16+AO16 -> 4 | AR16: =IF(AQ16 <= 4, "Bajo", IF(AQ16 = 5, "Medio", IF(AND(AQ16 >= 6, AQ16 <= 7), "Alto", IF(AQ16 > 7, "Extremo", "")))) -> Bajo | AS16: Si | AT16: Reducir la probabilidad

Sheet Identificación
B2: TIPO DE CONTRATO | D2: Posibles riesgos | E2: Posibles causas | F2: Posibles consecuencias
B3: Convocatoria pública | D3: Inadecuada definición de los estudios previos de conveniencia y oportunidad. | E3: Desconocimiento en lo contractual. | F3: No se tienen en cuenta todas las garantias contractuales que aplican.
B4: Contratación directa | D4: Selección de contratista que no cumple con las especificaciones técnicas, administrativas, contables y jurídicas requeridas por el hospital. | E4: Desconocimiento de las necesidades requeridas contenidas en el plan anual de adquisiciones. | F4: Demora en la proyección y aprobación del proyecto de los terminos de referencia previos.
B5: Subasta interna | D5: No inclusión de garantías que cubran el contrato. | E5: Desconocimiento del manual de contratación. | F5: Selección de contratista que no cumple con las necesidades requeridas.
D6: Contratación de mano de obra no calificada por parte del contratista. | E6: Inadecuada definición de los estudios previos de conveniencia y oportunidad. | F6: Demoras en el inicio de la ejecución del contrato.
B7: ETAPAS CONTRACTUALES | D7: Posibilidad de presentarse demoras en la ejecución del contrato asociados a posibles fluctuaciones de precios y desabastecimientos de los insumos. | E7: Desconocimiento del manual de contratación. | F7: Incumplimiento a la necesidad propuesta.
B8: Planeación | D8: Posibilidad de presentar demoras en la ejecución del contrato asociado a la presencia de fenómenos del orden social, económico o político, como son: los paros cívicos. | E8: No indagación de inhabilidades o incompatibilidades del contratista. | F8: Sanciones
B9: Selección | D9: Incumplimiento del contratista frente a las obligaciones, calidad y ejecución oportuna | E9: Diferencias en el cruce de cuentas. | F9: Incumplimiento al artículo 60 de la ley 80 de 1993 que trata sobre la liquidación de los contratos Estatales.
B10: Contratación | D10: Adquisición de materiales que no cumplan con las especificaciones contractuales por no contar con la liquidez para obtener los recursos. | E10: Demora en la entrega del informe final. | F10: Sanciones de tipo disciplinario y penal.
B11: Ejecución | D11: Expedición de normas que impongan nuevos tributos, impuestos o cargas parafiscales, que pueden afectar la ejecución presupuestal del contrato. | E11: Demora en la presentación de informe final de supervisión. | F11: Lesión temporal, permanente o muerte.
D12: Posibilidad de generar pérdidas económicas asociadas a la presencia de eventos de fuerza mayor como los fenómenos de la naturaleza generalmente catastróficos como temblores, lluvias, y demás. | E12: Incumplimiento del contrato. | F12: Deterioro en el estado de salud o muerte.
B13: CLASE | D13: Contaminación ambiental generados por fuga o derrame de la sustancia a suministrar. | E13: No inclusión de obligaciones contractuales dentro de las garantías del contrato. | F13: Falta de continuidad del tratamiento y no adherencia al tratamiento por parte del usuario.
B14: General | D14: Falla de los sistemas de información, de comunicación, datos y de más elementos. | E14: No adherencia a procedimientos. | F14: Fallas de calidad en el proceso de atención.
B15: Especifico | D15: Posibilidad de sanciones asociado a la indebida expedición de pólizas o constitución inadecuada o tardía de las garantías contractuales exigidas | E15: Desconocimiento de procedimientos. | F15: Complicación en la patología del paciente.
D16: Posibilidad de presentar demora en la ejecución del contrato asociado a modificaciones de las condiciones inicialmente contempladas en el contrato | F16: Inoportunidad o falta de oportunidad por insuficiencia de personal.
B17: FUENTE | D17: Posibilidad de presentarse Accidentes de trabajo y enfermedad profesional asociadas a la ejecución del contrato | F17: Incremento en el valor de la prestación del servicio
B18: Interno | D18: Posibilidad de incumplimiento a la Política de Confidencialidad de la Institución asociado al indebido manejo de la información | F18: Costos no previstos
B19: Externo | D19: Posibilidad de demora en el pago asociada al Incumplimiento en el pago de prestaciones sociales por el contratista | F19: Fallas en la prestación del servicio por medicamentos o tecnologías no incluidas en las guías de práctica clínica
D20: Posibilidad de requerir servicios adicionales necesarios para el cumplimiento del objeto contractual | F20: Demoras en la prestación del servicio por ausentismo laboral relacionado con enfermedad o accidente laboral
B21: TIPO | D21: Posibilidad de que se declare desierto el proceso de selección asociado a la entrega de documentación inapropiada para el objeto a contratar | F21: Fallas en la calidad de la prestación de servicios
B22: Económicos | D22: Probabilidad de presentarse un evento adverso asociado a la atención en salud relacionado con la emisión de un concepto erróneo en el diagnóstico | F22: Acciones ilegales que se hacen públicas y que están relacionadas con la empresa
B23: Sociales o Políticos | D23: Probabilidad de presentarse un evento adverso asociado a la atención en salud relacionada con la definición tardía de la conducta clínica en el diagnóstico o tratamiento | F23: Despidos y escándalos internos que se hacen públicos
B24: Operacionales | D24: Probabilidad de presentarse un evento adverso relacionada con infección asociada a la atención en salud en ámbitos clínicos o quirúrgicos | F24: Actuaciones
B25: Financieros | D25: Probabilidad de presentarse un evento adverso por errores en prácticas clínicas o quirúrgicas relacionadas con la técnica, al sitio operatorio, reintervencionismos, entre otros | F25: Multas y sanciones por parte de entes de control
B26: Regulatorios | D26: Probabilidad de deterioro en el estado de salud, muerte relacionada con errores en la formulación de medicamentos, terapias o dispositivos médicos entre otros | F26: Procesos disciplinarios
B27: Naturaleza | D27: Posibilidad de presentarse fallas en la entrega o descripción de información terapéutica o administrativa probablemente errónea o desactualizada relacionada con el proceso de atención | F27: Sanciones penales
B28: Ambientales | D28: Probabilidad de recolectar información errónea en registros clínicos, formatos institucionales, consentimientos informados entre otros porque se presentan inconvenientes en la entrevista o porque el usuario suministra información errónea.
B29: Tecnológicos | D29: Probabilidad de incumplimiento en la ejecución del número de jornadas laborales según especificaciones técnicas del contrato y cuadros de turno por el retraso en los procesos diarios y fallas en la prestación del servicio.
D30: Probabilidad de sobrecostos y/o costos no relacionados con la prestación de servicios de salud adicionales, relacionados con la toma de decisiones terapéuticas no incluidas en las guías de práctica clínica pero concernientes con cumplimiento del objeto contractual
B31: ¿A quién se le asigna? | D31: Posibilidad de presentar quejas por la prestación del servicio asociadas a la prestación del servicio que pueden predisponer o incrementar el riesgo de ocurrencia de un incidente o evento adverso durante la ejecución del contrato
B32: Entidad | D32: Incapacidad constante para satisfacer las necesidades de los clientes o no cumplir sus expectativas
B33: Contratista | D33: Posibilidad de recibir o solicitar cualquier dádiva o beneficio a nombre propio o de terceros con el fin de omitir algún potencial o clientes activos que se encuentre relacionado con temas de Lavado de Activos o Financiación del Terrorismo
B34: Entidad y contratista | D34: Posibilidad de presentarse pérdidas económicas asociadas a la presentación de servicio factura con mayor valor del servicio prestado por parte del contratista
D35: Posibilidad de aparición de eventos relacionados con la no adherencia a la aplicación de guías de práctica clínica y/o protocolos institucionales
D36: Demoras en la liquidación
B40: ¿Afecta la ejecución del contrato?
B41: Si
B42: No

Sheet Probabilidad
B2: Probabilidad | D2: Descripción
B3: Raro | C3: 1 | D3: El riesgo puede ocurrir solo en circunstancias excepcionales
B4: Improbable | C4: 2 | D4: El riesgo puede ocurrir en algún momento
B5: Posible | C5: 3 | D5: El riesgo podría ocurrir en algún momento
B6: Probable | C6: 4 | D6: El riesgo probablemente ocurrirá en la mayoría de las circunstancias
B7: Casi cierto | C7: 5 | D7: Se espera que el riesgo ocurra en la mayoría de las circunstancias

Sheet Impacto
C2: Impacto | E2: Calificación cualitativa | F2: Calificación monetaria
B3: Los sobrecostos no representan más del uno por ciento (1%) del valor del contrato | C3: Insignificante | D3: 1 | E3: Obstruye la ejecución del contrato de manera intrascendente | F3: Los sobrecostos no representan más del uno por ciento (1%) del valor del contrato
B4: Los sobrecostos no representan más del cinco por ciento (5%) del valor del contrato | C4: Menor | D4: 2 | E4: Dificulta la ejecución del contrato de manera baja. aplicando medidas mínimas se puede lograr el objeto contractual | F4: Los sobrecostos no representan más del cinco por ciento (5%) del valor del contrato
B5: Generará un impacto sobre el valor del contrato entre cinco (5%) y el quince por ciento (15%) | C5: Moderado | D5: 3 | E5: Afecta la ejecución del contrato sin alternar el beneficio para las partes | F5: Generará un impacto sobre el valor del contrato entre cinco (5%) y el quince por ciento (15%)
B6: Incrementa el valor del contrato entre quince (15%) y el treinta por ciento (30%) | C6: Mayor | D6: 4 | E6: Obstruye la ejecución del contrato sustancialmente pero aun así permite la consecución del objeto contractual | F6: Incrementa el valor del contrato entre quince (15%) y el treinta por ciento (30%)
B7: Impacto sobre el valor del contrato en más de treinta por ciento (30%) | C7: Catastrófico | D7: 5 | E7: Perturba la ejecución del contrato de manera grave imposibilitando la consecución del objeto contractual | F7: Impacto sobre el valor del contrato en más de treinta por ciento (30%)

Sheet Matriz
D2: IMPACTO
B4: PROBABILIDAD | C4: Raro | D4: 2 | E4: 3 | F4: 4 | G4: 5 | H4: 6 | J4: Extremo
C5: 1
C6: Improbable | D6: 3 | E6: 4 | F6: 5 | G6: 6 | H6: 6 | J6: Alto
C7: 2
C8: Posible | D8: 4 | E8: 5 | F8: 6 | G8: 7 | H8: 8 | J8: Medio
C9: 3
C10: Probable | D10: 5 | E10: 6 | F10: 7 | G10: 8 | H10: 9 | J10: Bajo
C11: 4
C12: Casi cierto | D12: 6 | E12: 7 | F12: 8 | G12: 9 | H12: 10
C13: 5
D14: Insignificante | E14: Menor | F14: Moderado | G14: Mayor | H14: Catastrófico
D15: 1 | E15: 2 | F15: 3 | G15: 4 | H15: 5

Sheet Controles
B2: Tipo | C2: Preventivo | D2: 0.2 | E2: Implementación | F2: Manual | G2: 0.1 | H2: Documentación | I2: Documentado | J2: 0.1 | K2: Frecuencia | L2: Continua | M2: 0.1 | N2: Registro | O2: Con registro | P2: 0.1
C3: Correctivo | D3: 0.15 | F3: Automatico | G3: 0.15 | I3: Sin documentar | J3: 0 | L3: Aleatoria | M3: 0 | O3: Sin registro | P3: 0
C4: Detectivo | D4: 0.1
B6: Tratamiento | C6: Evitar | F6: =+D2+D3+D4+G2+G3+J2+J3+M2+M3+P2+P3 -> 1
C7: Transferir
C8: Aceptar
C9: Reducir la probabilidad
C10: Reducir el impacto
B12: Tiempos | C12: Desde la planeación | D12: Hasta la selección
C13: Desde la selección | D13: Hasta la contratación
C14: Desde la contratación | D14: Hasta la ejecución
C15: Desde la ejecución | D15: Hasta la liquidación

Sheet Control de cambios
B4: ESE HOSPITAL UNIVERSITARIO SAN RAFAEL DE TUNJA
B5: MAPA DE RIESGOS CONTRACTUALES
B7: CONTROL DE CAMBIOS
B8: No. VERSION | D8: FECHA | E8: RESPONSABLE | F8: DESCRIPCION
B9: 1 | D9: 45322 | E9: Lina Maria Patarroyo | F9: Cración de formato

Sheet QUIRÚRGICAS
B2: CÓDIGO: OADS-F-42 | G2: ESE HOSPITAL UNIVERSITARIO SAN RAFAEL TUNJA
B4: VERSIÓN: 01 | G4: MAPA DE RIESGOS CONTRACTUALES | AX4: 45322
B6: Objeto del contrato | D6: SERVICIOS ESPECIALIZADOS EN ANESTESIOLOGÍA PARA LA E.S.E. HOSPITAL UNIVERSITARIO SAN RAFAEL DE TUNJA
B8: Proceso | C8: Tipo de contrato | D8: Identificación del riesgo | M8: Análisis del riesgo inherente | U8: Evaluación del riesgo - Valoración de los controles | AK8: Evaluación del riesgo - Nivel del riesgo residual | AU8: Monitoreo y seguimiento
D9: No. DEL RIESGO | E9: Etapa | F9: Descripción del Riesgo | G9: Causas | H9: Consecuencias | I9: Clase | J9: Fuente | K9: Tipo | L9: ¿A quién se le asigna? | M9: Probabilidad | P9: Impacto | S9: Zona de riesgo inherente | U9: No. Control | V9: Descripción del Control/tratamiento | W9: Fecha estimada inicio tratamiento | X9: Fecha estimada completa tratamiento | Y9: Atributos | AK9: Probabilidad | AN9: Impacto | AQ9: Zona de riesgo inherente | AS9: ¿Afecta la ejecución del contrato? | AT9: Estrategia/ Tratamiento | AU9: ¿Cómo se realiza el monitoreo y seguimiento? | AV9: Responsable | AW9: Fecha Implementación | AX9: Fecha Seguimiento | AY9: Producto final
Y10: Tipo | AA10: Implementación | AC10: Documentación | AE10: Frecuencia | AG10: Evidencia | AJ10: Soporte Evidencia
B11: Gestión quirúrgica | C11: Contratación directa | D11: 1 | E11: Planeación | F11: Inadecuada definición de los estudios previos de conveniencia y oportunidad (Objeto, descripción de la necesidad, especificaciones técnicas del objeto contractual, plazo de ejecución, forma de pago, especificaciones técnicas del servicio, obligaciones contractuales, análsisi de mercado y/o histórico de precios, riesgos de la contratación, cobertura de los riesgos, criterios de selección, entre otros) que puedan conllevar a fallas en la prestación de los servicios. | G11: 1. Desconocimiento en lo contractual. 2. Desconocimiento de las necesidades requeridas contenidas en el plan anual de adquisiciones. 3. Desconocimiento del manual de contratación. 4. Falta de planeación de la oferta del servicio. 5. Conflictos en la definición del objeto contractual. 6. Selección del objeto contractual sin el abordaje requerido para el cubrimiento de la necesidad de la entidad. | H11: 1. No se tienen en cuenta todas las garantías contractuales que aplican. 2. Demora en la proyección y aprobación del proyecto de los términos de referencia previos. 3. Selección del objeto contractual sin el abordaje requerido para el cubrimiento de la necesidad de la entidad, generando conflictos en la ejecución, sobrecostos o daños jurídicos a la entidad. 4. Demoras en el inicio de la ejecución del contrato. 5. Incumplimiento a la necesidad propuesta. | I11: General | J11: Interno | K11: Operacionales | L11: Entidad | M11: El riesgo podría ocurrir en algún momento | N11: =+IF(M11=Probabilidad!$D$3,Probabilidad!$C$3,IF(M11=Probabilidad!$D$4,Probabilidad!$C$4,IF(QUIRÚRGICAS!M11=Probabilidad!$D$5,Probabilidad!$C$5,IF(QUIRÚRGICAS!M11=Probabilidad!$D$6,Probabilidad!$C$6,IF(QUIRÚRGICAS!M11=Probabilidad!$D$7,Probabilidad!$C$7,Probabilidad!$C$7))))) -> 3 | O11: =+IF(M11=Probabilidad!$D$3,Probabilidad!$B$3,IF(M11=Probabilidad!$D$4,Probabilidad!$B$4,IF(QUIRÚRGICAS!M11=Probabilidad!$D$5,Probabilidad!$B$5,IF(QUIRÚRGICAS!M11=Probabilidad!$D$6,Probabilidad!$B$6,IF(QUIRÚRGICAS!M11=Probabilidad!$D$7,Probabilidad!$B$7,Probabilidad!$B$7))))) -> Posible | P11: Generará un impacto sobre el valor del contrato entre cinco (5%) y el quince por ciento (15%) | Q11: =VLOOKUP(QUIRÚRGICAS!P11,Impacto!$B$3:$D$7,3,FALSE) -> 3 | R11: =VLOOKUP(QUIRÚRGICAS!P11,Impacto!$B$3:$D$7,2,FALSE) -> Moderado | S11: =+N11+Q11 -> 6 | T11: =IF(S11 <= 4, "Bajo", IF(S11 = 5, "Medio", IF(AND(S11 >= 6, S11 <= 7), "Alto", IF(S11 > 7, "Extremo", "")))) -> Alto | U11: 4 | V11: El coordinador de gestión quirúrgica debe: 1. Realizar la identificación de las garantías contractuales que aplican según lo establecido en el manual de contratación. 2. Realizar la correcta planeación en la proyección y aprobación del proyecto de los términos de referencia previos. 3. Realizar la selección del objeto contractual con el abordaje requerido para el cubrimiento de la necesidad de la entidad, minimizando la aparición de conflictos en la ejecución, sobrecostos o daños jurídicos a la entidad. 4. Proyectar el estudio previo de conveniencia y opotunidad C-F-27 de acuerdo a la necesidad y disponibilidad de presupuesto de acuerdo a lo descrito en el manual de contratación; el cual es validado y aprobado por asesora de desarrollo de servicios. | W11: Desde la planeación | X11: Hasta la selección | Y11: Preventivo | Z11: 0.2 | AA11: Manual | AB11: 0.15 | AC11: Documentado | AD11: =+VLOOKUP(AC11,Controles!I2:J3,2) -> 0.1 | AE11: Continua | AF11: =+VLOOKUP(AE11,Controles!L2:M3,2) -> 0.1 | AG11: Con registro | AH11: =+VLOOKUP(AG11,Controles!O2:P3,2) -> 0.1 | AI11: =+AVERAGE(Z11+AB11+AD11+AF11+AH11) -> 0.65 | AJ11: Formato C-F27 estudio previo de conveniencia y oportunidad | AK11: El riesgo puede ocurrir solo en circunstancias excepcionales | AL11: =+IF(AK11=Probabilidad!$D$3,Probabilidad!$C$3,IF(AK11=Probabilidad!$D$4,Probabilidad!$C$4,IF(QUIRÚRGICAS!AK11=Probabilidad!$D$5,Probabilidad!$C$5,IF(QUIRÚRGICAS!AK11=Probabilidad!$D$6,Probabilidad!$C$6,IF(QUIRÚRGICAS!AK11=Probabilidad!$D$7,Probabilidad!$C$7,Probabilidad!$C$7))))) -> 1 | AM11: =+IF(AK11=Probabilidad!$D$3,Probabilidad!$B$3,IF(AK11=Probabilidad!$D$4,Probabilidad!$B$4,IF(QUIRÚRGICAS!AK11=Probabilidad!$D$5,Probabilidad!$B$5,IF(QUIRÚRGICAS!AK11=Probabilidad!$D$6,Probabilidad!$B$6,IF(QUIRÚRGICAS!AK11=Probabilidad!$D$7,Probabilidad!$B$7,Probabilidad!$B$7))))) -> Raro | AN11: Generará un impacto sobre el valor del contrato entre cinco (5%) y el quince por ciento (15%) | AO11: =VLOOKUP(QUIRÚRGICAS!AN11,Impacto!$B$3:$D$7,3,FALSE) -> 3 | AP11: =VLOOKUP(QUIRÚRGICAS!AN11,Impacto!$B$3:$D$7,2,FALSE) -> Moderado | AQ11: =+AL11+AO11 -> 4 | AR11: =IF(AQ11 <= 4, "Bajo", IF(AQ11 = 5, "Medio", IF(AND(AQ11 >= 6, AQ11 <= 7), "Alto", IF(AQ11 > 7, "Extremo", "")))) -> Bajo | AS11: Si | AT11: Reducir la probabilidad | AU11: 1. Verificar que se haya realizado la identificación de las garantías contractuales que aplican. 2. Verificar el proceso de planeación en la proyección y aprobación del proyecto de los términos de referencia previos. 3. Validar con el área jurídica y de contratación la selección del objeto contractual con el abordaje requerido para el cubrimiento de la necesidad de la entidad, minimizando la aparición de conflictos en la ejecución, sobrecostos o daños jurídicos a la entidad. | AV11: Supervisor del contrato Apoyo a la supervisión Jurídica Contratación | AW11: Desde la planeación | AX11: Hasta la selección del contratista | AY11: Estudios de conveniencia con la correcta definición técnica de las especificaciones del contrato validado por el área jurídica y financiera de la entidad// Acta de aprobación del comité de contratación.
B12: Gestión quirúrgica | C12: Contratación directa | D12: 2 | E12: Planeación | F12: Requisitos habilitantes no apropiados para el proceso de contratación | G12: 1. Desconocimiento en lo contractual. 2. Desconocimiento de las necesidades requeridas contenidas en el plan anual de adquisiciones. 3. Desconocimiento del manual de contratación. 4. Falta de planeación de la oferta del servicio | H12: 1. Afecta la obtención o cubrimiento de las necesidades requeridas en el objeto contractual. 2. Sanciones 3. Demora en la elaboración, suscripción y perfeccionamiento del contrato. 4. Demora en la ejecución del contratación. | I12: General | J12: Interno | K12: Operacionales | L12: Entidad | M12: El riesgo podría ocurrir en algún momento | N12: 3 | O12: =+IF(M12=Probabilidad!$D$3,Probabilidad!$B$3,IF(M12=Probabilidad!$D$4,Probabilidad!$B$4,IF(QUIRÚRGICAS!M12=Probabilidad!$D$5,Probabilidad!$B$5,IF(QUIRÚRGICAS!M12=Probabilidad!$D$6,Probabilidad!$B$6,IF(QUIRÚRGICAS!M12=Probabilidad!$D$7,Probabilidad!$B$7,Probabilidad!$B$7))))) -> Posible | P12: Incrementa el valor del contrato entre quince (15%) y el treinta por ciento (30%) | Q12: =VLOOKUP(QUIRÚRGICAS!P12,Impacto!$B$3:$D$7,3,FALSE) -> 4 | R12: =VLOOKUP(QUIRÚRGICAS!P12,Impacto!$B$3:$D$7,2,FALSE) -> Mayor | S12: =+N12+Q12 -> 7 | T12: =IF(S12 <= 4, "Bajo", IF(S12 = 5, "Medio", IF(AND(S12 >= 6, S12 <= 7), "Alto", IF(S12 > 7, "Extremo", "")))) -> Alto | U12: 1 | V12: El coordinador de gestión quirúrgica debe: 1. Definir los requisitos habilitantes para: a. Identificar la experiencia mínima requerida para la realización del objeto contractual. b. Definir la capacidad jurídica con relación al objeto del contrato y las inhabilidades, incompatibilidades y conflictos de interés. c. Definir la capacidad financiera con relación al objeto del contrato y su capacidad organizacional d. Validación por el área jurídica de la definición de los requisitos habilitantes. | W12: Desde la planeación | X12: Hasta la contratación | Y12: Preventivo | AA12: Manual | AC12: Documentado | AE12: Continua | AG12: Con registro | AJ12: 1. Requisitos habilitantes establecidos en el estudio de conveniencia y oportunidad | AK12: El riesgo puede ocurrir en algún momento | AL12: =+IF(AK12=Probabilidad!$D$3,Probabilidad!$C$3,IF(AK12=Probabilidad!$D$4,Probabilidad!$C$4,IF(QUIRÚRGICAS!AK12=Probabilidad!$D$5,Probabilidad!$C$5,IF(QUIRÚRGICAS!AK12=Probabilidad!$D$6,Probabilidad!$C$6,IF(QUIRÚRGICAS!AK12=Probabilidad!$D$7,Probabilidad!$C$7,Probabilidad!$C$7))))) -> 2 | AM12: =+IF(AK12=Probabilidad!$D$3,Probabilidad!$B$3,IF(AK12=Probabilidad!$D$4,Probabilidad!$B$4,IF(QUIRÚRGICAS!AK12=Probabilidad!$D$5,Probabilidad!$B$5,IF(QUIRÚRGICAS!AK12=Probabilidad!$D$6,Probabilidad!$B$6,IF(QUIRÚRGICAS!AK12=Probabilidad!$D$7,Probabilidad!$B$7,Probabilidad!$B$7))))) -> Improbable | AN12: Incrementa el valor del contrato entre quince (15%) y el treinta por ciento (30%) | AO12: =VLOOKUP(QUIRÚRGICAS!AN12,Impacto!$B$3:$D$7,3,FALSE) -> 4 | AP12: =VLOOKUP(QUIRÚRGICAS!AN12,Impacto!$B$3:$D$7,2,FALSE) -> Mayor | AQ12: =+AL12+AO12 -> 6 | AR12: =IF(AQ12 <= 4, "Bajo", IF(AQ12 = 5, "Medio", IF(AND(AQ12 >= 6, AQ12 <= 7), "Alto", IF(AQ12 > 7, "Extremo", "")))) -> Alto | AS12: Si | AT12: Reducir la probabilidad | AU12: 1. Realizar la revisión durante el proceso de planeación de los requisitos habilitantes para: a. Identificación de la experiencia mínima requerida para la realización del objeto contractual. b. Definición de la capacidad jurídica con relación al objeto del contrato y las inhabilidades, incompatibilidades y conflictos de interés. c. Definición la capacidad financiera con relación al objeto del contrato y su capacidad organizacional d. Validación por el área jurídica de la definición de los requisitos habilitantes. | AV12: Supervisor del contrato Apoyo a la supervisión Jurídica Contratación | AW12: Desde la planeación | AX12: Hasta la selección del contratista | AY12: Estudios de conveniencia con la correcta definición técnica de las especificaciones del contrato
B13: Gestión quirúrgica | C13: Contratación directa | D13: 3 | E13: Planeación | F13: La modalidad de contratación no sea adecuada para el bien servicio u obra necesitado incluyendo los aspectos de oferta y demanda del mercado respectivo. | G13: 1. Desconocimiento en lo contractual. 2. Desconocimiento de las necesidades requeridas contenidas en el plan anual de adquisiciones. 3. Desconocimiento del manual de contratación. 4. Falta de planeación de la oferta del servicio | H13: 1. Afecta la obtención o cubrimiento de las necesidades requeridas en el objeto contractual. 2. Sanciones 3. Demora en la elaboración, suscripción y perfeccionamiento del contrato. 4. Demora en la ejecución del contratación. | I13: General | J13: Interno | K13: Operacionales | L13: Entidad | M13: El riesgo podría ocurrir en algún momento | N13: 3 | O13: =+IF(M13=Probabilidad!$D$3,Probabilidad!$B$3,IF(M13=Probabilidad!$D$4,Probabilidad!$B$4,IF(QUIRÚRGICAS!M13=Probabilidad!$D$5,Probabilidad!$B$5,IF(QUIRÚRGICAS!M13=Probabilidad!$D$6,Probabilidad!$B$6,IF(QUIRÚRGICAS!M13=Probabilidad!$D$7,Probabilidad!$B$7,Probabilidad!$B$7))))) -> Posible | P13: Incrementa el valor del contrato entre quince (15%) y el treinta por ciento (30%) | Q13: =VLOOKUP(QUIRÚRGICAS!P13,Impacto!$B$3:$D$7,3,FALSE) -> 4 | R13: =VLOOKUP(QUIRÚRGICAS!P13,Impacto!$B$3:$D$7,2,FALSE) -> Mayor | S13: =+N13+Q13 -> 7 | T13: =IF(S13 <= 4, "Bajo", IF(S13 = 5, "Medio", IF(AND(S13 >= 6, S13 <= 7), "Alto", IF(S13 > 7, "Extremo", "")))) -> Alto | U13: 4 | V13: El coordinador de gestión quirúrgica debe 1. Realizar el análisis de mercado 2. Identificar la productividad del servicio 3. Definir la necesidad del servicio 3. Realizar reunión con áreas asistenciales y administrativas para la definición de la necesidad 4. Solicitar validación por el área jurídica | W13: Desde la planeación | X13: Hasta la contratación | Y13: Preventivo | AA13: Manual | AC13: Documentado | AE13: Aleatoria | AG13: Con registro | AJ13: 1. Estudio de mercado 2. Matriz de productividad 3. Definición del objeto del contrato conforme a las necesidades de la entidad, su perfil epidemiológico y la demanda del servicio. | AK13: El riesgo puede ocurrir solo en circunstancias excepcionales | AL13: =+IF(AK13=Probabilidad!$D$3,Probabilidad!$C$3,IF(AK13=Probabilidad!$D$4,Probabilidad!$C$4,IF(QUIRÚRGICAS!AK13=Probabilidad!$D$5,Probabilidad!$C$5,IF(QUIRÚRGICAS!AK13=Probabilidad!$D$6,Probabilidad!$C$6,IF(QUIRÚRGICAS!AK13=Probabilidad!$D$7,Probabilidad!$C$7,Probabilidad!$C$7))))) -> 1 | AM13: =+IF(AK13=Probabilidad!$D$3,Probabilidad!$B$3,IF(AK13=Probabilidad!$D$4,Probabilidad!$B$4,IF(QUIRÚRGICAS!AK13=Probabilidad!$D$5,Probabilidad!$B$5,IF(QUIRÚRGICAS!AK13=Probabilidad!$D$6,Probabilidad!$B$6,IF(QUIRÚRGICAS!AK13=Probabilidad!$D$7,Probabilidad!$B$7,Probabilidad!$B$7))))) -> Raro | AN13: Incrementa el valor del contrato entre quince (15%) y el treinta por ciento (30%) | AO13: =VLOOKUP(QUIRÚRGICAS!AN13,Impacto!$B$3:$D$7,3,FALSE) -> 4 | AP13: =VLOOKUP(QUIRÚRGICAS!AN13,Impacto!$B$3:$D$7,2,FALSE) -> Mayor | AQ13: =+AL13+AO13 -> 5 | AR13: =IF(AQ13 <= 4, "Bajo", IF(AQ13 = 5, "Medio", IF(AND(AQ13 >= 6, AQ13 <= 7), "Alto", IF(AQ13 > 7, "Extremo", "")))) -> Medio | AS13: Si | AT13: Reducir la probabilidad | AU13: 1. Evaluar el análisis de mercado ajustado a la necesidad de la contratación 2. Identificar la productividad del servicio conforme al histórico de los tres últimos años 3. Realizar reunión con áreas asistenciales y administrativas para la definición de la necesidad 4. Validación por el área jurídica
B14: Gestión quirúrgica | C14: Contratación directa | D14: 4 | E14: Planeación | F14: El valor del contrato no corresponda a los precios del mercado. | G14: 1 No realización del estudio de mercado o histórico de precios. 2. Desconocimiento de las necesidades requeridas contenidas en el plan anual de adquisiciones. 3. Desconocimiento del manual de contratación. 4. Falta de planeación de la oferta del servicio. 5. Desconocimiento en lo contractual. | H14: 1. Afecta la obtención o cubrimiento de las necesidades requeridas en el objeto contractual desde el área financiera. 2. Sanciones 3. Demora en la elaboración, suscripción y perfeccionamiento del contrato. 4. Demora en la ejecución del contratación. 5. Sobrecostos y fallas en la planeación financiera | I14: General | J14: Interno | K14: Operacionales | L14: Entidad | M14: El riesgo podría ocurrir en algún momento | N14: 3 | O14: =+IF(M14=Probabilidad!$D$3,Probabilidad!$B$3,IF(M14=Probabilidad!$D$4,Probabilidad!$B$4,IF(QUIRÚRGICAS!M14=Probabilidad!$D$5,Probabilidad!$B$5,IF(QUIRÚRGICAS!M14=Probabilidad!$D$6,Probabilidad!$B$6,IF(QUIRÚRGICAS!M14=Probabilidad!$D$7,Probabilidad!$B$7,Probabilidad!$B$7))))) -> Posible | P14: Incrementa el valor del contrato entre quince (15%) y el treinta por ciento (30%) | Q14: =VLOOKUP(QUIRÚRGICAS!P14,Impacto!$B$3:$D$7,3,FALSE) -> 4 | R14: =VLOOKUP(QUIRÚRGICAS!P14,Impacto!$B$3:$D$7,2,FALSE) -> Mayor | S14: =+N14+Q14 -> 7 | T14: =IF(S14 <= 4, "Bajo", IF(S14 = 5, "Medio", IF(AND(S14 >= 6, S14 <= 7), "Alto", IF(S14 > 7, "Extremo", "")))) -> Alto | U14: 6 | V14: El coordinador de gestión quirúrgica debe: 1. Realizar el análisis de mercado a través de las plataformas nacionales 2. Realizar histórico de precios con los últimos tres años de ejecución del objeto contractual similar al que se va a gestionar en la vigencia actual. 3. Definir la necesidad del servicio 4. Realizar reunión con áreas asistenciales y administrativas para la definición de la necesidad. 5.Identificar la productividad del servicio. 6. Validación por el área jurídica y contratación. | W14: Desde la planeación | X14: Hasta la contratación | Y14: Preventivo | AA14: Manual | AC14: Documentado | AE14: Aleatoria | AG14: Con registro | AJ14: 1. Estudio de mercado 2. Matriz de productividad 3. Definición del objeto del contrato conforme a las necesidades de la entidad, su perfil epidemiológico y la demanda del servicio. | AK14: El riesgo puede ocurrir solo en circunstancias excepcionales | AL14: =+IF(AK14=Probabilidad!$D$3,Probabilidad!$C$3,IF(AK14=Probabilidad!$D$4,Probabilidad!$C$4,IF(QUIRÚRGICAS!AK14=Probabilidad!$D$5,Probabilidad!$C$5,IF(QUIRÚRGICAS!AK14=Probabilidad!$D$6,Probabilidad!$C$6,IF(QUIRÚRGICAS!AK14=Probabilidad!$D$7,Probabilidad!$C$7,Probabilidad!$C$7))))) -> 1 | AM14: =+IF(AK14=Probabilidad!$D$3,Probabilidad!$B$3,IF(AK14=Probabilidad!$D$4,Probabilidad!$B$4,IF(QUIRÚRGICAS!AK14=Probabilidad!$D$5,Probabilidad!$B$5,IF(QUIRÚRGICAS!AK14=Probabilidad!$D$6,Probabilidad!$B$6,IF(QUIRÚRGICAS!AK14=Probabilidad!$D$7,Probabilidad!$B$7,Probabilidad!$B$7))))) -> Raro | AN14: Incrementa el valor del contrato entre quince (15%) y el treinta por ciento (30%) | AO14: =VLOOKUP(QUIRÚRGICAS!AN14,Impacto!$B$3:$D$7,3,FALSE) -> 4 | AP14: =VLOOKUP(QUIRÚRGICAS!AN14,Impacto!$B$3:$D$7,2,FALSE) -> Mayor | AQ14: =+AL14+AO14 -> 5 | AR14: =IF(AQ14 <= 4, "Bajo", IF(AQ14 = 5, "Medio", IF(AND(AQ14 >= 6, AQ14 <= 7), "Alto", IF(AQ14 > 7, "Extremo", "")))) -> Medio | AS14: Si | AT14: Reducir la probabilidad | AU14: 1. Evaluar el análisis de mercado ajustado a la necesidad de la contratación 2. Identificar la productividad del servicio conforme al histórico de los tres últimos años 3. Realizar reunión con áreas asistenciales y administrativas para la definición de la necesidad 4. Validación por el área jurídica | AV14: Coordinador Gestión quirúrgica | AW14: Desde la planeación | AX14: Hasta la selección del contratista | AY14: Estudios de conveniencia con la correcta definición técnica de las especificaciones del contrato
