Workbook
Name EQUIPO_LISTA: #REF!
Name klko: #REF!
Name MDO_LISTA: #REF!
Name TRANSPORTE_LISTA: #REF!

Sheet Presupuesto
A1: PRESUPUESTO FINAL ACUEDUCTO MORTIÑAL SECTOR LA ESCUELA
A2: Ítem | B2: Referencia | C2: codigo | D2: DESCRIPCIÓN | E2: UND. | F2: CANTIDAD | G2: VALOR UNITARIO | H2: VALOR TOTAL
A4: 1. CAPTACIÓN NACIMIENTO - ADUCCIÓN - CONDUCCIÓN A PTAP
A5: 1.01 | B5: Gob. | C5: 2.01.70 | D5: EXCAVACION MANUAL EN MATERIAL COMUN | E5: m3 | F5: =+Memorias!F20 -> 63 | G5: 70577.63 | H5: =+F5*G5 -> 4446390.7
A6: =+A5+0.01 -> 1.02 | B6: Gob. | C6: =APUS!A31 -> 2.01.71 | D6: EXCAVACION MANUAL EN MATERIAL CONGLOMERADO | E6: m3 | F6: =+Memorias!F40 -> 21 | G6: 93519.01 | H6: =+F6*G6 -> 1963899.2
A7: =+A6+0.01 -> 1.03 | B7: Gob. | C7: 4.01.18 | D7: SUMINISTRO E INSTALACIÓN TUBERÍA PVC. D = 2" RDE 21 UNIÓN MECANICA | E7: ml | F7: =+Memorias!F55 -> 6 | G7: 30583.17 | H7: =+F7*G7 -> 183499.02
A8: =+A7+0.01 -> 1.04 | D8: Macromedidor de 2" agua limpia clase b magnético 230psi | E8: und | F8: =+Memorias!F70 -> 1 | G8: =+APUS!G156 -> $ 2.660.000,00 | H8: =+F8*G8 -> 2660000
A9: =+A8+0.01 -> 1.05 | D9: Unión de desmontaje autoportante en HD de 2" | E9: und | F9: =+Memorias!F85 -> 1 | G9: =+APUS!G187 -> $ 651.748,55 | H9: =+F9*G9 -> 651748.55
A10: =+A9+0.01 -> 1.06 | D10: Pasamuro en a.c extremo brida en ac de 2" | E10: und | F10: =+Memorias!F103 -> 1 | G10: =+APUS!G218 -> 276037.14 | H10: =+F10*G10 -> 276037.14
A11: =+A10+0.01 -> 1.07 | B11: Gob. | D11: SUMINISTRO E INSTALACIÓN VÁLVULA COMPUERTA H.D. D = 2" EXTREMO BRIDA SELLO ELASTICO, 250 PSI. | E11: und | F11: =+Memorias!F121 -> 1 | G11: 837800.39 | H11: =+F11*G11 -> 837800.39
A12: =+A11+0.01 -> 1.08 | B12: No Gob. | D12: Filtro en yee 2" en HD e.b con registro de lavado | E12: und | F12: =+Memorias!F139 -> 1 | G12: 1076400 | H12: =+F12*G12 -> 1076400
A13: =+A12+0.01 -> 1.09 | B13: Gob. | C13: =APUS!A254 -> 4.02.04 | D13: SUMINISTRO E INSTALACIÓN TUBERÍA PN 10 DIAMETRO 63 mm | E13: ML | F13: =+Memorias!F154 -> 350 | G13: 20609.2 | H13: =+F13*G13 -> 7213220
A14: =+A13+0.01 -> 1.1 | B14: Gob. | C14: =APUS!A1892 -> 3.03.19 | D14: RELLENO CON MATERIAL SELECCIONADO PROVENIENTE DE EXCAVACION COMPACTADO | E14: M3 | F14: =+Memorias!F169 -> 84 | G14: =APUS!G1912 -> 10228.64 | H14: =+F14*G14 -> 859205.76
A15: Subtotal | H15: =SUM(H5:H14) -> 20168201
A16: 2. PTAP, OBRAS CIVILES, CERRAMIENTO, CASETA DE OPERACIÓN Y CUARTO ELÉCTRICO
A17: 2.01 | B17: Gob. | C17: 2.01.70 | D17: EXCAVACION MANUAL EN MATERIAL COMUN | E17: m3 | F17: =+Memorias!F184 -> 44.3 | G17: 70577.63 | H17: =+F17*G17 -> 3126589
A18: =+A17+0.01 -> 2.02 | B18: Gob. | C18: =+C104 -> 2,01,71 | D18: EXCAVACION MANUAL EN MATERIAL CONGLOMERADO | E18: m3 | F18: =+Memorias!F199 -> 13.425 | G18: 93519.01 | H18: =+F18*G18 -> 1255492.7
A19: =+A18+0.01 -> 2.03 | D19: SUMINISTRO E INSTALACION DE CONCRETO CICLOPEO DE 17.5 MPA (2500) , 40% RAJON PARA BASES | E19: m3 | F19: =+Memorias!F214 -> 13.1 | G19: =+APUS!G351 -> 623318.25 | H19: =+F19*G19 -> 8165469.1
A20: =+A19+0.01 -> 2.04 | B20: Gob. | C20: =APUS!A354 -> 2.03.31 | D20: VIGA AMARRE SOBRE MURO 21 MPa - (3000 PSI) | E20: m3 | F20: =+Memorias!F229 -> 2.66 | G20: 1087554.3 | H20: =+F20*G20 -> 2892894.5
A21: =+A20+0.01 -> 2.05 | B21: Gob. | C21: =APUS!A390 -> 5.03.01 | D21: CONCRETO SIMPLE DE 21 Mpa. (3000 PSI) | E21: m3 | F21: =+Memorias!F244 -> 5.3 | G21: 556652.91 | H21: =+F21*G21 -> 2950260.4
A22: =+A21+0.01 -> 2.06 | B22: Gob. | C22: 2.04.14 | D22: MURO EN BLOQUE DE ARCILLA No.4. E = 0.10 M. | E22: m2 | F22: =+Memorias!F259 -> 68.3 | G22: =+APUS!G457 -> $ 68.169,33 | H22: =+F22*G22 -> 4655965.2
A23: =+A22+0.01 -> 2.07 | B23: Gob. | C23: 2.15.07 | D23: SUMINSITRO E INSTALACIÓN VENTANA LAMINA CAL. 18 CON VIDRIO INC. ANTICORR. | E23: m2 | F23: =+Memorias!F274 -> 6 | G23: 321920.35 | H23: =+F23*G23 -> 1931522.1
A24: =+A23+0.01 -> 2.08 | B24: Gob. | C24: 2.15.06 | D24: SUMINISTRO E INSTALACIÓN PUERTA EN LAMINA CAL 18 INC. ANTICORROSIVO | E24: Und | F24: =+Memorias!F289 -> 7.1 | G24: 264906.59 | H24: =+F24*G24 -> 1880836.8 | I24: pdf
A25: =+A24+0.01 -> 2.09 | B25: Gob. | C25: 3.10.12 | D25: SUMINISTRO FIGURADO Y ARMADO DE ACERO DE REFUERZO 60000 PSI 420 MPA | E25: kg | F25: =+Memorias!F304 -> 1392.5 | G25: 7675.05 | H25: =+F25*G25 -> 10687507 | I25: pdf
A26: =+A25+0.01 -> 2.1 | B26: Gob. | C26: =+APUS!A574 -> 2.03.01 | D26: COLUMNAS Y PEDESTALES EN CONCRETO DE 21 MPa - (3000 PSI), H < = A 3.0 M. (FORMALETA METALICA). | E26: m3 | F26: =+Memorias!F319 -> 2.017 | G26: =+APUS!G609 -> 1136574.8 | H26: =+F26*G26 -> 2292471.3
A27: =+A26+0.01 -> 2.11 | B27: Gob. | C27: =+APUS!A612 -> 0 | D27: CONCRETO E/PISO 21 Mpa - (3000 PSI) | E27: m3 | F27: =+Memorias!F334 -> 4.8 | G27: =+APUS!G644 -> 285074.72 | H27: =+F27*G27 -> 1368358.7
A28: =+A27+0.01 -> 2.12 | B28: Gob. | C28: =+APUS!A648 -> 2.03.35 | D28: SUMINISTRO E INSTALACIÓN DE MALLA ELECTROSOLDADA | E28: KG | F28: =+Memorias!F356 -> 420 | G28: =+APUS!G680 -> 7423.82 | H28: =+F28*G28 -> 3118004.4
A29: =+A28+0.01 -> 2.13 | B29: Gob. | C29: =+APUS!A683 -> 2.05.01 | D29: ALISTADO DE PISO 1:3 E = 4.0 CM (ENDURECIDO). | E29: m2 | F29: =+Memorias!F377 -> 10 | G29: =+APUS!G716 -> 59484.58 | H29: =+F29*G29 -> 594845.8
A30: =+A29+0.01 -> 2.14 | B30: Gob. | C30: =+APUS!A719 -> 2.05.19 | D30: PISO EN CERÁMICA | E30: m2 | F30: =+Memorias!F398 -> 10 | G30: =+APUS!G752 -> 91325.6 | H30: =+F30*G30 -> 913256
A31: =+A30+0.01 -> 2.15 | B31: No Gob. | D31: Tapa en prfv para tanque | E31: m2 | F31: =+Memorias!F418 -> 2 | G31: =+APUS!G783 -> 526511.42 | H31: =+F31*G31 -> 1053022.8
A32: =+A31+0.01 -> 2.16 | B32: No Gob. | D32: Soporte superior en acero inox sobre tapa para moto reductor | E32: und | F32: =+Memorias!F438 -> 2 | G32: =+APUS!G812 -> 334111.42 | H32: =+F32*G32 -> 668222.83
A33: =+A32+0.01 -> 2.17 | B33: No Gob. | D33: Motorreductor agitador mecánico con eje y aspas en acero inoxidable | E33: und | F33: =+Memorias!F463 -> 2 | G33: =+APUS!G841 -> 3864188.5 | H33: =+F33*G33 -> 7728377
A34: =+A33+0.01 -> 2.18 | B34: No Gob. | D34: Bomba dosificadora de 3 l/h | E34: und | F34: =+Memorias!F488 -> 2 | G34: =+APUS!G870 -> 2626045.7 | H34: =+F34*G34 -> 5252091.3
A35: =+A34+0.01 -> 2.19 | B35: No Gob. | D35: Tablero eléctrico para agitador y bomba dosificadora en cloro y tablero para bombas de 1hp y lapicero de 8hp | E35: und | F35: =+Memorias!F511 -> 1 | G35: =+APUS!G898 -> 15223068 | H35: =+F35*G35 -> 15223068
A36: =+A35+0.01 -> 2.2 | B36: No Gob. | D36: SUMINISTRO E INSTALACION DE TUBERÍA ACERO GALVANIZADA 1/2 | E36: ml | F36: =+Memorias!F536 -> 60 | G36: =+APUS!G926 -> 16207.428 | H36: =+F36*G36 -> 972445.66
A37: =+A36+0.01 -> 2.21 | B37: Gob. | C37: =APUS!A929 -> 2.19.06 | D37: CERRAMIENTO MALLA ESLABONADA C. 10 INC. ANGULO | E37: m2 | F37: =+Memorias!F554 -> 44 | G37: =+APUS!G962 -> 373220.67 | H37: =+F37*G37 -> 16421710
A38: =+A37+0.01 -> 2.22 | B38: Gob. | C38: =APUS!A965 -> 3.08.24 | D38: CONSTRUCCION DE ANDENES E=0.10 M., EN CONCRETO DE 17.5 MPa - (2500 PSI) | E38: m2 | F38: =+Memorias!F757 -> 1 | G38: =+APUS!G994 -> 91890.562 | H38: =+F38*G38 -> 91890.562
A39: =+A38+0.01 -> 2.23 | B39: Gob. | C39: =+APUS!A997 -> 3.08.11 | D39: SARDINEL FUNDIDO IN-SITU H=0.40 MTS - A=0.20 MTS, CONCRETO DE 2500 PSI | E39: m3 | F39: =+Memorias!F593 -> 2.4 | G39: =+APUS!G1031 -> 983932.57 | H39: =+F39*G39 -> 2361438.2
A40: =+A39+0.01 -> 2.24 | B40: No Gob. | D40: Suministro e Instalación de PTAP mediante sistemas de filtración Q=2,5 LPS | E40: und | F40: =+Memorias!F612 -> 1 | G40: =+APUS!G1061 -> 89830685 | H40: =+F40*G40 -> 89830685
A41: =+A40+0.01 -> 2.25 | B41: Gob. | C41: =+APUS!A1064 -> 4.04.04 | D41: SUMINISTRO E INSTALACIÓN VÁLVULA COMPUERTA H.F. D = 2" EXTREMO BRIDA SELLO ELASTICO, 250 PSI. | E41: und | F41: =+Memorias!F627 -> 2 | G41: =APUS!G2244 -> 1265007.9 | H41: =+F41*G41 -> 2530015.8
...

Sheet APUS
A2: ANALISIS DE PRECIOS UNITARIOS
A3: REF. PRECIO GOB. BOYACÁ | B3: DESCRIPCIÓN DE LA ACTIVIDAD | G3: Unidad
A4: 2.01.70
A5: No. ÍTEM PRESUPUESTO | B5: EXCAVACIÓN MANUAL EN MATERIAL COMÚN | G5: m3
A6: 1,02 - 2,01 - 3,01 - 4,01
A8: 2. EQUIPO
A9: Descripción | D9: Unidad | E9: Vr. Unitario | F9: Cantidad | G9: Valor parcial
A10: HERRAMIENTA Y EQUIPO MENOR (%M.O.) | D10: % | E10: 67216.79 | F10: 0.05 | G10: =+IF(A10="","",E10*F10) -> 3360.8395
G11: =+IF(A11="","",E11*F11)
G12: =+IF(A12="","",E12*F12)
D13: SUBTOTAL EQUIPO | G13: =ROUND(+SUM(G10:G12),2) -> 3360.84
A15: 3. MANO DE OBRA
A16: Descripción | D16: Unidad | E16: Vr. Unitario | F16: Cantidad | G16: Valor parcial
A17: CUADRILLA DE ALBAÑILERIA (AA) | D17: HC | E17: 29224.692 | F17: 2.3 | G17: =(+IF(A17="","",(E17*F17))) -> 67216.791
G20: =(+IF(A20="","",(E20*F20)))
D22: SUBTOTAL MANO DE OBRA | G22: =+ROUND(SUM(G17:G21),2) -> 67216.79
A24: COSTO DIRECTO | G24: =ROUND((SUM(+G13+G22)),2) -> 70577.63
A26: INCREMENTO POR DISTANCIA (F.I.D.) | F26: =+[1]PRESUPUESTO!$H$70 -> 0 | G26: =+G24*F26 -> 0
A27: TOTAL COSTO DIRECTO + INCREMENTO POR DISTANCIA | G27: =+G26+G24 -> 70577.63
D28: SUBTOTAL TRANSPORTE | G28: =+ROUND(SUM(G25:G27),2) -> 70577.63
A30: REF. PRECIO GOB. BOYACÁ | B30: DESCRIPCIÓN DE LA ACTIVIDAD | G30: Unidad
A31: 2.01.71
A32: No. ÍTEM PRESUPUESTO | B32: EXCAVACIÓN MANUAL EN MATERIAL CONGLOMERADO | G32: =+Presupuesto!E104 -> m3
A33: 1,03 - 2,02 - 3,02 - 4,02
A35: 2. EQUIPO
A36: Descripción | D36: Unidad | E36: Vr. Unitario | F36: Cantidad | G36: Valor parcial
A37: HERRAMIENTA Y EQUIPO MENOR (%M.O.) | D37: % | E37: 93519.01 | F37: 0.05 | G37: =+IF(A37="","",E37*F37) -> 4675.9505
G38: =+IF(A38="","",E38*F38)
G39: =+IF(A39="","",E39*F39)
G40: =+IF(A40="","",E40*F40)
D41: SUBTOTAL EQUIPO | G41: =ROUND(+SUM(G37:G40),2) -> 4675.95
A43: 3. MANO DE OBRA
A44: Descripción | D44: Unidad | E44: Vr. Unitario | F44: Cantidad | G44: Valor parcial
A45: CUADRILLA DE ALBAÑILERIA (AA) | D45: HC | E45: 29224.692 | F45: 3.2 | G45: =(+IF(A45="","",(E45*F45))) -> 93519.014
G46: =(+IF(A46="","",(E46*F46)))
G47: =(+IF(A47="","",(E47*F47)))
D49: SUBTOTAL MANO DE OBRA | G49: =+ROUND(SUM(G45:G48),2) -> 93519.01
A51: COSTO DIRECTO | G51: =ROUND((SUM(+G41+G49)),2) -> 98194.96
A53: INCREMENTO POR DISTANCIA (F.I.D.) | F53: =+[1]PRESUPUESTO!$H$70 -> 0 | G53: =+G51*F53 -> 0
A54: TOTAL COSTO DIRECTO + INCREMENTO POR DISTANCIA | G54: =+G53+G51 -> 98194.96
...

Sheet Memorias
A1: MEMORIA DE CALCULO ACUEDUCTO MORTIÑAL SECTOR LA ESCUELA
A3: 1. CAPTACIÓN NACIMIENTO - ADUCCIÓN - CONDUCCIÓN A PTAP
A4: ITEM No. : | C4: 1.01 | D4: UNIDAD ITEM: | E4: m3
A5: CAPITULO No. : | C5: 1 | D5: FECHA: | E5: Noviembre 2025
A6: DESCRIPCION ITEM:
A7: EXCAVACION MANUAL EN MATERIAL COMUN
A8: ESQUEMA | C8: LONGITUD | D8: ANCHO | E8: ALTURA | F8: CANTIDAD
C9: 350 | D9: 0.3 | E9: 0.6 | F9: =+C9*D9*E9 -> 63
F10: =+C10*D10*E10 -> 0
E20: TOTAL | F20: =+F9 -> 63
A21: OBSERVACIONES
A24: 1. CAPTACIÓN NACIMIENTO - ADUCCIÓN - CONDUCCIÓN A PTAP
A25: ITEM No. : | C25: 1.02 | D25: UNIDAD ITEM: | E25: m3
A26: CAPITULO No. : | C26: 1 | D26: FECHA: | E26: Noviembre 2025
A27: DESCRIPCION ITEM:
A28: EXCAVACION MANUAL EN MATERIAL CONGLOMERADO
A29: ESQUEMA | C29: LONGITUD | D29: ANCHO | E29: ALTURA | F29: CANTIDAD
C30: 350 | D30: 0.3 | E30: 0.2 | F30: =+C30*D30*E30 -> 21
F31: =+C31*D31*E31 -> 0
E40: TOTAL | F40: =F30 -> 21
A41: OBSERVACIONES
A44: 1. CAPTACIÓN NACIMIENTO - ADUCCIÓN - CONDUCCIÓN A PTAP
A45: ITEM No. : | C45: 1.03 | D45: UNIDAD ITEM: | E45: ml
A46: 1 | C46: 1 | D46: FECHA: | E46: Noviembre 2025
A47: DESCRIPCION ITEM:
A48: SUMINISTRO E INSTALACIÓN TUBERÍA PVC. D = 2" RDE 21 UNIÓN MECANICA
A49: ESQUEMA | C49: LONGITUD | D49: ANCHO | E49: ALTURA | F49: CANTIDAD
C50: 6 | F50: =+C50 -> 6
F51: =+C51*D51 -> 0
F52: =+C52*D52 -> 0
E55: TOTAL | F55: =SUM(F50:F54) -> 6
A56: OBSERVACIONES
A59: 1. CAPTACIÓN NACIMIENTO - ADUCCIÓN - CONDUCCIÓN A PTAP
A60: ITEM No. : | C60: 1.04 | D60: UNIDAD ITEM: | E60: und
A61: CAPITULO No. : | C61: 1 | D61: FECHA: | E61: Noviembre 2025
A62: DESCRIPCION ITEM:
A63: Macromedidor de 2" agua limpia clase b magnético 230psi
A64: ESQUEMA | C64: LONGITUD | D64: ANCHO | E64: ALTURA | F64: CANTIDAD
C65: Macromedidor | D65: Filtro Yee | E65: salida a red | F65: 1
E70: TOTAL | F70: =SUM(F65:F69) -> 1
...
