Workbook
Name _Toc230050773: '(3) TOYOTA RAV'!$A$2

Sheet (3) TOYOTA RAV
A1: RELACIÓN DE PRECIOS SELECCIÓN ABREVIADA DE MENOR CUANTÍA DE 2026 “REALIZAR EL MANTENIMIENTO PREVENTIVO Y CORRECTIVO, CON SUMINISTRO DE REPUESTOS A LOS VEHÍCULOS DEL PARQUE AUTOMOTOR DEL INSTITUTO PARA EL DESARROLLO DE ANTIOQUIA -IDEA-”
A11: MANTENIMIENTOS PREVENTIVOS
D14: RAV4 MODELO 2018 ( 3 VEHICULOS) | F14: EMPRESA 1 | J14: Empresa 2 | N14: Empresa 3
A15: INTERVALOS DE MANTENIMIENTO | D15: UNIDAD | E15: CANTIDAD | F15: VALOR UNITARIO | G15: VALOR TOTAL ANTES DE IVA | H15: VALOR DE IVA | I15: VALOR TOTAL IVA INCLUIDO | J15: VALOR UNITARIO | K15: VALOR TOTAL ANTES DE IVA | L15: VALOR DE IVA | M15: VALOR TOTAL IVA INCLUIDO | N15: VALOR UNITARIO | O15: VALOR TOTAL ANTES DE IVA | P15: VALOR DE IVA | Q15: VALOR TOTAL IVA INCLUIDO
A16: Revisión de 5, 15, 25, 35, 45 ... X 1000 Km | D16: MANO DE OBRA | E16: 9 | F16: 349569 | G16: =+F16*E16 -> 3146121 | H16: =+G16*19% -> 597762.99 | I16: =+G16+H16 -> 3743884 | J16: 536810 | K16: =+J16*E16 -> 4831290 | L16: =+K16*19% -> 917945.1 | M16: =+K16+L16 -> 5749235.1 | O16: =+N16*E16 -> 0 | P16: =+O16*19% -> 0 | Q16: =+O16+P16 -> 0
A17: Revisión de 10 , 30 , 50 , 70 , 90 , 110 X 1000 Km | C17: 2.5 | D17: MANO DE OBRA | E17: 6 | F17: 582615 | G17: =+F17*E17 -> 3495690 | H17: =+G17*19% -> 664181.1 | I17: =+G17+H17 -> 4159871.1 | J17: 1105662 | K17: =+J17*E17 -> 6633972 | L17: =+K17*19% -> 1260454.7 | M17: =+K17+L17 -> 7894426.7 | O17: =+N17*E17 -> 0 | P17: =+O17*19% -> 0 | Q17: =+O17+P17 -> 0
A18: Revisión de 20 , 60, 100 , 140 X 1000 Km | C18: 4 | D18: MANO DE OBRA | E18: 3 | F18: 932184 | G18: =+F18*E18 -> 2796552 | H18: =+G18*19% -> 531344.88 | I18: =+G18+H18 -> 3327896.9 | J18: 1436975 | K18: =+J18*E18 -> 4310925 | L18: =+K18*19% -> 819075.75 | M18: =+K18+L18 -> 5130000.8 | O18: =+N18*E18 -> 0 | P18: =+O18*19% -> 0 | Q18: =+O18+P18 -> 0
A19: Revisión de 40 , 80 , 120 X 1000 Km | D19: MANO DE OBRA | E19: 3 | F19: 932184 | G19: =+F19*E19 -> 2796552 | H19: =+G19*19% -> 531344.88 | I19: =+G19+H19 -> 3327896.9 | J19: 1436975 | K19: =+J19*E19 -> 4310925 | L19: =+K19*19% -> 819075.75 | M19: =+K19+L19 -> 5130000.8 | O19: =+N19*E19 -> 0 | P19: =+O19*19% -> 0 | Q19: =+O19+P19 -> 0
A20: SUBTOTAL MANTENIMIENTOS | G20: =SUM(G16:G19) -> 12234915 | H20: =SUM(H16:H19) -> 2324633.8 | I20: =+G20+H20 -> 14559549 | K20: =SUM(K16:K19) -> 20087112 | L20: =SUM(L16:L19) -> 3816551.3 | M20: =+K20+L20 -> 23903663 | O20: =SUM(O16:O19) -> 0 | P20: =+O20*19% -> 0 | Q20: =+O20+P20 -> 0
A21: INSUMOS Y SERVICIOS - MANTENIMIENTO PERIODICO | D21: UNIDAD | E21: CANTIDAD | F21: VALOR UNITARIO | G21: VALOR TOTAL ANTES DE IVA | H21: VALOR DE IVA | I21: VALOR TOTAL IVA INCLUIDO | J21: VALOR UNITARIO | K21: VALOR TOTAL ANTES DE IVA | L21: VALOR DE IVA | M21: VALOR TOTAL IVA INCLUIDO | N21: VALOR UNITARIO | O21: VALOR TOTAL ANTES DE IVA | P21: VALOR DE IVA | Q21: VALOR TOTAL IVA INCLUIDO
A22: Alineación | D22: MANO DE OBRA | E22: 3 | F22: 186437 | G22: =+F22*E22 -> 559311 | H22: =+G22*19% -> 106269.09 | I22: =+G22+H22 -> 665580.09 | J22: 126050 | K22: =+J22*E22 -> 378150 | L22: =+K22*19% -> 71848.5 | M22: =+K22+L22 -> 449998.5 | O22: =+N22*E22 -> 0 | P22: =+O22*19% -> 0 | Q22: =+O22+P22 -> 0
A23: Balanceo | D23: MANO DE OBRA | E23: 3 | F23: 46609 | G23: =+F23*E23 -> 139827 | H23: =+G23*19% -> 26567.13 | I23: =+G23+H23 -> 166394.13 | J23: 79832 | K23: =+J23*E23 -> 239496 | L23: =+K23*19% -> 45504.24 | M23: =+K23+L23 -> 285000.24 | O23: =+N23*E23 -> 0 | P23: =+O23*19% -> 0 | Q23: =+O23+P23 -> 0
A24: Engrase cardanes, diferencial y suspensión (Incluye grasa) | D24: MANO DE OBRA | E24: 3 | F24: 46609 | G24: =+F24*E24 -> 139827 | H24: =+G24*19% -> 26567.13 | I24: =+G24+H24 -> 166394.13 | J24: 0 | K24: =+J24*E24 -> 0 | L24: =+K24*19% -> 0 | M24: =+K24+L24 -> 0 | O24: =+N24*E24 -> 0 | P24: =+O24*19% -> 0 | Q24: =+O24+P24 -> 0
A25: Suministro de filtro de aire motor | D25: UNIDAD | E25: 18 | F25: 117647 | G25: =+F25*E25 -> 2117646 | H25: =+G25*19% -> 402352.74 | I25: =+G25+H25 -> 2519998.7 | J25: 42353 | K25: =+J25*E25 -> 762354 | L25: =+K25*19% -> 144847.26 | M25: =+K25+L25 -> 907201.26 | O25: =+N25*E25 -> 0 | P25: =+O25*19% -> 0 | Q25: =+O25+P25 -> 0
A26: Suministro de filtro de aire acondicionado | D26: UNIDAD | E26: 9 | F26: 155462 | G26: =+F26*E26 -> 1399158 | H26: =+G26*19% -> 265840.02 | I26: =+G26+H26 -> 1664998 | J26: 157983 | K26: =+J26*E26 -> 1421847 | L26: =+K26*19% -> 270150.93 | M26: =+K26+L26 -> 1691997.9
A27: Suministro de Líquido de frenos | D27: 500 ML | E27: 9 | F27: 47899 | G27: =+F27*E27 -> 431091 | H27: =+G27*19% -> 81907.29 | I27: =+G27+H27 -> 512998.29 | J27: 37059 | K27: =+J27*E27 -> 333531 | L27: =+K27*19% -> 63370.89 | M27: =+K27+L27 -> 396901.89 | O27: =+N27*E27 -> 0 | P27: =+O27*19% -> 0 | Q27: =+O27+P27 -> 0
A28: Suministro de limpiador cuerpo de mariposa | D28: UNIDAD | E28: 6 | F28: 75524 | G28: =+F28*E28 -> 453144 | H28: =+G28*19% -> 86097.36 | I28: =+G28+H28 -> 539241.36 | J28: 78151 | K28: =+J28*E28 -> 468906 | L28: =+K28*19% -> 89092.14 | M28: =+K28+L28 -> 557998.14 | O28: =+N28*E28 -> 0 | P28: =+O28*19% -> 0 | Q28: =+O28+P28 -> 0
A29: Limpiador de inyectores (Via Tanque) | D29: 250 ML | E29: 18 | F29: 78151 | G29: =+F29*E29 -> 1406718 | H29: =+G29*19% -> 267276.42 | I29: =+G29+H29 -> 1673994.4 | J29: 78151 | K29: =+J29*E29 -> 1406718 | L29: =+K29*19% -> 267276.42 | M29: =+K29+L29 -> 1673994.4 | O29: =+N29*E29 -> 0 | P29: =+O29*19% -> 0 | Q29: =+O29+P29 -> 0
A30: Suministro de empaque tapón de aceite | D30: UNIDAD | E30: 18 | F30: 4202 | G30: =+F30*E30 -> 75636 | H30: =+G30*19% -> 14370.84 | I30: =+G30+H30 -> 90006.84 | J30: 4790 | K30: =+J30*E30 -> 86220 | L30: =+K30*19% -> 16381.8 | M30: =+K30+L30 -> 102601.8 | O30: =+N30*E30 -> 0 | P30: =+O30*19% -> 0 | Q30: =+O30+P30 -> 0
A31: Suministro de Aceite motor | D31: 1/4 GLN | E31: 63 | F31: 42858 | G31: =+F31*E31 -> 2700054 | H31: =+G31*19% -> 513010.26 | I31: =+G31+H31 -> 3213064.3 | J31: 45009 | K31: =+J31*E31 -> 2835567 | L31: =+K31*19% -> 538757.73 | M31: =+K31+L31 -> 3374324.7
A32: Afinación de motor | D32: MANO DE OBRA | E32: 3 | F32: 699138 | G32: =+F32*E32 -> 2097414 | H32: =+G32*19% -> 398508.66 | I32: =+G32+H32 -> 2495922.7 | J32: 642000 | K32: =+J32*E32 -> 1926000 | L32: =+K32*19% -> 365940 | M32: =+K32+L32 -> 2291940
A33: SUBTOTAL MANTENIMIENTOS | G33: =SUM(G22:G32) -> 11519826 | H33: =SUM(H22:H32) -> 2188766.9 | I33: =G33+H33 -> 13708593 | K33: =SUM(K22:K32) -> 9858789 | L33: =+L22+L23+L24+L25+L27+L28+L29+L30+L31+L32 -> 1603019 | M33: =SUM(M22:M32) -> 11731959 | O33: =SUM(O22:O30) -> 0 | P33: =+P22+P23+P24+P25+P27+P28+P29+P30 -> 0 | Q33: =O33+P33 -> 0
A34: TOTAL MANTENIMIENTO INSUMOS Y SERVICIOS | G34: =+G20+G33 -> 23754741 | H34: =G34*19% -> 4513400.8 | I34: =+(I20+I33) -> 28268142 | K34: =+K20+K33 -> 29945901 | L34: =K34*19% -> 5689721.2 | M34: =+(M20+M33) -> 35635622 | O34: =+O20+O33 -> 0 | P34: =O34*19% -> 0 | Q34: =+(Q20+Q33)*1.11 -> 0
A35: MANTENIMIENTO REPUESTOS | D35: UNIDAD | E35: CANTIDAD | F35: VALOR UNITARIO | G35: VALOR TOTAL ANTES DE IVA | H35: VALOR DE IVA | I35: VALOR TOTAL IVA INCLUIDO | J35: VALOR UNITARIO | K35: VALOR TOTAL ANTES DE IVA | L35: VALOR DE IVA | M35: VALOR TOTAL IVA INCLUIDO | N35: VALOR UNITARIO | O35: VALOR TOTAL ANTES DE IVA | P35: VALOR DE IVA | Q35: VALOR TOTAL IVA INCLUIDO
A36: Pastas de freno delanteras | D36: JUEGO | E36: 3 | F36: 599160 | G36: =+F36*E36 -> 1797480 | H36: =+G36*19% -> 341521.2 | I36: =+G36+H36 -> 2139001.2 | J36: 655462 | K36: 655462 | L36: =+K36*19% -> 124537.78 | M36: =+K36+L36 -> 779999.78 | O36: =+N36*E36 -> 0 | P36: =+O36*19% -> 0 | Q36: =+O36+P36 -> 0
A37: Pastas de freno traseras | D37: JUEGO | E37: 3 | F37: 419129.9 | G37: =+F37*E37 -> 1257389.7 | H37: =+G37*19% -> 238904.04 | I37: =+G37+H37 -> 1496293.7 | J37: 436975 | K37: 436975 | L37: =+K37*19% -> 83025.25 | M37: =+K37+L37 -> 520000.25 | O37: =+N37*E37 -> 0 | P37: =+O37*19% -> 0 | Q37: =+O37+P37 -> 0
A38: Bateria | D38: UNIDAD | E38: 2 | F38: 726051 | G38: =+F38*E38 -> 1452102 | H38: =+G38*19% -> 275899.38 | I38: =+G38+H38 -> 1728001.4 | J38: 800000 | K38: 800000 | L38: =+K38*19% -> 152000 | M38: =+K38+L38 -> 952000
A39: Llantas (4) | D39: JUEGO | E39: 1 | F39: 5400000 | G39: =+F39*E39 -> 5400000 | H39: =+G39*19% -> 1026000 | I39: =+G39+H39 -> 6426000 | J39: 2400000 | K39: 2400000 | L39: =+K39*19% -> 456000 | M39: =+K39+L39 -> 2856000 | O39: =+N39*E39 -> 0 | P39: =+O39*19% -> 0 | Q39: =+O39+P39 -> 0
A40: SUBTOTAL MATENIMIENTO REPUESTOS | G40: =SUM(G36:G39) -> 9906971.7 | H40: =SUM(H36:H39) -> 1882324.6 | I40: =+(G40+H40) -> 11789296 | K40: =SUM(K36:K39) -> 4292437 | L40: =SUM(L36:L39) -> 815563.03 | M40: =+(K40+L40) -> 5108000 | O40: =+O36+O37+O39 -> 0 | P40: =SUM(P36:P39) -> 0 | Q40: =+(O40+P40)*1.11 -> 0
A41: TOTAL MANTENIMIENTOS - TOYOTA RAV ( 3 VEHICULOS) | G41: =+G34+G40 -> 33661713 | H41: =+H34+H40 -> 6395725.4 | I41: =+(I34+I40) -> 40057438 | K41: =+K34+K40 -> 34238338 | L41: =+L34+L40 -> 6505284.2 | M41: =+(M34+M40) -> 40743622 | O41: =+O34+O40 -> 0 | P41: =+P34+P40 -> 0 | Q41: =+(Q34+Q40) -> 0
D43: KILOMETRAJE
A44: OML971 MODELO 2018 | D44: 78905
A46: OML972 MODELO 2018 | D46: 90727
A48: OML973 MODELO 2018 | D48: 88335

Sheet (1) TOYOTA PRADO TXL
A1: RELACIÓN DE PRECIOS SELECCIÓN ABREVIADA DE MENOR CUANTÍA DE 2026 “REALIZAR EL MANTENIMIENTO PREVENTIVO Y CORRECTIVO, CON SUMINISTRO DE REPUESTOS A LOS VEHÍCULOS DEL PARQUE AUTOMOTOR DEL INSTITUTO PARA EL DESARROLLO DE ANTIOQUIA -IDEA-”
A11: MANTENIMIENTOS PREVENTIVOS
D14: PRADO TXL KDJ150 MODELO 2018 | F14: EMPRESA 1 | J14: Empresa 2 | N14: Empresa 3
A15: INTERVALOS DE MANTENIMIENTO | D15: UNIDAD | E15: CANTIDAD | F15: VALOR UNITARIO | G15: VALOR TOTAL ANTES DE IVA | H15: VALOR DE IVA | I15: VALOR TOTAL IVA INCLUIDO | J15: VALOR UNITARIO | K15: VALOR TOTAL ANTES DE IVA | L15: VALOR DE IVA | M15: VALOR TOTAL IVA INCLUIDO | N15: VALOR UNITARIO | O15: VALOR TOTAL ANTES DE IVA | P15: VALOR DE IVA | Q15: VALOR TOTAL IVA INCLUIDO
A16: Revisión de 5, 15, 25, 35, 45 ... X 1000 Km | D16: MANO DE OBRA | E16: 3 | F16: 349569 | G16: =F16*$E16 -> 1048707 | H16: =G16*19% -> 199254.33 | I16: =G16+H16 -> 1247961.3 | J16: 676779 | K16: =+J16*E16 -> 2030337 | L16: =K16*19% -> 385764.03 | M16: =K16+L16 -> 2416101 | O16: =N16*$E16 -> 0 | P16: =O16*19% -> 0 | Q16: =O16+P16 -> 0
A17: Revisión de 10 , 30 , 50 , 70 , 90 , 110 X 1000 Km | C17: 2.5 | D17: MANO DE OBRA | E17: 2 | F17: 582615 | G17: =F17*$E17 -> 1165230 | H17: =G17*19% -> 221393.7 | I17: =G17+H17 -> 1386623.7 | J17: 1306976 | K17: =+J17*E17 -> 2613952 | L17: =K17*19% -> 496650.88 | M17: =K17+L17 -> 3110602.9 | O17: =N17*$E17 -> 0 | P17: =O17*19% -> 0 | Q17: =O17+P17 -> 0
A18: Revisión de 20 , 60, 100 , 140 X 1000 Km | C18: 4 | D18: MANO DE OBRA | E18: 1 | F18: 932184 | G18: =F18*$E18 -> 932184 | H18: =G18*19% -> 177114.96 | I18: =G18+H18 -> 1109299 | J18: 2141685 | K18: =+J18*E18 -> 2141685 | L18: =K18*19% -> 406920.15 | M18: =K18+L18 -> 2548605.1 | O18: =N18*$E18 -> 0 | P18: =O18*19% -> 0 | Q18: =O18+P18 -> 0
A19: Revisión de 40 , 80 , 120 X 1000 Km | C19: 4 | D19: MANO DE OBRA | E19: 1 | F19: 932184 | G19: =F19*$E19 -> 932184 | H19: =G19*19% -> 177114.96 | I19: =G19+H19 -> 1109299 | J19: 2199864 | K19: =+J19*E19 -> 2199864 | L19: =K19*19% -> 417974.16 | M19: =K19+L19 -> 2617838.2 | O19: =N19*$E19 -> 0 | P19: =O19*19% -> 0 | Q19: =O19+P19 -> 0
A20: SUBTOTAL MANTENIMIENTOS | G20: =SUM(G16:G19) -> 4078305 | H20: =SUM(H16:H19) -> 774877.95 | I20: =+G20+H20 -> 4853183 | K20: =SUM(K16:K19) -> 8985838 | L20: =SUM(L16:L19) -> 1707309.2 | M20: =+K20+L20 -> 10693147 | O20: =SUM(O16:O19) -> 0 | P20: =SUM(P16:P19) -> 0 | Q20: =+O20+P20 -> 0
A21: INSUMOS Y SERVICIOS - MANTENIMIENTO PERIODICO | D21: UNIDAD | E21: CANTIDAD | F21: VALOR UNITARIO | G21: VALOR TOTAL ANTES DE IVA | H21: VALOR DE IVA | I21: VALOR TOTAL IVA INCLUIDO | J21: VALOR UNITARIO | K21: VALOR TOTAL ANTES DE IVA | L21: VALOR DE IVA | M21: VALOR TOTAL IVA INCLUIDO | N21: VALOR UNITARIO | O21: VALOR TOTAL ANTES DE IVA | P21: VALOR DE IVA | Q21: VALOR TOTAL IVA INCLUIDO
A22: Alineación | D22: MANO DE OBRA | E22: 3 | F22: 186437 | G22: =+F22*E22 -> 559311 | H22: =G22*19% -> 106269.09 | I22: =+G22+H22 -> 665580.09 | J22: 79832 | K22: =+J22*E22 -> 239496 | L22: =K22*19% -> 45504.24 | M22: =+K22+L22 -> 285000.24 | O22: =+N22*E22 -> 0 | P22: =+O22*0.19 -> 0 | Q22: =+O22+P22 -> 0
A23: Balanceo | D23: MANO DE OBRA | E23: 3 | F23: 46609 | G23: =+F23*E23 -> 139827 | H23: =G23*19% -> 26567.13 | I23: =+G23+H23 -> 166394.13 | J23: 79832 | K23: =+J23*E23 -> 239496 | L23: =K23*19% -> 45504.24 | M23: =+K23+L23 -> 285000.24 | O23: =+N23*E23 -> 0 | P23: =+O23*0.19 -> 0 | Q23: =+O23+P23 -> 0
A24: Engrase cardanes, diferencial y suspensión (Incluye grasa) | D24: MANO DE OBRA | E24: 3 | F24: 46609 | G24: =+F24*E24 -> 139827 | H24: =G24*19% -> 26567.13 | I24: =+G24+H24 -> 166394.13 | J24: 0 | K24: =+J24*E24 -> 0 | L24: =K24*19% -> 0 | M24: =+K24+L24 -> 0 | O24: =+N24*E24 -> 0 | P24: =+O24*0.19 -> 0 | Q24: =+O24+P24 -> 0
A25: Suministro de filtro de aire motor | D25: UNIDAD | E25: 3 | F25: 173950 | G25: =+F25*E25 -> 521850 | H25: =G25*19% -> 99151.5 | I25: =+G25+H25 -> 621001.5 | J25: 173950 | K25: =+J25*E25 -> 521850 | L25: =K25*19% -> 99151.5 | M25: =+K25+L25 -> 621001.5 | O25: =+N25*E25 -> 0 | P25: =+O25*0.19 -> 0 | Q25: =+O25+P25 -> 0
A26: Suministro de filtro de aire acondicionado | D26: UNIDAD | E26: 3 | F26: 155462 | G26: =+F26*E26 -> 466386 | H26: =G26*19% -> 88613.34 | I26: =+G26+H26 -> 554999.34 | J26: 188000 | K26: =+J26*E26 -> 564000 | L26: =K26*19% -> 107160 | M26: =+K26+L26 -> 671160
A27: Suministro de filtro de combustible | D27: UNIDAD | E27: 3 | F27: 242017 | G27: =+F27*E27 -> 726051 | H27: =G27*19% -> 137949.69 | I27: =+G27+H27 -> 864000.69 | J27: 258000 | K27: =+J27*E27 -> 774000 | L27: =K27*19% -> 147060 | M27: =+K27+L27 -> 921060 | O27: =+N27*E27 -> 0 | P27: =+O27*0.19 -> 0 | Q27: =+O27+P27 -> 0
A28: Suministro de Líquido de frenos | D28: 500 ML | E28: 3 | F28: 47899 | G28: =+F28*E28 -> 143697 | H28: =G28*19% -> 27302.43 | I28: =+G28+H28 -> 170999.43 | J28: 42000 | K28: =+J28*E28 -> 126000 | L28: =K28*19% -> 23940 | M28: =+K28+L28 -> 149940 | O28: =+N28*E28 -> 0 | P28: =+O28*0.19 -> 0 | Q28: =+O28+P28 -> 0
A29: Suministro de limpiador cuerpo de mariposa | D29: UNIDAD | E29: 2 | F29: 75524 | G29: =+F29*E29 -> 151048 | H29: =G29*19% -> 28699.12 | I29: =+G29+H29 -> 179747.12 | J29: 93000 | K29: =+J29*E29 -> 186000 | L29: =K29*19% -> 35340 | M29: =+K29+L29 -> 221340 | O29: =+N29*E29 -> 0 | P29: =+O29*0.19 -> 0 | Q29: =+O29+P29 -> 0
A30: Limpiador de inyectores (Via Tanque) | D30: 250 ML | E30: 6 | F30: 89076 | G30: =+F30*E30 -> 534456 | H30: =G30*19% -> 101546.64 | I30: =+G30+H30 -> 636002.64 | J30: 93000 | K30: =+J30*E30 -> 558000 | L30: =K30*19% -> 106020 | M30: =+K30+L30 -> 664020 | O30: =+N30*E30 -> 0 | P30: =+O30*0.19 -> 0 | Q30: =+O30+P30 -> 0
A31: Suministro de empaque tapón de aceite | D31: UNIDAD | E31: 3 | F31: 4202 | G31: =+F31*E31 -> 12606 | H31: =G31*19% -> 2395.14 | I31: =+G31+H31 -> 15001.14 | J31: 5700 | K31: =+J31*E31 -> 17100 | L31: =K31*19% -> 3249 | M31: =+K31+L31 -> 20349
A32: Suministro de Aceite motor | D32: 1/4 GLN | E32: 6 | F32: 42858 | G32: =+F32*E32 -> 257148 | H32: =G32*19% -> 48858.12 | I32: =+G32+H32 -> 306006.12 | J32: 42729.41 | K32: =+J32*E32 -> 256376.46 | L32: =K32*19% -> 48711.527 | M32: =+K32+L32 -> 305087.99
A33: Afinación de motor | D33: MANO DE OBRA | E33: 3 | F33: 699138 | G33: =+F33*E33 -> 2097414 | H33: =G33*19% -> 398508.66 | I33: =+G33+H33 -> 2495922.7 | J33: 642000 | K33: =+J33*E33 -> 1926000 | L33: =K33*19% -> 365940 | M33: =+K33+L33 -> 2291940
A34: SUBTOTAL MANTENIMIENTOS | G34: =SUM(G22:G33) -> 5749621 | H34: =SUM(H22:H33) -> 1092428 | I34: =G34+H34 -> 6842049 | K34: =SUM(K22:K33) -> 5408318.5 | L34: =+L22+L23+L24+L25+L27+L28+L29+L30+L31+L32+L33 -> 920420.51 | M34: =SUM(M22:M33) -> 6435899 | O34: =SUM(O22:O30) -> 0 | P34: =+P22+P23+P24+P25+P27+P28+P29+P30 -> 0 | Q34: =O34+P34 -> 0
A35: TOTAL MANTENIMIENTO INSUMOS Y SERVICIOS | G35: =+G20+G34 -> 9827926 | H35: =G35*19% -> 1867305.9 | I35: =+(I20+I34) -> 11695232 | K35: =+K20+K34 -> 14394156 | L35: =K35*19% -> 2734889.7 | M35: =+(M20+M34) -> 17129046 | O35: =+O20+O34 -> 0 | P35: =O35*19% -> 0 | Q35: =+(Q20+Q34)*1.13 -> 0
A36: MANTENIMIENTO REPUESTOS | D36: UNIDAD | E36: CANTIDAD | F36: VALOR UNITARIO | G36: VALOR TOTAL ANTES DE IVA | H36: VALOR DE IVA | I36: VALOR TOTAL IVA INCLUIDO | J36: VALOR UNITARIO | K36: VALOR TOTAL ANTES DE IVA | L36: VALOR DE IVA | M36: VALOR TOTAL IVA INCLUIDO | N36: VALOR UNITARIO | O36: VALOR TOTAL ANTES DE IVA | P36: VALOR DE IVA | Q36: VALOR TOTAL IVA INCLUIDO
A37: Pastas de freno delanteras | D37: JUEGO | E37: 2 | F37: 599160 | G37: =F37*$E37 -> 1198320 | H37: =G37*19% -> 227680.8 | I37: =G37+H37 -> 1426000.8 | J37: 589916 | K37: =+J37*E37 -> 1179832 | L37: =K37*19% -> 224168.08 | M37: =K37+L37 -> 1404000.1 | O37: =N37*$E37 -> 0 | P37: =+O37*0.19 -> 0
A38: Pastas de freno traseras | D38: JUEGO | E38: 2 | F38: 355462 | G38: =F38*$E38 -> 710924 | H38: =G38*19% -> 135075.56 | I38: =G38+H38 -> 845999.56 | J38: 350420 | K38: =+J38*E38 -> 700840 | L38: =K38*19% -> 133159.6 | M38: =K38+L38 -> 833999.6 | O38: =N38*$E38 -> 0 | P38: =+O38*0.19 -> 0
A39: Batería | D39: UNIDAD | E39: 1 | F39: 1200000 | G39: =F39*$E39 -> 1200000 | H39: =G39*19% -> 228000 | I39: =G39+H39 -> 1428000 | J39: 830252 | K39: =+J39*E39 -> 830252 | L39: =K39*19% -> 157747.88 | M39: =K39+L39 -> 987999.88
A40: Llantas (4) | D40: JUEGO | E40: 1 | F40: 6664000 | G40: =F40*$E40 -> 6664000 | H40: =G40*19% -> 1266160 | I40: =G40+H40 -> 7930160 | J40: 3276000 | K40: =+J40*E40 -> 3276000 | L40: =K40*19% -> 622440 | M40: =K40+L40 -> 3898440 | O40: =N40*$E40 -> 0 | P40: =+O40*0.19 -> 0
A41: SUBTOTAL MATENIMIENTO REPUESTOS | G41: =SUM(G37:G40) -> 9773244 | H41: =SUM(H37:H40) -> 1856916.4 | I41: =+(G41+H41) -> 11630160 | K41: =SUM(K37:K40) -> 5986924 | L41: =SUM(L37:L40) -> 1137515.6 | M41: =+(K41+L41) -> 7124439.6 | O41: =SUM(O37:O40) -> 0 | P41: =SUM(P37:P40) -> 0 | Q41: =+(O41+P41)*1.13 -> 0
A42: TOTAL MANTENIMIENTOS - TOYOTA PRADO DIESEL (1 VEHICULO) | G42: =SUM(G35+G41) -> 19601170 | H42: =SUM(H35+H41) -> 3724222.3 | I42: =SUM(I35+I41) -> 23325392 | K42: =SUM(K35+K41) -> 20381080 | L42: =SUM(L35+L41) -> 3872405.3 | M42: =SUM(M35+M41) -> 24253486 | O42: =SUM(O20+O41) -> 0 | P42: =SUM(P20+P41) -> 0 | Q42: =SUM(Q35+Q41) -> 0
D45: KILOMETRAJE
A46: EOT290 Modelo 2018 | D46: 118652

Sheet (1) HILUX KUN 25
A1: RELACIÓN DE PRECIOS SELECCIÓN ABREVIADA DE MENOR CUANTÍA 2026 “REALIZAR EL MANTENIMIENTO PREVENTIVO Y CORRECTIVO, CON SUMINISTRO DE REPUESTOS A LOS VEHÍCULOS DEL PARQUE AUTOMOTOR DEL INSTITUTO PARA EL DESARROLLO DE ANTIOQUIA -IDEA-”
A13: MANTENIMIENTOS PREVENTIVOS
A16: INTERVALOS DE MANTENIMIENTO | C16: TOYOTA HILUX 2500 cc DIESEL KUN 25 MODELO 2013 | E16: EMPRESA 1 | I16: Empresa 2 | M16: Empresa 3
C17: UNIDAD | D17: CANTIDAD | E17: VALOR UNITARIO | F17: VALOR TOTAL ANTES DE IVA | G17: VALOR DE IVA | H17: VALOR TOTAL IVA INCLUIDO | I17: VALOR UNITARIO | J17: VALOR TOTAL ANTES DE IVA | K17: VALOR DE IVA | L17: VALOR TOTAL IVA INCLUIDO | M17: VALOR UNITARIO | N17: VALOR TOTAL ANTES DE IVA | O17: VALOR DE IVA | P17: VALOR TOTAL IVA INCLUIDO
A18: Revisión de 5, 15, 25, 35, 45 ... X 1000 Km | C18: MANO DE OBRA | D18: 3 | E18: 349569 | F18: =+E18*D18 -> 1048707 | G18: =+F18*19% -> 199254.33 | H18: =+F18+G18 -> 1247961.3 | I18: 768893 | J18: =+I18*D18 -> 2306679 | K18: =+J18*19% -> 438269.01 | L18: =+J18+K18 -> 2744948 | N18: =+M18*D18 -> 0 | O18: =+N18*19% -> 0 | P18: =+N18+O18 -> 0
A19: Revisión de 10 , 30 , 50 , 70 , 90 , 110 X 1000 Km | C19: MANO DE OBRA | D19: 2 | E19: 582615 | F19: =+E19*D19 -> 1165230 | G19: =+F19*19% -> 221393.7 | H19: =+F19+G19 -> 1386623.7 | I19: 1576827 | J19: =+I19*D19 -> 3153654 | K19: =+J19*19% -> 599194.26 | L19: =+J19+K19 -> 3752848.3 | N19: =+M19*D19 -> 0 | O19: =+N19*19% -> 0 | P19: =+N19+O19 -> 0
A20: Revisión de 20 , 60, 100 , 140 X 1000 Km | C20: MANO DE OBRA | D20: 1 | E20: 932184 | F20: =+E20*D20 -> 932184 | G20: =+F20*19% -> 177114.96 | H20: =+F20+G20 -> 1109299 | I20: 2727306 | J20: =+I20*D20 -> 2727306 | K20: =+J20*19% -> 518188.14 | L20: =+J20+K20 -> 3245494.1 | N20: =+M20*D20 -> 0 | O20: =+N20*19% -> 0 | P20: =+N20+O20 -> 0
A21: Revisión de 40 , 80 , 120 X 1000 Km | C21: MANO DE OBRA | D21: 1 | E21: 932184 | F21: =+E21*D21 -> 932184 | G21: =+F21*19% -> 177114.96 | H21: =+F21+G21 -> 1109299 | I21: 2910308 | J21: =+I21*D21 -> 2910308 | K21: =+J21*19% -> 552958.52 | L21: =+J21+K21 -> 3463266.5 | N21: =+M21*D21 -> 0 | O21: =+N21*19% -> 0 | P21: =+N21+O21 -> 0
A22: SUBTOTAL MANTENIMIENTOS | F22: =SUM(F18:F21) -> 4078305 | G22: =SUM(G18:G21) -> 774877.95 | H22: =+F22+G22 -> 4853183 | J22: =SUM(J18:J21) -> 11097947 | K22: =SUM(K18:K21) -> 2108609.9 | L22: =+J22+K22 -> 13206557 | M22: =SUM(M18:M21) -> 0 | N22: =SUM(N18:N21) -> 0 | O22: =SUM(O18:O21) -> 0 | P22: =+N22+O22 -> 0
A23: INSUMOS Y SERVICIOS - MANTENIMIENTO PERIODICO | C23: UNIDAD | D23: CANTIDAD | E23: VALOR UNITARIO | F23: VALOR TOTAL ANTES DE IVA | G23: VALOR DE IVA | H23: VALOR TOTAL IVA INCLUIDO | I23: VALOR UNITARIO | J23: VALOR TOTAL ANTES DE IVA | K23: VALOR DE IVA | L23: VALOR TOTAL IVA INCLUIDO | M23: VALOR UNITARIO | N23: VALOR TOTAL ANTES DE IVA | O23: VALOR DE IVA | P23: VALOR TOTAL IVA INCLUIDO
A24: Suministro de filtro de aceite | C24: UNIDAD | D24: 5 | E24: 43697 | F24: =+E24*D24 -> 218485 | G24: =+F24*19% -> 41512.15 | H24: =+F24+G24 -> 259997.15 | I24: 52000 | J24: =+I24*D24 -> 260000 | K24: =+J24*19% -> 49400 | L24: =+J24+K24 -> 309400 | N24: =+M24*D24 -> 0 | O24: =+N24*19% -> 0 | P24: =+N24+O24 -> 0
A25: Suministro de empaque tapón de aceite | C25: UNIDAD | D25: 5 | E25: 4202 | F25: =+E25*D25 -> 21010 | G25: =+F25*19% -> 3991.9 | H25: =+F25+G25 -> 25001.9 | I25: 5000 | J25: =+I25*D25 -> 25000 | K25: =+J25*19% -> 4750 | L25: =+J25+K25 -> 29750 | N25: =+M25*D25 -> 0 | O25: =+N25*19% -> 0 | P25: =+N25+O25 -> 0
A26: Suministro de Aceite motor | C26: 1/4 GLN | D26: 40 | E26: 42858 | F26: =+E26*D26 -> 1714320 | G26: =+F26*19% -> 325720.8 | H26: =+F26+G26 -> 2040040.8 | I26: 38750 | J26: =+I26*D26 -> 1550000 | K26: =+J26*19% -> 294500 | L26: =+J26+K26 -> 1844500 | N26: =+M26*D26 -> 0 | O26: =+N26*19% -> 0 | P26: =+N26+O26 -> 0
A27: Suministro de filtro de aire motor | C27: UNIDAD | D27: 3 | E27: 184874 | F27: =+E27*D27 -> 554622 | G27: =+F27*19% -> 105378.18 | H27: =+F27+G27 -> 660000.18 | I27: 217000 | J27: =+I27*D27 -> 651000 | K27: =+J27*19% -> 123690 | L27: =+J27+K27 -> 774690 | N27: =+M27*D27 -> 0 | O27: =+N27*19% -> 0 | P27: =+N27+O27 -> 0
A28: Suministro de filtro de aire acondicionado | C28: UNIDAD | D28: 1 | E28: 155462 | F28: =+E28*D28 -> 155462 | G28: =+F28*19% -> 29537.78 | H28: =+F28+G28 -> 184999.78 | I28: 188000 | J28: =+I28*D28 -> 188000 | K28: =+J28*19% -> 35720 | L28: =+J28+K28 -> 223720
A29: Suministro de filtro de combustible | C29: UNIDAD | D29: 3 | E29: 137815 | F29: =+E29*D29 -> 413445 | G29: =+F29*19% -> 78554.55 | H29: =+F29+G29 -> 491999.55 | I29: 162000 | J29: =+I29*D29 -> 486000 | K29: =+J29*19% -> 92340 | L29: =+J29+K29 -> 578340 | N29: =+M29*D29 -> 0 | O29: =+N29*19% -> 0 | P29: =+N29+O29 -> 0
A30: Engrase cardanes, diferencial y suspensión (Incluye grasa) | C30: MANO DE OBRA | D30: 3 | E30: 46609 | F30: =+E30*D30 -> 139827 | G30: =+F30*19% -> 26567.13 | H30: =+F30+G30 -> 166394.13 | I30: 0 | J30: =+I30*D30 -> 0 | K30: =+J30*19% -> 0 | L30: =+J30+K30 -> 0 | N30: =+M30*D30 -> 0 | O30: =+N30*19% -> 0 | P30: =+N30+O30 -> 0
A31: Alineación | C31: MANO DE OBRA | D31: 3 | E31: 186437 | F31: =+E31*D31 -> 559311 | G31: =+F31*19% -> 106269.09 | H31: =+F31+G31 -> 665580.09 | I31: 94400 | J31: =+I31*D31 -> 283200 | K31: =+J31*19% -> 53808 | L31: =+J31+K31 -> 337008 | N31: =+M31*D31 -> 0 | O31: =+N31*19% -> 0 | P31: =+N31+O31 -> 0
A32: Balanceo | C32: MANO DE OBRA | D32: 3 | E32: 46609 | F32: =+E32*D32 -> 139827 | G32: =+F32*19% -> 26567.13 | H32: =+F32+G32 -> 166394.13 | I32: 94400 | J32: =+I32*D32 -> 283200 | K32: =+J32*19% -> 53808 | L32: =+J32+K32 -> 337008 | N32: =+M32*D32 -> 0 | O32: =+N32*19% -> 0 | P32: =+N32+O32 -> 0
A33: Afinación de motor | C33: MANO DE OBRA | D33: 3 | E33: 699138 | F33: =+E33*D33 -> 2097414 | G33: =+F33*19% -> 398508.66 | H33: =+F33+G33 -> 2495922.7 | I33: 642000 | J33: =+I33*D33 -> 1926000 | K33: =+J33*19% -> 365940 | L33: =+J33+K33 -> 2291940 | N33: =+M33*D33 -> 0 | O33: =+N33*19% -> 0 | P33: =+N33+O33 -> 0
A34: Suministro de Líquido de frenos | C34: 500 ML | D34: 2 | E34: 47899 | F34: =+E34*D34 -> 95798 | G34: =+F34*19% -> 18201.62 | H34: =+F34+G34 -> 113999.62 | I34: 42000 | J34: =+I34*D34 -> 84000 | K34: =+J34*19% -> 15960 | L34: =+J34+K34 -> 99960 | N34: =+M34*D34 -> 0 | O34: =+N34*19% -> 0 | P34: =+N34+O34 -> 0
A35: Limpiador de inyectores (Via Tanque) | C35: 250 ML | D35: 2 | E35: 89076 | F35: =+E35*D35 -> 178152 | G35: =+F35*19% -> 33848.88 | H35: =+F35+G35 -> 212000.88 | I35: 106000 | J35: =+I35*D35 -> 212000 | K35: =+J35*19% -> 40280 | L35: =+J35+K35 -> 252280 | N35: =+M35*D35 -> 0 | O35: =+N35*19% -> 0 | P35: =+N35+O35 -> 0
A36: SUBTOTAL INSUMOS Y SERVICIOS | F36: =SUM(F24:F35) -> 6287673 | G36: =SUM(G24:G35) -> 1194657.9 | H36: =+F36+G36 -> 7482330.9 | J36: =SUM(J24:J35) -> 5948400 | K36: =SUM(K24:K35) -> 1130196 | L36: =+J36+K36 -> 7078596 | N36: =SUM(N24:N35) -> 0 | O36: =SUM(O24:O35) -> 0 | P36: =+N36+O36 -> 0
A37: TOTAL MANTENIMIENTO INSUMOS Y SERVICIOS | F37: =+F22+F36 -> 10365978 | G37: =+G22+G36 -> 1969535.8 | H37: =+(H22+H36) -> 12335514 | J37: =+J22+J36 -> 17046347 | K37: =+K22+K36 -> 3238805.9 | L37: =+(L22+L36) -> 20285153 | N37: =+N22+N36 -> 0 | O37: =+O22+O36 -> 0 | P37: =+(P22+P36)*1.13 -> 0
A38: MANTENIMIENTO REPUESTOS | C38: UNIDAD | D38: CANTIDAD | E38: VALOR UNITARIO | F38: VALOR TOTAL ANTES DE IVA | G38: VALOR DE IVA | H38: VALOR TOTAL IVA INCLUIDO | I38: VALOR UNITARIO | J38: VALOR TOTAL ANTES DE IVA | K38: VALOR DE IVA | L38: VALOR TOTAL IVA INCLUIDO | M38: VALOR UNITARIO | N38: VALOR TOTAL ANTES DE IVA | O38: VALOR DE IVA | P38: VALOR TOTAL IVA INCLUIDO
A39: Pastas de freno delanteras | C39: JUEGO | D39: 3 | E39: 526050 | F39: =+E39*D39 -> 1578150 | G39: =+F39*19% -> 299848.5 | H39: =+F39+G39 -> 1877998.5 | I39: 518487 | J39: =+I39*D39 -> 1555461 | K39: =+J39*19% -> 295537.59 | L39: =+J39+K39 -> 1850998.6 | N39: =+M39*D39 -> 0 | O39: =+N39*19% -> 0 | P39: =+N39+O39 -> 0
A40: Bandas de freno traseras | C40: JUEGO | D40: 3 | E40: 457983 | F40: =+E40*D40 -> 1373949 | G40: =+F40*19% -> 261050.31 | H40: =+F40+G40 -> 1634999.3 | I40: 451261 | J40: =+I40*D40 -> 1353783 | K40: =+J40*19% -> 257218.77 | L40: =+J40+K40 -> 1611001.8 | N40: =+M40*D40 -> 0 | O40: =+N40*19% -> 0 | P40: =+N40+O40 -> 0
A41: Llantas (4) | C41: JUEGO | D41: 1 | E41: 3600000 | F41: =+E41*D41 -> 3600000 | G41: =+F41*19% -> 684000 | H41: =+F41+G41 -> 4284000 | I41: 2460000 | J41: =+I41*D41 -> 2460000 | K41: =+J41*19% -> 467400 | L41: =+J41+K41 -> 2927400 | N41: =+M41*D41 -> 0 | O41: =+N41*19% -> 0 | P41: =+N41+O41 -> 0
A42: Bateria | C42: UNIDAD | D42: 1 | E42: 1135294 | F42: =+E42*D42 -> 1135294 | G42: =+F42*19% -> 215705.86 | H42: =+F42+G42 -> 1350999.9 | I42: 830252 | J42: =+I42*D42 -> 830252 | K42: =+J42*19% -> 157747.88 | L42: =+J42+K42 -> 987999.88 | N42: =+M42*D42 -> 0 | O42: =+N42*19% -> 0 | P42: =+N42+O42 -> 0
F43: =SUM(F39:F42) -> 7687393 | G43: =SUM(G39:G42) -> 1460604.7 | H43: =+(F43+G43) -> 9147997.7 | J43: =SUM(J39:J42) -> 6199496 | K43: =SUM(K39:K42) -> 1177904.2 | L43: =+(J43+K43) -> 7377400.2 | N43: =SUM(N39:N42) -> 0 | O43: =SUM(O39:O42) -> 0 | P43: =+(N43+O43)*1.13 -> 0
A44: TOTAL MANTENIMIENTOS -TOYOTA HILUX 2500 cc DIESEL KUN 25 (1 VEHICULO) | F44: =+F37+F43 -> 18053371 | G44: =+G37+G43 -> 3430140.5 | H44: =+(H37+H43) -> 21483511 | J44: =+J37+J43 -> 23245843 | K44: =+K37+K43 -> 4416710.2 | L44: =+(L37+L43) -> 27662553 | N44: =+N37+N43 -> 0 | O44: =+O37+O43 -> 0 | P44: =+(P37+P43) -> 0
E45: KILOMETRAJE
A47: OML 767 Modelo 2014 | E47: 201790

Sheet  (1) NEW PRADO KDJ150 5 PUERTAS
A1: RELACIÓN DE PRECIOS SELECCIÓN ABREVIADA DE MENOR CUANTÍA 2026 “REALIZAR EL MANTENIMIENTO PREVENTIVO Y CORRECTIVO, CON SUMINISTRO DE REPUESTOS A LOS VEHÍCULOS DEL PARQUE AUTOMOTOR DEL INSTITUTO PARA EL DESARROLLO DE ANTIOQUIA -IDEA-”
A13: MANTENIMIENTOS PREVENTIVOS
A16: INTERVALOS DE MANTENIMIENTO | C16: NEW PRADO 5 PUERTAS DIESEL KDJ150 MODELO 2012 | E16: EMPRESA 1 | I16: Empresa 2 | M16: Empresa 3
C17: UNIDAD | D17: CANTIDAD | E17: VALOR UNITARIO | F17: VALOR TOTAL ANTES DE IVA | G17: VALOR DE IVA | H17: VALOR TOTAL IVA INCLUIDO | I17: VALOR UNITARIO | J17: VALOR TOTAL ANTES DE IVA | K17: VALOR DE IVA | L17: VALOR TOTAL IVA INCLUIDO | M17: VALOR UNITARIO | N17: VALOR TOTAL ANTES DE IVA | O17: VALOR DE IVA | P17: VALOR TOTAL IVA INCLUIDO
A18: Revisión de 5, 15, 25, 35, 45 ... X 1000 Km | C18: MANO DE OBRA | D18: 3 | E18: 349569 | F18: =+E18*D18 -> 1048707 | G18: =+F18*19% -> 199254.33 | H18: =+F18+G18 -> 1247961.3 | I18: 676779 | J18: =+I18*D18 -> 2030337 | K18: =+J18*19% -> 385764.03 | L18: =+J18+K18 -> 2416101 | N18: =+M18*D18 -> 0 | O18: =+N18*19% -> 0 | P18: =+N18+O18 -> 0
A19: Revisión de 10 , 30 , 50 , 70 , 90 , 110 X 1000 Km | C19: MANO DE OBRA | D19: 2 | E19: 582615 | F19: =+E19*D19 -> 1165230 | G19: =+F19*19% -> 221393.7 | H19: =+F19+G19 -> 1386623.7 | I19: 1306976 | J19: =+I19*D19 -> 2613952 | K19: =+J19*19% -> 496650.88 | L19: =+J19+K19 -> 3110602.9 | N19: =+M19*D19 -> 0 | O19: =+N19*19% -> 0 | P19: =+N19+O19 -> 0
A20: Revisión de 20 , 60, 100 , 140 X 1000 Km | C20: MANO DE OBRA | D20: 1 | E20: 932184 | F20: =+E20*D20 -> 932184 | G20: =+F20*19% -> 177114.96 | H20: =+F20+G20 -> 1109299 | I20: 2141685 | J20: =+I20*D20 -> 2141685 | K20: =+J20*19% -> 406920.15 | L20: =+J20+K20 -> 2548605.1 | N20: =+M20*D20 -> 0 | O20: =+N20*19% -> 0 | P20: =+N20+O20 -> 0
A21: Revisión de 40 , 80, 120 , 160 X 1000 Km | C21: MANO DE OBRA | D21: 1 | E21: 932184 | F21: =+E21*D21 -> 932184 | G21: =+F21*19% -> 177114.96 | H21: =+F21+G21 -> 1109299 | I21: 2199864 | J21: =+I21*D21 -> 2199864 | K21: =+J21*19% -> 417974.16 | L21: =+J21+K21 -> 2617838.2 | N21: =+M21*D21 -> 0 | O21: =+N21*19% -> 0 | P21: =+N21+O21 -> 0
A22: SUBTOTAL MANTENIMIENTOS | F22: =SUM(F18:F21) -> 4078305 | G22: =SUM(G18:G21) -> 774877.95 | H22: =+F22+G22 -> 4853183 | J22: =SUM(J18:J21) -> 8985838 | K22: =SUM(K18:K21) -> 1707309.2 | L22: =+J22+K22 -> 10693147 | N22: =SUM(N18:N21) -> 0 | O22: =SUM(O18:O21) -> 0 | P22: =+N22+O22 -> 0
A23: INSUMOS Y SERVICIOS - MANTENIMIENTO PERIODICO | C23: UNIDAD | D23: CANTIDAD | E23: VALOR UNITARIO | F23: VALOR TOTAL ANTES DE IVA | G23: VALOR DE IVA | H23: VALOR TOTAL IVA INCLUIDO | I23: VALOR UNITARIO | J23: VALOR TOTAL ANTES DE IVA | K23: VALOR DE IVA | L23: VALOR TOTAL IVA INCLUIDO | M23: VALOR UNITARIO | N23: VALOR TOTAL ANTES DE IVA | O23: VALOR DE IVA | P23: VALOR TOTAL IVA INCLUIDO
A24: Suministro de filtro de aceite | C24: UNIDAD | D24: 18 | E24: 43697 | F24: =+E24*D24 -> 786546 | G24: =+F24*19% -> 149443.74 | H24: =+F24+G24 -> 935989.74 | I24: 52000 | J24: =+I24*D24 -> 936000 | K24: =+J24*19% -> 177840 | L24: =+J24+K24 -> 1113840 | N24: =+M24*D24 -> 0 | O24: =+N24*19% -> 0 | P24: =+N24+O24 -> 0
A25: Suministro de empaque tapón de aceite | C25: UNIDAD | D25: 18 | E25: 4202 | F25: =+E25*D25 -> 75636 | G25: =+F25*19% -> 14370.84 | H25: =+F25+G25 -> 90006.84 | I25: 5000 | J25: =+I25*D25 -> 90000 | K25: =+J25*19% -> 17100 | L25: =+J25+K25 -> 107100 | N25: =+M25*D25 -> 0 | O25: =+N25*19% -> 0 | P25: =+N25+O25 -> 0
A26: Suministro de Aceite motor | C26: 1/4 GLN | D26: 144 | E26: 42858 | F26: =+E26*D26 -> 6171552 | G26: =+F26*19% -> 1172594.9 | H26: =+F26+G26 -> 7344146.9 | I26: 32563 | J26: =+I26*D26 -> 4689072 | K26: =+J26*19% -> 890923.68 | L26: =+J26+K26 -> 5579995.7 | N26: =+M26*D26 -> 0 | O26: =+N26*19% -> 0 | P26: =+N26+O26 -> 0
A27: Engrase cardanes, diferencial y suspensión (Incluye grasa) | C27: MANO DE OBRA | D27: 8 | E27: 46609 | F27: =+E27*D27 -> 372872 | G27: =+F27*19% -> 70845.68 | H27: =+F27+G27 -> 443717.68 | I27: 0 | J27: =+I27*D27 -> 0 | K27: =+J27*19% -> 0 | L27: =+J27+K27 -> 0 | N27: =+M27*D27 -> 0 | O27: =+N27*19% -> 0 | P27: =+N27+O27 -> 0
A28: Suministro de filtro de aire motor | C28: UNIDAD | D28: 8 | E28: 173950 | F28: =+E28*D28 -> 1391600 | G28: =+F28*19% -> 264404 | H28: =+F28+G28 -> 1656004 | I28: 207000 | J28: =+I28*D28 -> 1656000 | K28: =+J28*19% -> 314640 | L28: =+J28+K28 -> 1970640 | N28: =+M28*D28 -> 0 | O28: =+N28*19% -> 0 | P28: =+N28+O28 -> 0
A29: Suministro de filtro de aire acondicionado | D29: 3 | E29: 129412 | F29: =+E29*D29 -> 388236 | G29: =+F29*19% -> 73764.84 | H29: =+F29+G29 -> 462000.84 | I29: 188000 | J29: =+I29*D29 -> 564000 | K29: =+J29*19% -> 107160 | L29: =+J29+K29 -> 671160
A30: Suministro de filtro de combustible | C30: UNIDAD | D30: 3 | E30: 242017 | F30: =+E30*D30 -> 726051 | G30: =+F30*19% -> 137949.69 | H30: =+F30+G30 -> 864000.69 | I30: 258000 | J30: =+I30*D30 -> 774000 | K30: =+J30*19% -> 147060 | L30: =+J30+K30 -> 921060 | N30: =+M30*D30 -> 0 | O30: =+N30*19% -> 0 | P30: =+N30+O30 -> 0
A31: Alineación | C31: MANO DE OBRA | D31: 9 | E31: 186437 | F31: =+E31*D31 -> 1677933 | G31: =+F31*19% -> 318807.27 | H31: =+F31+G31 -> 1996740.3 | I31: 94400 | J31: =+I31*D31 -> 849600 | K31: =+J31*19% -> 161424 | L31: =+J31+K31 -> 1011024 | N31: =+M31*D31 -> 0 | O31: =+N31*19% -> 0 | P31: =+N31+O31 -> 0
A32: Balanceo | C32: MANO DE OBRA | D32: 9 | E32: 46609 | F32: =+E32*D32 -> 419481 | G32: =+F32*19% -> 79701.39 | H32: =+F32+G32 -> 499182.39 | I32: 94400 | J32: =+I32*D32 -> 849600 | K32: =+J32*19% -> 161424 | L32: =+J32+K32 -> 1011024 | N32: =+M32*D32 -> 0 | O32: =+N32*19% -> 0 | P32: =+N32+O32 -> 0
A33: Afinación de motor | C33: MANO DE OBRA | D33: 6 | E33: 699138 | F33: =+E33*D33 -> 4194828 | G33: =+F33*19% -> 797017.32 | H33: =+F33+G33 -> 4991845.3 | I33: 642000 | J33: =+I33*D33 -> 3852000 | K33: =+J33*19% -> 731880 | L33: =+J33+K33 -> 4583880 | N33: =+M33*D33 -> 0 | O33: =+N33*19% -> 0 | P33: =+N33+O33 -> 0
A34: Suministro de Líquido de frenos | C34: 500 ML | D34: 6 | E34: 47899 | F34: =+E34*D34 -> 287394 | G34: =+F34*19% -> 54604.86 | H34: =+F34+G34 -> 341998.86 | I34: 42000 | J34: =+I34*D34 -> 252000 | K34: =+J34*19% -> 47880 | L34: =+J34+K34 -> 299880 | N34: =+M34*D34 -> 0 | O34: =+N34*19% -> 0 | P34: =+N34+O34 -> 0
A35: Suministro de limpiador cuerpo de mariposa | C35: UNIDAD | D35: 3 | E35: 75524 | F35: =+E35*D35 -> 226572 | G35: =+F35*19% -> 43048.68 | H35: =+F35+G35 -> 269620.68 | I35: 106000 | J35: =+I35*D35 -> 318000 | K35: =+J35*19% -> 60420 | L35: =+J35+K35 -> 378420 | N35: =+M35*D35 -> 0 | O35: =+N35*19% -> 0 | P35: =+N35+O35 -> 0
A36: Limpiador de inyectores (Via Tanque) | C36: 250 ML | D36: 6 | E36: 89076 | F36: =+E36*D36 -> 534456 | G36: =+F36*19% -> 101546.64 | H36: =+F36+G36 -> 636002.64 | I36: 106000 | J36: =+I36*D36 -> 636000 | K36: =+J36*19% -> 120840 | L36: =+J36+K36 -> 756840 | N36: =+M36*D36 -> 0 | O36: =+N36*19% -> 0 | P36: =+N36+O36 -> 0
A37: SUBTOTAL INSUMOS Y SERVICIOS | F37: =SUM(F24:F36) -> 17253157 | G37: =SUM(G24:G36) -> 3278099.8 | H37: =+F37+G37 -> 20531257 | J37: =SUM(J24:J36) -> 15466272 | K37: =SUM(K24:K36) -> 2938591.7 | L37: =+J37+K37 -> 18404864 | N37: =SUM(N24:N36) -> 0 | O37: =SUM(O24:O36) -> 0 | P37: =+N37+O37 -> 0
A38: TOTAL MANTENIMIENTO INSUMOS Y SERVICIOS | F38: =+F22+F37 -> 21331462 | G38: =+G22+G37 -> 4052977.8 | H38: =+(H22+H37) -> 25384440 | J38: =+J22+J37 -> 24452110 | K38: =+K22+K37 -> 4645900.9 | L38: =+(L22+L37) -> 29098011 | N38: =+N22+N37 -> 0 | O38: =+O22+O37 -> 0 | P38: =+(P22+P37)*1.13 -> 0
A39: MANTENIMIENTO REPUESTOS | C39: UNIDAD | D39: CANTIDAD | E39: VALOR UNITARIO | F39: VALOR TOTAL ANTES DE IVA | G39: VALOR DE IVA | H39: VALOR TOTAL IVA INCLUIDO | I39: VALOR UNITARIO | J39: VALOR TOTAL ANTES DE IVA | K39: VALOR DE IVA | L39: VALOR TOTAL IVA INCLUIDO | M39: VALOR UNITARIO | N39: VALOR TOTAL ANTES DE IVA | O39: VALOR DE IVA | P39: VALOR TOTAL IVA INCLUIDO
A40: Pastas de freno delanteras | C40: JUEGO | D40: 3 | E40: 599160 | F40: =+E40*D40 -> 1797480 | G40: =+F40*19% -> 341521.2 | H40: =+F40+G40 -> 2139001.2 | I40: 589916 | J40: =+I40*D40 -> 1769748 | K40: =+J40*19% -> 336252.12 | L40: =+J40+K40 -> 2106000.1 | N40: =+M40*D40 -> 0 | O40: =+N40*19% -> 0 | P40: =+N40+O40 -> 0
A41: Pastas de freno traseras | C41: JUEGO | D41: 3 | E41: 355462 | F41: =+E41*D41 -> 1066386 | G41: =+F41*19% -> 202613.34 | H41: =+F41+G41 -> 1268999.3 | I41: 350420 | J41: =+I41*D41 -> 1051260 | K41: =+J41*19% -> 199739.4 | L41: =+J41+K41 -> 1250999.4 | N41: =+M41*D41 -> 0 | O41: =+N41*19% -> 0 | P41: =+N41+O41 -> 0
A42: Llantas (4) | C42: JUEGO | D42: 1 | E42: 3600000 | F42: =+E42*D42 -> 3600000 | G42: =+F42*19% -> 684000 | H42: =+F42+G42 -> 4284000 | I42: 3276000 | J42: =+I42*D42 -> 3276000 | K42: =+J42*19% -> 622440 | L42: =+J42+K42 -> 3898440 | N42: =+M42*D42 -> 0 | O42: =+N42*19% -> 0 | P42: =+N42+O42 -> 0
A43: Bateria | C43: JUEGO | D43: 1 | E43: 1135294 | F43: =+E43*D43 -> 1135294 | G43: =+F43*19% -> 215705.86 | H43: =+F43+G43 -> 1350999.9 | I43: 830252 | J43: =+I43*D43 -> 830252 | K43: =+J43*19% -> 157747.88 | L43: =+J43+K43 -> 987999.88 | N43: =+M43*D43 -> 0 | O43: =+N43*19% -> 0 | P43: =+N43+O43 -> 0
A44: SUBTOTAL MATENIMIENTO REPUESTOS | F44: =SUM(F40:F43) -> 7599160 | G44: =SUM(G40:G43) -> 1443840.4 | H44: =(SUM(H40:H43)) -> 9043000.4 | J44: =SUM(J40:J43) -> 6927260 | K44: =SUM(K40:K43) -> 1316179.4 | L44: =(SUM(L40:L43)) -> 8243439.4 | N44: =SUM(N40:N43) -> 0 | O44: =SUM(O40:O43) -> 0 | P44: =(SUM(P40:P43))*1.13 -> 0
A45: TOTAL MANTENIMIENTOS -NEW PRADO 5 PUERTAS DIESEL KDJ150 (1 VEHICULOS) | F45: =+F38+F44 -> 28930622 | G45: =+G38+G44 -> 5496818.2 | H45: =+(H38+H44) -> 34427440 | J45: =+J38+J44 -> 31379370 | K45: =+K38+K44 -> 5962080.3 | L45: =+(L38+L44) -> 37341450 | N45: =+N38+N44 -> 0 | O45: =+O38+O44 -> 0 | P45: =+(P38+P44) -> 0
D46: KILOMETRAJE
A47: OKL 294 Modelo 2013 | D47: 254414

Sheet (1) 4RUNNER GRN285L
A1: RELACIÓN DE PRECIOS SELECCIÓN ABREVIADA DE MENOR CUANTÍA 2026 “REALIZAR EL MANTENIMIENTO PREVENTIVO Y CORRECTIVO, CON SUMINISTRO DE REPUESTOS A LOS VEHÍCULOS DEL PARQUE AUTOMOTOR DEL INSTITUTO PARA EL DESARROLLO DE ANTIOQUIA -IDEA-”
A13: MANTENIMIENTOS PREVENTIVOS
A16: INTERVALOS DE MANTENIMIENTO | C16: 4RUNNER LIMITED MODELO 2018 GRN285L | E16: EMPRESA 1 | I16: Empresa 2 | M16: Empresa 3
C17: UNIDAD | D17: CANTIDAD | E17: VALOR UNITARIO | F17: VALOR TOTAL ANTES DE IVA | G17: VALOR DE IVA | H17: VALOR TOTAL IVA INCLUIDO | I17: VALOR UNITARIO | J17: VALOR TOTAL ANTES DE IVA | K17: VALOR DE IVA | L17: VALOR TOTAL IVA INCLUIDO | M17: VALOR UNITARIO | N17: VALOR TOTAL ANTES DE IVA | O17: VALOR DE IVA | P17: VALOR TOTAL IVA INCLUIDO
A18: Revisión de 5, 15, 25, 35, 45 ... X 1000 Km | C18: MANO DE OBRA | D18: 3 | E18: 349569 | F18: =+E18*D18 -> 1048707 | G18: =+F18*19% -> 199254.33 | H18: =+F18+G18 -> 1247961.3 | I18: 805367 | J18: =+I18*D18 -> 2416101 | K18: =+J18*19% -> 459059.19 | L18: =+J18+K18 -> 2875160.2 | N18: =+M18*D18 -> 0 | O18: =+N18*19% -> 0 | P18: =+N18+O18 -> 0
A19: Revisión de 10 , 30 , 50 , 70 , 90 , 110 X 1000 Km | C19: MANO DE OBRA | D19: 2 | E19: 582615 | F19: =+E19*D19 -> 1165230 | G19: =+F19*19% -> 221393.7 | H19: =+F19+G19 -> 1386623.7 | I19: 1555301 | J19: =+I19*D19 -> 3110602 | K19: =+J19*19% -> 591014.38 | L19: =+J19+K19 -> 3701616.4 | N19: =+M19*D19 -> 0 | O19: =+N19*19% -> 0 | P19: =+N19+O19 -> 0
A20: Revisión de 20 , 60, 100 , 140 X 1000 Km | C20: MANO DE OBRA | D20: 1 | E20: 932184 | F20: =+E20*D20 -> 932184 | G20: =+F20*19% -> 177114.96 | H20: =+F20+G20 -> 1109299 | I20: 2548605 | J20: =+I20*D20 -> 2548605 | K20: =+J20*19% -> 484234.95 | L20: =+J20+K20 -> 3032840 | N20: =+M20*D20 -> 0 | O20: =+N20*19% -> 0 | P20: =+N20+O20 -> 0
A21: Revisión de 40 , 80, 120 , 160 X 1000 Km | C21: MANO DE OBRA | D21: 1 | E21: 932184 | F21: =+E21*D21 -> 932184 | G21: =+F21*19% -> 177114.96 | H21: =+F21+G21 -> 1109299 | I21: 2617838 | J21: =+I21*D21 -> 2617838 | K21: =+J21*19% -> 497389.22 | L21: =+J21+K21 -> 3115227.2 | N21: =+M21*D21 -> 0 | O21: =+N21*19% -> 0 | P21: =+N21+O21 -> 0
A22: SUBTOTAL MANTENIMIENTOS | F22: =SUM(F18:F21) -> 4078305 | G22: =SUM(G18:G21) -> 774877.95 | H22: =+F22+G22 -> 4853183 | J22: =SUM(J18:J21) -> 10693146 | K22: =SUM(K18:K21) -> 2031697.7 | L22: =+J22+K22 -> 12724844 | N22: =SUM(N18:N21) -> 0 | O22: =SUM(O18:O21) -> 0 | P22: =+N22+O22 -> 0
A23: INSUMOS Y SERVICIOS - MANTENIMIENTO PERIODICO | C23: UNIDAD | D23: CANTIDAD | E23: VALOR UNITARIO | F23: VALOR TOTAL ANTES DE IVA | G23: VALOR DE IVA | H23: VALOR TOTAL IVA INCLUIDO | I23: VALOR UNITARIO | J23: VALOR TOTAL ANTES DE IVA | K23: VALOR DE IVA | L23: VALOR TOTAL IVA INCLUIDO | M23: VALOR UNITARIO | N23: VALOR TOTAL ANTES DE IVA | O23: VALOR DE IVA | P23: VALOR TOTAL IVA INCLUIDO
A24: Alineación | C24: MANO DE OBRA | D24: 8 | E24: 186437 | F24: =+E24*D24 -> 1491496 | G24: =+F24*19% -> 283384.24 | H24: =+F24+G24 -> 1774880.2 | I24: 94400 | J24: =+I24*D24 -> 755200 | K24: =+J24*19% -> 143488 | L24: =+J24+K24 -> 898688 | N24: =+M24*D24 -> 0 | O24: =+N24*19% -> 0 | P24: =+N24+O24 -> 0
A25: Balanceo | C25: MANO DE OBRA | D25: 8 | E25: 46609 | F25: =+E25*D25 -> 372872 | G25: =+F25*19% -> 70845.68 | H25: =+F25+G25 -> 443717.68 | I25: 94400 | J25: =+I25*D25 -> 755200 | K25: =+J25*19% -> 143488 | L25: =+J25+K25 -> 898688 | N25: =+M25*D25 -> 0 | O25: =+N25*19% -> 0 | P25: =+N25+O25 -> 0
A26: Engrase cardanes, diferencial y suspensión (Incluye grasa) | C26: MANO DE OBRA | D26: 7 | E26: 46609 | F26: =+E26*D26 -> 326263 | G26: =+F26*19% -> 61989.97 | H26: =+F26+G26 -> 388252.97 | I26: 0 | J26: =+I26*D26 -> 0 | K26: =+J26*19% -> 0 | L26: =+J26+K26 -> 0 | N26: =+M26*D26 -> 0 | O26: =+N26*19% -> 0 | P26: =+N26+O26 -> 0
A27: Suministro de filtro de aire motor | C27: UNIDAD | D27: 6 | E27: 144538 | F27: =+E27*D27 -> 867228 | G27: =+F27*19% -> 164773.32 | H27: =+F27+G27 -> 1032001.3 | I27: 172000 | J27: =+I27*D27 -> 1032000 | K27: =+J27*19% -> 196080 | L27: =+J27+K27 -> 1228080 | N27: =+M27*D27 -> 0 | O27: =+N27*19% -> 0 | P27: =+N27+O27 -> 0
A28: Suministro de filtro de aire acondicionado | C28: UNIDAD | D28: 8 | E28: 129412 | F28: =+E28*D28 -> 1035296 | G28: =+F28*19% -> 196706.24 | H28: =+F28+G28 -> 1232002.2 | I28: 188000 | J28: =+I28*D28 -> 1504000 | K28: =+J28*19% -> 285760 | L28: =+J28+K28 -> 1789760
A29: Suministro de filtro de combustible | C29: UNIDAD | D29: 8 | E29: 216807 | F29: =+E29*D29 -> 1734456 | G29: =+F29*19% -> 329546.64 | H29: =+F29+G29 -> 2064002.6 | I29: 0 | J29: =+I29*D29 -> 0 | K29: =+J29*19% -> 0 | L29: =+J29+K29 -> 0 | N29: =+M29*D29 -> 0 | O29: =+N29*19% -> 0 | P29: =+N29+O29 -> 0
A30: Suministro de Líquido de frenos | C30: 500 ML | D30: 6 | E30: 47899 | F30: =+E30*D30 -> 287394 | G30: =+F30*19% -> 54604.86 | H30: =+F30+G30 -> 341998.86 | I30: 42000 | J30: =+I30*D30 -> 252000 | K30: =+J30*19% -> 47880 | L30: =+J30+K30 -> 299880 | N30: =+M30*D30 -> 0 | O30: =+N30*19% -> 0 | P30: =+N30+O30 -> 0
A31: Suministro de limpiador cuerpo de mariposa | C31: UNIDAD | D31: 5 | E31: 75524 | F31: =+E31*D31 -> 377620 | G31: =+F31*19% -> 71747.8 | H31: =+F31+G31 -> 449367.8 | I31: 93000 | J31: =+I31*D31 -> 465000 | K31: =+J31*19% -> 88350 | L31: =+J31+K31 -> 553350 | N31: =+M31*D31 -> 0 | O31: =+N31*19% -> 0 | P31: =+N31+O31 -> 0
A32: Limpiador de inyectores (Via Tanque) | C32: 250 ML | D32: 6 | E32: 78151 | F32: =+E32*D32 -> 468906 | G32: =+F32*19% -> 89092.14 | H32: =+F32+G32 -> 557998.14 | I32: 93000 | J32: =+I32*D32 -> 558000 | K32: =+J32*19% -> 106020 | L32: =+J32+K32 -> 664020 | N32: =+M32*D32 -> 0 | O32: =+N32*19% -> 0 | P32: =+N32+O32 -> 0
A33: Suministro de empaque tapón de aceite | C33: UNIDAD | D33: 9 | E33: 4202 | F33: =+E33*D33 -> 37818 | G33: =+F33*19% -> 7185.42 | H33: =+F33+G33 -> 45003.42 | I33: 5700 | J33: =+I33*D33 -> 51300 | K33: =+J33*19% -> 9747 | L33: =+J33+K33 -> 61047
A34: Suministro de Aceite motor | C34: 1/4 GLN | D34: 14 | E34: 42858 | F34: =+E34*D34 -> 600012 | G34: =+F34*19% -> 114002.28 | H34: =+F34+G34 -> 714014.28 | I34: 48246 | J34: =+I34*D34 -> 675444 | K34: =+J34*19% -> 128334.36 | L34: =+J34+K34 -> 803778.36
A35: Afinación de motor | C35: MANO DE OBRA | D35: 3 | E35: 699138 | F35: =+E35*D35 -> 2097414 | G35: =+F35*19% -> 398508.66 | H35: =+F35+G35 -> 2495922.7 | I35: 642000 | J35: =+I35*D35 -> 1926000 | K35: =+J35*19% -> 365940 | L35: =+J35+K35 -> 2291940
A36: SUBTOTAL MANTENIMIENTOS | F36: =SUM(F24:F35) -> 9696775 | G36: =F36*19% -> 1842387.2 | H36: =F36+G36 -> 11539162 | J36: =SUM(J24:J35) -> 7974144 | K36: =J36*19% -> 1515087.4 | L36: =J36+K36 -> 9489231.4 | N36: =SUM(N24:N32) -> 0 | O36: =N36*19% -> 0 | P36: =N36+O36 -> 0
A37: TOTAL MANTENIMIENTO INSUMOS Y SERVICIOS | F37: =+F22+F36 -> 13775080 | G37: =F37*19% -> 2617265.2 | H37: =+(H22+H36) -> 16392345 | J37: =+J22+J36 -> 18667290 | K37: =J37*19% -> 3546785.1 | L37: =+(L22+L36) -> 22214075 | N37: =+N22+N36 -> 0 | O37: =N37*19% -> 0 | P37: =+(P22+P36)*1.13 -> 0
A38: MANTENIMIENTO REPUESTOS | C38: UNIDAD | D38: CANTIDAD | E38: VALOR UNITARIO | F38: VALOR TOTAL ANTES DE IVA | G38: VALOR DE IVA | H38: VALOR TOTAL IVA INCLUIDO | I38: VALOR UNITARIO | J38: VALOR TOTAL ANTES DE IVA | K38: VALOR DE IVA | L38: VALOR TOTAL IVA INCLUIDO | M38: VALOR UNITARIO | N38: VALOR TOTAL ANTES DE IVA | O38: VALOR DE IVA | P38: VALOR TOTAL IVA INCLUIDO
A39: Pastas de freno delanteras | C39: JUEGO | D39: 3 | E39: 599160 | F39: =+E39*D39 -> 1797480 | G39: =+F39*19% -> 341521.2 | H39: =+F39+G39 -> 2139001.2 | I39: 589916 | J39: =+I39*D39 -> 1769748 | K39: =+J39*19% -> 336252.12 | L39: =+J39+K39 -> 2106000.1 | N39: =+M39*D39 -> 0 | O39: =+N39*19% -> 0 | P39: =+N39+O39 -> 0
A40: Pastas de freno traseras | C40: JUEGO | D40: 3 | E40: 355462 | F40: =+E40*D40 -> 1066386 | G40: =+F40*19% -> 202613.34 | H40: =+F40+G40 -> 1268999.3 | I40: 350420 | J40: =+I40*D40 -> 1051260 | K40: =+J40*19% -> 199739.4 | L40: =+J40+K40 -> 1250999.4 | N40: =+M40*D40 -> 0 | O40: =+N40*19% -> 0 | P40: =+N40+O40 -> 0
A41: Batería | C41: UNIDAD | D41: 1 | E41: 1135294 | F41: =+E41*D41 -> 1135294 | G41: =+F41*19% -> 215705.86 | I41: 759664 | J41: =+I41*D41 -> 759664 | K41: =+J41*19% -> 144336.16 | L41: =+J41+K41 -> 904000.16
A42: Llantas (4) | C42: JUEGO | D42: 1 | E42: 6664000 | F42: =+E42*D42 -> 6664000 | G42: =+F42*19% -> 1266160 | H42: =+F42+G42 -> 7930160 | I42: 3276000 | J42: =+I42*D42 -> 3276000 | K42: =+J42*19% -> 622440 | L42: =+J42+K42 -> 3898440 | N42: =+M42*D42 -> 0 | O42: =+N42*19% -> 0 | P42: =+N42+O42 -> 0
A43: SUBTOTAL MATENIMIENTO REPUESTOS | F43: =SUM(F39:F42) -> 10663160 | G43: =SUM(G39:G42) -> 2026000.4 | H43: =+(F43+G43) -> 12689160 | J43: =SUM(J39:J42) -> 6856672 | K43: =SUM(K39:K42) -> 1302767.7 | L43: =+(J43+K43) -> 8159439.7 | N43: =SUM(N39:N42) -> 0 | O43: =SUM(O39:O42) -> 0 | P43: =+(N43+O43)*1.13 -> 0
A44: TOTAL MANTENIMIENTOS - 4RUNNER LIMITED MODELO 2018 GRN285L (1 VEHICULO) | F44: =+F37+F43 -> 24438240 | G44: =+G37+G43 -> 4643265.6 | H44: =+(H37+H43) -> 29081506 | J44: =+J37+J43 -> 25523962 | K44: =+K37+K43 -> 4849552.8 | L44: =+(L37+L43) -> 30373515 | N44: =+N37+N43 -> 0 | O44: =+O37+O43 -> 0 | P44: =+(P37+P43) -> 0
D45: KILOMETRAJE
A46: EGK610 MODELO 2018 | D46: 186890

Sheet VALOR TOTAL 
A1: RELACIÓN DE PRECIOS SELECCIÓN ABREVIADA DE MENOR CUANTÍA 2026 “REALIZAR EL MANTENIMIENTO PREVENTIVO Y CORRECTIVO, CON SUMINISTRO DE REPUESTOS A LOS VEHÍCULOS DEL PARQUE AUTOMOTOR DEL INSTITUTO PARA EL DESARROLLO DE ANTIOQUIA -IDEA-”
C10: Empresa 1 | E10: Empresa 2 | G10: Empresa 3
A12: MANTENIMIENTO PREVENTIVO IVA INCLUIDO | C12: VALOR TOTAL UNITARIO POR TIPO DE VEHICULO | E12: VALOR TOTAL UNITARIO POR TIPO DE VEHICULO | G12: VALOR TOTAL UNITARIO POR TIPO DE VEHICULO | I12: PROMEDIO
A13: TOYOTA RAV (TRES VEHICULOS) | C13: =+'(3) TOYOTA RAV'!I34 -> 28268142 | E13: =+'(3) TOYOTA RAV'!M34 -> 35635622 | G13: =+'(3) TOYOTA RAV'!Q34 -> 0 | I13: =+(C13+E13+G13)/2 -> 31951882
A14: TOYOTA PRADO TXL (UN VEHICULO) | C14: =+'(1) TOYOTA PRADO TXL'!I35 -> 11695232 | E14: =+'(1) TOYOTA PRADO TXL'!M35 -> 17129046 | G14: =+'(1) TOYOTA PRADO TXL'!Q35 -> 0 | I14: =+(C14+E14+G14)/2 -> 14412139
A15: TOYOTA HILUX 2500 cc DIESEL KUN 25 (DOS VEHICULOS) | C15: =+'(1) HILUX KUN 25'!H37 -> 12335514 | E15: =+'(1) HILUX KUN 25'!L37 -> 20285153 | G15: =+'(1) HILUX KUN 25'!P37 -> 0 | I15: =+(C15+E15+G15)/2 -> 16310333
A16: NEW PRADO 5 PUERTAS DIESEL KDJ150 (UN VEHICULO) | C16: =+' (1) NEW PRADO KDJ150 5 PUERTAS'!H38 -> 25384440 | E16: =+' (1) NEW PRADO KDJ150 5 PUERTAS'!L38 -> 29098011 | G16: =+' (1) NEW PRADO KDJ150 5 PUERTAS'!P38 -> 0 | I16: =+(C16+E16+G16)/2 -> 27241225
A17: 4RUNNER LIMITED MODELO 2018 GRN285L (UN (1) VEHICULO) | C17: =+'(1) 4RUNNER GRN285L'!H37 -> 16392345 | E17: =+'(1) 4RUNNER GRN285L'!L37 -> 22214075 | G17: =+'(1) 4RUNNER GRN285L'!P37 -> 0 | I17: =+(C17+E17+G17)/2 -> 19303210
A18: TOTAL PRESUPUESTO CON IVA | C18: =SUM(C13:C17) -> 94075673 | E18: =SUM(E13:E17) -> 1.2436191e+08 | G18: =SUM(G13:G17) -> 0 | I18: =+I13+I14+I15+I16+I17 -> 1.0921879e+08
A20: MANTENIMIENTO REPUESTOS | C20: VALOR TOTAL UNITARIO POR TIPO DE VEHICULO | E20: VALOR TOTAL UNITARIO POR TIPO DE VEHICULO | G20: VALOR TOTAL UNITARIO POR TIPO DE VEHICULO | I20: PROMEDIO
A21: TOYOTA RAV (TRES VEHICULOS) | C21: =+'(3) TOYOTA RAV'!I40 -> 11789296 | E21: =+'(3) TOYOTA RAV'!M40 -> 5108000 | G21: =+'(3) TOYOTA RAV'!Q40 -> 0 | I21: =+(C21+E21+G21)/2 -> 8448648.2
A22: TOYOTA PRADO TXL (UN VEHICULO) | C22: =+'(1) TOYOTA PRADO TXL'!I41 -> 11630160 | E22: =+'(1) TOYOTA PRADO TXL'!M41 -> 7124439.6 | G22: =+'(1) TOYOTA PRADO TXL'!Q41 -> 0 | I22: =+(C22+E22+G22)/2 -> 9377300
A23: TOYOTA HILUX 2500 cc DIESEL KUN 25 (UN VEHICULO) | C23: =+'(1) HILUX KUN 25'!H43 -> 9147997.7 | E23: =+'(1) HILUX KUN 25'!L43 -> 7377400.2 | G23: =+'(1) HILUX KUN 25'!P43 -> 0 | I23: =+(C23+E23+G23)/2 -> 8262699
A24: NEW PRADO 5 PUERTAS DIESEL KDJ150 (UN VEHICULO) | C24: =+' (1) NEW PRADO KDJ150 5 PUERTAS'!H44 -> 9043000.4 | E24: =+' (1) NEW PRADO KDJ150 5 PUERTAS'!L44 -> 8243439.4 | G24: =+' (1) NEW PRADO KDJ150 5 PUERTAS'!P44 -> 0 | I24: =+(C24+E24+G24)/2 -> 8643219.9
A25: 4RUNNER LIMITED MODELO 2018 GRN285L (UN (1) VEHICULO) | C25: =+'(1) 4RUNNER GRN285L'!H43 -> 12689160 | E25: =+'(1) 4RUNNER GRN285L'!L43 -> 8159439.7 | G25: =+'(1) 4RUNNER GRN285L'!P43 -> 0 | I25: =+(C25+E25+G25)/2 -> 10424300
A26: TOTAL PRESUPUESTO CON IVA | C26: =SUM(C21:C25) -> 54299615 | E26: =SUM(E21:E25) -> 36012719 | G26: =SUM(G21:G25) -> 0 | I26: =+I21+I22+I23+I24+I25 -> 45156167
A28: TOTAL | C28: =+C18+C26 -> 1.4837529e+08 | E28: =+E18+E26 -> 1.6037463e+08 | G28: =+G18+G26 -> 0 | I28: =+I18+I26 -> 1.5437496e+08
A29: PRESUPUESTO BOLSA MANTENIMIENTOS PREVENTIVOS 2026 | I29: =I28 -> 1.5437496e+08
