Workbook
Name inf: #REF!

Sheet LA MILAGROSA
A2: PRESUPUESTO MANTENIMIENTO CAMINOS
A4: VEREDA LA MILAGROSA | D4: 3 | E4: km
A5: ITEM | B5: DESCRIPCION | H5: UNIDAD | I5: CANTIDAD | J5: VR UNITARIO | K5: VR PARCIAL
A6: 1 | B6: Rocería, h= 3 m en ambas márgenes del camino, incluye botada y disposición adecuada de material sobrante. | H6: Ha | I6: =MEMORIAS!L5 -> 1 | J6: ='APU''S'!H43 -> 1366888 | K6: =I6*J6 -> 1366888
A7: 2 | B7: Remoción manual de derrumbes Menores. | H7: m3 | I7: =MEMORIAS!K10 -> 500 | J7: ='APU''S'!H87 -> 34328 | K7: =I7*J7 -> 17164000
A8: 3 | B8: Conformación con metarial de la excavación incluye conformación de cunetas. | H8: m2 | I8: =MEMORIAS!J16 -> 1500 | J8: ='APU''S'!H128 -> 2928 | K8: =I8*J8 -> 4392000
A9: 4 | B9: Excavación manual material heterogéneo 0-2 mt (rocas hasta volumen de 0.35) bajo cualquier grado de humedad. | H9: m3 | I9: =+MEMORIAS!L20 -> 450 | J9: ='APU''S'!H169 -> 34328 | K9: =I9*J9 -> 15447600
H10: SUBTOTAL COSTO DIRECTO | K10: =ROUND(SUM(K6:K9),0) -> 38370488
I11: Administracion | J11: =ADMINISTRACIÓN!F34 -> 0.11 | K11: =ROUNDUP(ADMINISTRACIÓN!G36,0) -> 4220754
I12: VALOR TOTAL PROYECTO | K12: =K10+K11 -> 42591242
I13: Aporte MUNICIPIO | K13: 42000000
I14: APORTE JAC (especie) | K14: =K12-K13 -> 591242

Sheet ADMINISTRACIÓN
B2: CARGO /OFICIO | C2: CANTIDAD | D2: SUELDO O TARIFA MENSUAL | E2: DEDICACION MENSUAL | F2: DURACION TOTAL | G2: VALOR PARCIAL
B3: COSTOS DE PERSONAL
B4: PERSONAL PROFECIONAL O TECNICO
B5: ING CIVIL DIRECTOR DE OBRA | G5: =+C5*D5*E5*F5 -> 0
B6: TRASPOTE A LOMO DE MULA | G6: =+D6*C6*F6 -> 0
B7: TECNICO EN CONSTRUCIONES DE OBRA | G7: =+C7*D7*E7*F7 -> 0
B8: SUB TORAL COSTO DE PERSONAL
B9: FACTOR PRESTACIONAL (FP= 1,47). (A) | G9: 1.47
B11: TOTAL COSTO DE PERSONAL CON FACTOR PRESTACIONAL | G11: =+G9*(G5+G7+G6) -> 0
B13: GASTOS DE OFICINA
B15: TOTAL GASTOA DE OFICNA, TRANSPORTE, PAPELERÍA (B) | D15: 200000 | F15: 0 | G15: 0
B17: VALOR BASICO = A+B = C | F17: 1 | G17: =+G15+G11+G16 -> 0
B19: GASTOS DIRECTOS NO REEMBOLSABLES (sobre el valor total del proyecto)
B20: ESTAMPILLA PRO CULTURA (0,5%) | G20: =0.005*35000000 -> 175000
B21: ESTAMPILLA PARA BIENESTA DEL ADULTO MAYOR (4%) | G21: 0
B22: ESTAMPILLA PRO DEPORTES (2,5)%) | G22: =0.025*35000000 -> 875000
B23: ESTAMPILLA 2% | G23: =0.02*35000000 -> 700000
B24: CONTRIBUCION ESPECIAL DE SEGURIDAD (5%) | G24: =0.05*35000000 -> 1750000
B25: 50% DEL IMPUESTO DEL 4/1000 | G25: 0
B26: 50% DEL IMPUESTO DE INDUSTRIA Y COMERCIO (1%) | G26: 0
B27: POLIZAS | G27: =H61 -> 556532.59
B29: TOTAL GASTOS DIRECTOS NO REEMBOLSABLES (D) | G29: =+SUM(G20:G27) -> 4056532.6
B30: SUBTOTAL DE COSTOS DE ADMNISTRACION | G30: =+G29+G17 -> 4056532.6
B31: SUBTOTAL COSTOS DIRECTOS DE OBRA | G31: ='LA MILAGROSA'!K10 -> 38370488
B33: VALOR COSTO DIRECTO | G33: ='LA MILAGROSA'!K10 -> 38370488
B34: TOTAL PORCENTAJE ADMINITRACION (%) | F34: =ROUNDUP(G30/G33,2) -> 0.11 | G34: =+G33*F34 -> 4220753.7
B35: TOTAL UTILIDAD (%) | F35: 0 | G35: =+G33*F35 -> 0
B36: TOTAL A U (%) | F36: =+F34+F35 -> 0.11 | G36: =+G34+G35 -> 4220753.7
B37: VALOR TOTAL DEL PROYECTO (AU INCLUIDO) | G37: =+G33+G36 -> 42591242
B44: CÁLCULO DE PÓLIZAS OBRA
B46: VALOR DEL CONTRATO ( $ ) | C46: =G37 -> 42591242
B47: PLAZO DEL CONTRATO | C47: 2 | D47: =+IFERROR(C47*30,"") -> 60
B48: ANTICIPO | C48: 0 | D48: =+IFERROR(C48*C46,"") -> 0
B50: TIPO DE GARANTÍA | C50: VALOR ASEGURADO | F50: COBERTURA ( DÍAS ) | G50: TASA ANUAL | H50: PRIMA
C51: % | D51: BASE | E51: VALOR
B52: CUMPLIMIENTO | C52: 0.2 | D52: =$C$46 -> 42591242 | E52: =+IFERROR(C52*D52,"") -> 8518248.3 | F52: =+IFERROR($C$4+180,"") -> 180 | G52: 0.005 | H52: =+IFERROR(G52*E52*F52/360,"") -> 21295.621
B53: BUEN MANEJO Y CORRECTA INVERSIÓN DEL ANTICIPO | C53: 0 | D53: =$C$46 -> 42591242 | E53: =+IFERROR(C53*D53,"") -> 0 | F53: =+IFERROR($C$4+180,"") -> 180 | G53: 0.004 | H53: =+IFERROR(G53*E53*F53/360,"") -> 0
B54: SALARIOS Y PRESTACIONES SOCIALES | C54: 0.1 | D54: =$C$46 -> 42591242 | E54: =+IFERROR(C54*D54,"") -> 4259124.2 | F54: =+IFERROR($C$4+1080,"") -> 1080 | G54: 0.003 | H54: =+IFERROR(G54*E54*F54/360,"") -> 38332.118
B55: CALIDAD DEL SERVICIO | C55: 0.2 | D55: =$C$46 -> 42591242 | E55: =+IFERROR(C55*D55,"") -> 8518248.3 | F55: =+IF($B$3="","",1800) -> 1800 | G55: 0.005 | H55: =+IFERROR(G55*E55*F55/360,"") -> 212956.21
B56: DECRETO 1082 SMMLV RESPONSABILIDAD CIVIL | C56: SMMLV | D56: MONTO ASEGURABLE | F56: PLAZO MESES | G56: TASA ANUAL | H56: PRIMA
...

Sheet MEMORIAS
A2: CAMINO | B2: 3 | C2: KM
A4: ITEM | B4: DESCRIPCION | H4: ANCHO m | I4: LARGO m | J4: UNIDADES | K4: AREA m2 | L4: HA m2
A5: 1 | B5: Rocería, h= 3 - 4 m en ambas márgenes del camino, incluye botada y disposición adecuada de material sobrante. | H5: 2 | I5: 2500 | J5: 2 | K5: =I5*J5*H5 -> 10000 | L5: =K5/10000 -> 1
A9: ITEM | B9: DESCRIPCION | H9: ANCHO m | I9: LARGO m | J9: ESPESOR m | K9: VOL m3
A10: 2 | B10: Remoción manual de derrumbes Menores. | H10: 1 | I10: 1000 | J10: 0.5 | K10: =H10*I10*J10 -> 500
A15: ITEM | B15: DESCRIPCION | H15: ANCHO m | I15: LARGO m | J15: AREA m2
A16: 3 | B16: Conformación con metarial de la excavación incluye conformación de cunetas. | H16: 1.5 | I16: 1000 | J16: =H16*I16 -> 1500
A19: ITEM | B19: DESCRIPCION | H19: ANCHO m | I19: LARGO m | J19: AREA m2 | K19: ESPESOR m | L19: VOL m3
A20: 4 | B20: Excavación manual material heterogéneo 0-2 mt (rocas hasta volumen de 0.35) bajo cualquier grado de humedad. | H20: 1.5 | I20: 1000 | J20: =H20*I20 -> 1500 | K20: 0.3 | L20: =J20*K20 -> 450

Sheet APU'S
D3: ANÁLISIS DE PRECIOS UNITARIOS
A6: ITEM: 1 | B6: Rocería, h= 3 - 4 m en ambas márgenes del camino, incluye botada y disposición adecuada de material sobrante. | G6: UNIDAD : Ha
A10: I. EQUIPO
A11: Descripción | D11: Tipo | E11: Tarifa/Hora | F11: Rendimiento | G11: Valor-Unit.
A12: herramienta menor | F12: 10 | G12: =H41*F12% -> 98288.5
A13: Guadañadora, Cilindraje 41.5 cc, longitud del mango 1450 mm | E13: 10000 | F13: 0.07 | G13: =E13/F13 -> 142857.14
A14: Guadañadora, Cilindraje 41.5 cc, longitud del mango 1450 mm | E14: 10000 | F14: 0.07 | G14: =E14/F14 -> 142857.14
G17: Sub-Total | H17: =ROUNDUP(SUM(G12:G14),0) -> 384003
A18: II. MATERIALES EN OBRA
A19: Descripción | D19: Unidad | E19: Precio-Unit. | F19: Cantidad | G19: Valor-Unit.
G25: Sub-Total | H25: 0
A26: III. TRANSPORTES
A27: Material | C27: Vol. Peso ó Cant. | D27: Distancia | E27: M3-Km | F27: Tarifa | G27: Valor-Unit.
G32: Sub-Total | H32: 0
A33: IV. MANO DE OBRA
A34: Trabajador | C34: Jornal | D34: Prestaciones | E34: Jornal Total | F34: Rendimiento | G34: Valor-Unit.
A35: Ayudante entendido (1) | C35: 130000 | D35: 1.82 | E35: =C35*D35 -> 236600 | F35: 0.52 | G35: =E35/F35 -> 455000
A36: Ayudante raso (2) | C36: 150000 | D36: 1.83 | E36: =C36*D36 -> 274500 | F36: 0.52 | G36: =SUM(E36/F36) -> 527884.62
G41: Sub-Total | H41: =ROUNDUP(SUM(G35:G36),0) -> 982885
E43: Total Costo Directo | H43: =ROUND(SUM(H17+H25+H32+H41),0) -> 1366888
D47: ANÁLISIS DE PRECIOS UNITARIOS
A53: ITEM: 2 | B53: Remoción manual de derrumbes Menores. | G53: UNIDAD: m3
A55: I. EQUIPO
A56: Descripción | D56: Tipo | E56: Tarifa/Hora | F56: Rendimiento | G56: Valor-Unit.
A57: Herramienta menor | E57: 30000 | F57: 20 | G57: =E57/F57 -> 1500
G61: Sub-Total | H61: =G57 -> 1500
A62: II. MATERIALES EN OBRA
A63: Descripción | D63: Unidad | E63: Precio-Unit. | F63: Cantidad | G63: Valor-Unit.
G69: Sub-Total | H69: 0
A70: III. TRANSPORTES
A71: Material | C71: Vol. Peso ó Cant. | D71: Distancia | E71: M3-Km | F71: Tarifa | G71: Valor-Unit.
G76: Sub-Total | H76: 0
A77: IV. MANO DE OBRA
A78: Trabajador | C78: Jornal | D78: Prestaciones | E78: Jornal Total | F78: Rendimiento | G78: Valor-Unit.
A79: Vigia en salud | C79: 80000 | D79: 1.82 | E79: =C79*D79 -> 145600 | F79: 100 | G79: =E79/F79 -> 1456
A80: Oficial Mvto Tierra | C80: 150000 | D80: 1.83 | E80: =C80*D80 -> 274500 | F80: 17.5 | G80: =E80/F80 -> 15685.714
A81: Ayudante Rasos (2) | C81: 150000 | D81: 1.83 | E81: =ROUNDUP(C81*D81,0) -> 274500 | F81: 17.5 | G81: =E81/F81 -> 15685.714
G85: Sub-Total | H85: =ROUNDUP(SUM(G79:G81),0) -> 32828
E87: Total Costo Directo | H87: =ROUNDUP(H61+H85,0) -> 34328
D92: ANÁLISIS DE PRECIOS UNITARIOS
...
