Workbook

Sheet Estudio de Mercado
B3: COMPUTADORES PARA EDUCAR
B4: INFORME ESTUDIO DE MERCADO
B7: BIEN / SERVICIO | D7: Prestación del servicio de transporte de soluciones tecnológicas, garantías y retoma
B8: PROCESO | D8: Oficina Logística- Sostenibilidad ambiental
B10: PAA 2026 | D10: 2928077798 | E10: 148119920 | F10: 2003060651 | G10: =+D10+E10+F10 -> 5079258369 | H10: 250226807 | I10: 457676458 | J10: 0 | K10: =+D10+E10+F10+H10+I10 -> 5787161634
B11: Cotizante | D11: Transporte de Soluciones Tecnológicas | H11: Transporte de Garantias | I11: Transporte de Retoma | J11: Otros elementos tecnologicos | K11: Total
D12: Equipos a transportar | E12: Kit Maker | F12: Nuevas Soluciones Tecnológicas | G12: Total
B13: ALMAGRARIO | D13: 3399104000 | E13: 41900000 | F13: 5287968000 | G13: =D13+E13+F13 -> 8728972000 | H13: 0 | I13: 328202200 | J13: 6370500 | K13: =+G13+H13+I13 -> 9057174200
B14: PORTES DE COLOMBIA | D14: 4852957200 | E14: 33520500 | F14: 2179756000 | G14: =D14+E14+F14 -> 7066233700 | H14: 3018420788 | I14: 326532252 | J14: 14800000 | K14: =+G14+H14+I14+J14 -> 10425986740
B15: SERVICIOS POSTALES NACIONALES | D15: ='Servicios Postales Nacionales '!D29 -> 3575330000 | E15: ='Servicios Postales Nacionales '!H29 -> 33680523 | F15: ='Servicios Postales Nacionales '!L29 -> 1686150000 | G15: =D15+E15+F15 -> 5295160523 | H15: ='Servicios Postales Nacionales '!F88 -> 773326446 | I15: ='Servicios Postales Nacionales '!F54 -> 233766888 | J15: ='Servicios Postales Nacionales '!F108 -> 14863640 | K15: =+G15+H15+I15+J15 -> 6317117497
B16: INFOTIC | D16: =Infotic!D29 -> 2978922539 | E16: =Infotic!H29 -> 33680523 | F16: =Infotic!L29 -> 1797690000 | G16: =D16+E16+F16 -> 4810293062 | H16: =Infotic!F89 -> 1206246446 | I16: =Infotic!F54 -> 288262915 | J16: =Infotic!F109 -> 14863640 | K16: =+G16+H16+I16+J16 -> 6319666063
B17: PROMEDIO (MEDIA) | D17: =+AVERAGE(D13:D16) -> 3.7015784e+09 | E17: =+AVERAGE(E13,E14:E16) -> 35695386 | F17: =+AVERAGE(F13,F14:F16) -> 2737891000 | G17: =D17+E17+F17 -> 6.4751648e+09 | H17: =+AVERAGE(H13:H16) -> 1249498420 | I17: =+AVERAGE(I13:I16) -> 2.9419106e+08 | J17: =+AVERAGE(J13:J16) -> 12724445 | K17: =+AVERAGE(K13:K16) -> 8029986125
B18: MEDIANA | D18: =+MEDIAN(D13:D16) -> 3487217000 | E18: =+MEDIAN(E13:E16) -> 33680523 | F18: =+MEDIAN(F13:F16) -> 1988723000 | G18: =+MEDIAN(G13:G16) -> 6.1806971e+09 | H18: =+MEDIAN(H13:H16) -> 989786446 | I18: =+MEDIAN(I13:I16) -> 3.0739758e+08 | J18: =+MEDIAN(J13:J16) -> 14831820 | K18: =+MEDIAN(K13:K16) -> 7.6884201e+09
B19: MEDIA PODADA | D19: =TRIMMEAN((D13:D16),20%) -> 3.7015784e+09 | E19: =TRIMMEAN((E13:E16),20%) -> 35695386 | F19: =TRIMMEAN((F13:F16),20%) -> 2737891000 | G19: =TRIMMEAN((G13:G16),20%) -> 6.4751648e+09 | H19: =TRIMMEAN((H13:H16),20%) -> 1249498420 | I19: =TRIMMEAN((I13:I16),20%) -> 2.9419106e+08 | J19: =TRIMMEAN((J13:J16),20%) -> 12724445 | K19: =TRIMMEAN((K13:K16),20%) -> 8029986125
B20: DIFERENCIA | D20: =+D10-D17 -> -7.7350064e+08 | E20: =+E10-E17 -> 1.1242453e+08 | F20: =+F10-F17 -> -734830349 | G20: =+G10-G15 -> -215902154 | H20: =+H10-H17 -> -999271613 | I20: =+I10-I17 -> 1.6348539e+08 | J20: =+J10-J17 -> -12724445 | K20: =+K10-K15 -> -529955863
B21: PROMEDIO% | D21: =(D17/D10)-100% -> 0.2641667 | E21: =(E17/E10)-100% -> -0.75901022 | F21: =(F17/F10)-100% -> 0.36685377 | G21: =(G17/G10)-100% -> 0.27482486 | H21: =(H17/H10)-100% -> 3.9934635 | I21: =(I17/I10)-100% -> -0.35720735 | K21: =(K17/K10)-100% -> 0.38755173 | O21: Presupuesto PAA | P21: Cotización promedio | Q21: Histórico contrato 55-20 | R21: Porcentaje de diferencia vr cotización promedio | S21: Porcentaje de diferencia vr cotización promedio vr histórico 55-20 | V21: 55-20 | W21: 2562866401 | X21: =+W21*1.61% -> 41262149 | Y21: =+W21+X21 -> 2.6041286e+09
B22: Desviación Estandar | D22: =STDEV(D13:D16) -> 8.073277e+08 | E22: =STDEV(E13:E16) -> 4137096.8 | F22: =STDEV(F13:F16) -> 1.7131398e+09 | G22: =STDEV(G13:G16) -> 1.7882223e+09 | H22: =STDEV(H13:H16) -> 1.2804873e+09 | I22: =STDEV(I13:I16) -> 44305507 | J22: =STDEV(J13:J16) -> 4236069.6 | K22: =STDEV(K13:K16) -> 2.053862e+09
B23: Coeficiente de Variación Media | D23: =+D22/D17 -> 0.21810363 | E23: =+E22/E17 -> 0.11590004 | F23: =+F22/F17 -> 0.62571514 | G23: =+G22/G17 -> 0.2761663 | H23: =+H22/H17 -> 1.0248011 | I23: =+I22/I17 -> 0.15060113 | J23: =+J22/J17 -> 0.332908 | K23: =+K22/K17 -> 0.25577405 | L23: 0.37
B24: Coeficiente de Variación Mediana | D24: =+D22/D18 -> 0.2315106 | E24: =+E22/E18 -> 0.12283351 | F24: =+F22/F18 -> 0.86142708 | G24: =+G22/G18 -> 0.28932373 | H24: =+H22/H18 -> 1.2937006 | I24: =+I22/I18 -> 0.14413095 | J24: =+J22/J18 -> 0.28560686 | K24: =+K22/K18 -> 0.26713707 | L24: 0.44
B25: Coeficiente de Variación Media Podada | D25: =+D22/D19 -> 0.21810363 | E25: =+E22/E19 -> 0.11590004 | F25: =+F22/F19 -> 0.62571514 | G25: =+G22/G19 -> 0.2761663 | H25: =+H22/H19 -> 1.0248011 | I25: =+I22/I19 -> 0.15060113 | J25: =+J22/J19 -> 0.332908 | K25: =+K22/K19 -> 0.25577405 | L25: 0.37
B26: Valor Minimo Aceptable | D26: =+D17-D22 -> 2.8942507e+09 | E26: =+E17-E22 -> 31558290 | F26: =+F17-F22 -> 1.0247512e+09 | G26: =+G17-G22 -> 4.6869425e+09 | H26: =+H17-H22 -> -30988874 | I26: =+I17-I22 -> 2.4988556e+08 | J26: =+J17-J22 -> 8488375.4 | K26: =+K17-K22 -> 5.9761241e+09
B27: Valor Maximo Aceptable | D27: =+D17+D22 -> 4.5089061e+09 | E27: =+E17+E22 -> 39832483 | F27: =+F17+F22 -> 4.4510308e+09 | G27: =+G17+G22 -> 8.2633872e+09 | H27: =+H17+H22 -> 2.5299857e+09 | I27: =+I17+I22 -> 3.3849657e+08 | J27: =+J17+J22 -> 16960515 | K27: =+K17+K22 -> 1.0083848e+10
B29: PROPUESTA SERVICIOS POSTALES NACIONALES | D29: =D15 -> 3575330000 | E29: =E15 -> 33680523 | F29: =F15 -> 1686150000 | G29: =G15 -> 5295160523 | H29: =H15 -> 773326446 | I29: =I15 -> 233766888 | J29: =J15 -> 14863640 | K29: =K15 -> 6317117497
B30: DIFERECIA CON PAA | D30: =+D10-D15 -> -647252202 | E30: =+E10-E15 -> 114439397 | F30: =+F10-F15 -> 316910651 | G30: =+G10-G15 -> -215902154 | H30: =+H10-H15 -> -523099639 | I30: =+I10-I15 -> 223909570 | J30: =+J10-J15 -> -14863640 | K30: =+K10-K15 -> -529955863
B31: PROMEDIO% | D31: =(D29/D10)-100% -> 0.22105021 | E31: =(E29/E10)-100% -> -0.77261314 | F31: =(F29/F10)-100% -> -0.15821321 | G31: =(G29/G10)-100% -> 0.04250663 | H31: =(H29/H10)-100% -> 2.090502 | I31: =(I29/I10)-100% -> -0.48923113 | K31: =(K29/K10)-100% -> 0.091574401
B33: SERVICIOS POSTALES NACIONALES | D33: 3575330000 | E33: 33680523 | F33: 1686150000 | G33: 5295160523 | H33: 773326446 | I33: 233766888 | J33: 14863640 | K33: 6317117497
B34: DIFERECIA CON PAA | D34: =+D10-D15 -> -647252202 | E34: =+E10-E15 -> 114439397 | F34: =+F10-F15 -> 316910651 | G34: =+G10-G15 -> -215902154 | H34: =+H10-H15 -> -523099639 | I34: =+I10-I15 -> 223909570 | J34: =+J10-J15 -> -14863640 | K34: =+K10-K15 -> -529955863
B35: PROMEDIO% | D35: =(D33/D10)-100% -> 0.22105021 | E35: =(E33/E10)-100% -> -0.77261314 | F35: =(F33/F10)-100% -> -0.15821321 | G35: =(G33/G10)-100% -> 0.04250663 | H35: =(H33/H10)-100% -> 2.090502 | I35: =(I33/I10)-100% -> -0.48923113 | K35: =(K33/K10)-100% -> 0.091574401
B39: ANÁLISIS DE MERCADO
B40: Tras el análisis de cuatro (4) cotizaciones (Almagrario, Portes de Colombia, Servicios Postales Nacionales S.A.S e Infotic), se determina que existe una alta dispersión en los precios del mercado. Sin embargo, al depurar las ofertas que desbordan el presupuesto del PAA de la asociación , la propuesta de SERVICIOS POSTALES NACIONALES S.A.S se consolida como la opción más favorable, ajustándose a la capacidad financiera de la Asociación.
B43: Se recibieron cotizaciones de cuatro operadores logísticos. A continuación, se presenta el consolidado global de las ofertas frente al promedio del mercado:
B45: Empresa transportadora | C45: Valor Total Propuesta (Estimado) | D45: Desviación frente al PAA
B46: Portes de Colombia | C46: 10425986740 | D46: 80 % (No viable)
B47: Almagrario | C47: 9057174200 | D47: 56% (No viable)
B48: Promedio del Mercado | C48: 8323428607 | D48: 0.43
B49: Servicios Postales Nacionales | C49: =K33 -> 6317117497 | D49: 9% , (Competitivo)
B50: INFOTIC | C50: 6319666063 | D50: 9% , (Competitivo)
B52: Descartadas las opciones de Almagrario y Portes, el análisis se centra en las dos propuestas favorables. Aunque los valores totales son cercanos, el análisis favorece a Servicios Postales Nacionales S.A.S.por las siguientes razones: -) Servicios Postales Nacionales S.A.S. presenta una estructura de costos balanceada entre los componentes de Soluciones Tecnológicas Retoma y Garantías. Mientras que las ofertas de Almagrario y Portes de Colombia cargan costos excesivos en los diferentes componentes. Infotic mantiene una proporción con el volumen de la operación pero su oferta aunque competitiva es superior a la presentada por Servicios Postales Nacionales S.A.S la cual, de igual forma mantiene una proporción con el volumen de la operación, lo que reduce el riesgo de sobrecostos durante la ejecución. -) La oferta de Servicios Postales Nacionales S.A.S sus costos unitarios para zonas especiales (según el archivo adjunto) son competitivos, lo que garantiza el cumplimiento de la ejecución en zonas de difícil acceso. -) La oferta de Servicios Postales Nacionales S.A.S se acerca al PAA, permitiendo ejecutar la totalidad de las metas sin necesidad de realizar recortes en los alcances de equipos a entregar o retomar. El estudio de mercado realizado y la comparación técnica - económica de las cuatro cotizaciones recibidas se concluye: 1. Se recomienda no tener en cuenta las ofertas de Almagrario y Portes de Colombia por exceder la capacidad presupuestal de la entidad en más de un 50%. 2. Aunque Infotic presenta una oferta competitiva su valor se encuentra por encima de la oferta allegada por Servicios Postales Nacionales S.A.S 3. Selección de Servicios Postales Nacionales S.A.S: Se recomienda seleccionar la propuesta de Servicios Postales Nacionales S.A.S como la base para la estructuración del proceso contractual de 2026. Toda vez que es la oferta que se mantiene dentro del rango del PAA. y es la oferta economica mas favorable para la asociación. Servicios Postales Nacionales S.A.S presenta precios de mercado que aseguran la operación logística completa (entrega, retoma y garantías) sin poner en riesgo la operación, permitiendo a la Asociación cumplir sus metas para la vigencia 2026 sin solicitar adiciones presupuestales. 4. Se realizó análisis de Medidas de tendencia Central (Media, Mediana y Media Acotada), destacándose desde el análisis del coeficiente de variación que los valores adoptados por el promedio (media). 5. Teniendo seleccionada la medida de tendencia central denominada promedio (media) y calculando los valores de la desviación estándar, de esta manera se encontraron los valores de mercado (valor mínimo y máximo). 6. De lo anterior se evidencia que los valores de Servicios Postales Nacionales están dentro de los valores de mercado con excepción del rubro de retoma, no obstante, la oferta de este rubro se encuentra por debajo representando una economía considerable para la organización por lo mismo el valor es aceptado. 7. La oferta de Servicios Postales Nacionales es altamente competitiva y refleja una coherencia de los valores históricamente reconocidos en los contratos suscritos por la organización en vigencias anteriores.
B54: Visto bueno
B56: Rafael Vaca Fajardo - Contratista Oficina de Contratación
...

Sheet Infotic
B3: TRANSPORTE DE SOLUCIONES TECNOLÓGICAS - AÑO 2026
B5: Cantidad de equipos a transportar por unidad | F5: Cantidad de bienes a transportar | J5: Cantidad de bienes a transportar por combo
B6: PORTÁTILES UNIDAD | F6: CAJA KIT MAKER | J6: NUEVAS SOLUCIONES TECNOLOGICAS
B7: Zona | C7: Ubicación | F7: Zona | G7: Ubicación | J7: Zona | K7: Ubicación
C8: Urbano | D8: Rural | G8: Urbano | H8: Rural | K8: Urbano | L8: Rural
B9: Facil | C9: 4280 | D9: 8120 | F9: Facil | G9: 20 | H9: 85 | J9: Facil | K9: 200 | L9: 320
B10: Media | C10: 4280 | D10: 8120 | F10: Media | G10: 20 | H10: 85 | J10: Media | K10: 200 | L10: 323
B11: Especial | C11: 4304 | D11: 8121 | F11: Especial | G11: 20 | H11: 95 | J11: Especial | K11: 200 | L11: 326
B13: Costos unitarios del transporte por equipo | F13: Costos unitarios del transporte kit maker | J13: Costos unitarios del transporte por combo
B14: PORTÁTILES | F14: CAJA KIT MAKER | J14: COMBOS NUEVAS SOLUCIONES TECNOLOGICAS
B15: Zona | C15: Ubicación | F15: Zona | G15: Ubicación | J15: Zona | K15: Ubicación
C16: Urbano | D16: Rural | G16: Urbano | H16: Rural | K16: Urbano | L16: Rural
B17: Facil | C17: 43575 | D17: 65985 | E17: =75000*17000 -> 1275000000 | F17: Facil | G17: 77190 | H17: 82252.17 | J17: Facil | K17: 750000 | L17: 1100000
B18: Media | C18: 64989 | D18: 95533 | F18: Media | G18: 82252.17 | H18: 97919.25 | J18: Media | K18: 850000 | L18: 1210000
B19: Especial | C19: 75073.5 | D19: 108315 | F19: Especial | G19: 107692.5 | H19: 137086.95 | J19: Especial | K19: 1050000 | L19: 1610000
B21: Costos total del transporte | F21: Costos total del transporte kit maker | J21: Costos total del transporte por combo
B22: PORTÁTILES | F22: CAJA KIT MAKER | J22: COMBOS NUEVAS SOLUCIONES TECNOLOGICAS
B23: Zona | C23: Ubicación | F23: Zona | G23: Ubicación | J23: Zona | K23: Ubicación
C24: Urbano | D24: Rural | G24: Urbano | H24: Rural | K24: Urbano | L24: Rural
B25: Facil | C25: =ROUND((C9*C17),0) -> 186501000 | D25: =ROUND((D9*D17),0) -> 535798200 | F25: Facil | G25: =ROUND((G9*G17),0) -> 1543800 | H25: =ROUND((H9*H17),0) -> 6991434 | J25: Facil | K25: =ROUND((K9*K17),0) -> 150000000 | L25: =ROUND((L9*L17),0) -> 352000000
B26: Media | C26: =ROUND((C10*C18),0) -> 278152920 | D26: =ROUND((D10*D18),0) -> 775727960 | F26: Media | G26: =ROUND((G10*G18),0) -> 1645043 | H26: =ROUND((H10*H18),0) -> 8323136 | J26: Media | K26: =ROUND((K10*K18),0) -> 170000000 | L26: =ROUND((L10*L18),0) -> 390830000
B27: Especial | C27: =ROUND((C11*C19),0) -> 323116344 | D27: =ROUND((D11*D19),0) -> 879626115 | F27: Especial | G27: =ROUND((G11*G19),0) -> 2153850 | H27: =ROUND((H11*H19),0) -> 13023260 | J27: Especial | K27: =ROUND((K11*K19),0) -> 210000000 | L27: =ROUND((L11*L19),0) -> 524860000
B28: Subtotal | C28: =SUM(C25:C27) -> 787770264 | D28: =SUM(D25:D27) -> 2191152275 | F28: Subtotal | G28: =SUM(G25:G27) -> 5342693 | H28: =SUM(H25:H27) -> 28337830 | J28: Subtotal | K28: =SUM(K25:K27) -> 530000000 | L28: =SUM(L25:L27) -> 1267690000
B29: TRANSPORTE DE SOLUCIONES TECNOLÓGICAS POR UNIDAD | D29: =+C28+D28 -> 2978922539 | G29: TOTAL KIT MAKER POR CAJA | H29: =+G28+H28 -> 33680523 | K29: TOTAL NUEVAS SOLUCIONES POR COMBO | L29: =+K28+L28 -> 1797690000
B32: TOTAL TRANSPORTE DE SOLUCIONES TECNOLÓGICAS | F32: =+D29+H29+L29 -> 4810293062
B36: TRANSPORTE DE RETOMAS 2026
B38: CANTIDADES DE KG A RETOMAR
C39: Zona Fácil | E39: Zona Media | G39: Zona especial
B40: Total, kg | C40: Rural | D40: Urbano | E40: Rural | F40: Urbano | G40: Rural | H40: Urbano
C41: 3332.22 | D41: 13868.34 | E41: 1365.3 | F41: 2579.64 | G41: 350.76 | H41: 699.3
B43: Costos unitarios por Kg a retomar
C44: Zona Fácil | E44: Zona Media | G44: Zona especial
B45: Total, kg | C45: Rural | D45: Urbano | E45: Rural | F45: Urbano | G45: Rural | H45: Urbano
C46: 15500 | D46: 12100 | E46: 16500 | F46: 12500 | G46: 8900 | H46: 15604
B48: Costo total de transporte de retoma
C49: Zona Fácil | E49: Zona Media | G49: Zona especial
B50: Total, kg | C50: Rural | D50: Urbano | E50: Rural | F50: Urbano | G50: Rural | H50: Urbano
C51: =ROUND(+C46*C41,0) -> 51649410 | D51: =ROUND(+D46*D41,0) -> 167806914 | E51: =ROUND(+E46*E41,0) -> 22527450 | F51: =ROUND(+F46*F41,0) -> 32245500 | G51: =ROUND(+G46*G41,0) -> 3121764 | H51: =ROUND(+H46*H41,0) -> 10911877
B54: TOTAL TRANSPORTE DE RETOMA | F54: =C51+D51+E51+F51+G51+H51 -> 288262915
B58: TRANSPORTE DE GARANTIAS- AÑO 2026
...

Sheet Almagrario
K14: 1612800 | L14: 3136000 | M14: =+AVERAGE(K14:L16) -> 3068800 | N14: =+M14*1000 -> 3068800000
K15: 1792000 | L15: 4256000
K16: 2016000 | L16: 5600000

Sheet Servicios Postales Nacionales 
B3: TRANSPORTE DE SOLUCIONES TECNOLÓGICAS - AÑO 2026
B5: Cantidad de equipos a transportar por unidad | F5: Cantidad de bienes a transportar | J5: Cantidad de bienes a transportar por combo
B6: PORTÁTILES UNIDAD | F6: CAJA KIT MAKER | J6: NUEVAS SOLUCIONES TECNOLOGICAS
B7: Zona | C7: Ubicación | F7: Zona | G7: Ubicación | J7: Zona | K7: Ubicación
C8: Urbano | D8: Rural | G8: Urbano | H8: Rural | K8: Urbano | L8: Rural
B9: Facil | C9: 4280 | D9: 8120 | F9: Facil | G9: 20 | H9: 85 | J9: Facil | K9: 200 | L9: 320
B10: Media | C10: 4280 | D10: 8120 | F10: Media | G10: 20 | H10: 85 | J10: Media | K10: 200 | L10: 323
B11: Especial | C11: 4304 | D11: 8121 | F11: Especial | G11: 20 | H11: 95 | J11: Especial | K11: 200 | L11: 326
B13: Costos unitarios del transporte por equipo | F13: Costos unitarios del transporte kit maker | J13: Costos unitarios del transporte por combo
B14: PORTÁTILES | F14: CAJA KIT MAKER | J14: COMBOS NUEVAS SOLUCIONES TECNOLOGICAS
B15: Zona | C15: Ubicación | F15: Zona | G15: Ubicación | J15: Zona | K15: Ubicación
C16: Urbano | D16: Rural | G16: Urbano | H16: Rural | K16: Urbano | L16: Rural
B17: Facil | C17: 51000 | D17: 100000 | F17: Facil | G17: 77190 | H17: 82252.17 | J17: Facil | K17: 750000 | L17: 1050000
B18: Media | C18: 72000 | D18: 110000 | F18: Media | G18: 82252.17 | H18: 97919.25 | J18: Media | K18: 830000 | L18: 1150000
B19: Especial | C19: 82000 | D19: 122000 | F19: Especial | G19: 107692.5 | H19: 137086.95 | J19: Especial | K19: 950000 | L19: 1450000
B21: Costos total del transporte | F21: Costos total del transporte kit maker | J21: Costos total del transporte por combo
B22: PORTÁTILES | F22: CAJA KIT MAKER | J22: COMBOS NUEVAS SOLUCIONES TECNOLOGICAS
B23: Zona | C23: Ubicación | F23: Zona | G23: Ubicación | J23: Zona | K23: Ubicación
C24: Urbano | D24: Rural | G24: Urbano | H24: Rural | K24: Urbano | L24: Rural
B25: Facil | C25: =ROUND((C9*C17),0) -> 218280000 | D25: =ROUND((D9*D17),0) -> 812000000 | F25: Facil | G25: =ROUND((G9*G17),0) -> 1543800 | H25: =ROUND((H9*H17),0) -> 6991434 | J25: Facil | K25: =ROUND((K9*K17),0) -> 150000000 | L25: =ROUND((L9*L17),0) -> 336000000
B26: Media | C26: =ROUND((C10*C18),0) -> 308160000 | D26: =ROUND((D10*D18),0) -> 893200000 | F26: Media | G26: =ROUND((G10*G18),0) -> 1645043 | H26: =ROUND((H10*H18),0) -> 8323136 | J26: Media | K26: =ROUND((K10*K18),0) -> 166000000 | L26: =ROUND((L10*L18),0) -> 371450000
B27: Especial | C27: =ROUND((C11*C19),0) -> 352928000 | D27: =ROUND((D11*D19),0) -> 990762000 | F27: Especial | G27: =ROUND((G11*G19),0) -> 2153850 | H27: =ROUND((H11*H19),0) -> 13023260 | J27: Especial | K27: =ROUND((K11*K19),0) -> 190000000 | L27: =ROUND((L11*L19),0) -> 472700000
B28: Subtotal | C28: =SUM(C25:C27) -> 879368000 | D28: =SUM(D25:D27) -> 2695962000 | F28: Subtotal | G28: =SUM(G25:G27) -> 5342693 | H28: =SUM(H25:H27) -> 28337830 | J28: Subtotal | K28: =SUM(K25:K27) -> 506000000 | L28: =SUM(L25:L27) -> 1180150000
B29: TRANSPORTE DE SOLUCIONES TECNOLÓGICAS POR UNIDAD | D29: =+C28+D28 -> 3575330000 | G29: TOTAL KIT MAKER POR CAJA | H29: =+G28+H28 -> 33680523 | K29: TOTAL NUEVAS SOLUCIONES POR COMBO | L29: =+K28+L28 -> 1686150000
B32: TOTAL TRANSPORTE DE SOLUCIONES TECNOLÓGICAS | F32: =+D29+H29+L29 -> 5295160523
B36: TRANSPORTE DE RETOMAS 2026
B38: CANTIDADES DE KG A RETOMAR
C39: Zona Fácil | E39: Zona Media | G39: Zona especial
B40: Total, kg | C40: Rural | D40: Urbano | E40: Rural | F40: Urbano | G40: Rural | H40: Urbano
C41: 3332.22 | D41: 13868.34 | E41: 1365.3 | F41: 2579.64 | G41: 350.76 | H41: 699.3
B43: Costos unitarios por Kg a retomar
C44: Zona Fácil | E44: Zona Media | G44: Zona especial
B45: Total, kg | C45: Rural | D45: Urbano | E45: Rural | F45: Urbano | G45: Rural | H45: Urbano
C46: 12000 | D46: 10100 | E46: 12000 | F46: 10100 | G46: 12000 | H46: 10100
B48: Costo total de transporte de retoma
C49: Zona Fácil | E49: Zona Media | G49: Zona especial
B50: Total, kg | C50: Rural | D50: Urbano | E50: Rural | F50: Urbano | G50: Rural | H50: Urbano
C51: =ROUND(+C46*C41,0) -> 39986640 | D51: =ROUND(+D46*D41,0) -> 140070234 | E51: =ROUND(+E46*E41,0) -> 16383600 | F51: =ROUND(+F46*F41,0) -> 26054364 | G51: =ROUND(+G46*G41,0) -> 4209120 | H51: =ROUND(+H46*H41,0) -> 7062930
B54: TOTAL TRANSPORTE DE RETOMA | F54: =C51+D51+E51+F51+G51+H51 -> 233766888
B57: TRANSPORTE DE GARANTIAS- AÑO 2026
...

Sheet Portes de Colombia
B3: TRANSPORTE DE SOLUCIONES TECNOLÓGICAS - AÑO 2026
B5: Cantidad de equipos a transportar por unidad | F5: Cantidad de bienes a transportar | J5: Cantidad de bienes a transportar por combo
B6: PORTÁTILES UNIDAD | F6: CAJA KIT MAKER | J6: NUEVAS SOLUCIONES TECNOLOGICAS
B7: Zona | C7: Ubicación | F7: Zona | G7: Ubicación | J7: Zona | K7: Ubicación
C8: Urbano | D8: Rural | G8: Urbano | H8: Rural | K8: Urbano | L8: Rural
B9: Facil | C9: 4280 | D9: 8120 | F9: Facil | G9: 20 | H9: 85 | J9: Facil | K9: 200 | L9: 320
B10: Media | C10: 4280 | D10: 8120 | F10: Media | G10: 20 | H10: 85 | J10: Media | K10: 200 | L10: 323
B11: Especial | C11: 4304 | D11: 8121 | F11: Especial | G11: 20 | H11: 95 | J11: Especial | K11: 200 | L11: 326
B13: Costos unitarios del transporte por equipo | F13: Costos unitarios del transporte kit maker | J13: Costos unitarios del transporte por combo
B14: PORTÁTILES | F14: CAJA KIT MAKER | J14: COMBOS NUEVAS SOLUCIONES TECNOLOGICAS
B15: Zona | C15: Ubicación | F15: Zona | G15: Ubicación | J15: Zona | K15: Ubicación
C16: Urbano | D16: Rural | G16: Urbano | H16: Rural | K16: Urbano | L16: Rural
B17: Facil | C17: 64350 | D17: 115050 | F17: Facil | G17: 76050 | H17: 81900 | J17: Facil | K17: 881500 | L17: 1247000
B18: Media | C18: 113100 | D18: 148200 | F18: Media | G18: 81900 | H18: 97500 | J18: Media | K18: 1075000 | L18: 1505000 | M18: =+AVERAGE(K17:L19) -> 1336583.3 | N18: =+M18*1000 -> 1.3365833e+09
B19: Especial | C19: 130650 | D19: 171600 | F19: Especial | G19: 107250 | H19: 136500 | J19: Especial | K19: 1397500 | L19: 1913500
B21: Costos total del transporte | F21: Costos total del transporte kit maker | J21: Costos total del transporte por combo
B22: PORTÁTILES | F22: CAJA KIT MAKER | J22: COMBOS NUEVAS SOLUCIONES TECNOLOGICAS
B23: Zona | C23: Ubicación | F23: Zona | G23: Ubicación | J23: Zona | K23: Ubicación
C24: Urbano | D24: Rural | G24: Urbano | H24: Rural | K24: Urbano | L24: Rural
B25: Facil | C25: =ROUND((C9*C17),0) -> 275418000 | D25: =ROUND((D9*D17),0) -> 934206000 | F25: Facil | G25: =ROUND((G9*G17),0) -> 1521000 | H25: =ROUND((H9*H17),0) -> 6961500 | J25: Facil | K25: =ROUND((K9*K17),0) -> 176300000 | L25: =ROUND((L9*L17),0) -> 399040000
B26: Media | C26: =ROUND((C10*C18),0) -> 484068000 | D26: =ROUND((D10*D18),0) -> 1203384000 | F26: Media | G26: =ROUND((G10*G18),0) -> 1638000 | H26: =ROUND((H10*H18),0) -> 8287500 | J26: Media | K26: =ROUND((K10*K18),0) -> 215000000 | L26: =ROUND((L10*L18),0) -> 486115000
B27: Especial | C27: =ROUND((C11*C19),0) -> 562317600 | D27: =ROUND((D11*D19),0) -> 1393563600 | F27: Especial | G27: =ROUND((G11*G19),0) -> 2145000 | H27: =ROUND((H11*H19),0) -> 12967500 | J27: Especial | K27: =ROUND((K11*K19),0) -> 279500000 | L27: =ROUND((L11*L19),0) -> 623801000
B28: Subtotal | C28: =SUM(C25:C27) -> 1321803600 | D28: =SUM(D25:D27) -> 3531153600 | F28: Subtotal | G28: =SUM(G25:G27) -> 5304000 | H28: =SUM(H25:H27) -> 28216500 | J28: Subtotal | K28: =SUM(K25:K27) -> 670800000 | L28: =SUM(L25:L27) -> 1508956000
B29: TRANSPORTE DE SOLUCIONES TECNOLÓGICAS POR UNIDAD | D29: =+C28+D28 -> 4852957200 | G29: TOTAL KIT MAKER POR CAJA | H29: =+G28+H28 -> 33520500 | K29: TOTAL NUEVAS SOLUCIONES POR COMBO | L29: =+K28+L28 -> 2179756000
B32: TOTAL TRANSPORTE DE SOLUCIONES TECNOLÓGICAS | F32: =+D29+H29+L29 -> 7066233700
B36: TRANSPORTE DE RETOMAS 2026
B38: CANTIDADES DE KG A RETOMAR
C39: Zona Fácil | E39: Zona Media | G39: Zona especial
B40: Total, kg | C40: Rural | D40: Urbano | E40: Rural | F40: Urbano | G40: Rural | H40: Urbano
C41: 3332.22 | D41: 13868.34 | E41: 1365.3 | F41: 2579.64 | G41: 350.76 | H41: 699.3
B43: Costos unitarios por Kg a retomar
C44: Zona Fácil | E44: Zona Media | G44: Zona especial
B45: Total, kg | C45: Rural | D45: Urbano | E45: Rural | F45: Urbano | G45: Rural | H45: Urbano
C46: 15200 | D46: 14400 | E46: 16800 | F46: 15200 | G46: 8900 | H46: 15600
B48: Costo total de transporte de retoma
C49: Zona Fácil | E49: Zona Media | G49: Zona especial
B50: Total, kg | C50: Rural | D50: Urbano | E50: Rural | F50: Urbano | G50: Rural | H50: Urbano
C51: =ROUND(+C46*C41,0) -> 50649744 | D51: =ROUND(+D46*D41,0) -> 199704096 | E51: =ROUND(+E46*E41,0) -> 22937040 | F51: =ROUND(+F46*F41,0) -> 39210528 | G51: =ROUND(+G46*G41,0) -> 3121764 | H51: =ROUND(+H46*H41,0) -> 10909080
B54: TOTAL TRANSPORTE DE RETOMA | F54: =C51+D51+E51+F51+G51+H51 -> 326532252
B58: TRANSPORTE DE GARANTIAS- AÑO 2026
...
