Workbook
Name contratación: 'IDENTIFICACION Y ANALISIS'!$B$22:$B$24
Name ejecución: 'IDENTIFICACION Y ANALISIS'!$B$26:$B$37
Name OPCIONES: 'ASIGNACION Y TRATAMIENTO'!$B$49:$B$51
Name planeación: 'IDENTIFICACION Y ANALISIS'!$B$19:$B$20
Name selección: 'IDENTIFICACION Y ANALISIS'!#REF!

Sheet CONTEXTO
C2: MATRIZ DE RIESGOS EN CONTRATACIÓN | F2: Código: GCO-GCI-F164 Versión: 02 Vigencia: 01 de diciembre de 2022 Caso HOLA: 280117
B6: ESTABLECER EL CONTEXTO
B7: El punto inicial es identificar el contexto en el cual interactúa la Entidad Estatal para conocer el ambiente social, económico y político, e identificar (i) sus propios Riesgos; (ii) los Riesgos comunes a sus Procesos de Contratación; y (iii) los Riesgos del Proceso de Contratación en particular. (Aplica igual para contratos interadministrativos) En este paso la Entidad Estatal debe identificar los aspectos que se mencionan a continuación y los posibles efectos adversos que estos pueden generar.
B8: Objeto del Proceso de Contratación: CONTRATAR LOS SERVICIOS DE UN CABILDO INDÍGENA DE LA LOCALIDAD DE BOSA PARA VISIBILIZAR LAS PRÁCTICAS CULTURALES DEL DÍA INTERNACIONAL DE LOS PUEBLOS INDÍGENAS “ENCUENTROS DE SABERES LOCALES BOSA
B9: Partícipes del Proceso de Contratación: Agentes externos (Organismos de control, veedurías ciudadanas), agentes internos (supervisores, funcionarios y demás usuarios).
B10: Ciudadanía que se beneficia del Proceso de Contratación: Agentes internos (funcionarios, pasantes) y externos (contratistas, visitantes y usuarios externos en general)
B11: Capacidad de la Entidad Estatal entendida como la disponibilidad de recursos y conocimientos para el Proceso de Contratación: La disponibilidad de la Entidad de sus recursos y el conocimiento de su equipo humano se refleja en los diferentes funcionarios que participarán en las diversas etapas del proceso de selección: participan las áreas que requieren los procesos de contratación (Etapa de Planeación), Etapa de Anexo tecnico y Estudios previos (Sector Cultura), Dirección de Contratación, Comité Evaluador (Etapa de selección), Dirección de Contratación (Etapa de contratación) y la supervisión y apoyos a la misma (Estapa de Ejecución).
B12: Suficiencia del presupuesto oficial del Proceso de Contratación: De acuerdo al Plan Anual de Adquisiciones se deben estimar los recursos necesarios para el desarrollo del proceso de la contratación, el cual tendrá el soporte presupuestal suficiente para su desarrollo.
B13: Condiciones geográficas y de acceso del lugar en el cual se debe cumplir el objeto del Proceso de Contratación: El servicio se prestará principalmente en el lugar indicado en los estudios previos del proceso.
B14: Entorno socio ambiental: Si aplican
B15: Condiciones políticas: Si aplican
B16: Factores ambientales. El contratista debe manejar normas ambientales para el destino final de algunos elementos que se utilizan en las actividades artísticas, culturales y patrimoniales, de acuerdo al apartado de Criterios Ambientales contenido en los Estudios Previos.
B17: Sector del objeto del Proceso de Contratación y su mercado: La actividad objeto del presente proceso, hace parte del sector terciario o de servicios de la economía colombiana.
... B19: Experiencia propia y de otras Entidades Estatales en Procesos de Contratación del mismo tipo: Ver Análisis de Sector "Comportamiento del Gasto Histórico"

Sheet IDENTIFICACION Y ANALISIS
C2: MATRIZ DE RIESGOS DE CONTRATACIÓN | F2: Código: GCO-GCI-F164 Versión: 02 Vigencia: 01 de diciembre de 2022 Caso HOLA: 280117
B6: DEFINICIONES
B7: RIESGO: Evento que puede generar efectos adversos y de distinta magnitud en el logro de los objetivos del Proceso de Contratación o en la ejecución de un contrato RIESGOS PREVISIBLES: Son los posibles hechos o circunstancias que por la naturaleza del contrato y de la actividad a ejecutar es factible su ocurrencia. ETAPA DE PLANEACIÓN: Está comprendida desde el momento en que se identifican las necesidades que debe satisfacer la Secretaría Distrital de Gobierno y los Fondos de Desarrollo Local, a través del abastecimiento de bienes, obras o servicios, la elaboración del Plan Anual de Adquisiciones y la estructuración de los documentos y estudios previos. ETAPA DE SELECCIÓN: Está comprendida entre el acto de Apertura del Proceso de Contratación y la Adjudicación o la declaración de desierto del Proceso de Contratación ETAPA DE CONTRATACIÓN: Una vez adjudicado el contrato objeto del Proceso de Contratación, inicia la etapa para la celebración del contrato y el cumplimiento de los requisitos para de perfeccionamiento y ejecución. ETAPA DE EJECUCIÓN: Inicia una vez cumplidos los requisitos previstos para iniciar la ejecución del contrato respectivo y termina con el vencimiento del plazo del contrato o la fecha de liquidación si hay lugar a ella. RIESGO GENERAL: Es un riesgo de todos los procesos de contratación adelantados por la Entidad Estatal, por lo cual está presente en toda su actividad contractual. RIEGO ESPECIFICO: Es un riesgo propio del proceso de contratación objeto de análisis. RIESGOS ECONÓMICOS: Son los derivados del comportamiento del mercado, tales como la fluctuación de los precios de los insumos, desabastecimiento y especulación de los mismos, entre otros. RIESGOS SOCIALES O POLÍTICOS: son los derivados de los cambios de las políticas gubernamentales y de cambios en las condiciones sociales que tengan impacto en la ejecución del contrato. RIESGOS OPERACIONALES: Son los asociados a la operatividad del contrato, tales como la suficiencia del presupuesto oficial, del plazo o los derivados de procesos, procedimientos, parámetros, sistemas de información y tecnológicos, equipos humanos o técnicos inadecuados o insuficientes. RIESGOS FINANCIEROS: Son (i) el riesgo de consecución de financiación o riesgo de liquidez para obtener recursos para cumplir con el objeto del contrato, y (ii) el riesgo de las condiciones financieras establecidas para la obtención de los recursos, tales como plazos, tasas, garantías, contragarantías, y refinanciaciones, entre otros. RIESGOS REGULATORIOS: Derivados de cambios regulatorios o reglamentarios que afecten la ecuación económica del contrato. RIESGOS DE LA NATURALEZA: Son los eventos naturales previsibles en los cuales no hay intervención humana que puedan tener impacto en la ejecución del contrato, por ejemplo los temblores, inundaciones, lluvias, sequías, entre otros. RIESGOS AMBIENTALES: Son los derivados de las obligaciones legales o reglamentarias de carácter ambiental, así como de las licencias, planes de manejo o de permisos y autorizaciones ambientales, incluyendo tasas retributivas y compensatorias, obligaciones de mitigación, tareas de monitoreo y control, entre otras. RIESGOS TECNOLÓGICOS: Son los derivados de fallas en los sistemas de comunicación de voz y de datos, suspensión de servicios públicos, nuevos desarrollos tecnológicos o estándares que deben ser tenidos en cuenta para la ejecución del contrato, obsolescencia tecnológica.
B15: INSTRUCCIONES PARA LA IDENTIFICACIÓN, ANALISIS, EVALUACIÓN , ASIGNACIÓN Y TRATAMIENTO DE RIESGOS EN LA CONTRATACIÓN
B16: 1) Identifique los riesgos previsibles que le apliquen al objeto contractual que se adelante. Los relacionados a continuación se establecen de manera general y como proforma. No obstante, si del objeto contractual se identifican otros riesgos diferentes a los aquí determinados, por favor reemplace el texto de la casilla teniendo en cuenta la etapa del proceso. Así mismo, seleccione la clase, fuente y el tipo (Operacional, Económico, Sociales o Políticos, Regulatorios, Financieros, Tecnológicos, De la naturaleza, Ambientales) 2) Continúe en la hoja de "EVALUACIÓN" (SI EXISTEN DUDAS CONCEPTUALES PARA LA ELABORACIÓN DE LA MATRIZ DE RIESGO CONSULTE EL MANUAL PARA LA IDENTIFICACIÓN Y COBERTURA DEL RIESGO EN LOS PROCESOS DE CONTRATACIÓN EXPEDIDO POR COLOMBIA COMPRA EFICIENTE Y LA GUÍA DE RIESGOS PREVISIBLES CONTRACTUALES, EXPEDIDA POR LA VEEDURÍA DISTRITAL)
C17: ETAPAS | D17: CLASE | E17: FUENTE | F17: TIPO
C18: PLANEACIÓN
B19: Inadecuada descripción del bien o servicio requerido | D19: Estatal | E19: Interno | F19: Operacionales
B20: Ausencia de fundamentación de la justificación y conveniencia de la contratación | D20: Estatal | E20: Interno | F20: Operacionales
C21: CONTRATACIÓN
B22: Riesgo de que no se firme el contrato. | D22: Especifico | E22: Interno | F22: Operacionales
B23: Falta de constitución o constitución tardía de la garantía única. Aceptación de garantías que no se ajustan a lo contemplado en el contrato | D23: Especifico | E23: Externo | F23: Operacionales
B24: Falta de solicitud o solicitud tardía del registro presupuestal | D24: Especifico | E24: Interno | F24: Operacionales
C25: EJECUCIÓN
B26: Fluctuaciones del valor de la moneda | D26: General | E26: Externo | F26: Economicos
B27: Cambio de precios en factores de producción. | D27: General | E27: Externo | F27: Economicos
B28: Variación de los precios del mercado | D28: General | E28: Externo | F28: Economicos
B29: Factores políticos o macroeconómicos. | D29: General | E29: Externo | F29: Sociales o Políticos
B30: Variación en la disponibilidad de los insumos necesarios para prestar los servicios. | D30: Especifico | E30: Externo | F30: Economicos
B31: Incumplimiento de compromisos adquiridos por el contratista seleccionado con sus subcontratistas, suministradores de bienes y servicios. | D31: Especifico | E31: Externo | F31: Operacionales
B32: Incumplimiento de la administración en los pagos. | D32: Especifico | E32: Interno | F32: Economicos
B33: Cambios en el marco regulatorio o normatividad aplicable al proyecto. | D33: General | E33: Externo | F33: Regulatorios
B34: Variación de tasas o tarifas | D34: General | E34: Externo | F34: Financieros
B35: Riesgo geológico | D35: General | E35: Externo | F35: De la naturaleza
B36: Eventos naturales tales como lluvias, inundaciones y sequias entre otros | D36: General | E36: Externo | F36: De la naturaleza
B37: Incumplimiento derivado del trámite de los permisos con autoridades ambientales, la obtención de los mismos, paz y salvos | D37: Especifico | E37: Externo | F37: Ambientales
B42: General
B43: Estatal
B44: Especifico
B46: Interno
B47: Externo

Sheet EVALUACION
C2: MATRIZ DE RIESGOS DE CONTRATACIÓN | K2: Código: GCO-GCI-F164 Versión: 02 Vigencia: 01 de diciembre de 2022 Caso HOLA: 280117
B6: Objeto Contractual: CONTRATAR LOS SERVICIOS DE UN CABILDO INDÍGENA DE LA LOCALIDAD DE BOSA PARA VISIBILIZAR LAS PRÁCTICAS CULTURALES DEL DÍA INTERNACIONAL DE LOS PUEBLOS INDÍGENAS “ENCUENTROS DE SABERES LOCALES BOSA
B7: INSTRUCCIONES PARA LA IDENTIFICACIÓN, ANALISIS, EVALUACIÓN , ASIGNACIÓN Y TRATAMIENTO DE RIESGOS EN LA CONTRATACIÓN
B8: 1) Diligencie el objeto contractual y seleccione la(s) etapas y los riesgos que aplican al objeto contractual, de acuerdo a lo definido en la hoja de "IDENTIFICACIÓN Y ANÁLISIS"
B9: 2) Describa las consecuencias de la ocurrencia del Riesgo/evento.
B10: 3) Asigne la probabilidad de ocurrencia del riesgo, de conformidad con la tabla de probabilidad y la valoración del riesgo (Cualitativa o Monetaria)
B11: 4) Asigne el impacto que generaría la materialización del riesgo, de conformidad con la tabla de impacto y la valoración del riesgo (Cualitativa o Monetaria)
B12: 5) Al realizar las anteriores actividades se obtendrá la calificación total y la valoración del riesgo (prioridad).
B13: 6) Continúe en la hoja de "EVALUACIÓN DE CONTROLES"
B15: CALIFICACIÓN | H15: Cualitativa
B16: ETAPA | C16: Descripción (Que puede pasar y, cómo puede ocurrir) | H16: Consecuencias de la ocurrencia del evento | I16: Probabilidad de Ocurrencia | J16: Impacto | K16: Calificación Total | L16: Prioridad
B17: PLANEACIÓN | C17: ='IDENTIFICACION Y ANALISIS'!B19 -> Inadecuada descripción del bien o servicio requerido | H17: Contratación de bienes o servicios que no satisfacen las necesidades de la entidad, posibles sobrecostos, modificaciones contractuales, retrasos en la ejecución, insatisfacción de los usuarios finales y riesgo de responsabilidad fiscal o disciplinaria. | I17: 1 | J17: 4 | K17: =+I17+J17 -> 5 | L17: =IF(K17<=4,"BAJO",IF(K17=5,"MEDIO",IF(K17=6,"ALTO",IF(K17=7,"ALTO","EXTREMO")))) -> MEDIO
B18: PLANEACIÓN | C18: ='IDENTIFICACION Y ANALISIS'!B20 -> Ausencia de fundamentación de la justificación y conveniencia de la contratación | H18: Falta de justificación para adelantar el proceso contractual | I18: 1 | J18: 5 | K18: =+I18+J18 -> 6 | L18: =IF(K18<=4,"BAJO",IF(K18=5,"MEDIO",IF(K18=6,"ALTO",IF(K18=7,"ALTO","EXTREMO")))) -> ALTO
B19: CONTRATACIÓN | C19: ='IDENTIFICACION Y ANALISIS'!B22 -> Riesgo de que no se firme el contrato. | H19: Retraso en la ejecución del proyecto, necesidad de iniciar nuevo proceso de selección o acudir al segundo proponente, posibles afectaciones en la prestación del servicio, incremento de costos y pérdida de confianza en la gestión contractual de la entidad. | I19: 1 | J19: 2 | K19: =+I19+J19 -> 3 | L19: =IF(K19<=4,"BAJO",IF(K19=5,"MEDIO",IF(K19=6,"ALTO",IF(K19=7,"ALTO","EXTREMO")))) -> BAJO
B20: CONTRATACIÓN | C20: ='IDENTIFICACION Y ANALISIS'!B23 -> Falta de constitución o constitución tardía de la garantía única. Aceptación de garantías que no se ajustan a lo contemplado en el contrato | H20: Riesgo de inicio de ejecución sin respaldo contractual, exposición de la entidad a pérdidas económicas ante incumplimientos, imposibilidad de hacer efectiva la garantía, vulneración del principio de responsabilidad y posibles sanciones disciplinarias o fiscales a los responsables. | I20: 3 | J20: 4 | K20: =+I20+J20 -> 7 | L20: =IF(K20<=4,"BAJO",IF(K20=5,"MEDIO",IF(K20=6,"ALTO",IF(K20=7,"ALTO","EXTREMO")))) -> ALTO
B21: CONTRATACIÓN | C21: ='IDENTIFICACION Y ANALISIS'!B24 -> Falta de solicitud o solicitud tardía del registro presupuestal | H21: Proceso sin justificación de recursos | I21: 1 | J21: 5 | K21: =+I21+J21 -> 6 | L21: =IF(K21<=4,"BAJO",IF(K21=5,"MEDIO",IF(K21=6,"ALTO",IF(K21=7,"ALTO","EXTREMO")))) -> ALTO
B22: EJECUCIÓN | C22: ='IDENTIFICACION Y ANALISIS'!B26 -> Fluctuaciones del valor de la moneda | H22: Afecta la ejecución financiera y técnica del convenio | I22: 2 | J22: 5 | K22: =+I22+J22 -> 7 | L22: =IF(K22<=4,"BAJO",IF(K22=5,"MEDIO",IF(K22=6,"ALTO",IF(K22=7,"ALTO","EXTREMO")))) -> ALTO
B23: EJECUCIÓN | C23: ='IDENTIFICACION Y ANALISIS'!B27 -> Cambio de precios en factores de producción. | H23: Aumento en los costos de ejecución, posible desequilibrio económico del contrato, solicitud de reajustes o adiciones presupuestales, retrasos en la ejecución o riesgo de incumplimiento contractual por parte del contratista. | I23: 3 | J23: 3 | K23: =+I23+J23 -> 6 | L23: =IF(K23<=4,"BAJO",IF(K23=5,"MEDIO",IF(K23=6,"ALTO",IF(K23=7,"ALTO","EXTREMO")))) -> ALTO
B24: EJECUCIÓN | C24: ='IDENTIFICACION Y ANALISIS'!B28 -> Variación de los precios del mercado | H24: Afectación del equilibrio económico del contrato, incremento en los costos de ejecución, posibles solicitudes de reajuste o modificación contractual, riesgo de incumplimiento del contratista y afectación en los plazos y calidad del proyecto. | I24: 3 | J24: 3 | K24: =+I24+J24 -> 6 | L24: =IF(K24<=4,"BAJO",IF(K24=5,"MEDIO",IF(K24=6,"ALTO",IF(K24=7,"ALTO","EXTREMO")))) -> ALTO
B25: EJECUCIÓN | C25: ='IDENTIFICACION Y ANALISIS'!B29 -> Factores políticos o macroeconómicos. | H25: Inestabilidad en la ejecución del contrato, interrupciones en el flujo de recursos, modificación de políticas públicas o prioridades institucionales, aumento de costos, suspensión o terminación anticipada del contrato, y afectación en el cumplimiento de metas del proyecto | I25: 2 | J25: 3 | K25: =+I25+J25 -> 5 | L25: =IF(K25<=4,"BAJO",IF(K25=5,"MEDIO",IF(K25=6,"ALTO",IF(K25=7,"ALTO","EXTREMO")))) -> MEDIO
B26: EJECUCIÓN | C26: ='IDENTIFICACION Y ANALISIS'!B30 -> Variación en la disponibilidad de los insumos necesarios para prestar los servicios. | H26: Retrasos en la prestación del servicio, disminución en la calidad del mismo, necesidad de modificar cronogramas o condiciones contractuales, incremento de costos operativos y riesgo de incumplimiento parcial o total del contrato. | I26: 2 | J26: 3 | K26: =+I26+J26 -> 5 | L26: =IF(K26<=4,"BAJO",IF(K26=5,"MEDIO",IF(K26=6,"ALTO",IF(K26=7,"ALTO","EXTREMO")))) -> MEDIO
B27: EJECUCIÓN | C27: ='IDENTIFICACION Y ANALISIS'!B31 -> Incumplimiento de compromisos adquiridos por el contratista seleccionado con sus subcontratistas, suministradores de bienes y servicios. | H27: Interrupciones en la ejecución del contrato, retrasos en la entrega de bienes o servicios, afectación a la calidad del producto final, incremento de reclamaciones contractuales, y riesgo de incumplimiento contractual por parte del contratista principal. | I27: 2 | J27: 3 | K27: =+I27+J27 -> 5 | L27: =IF(K27<=4,"BAJO",IF(K27=5,"MEDIO",IF(K27=6,"ALTO",IF(K27=7,"ALTO","EXTREMO")))) -> MEDIO
B28: EJECUCIÓN | C28: ='IDENTIFICACION Y ANALISIS'!B32 -> Incumplimiento de la administración en los pagos. | H28: Retrasos en la ejecución del contrato, suspensión de actividades por parte del contratista o sus subcontratistas, deterioro en las relaciones contractuales, afectación en la calidad del servicio u obra, y riesgo de incumplimiento contractual y sanciones. | I28: 2 | J28: 3 | K28: =+I28+J28 -> 5 | L28: =IF(K28<=4,"BAJO",IF(K28=5,"MEDIO",IF(K28=6,"ALTO",IF(K28=7,"ALTO","EXTREMO")))) -> MEDIO
B29: EJECUCIÓN | C29: ='IDENTIFICACION Y ANALISIS'!B33 -> Cambios en el marco regulatorio o normatividad aplicable al proyecto. | H29: Posibles sobrecostos Retrasos en la ejecución | I29: 1 | J29: 2 | K29: =+I29+J29 -> 3 | L29: =IF(K29<=4,"BAJO",IF(K29=5,"MEDIO",IF(K29=6,"ALTO",IF(K29=7,"ALTO","EXTREMO")))) -> BAJO
B30: EJECUCIÓN | C30: ='IDENTIFICACION Y ANALISIS'!B34 -> Variación de tasas o tarifas | H30: Afecta la ejecución financiera y técnica del convenio | I30: 2 | J30: 5 | K30: =+I30+J30 -> 7 | L30: =IF(K30<=4,"BAJO",IF(K30=5,"MEDIO",IF(K30=6,"ALTO",IF(K30=7,"ALTO","EXTREMO")))) -> ALTO
B31: EJECUCIÓN | C31: ='IDENTIFICACION Y ANALISIS'!B35 -> Riesgo geológico | H31: Afectación en la estabilidad y seguridad de la obra, suspensión o retrasos en la ejecución, incremento de costos por obras de mitigación o rediseños, y posible inutilización parcial o total del proyecto ejecutado. | I31: 3 | J31: 4 | K31: =+I31+J31 -> 7 | L31: =IF(K31<=4,"BAJO",IF(K31=5,"MEDIO",IF(K31=6,"ALTO",IF(K31=7,"ALTO","EXTREMO")))) -> ALTO
B32: EJECUCIÓN | C32: ='IDENTIFICACION Y ANALISIS'!B36 -> Eventos naturales tales como lluvias, inundaciones y sequias entre otros | H32: Suspensión o retraso en la ejecución del contrato, afectación a la infraestructura o bienes asociados al proyecto, incremento de costos por actividades de recuperación o reprogramación, y posible incumplimiento de los plazos contractuales establecidos. | I32: 3 | J32: 4 | K32: =+I32+J32 -> 7 | L32: =IF(K32<=4,"BAJO",IF(K32=5,"MEDIO",IF(K32=6,"ALTO",IF(K32=7,"ALTO","EXTREMO")))) -> ALTO
B33: EJECUCIÓN | C33: ='IDENTIFICACION Y ANALISIS'!B37 -> Incumplimiento derivado del trámite de los permisos con autoridades ambientales, la obtención de los mismos, paz y salvos | H33: La entidad también puede ser objeto de sanciones por parte de los entes de control, por el incumplimiento en los pagos, especialmente si se demuestra negligencia o falta de gestión. | I33: 1 | J33: 5 | K33: =+I33+J33 -> 6 | L33: =IF(K33<=4,"BAJO",IF(K33=5,"MEDIO",IF(K33=6,"ALTO",IF(K33=7,"ALTO","EXTREMO")))) -> ALTO
B36: Probabilidad | C36: Catagoria | E36: Valoración | G36: Impacto | H36: Categoria | I36: Valoración
C37: Raro (puede ocurrir excepcionalmente) | E37: 1 | H37: Insignificante | I37: 1
C38: Improbable (puede ocurrir ocasionalmente) | E38: 2 | H38: Menor | I38: 2
C39: Posible (puede ocurrir en cualquier momento futuro) | E39: 3 | H39: Moderado | I39: 3
C40: Probable (probablemente va a ocurrir) | E40: 4 | H40: Mayor | I40: 4
C41: Casi cierto (ocurre en la mayoria de circunstancias) | E41: 5 | H41: Catastrófico | I41: 5
C43: Valoración del Riesgo
C44: Calificación Cualitativa | F44: Obstruye la ejecución del contrato de manera intrascendente. | G44: Dificulta la ejecución del contrato de manera baja, aplicando medidas mínimas se pueden lograr el objeto contractual | H44: Afecta la ejecución del contrato sin alterar el beneficio para las partes | I44: Obstruye la ejecución del contrato sustancialmente pero aun así permite la consecución del objeto contractual | K44: Perturba la ejecución del contrato de manera grave imposibilitando la consecución del objeto contractual.
C45: Calificación Monetaria | F45: Los sobrecostos no representan más del uno por ciento (1%) del valor del contrato. | G45: Los sobrecostos no representan más del cinco por ciento (5%) del valor del contrato. | H45: Genera un impacto sobre el valor del contrato entre el cinco (5%) y el quince por ciento (15%). | I45: Incrementa el valor del contrato entre el quince (15%) y el treinta por ciento (30%). | K45: Impacto sobre el valor del contrato en más del treinta por ciento (30%).
C46: Categoría | E46: Valoración | F46: Insignificante | G46: Menor | H46: Moderado | I46: Mayor | K46: Catastrófico
F47: 1 | G47: 2 | H47: 3 | I47: 4 | K47: 5
C48: Raro (puede ocurrir excepcionalmente) | E48: 1 | F48: 2 | G48: 3 | H48: 4 | I48: 5 | K48: 6
...

Sheet EVALUACION CON CONTROLES
C2: MATRIZ DE RIESGOS DE CONTRATACIÓN | Q2: Código: GCO-GCI-F164 Versión: 02 Vigencia: 01 de diciembre de 2022 Caso HOLA: 280117
B6: =+EVALUACION!B6 -> Objeto Contractual: CONTRATAR LOS SERVICIOS DE UN CABILDO INDÍGENA DE LA LOCALIDAD DE BOSA PARA VISIBILIZAR LAS PRÁCTICAS CULTURALES DEL DÍA INTERNACIONAL DE LOS PUEBLOS INDÍGENAS “ENCUENTROS DE SABERES LOCALES BOSA
B7: INSTRUCCIONES PARA LA IDENTIFICACIÓN, ANALISIS, EVALUACIÓN , ASIGNACIÓN Y TRATAMIENTO DE RIESGOS EN LA CONTRATACIÓN
B8: 1) Describa el tratamiento/controles a ser implementados
B9: 2) Diligencie la información de las siguientes columnas, de acuerdo con el análisis realizado a cada riesgo: Afecta el equilibrio económico, persona responsable de implementar el tratamiento, fecha estimada de inicio del tratamiento, fecha estimada en la que se completa el tratamiento, cómo se realiza el monitoreo y la periodicidad.
B10: 3) Continúe en la hoja de "ASIGNACIÓN Y TRATAMIENTO" y diligencie las siguientes casillas: A quien se le asigna y el porcentaje que asume cada una de las partes en caso de que sea compartido.
B15: ETAPA | C15: Descripción (Que puede pasar y, cómo puede ocurrir) | G15: Tratamiento/Controles a ser implementados | I15: Probabilidad de Ocurrencia | J15: Impacto | K15: Calificación Total | L15: Prioridad | M15: ¿Afecta el equilibrio económico del contrato? | N15: Persona responsable por implementar el tratamiento | O15: Fecha estimada en que se inicia el tratamiento | P15: Fecha estimada en que se completa el tratamiento | Q15: ¿Cómo se realiza el monitoreo? | R15: Periodicidad ¿Cuándo?
B16: =EVALUACION!B17 -> PLANEACIÓN | C16: =EVALUACION!C17 -> Inadecuada descripción del bien o servicio requerido | G16: 1. Participación de personal técnico especializado en la elaboración de los estudios previos. 2. Definición clara, precisa y detallada del objeto contractual, especificaciones y condiciones. 3. Revisión de términos de referencia o fichas técnicas de procesos similares. 4. Validación jurídica y técnica del objeto y alcance del contrato. 5. Inclusión de anexos técnicos, planos o especificaciones cuando aplique. 6. Verificación de que la descripción permita la pluralidad de oferentes. 7. Documentación y archivo de los soportes que justifican la descripción adoptada. | I16: 1 | J16: 3 | K16: =+I16+J16 -> 4 | L16: =IF(K16<=4,"BAJO",IF(K16=5,"MEDIO",IF(K16=6,"ALTO",IF(K16=7,"ALTO","EXTREMO")))) -> BAJO | M16: SI | N16: PROFESIONALES DEL ÁREA DE GESTIÓN DEL DESARROLLO LOCAL DE BOSA | O16: En la etapa de redaccion de los documentos contractuales | P16: Hasta la publicacion de la documentacion del proceso | Q16: Evaluación técnica por parte del equipo especializado y revisión comparativa con procesos similares | R16: Durante la etapa de planeación
B17: =EVALUACION!B18 -> PLANEACIÓN | C17: =EVALUACION!C18 -> Ausencia de fundamentación de la justificación y conveniencia de la contratación | G17: 1, Verificar existencia de documento que justifique la contratación. 2. Exigir sustento técnico y jurídico claro. 3. Aprobar la justificación en comités competentes. 4. Evaluar y documentar alternativas. 5. Confirmar cumplimiento normativo. 6. Capacitar al personal sobre fundamentación. 7. Realizar auditorías y seguimiento. 8. Archivar toda la documentación soporte. | I17: =EVALUACION!I18 -> 1 | J17: 4 | K17: =+I17+J17 -> 5 | L17: =IF(K17<=4,"BAJO",IF(K17=5,"MEDIO",IF(K17=6,"ALTO",IF(K17=7,"ALTO","EXTREMO")))) -> MEDIO | M17: NO | N17: PROFESIONALES DEL ÁREA DE GESTIÓN DEL DESARROLLO LOCAL DE BOSA | O17: En la etapa de redaccion de los documentos contractuales | P17: Hasta la publicacion de la documentacion del proceso | Q17: Revisión del documento de justificación por comité jurídico-técnico antes de su aprobación | R17: Durante la etapa de planeación
B18: =EVALUACION!B19 -> CONTRATACIÓN | C18: =EVALUACION!C19 -> Riesgo de que no se firme el contrato. | G18: 1. Verificar anticipadamente la capacidad jurídica y financiera del proponente adjudicatario. 2. Incluir en pliegos cláusula de sanción por no suscripción injustificada del contrato. 3. Exigir póliza de seriedad de la oferta, conforme al Decreto 1082 de 2015. 4. Establecer plazos razonables y claros para la firma del contrato. 5. Realizar seguimiento inmediato al acto de adjudicación para gestionar la suscripción. 7. Mantener lista de oferentes habilitados para posible adjudicación sucesiva. 8. Capacitar al equipo sobre mecanismos legales ante el incumplimiento en la firma. | I18: =EVALUACION!I19 -> 1 | J18: 3 | K18: =+I18+J18 -> 4 | L18: =IF(K18<=4,"BAJO",IF(K18=5,"MEDIO",IF(K18=6,"ALTO",IF(K18=7,"ALTO","EXTREMO")))) -> BAJO | M18: NO | N18: PROFESIONALES DEL ÁREA DE GESTIÓN DEL DESARROLLO LOCAL DE BOSA | O18: Desde el cierre del proceso de selección hasta la firma del contrato. | P18: Hasta la firma del contrato | Q18: Seguimiento jurídico y contractual al cumplimiento de requisitos para la suscripción | R18: Durante la etapa de ejecución
B19: =EVALUACION!B20 -> CONTRATACIÓN | C19: =EVALUACION!C20 -> Falta de constitución o constitución tardía de la garantía única. Aceptación de garantías que no se ajustan a lo contemplado en el contrato | G19: 1. Incluir en el pliego requisitos claros y precisos sobre la garantía única (Decreto 1082 de 2015). 2. Exigir la presentación de la garantía antes de la firma del contrato como requisito obligatorio. 3. Verificar que las garantías cumplan con lo establecido en los pliegos y el Estatuto Contractual. 4. Asignar un responsable para revisar jurídicamente cada garantía antes de su aceptación. 5. Implementar lista de chequeo para validar contenido, vigencia y cobertura de las pólizas. | I19: 1 | J19: =EVALUACION!J20 -> 4 | K19: =+I19+J19 -> 5 | L19: =IF(K19<=4,"BAJO",IF(K19=5,"MEDIO",IF(K19=6,"ALTO",IF(K19=7,"ALTO","EXTREMO")))) -> MEDIO | M19: NO | N19: PROFESIONALES DEL ÁREA DE GESTIÓN DEL DESARROLLO LOCAL DE BOSA | O19: Desde la adjudicación del contrato o acto de aceptación de la oferta. | P19: hasta la suscripción del contrato | Q19: Verificación previa por supervisión jurídica y revisión documental antes de la firma | R19: Durante la etapa de ejecución
B20: =EVALUACION!B21 -> CONTRATACIÓN | C20: =EVALUACION!C21 -> Falta de solicitud o solicitud tardía del registro presupuestal | G20: 1. Establecer como requisito obligatorio la obtención del registro presupuestal antes de la firma del contrato. 2. Incluir en el cronograma del proceso la fecha límite para la solicitud del registro presupuestal. 3. Asignar un responsable del trámite ante la oficina de presupuesto. 4. Implementar alertas automáticas y seguimientos internos sobre el estado del trámite. 5. Capacitar al personal en los procedimientos y plazos establecidos por la normatividad presupuestal (Estatuto Orgánico del Presupuesto). | I20: =EVALUACION!I21 -> 1 | J20: 4 | K20: =+I20+J20 -> 5 | L20: =IF(K20<=4,"BAJO",IF(K20=5,"MEDIO",IF(K20=6,"ALTO",IF(K20=7,"ALTO","EXTREMO")))) -> MEDIO | M20: SI | N20: PROFESIONALES DEL ÁREA DE GESTIÓN DEL DESARROLLO LOCAL DE BOSA | O20: Desde la publicación del informe de evaluación o recomendación de adjudicación. | P20: Desde la publicación del informe de evaluación o recomendaciónde adjudicación. | Q20: Revisión del cronograma del proceso y control por el área financiera | R20: Durante la etapa de ejecución
B21: =EVALUACION!B22 -> EJECUCIÓN | C21: =EVALUACION!C22 -> Fluctuaciones del valor de la moneda | G21: 1. Análisis financiero previo con escenarios de variación cambiaria. 2. Cláusulas de ajuste de precios. 3. Contratación en moneda local cuando sea posible. 4. Seguimiento continuo del comportamiento del mercado cambiario. 5. Reserva presupuestal con margen de contingencia. 6. Uso de coberturas cambiarias o seguros. 7. Asesoría financiera especializada. 8. Evaluación de proveedores nacionales y extranjeros. | I21: 1 | J21: 4 | K21: =+I21+J21 -> 5 | L21: =IF(K21<=4,"BAJO",IF(K21=5,"MEDIO",IF(K21=6,"ALTO",IF(K21=7,"ALTO","EXTREMO")))) -> MEDIO | M21: SI | N21: SUPERVISOR / CONTRATISTA | O21: Desde la planeación técnica y financiera del proceso contractual. | P21: Hasta la terminacion del contrato | Q21: Monitoreo del mercado cambiario, revisión presupuestal | R21: Durante la ejecución del contrato
B22: =EVALUACION!B23 -> EJECUCIÓN | C22: =EVALUACION!C23 -> Cambio de precios en factores de producción. | G22: 1. Estudios de mercado actualizados. 2. Cláusulas de ajuste de precios. 3. Reserva presupuestal con margen de contingencia. 4. Contratación con precios fijos cuando sea posible. 5. Monitoreo del mercado de insumos clave. 6. Diversificación de proveedores. 7. Análisis de riesgos contractuales y económicos. 8. Acuerdos marco o contratos a largo plazo. | I22: 1 | J22: 4 | K22: =+I22+J22 -> 5 | L22: =IF(K22<=4,"BAJO",IF(K22=5,"MEDIO",IF(K22=6,"ALTO",IF(K22=7,"ALTO","EXTREMO")))) -> MEDIO | M22: SI | N22: SUPERVISOR / CONTRATISTA | O22: Desde inicio de la ejecucion del contrato | P22: Hasta la terminacion del contrato | Q22: Seguimiento a los precios del mercado de insumos clave mediante análisis comparativo y reportes del contratista | R22: Durante la ejecución del contrato
B23: =EVALUACION!B24 -> EJECUCIÓN | C23: =EVALUACION!C24 -> Variación de los precios del mercado | G23: 1. Estudios de mercado frecuentes. 2. Cláusulas de ajuste de precios. 3. Definir precios unitarios revisables. 4. Reserva presupuestal para variaciones. 5. Análisis de sensibilidad económica. 6. Compras anticipadas o por volumen. 7. Seguimiento del mercado durante la ejecución. 8. Diversificación de proveedores o productos. | I23: 1 | J23: 4 | K23: =+I23+J23 -> 5 | L23: =IF(K23<=4,"BAJO",IF(K23=5,"MEDIO",IF(K23=6,"ALTO",IF(K23=7,"ALTO","EXTREMO")))) -> MEDIO | M23: SI | N23: SUPERVISOR / CONTRATISTA | O23: Desde inicio de la ejecucion del contrato | P23: Hasta la terminacion del contrato | Q23: Revisión periódica de estudios de mercado, análisis de precios unitarios y control de desviaciones presupuestales | R23: Durante la ejecución del contrato
B24: =EVALUACION!B25 -> EJECUCIÓN | C24: =EVALUACION!C25 -> Factores políticos o macroeconómicos. | G24: 1. Análisis del entorno político y macroeconómico. 2. Escenarios de riesgo con planes de contingencia. 3. Asesoría jurídica y financiera especializada. 4. Seguimiento a políticas públicas y reformas. 5. Contratos flexibles ante cambios normativos. 6. Gestión presupuestal prudente. 7. Participación en espacios de gobernanza. 8. Diversificación de fuentes de financiación. | I24: 1 | J24: 3 | K24: =+I24+J24 -> 4 | L24: =IF(K24<=4,"BAJO",IF(K24=5,"MEDIO",IF(K24=6,"ALTO",IF(K24=7,"ALTO","EXTREMO")))) -> BAJO | M24: SI | N24: SUPERVISOR / CONTRATISTA | O24: Desde inicio de la ejecucion del contrato | P24: Hasta la terminacion del contrato | Q24: Seguimiento al entorno político y económico mediante informes de análisis institucional y asesoría especializada | R24: Durante la ejecución del contrato
B25: =EVALUACION!B26 -> EJECUCIÓN | C25: =EVALUACION!C26 -> Variación en la disponibilidad de los insumos necesarios para prestar los servicios. | G25: 1. Planeación anticipada de compras. 2. Contratos con proveedores confiables. 3. Monitoreo permanente del inventario y mercado. 4. Inventarios de seguridad o stock mínimo. 5. Diversificación de proveedores. 6. Seguimiento a alertas del mercado. 7. Evaluaciones periódicas de riesgos logísticos. 8. Plan de contingencia operativo ante escasez. | I25: 1 | J25: =EVALUACION!J26 -> 3 | K25: =+I25+J25 -> 4 | L25: =IF(K25<=4,"BAJO",IF(K25=5,"MEDIO",IF(K25=6,"ALTO",IF(K25=7,"ALTO","EXTREMO")))) -> BAJO | M25: SI | N25: SUPERVISOR / CONTRATISTA | O25: Desde inicio de la ejecucion del contrato | P25: Hasta la terminacion del contrato | Q25: Verificación de inventarios, cronograma de suministros, y seguimiento a proveedores | R25: Durante la ejecución del contrato
B26: =EVALUACION!B27 -> EJECUCIÓN | C26: =EVALUACION!C27 -> Incumplimiento de compromisos adquiridos por el contratista seleccionado con sus subcontratistas, suministradores de bienes y servicios. | G26: 1. Verificación de capacidad operativa y financiera del contratista. 2. Solicitar plan de subcontratación y suministro. 3. Cláusulas claras que responsabilicen al contratista. 4. Revisión previa de subcontratos por la entidad. 5. Seguimiento a la ejecución de subcontratos. 6. Mecanismos de reporte obligatorio del contratista. 7. Exigir garantías de cumplimiento ampliadas. 8. Aplicación de sanciones o retenciones. | I26: 1 | J26: =EVALUACION!J27 -> 3 | K26: =+I26+J26 -> 4 | L26: =IF(K26<=4,"BAJO",IF(K26=5,"MEDIO",IF(K26=6,"ALTO",IF(K26=7,"ALTO","EXTREMO")))) -> BAJO | M26: SI | N26: SUPERVISOR / CONTRATISTA | O26: Desde inicio de la ejecucion del contrato | P26: Hasta la terminacion del contrato | Q26: Supervisión del cumplimiento contractual, verificación de subcontratos y entregables | R26: Durante la ejecución del contrato
B27: =EVALUACION!B28 -> EJECUCIÓN | C27: =EVALUACION!C28 -> Incumplimiento de la administración en los pagos. | G27: 1. Planeación presupuestal adecuada. 2. CDP y RPC previo a la firma del contrato. 3. Cronograma de pagos claro en el contrato. 4. Gestión oportuna de trámites de pago. 5. Monitoreo del estado de cuentas por pagar. 6. Sistema de alertas internas para vencimientos. 7. Conciliación entre áreas financiera, jurídica y técnica. 8. Capacitación sobre ejecución financiera del contrato. | I27: 1 | J27: =EVALUACION!J28 -> 3 | K27: =+I27+J27 -> 4 | L27: =IF(K27<=4,"BAJO",IF(K27=5,"MEDIO",IF(K27=6,"ALTO",IF(K27=7,"ALTO","EXTREMO")))) -> BAJO | M27: SI | N27: PROFESIONALES DEL ÁREA DE GESTIÓN DEL DESARROLLO LOCAL DE BOSA | O27: Desde inicio de la ejecucion del contrato | P27: Hasta la terminacion del contrato | Q27: Monitoreo del cronograma de pagos y estado de cuentas por pagar | R27: Durante la ejecución del contrato
B28: =EVALUACION!B29 -> EJECUCIÓN | C28: =EVALUACION!C29 -> Cambios en el marco regulatorio o normatividad aplicable al proyecto. | G28: 1. Monitoreo jurídico y normativo constante. 2. Asesoría legal especializada para implementación oportuna. 3. Análisis de impacto regulatorio en la planeación. 4. Cláusulas contractuales de revisión o ajuste. 5. Participación en consultas públicas o gremios sectoriales. 6. Capacitación continua al equipo técnico y jurídico. 7. Diseños operativos adaptables a nuevas exigencias. 8. Reserva presupuestal para mitigar efectos normativos. | I28: =EVALUACION!I29 -> 1 | J28: =EVALUACION!J29 -> 2 | K28: =+I28+J28 -> 3 | L28: =IF(K28<=4,"BAJO",IF(K28=5,"MEDIO",IF(K28=6,"ALTO",IF(K28=7,"ALTO","EXTREMO")))) -> BAJO | M28: SI | N28: SUPERVISOR / CONTRATISTA | O28: Desde inicio de la ejecucion del contrato | P28: Hasta la terminacion del contrato | Q28: Revisión normativa constante, participación institucional y asesoría legal | R28: Durante la ejecución del contrato
B29: =EVALUACION!B30 -> EJECUCIÓN | C29: =EVALUACION!C30 -> Variación de tasas o tarifas | G29: 1. Monitoreo de tasas y tarifas oficiales reguladas. 2. Análisis financiero con escenarios de variación. 3. Cláusulas de ajuste o revisión contractual. 4. Reserva presupuestal para contingencias tarifarias. 5. Asesoría contable y jurídica especializada. 6. Negociación con proveedores de servicios. 7. Estrategias de eficiencia para mitigar incrementos. 8. Actualización periódica del sistema de costos del proyecto. | I29: =EVALUACION!I30 -> 2 | J29: 3 | K29: =+I29+J29 -> 5 | L29: =IF(K29<=4,"BAJO",IF(K29=5,"MEDIO",IF(K29=6,"ALTO",IF(K29=7,"ALTO","EXTREMO")))) -> MEDIO | M29: SI | N29: SUPERVISOR / CONTRATISTA | O29: Desde inicio de la ejecucion del contrato | P29: Hasta la terminacion del contrato | Q29: Revisión periódica de tarifas oficiales y asesoría contable/financiera | R29: Durante la ejecución del contrato
B30: =EVALUACION!B31 -> EJECUCIÓN | C30: =EVALUACION!C31 -> Riesgo geológico | G30: 1. Estudios geotécnicos y geológicos detallados en la planificación. 2. Ubicación estratégica del proyecto fuera de zonas de alto riesgo. 3. Diseño estructural adaptado a condiciones del terreno. 4. Supervisión técnica especializada durante la obra. 5. Monitoreo constante del terreno con sensores o inspecciones. 6. Planes de contingencia y evacuación definidos. 7. Coordinación con autoridades como el SGC o UNGRD. 8. Pólizas de seguro que cubran eventos geológicos. | I30: 1 | J30: =EVALUACION!J31 -> 4 | K30: =+I30+J30 -> 5 | L30: =IF(K30<=4,"BAJO",IF(K30=5,"MEDIO",IF(K30=6,"ALTO",IF(K30=7,"ALTO","EXTREMO")))) -> MEDIO | M30: SI | N30: SUPERVISOR / CONTRATISTA | O30: Desde inicio de la ejecucion del contrato | P30: Hasta la terminacion del contrato | Q30: Supervisión especializada, informes técnicos y sensores | R30: Durante la ejecución del contrato
B31: =EVALUACION!B32 -> EJECUCIÓN | C31: =EVALUACION!C32 -> Eventos naturales tales como lluvias, inundaciones y sequias entre otros | G31: 1. Estudios climáticos e hidrológicos previos. 2. Planeación del cronograma considerando temporadas críticas. 3. Diseños adaptados a condiciones climáticas extremas. 4. Planes de contingencia con protocolos definidos. 5. Monitoreo meteorológico con alertas tempranas (IDEAM). 6. Coordinación con autoridades ambientales y de riesgo. 7. Suspensión preventiva de actividades en condiciones adversas. 8. Contratación de pólizas que cubran afectaciones naturales. | I31: 1 | J31: =EVALUACION!J32 -> 4 | K31: =+I31+J31 -> 5 | L31: =IF(K31<=4,"BAJO",IF(K31=5,"MEDIO",IF(K31=6,"ALTO",IF(K31=7,"ALTO","EXTREMO")))) -> MEDIO | M31: SI | N31: SUPERVISOR / CONTRATISTA | O31: Desde inicio de la ejecucion del contrato | P31: Hasta la terminacion del contrato | Q31: Alertas meteorológicas (IDEAM) y protocolos de contingencia | R31: Durante la ejecución del contrato
B32: =EVALUACION!B33 -> EJECUCIÓN | C32: =EVALUACION!C33 -> Incumplimiento derivado del trámite de los permisos con autoridades ambientales, la obtención de los mismos, paz y salvos | G32: 1. Identificación temprana de permisos y requisitos. 2. Asignación de responsables para la gestión de trámites. 3. Cronograma con tiempos realistas para trámites. 4. Relación activa con autoridades ambientales. 5. Asesoría técnica y jurídica especializada. 6. Gestión anticipada de la documentación. 7. Seguimiento permanente al estado de los trámites. 8. No iniciar actividades hasta contar con permisos firmes. | I32: 1 | J32: 4 | K32: =+I32+J32 -> 5 | L32: =IF(K32<=4,"BAJO",IF(K32=5,"MEDIO",IF(K32=6,"ALTO",IF(K32=7,"ALTO","EXTREMO")))) -> MEDIO | M32: SI | N32: SUPERVISOR / CONTRATISTA | O32: Desde inicio de la ejecucion del contrato | P32: Hasta la terminacion del contrato | Q32: Seguimiento a cronogramas de trámite y verificación con autoridades | R32: Durante la ejecución del contrato
C34: Categoria del Riesgo | H34: Impacto del Riesgo
B35: Probabilidad | C35: Catagoria | F35: Valoración | H35: Categoria | J35: Valoración | N35: Categoria del Riesgo
C36: Raro (puede ocurrir excepcionalmente) | F36: 1 | H36: Insignificante | J36: 1 | N36: Valoración del Riesgo | P36: Categoría
C37: Improbable (puede ocurrir ocasionalmente) | F37: 2 | H37: Menor | J37: 2 | N37: 8, 9 y 10 | P37: Riesgo extremo
C38: Posible (puede ocurrir en cualquier momento futuro) | F38: 3 | H38: Moderado | J38: 3 | N38: 6 y 7 | P38: Riesgo alto
C39: Probable (probablemente va a ocurrir) | F39: 4 | H39: Mayor | J39: 4 | N39: 5 | P39: Riesgo medio
C40: Casi cierto (ocurre en la mayoria de circunstancias) | F40: 5 | H40: Catastrófico | J40: 5 | N40: 2, 3 y 4 | P40: Riesgo bajo
C42: Valoración del Riesgo
C43: Calificación Cualitativa | G43: Obstruye la ejecución del contrato de manera intrascendente. | I43: Dificulta la ejecución del contrato de manera baja, aplicando medidas mínimas se pueden lograr el objeto contractual | L43: Afecta la ejecución del contrato sin alterar el beneficio para las partes | N43: Obstruye la ejecución del contrato sustancialmente pero aun así permite la consecución del objeto contractual | P43: Perturba la ejecución del contrato de manera grave imposibilitando la consecución del objeto contractual.
C44: Calificación Monetaria | G44: Los sobrecostos no representan más del uno por ciento (1%) del valor del contrato. | I44: Los sobrecostos no representan más del cinco por ciento (5%) del valor del contrato. | L44: Genera un impacto sobre el valor del contrato entre el cinco (5%) y el quince por ciento (15%). | N44: Incrementa el valor del contrato entre el quince (15%) y el treinta por ciento (30%). | P44: Impacto sobre el valor del contrato en más del treinta por ciento (30%).
C45: Catagoria | F45: Valoración | G45: Insignificante | I45: Menor | L45: Moderado | N45: Mayor | P45: Catastrófico
G46: 1 | I46: 2 | L46: 3 | N46: 4 | P46: 5
C47: Raro (puede ocurrir excepcionalmente) | F47: 1 | G47: 2 | I47: 3 | L47: 4 | N47: 5 | P47: 6
C48: Improbable (puede ocurrir ocasionalmente) | F48: 2 | G48: 3 | I48: 4 | L48: 5 | N48: 6 | P48: 7
C49: Posible (puede ocurrir en cualquier momento futuro) | F49: 3 | G49: 4 | I49: 5 | L49: 6 | N49: 7 | P49: 8
C50: Probable (probablemente va a ocurrir) | F50: 4 | G50: 5 | I50: 6 | L50: 7 | N50: 8 | P50: 9
...

Sheet ASIGNACION Y TRATAMIENTO
C2: MATRIZ DE RIESGOS DE CONTRATACIÓN | W2: Código: GCO-GCI-F164 Versión: 02 Vigencia: 01 de diciembre de 2022 Caso HOLA: 280117
B6: =+EVALUACION!B6 -> Objeto Contractual: CONTRATAR LOS SERVICIOS DE UN CABILDO INDÍGENA DE LA LOCALIDAD DE BOSA PARA VISIBILIZAR LAS PRÁCTICAS CULTURALES DEL DÍA INTERNACIONAL DE LOS PUEBLOS INDÍGENAS “ENCUENTROS DE SABERES LOCALES BOSA
B7: Esta matriz es un documento anexo del Estudio Previo
B10: No | C10: Descripción (Que puede pasar y, cómo puede ocurrir) | D10: Etapa | E10: Clase | F10: Fuente | G10: Consecuencias de la ocurrencia del evento | H10: Probabilidad | I10: Impacto | J10: Calificación total | K10: Prioridad | L10: ¿A quien se le asigna? | M10: % | N10: Tratamiento/Controles a ser implementados | O10: Probabilidad | P10: Impacto | Q10: Calificación total | R10: Prioridad | S10: ¿Afecta el equilibrio económico del contrato? | T10: Persona responsable por implementar el tratamiento | U10: Fecha estimada en que se inicia el tratamiento | V10: Fecha estimada en que se completa el tratamiento | W10: ¿Cómo se realiza el monitoreo | X10: Periodicidad ¿Cuándo?
B11: 1 | C11: =EVALUACION!C17 -> Inadecuada descripción del bien o servicio requerido | D11: =EVALUACION!B17 -> PLANEACIÓN | E11: ='IDENTIFICACION Y ANALISIS'!D19 -> Estatal | F11: ='IDENTIFICACION Y ANALISIS'!E19 -> Interno | G11: =EVALUACION!H17 -> Contratación de bienes o servicios que no satisfacen las necesidades de la entidad, posibles sobrecostos, modificaciones contractuales, retrasos en la ejecución, insatisfacción de los usuarios finales y riesgo de responsabilidad fiscal o disciplinaria. | H11: =EVALUACION!I17 -> 1 | I11: =EVALUACION!J17 -> 4 | J11: =EVALUACION!K17 -> 5 | K11: =EVALUACION!L17 -> MEDIO | L11: SDG | M11: 100 | N11: ='EVALUACION CON CONTROLES'!G16 -> 1. Participación de personal técnico especializado en la elaboración de los estudios previos. 2. Definición clara, precisa y detallada del objeto contractual, especificaciones y condiciones. 3. Revisión de términos de referencia o fichas técnicas de procesos similares. 4. Validación jurídica y técnica del objeto y alcance del contrato. 5. Inclusión de anexos técnicos, planos o especificaciones cuando aplique. 6. Verificación de que la descripción permita la pluralidad de oferentes. 7. Documentación y archivo de los soportes que justifican la descripción adoptada. | O11: ='EVALUACION CON CONTROLES'!I16 -> 1 | P11: ='EVALUACION CON CONTROLES'!J16 -> 3 | Q11: ='EVALUACION CON CONTROLES'!K16 -> 4 | R11: =+'EVALUACION CON CONTROLES'!L16 -> BAJO | S11: ='EVALUACION CON CONTROLES'!M16 -> SI | T11: =+'EVALUACION CON CONTROLES'!N16 -> PROFESIONALES DEL ÁREA DE GESTIÓN DEL DESARROLLO LOCAL DE BOSA | U11: =+'EVALUACION CON CONTROLES'!O16 -> En la etapa de redaccion de los documentos contractuales | V11: =+'EVALUACION CON CONTROLES'!P16 -> Hasta la publicacion de la documentacion del proceso | W11: =+'EVALUACION CON CONTROLES'!Q16 -> Evaluación técnica por parte del equipo especializado y revisión comparativa con procesos similares | X11: =+'EVALUACION CON CONTROLES'!R16 -> Durante la etapa de planeación
B12: 2 | C12: =EVALUACION!C18 -> Ausencia de fundamentación de la justificación y conveniencia de la contratación | D12: =EVALUACION!B18 -> PLANEACIÓN | E12: ='IDENTIFICACION Y ANALISIS'!D20 -> Estatal | F12: ='IDENTIFICACION Y ANALISIS'!E20 -> Interno | G12: =EVALUACION!H18 -> Falta de justificación para adelantar el proceso contractual | H12: =EVALUACION!I18 -> 1 | I12: =EVALUACION!J18 -> 5 | J12: =EVALUACION!K18 -> 6 | K12: =EVALUACION!L18 -> ALTO | L12: SDG | M12: 100 | N12: ='EVALUACION CON CONTROLES'!G17 -> 1, Verificar existencia de documento que justifique la contratación. 2. Exigir sustento técnico y jurídico claro. 3. Aprobar la justificación en comités competentes. 4. Evaluar y documentar alternativas. 5. Confirmar cumplimiento normativo. 6. Capacitar al personal sobre fundamentación. 7. Realizar auditorías y seguimiento. 8. Archivar toda la documentación soporte. | O12: ='EVALUACION CON CONTROLES'!I17 -> 1 | P12: ='EVALUACION CON CONTROLES'!J17 -> 4 | Q12: ='EVALUACION CON CONTROLES'!K17 -> 5 | R12: =+'EVALUACION CON CONTROLES'!L17 -> MEDIO | S12: ='EVALUACION CON CONTROLES'!M17 -> NO | T12: =+'EVALUACION CON CONTROLES'!N17 -> PROFESIONALES DEL ÁREA DE GESTIÓN DEL DESARROLLO LOCAL DE BOSA | U12: =+'EVALUACION CON CONTROLES'!O17 -> En la etapa de redaccion de los documentos contractuales | V12: =+'EVALUACION CON CONTROLES'!P17 -> Hasta la publicacion de la documentacion del proceso | W12: =+'EVALUACION CON CONTROLES'!Q17 -> Revisión del documento de justificación por comité jurídico-técnico antes de su aprobación | X12: =+'EVALUACION CON CONTROLES'!R17 -> Durante la etapa de planeación
B13: 3 | C13: =EVALUACION!C19 -> Riesgo de que no se firme el contrato. | D13: =EVALUACION!B19 -> CONTRATACIÓN | E13: ='IDENTIFICACION Y ANALISIS'!D22 -> Especifico | F13: ='IDENTIFICACION Y ANALISIS'!E22 -> Interno | G13: =EVALUACION!H19 -> Retraso en la ejecución del proyecto, necesidad de iniciar nuevo proceso de selección o acudir al segundo proponente, posibles afectaciones en la prestación del servicio, incremento de costos y pérdida de confianza en la gestión contractual de la entidad. | H13: =EVALUACION!I19 -> 1 | I13: =EVALUACION!J19 -> 2 | J13: =EVALUACION!K19 -> 3 | K13: =EVALUACION!L19 -> BAJO | L13: SDG | M13: 100 | N13: ='EVALUACION CON CONTROLES'!G18 -> 1. Verificar anticipadamente la capacidad jurídica y financiera del proponente adjudicatario. 2. Incluir en pliegos cláusula de sanción por no suscripción injustificada del contrato. 3. Exigir póliza de seriedad de la oferta, conforme al Decreto 1082 de 2015. 4. Establecer plazos razonables y claros para la firma del contrato. 5. Realizar seguimiento inmediato al acto de adjudicación para gestionar la suscripción. 7. Mantener lista de oferentes habilitados para posible adjudicación sucesiva. 8. Capacitar al equipo sobre mecanismos legales ante el incumplimiento en la firma. | O13: ='EVALUACION CON CONTROLES'!I18 -> 1 | P13: ='EVALUACION CON CONTROLES'!J18 -> 3 | Q13: ='EVALUACION CON CONTROLES'!K18 -> 4 | R13: =+'EVALUACION CON CONTROLES'!L18 -> BAJO | S13: ='EVALUACION CON CONTROLES'!M18 -> NO | T13: =+'EVALUACION CON CONTROLES'!N18 -> PROFESIONALES DEL ÁREA DE GESTIÓN DEL DESARROLLO LOCAL DE BOSA | U13: =+'EVALUACION CON CONTROLES'!O18 -> Desde el cierre del proceso de selección hasta la firma del contrato. | V13: =+'EVALUACION CON CONTROLES'!P18 -> Hasta la firma del contrato | W13: =+'EVALUACION CON CONTROLES'!Q18 -> Seguimiento jurídico y contractual al cumplimiento de requisitos para la suscripción | X13: =+'EVALUACION CON CONTROLES'!R18 -> Durante la etapa de ejecución
B14: 4 | C14: =EVALUACION!C20 -> Falta de constitución o constitución tardía de la garantía única. Aceptación de garantías que no se ajustan a lo contemplado en el contrato | D14: =EVALUACION!B20 -> CONTRATACIÓN | E14: ='IDENTIFICACION Y ANALISIS'!D23 -> Especifico | F14: ='IDENTIFICACION Y ANALISIS'!E23 -> Externo | G14: =EVALUACION!H20 -> Riesgo de inicio de ejecución sin respaldo contractual, exposición de la entidad a pérdidas económicas ante incumplimientos, imposibilidad de hacer efectiva la garantía, vulneración del principio de responsabilidad y posibles sanciones disciplinarias o fiscales a los responsables. | H14: =EVALUACION!I20 -> 3 | I14: =EVALUACION!J20 -> 4 | J14: =EVALUACION!K20 -> 7 | K14: =EVALUACION!L20 -> ALTO | L14: CONTRATISTA Y SDG | M14: 100 | N14: ='EVALUACION CON CONTROLES'!G19 -> 1. Incluir en el pliego requisitos claros y precisos sobre la garantía única (Decreto 1082 de 2015). 2. Exigir la presentación de la garantía antes de la firma del contrato como requisito obligatorio. 3. Verificar que las garantías cumplan con lo establecido en los pliegos y el Estatuto Contractual. 4. Asignar un responsable para revisar jurídicamente cada garantía antes de su aceptación. 5. Implementar lista de chequeo para validar contenido, vigencia y cobertura de las pólizas. | O14: ='EVALUACION CON CONTROLES'!I19 -> 1 | P14: ='EVALUACION CON CONTROLES'!J19 -> 4 | Q14: ='EVALUACION CON CONTROLES'!K19 -> 5 | R14: =+'EVALUACION CON CONTROLES'!L19 -> MEDIO | S14: ='EVALUACION CON CONTROLES'!M19 -> NO | T14: =+'EVALUACION CON CONTROLES'!N19 -> PROFESIONALES DEL ÁREA DE GESTIÓN DEL DESARROLLO LOCAL DE BOSA | U14: =+'EVALUACION CON CONTROLES'!O19 -> Desde la adjudicación del contrato o acto de aceptación de la oferta. | V14: =+'EVALUACION CON CONTROLES'!P19 -> hasta la suscripción del contrato | W14: =+'EVALUACION CON CONTROLES'!Q19 -> Verificación previa por supervisión jurídica y revisión documental antes de la firma | X14: =+'EVALUACION CON CONTROLES'!R19 -> Durante la etapa de ejecución
B15: 5 | C15: =EVALUACION!C21 -> Falta de solicitud o solicitud tardía del registro presupuestal | D15: =EVALUACION!B21 -> CONTRATACIÓN | E15: ='IDENTIFICACION Y ANALISIS'!D24 -> Especifico | F15: ='IDENTIFICACION Y ANALISIS'!E24 -> Interno | G15: =EVALUACION!H21 -> Proceso sin justificación de recursos | H15: =EVALUACION!I21 -> 1 | I15: =EVALUACION!J21 -> 5 | J15: =EVALUACION!K21 -> 6 | K15: =EVALUACION!L21 -> ALTO | L15: SDG | M15: 100 | N15: ='EVALUACION CON CONTROLES'!G20 -> 1. Establecer como requisito obligatorio la obtención del registro presupuestal antes de la firma del contrato. 2. Incluir en el cronograma del proceso la fecha límite para la solicitud del registro presupuestal. 3. Asignar un responsable del trámite ante la oficina de presupuesto. 4. Implementar alertas automáticas y seguimientos internos sobre el estado del trámite. 5. Capacitar al personal en los procedimientos y plazos establecidos por la normatividad presupuestal (Estatuto Orgánico del Presupuesto). | O15: ='EVALUACION CON CONTROLES'!I20 -> 1 | P15: ='EVALUACION CON CONTROLES'!J20 -> 4 | Q15: ='EVALUACION CON CONTROLES'!K20 -> 5 | R15: =+'EVALUACION CON CONTROLES'!L20 -> MEDIO | S15: ='EVALUACION CON CONTROLES'!M20 -> SI | T15: =+'EVALUACION CON CONTROLES'!N20 -> PROFESIONALES DEL ÁREA DE GESTIÓN DEL DESARROLLO LOCAL DE BOSA | U15: =+'EVALUACION CON CONTROLES'!O20 -> Desde la publicación del informe de evaluación o recomendación de adjudicación. | V15: =+'EVALUACION CON CONTROLES'!P20 -> Desde la publicación del informe de evaluación o recomendaciónde adjudicación. | W15: =+'EVALUACION CON CONTROLES'!Q20 -> Revisión del cronograma del proceso y control por el área financiera | X15: =+'EVALUACION CON CONTROLES'!R20 -> Durante la etapa de ejecución
B16: 6 | C16: =EVALUACION!C22 -> Fluctuaciones del valor de la moneda | D16: =EVALUACION!B22 -> EJECUCIÓN | E16: ='IDENTIFICACION Y ANALISIS'!D26 -> General | F16: ='IDENTIFICACION Y ANALISIS'!E26 -> Externo | G16: =EVALUACION!H22 -> Afecta la ejecución financiera y técnica del convenio | H16: =EVALUACION!I22 -> 2 | I16: =EVALUACION!J22 -> 5 | J16: =EVALUACION!K22 -> 7 | K16: =EVALUACION!L22 -> ALTO | L16: CONTRATISTA Y SDG | M16: 50 | N16: ='EVALUACION CON CONTROLES'!G21 -> 1. Análisis financiero previo con escenarios de variación cambiaria. 2. Cláusulas de ajuste de precios. 3. Contratación en moneda local cuando sea posible. 4. Seguimiento continuo del comportamiento del mercado cambiario. 5. Reserva presupuestal con margen de contingencia. 6. Uso de coberturas cambiarias o seguros. 7. Asesoría financiera especializada. 8. Evaluación de proveedores nacionales y extranjeros. | O16: ='EVALUACION CON CONTROLES'!I21 -> 1 | P16: ='EVALUACION CON CONTROLES'!J21 -> 4 | Q16: ='EVALUACION CON CONTROLES'!K21 -> 5 | R16: =+'EVALUACION CON CONTROLES'!L21 -> MEDIO | S16: ='EVALUACION CON CONTROLES'!M21 -> SI | T16: =+'EVALUACION CON CONTROLES'!N21 -> SUPERVISOR / CONTRATISTA | U16: =+'EVALUACION CON CONTROLES'!O21 -> Desde la planeación técnica y financiera del proceso contractual. | V16: =+'EVALUACION CON CONTROLES'!P21 -> Hasta la terminacion del contrato | W16: =+'EVALUACION CON CONTROLES'!Q21 -> Monitoreo del mercado cambiario, revisión presupuestal | X16: =+'EVALUACION CON CONTROLES'!R21 -> Durante la ejecución del contrato
B17: 7 | C17: =EVALUACION!C23 -> Cambio de precios en factores de producción. | D17: =EVALUACION!B23 -> EJECUCIÓN | E17: ='IDENTIFICACION Y ANALISIS'!D27 -> General | F17: ='IDENTIFICACION Y ANALISIS'!E27 -> Externo | G17: =EVALUACION!H23 -> Aumento en los costos de ejecución, posible desequilibrio económico del contrato, solicitud de reajustes o adiciones presupuestales, retrasos en la ejecución o riesgo de incumplimiento contractual por parte del contratista. | H17: =EVALUACION!I23 -> 3 | I17: =EVALUACION!J23 -> 3 | J17: =EVALUACION!K23 -> 6 | K17: =EVALUACION!L23 -> ALTO | L17: CONTRATISTA Y SDG | M17: 50 | N17: ='EVALUACION CON CONTROLES'!G22 -> 1. Estudios de mercado actualizados. 2. Cláusulas de ajuste de precios. 3. Reserva presupuestal con margen de contingencia. 4. Contratación con precios fijos cuando sea posible. 5. Monitoreo del mercado de insumos clave. 6. Diversificación de proveedores. 7. Análisis de riesgos contractuales y económicos. 8. Acuerdos marco o contratos a largo plazo. | O17: ='EVALUACION CON CONTROLES'!I22 -> 1 | P17: ='EVALUACION CON CONTROLES'!J22 -> 4 | Q17: ='EVALUACION CON CONTROLES'!K22 -> 5 | R17: =+'EVALUACION CON CONTROLES'!L22 -> MEDIO | S17: ='EVALUACION CON CONTROLES'!M22 -> SI | T17: =+'EVALUACION CON CONTROLES'!N22 -> SUPERVISOR / CONTRATISTA | U17: =+'EVALUACION CON CONTROLES'!O22 -> Desde inicio de la ejecucion del contrato | V17: =+'EVALUACION CON CONTROLES'!P22 -> Hasta la terminacion del contrato | W17: =+'EVALUACION CON CONTROLES'!Q22 -> Seguimiento a los precios del mercado de insumos clave mediante análisis comparativo y reportes del contratista | X17: =+'EVALUACION CON CONTROLES'!R22 -> Durante la ejecución del contrato
B18: 8 | C18: =EVALUACION!C24 -> Variación de los precios del mercado | D18: =EVALUACION!B24 -> EJECUCIÓN | E18: ='IDENTIFICACION Y ANALISIS'!D28 -> General | F18: ='IDENTIFICACION Y ANALISIS'!E28 -> Externo | G18: =EVALUACION!H24 -> Afectación del equilibrio económico del contrato, incremento en los costos de ejecución, posibles solicitudes de reajuste o modificación contractual, riesgo de incumplimiento del contratista y afectación en los plazos y calidad del proyecto. | H18: =EVALUACION!I24 -> 3 | I18: =EVALUACION!J24 -> 3 | J18: =EVALUACION!K24 -> 6 | K18: =EVALUACION!L24 -> ALTO | L18: CONTRATISTA Y SDG | M18: 50 | N18: ='EVALUACION CON CONTROLES'!G23 -> 1. Estudios de mercado frecuentes. 2. Cláusulas de ajuste de precios. 3. Definir precios unitarios revisables. 4. Reserva presupuestal para variaciones. 5. Análisis de sensibilidad económica. 6. Compras anticipadas o por volumen. 7. Seguimiento del mercado durante la ejecución. 8. Diversificación de proveedores o productos. | O18: ='EVALUACION CON CONTROLES'!I23 -> 1 | P18: ='EVALUACION CON CONTROLES'!J23 -> 4 | Q18: ='EVALUACION CON CONTROLES'!K23 -> 5 | R18: =+'EVALUACION CON CONTROLES'!L23 -> MEDIO | S18: ='EVALUACION CON CONTROLES'!M23 -> SI | T18: =+'EVALUACION CON CONTROLES'!N23 -> SUPERVISOR / CONTRATISTA | U18: =+'EVALUACION CON CONTROLES'!O23 -> Desde inicio de la ejecucion del contrato | V18: =+'EVALUACION CON CONTROLES'!P23 -> Hasta la terminacion del contrato | W18: =+'EVALUACION CON CONTROLES'!Q23 -> Revisión periódica de estudios de mercado, análisis de precios unitarios y control de desviaciones presupuestales | X18: =+'EVALUACION CON CONTROLES'!R23 -> Durante la ejecución del contrato
B19: 9 | C19: =EVALUACION!C25 -> Factores políticos o macroeconómicos. | D19: =EVALUACION!B25 -> EJECUCIÓN | E19: ='IDENTIFICACION Y ANALISIS'!D29 -> General | F19: ='IDENTIFICACION Y ANALISIS'!E29 -> Externo | G19: =EVALUACION!H25 -> Inestabilidad en la ejecución del contrato, interrupciones en el flujo de recursos, modificación de políticas públicas o prioridades institucionales, aumento de costos, suspensión o terminación anticipada del contrato, y afectación en el cumplimiento de metas del proyecto | H19: =EVALUACION!I25 -> 2 | I19: =EVALUACION!J25 -> 3 | J19: =EVALUACION!K25 -> 5 | K19: =EVALUACION!L25 -> MEDIO | L19: CONTRATISTA Y SDG | M19: 50 | N19: ='EVALUACION CON CONTROLES'!G24 -> 1. Análisis del entorno político y macroeconómico. 2. Escenarios de riesgo con planes de contingencia. 3. Asesoría jurídica y financiera especializada. 4. Seguimiento a políticas públicas y reformas. 5. Contratos flexibles ante cambios normativos. 6. Gestión presupuestal prudente. 7. Participación en espacios de gobernanza. 8. Diversificación de fuentes de financiación. | O19: ='EVALUACION CON CONTROLES'!I24 -> 1 | P19: ='EVALUACION CON CONTROLES'!J24 -> 3 | Q19: ='EVALUACION CON CONTROLES'!K24 -> 4 | R19: =+'EVALUACION CON CONTROLES'!L24 -> BAJO | S19: ='EVALUACION CON CONTROLES'!M24 -> SI | T19: =+'EVALUACION CON CONTROLES'!N24 -> SUPERVISOR / CONTRATISTA | U19: =+'EVALUACION CON CONTROLES'!O24 -> Desde inicio de la ejecucion del contrato | V19: =+'EVALUACION CON CONTROLES'!P24 -> Hasta la terminacion del contrato | W19: =+'EVALUACION CON CONTROLES'!Q24 -> Seguimiento al entorno político y económico mediante informes de análisis institucional y asesoría especializada | X19: =+'EVALUACION CON CONTROLES'!R24 -> Durante la ejecución del contrato
