Workbook
Name \b: #N/A
Name \c: #N/A
Name \e: #N/A
Name \i: #N/A
Name \m: #N/A
Name \r: #N/A
Name \t: #N/A
Name \x: #N/A
Name \z: #N/A
Name _____________INF1: #REF!
Name _____________INF1: #REF!
Name _____________INF1: #REF!
Name _____________INF1: #REF!
Name _____________INF1: #REF!
Name ____________INF1: #REF!
Name ____________INF1: #REF!
Name ____________INF1: #REF!
Name ____________INF1: #REF!
Name ____________INF1: #REF!
Name ___________INF1: #REF!
Name ___________INF1: #REF!
Name __________AIU1: #REF!
Name __________AIU2: [1]BASE!$C$5
Name __________Cod1: #REF!
Name __________INF1: #REF!
Name __________Pa2: #REF!
Name __________Pa3: #REF!
Name __________Pa4: #REF!
Name __________Po2: [2]REAJUSTESACTA1PROVI!#REF!
Name __________ST166: #REF!
Name __________TPE8016: #REF!
Name __________TPE8020: #REF!
Name __________TPE8025: #REF!
Name __________TPN1002: #REF!
Name __________TPN1003: #REF!
Name __________TPN1004: #REF!
Name __________TPN1006: #REF!
Name __________TPN1008: #REF!
Name __________TPN1202: #REF!
Name __________TPN1203: #REF!
Name __________TPN1204: #REF!
Name __________TPN1206: #REF!
Name __________TPN1208: #REF!
Name __________TPN16012: #REF!
Name __________TPN1602: #REF!
Name __________TPN1603: #REF!
Name __________TPN1604: #REF!
Name __________TPN1606: #REF!
Name __________TPN1608: #REF!
Name __________TUZ22: #REF!
Name __________TUZ36: #REF!
Name __________TZ323: #REF!
Name __________TZ324: #REF!
Name _________AIU1: #REF!
Name _________AIU2: [1]BASE!$C$5
Name _________Cod1: #REF!
Name _________INF1: #REF!
Name _________key2: [3]INST!#REF!
Name _________Pa1: #REF!
Name _________Pa2: #REF!

Sheet CANT ELEC
A1: DESCRIPCIÓN | B1: TOMAS | C1: HERMÉTICAS | D1: PANELES 18W | E1: EMERGENCIA | F1: DATOS | G1: INTERRUPTOR | H1: TABLEROS
A2: SALON 1 | B2: 4 | C2: 9 | E2: 1 | F2: 1 | G2: 1
A3: SALON 2 | B3: 4 | C3: 6 | E3: 1 | F3: 1 | G3: 1
A4: SALON 3 | B4: 4 | C4: 6 | E4: 1 | F4: 1 | G4: 1
A5: SALON N2 | B5: 4 | C5: 9 | E5: 1 | F5: 1 | G5: 1
A6: BIBLIOTECA | B6: 6 | C6: 4 | E6: 1 | F6: 1 | G6: 1
A7: TIENDA | B7: 4 | D7: 4 | G7: 1
A8: COCINA | B8: 3 | C8: 2 | G8: 1
A9: COMEDOR | B9: 4 | C9: 4 | E9: 2 | F9: 1 | G9: 1
A10: BAÑOS | D10: 9 | G10: 6
A11: CORREDOR | B11: 1 | D11: 19 | E11: 9 | G11: 1 | H11: 2
A12: WIFI | B12: 3 | F12: 3
A17: TOTAL | B17: =SUM(B2:B16) -> 37 | C17: =SUM(C2:C16) -> 40 | D17: =SUM(D2:D16) -> 32 | E17: =SUM(E2:E16) -> 16 | F17: =SUM(F2:F16) -> 9 | G17: =SUM(G2:G16) -> 15 | H17: =SUM(H2:H16) -> 2
A20: ALIMENTADOR 3X12 | D20: ALIMENTADOR # 8AWG
A21: TD-01: 01 | B21: 15 | D21: 6
A22: TD-01: 02 | B22: 8
A23: TD-01: 03 | B23: 5
A24: TD-01: 04 | B24: 12
A25: TD-01: 05 | B25: 14
A26: TD-01: 06 | B26: 11
A27: TD-01: 07
A28: TD-01: 08
A29: TD-02: 01 | B29: 32 | D29: 6
A30: TD-02: 02 | B30: 31
A31: TD-02: 03 | B31: 35
A32: TD-02: 04 | B32: 12
A33: TD-02: 05 | B33: 5
A34: TD-02: 06 | B34: 23
A35: TD-02: 07 | B35: 28
A36: TD-02: 08 | B36: 27
A37: REGRESOS | B37: 20
A38: PRINCIPAL | D38: 18
A39: TOTAL | B39: =SUM(B21:B38) -> 278 | D39: 30

Sheet CAPITULOS
A1: PRESUPUESTO POR CAPITULOS
A3: 1 | B3: =+LOOKUP(A3,#REF!,#REF!) -> #REF! | C3: =+LOOKUP(A3,#REF!,#REF!) -> #REF! | D3: =+C3/$C$14 -> #REF!
A4: 2 | B4: =+LOOKUP(A4,#REF!,#REF!) -> #REF! | C4: =+LOOKUP(A4,#REF!,#REF!) -> #REF! | D4: =+C4/$C$14 -> #REF!
A5: 3 | B5: =+LOOKUP(A5,#REF!,#REF!) -> #REF! | C5: =+LOOKUP(A5,#REF!,#REF!) -> #REF! | D5: =+C5/$C$14 -> #REF!
A6: 4 | B6: =+LOOKUP(A6,#REF!,#REF!) -> #REF! | C6: =+LOOKUP(A6,#REF!,#REF!) -> #REF! | D6: =+C6/$C$14 -> #REF!
A7: 5 | B7: =+LOOKUP(A7,#REF!,#REF!) -> #REF! | C7: =+LOOKUP(A7,#REF!,#REF!) -> #REF! | D7: =+C7/$C$14 -> #REF!
A8: 6 | B8: =+LOOKUP(A8,#REF!,#REF!) -> #REF! | C8: =+LOOKUP(A8,#REF!,#REF!) -> #REF! | D8: =+C8/$C$14 -> #REF!
A9: 7 | B9: =+LOOKUP(A9,#REF!,#REF!) -> #REF! | C9: =+LOOKUP(A9,#REF!,#REF!) -> #REF! | D9: =+C9/$C$14 -> #REF!
A10: 8 | B10: =+LOOKUP(A10,#REF!,#REF!) -> #REF! | C10: =+LOOKUP(A10,#REF!,#REF!) -> #REF! | D10: =+C10/$C$14 -> #REF!
A11: 9 | B11: =+LOOKUP(A11,#REF!,#REF!) -> #REF! | C11: =+LOOKUP(A11,#REF!,#REF!) -> #REF! | D11: =+C11/$C$14 -> #REF!
A12: 10 | B12: =+#REF! -> #REF! | C12: =+#REF! -> #REF! | D12: =+C12/$C$14 -> #REF!
B14: COSTO OBRA CIVIL E INSTALACIONES ANTES DE A.U.I | C14: =SUM(C3:C12) -> #REF! | D14: =+C14/$C$14 -> #REF!
A16: =+A12+1 -> 11 | B16: ADMINISTRACIÓN | C16: =+#REF! -> #REF! | D16: =+C16/$C$14 -> #REF!
A17: =+A16+1 -> 12 | B17: UTILIDAD | C17: =+#REF! -> #REF! | D17: =+C17/$C$14 -> #REF!
B19: COSTO DIRECTO TOTAL | C19: =SUM(C14:C17) -> #REF! | D19: =+C19/$C$14 -> #REF!
A21: =+A17+1 -> 13 | B21: COSTOS REEMBOLSABLES DE OBRA | C21: =+#REF! -> #REF! | D21: =+C21/$C$14 -> #REF!
A22: =+A21+1 -> 14 | B22: INTERVENTORIA | C22: =+#REF! -> #REF! | D22: =+C22/$C$14 -> #REF!
A23: =+A22+1 -> 15 | B23: ESTRATEGIA SOCIAL | C23: =+#REF! -> #REF! | D23: =+C23/$C$14 -> #REF!
A24: =+A23+1 -> 16 | B24: OTROS | C24: =+#REF! -> #REF! | D24: =+C24/$C$14 -> #REF!
B26: COSTOS INDIRECTOS | C26: =SUM(C21:C24) -> #REF! | D26: =+C26/$C$14 -> #REF!
B29: COSTO TOTAL PROYECTO | C29: =+C19+C26 -> #REF! | D29: =+C29/$C$14 -> #REF!

Sheet FORM-INTER
C2: ANÁLISIS DE LA INTERVENTORÍA
B5: PROYECTO U OBRA:
B6: INTERVENTORIA
B7: COSTO TOTAL DE LA OBRA
B8: PLAZO DEL CONTRATO EN DÍAS | I8: =6*30 -> 180
B10: 1 | C10: PERSONAL DE LA INTERVENTORÍA
B11: Código | C11: Cargo | D11: Unidad | E11: Cantidad | F11: Dedicación | G11: Salario mensual | H11: Duración | I11: Subtotal
B12: 1.05 | C12: =+INDEX(#REF!,MATCH(B12,#REF!,0),2) -> #REF! | D12: mes | E12: 1 | F12: 0.1 | G12: 5000000 | H12: 6 | I12: =H12*G12*F12*E12 -> 3000000
B13: 1.11 | C13: =+INDEX(#REF!,MATCH(B13,#REF!,0),2) -> #REF! | D13: mes | E13: 1 | F13: 1 | G13: 3300000 | H13: 6 | I13: =H13*G13*F13*E13 -> 19800000
B14: 1.09 | C14: =+INDEX(#REF!,MATCH(B14,#REF!,0),2) -> #REF! | D14: mes | E14: 1 | F14: 0.6 | G14: 2600000 | H14: 6 | I14: =H14*G14*F14*E14 -> 9360000
B15: 2 | C15: APLICACIÓN DEL FAC TOR MULTIPLICADOR
B16: 2.1 | C16: SUBTOTAL COSTOS DEL PERSONAL | I16: =ROUND(SUM(I12:I14),0) -> 32160000
B17: 2.2 | C17: FACTOR MULTIPLICADOR | I17: =+FM!I40 -> 2
B18: 2.3 | C18: SUBTOTAL COSTOS DEL PERSONAL CON FACTOR MULTIPLICADOR | I18: =+ROUND(I16*I17,0) -> 64320000
B20: 3 | C20: EQUIPOS Y ENSAYOS
B21: Código | C21: Descripción | D21: Unidad | E21: Cantidad | F21: Dedicación | G21: Valor Unitario | H21: Duración | I21: Subtotal
B22: 3.2 | C22: Fallo Cilindros concreto en laboratorio Ø 6" | D22: global | E22: 1 | F22: 1 | G22: 226966.5 | H22: 6 | I22: =H22*G22*F22*E22 -> 1361799
B23: SUBTOTAL EQUIPOS Y ENSAYOS | I23: =ROUND(SUM(I22:I22),0) -> 1361799
B25: SUBTOTAL INTERVENTORÍA DE OBRA | I25: =I23+I18 -> 65681799
B26: IVA | H26: 0.19 | I26: =ROUND(I25*H26,0) -> 12479542
B27: TOTAL INTERVENTORÍA | I27: =I26+I25 -> 78161341

Sheet FM
B2: FACTOR MULTIPLICADOR INTERVENTORÍA
B3: ITEM | C3: DESCRIPCION | D3: PORCENTAJE PARCIAL | I3: PORCENTAJE TOTAL
B4: A | C4: SALARIO BÁSICO | I4: =SUM(D5) -> 1
C5: Nómina Total Mensual | D5: 1
B6: B | C6: PRESTACIONES SOCIALES | I6: =SUM(D7:D19) -> 0.5879
C7: Cesantías | D7: 0.0833
C8: Intereses sobre cesantías | D8: 0.01
C9: Primas | D9: 0.0833
C10: Vacaciones | D10: 0.0417
C11: SEGURIDAD SOCIAL
C12: Aportes a Salud | D12: 0.085
C13: Aportes a Pensión | D13: 0.12
C14: ARP | D14: 0.0696
C15: OTROS
C16: Sena | D16: 0.02
C17: ICBF | D17: 0.03
C18: Caja de compensación familiar | D18: 0.04
C19: Dotación | D19: 0.005
B20: C | C20: COSTOS DE PERFECCIONAMIENTO (ESTAMPILLA Y POLIZAS) | I20: =SUM(G21:G27) -> 0.16183106
C21: Póliza de Calidad , cumplimiento, salarios y prestaciones sociales | F21: =+'POLIZA INTERV'!H23 -> 702087 | G21: =F21/'FORM-INTER'!$I$16 -> 0.021831063
C22: IMPUESTOS | D22: =SUM(D23:D27) -> 0.14 | E22: =+'FORM-INTER'!I16 -> 32160000 | F22: =+E22*D22 -> 4502400 | K22: =+F22/'FORM-INTER'!I16 -> 0.14
C23: ESTAMPILLA PRO-CULTURA (2%) | D23: 0.02 | E23: =+E22 -> 32160000 | F23: =+E23*D23 -> 643200 | G23: =F23/'FORM-INTER'!$I$16 -> 0.02 | M23: ESTAMPILLA PRO-CULTURA (2%)
C24: ESTAMPILLA PRO-ADULTO MAYOR (4%) | D24: 0.04 | E24: =+E23 -> 32160000 | F24: =+E24*D24 -> 1286400 | G24: =F24/'FORM-INTER'!$I$16 -> 0.04 | M24: ESTAMPILLA PRO-ADULTO MAYOR (4%)
C25: ESTAMPILLA PRO-HOSPITAL (1%) | D25: 0.01 | E25: =+E24 -> 32160000 | F25: =+E25*D25 -> 321600 | G25: =F25/'FORM-INTER'!$I$16 -> 0.01 | M25: ESTAMPILLA PRO-HOSPITAL (1%)
C26: ESTAMPILLA PRO-DEPORTE (2%) | D26: 0.02 | E26: =+E25 -> 32160000 | F26: =+E26*D26 -> 643200 | G26: =F26/'FORM-INTER'!$I$16 -> 0.02 | M26: ESTAMPILLA PRO-DEPORTE (2%)
C27: CONTRIBUCIÓN CONTRATOS DE OBRA PÚBLICA (5%) | D27: 0.05 | E27: =+E26 -> 32160000 | F27: =+E27*D27 -> 1608000 | G27: =F27/'FORM-INTER'!$I$16 -> 0.05 | M27: CONTRIBUCIÓN CONTRATOS DE OBRA PÚBLICA (5%)
B28: D | C28: COSTOS DE OFICINA CONSULTOR | I28: =SUM(H29:H36) -> 0.16
C29: COSTOS OFICINA CONSULTOR | D29: VR TOPE MENSUAL | E29: % RECONOCIMENTO | F29: PLAZO CONTRATO | G29: VALOR A RECONOCER
C30: Costos oficina (arrendamiento oficina central, pago administración local y servicios públicos) | D30: 450000 | E30: 0.2 | F30: =+'FORM-INTER'!H12 -> 6 | G30: =+D30*E30*F30 -> 540000 | H30: =+ROUND(G30/'FORM-INTER'!$I$16,2) -> 0.02
C31: Papelería de la oficina del consultor para uso del proyecto (cafetería y otros gastos funcionamiento | D31: 420000 | E31: 0.2 | F31: =+F30 -> 6 | G31: =+D31*E31*F31 -> 504000 | H31: =+ROUND(G31/'FORM-INTER'!$I$16,2) -> 0.02
C32: Muebles y equipos de oficina, pago programas, sistematización y actualización tecnológica, rack. | D32: 380000 | E32: 0.2 | F32: =+F30 -> 6 | G32: =+D32*E32*F32 -> 456000 | H32: =+ROUND(G32/'FORM-INTER'!$I$16,2) -> 0.01
C33: Personal Administrativo, tecnico y no tecnico no facturado (sueldo + prestaciones), Auxiliar contable, secretaría, conductor, mensajero | D33: 1500000 | E33: 0.2 | F33: =+F30 -> 6 | G33: =+D33*E33*F33 -> 1800000 | H33: =+ROUND(G33/'FORM-INTER'!$I$16,2) -> 0.06
C34: Asesoria legal, contable y tributaria | D34: 1400000 | E34: 0.2 | F34: =+F30 -> 6 | G34: =+D34*E34*F34 -> 1680000 | H34: =+ROUND(G34/'FORM-INTER'!$I$16,2) -> 0.05
C35: Gastos bancarios | D35: 0 | E35: 0 | F35: 0 | G35: =+D35*E35*F35 -> 0 | H35: =+ROUND(G35/'FORM-INTER'!$I$16,2) -> 0
B37: E | C37: HONORARIOS (UTILIDADES) 5% | D37: 0.05 | I37: =+(I4+I6+I28)*D37 -> 0.087395
C38: TOTAL A+B+C+D+E | D38: Redondeado | I38: =+ROUND(SUM(I4:I37),2) -> 2 | J38: 1.99 | K38: =+J38-I38 -> -0.01
B40: FACTOR MULTIPLICADOR % | I40: =+I38 -> 2
F43: POLIZA | G43: TOTAL INT
F44: 783308 | G44: =+'FORM-INTER'!M27 -> 0
F45: 471570

Sheet APU 2 
B2: AUNAR ESFUERZOS PARA EL MEJORAMIENTO DE LA INFRAESTRUCTURA FÍSICA DE LA C.E.R. VICENTE ARBELAEZ DEL MUNICIPIO DE MARINILLA
B3: C.E.R. VICENTE ARBELAEZ
B5: 1 | C5: PRELIMINARES
B6: 1.1 | C6: RETIRO DE APARATOS SANITARIOS, lavamanos, lavaderos, orinales. Incluye: Cargue, transporte y botada de escombros en lugares autorizados por el Municipo y/o autoridad ambiental, recuperación de los materiales aprovechables o su transporte hasta el sitio donde lo disponga la interventoria y/o entidad contratante. | H6: un | I6: =+H114 -> #REF!
B7: 1.2 | C7: RETIRO DE PUERTAS Y/O VENTANAS CON REJAS (marco y ala). Incluye: Cargue, transporte y botada de escombros en lugares autorizados por el Municipo y/o autoridad ambiental, recuperación de los materiales aprovechables o su transporte hasta el sitio donde lo disponga la interventoria y/o entidad contratante. | D7: RETIRO DE PUERTAS Y/O VENTANAS CON REJAS (marco y ala). Incluye: Cargue, transporte y botada de escombros en lugares autorizados por el Municipo y/o autoridad ambiental, recuperación de los materiales aprovechables o su transporte hasta el sitio donde lo disponga la interventoria y/o entidad contratante. | E7: RETIRO DE PUERTAS Y/O VENTANAS CON REJAS (marco y ala). Incluye: Cargue, transporte y botada de escombros en lugares autorizados por el Municipo y/o autoridad ambiental, recuperación de los materiales aprovechables o su transporte hasta el sitio donde lo disponga la interventoria y/o entidad contratante. | F7: RETIRO DE PUERTAS Y/O VENTANAS CON REJAS (marco y ala). Incluye: Cargue, transporte y botada de escombros en lugares autorizados por el Municipo y/o autoridad ambiental, recuperación de los materiales aprovechables o su transporte hasta el sitio donde lo disponga la interventoria y/o entidad contratante. | G7: RETIRO DE PUERTAS Y/O VENTANAS CON REJAS (marco y ala). Incluye: Cargue, transporte y botada de escombros en lugares autorizados por el Municipo y/o autoridad ambiental, recuperación de los materiales aprovechables o su transporte hasta el sitio donde lo disponga la interventoria y/o entidad contratante. | H7: un | I7: =H153 -> #REF!
B8: 1.3 | C8: RETIRO DE CUBIERTA EN TEJA DE BARRO, O ASBESTO CEMENTO Y/O PLÁSTICA EXISTENTE. Incluye cargue, botada y/o recuperación de los materiales aprovechables, trasporte hasta el sitio de deposito y/o disposición final donde lo indique la interventoría y/o entidad contratante, medido a lo largo de la pendiente. | D8: RETIRO DE CUBIERTA EN TEJA DE BARRO, O ASBESTO CEMENTO Y/O PLÁSTICA EXISTENTE. Incluye cargue, botada y/o recuperación de los materiales aprovechables, trasporte hasta el sitio de deposito y/o disposición final donde lo indique la interventoría y/o entidad contratante, medido a lo largo de la pendiente. | E8: RETIRO DE CUBIERTA EN TEJA DE BARRO, O ASBESTO CEMENTO Y/O PLÁSTICA EXISTENTE. Incluye cargue, botada y/o recuperación de los materiales aprovechables, trasporte hasta el sitio de deposito y/o disposición final donde lo indique la interventoría y/o entidad contratante, medido a lo largo de la pendiente. | F8: RETIRO DE CUBIERTA EN TEJA DE BARRO, O ASBESTO CEMENTO Y/O PLÁSTICA EXISTENTE. Incluye cargue, botada y/o recuperación de los materiales aprovechables, trasporte hasta el sitio de deposito y/o disposición final donde lo indique la interventoría y/o entidad contratante, medido a lo largo de la pendiente. | G8: RETIRO DE CUBIERTA EN TEJA DE BARRO, O ASBESTO CEMENTO Y/O PLÁSTICA EXISTENTE. Incluye cargue, botada y/o recuperación de los materiales aprovechables, trasporte hasta el sitio de deposito y/o disposición final donde lo indique la interventoría y/o entidad contratante, medido a lo largo de la pendiente. | H8: un | I8: =H191 -> #REF!
B9: 1.4 | C9: DEMOLICIÓN MECÁNICA DE PISO EN BALDOSA espesor <=15 cm. Incluye retiro de baldosa y mortero de nivelación, cargue, transporte y botada de escombros en lugares autorizados por el Municipo y/o autoridad ambiental y recuperación de los materiales aprovechables. (No incluye retiro de entresuelo) | D9: DEMOLICIÓN MECÁNICA DE PISO EN BALDOSA espesor <=15 cm. Incluye retiro de baldosa y mortero de nivelación, cargue, transporte y botada de escombros en lugares autorizados por el Municipo y/o autoridad ambiental y recuperación de los materiales aprovechables. (No incluye retiro de entresuelo) | E9: DEMOLICIÓN MECÁNICA DE PISO EN BALDOSA espesor <=15 cm. Incluye retiro de baldosa y mortero de nivelación, cargue, transporte y botada de escombros en lugares autorizados por el Municipo y/o autoridad ambiental y recuperación de los materiales aprovechables. (No incluye retiro de entresuelo) | F9: DEMOLICIÓN MECÁNICA DE PISO EN BALDOSA espesor <=15 cm. Incluye retiro de baldosa y mortero de nivelación, cargue, transporte y botada de escombros en lugares autorizados por el Municipo y/o autoridad ambiental y recuperación de los materiales aprovechables. (No incluye retiro de entresuelo) | G9: DEMOLICIÓN MECÁNICA DE PISO EN BALDOSA espesor <=15 cm. Incluye retiro de baldosa y mortero de nivelación, cargue, transporte y botada de escombros en lugares autorizados por el Municipo y/o autoridad ambiental y recuperación de los materiales aprovechables. (No incluye retiro de entresuelo) | H9: m2 | I9: =H305 -> #REF!
B10: 1.5 | C10: DEMOLICIÓN DE ENCHAPE, espesores entre 0.03 y 0.05 m. Incluye cargue, transporte y botada de escombros en botaderos oficiales, demolición de revoques y enchapes aplicados en el muro a demoler e instalaciones embebidas, además recuperación de los materiales aprovechables o su transporte hasta el sitio que lo indique la interventoría. | D10: DEMOLICIÓN DE ENCHAPE, espesores entre 0.03 y 0.05 m. Incluye cargue, transporte y botada de escombros en botaderos oficiales, demolición de revoques y enchapes aplicados en el muro a demoler e instalaciones embebidas, además recuperación de los materiales aprovechables o su transporte hasta el sitio que lo indique la interventoría. | E10: DEMOLICIÓN DE ENCHAPE, espesores entre 0.03 y 0.05 m. Incluye cargue, transporte y botada de escombros en botaderos oficiales, demolición de revoques y enchapes aplicados en el muro a demoler e instalaciones embebidas, además recuperación de los materiales aprovechables o su transporte hasta el sitio que lo indique la interventoría. | F10: DEMOLICIÓN DE ENCHAPE, espesores entre 0.03 y 0.05 m. Incluye cargue, transporte y botada de escombros en botaderos oficiales, demolición de revoques y enchapes aplicados en el muro a demoler e instalaciones embebidas, además recuperación de los materiales aprovechables o su transporte hasta el sitio que lo indique la interventoría. | G10: DEMOLICIÓN DE ENCHAPE, espesores entre 0.03 y 0.05 m. Incluye cargue, transporte y botada de escombros en botaderos oficiales, demolición de revoques y enchapes aplicados en el muro a demoler e instalaciones embebidas, además recuperación de los materiales aprovechables o su transporte hasta el sitio que lo indique la interventoría. | H10: m2 | I10: =H381 -> #REF!
B12: 2 | C12: MOVIMIENTOS DE TIERRA | D12: MOVIMIENTOS DE TIERRA | E12: MOVIMIENTOS DE TIERRA | F12: MOVIMIENTOS DE TIERRA | G12: MOVIMIENTOS DE TIERRA
B13: 2.1 | C13: EXCAVACIÓN MANUAL de material heterogéneo DE 0-2 m., bajo cualquier grado de humedad. Incluye: roca descompuesta, bolas de roca de volumen inferior a 0.35 m³., el cargue, transporte interno y externo, botada de material proveniente de las excavaciones en los sitios donde lo indique la interventoría y su medida será en el sitio. No incluye entibado. | D13: EXCAVACIÓN MANUAL de material heterogéneo DE 0-2 m., bajo cualquier grado de humedad. Incluye: roca descompuesta, bolas de roca de volumen inferior a 0.35 m³., el cargue, transporte interno y externo, botada de material proveniente de las excavaciones en los sitios donde lo indique la interventoría y su medida será en el sitio. No incluye entibado. | E13: EXCAVACIÓN MANUAL de material heterogéneo DE 0-2 m., bajo cualquier grado de humedad. Incluye: roca descompuesta, bolas de roca de volumen inferior a 0.35 m³., el cargue, transporte interno y externo, botada de material proveniente de las excavaciones en los sitios donde lo indique la interventoría y su medida será en el sitio. No incluye entibado. | F13: EXCAVACIÓN MANUAL de material heterogéneo DE 0-2 m., bajo cualquier grado de humedad. Incluye: roca descompuesta, bolas de roca de volumen inferior a 0.35 m³., el cargue, transporte interno y externo, botada de material proveniente de las excavaciones en los sitios donde lo indique la interventoría y su medida será en el sitio. No incluye entibado. | G13: EXCAVACIÓN MANUAL de material heterogéneo DE 0-2 m., bajo cualquier grado de humedad. Incluye: roca descompuesta, bolas de roca de volumen inferior a 0.35 m³., el cargue, transporte interno y externo, botada de material proveniente de las excavaciones en los sitios donde lo indique la interventoría y su medida será en el sitio. No incluye entibado. | H13: m3 | I13: =H420 -> #REF!
B14: 2.2 | C14: LLENOS EN MATERIAL PROVENIENTES DE LA EXCAVACIÓN, compactados mecánicamente hasta obtener una densidad del 95% de la máxima obtenida en el ensayo del próctor modificado. Incluye transporte interno. Su medida será en sitio ya compactado. | D14: LLENOS EN MATERIAL PROVENIENTES DE LA EXCAVACIÓN, compactados mecánicamente hasta obtener una densidad del 95% de la máxima obtenida en el ensayo del próctor modificado. Incluye transporte interno. Su medida será en sitio ya compactado. | E14: LLENOS EN MATERIAL PROVENIENTES DE LA EXCAVACIÓN, compactados mecánicamente hasta obtener una densidad del 95% de la máxima obtenida en el ensayo del próctor modificado. Incluye transporte interno. Su medida será en sitio ya compactado. | F14: LLENOS EN MATERIAL PROVENIENTES DE LA EXCAVACIÓN, compactados mecánicamente hasta obtener una densidad del 95% de la máxima obtenida en el ensayo del próctor modificado. Incluye transporte interno. Su medida será en sitio ya compactado. | G14: LLENOS EN MATERIAL PROVENIENTES DE LA EXCAVACIÓN, compactados mecánicamente hasta obtener una densidad del 95% de la máxima obtenida en el ensayo del próctor modificado. Incluye transporte interno. Su medida será en sitio ya compactado. | H14: m3 | I14: =H457 -> #REF!
B16: 3 | C16: CONCRETOS | D16: CONCRETOS | E16: CONCRETOS | F16: CONCRETOS | G16: CONCRETOS
B17: 3.1 | C17: Construcción de PISO EN CONCRETO DE 21 MPa. ESPESOR DE 0.10 m., con vaciado alternado. Incluye suministro y transporte de los materiales, perfilación, nivelación del terreno y adecuación de la superficie, entresuelo en piedra con un espesor de 0.15 m. y 0.05 m. de arenilla, malla electrosoldada D-84, dilataciones a junta perdida cada 1.80 m., acabado liso llaneado, vibrado, curado, protección de la superficie y todo lo necesario para su correcta construcción y funcionamiento. Según diseño. Unidades sanitarias y cocina. Para andenes el acabado debe ser escobillado y antideslizante. | D17: Construcción de PISO EN CONCRETO DE 21 MPa. ESPESOR DE 0.10 m., con vaciado alternado. Incluye suministro y transporte de los materiales, perfilación, nivelación del terreno y adecuación de la superficie, entresuelo en piedra con un espesor de 0.15 m. y 0.05 m. de arenilla, malla electrosoldada D-84, dilataciones a junta perdida cada 1.80 m., acabado liso llaneado, vibrado, curado, protección de la superficie y todo lo necesario para su correcta construcción y funcionamiento. Según diseño. Unidades sanitarias y cocina. Para andenes el acabado debe ser escobillado y antideslizante. | E17: Construcción de PISO EN CONCRETO DE 21 MPa. ESPESOR DE 0.10 m., con vaciado alternado. Incluye suministro y transporte de los materiales, perfilación, nivelación del terreno y adecuación de la superficie, entresuelo en piedra con un espesor de 0.15 m. y 0.05 m. de arenilla, malla electrosoldada D-84, dilataciones a junta perdida cada 1.80 m., acabado liso llaneado, vibrado, curado, protección de la superficie y todo lo necesario para su correcta construcción y funcionamiento. Según diseño. Unidades sanitarias y cocina. Para andenes el acabado debe ser escobillado y antideslizante. | F17: Construcción de PISO EN CONCRETO DE 21 MPa. ESPESOR DE 0.10 m., con vaciado alternado. Incluye suministro y transporte de los materiales, perfilación, nivelación del terreno y adecuación de la superficie, entresuelo en piedra con un espesor de 0.15 m. y 0.05 m. de arenilla, malla electrosoldada D-84, dilataciones a junta perdida cada 1.80 m., acabado liso llaneado, vibrado, curado, protección de la superficie y todo lo necesario para su correcta construcción y funcionamiento. Según diseño. Unidades sanitarias y cocina. Para andenes el acabado debe ser escobillado y antideslizante. | G17: Construcción de PISO EN CONCRETO DE 21 MPa. ESPESOR DE 0.10 m., con vaciado alternado. Incluye suministro y transporte de los materiales, perfilación, nivelación del terreno y adecuación de la superficie, entresuelo en piedra con un espesor de 0.15 m. y 0.05 m. de arenilla, malla electrosoldada D-84, dilataciones a junta perdida cada 1.80 m., acabado liso llaneado, vibrado, curado, protección de la superficie y todo lo necesario para su correcta construcción y funcionamiento. Según diseño. Unidades sanitarias y cocina. Para andenes el acabado debe ser escobillado y antideslizante. | H17: m2 | I17: =H501 -> #REF!
B19: 4 | C19: PINTURA Y REVOQUE | D19: PINTURA Y REVOQUE | E19: PINTURA Y REVOQUE | F19: PINTURA Y REVOQUE | G19: PINTURA Y REVOQUE
B20: 4.1 | C20: RESANE Y REPINTE de PINTURA ACRÍLICA tipo Koraza o equivalente para exteriores (hidrorepelente) de primera calidad que cumpla con la Norma NTC 1335, tres (3) manos o las que sean necesarias para obtener una superficie pareja y homogénea, a satisfacción de la interventoría. Incluye suministro y transporte de los materiales, preparada y adecuación de la superficie a intervenir. Color a definir según aprobación de la interventoría. | D20: RESANE Y REPINTE de PINTURA ACRÍLICA tipo Koraza o equivalente para exteriores (hidrorepelente) de primera calidad que cumpla con la Norma NTC 1335, tres (3) manos o las que sean necesarias para obtener una superficie pareja y homogénea, a satisfacción de la interventoría. Incluye suministro y transporte de los materiales, preparada y adecuación de la superficie a intervenir. Color a definir según aprobación de la interventoría. | E20: RESANE Y REPINTE de PINTURA ACRÍLICA tipo Koraza o equivalente para exteriores (hidrorepelente) de primera calidad que cumpla con la Norma NTC 1335, tres (3) manos o las que sean necesarias para obtener una superficie pareja y homogénea, a satisfacción de la interventoría. Incluye suministro y transporte de los materiales, preparada y adecuación de la superficie a intervenir. Color a definir según aprobación de la interventoría. | F20: RESANE Y REPINTE de PINTURA ACRÍLICA tipo Koraza o equivalente para exteriores (hidrorepelente) de primera calidad que cumpla con la Norma NTC 1335, tres (3) manos o las que sean necesarias para obtener una superficie pareja y homogénea, a satisfacción de la interventoría. Incluye suministro y transporte de los materiales, preparada y adecuación de la superficie a intervenir. Color a definir según aprobación de la interventoría. | G20: RESANE Y REPINTE de PINTURA ACRÍLICA tipo Koraza o equivalente para exteriores (hidrorepelente) de primera calidad que cumpla con la Norma NTC 1335, tres (3) manos o las que sean necesarias para obtener una superficie pareja y homogénea, a satisfacción de la interventoría. Incluye suministro y transporte de los materiales, preparada y adecuación de la superficie a intervenir. Color a definir según aprobación de la interventoría. | H20: m2 | I20: =H757 -> #REF!
B21: 4.2 | C21: RESANE Y REPINTE de PINTURA vineltex tipo 1 o quivalente para interiores (hidrorepelente) de primera calidad que cumpla con la Norma NTC 1335, 3 manos o las que sean necesarias para obtener una superficie pareja y homogénea, a satisfacción de la interventoría. Incluye suministro y transporte de los materiales, preparada y adecuación de la superficie a intervenir. Color a definir según aprobación de la interventoría. | D21: RESANE Y REPINTE de PINTURA vineltex tipo 1 o quivalente para interiores (hidrorepelente) de primera calidad que cumpla con la Norma NTC 1335, 3 manos o las que sean necesarias para obtener una superficie pareja y homogénea, a satisfacción de la interventoría. Incluye suministro y transporte de los materiales, preparada y adecuación de la superficie a intervenir. Color a definir según aprobación de la interventoría. | E21: RESANE Y REPINTE de PINTURA vineltex tipo 1 o quivalente para interiores (hidrorepelente) de primera calidad que cumpla con la Norma NTC 1335, 3 manos o las que sean necesarias para obtener una superficie pareja y homogénea, a satisfacción de la interventoría. Incluye suministro y transporte de los materiales, preparada y adecuación de la superficie a intervenir. Color a definir según aprobación de la interventoría. | F21: RESANE Y REPINTE de PINTURA vineltex tipo 1 o quivalente para interiores (hidrorepelente) de primera calidad que cumpla con la Norma NTC 1335, 3 manos o las que sean necesarias para obtener una superficie pareja y homogénea, a satisfacción de la interventoría. Incluye suministro y transporte de los materiales, preparada y adecuación de la superficie a intervenir. Color a definir según aprobación de la interventoría. | G21: RESANE Y REPINTE de PINTURA vineltex tipo 1 o quivalente para interiores (hidrorepelente) de primera calidad que cumpla con la Norma NTC 1335, 3 manos o las que sean necesarias para obtener una superficie pareja y homogénea, a satisfacción de la interventoría. Incluye suministro y transporte de los materiales, preparada y adecuación de la superficie a intervenir. Color a definir según aprobación de la interventoría. | H21: m2 | I21: =H797 -> #REF!
B23: 5 | C23: PISOS Y ACABADOS | D23: PISOS Y ACABADOS | E23: PISOS Y ACABADOS | F23: PISOS Y ACABADOS | G23: PISOS Y ACABADOS
B24: 5.1 | C24: Colocación de ENCHAPE CERÁMICO PARED COLOR A DEFINIR de 30 x 60 cm. Incluye suministro y transporte de los materiales, mortero adhesivo para enchapes tipo pegacor o equivalente, lechada preparada (boquilla) tipo concolor de sumicol o equivalente del mismo color del enchape, moldura PVC para remates y todos los elementos necesarios para su correcta instalación y funcionamiento. | D24: Colocación de ENCHAPE CERÁMICO PARED COLOR A DEFINIR de 30 x 60 cm. Incluye suministro y transporte de los materiales, mortero adhesivo para enchapes tipo pegacor o equivalente, lechada preparada (boquilla) tipo concolor de sumicol o equivalente del mismo color del enchape, moldura PVC para remates y todos los elementos necesarios para su correcta instalación y funcionamiento. | E24: Colocación de ENCHAPE CERÁMICO PARED COLOR A DEFINIR de 30 x 60 cm. Incluye suministro y transporte de los materiales, mortero adhesivo para enchapes tipo pegacor o equivalente, lechada preparada (boquilla) tipo concolor de sumicol o equivalente del mismo color del enchape, moldura PVC para remates y todos los elementos necesarios para su correcta instalación y funcionamiento. | F24: Colocación de ENCHAPE CERÁMICO PARED COLOR A DEFINIR de 30 x 60 cm. Incluye suministro y transporte de los materiales, mortero adhesivo para enchapes tipo pegacor o equivalente, lechada preparada (boquilla) tipo concolor de sumicol o equivalente del mismo color del enchape, moldura PVC para remates y todos los elementos necesarios para su correcta instalación y funcionamiento. | G24: Colocación de ENCHAPE CERÁMICO PARED COLOR A DEFINIR de 30 x 60 cm. Incluye suministro y transporte de los materiales, mortero adhesivo para enchapes tipo pegacor o equivalente, lechada preparada (boquilla) tipo concolor de sumicol o equivalente del mismo color del enchape, moldura PVC para remates y todos los elementos necesarios para su correcta instalación y funcionamiento. | H24: m2 | I24: =H841 -> #REF!
B25: 5.2 | C25: Colocación de PISO CERÁMICO, ALTA RESISTENCIA AL DESLIZAMIENTO MIKONOS, de 33.8x33.8cm., color blanco de Corona o equivalente, con prueba de resistencia de abrasión, antideslizante. Incluye suministro y transporte de los materiales, mortero de nivelación 1:5, con un espesor de 3 a 7 cm., pegante para cerámica tipo Pegacor o equivalente, juntas cada 1,8 x 1,8 m. con varilla de dilatación PVC de 4 mm., lechada con Boquilla Blanca para cerámica, remates, cortes con maquina y todo lo necesario para su correcta instalación. El entresuelo y la placa de contrapiso se pagará en su ítem respectivo, para unidades sanitarias. Para baños. | D25: Colocación de PISO CERÁMICO, ALTA RESISTENCIA AL DESLIZAMIENTO MIKONOS, de 33.8x33.8cm., color blanco de Corona o equivalente, con prueba de resistencia de abrasión, antideslizante. Incluye suministro y transporte de los materiales, mortero de nivelación 1:5, con un espesor de 3 a 7 cm., pegante para cerámica tipo Pegacor o equivalente, juntas cada 1,8 x 1,8 m. con varilla de dilatación PVC de 4 mm., lechada con Boquilla Blanca para cerámica, remates, cortes con maquina y todo lo necesario para su correcta instalación. El entresuelo y la placa de contrapiso se pagará en su ítem respectivo, para unidades sanitarias. Para baños. | E25: Colocación de PISO CERÁMICO, ALTA RESISTENCIA AL DESLIZAMIENTO MIKONOS, de 33.8x33.8cm., color blanco de Corona o equivalente, con prueba de resistencia de abrasión, antideslizante. Incluye suministro y transporte de los materiales, mortero de nivelación 1:5, con un espesor de 3 a 7 cm., pegante para cerámica tipo Pegacor o equivalente, juntas cada 1,8 x 1,8 m. con varilla de dilatación PVC de 4 mm., lechada con Boquilla Blanca para cerámica, remates, cortes con maquina y todo lo necesario para su correcta instalación. El entresuelo y la placa de contrapiso se pagará en su ítem respectivo, para unidades sanitarias. Para baños. | F25: Colocación de PISO CERÁMICO, ALTA RESISTENCIA AL DESLIZAMIENTO MIKONOS, de 33.8x33.8cm., color blanco de Corona o equivalente, con prueba de resistencia de abrasión, antideslizante. Incluye suministro y transporte de los materiales, mortero de nivelación 1:5, con un espesor de 3 a 7 cm., pegante para cerámica tipo Pegacor o equivalente, juntas cada 1,8 x 1,8 m. con varilla de dilatación PVC de 4 mm., lechada con Boquilla Blanca para cerámica, remates, cortes con maquina y todo lo necesario para su correcta instalación. El entresuelo y la placa de contrapiso se pagará en su ítem respectivo, para unidades sanitarias. Para baños. | G25: Colocación de PISO CERÁMICO, ALTA RESISTENCIA AL DESLIZAMIENTO MIKONOS, de 33.8x33.8cm., color blanco de Corona o equivalente, con prueba de resistencia de abrasión, antideslizante. Incluye suministro y transporte de los materiales, mortero de nivelación 1:5, con un espesor de 3 a 7 cm., pegante para cerámica tipo Pegacor o equivalente, juntas cada 1,8 x 1,8 m. con varilla de dilatación PVC de 4 mm., lechada con Boquilla Blanca para cerámica, remates, cortes con maquina y todo lo necesario para su correcta instalación. El entresuelo y la placa de contrapiso se pagará en su ítem respectivo, para unidades sanitarias. Para baños. | H25: m2 | I25: =H884 -> #REF!
B26: 5.3 | C26: Construcción de PISO EN BALDOSA DE GRANO MONO COLOR DE 30 x 30 cm., de primera calidad aprobada por la interventoría que cumpla la norma NTC 2849. Incluye concreto de pega y nivelación 1:5 de cemento, suministro y transporte de la baldosa, varilla de dilatación en PVC de 5 mm x 37mm en cuadrículas de 2,10m x 2,10m., lechada del mismo color de la baldosa, destroncada, pulida, brillada y encerada en el sitio con cera polimérica, protección de muros, puertas y desagües. Cargue, transporte y botada de material sobrante (cachaza) en botaderos oficiales. La interventoría entregará el diseño en tapetes o franjas combinando los colores (máximo dos colores). Los ensayos que se requieran serán por cuenta del contratista y las muestras se escogerán del material puesto en obra. | D26: Construcción de PISO EN BALDOSA DE GRANO MONO COLOR DE 30 x 30 cm., de primera calidad aprobada por la interventoría que cumpla la norma NTC 2849. Incluye concreto de pega y nivelación 1:5 de cemento, suministro y transporte de la baldosa, varilla de dilatación en PVC de 5 mm x 37mm en cuadrículas de 2,10m x 2,10m., lechada del mismo color de la baldosa, destroncada, pulida, brillada y encerada en el sitio con cera polimérica, protección de muros, puertas y desagües. Cargue, transporte y botada de material sobrante (cachaza) en botaderos oficiales. La interventoría entregará el diseño en tapetes o franjas combinando los colores (máximo dos colores). Los ensayos que se requieran serán por cuenta del contratista y las muestras se escogerán del material puesto en obra. | E26: Construcción de PISO EN BALDOSA DE GRANO MONO COLOR DE 30 x 30 cm., de primera calidad aprobada por la interventoría que cumpla la norma NTC 2849. Incluye concreto de pega y nivelación 1:5 de cemento, suministro y transporte de la baldosa, varilla de dilatación en PVC de 5 mm x 37mm en cuadrículas de 2,10m x 2,10m., lechada del mismo color de la baldosa, destroncada, pulida, brillada y encerada en el sitio con cera polimérica, protección de muros, puertas y desagües. Cargue, transporte y botada de material sobrante (cachaza) en botaderos oficiales. La interventoría entregará el diseño en tapetes o franjas combinando los colores (máximo dos colores). Los ensayos que se requieran serán por cuenta del contratista y las muestras se escogerán del material puesto en obra. | F26: Construcción de PISO EN BALDOSA DE GRANO MONO COLOR DE 30 x 30 cm., de primera calidad aprobada por la interventoría que cumpla la norma NTC 2849. Incluye concreto de pega y nivelación 1:5 de cemento, suministro y transporte de la baldosa, varilla de dilatación en PVC de 5 mm x 37mm en cuadrículas de 2,10m x 2,10m., lechada del mismo color de la baldosa, destroncada, pulida, brillada y encerada en el sitio con cera polimérica, protección de muros, puertas y desagües. Cargue, transporte y botada de material sobrante (cachaza) en botaderos oficiales. La interventoría entregará el diseño en tapetes o franjas combinando los colores (máximo dos colores). Los ensayos que se requieran serán por cuenta del contratista y las muestras se escogerán del material puesto en obra. | G26: Construcción de PISO EN BALDOSA DE GRANO MONO COLOR DE 30 x 30 cm., de primera calidad aprobada por la interventoría que cumpla la norma NTC 2849. Incluye concreto de pega y nivelación 1:5 de cemento, suministro y transporte de la baldosa, varilla de dilatación en PVC de 5 mm x 37mm en cuadrículas de 2,10m x 2,10m., lechada del mismo color de la baldosa, destroncada, pulida, brillada y encerada en el sitio con cera polimérica, protección de muros, puertas y desagües. Cargue, transporte y botada de material sobrante (cachaza) en botaderos oficiales. La interventoría entregará el diseño en tapetes o franjas combinando los colores (máximo dos colores). Los ensayos que se requieran serán por cuenta del contratista y las muestras se escogerán del material puesto en obra. | H26: m2 | I26: =H927 -> #REF!
B27: 5.4 | C27: Suministro, transporte e instalación de ZÓCALO RECTO EN BALDOSA GRANO de 0,07 a 0,10m de altura con aristas biseladas. Incluye suministro y transporte de los materiales, pegante de capa delgada tipo pegacor o equivalente, lechada del mismo color de la baldosa, remates, y todos los elementos necesarios para su correcta construcción. | D27: Suministro, transporte e instalación de ZÓCALO RECTO EN BALDOSA GRANO de 0,07 a 0,10m de altura con aristas biseladas. Incluye suministro y transporte de los materiales, pegante de capa delgada tipo pegacor o equivalente, lechada del mismo color de la baldosa, remates, y todos los elementos necesarios para su correcta construcción. | E27: Suministro, transporte e instalación de ZÓCALO RECTO EN BALDOSA GRANO de 0,07 a 0,10m de altura con aristas biseladas. Incluye suministro y transporte de los materiales, pegante de capa delgada tipo pegacor o equivalente, lechada del mismo color de la baldosa, remates, y todos los elementos necesarios para su correcta construcción. | F27: Suministro, transporte e instalación de ZÓCALO RECTO EN BALDOSA GRANO de 0,07 a 0,10m de altura con aristas biseladas. Incluye suministro y transporte de los materiales, pegante de capa delgada tipo pegacor o equivalente, lechada del mismo color de la baldosa, remates, y todos los elementos necesarios para su correcta construcción. | G27: Suministro, transporte e instalación de ZÓCALO RECTO EN BALDOSA GRANO de 0,07 a 0,10m de altura con aristas biseladas. Incluye suministro y transporte de los materiales, pegante de capa delgada tipo pegacor o equivalente, lechada del mismo color de la baldosa, remates, y todos los elementos necesarios para su correcta construcción. | H27: m | I27: =H969 -> #REF!
B29: 6 | C29: MOBILIARIOS Y APARATOS SANITARIOS | D29: MOBILIARIOS Y APARATOS SANITARIOS | E29: MOBILIARIOS Y APARATOS SANITARIOS | F29: MOBILIARIOS Y APARATOS SANITARIOS | G29: MOBILIARIOS Y APARATOS SANITARIOS
B30: 6.1 | C30: Instalación de SANITARIO INTEGRAL (línea Acuacer o equivalente) color BLANCO, bajo consumo 6lt, diseño de dos piezas, taza redonda, incluye el suministro y transporte del sanitario, sifón esmaltado, grifería antisifón, anillo abierto, abastos, válvula de regulación con manguera flexible, brida de fijación, tapón roscado y todos los demás elementos necesarios para su correcta instalación y funcionamiento. | D30: Instalación de SANITARIO INTEGRAL (línea Acuacer o equivalente) color BLANCO, bajo consumo 6lt, diseño de dos piezas, taza redonda, incluye el suministro y transporte del sanitario, sifón esmaltado, grifería antisifón, anillo abierto, abastos, válvula de regulación con manguera flexible, brida de fijación, tapón roscado y todos los demás elementos necesarios para su correcta instalación y funcionamiento. | E30: Instalación de SANITARIO INTEGRAL (línea Acuacer o equivalente) color BLANCO, bajo consumo 6lt, diseño de dos piezas, taza redonda, incluye el suministro y transporte del sanitario, sifón esmaltado, grifería antisifón, anillo abierto, abastos, válvula de regulación con manguera flexible, brida de fijación, tapón roscado y todos los demás elementos necesarios para su correcta instalación y funcionamiento. | F30: Instalación de SANITARIO INTEGRAL (línea Acuacer o equivalente) color BLANCO, bajo consumo 6lt, diseño de dos piezas, taza redonda, incluye el suministro y transporte del sanitario, sifón esmaltado, grifería antisifón, anillo abierto, abastos, válvula de regulación con manguera flexible, brida de fijación, tapón roscado y todos los demás elementos necesarios para su correcta instalación y funcionamiento. | G30: Instalación de SANITARIO INTEGRAL (línea Acuacer o equivalente) color BLANCO, bajo consumo 6lt, diseño de dos piezas, taza redonda, incluye el suministro y transporte del sanitario, sifón esmaltado, grifería antisifón, anillo abierto, abastos, válvula de regulación con manguera flexible, brida de fijación, tapón roscado y todos los demás elementos necesarios para su correcta instalación y funcionamiento. | H30: un | I30: =H1012 -> #REF!
B31: 6.2 | C31: Suministro, transporte y colocación de lavamanos de empotrar (tipo Marsella o equivalente), color blanco. Incluye grifería metálica con acabado cromado, tipo briza o su equivalente, abasto metálico acabado cromado, sifón botella, emboquillado con silicona antihongos y todos los demás elementos necesarios para su correcta instalación y funcionamiento. | D31: Suministro, transporte y colocación de lavamanos de empotrar (tipo Marsella o equivalente), color blanco. Incluye grifería metálica con acabado cromado, tipo briza o su equivalente, abasto metálico acabado cromado, sifón botella, emboquillado con silicona antihongos y todos los demás elementos necesarios para su correcta instalación y funcionamiento. | E31: Suministro, transporte y colocación de lavamanos de empotrar (tipo Marsella o equivalente), color blanco. Incluye grifería metálica con acabado cromado, tipo briza o su equivalente, abasto metálico acabado cromado, sifón botella, emboquillado con silicona antihongos y todos los demás elementos necesarios para su correcta instalación y funcionamiento. | F31: Suministro, transporte y colocación de lavamanos de empotrar (tipo Marsella o equivalente), color blanco. Incluye grifería metálica con acabado cromado, tipo briza o su equivalente, abasto metálico acabado cromado, sifón botella, emboquillado con silicona antihongos y todos los demás elementos necesarios para su correcta instalación y funcionamiento. | G31: Suministro, transporte y colocación de lavamanos de empotrar (tipo Marsella o equivalente), color blanco. Incluye grifería metálica con acabado cromado, tipo briza o su equivalente, abasto metálico acabado cromado, sifón botella, emboquillado con silicona antihongos y todos los demás elementos necesarios para su correcta instalación y funcionamiento. | H31: un | I31: =H1091 -> #REF!
B32: 6.3 | C32: Construcción de mesón en concreto de 21Mpa. forrado en grano BLANCO Y NEGRO, de ancho=0,60 m., espesor 0,06 m., con faldón de h=0,15 m. y listón de 10 cm en los puntos en contacto con la pared. Incluye canche, botada de material, molduras para bordes redondeados, acero de refuerzo (6 varillas de 1/4" longitudinalmente y 3 varillas 3/8" L=0.90 m por metro transversalmente), concreto para anclaje, vanos para empotrar lavamanos. | D32: Construcción de mesón en concreto de 21Mpa. forrado en grano BLANCO Y NEGRO, de ancho=0,60 m., espesor 0,06 m., con faldón de h=0,15 m. y listón de 10 cm en los puntos en contacto con la pared. Incluye canche, botada de material, molduras para bordes redondeados, acero de refuerzo (6 varillas de 1/4" longitudinalmente y 3 varillas 3/8" L=0.90 m por metro transversalmente), concreto para anclaje, vanos para empotrar lavamanos. | E32: Construcción de mesón en concreto de 21Mpa. forrado en grano BLANCO Y NEGRO, de ancho=0,60 m., espesor 0,06 m., con faldón de h=0,15 m. y listón de 10 cm en los puntos en contacto con la pared. Incluye canche, botada de material, molduras para bordes redondeados, acero de refuerzo (6 varillas de 1/4" longitudinalmente y 3 varillas 3/8" L=0.90 m por metro transversalmente), concreto para anclaje, vanos para empotrar lavamanos. | F32: Construcción de mesón en concreto de 21Mpa. forrado en grano BLANCO Y NEGRO, de ancho=0,60 m., espesor 0,06 m., con faldón de h=0,15 m. y listón de 10 cm en los puntos en contacto con la pared. Incluye canche, botada de material, molduras para bordes redondeados, acero de refuerzo (6 varillas de 1/4" longitudinalmente y 3 varillas 3/8" L=0.90 m por metro transversalmente), concreto para anclaje, vanos para empotrar lavamanos. | G32: Construcción de mesón en concreto de 21Mpa. forrado en grano BLANCO Y NEGRO, de ancho=0,60 m., espesor 0,06 m., con faldón de h=0,15 m. y listón de 10 cm en los puntos en contacto con la pared. Incluye canche, botada de material, molduras para bordes redondeados, acero de refuerzo (6 varillas de 1/4" longitudinalmente y 3 varillas 3/8" L=0.90 m por metro transversalmente), concreto para anclaje, vanos para empotrar lavamanos. | H32: ml | I32: =H1134 -> #REF!
B33: 6.4 | C33: Construcción de BOCAPUERTAS en salón, incluye pegacor, lechada, remates, cortes con máquina y todo lo necesario para su correcta instalación y funcionamiento. | D33: Construcción de BOCAPUERTAS en salón, incluye pegacor, lechada, remates, cortes con máquina y todo lo necesario para su correcta instalación y funcionamiento. | E33: Construcción de BOCAPUERTAS en salón, incluye pegacor, lechada, remates, cortes con máquina y todo lo necesario para su correcta instalación y funcionamiento. | F33: Construcción de BOCAPUERTAS en salón, incluye pegacor, lechada, remates, cortes con máquina y todo lo necesario para su correcta instalación y funcionamiento. | G33: Construcción de BOCAPUERTAS en salón, incluye pegacor, lechada, remates, cortes con máquina y todo lo necesario para su correcta instalación y funcionamiento. | H33: ml | I33: =H1172 -> #REF!
B35: 7 | C35: REDES HIDROSANITARIAS | D35: REDES HIDROSANITARIAS | E35: REDES HIDROSANITARIAS | F35: REDES HIDROSANITARIAS | G35: REDES HIDROSANITARIAS
B36: 7.1 | C36: Suministro, transporte e instalación de SALIDA SANITARIA para lavamanos y orinal DE 2". Incluye todos los accesorios hasta el tapón de prueba. Se pagará dicha salida hasta un recorrido máximo de tubería no mayor a 2 m. Estos deberán estar correctamente pegados usando limpiador, soldadura y teflón apropiados, sin presentar fugas, fisuras o cualquier otra clase de anomalía. Incluye además las perforaciones (canchas) de paredes o pisos que lo requieran incluyendo cargue, transporte y botada de escombros en botaderos oficiales o donde indique la interventoría. | D36: Suministro, transporte e instalación de SALIDA SANITARIA para lavamanos y orinal DE 2". Incluye todos los accesorios hasta el tapón de prueba. Se pagará dicha salida hasta un recorrido máximo de tubería no mayor a 2 m. Estos deberán estar correctamente pegados usando limpiador, soldadura y teflón apropiados, sin presentar fugas, fisuras o cualquier otra clase de anomalía. Incluye además las perforaciones (canchas) de paredes o pisos que lo requieran incluyendo cargue, transporte y botada de escombros en botaderos oficiales o donde indique la interventoría. | E36: Suministro, transporte e instalación de SALIDA SANITARIA para lavamanos y orinal DE 2". Incluye todos los accesorios hasta el tapón de prueba. Se pagará dicha salida hasta un recorrido máximo de tubería no mayor a 2 m. Estos deberán estar correctamente pegados usando limpiador, soldadura y teflón apropiados, sin presentar fugas, fisuras o cualquier otra clase de anomalía. Incluye además las perforaciones (canchas) de paredes o pisos que lo requieran incluyendo cargue, transporte y botada de escombros en botaderos oficiales o donde indique la interventoría. | F36: Suministro, transporte e instalación de SALIDA SANITARIA para lavamanos y orinal DE 2". Incluye todos los accesorios hasta el tapón de prueba. Se pagará dicha salida hasta un recorrido máximo de tubería no mayor a 2 m. Estos deberán estar correctamente pegados usando limpiador, soldadura y teflón apropiados, sin presentar fugas, fisuras o cualquier otra clase de anomalía. Incluye además las perforaciones (canchas) de paredes o pisos que lo requieran incluyendo cargue, transporte y botada de escombros en botaderos oficiales o donde indique la interventoría. | G36: Suministro, transporte e instalación de SALIDA SANITARIA para lavamanos y orinal DE 2". Incluye todos los accesorios hasta el tapón de prueba. Se pagará dicha salida hasta un recorrido máximo de tubería no mayor a 2 m. Estos deberán estar correctamente pegados usando limpiador, soldadura y teflón apropiados, sin presentar fugas, fisuras o cualquier otra clase de anomalía. Incluye además las perforaciones (canchas) de paredes o pisos que lo requieran incluyendo cargue, transporte y botada de escombros en botaderos oficiales o donde indique la interventoría. | H36: un | I36: =H1213 -> #REF!
B37: 7.2 | C37: Suministro e instalación de Salida para desagüe en Tubería sanitaria rígida PVC Ø2",Incluye rejilla de piso 3"x 2" combinada en bronce y aluminio, sifón CxC y todo lo necesario para su correcta instalación. | D37: Suministro e instalación de Salida para desagüe en Tubería sanitaria rígida PVC Ø2",Incluye rejilla de piso 3"x 2" combinada en bronce y aluminio, sifón CxC y todo lo necesario para su correcta instalación. | E37: Suministro e instalación de Salida para desagüe en Tubería sanitaria rígida PVC Ø2",Incluye rejilla de piso 3"x 2" combinada en bronce y aluminio, sifón CxC y todo lo necesario para su correcta instalación. | F37: Suministro e instalación de Salida para desagüe en Tubería sanitaria rígida PVC Ø2",Incluye rejilla de piso 3"x 2" combinada en bronce y aluminio, sifón CxC y todo lo necesario para su correcta instalación. | G37: Suministro e instalación de Salida para desagüe en Tubería sanitaria rígida PVC Ø2",Incluye rejilla de piso 3"x 2" combinada en bronce y aluminio, sifón CxC y todo lo necesario para su correcta instalación. | H37: un | I37: =H1255 -> #REF!
B38: 7.3 | C38: Suministro, transporte e instalación de SALIDA SANITARIA DE 4". Incluye todos los accesorios hasta el tapón de prueba. Se pagará dicha salida hasta un recorrido máximo de tubería no mayor a 2 m. Estos deberán estar correctamente pegados usando limpiador, soldadura y teflón apropiados, sin presentar fugas, fisuras o cualquier otra clase de anomalía. Incluye además las perforaciones (canchas) de paredes o pisos que lo requieran incluyendo cargue, transporte y botada de escombros en botaderos oficiales o donde indique la interventoría. | D38: Suministro, transporte e instalación de SALIDA SANITARIA DE 4". Incluye todos los accesorios hasta el tapón de prueba. Se pagará dicha salida hasta un recorrido máximo de tubería no mayor a 2 m. Estos deberán estar correctamente pegados usando limpiador, soldadura y teflón apropiados, sin presentar fugas, fisuras o cualquier otra clase de anomalía. Incluye además las perforaciones (canchas) de paredes o pisos que lo requieran incluyendo cargue, transporte y botada de escombros en botaderos oficiales o donde indique la interventoría. | E38: Suministro, transporte e instalación de SALIDA SANITARIA DE 4". Incluye todos los accesorios hasta el tapón de prueba. Se pagará dicha salida hasta un recorrido máximo de tubería no mayor a 2 m. Estos deberán estar correctamente pegados usando limpiador, soldadura y teflón apropiados, sin presentar fugas, fisuras o cualquier otra clase de anomalía. Incluye además las perforaciones (canchas) de paredes o pisos que lo requieran incluyendo cargue, transporte y botada de escombros en botaderos oficiales o donde indique la interventoría. | F38: Suministro, transporte e instalación de SALIDA SANITARIA DE 4". Incluye todos los accesorios hasta el tapón de prueba. Se pagará dicha salida hasta un recorrido máximo de tubería no mayor a 2 m. Estos deberán estar correctamente pegados usando limpiador, soldadura y teflón apropiados, sin presentar fugas, fisuras o cualquier otra clase de anomalía. Incluye además las perforaciones (canchas) de paredes o pisos que lo requieran incluyendo cargue, transporte y botada de escombros en botaderos oficiales o donde indique la interventoría. | G38: Suministro, transporte e instalación de SALIDA SANITARIA DE 4". Incluye todos los accesorios hasta el tapón de prueba. Se pagará dicha salida hasta un recorrido máximo de tubería no mayor a 2 m. Estos deberán estar correctamente pegados usando limpiador, soldadura y teflón apropiados, sin presentar fugas, fisuras o cualquier otra clase de anomalía. Incluye además las perforaciones (canchas) de paredes o pisos que lo requieran incluyendo cargue, transporte y botada de escombros en botaderos oficiales o donde indique la interventoría. | H38: un | I38: =H1295 -> #REF!
B39: 7.4 | C39: Suministro, transporte e instalación de TUBERÍA PVC-SANITARIA, con un DIÁMETRO DE 4", para aguas residuales o lluvia ENTERRADA y/o EMPOTRADA por losas. Incluye suministro y transporte de los materiales, accesorios, pegante, limpiador y todos los elementos necesarios para su correcta instalación y funcionamiento. La excavación y los llenos se pagaran en su ítem respectivo. | D39: Suministro, transporte e instalación de TUBERÍA PVC-SANITARIA, con un DIÁMETRO DE 4", para aguas residuales o lluvia ENTERRADA y/o EMPOTRADA por losas. Incluye suministro y transporte de los materiales, accesorios, pegante, limpiador y todos los elementos necesarios para su correcta instalación y funcionamiento. La excavación y los llenos se pagaran en su ítem respectivo. | E39: Suministro, transporte e instalación de TUBERÍA PVC-SANITARIA, con un DIÁMETRO DE 4", para aguas residuales o lluvia ENTERRADA y/o EMPOTRADA por losas. Incluye suministro y transporte de los materiales, accesorios, pegante, limpiador y todos los elementos necesarios para su correcta instalación y funcionamiento. La excavación y los llenos se pagaran en su ítem respectivo. | F39: Suministro, transporte e instalación de TUBERÍA PVC-SANITARIA, con un DIÁMETRO DE 4", para aguas residuales o lluvia ENTERRADA y/o EMPOTRADA por losas. Incluye suministro y transporte de los materiales, accesorios, pegante, limpiador y todos los elementos necesarios para su correcta instalación y funcionamiento. La excavación y los llenos se pagaran en su ítem respectivo. | G39: Suministro, transporte e instalación de TUBERÍA PVC-SANITARIA, con un DIÁMETRO DE 4", para aguas residuales o lluvia ENTERRADA y/o EMPOTRADA por losas. Incluye suministro y transporte de los materiales, accesorios, pegante, limpiador y todos los elementos necesarios para su correcta instalación y funcionamiento. La excavación y los llenos se pagaran en su ítem respectivo. | H39: ml | I39: =H1337 -> #REF!
B40: 7.5 | C40: Construcción de caja de inspección y/o empalme de 40x40x40 cm en concreto de 17.5Mpa, medidas internas (L=40cm). Incluye suministro, transporte e instalación de los materiales, tapa y herraje y todos los elementos necesarios para su correcta construcción y funcionamiento. Según normas técnicas de EEPP de Medellín. La excavación, llenos, entresuelo y acero de refuerzo se pagarán en su ítem respectivo. | D40: Construcción de caja de inspección y/o empalme de 40x40x40 cm en concreto de 17.5Mpa, medidas internas (L=40cm). Incluye suministro, transporte e instalación de los materiales, tapa y herraje y todos los elementos necesarios para su correcta construcción y funcionamiento. Según normas técnicas de EEPP de Medellín. La excavación, llenos, entresuelo y acero de refuerzo se pagarán en su ítem respectivo. | E40: Construcción de caja de inspección y/o empalme de 40x40x40 cm en concreto de 17.5Mpa, medidas internas (L=40cm). Incluye suministro, transporte e instalación de los materiales, tapa y herraje y todos los elementos necesarios para su correcta construcción y funcionamiento. Según normas técnicas de EEPP de Medellín. La excavación, llenos, entresuelo y acero de refuerzo se pagarán en su ítem respectivo. | F40: Construcción de caja de inspección y/o empalme de 40x40x40 cm en concreto de 17.5Mpa, medidas internas (L=40cm). Incluye suministro, transporte e instalación de los materiales, tapa y herraje y todos los elementos necesarios para su correcta construcción y funcionamiento. Según normas técnicas de EEPP de Medellín. La excavación, llenos, entresuelo y acero de refuerzo se pagarán en su ítem respectivo. | G40: Construcción de caja de inspección y/o empalme de 40x40x40 cm en concreto de 17.5Mpa, medidas internas (L=40cm). Incluye suministro, transporte e instalación de los materiales, tapa y herraje y todos los elementos necesarios para su correcta construcción y funcionamiento. Según normas técnicas de EEPP de Medellín. La excavación, llenos, entresuelo y acero de refuerzo se pagarán en su ítem respectivo. | H40: un | I40: =H1378 -> #REF!
