Workbook
Name AÑOS: '[1]mes,diaaño'!$C$2
Name AÑOS: '[2]mes,diaaño'!$C$2
Name dias: '[1]mes,diaaño'!$A$2:$A$32
Name dias: '[2]mes,diaaño'!$A$2:$A$32
Name MES: '[1]mes,diaaño'!$B$2:$B$13
Name MES: '[2]mes,diaaño'!$B$2:$B$13

Sheet 1. Disponibilidad
D2: SECRETARIA DE EDUCACIÓN | L2: Código:
D3: FONDO DE SERVICIOS EDUCATIVOS | L3: Versión:
D4: CERTIFICADO DISPONIBILIDAD PRESUPUESTAL (CDP) | L4: Fecha de aprobación:
B5: FONDO DE SERVICIOS EDUCATIVOS | F5: INSTITUCIÓN EDUCATIVA TECNICO INDUSTRIAL ANTONIO ALVAREZ RESTREPO
B6: MUNICIPIO | F6: SONSON
J7: SOLICITUD | K7: 7 | L7: CONSECUTIVO: | M7: 7
B8: Fecha de Elaboración: | D8: 23 | E8: Enero | F8: 2026
D9: dia | E9: mes | F9: año
B12: CERTIFICO DISPONIBILIDAD PRESUPUESTAL POR:
I14: Valor | J14: =+M24 -> 27929882
B15: A la fecha de expedición del presente documento existe apropiación con saldo disponible contra el cual se puede ordenar gastos en el rubro y valor que se detalla a continuación:
B17: RUBRO | E17: FUENTE | H17: CENTRO DE COSTOS | J17: VALOR DISPONIBILIDAD | K17: ADICION A DISPONIBILIDAD | L17: REDUCCION A DISPONIBILIDAD | M17: VALOR ($)
B18: 2.3.2.02.02.005.01 Servicios de la Construcción - INFRAESTRUCTURA | E18: 05_Recursos de Capital | H18: FSE | I18: TECNICO INDUSTRIAL | J18: 27929882 | M18: =+J18+K18-L18 -> 27929882
M19: =+J19+K19-L19 -> 0
M20: =+J20+K20-L20 -> 0
M21: =+J21+K21-L21 -> 0
M22: =+J22+K22-L22 -> 0
M23: =+J23+K23-L23 -> 0
B24: TOTAL | J24: =SUM(J18:J23) -> 27929882 | K24: =SUM(K18:K23) -> 0 | L24: =SUM(L18:L23) -> 0 | M24: =+J24+K24-L24 -> 27929882
B26: Dentro del presupuesto de Egresos de la vigencia: | F26: 2025
B27: Por concepto de: | F27: SERVICIOS DE CONSTRUCCION FIRMES CON LA INFRAESTRUCTURA
G33: Firma Tesorero (a)
G35: CRISTHIAN LEON ALZATE CARDONA
G36: Nombre

Sheet 2. Compromiso 
D2: SECRETARIA DE EDUCACIÓN | J2: Código:
D3: FONDO DE SERVICIOS EDUCATIVOS | J3: Versión:
D4: REGISTRO COMPROMISO PRESUPUESTAL (RPC) | J4: Fecha de aprobación:
B5: FONDO DE SERVICIOS EDUCATIVOS | F5: INSTITUCIÓN EDUCATIVA TECNICO INDUSTRIAL ANTONIO ALVAREZ RESTREPO
B6: MUNICIPIO | F6: SONSON
G7: CDP | H7: =+'1. Disponibilidad'!M7:M8 -> 7 | J7: CONSECUTIVO: | K7: 7
B9: Fecha de Elaboración: | D9: 27 | E9: Enero | F9: 2026
D10: dia | E10: mes | F10: año
B12: CERTIFICO COMPROMISO PRESUPUESTAL POR:
B14: VALOR CDP | C14: =+'1. Disponibilidad'!J14 -> 27929882 | G14: Valor: | H14: =+K25 -> 27929882
B16: CON CARGO A:
B18: No. CDP | C18: RUBRO | E18: FUENTE | F18: C. COSTOS | H18: VALOR COMPROMISO | I18: ADICION DE COMPROMISO | J18: REDUCCION DE COMPROMISO | K18: VALOR
B19: =+'1. Disponibilidad'!M7 -> 7 | C19: ='1. Disponibilidad'!B18 -> 2.3.2.02.02.005.01 Servicios de la Construcción - INFRAESTRUCTURA | E19: ='1. Disponibilidad'!E18 -> 05_Recursos de Capital | F19: =+'1. Disponibilidad'!H18 -> FSE | G19: =+'1. Disponibilidad'!I18 -> TECNICO INDUSTRIAL | H19: 27929882 | K19: =+H19+I19-J19 -> 27929882
C20: ='1. Disponibilidad'!B19 -> 0 | E20: ='1. Disponibilidad'!E19 -> 0 | F20: =+'1. Disponibilidad'!H19 -> 0 | G20: =+'1. Disponibilidad'!I19 -> 0 | K20: =+H20+I20-J20 -> 0
C21: ='1. Disponibilidad'!B20 -> 0 | E21: ='1. Disponibilidad'!E20 -> 0 | F21: =+'1. Disponibilidad'!H20 -> 0 | G21: =+'1. Disponibilidad'!I20 -> 0 | K21: =+H21+I21-J21 -> 0
C22: ='1. Disponibilidad'!B21 -> 0 | E22: ='1. Disponibilidad'!E21 -> 0 | F22: =+'1. Disponibilidad'!H21 -> 0 | G22: =+'1. Disponibilidad'!I21 -> 0 | K22: =+H22+I22-J22 -> 0
C23: ='1. Disponibilidad'!B22 -> 0 | E23: ='1. Disponibilidad'!E22 -> 0 | F23: =+'1. Disponibilidad'!H22 -> 0 | G23: =+'1. Disponibilidad'!I22 -> 0 | K23: =+H23+I23-J23 -> 0
C24: ='1. Disponibilidad'!B23 -> 0 | E24: ='1. Disponibilidad'!E23 -> 0 | F24: =+'1. Disponibilidad'!H23 -> 0 | G24: =+'1. Disponibilidad'!I23 -> 0 | K24: =+H24+I24-J24 -> 0
B25: TOTAL | H25: =SUM(H19:H24) -> 27929882 | I25: =SUM(I19:I24) -> 0 | J25: =SUM(J19:J24) -> 0 | K25: =+H25+I25-J25 -> 27929882
B27: Dentro del presupuesto de Egresos de la vigencia: | E27: 2025
B28: A favor de: | C28: Nombre: | D28: TRANSVIAS DE COLOMBIA SAS
C29: Cédula / NIT: | D29: 901251338
B30: Por concepto de: | D30: =+'1. Disponibilidad'!F27 -> SERVICIOS DE CONSTRUCCION FIRMES CON LA INFRAESTRUCTURA
C36: Firma Ordenador del Gasto | G36: Firma Tesorero (a)
C37: JUAN DAVID GARCIA | G37: CRISTHIAN LEON ALZATE CARDONA
C38: Nombre | G38: Nombre

Sheet 3. Comprobante de egresos 
E2: SECRETARIA DE EDUCACIÓN | K2: Código:
E3: FONDO DE SERVICIOS EDUCATIVOS | K3: Versión:
E4: COMPROBANTE DE EGRESO CON AFECTACION | K4: Fecha de aprobación:
B5: FONDO DE SERVICIOS EDUCATIVOS | F5: =+'1. Disponibilidad'!F5:M5 -> INSTITUCIÓN EDUCATIVA TECNICO INDUSTRIAL ANTONIO ALVAREZ RESTREPO
B6: MUNICIPIO | F6: =+'1. Disponibilidad'!F6:M6 -> SONSON
J7: CONSECUTIVO:
B8: Fecha de Elaboración:
D9: dia | E9: mes | F9: año
D11: CDP | E11: RPC
D12: =+'2. Compromiso '!H7 -> 7 | E12: =+'2. Compromiso '!K7 -> 7
B13: fecha: | D13: =+CONCATENATE('1. Disponibilidad'!D8,'1. Disponibilidad'!E8,'1. Disponibilidad'!F8) -> 23Enero2026 | E13: =+CONCATENATE('2. Compromiso '!D9,'2. Compromiso '!E9,'2. Compromiso '!F9) -> 27Enero2026
B16: A favor de: | C16: =+'2. Compromiso '!D28 -> TRANSVIAS DE COLOMBIA SAS | G16: CÉDULA/NIT: | H16: =+'2. Compromiso '!D29 -> 901251338
B19: Concepto:
B23: RUBRO | C23: FUENTE FINANCIACION | D23: VALOR BRUTO | E23: RETEFUENTE | G23: RETEIVA | H23: RETEICA | I23: OTRAS RETENCIONES | J23: TOTAL RETENCIONES | K23: TOTAL A PAGAR
E24: Concepto | F24: Valor
B25: 2.3.2.01.01.005.01.02.02 Árboles, cultivos y plantas que generan ptos. en forma repetida _ Proyecto ERA | J25: =+F34+G34+H34+I34 -> 0 | K25: =+D34-J25 -> 0
B34: TOTAL | D34: =SUM(D25:D33) -> 0 | F34: =SUM(F25:F33) -> 0 | G34: =SUM(G25:G33) -> 0 | H34: =SUM(H25:H33) -> 0 | I34: =SUM(I25:I33) -> 0
D38: Nombre de la cuenta | E38: No. Cuenta | F38: Tipo Cuenta | G38: Nombre Banco | H38: No. Cheque /Transacción | I38: Valor a Pagar
D39: TRANSVIAS DE COLOMBIA SAS | E39: 16200024226 | F39: Ahorros | G39: BANCOLOMBIA | I39: =+K25 -> 0
G41: TOTAL | I41: =+I39 -> 0
B45: FIRMA ORDENADOR DEL GASTO | D45: FIRMA TESORERO (A) | G45: FIRMA BENEFICIARIO | J45: FIRMA CONTADOR
B46: Nombre: JUAN DAVID GARCIA PALACIO | D46: Nombre: CRISTHIAN LEON ALZATE CARDONA | G46: Nombre: | J46: Nombre: NELSON LOPEZ

Sheet LISTAS
A1: Rubros | E1: DÍA | F1: MES | G1: AÑO | J1: FUENTES
A2: 2.1.2.02.02.008.01.01 Honorarios y servicios Técnicos_RP | E2: 1 | F2: Enero | G2: 2025 | I2: FSE | J2: 01_Recursos propios | L2: Honorarios
A3: 2.1.2.02.02.008.01.02 Mantenimiento y Reparación_RP | E3: 2 | F3: Febrero | G3: 2026 | I3: Asociado | J3: 02_Gratuidad | L3: Comisiones
A4: 2.1.2.02.02.008.01.03 Materiales y Suministros_RP | E4: 3 | F4: Marzo | G4: 2027 | J4: 03_Otras Transf. | L4: Servicios
A5: 2.1.2.02.02.008.01.04 Combustibles y lubricantes_RP | E5: 4 | F5: Abril | G5: 2028 | J5: 04_Form.Complementaria | L5: Arrendamientos
A6: 2.1.2.02.02.008.01.05 Arrendamientos de bienes muebles e inmuebles_RP | E6: 5 | F6: Mayo | G6: 2029 | J6: 05_Recursos de Capital | L6: Gravamenes
A7: 2.1.2.02.02.008.01.06 Impresos y publicaciones_RP | E7: 6 | F7: Junio | G7: 2030 | L7: Compras
A8: 2.1.2.02.02.008.01.07 Servicios Públicos_RP | E8: 7 | F8: Julio | G8: 2031 | L8: Impuesto a las ventas retenido por consignar
A9: 2.1.2.02.02.008.01.08 Primas y Seguros_RP | E9: 8 | F9: Agosto | G9: 2032 | J9: Ahorros | L9: Contratos de obra
A10: 2.1.2.02.02.008.01.09 Comunicaciones y Transportes_RP | E10: 9 | F10: Septiembre | G10: 2033 | J10: Corriente | L10: Impuesto de industria y comercio por compras
A11: 2.1.2.02.02.008.01.10 Actividades Pedagógicas, Científicas, Culturales y Deportivas_RP | E11: 10 | F11: Octubre | G11: 2034 | J11: Maestra | L11: Impuesto de industria y comercio por ventas
A12: 2.1.2.02.02.008.01.11 Inscripción y Participación en Competencias Deportivas, Culturales, Pedagógicas y Científicas_RP | E12: 11 | F12: Noviembre | G12: 2035 | J12: Maestra Pagadora | L12: Otras Retenciones
A13: 2.1.2.02.02.008.01.12 Gastos de viajes_RP | E13: 12 | F13: Diciembre | G13: 2036 | L13: Pagos
A14: 2.1.2.02.02.008.02.01 Honorarios y servicios Técnicos_GR | E14: 13 | G14: 2037
A15: 2.1.2.02.02.008.02.02 Mantenimiento y Reparación_GR | E15: 14 | G15: 2038
A16: 2.1.2.02.02.008.02.03 Materiales y Suministros_GR | E16: 15 | G16: 2039
A17: 2.1.2.02.02.008.02.04 Combustibles y lubricantes_GR | E17: 16 | G17: 2040
A18: 2.1.2.02.02.008.02.05 Arrendamiento de bienes muebles e inmuebles_GR | E18: 17
A19: 2.1.2.02.02.008.02.06 Impresos y publicaciones_GR | E19: 18
A20: 2.1.2.02.02.008.02.07 Servicios Públicos_GR | E20: 19
A21: 2.1.2.02.02.008.02.08 Primas y Seguros_GR | E21: 20
A22: 2.1.2.02.02.008.02.09 Comunicaciones y Transporte_GR | E22: 21
A23: 2.1.2.02.02.008.02.10 Actividades Pedagógicas, Científicas, Culturales y Deportivas_GR | E23: 22
A24: 2.1.2.02.02.008.02.11 Inscripción y Participación en Competencias Deportivas, Culturales, Pedagógicas y Científicas_GR | E24: 23
A25: 2.1.2.02.02.008.02.12 Gastos de viaje_GR | E25: 24
A26: 2.1.2.02.02.008.04.01 Horas catedra_FC | E26: 25
A27: 2.1.2.02.02.008.04.02 Dotación pedagógica_FC | E27: 26
A28: 2.1.2.02.02.008.04.03 Gastos de viaje_FC | E28: 27
A29: 2.1.2.02.02.008.04.04 Actividades Pedagógicas, Científicas, Culturales y Deportivas_FC | E29: 28
... A32: 2.1.8.01.14.02 Gravamen Gratuidad Calidad | E32: 31
A33: 2.1.8.01.14.04 Gravamen Ciclo Complementario
A34: 2.3.2.01.01.003.02.02 Máquinas herramientas y sus partes, piezas y accesorios
A35: 2.3.2.01.01.003.02.02.01 Máquinas herramientas y sus partes, piezas y accesorios_Proyecto ERA
A36: 2.3.2.01.01.003.02.08 Otra maquinaria para usos especiales y sus partes y piezas
A37: 2.3.2.01.01.003.02.08.01 Otra maquinaria para usos especiales y sus partes y piezas_Proyecto ERA
A38: 2.3.2.01.01.003.03.01 Máquinas para oficina y contabilidad, y sus partes y accesorios
A39: 2.3.2.01.01.003.03.02 Maquinaria de informática y sus partes, piezas y accesorios
A40: 2.3.2.01.01.003.03.02.01 Maquinaria de informática y sus partes, piezas y accesorios- JORNADA EXTENDIDA
A41: 2.3.2.01.01.003.03.02.02 Maquinaria de informática y sus partes, piezas y accesorios- FORMACIÓN INTEGRAL
A42: 2.3.2.01.01.003.03.02.03 Maquinaria de informática y sus partes, piezas y accesorios- PRIMERA INFANCIA
...
