Workbook
Name SegmentaciónDeDatos_RESPONSABLE_FINAL: #N/A
Name SegmentaciónDeDatos_TIPO_DE_NOTIFICACIÓN: #N/A

Sheet Detalle1
A1: Detalles para Cuenta de TIPO DE NOTIFICACIÓN - RESPONSABLE FINAL: Fanny Villarraga
A3: ESTADO ACTUAL | B3: RESPONSABLE FINAL | C3: FECHA INICIO DE GESTION | D3: MEDICION DE INICIO DE GESTIÓN | E3: TIPO DE NOTIFICACIÓN | F3: FECHA REAL DE NOTIFICACIÓN | G3: DÍAS DE GESTIÓN | H3: ALERTA | I3: OBSERVACIONES | J3: ACTO ADMINISTRATIVO | K3: FECHA DEL ACTO ADMINISTRATIVO | L3: FECHA DE ASIGNACIÓN | M3: FECHA DE GESTION | N3: NOMBRE USUARIO A QUIEN SE REASIGNA GESTION DE NOTIFICACION | O3: FECHA DE REASIGNACIÓN | P3: FECHA DE GESTION REASIGNACION | Q3: PRODUCTO CONFORME | R3: MOTIVO | S3: SE REALIZA SUBSANACIÓN | T3: FECHA DE SUBSANACIÓN | U3: DEPENDENCIA QUE REMITE EL ACTO ADMINISTRATIVO | V3: RADICADO DE ENTRADA | W3: FECHA RADICADO DE ENTRADA | X3: CEDULA/NIT | Y3: NOMBRE PERSONA JURIDICA o NATURAL | Z3: DIRECCIÓN FÍSICA | AA3: CIUDAD | AB3: CORREO ELECTRÓNICO | AC3: TRÁMITE | AD3: DETALLE DEL TRAMITE (PLACAS, TIPO DE CREDENCIAL) | AE3: DECISIÓN | AF3: ¿APLICA CARGUE AL RUNT? | AG3: FECHA DEL CARGUE AL RUNT | AH3: ESTADO NOTIFICACION ELECTRONICA | AI3: PROCEDE NOTIFICACIÓN ELECTRONICA | AJ3: FECHA ENTREGA A 472 PARA NOTIFICACIÓN ELECTRONICA | AK3: ¿SE NOTIFICO ELECTRONICAMENTE? | AL3: FECHA MAXIMA PARA SEGUIMIENTO ENTREGA | AM3: FUE EFECTIVA? | AN3: FECHA EFECTIVA DE LA NOTIFICACIÓN ELECTRONICA | AO3: FORMULA CITACIÓN / AVISO | AP3: TIPO DE ENVIO | AQ3: FECHA DE REVISIÓN | AR3: FECHA DE FIRMA | AS3: NUMERO DE RADICADO DE SALIDA | AT3: FECHA DE ENVÍO | AU3: NUMERO DE GUIA (ENVIO FISICO) | AV3: SE ENTREGO EFECTIVAMENTE | AW3: FECHA EFECTIVA DE LA ENTREGA CITACIÓN | AX3: FECHA MAXIMA PARA SEGUIMIENTO ENTREGA - CITACIÓN Y/O COMUNICACIÓN | AY3: ESTADO PROCESO CITACIÓN | AZ3: FECHA MAXIMA DE PRESENTACIÓN DEL USUARIO | BA3: SE PRESENTÓ? | BB3: NOTIFICADOR PRESENCIAL | BC3: FECHA DE LA NOTIFICACION PERSONAL | BD3: FORMULA AVISO | BE3: FECHA ELABORACIÓN AVISO | BF3: FECHA REVISION AVISO | BG3: FECHA DE FIRMA DE AVISO | BH3: NUMERO DE RADICADO DEL AVISO | BI3: FECHA ENVÍO AVISO | BJ3: No GUIA DEL AVISO | BK3: SE ENTREGO AVISO EFECTIVAMENTE | BL3: FECHA MAXIMA PARA SEGUIMIENTO ENTREGA2 | BM3: ESTADO AVISO | BN3: ESTADO PUBLICACIÓN | BO3: FECHA DE PUBLICACIÓN EN PAGINA WEB | BP3: FECHA EFECTIVA DE NOTIFICACION POR AVISO | BQ3: FUE EFECTIVA LA PUBLICACIÓN | BR3: PROCEDE RECURSO | BS3: TIPO DE RECURSO QUE LE PROCEDE | BT3: TÉRMINO RECURSOS | BU3: FECHA ESTIMADA PARA REALIZAR DE EJECUTORIA | BV3: PROCEDE EJECUTORIA | BW3: FECHA TRÁMITE EJECUTORIA | BX3: FECHA DE REVISIÓN EJECUTORIA | BY3: FECHA FIRMA EJECUTORIA | BZ3: ESTADO EJECUTORIA | CA3: ESTADO TRASLADOS | CB3: PROCEDEN MEMORANDOS | CC3: DEPENDENCIA DEL MEMORANDO | CD3: FECHA DE REVISION MEMORANDO | CE3: FECHA FIRMA MEMORANDO | CF3: RADICADO | CG3: FECHA DE ENVIÓ MEMORANDO | CH3: PROCEDEN OFICIOS | CI3: FECHA DE REVISION OFICIO | CJ3: FECHA DE FIRMA OFICIO EXTERNO | CK3: RADICADO DEL OFICIO EXTERNO | CL3: FECHA DEL RADICADO OFICIO EXTERNO | CM3: FECHA ENVIO DEL OFICIO
A4: SIN GESTIÓN | B4: Fanny Villarraga | C4: 46038 | E4: PENDIENTE DE NOTIFICACIÓN | H4: A TIEMPO | I4: URGENTE PDTE PRUEBA DE ENTREGA 23-01 | J4: 20254200109557CS | K4: 46013 | L4: 46038 | M4: 46038 | Q4: SI | U4: 420 GRUPO DE ESQUEMAS AUTORPROTECCIÓN | V4: 205002061CE | W4: 45779 | X4: 900581703 | Y4: NEOSTAR SEGURIDAD DE COLOMBIA LTDA | Z4: CL 79 B NO. 55 47 | AA4: BOGOTÁ D.C. | AB4: NOTIFICACIONESJUDICIALES@NEOSECURITY.CO | AC4: DESBLINDAJE | AD4: JDV 825 | AE4: AUTORIZA | AF4: NO | AH4: PENDIENTE ENVÍO NOTIFICACIÓN ELECTRÓNICA | AI4: SI | AJ4: 46038 | AL4: 46045 | AO4: NOTIFICAR POR CITACION | AY4: PENDIENTE GESTIONAR CITACIÓN | BD4: NO APLICA | BM4: PENDIENTE HACER AVISO | BN4: EN TRÁMITE NOTIF. POR AVISO | BT4: #N/A | BU4: EN PROCESO NOTIFICACION / COMUNICACION | BZ4: PENDIENTE EJECUTORIA
A5: SIN GESTIÓN | B5: Fanny Villarraga | C5: 46038 | E5: PENDIENTE DE NOTIFICACIÓN | H5: A TIEMPO | I5: PDTE PRUEBA 23-01 | J5: 20264300000247CS | K5: 46037 | L5: 46038 | M5: 46038 | Q5: SI | U5: 430 - 444 GRUPO DE CONSULTORIA Y CAPACITACIÓN | V5: 2025015116CE | W5: 45931 | X5: 80722131 | Y5: OSCAR LEONARDO ALVAREZ ESTEVEZ | Z5: VIA SIRIVANA NO 14-120 CASA 5 CONJUNTO CARACARO | AA5: YOPAL CASANARE | AB5: oscar3742@hotmail.com | AC5: ACREDITACIÓN COMO CONSULTOR, ASESOR, E INVESTIGADOR EN SEGURIDAD PRIVADA, GUÍA O INSTRUCTOR CANINO | AD5: NO APLICA | AE5: CONCEDE | AF5: NO | AH5: PENDIENTE ENVÍO NOTIFICACIÓN ELECTRÓNICA | AI5: SI | AJ5: 46038 | AL5: 46045 | AO5: NOTIFICAR POR CITACION | AY5: PENDIENTE GESTIONAR CITACIÓN | BD5: NO APLICA | BM5: PENDIENTE HACER AVISO | BN5: EN TRÁMITE NOTIF. POR AVISO | BT5: #N/A | BU5: EN PROCESO NOTIFICACION / COMUNICACION | BZ5: PENDIENTE EJECUTORIA
A6: SIN GESTIÓN | B6: Fanny Villarraga | C6: 46038 | E6: PENDIENTE DE NOTIFICACIÓN | H6: A TIEMPO | I6: PDTE PRUEBA 23-01 | J6: 20264300000237CS | K6: 46037 | L6: 46038 | M6: 46038 | Q6: SI | U6: 430 - 444 GRUPO DE CONSULTORIA Y CAPACITACIÓN | V6: 2025015130CE | W6: 45931 | X6: 1052403953 | Y6: BRAYAN ALEXIS ESTEPA MENDIVELSO | Z6: CALLE 49C SUR NO 05-85 | AA6: BOGOTÁ D.C. | AB6: estepab093@gmail.com | AC6: ACREDITACIÓN COMO CONSULTOR, ASESOR, E INVESTIGADOR EN SEGURIDAD PRIVADA, GUÍA O INSTRUCTOR CANINO | AD6: NO APLICA | AE6: CONCEDE | AF6: NO | AH6: PENDIENTE ENVÍO NOTIFICACIÓN ELECTRÓNICA | AI6: SI | AJ6: 46038 | AL6: 46045 | AO6: NOTIFICAR POR CITACION | AY6: PENDIENTE GESTIONAR CITACIÓN | BD6: NO APLICA | BM6: PENDIENTE HACER AVISO | BN6: EN TRÁMITE NOTIF. POR AVISO | BT6: #N/A | BU6: EN PROCESO NOTIFICACION / COMUNICACION | BZ6: PENDIENTE EJECUTORIA
A7: SIN GESTIÓN | B7: Fanny Villarraga | C7: 46038 | E7: PENDIENTE DE NOTIFICACIÓN | H7: A TIEMPO | I7: PDTE PRUEBA 23-01 | J7: 20264300000227CS | K7: 46037 | L7: 46038 | M7: 46038 | Q7: SI | U7: 430 - 444 GRUPO DE CONSULTORIA Y CAPACITACIÓN | V7: 2025015246CE | W7: 45932 | X7: 88234363 | Y7: JHON ALEXIS GARCIA SANGUINO | Z7: Mz39 TRANSVESAL 10 NO 16A -50 ANIVERSARIO 1 | AA7: CÚCUTA | AB7: jhon.garcia363@casur.gov.co | AC7: ACREDITACIÓN COMO CONSULTOR, ASESOR, E INVESTIGADOR EN SEGURIDAD PRIVADA, GUÍA O INSTRUCTOR CANINO | AD7: NO APLICA | AE7: CONCEDE | AF7: NO | AH7: PENDIENTE ENVÍO NOTIFICACIÓN ELECTRÓNICA | AI7: SI | AJ7: 46038 | AL7: 46045 | AO7: NOTIFICAR POR CITACION | AY7: PENDIENTE GESTIONAR CITACIÓN | BD7: NO APLICA | BM7: PENDIENTE HACER AVISO | BN7: EN TRÁMITE NOTIF. POR AVISO | BT7: #N/A | BU7: EN PROCESO NOTIFICACION / COMUNICACION | BZ7: PENDIENTE EJECUTORIA
A8: SIN GESTIÓN | B8: Fanny Villarraga | C8: 46038 | E8: PENDIENTE DE NOTIFICACIÓN | H8: A TIEMPO | I8: PDTE PRUEBA 23-01 | J8: 20264300000217CS | K8: 46037 | L8: 46038 | M8: 46038 | Q8: SI | U8: 430 - 444 GRUPO DE CONSULTORIA Y CAPACITACIÓN | V8: 2025015249CE | W8: 45932 | X8: 80004495 | Y8: CESAR ZEUX ORTIZ VASQUEZ | Z8: CARRERA 50A NO 35-05 | AA8: BOGOTÁ D.C. | AB8: cesarzauxortizvasquez@gmail.com | AC8: ACREDITACIÓN COMO CONSULTOR, ASESOR, E INVESTIGADOR EN SEGURIDAD PRIVADA, GUÍA O INSTRUCTOR CANINO | AD8: NO APLICA | AE8: CONCEDE | AF8: NO | AH8: PENDIENTE ENVÍO NOTIFICACIÓN ELECTRÓNICA | AI8: SI | AJ8: 46038 | AL8: 46045 | AO8: NOTIFICAR POR CITACION | AY8: PENDIENTE GESTIONAR CITACIÓN | BD8: NO APLICA | BM8: PENDIENTE HACER AVISO | BN8: EN TRÁMITE NOTIF. POR AVISO | BT8: #N/A | BU8: EN PROCESO NOTIFICACION / COMUNICACION | BZ8: PENDIENTE EJECUTORIA
A9: SIN GESTIÓN | B9: Fanny Villarraga | C9: 46038 | E9: PENDIENTE DE NOTIFICACIÓN | H9: A TIEMPO | I9: PDTE PRUEBA 23-01 | J9: 20264300000207CS | K9: 46037 | L9: 46038 | M9: 46038 | Q9: SI | U9: 430 - 444 GRUPO DE CONSULTORIA Y CAPACITACIÓN | V9: 2025015265CE | W9: 45932 | X9: 3837973 | Y9: ALVARO DANIEL AGUDELO MORALES | Z9: CARRERA 14 NO 24A-77 BARRIO NUEVO MAJAGUAL | AA9: SINCELEJO SUCRE | AB9: dianagudelo0803@gimail.com | AC9: ACREDITACIÓN COMO CONSULTOR, ASESOR, E INVESTIGADOR EN SEGURIDAD PRIVADA, GUÍA O INSTRUCTOR CANINO | AD9: NO APLICA | AE9: CONCEDE | AF9: NO | AH9: PENDIENTE ENVÍO NOTIFICACIÓN ELECTRÓNICA | AI9: SI | AJ9: 46038 | AL9: 46045 | AO9: NOTIFICAR POR CITACION | AY9: PENDIENTE GESTIONAR CITACIÓN | BD9: NO APLICA | BM9: PENDIENTE HACER AVISO | BN9: EN TRÁMITE NOTIF. POR AVISO | BT9: #N/A | BU9: EN PROCESO NOTIFICACION / COMUNICACION | BZ9: PENDIENTE EJECUTORIA

Sheet Detalle2
A1: Detalles para Cuenta de TIPO DE NOTIFICACIÓN - RESPONSABLE FINAL: Zabdy Jiménez
A3: ESTADO ACTUAL | B3: RESPONSABLE FINAL | C3: FECHA INICIO DE GESTION | D3: MEDICION DE INICIO DE GESTIÓN | E3: TIPO DE NOTIFICACIÓN | F3: FECHA REAL DE NOTIFICACIÓN | G3: DÍAS DE GESTIÓN | H3: ALERTA | I3: OBSERVACIONES | J3: ACTO ADMINISTRATIVO | K3: FECHA DEL ACTO ADMINISTRATIVO | L3: FECHA DE ASIGNACIÓN | M3: FECHA DE GESTION | N3: NOMBRE USUARIO A QUIEN SE REASIGNA GESTION DE NOTIFICACION | O3: FECHA DE REASIGNACIÓN | P3: FECHA DE GESTION REASIGNACION | Q3: PRODUCTO CONFORME | R3: MOTIVO | S3: SE REALIZA SUBSANACIÓN | T3: FECHA DE SUBSANACIÓN | U3: DEPENDENCIA QUE REMITE EL ACTO ADMINISTRATIVO | V3: RADICADO DE ENTRADA | W3: FECHA RADICADO DE ENTRADA | X3: CEDULA/NIT | Y3: NOMBRE PERSONA JURIDICA o NATURAL | Z3: DIRECCIÓN FÍSICA | AA3: CIUDAD | AB3: CORREO ELECTRÓNICO | AC3: TRÁMITE | AD3: DETALLE DEL TRAMITE (PLACAS, TIPO DE CREDENCIAL) | AE3: DECISIÓN | AF3: ¿APLICA CARGUE AL RUNT? | AG3: FECHA DEL CARGUE AL RUNT | AH3: ESTADO NOTIFICACION ELECTRONICA | AI3: PROCEDE NOTIFICACIÓN ELECTRONICA | AJ3: FECHA ENTREGA A 472 PARA NOTIFICACIÓN ELECTRONICA | AK3: ¿SE NOTIFICO ELECTRONICAMENTE? | AL3: FECHA MAXIMA PARA SEGUIMIENTO ENTREGA | AM3: FUE EFECTIVA? | AN3: FECHA EFECTIVA DE LA NOTIFICACIÓN ELECTRONICA | AO3: FORMULA CITACIÓN / AVISO | AP3: TIPO DE ENVIO | AQ3: FECHA DE REVISIÓN | AR3: FECHA DE FIRMA | AS3: NUMERO DE RADICADO DE SALIDA | AT3: FECHA DE ENVÍO | AU3: NUMERO DE GUIA (ENVIO FISICO) | AV3: SE ENTREGO EFECTIVAMENTE | AW3: FECHA EFECTIVA DE LA ENTREGA CITACIÓN | AX3: FECHA MAXIMA PARA SEGUIMIENTO ENTREGA - CITACIÓN Y/O COMUNICACIÓN | AY3: ESTADO PROCESO CITACIÓN | AZ3: FECHA MAXIMA DE PRESENTACIÓN DEL USUARIO | BA3: SE PRESENTÓ? | BB3: NOTIFICADOR PRESENCIAL | BC3: FECHA DE LA NOTIFICACION PERSONAL | BD3: FORMULA AVISO | BE3: FECHA ELABORACIÓN AVISO | BF3: FECHA REVISION AVISO | BG3: FECHA DE FIRMA DE AVISO | BH3: NUMERO DE RADICADO DEL AVISO | BI3: FECHA ENVÍO AVISO | BJ3: No GUIA DEL AVISO | BK3: SE ENTREGO AVISO EFECTIVAMENTE | BL3: FECHA MAXIMA PARA SEGUIMIENTO ENTREGA2 | BM3: ESTADO AVISO | BN3: ESTADO PUBLICACIÓN | BO3: FECHA DE PUBLICACIÓN EN PAGINA WEB | BP3: FECHA EFECTIVA DE NOTIFICACION POR AVISO | BQ3: FUE EFECTIVA LA PUBLICACIÓN | BR3: PROCEDE RECURSO | BS3: TIPO DE RECURSO QUE LE PROCEDE | BT3: TÉRMINO RECURSOS | BU3: FECHA ESTIMADA PARA REALIZAR DE EJECUTORIA | BV3: PROCEDE EJECUTORIA | BW3: FECHA TRÁMITE EJECUTORIA | BX3: FECHA DE REVISIÓN EJECUTORIA | BY3: FECHA FIRMA EJECUTORIA | BZ3: ESTADO EJECUTORIA | CA3: ESTADO TRASLADOS | CB3: PROCEDEN MEMORANDOS | CC3: DEPENDENCIA DEL MEMORANDO | CD3: FECHA DE REVISION MEMORANDO | CE3: FECHA FIRMA MEMORANDO | CF3: RADICADO | CG3: FECHA DE ENVIÓ MEMORANDO | CH3: PROCEDEN OFICIOS | CI3: FECHA DE REVISION OFICIO | CJ3: FECHA DE FIRMA OFICIO EXTERNO | CK3: RADICADO DEL OFICIO EXTERNO | CL3: FECHA DEL RADICADO OFICIO EXTERNO | CM3: FECHA ENVIO DEL OFICIO
A4: SIN GESTIÓN | B4: Zabdy Jiménez | E4: PENDIENTE DE NOTIFICACIÓN | H4: A TIEMPO | J4: 20264300000407CS | K4: 46037 | L4: 46038 | V4: 2025014626CE | AF4: NO | AH4: PENDIENTE NOTIFICACIÓN ELECTRÓNICA | AO4: NO APLICA | AY4: NO APLICA | BD4: NO APLICA | BM4: PENDIENTE HACER AVISO | BN4: EN TRÁMITE NOTIF. POR AVISO | BT4: #N/A | BU4: EN PROCESO NOTIFICACION / COMUNICACION | BZ4: PENDIENTE EJECUTORIA
A5: SIN GESTIÓN | B5: Zabdy Jiménez | E5: PENDIENTE DE NOTIFICACIÓN | H5: A TIEMPO | J5: 20264300000397CS | K5: 46037 | L5: 46038 | V5: 2025014733CE | AF5: NO | AH5: PENDIENTE NOTIFICACIÓN ELECTRÓNICA | AO5: NO APLICA | AY5: NO APLICA | BD5: NO APLICA | BM5: PENDIENTE HACER AVISO | BN5: EN TRÁMITE NOTIF. POR AVISO | BT5: #N/A | BU5: EN PROCESO NOTIFICACION / COMUNICACION | BZ5: PENDIENTE EJECUTORIA
A6: SIN GESTIÓN | B6: Zabdy Jiménez | E6: PENDIENTE DE NOTIFICACIÓN | H6: A TIEMPO | J6: 20264300000387CS | K6: 46037 | L6: 46038 | V6: 2025014928CE | AF6: NO | AH6: PENDIENTE NOTIFICACIÓN ELECTRÓNICA | AO6: NO APLICA | AY6: NO APLICA | BD6: NO APLICA | BM6: PENDIENTE HACER AVISO | BN6: EN TRÁMITE NOTIF. POR AVISO | BT6: #N/A | BU6: EN PROCESO NOTIFICACION / COMUNICACION | BZ6: PENDIENTE EJECUTORIA
A7: SIN GESTIÓN | B7: Zabdy Jiménez | E7: PENDIENTE DE NOTIFICACIÓN | H7: A TIEMPO | J7: 20264300000377CS | K7: 46037 | L7: 46038 | V7: 2025014972CE | AF7: NO | AH7: PENDIENTE NOTIFICACIÓN ELECTRÓNICA | AO7: NO APLICA | AY7: NO APLICA | BD7: NO APLICA | BM7: PENDIENTE HACER AVISO | BN7: EN TRÁMITE NOTIF. POR AVISO | BT7: #N/A | BU7: EN PROCESO NOTIFICACION / COMUNICACION | BZ7: PENDIENTE EJECUTORIA
A8: SIN GESTIÓN | B8: Zabdy Jiménez | E8: PENDIENTE DE NOTIFICACIÓN | H8: A TIEMPO | J8: 20264300000367CS | K8: 46037 | L8: 46038 | V8: 2025016537CE | AF8: NO | AH8: PENDIENTE NOTIFICACIÓN ELECTRÓNICA | AO8: NO APLICA | AY8: NO APLICA | BD8: NO APLICA | BM8: PENDIENTE HACER AVISO | BN8: EN TRÁMITE NOTIF. POR AVISO | BT8: #N/A | BU8: EN PROCESO NOTIFICACION / COMUNICACION | BZ8: PENDIENTE EJECUTORIA
A9: SIN GESTIÓN | B9: Zabdy Jiménez | E9: PENDIENTE DE NOTIFICACIÓN | H9: A TIEMPO | I9: URGENTE | J9: 20262300000577CS | K9: 46037 | L9: 46037 | M9: 46037 | Q9: NO | V9: 1815-SAN-SAN | X9: 860521986 | Y9: ARMOR INTERNATIONAL S.A.S | Z9: Avenida Calle 9 50 51 PARQUE EMPRESARIAL LAS AMERICAS | AA9: BOGOTA, D.C. | AB9: ARMOR@ARMORINTERNATIONAL.COM | AC9: REVOCATORIA DIRECTA | AD9: NO APLICA | AF9: NO | AH9: PENDIENTE ENVÍO NOTIFICACIÓN ELECTRÓNICA | AI9: SI | AJ9: 46037 | AL9: 46044 | AO9: NOTIFICAR POR CITACION | AY9: PENDIENTE GESTIONAR CITACIÓN | BD9: NO APLICA | BM9: PENDIENTE HACER AVISO | BN9: EN TRÁMITE NOTIF. POR AVISO | BT9: #N/A | BU9: EN PROCESO NOTIFICACION / COMUNICACION | BZ9: PENDIENTE EJECUTORIA
A10: SIN GESTIÓN | B10: Zabdy Jiménez | E10: PENDIENTE DE NOTIFICACIÓN | H10: VENCIDO | J10: 20254100108757CS | L10: 46035 | V10: 2024016592 | AF10: NO | AH10: PENDIENTE NOTIFICACIÓN ELECTRÓNICA | AO10: NO APLICA | AY10: NO APLICA | BD10: NO APLICA | BM10: PENDIENTE HACER AVISO | BN10: EN TRÁMITE NOTIF. POR AVISO | BT10: #N/A | BU10: EN PROCESO NOTIFICACION / COMUNICACION | BZ10: PENDIENTE EJECUTORIA
A11: SIN GESTIÓN | B11: Zabdy Jiménez | C11: 46038 | E11: PENDIENTE DE NOTIFICACIÓN | H11: VENCIDO | J11: 20254200108747CS | K11: 46009 | L11: 46035 | M11: 46038 | Q11: NO | V11: 2025002052CE | W11: 45779 | X11: 900581703 | Y11: NEOSTAR SEGURIDAD DE COLOMBIA LTDA - ALAN PERLMAN KATZ | Z11: CL 79 B NO. 55 47 | AA11: BOGOTA, D.C. | AB11: NOTIFICACIONESJUDICIALES@NEOSECURITY.CO | AC11: DESBLINDAJE | AD11: IWY 925 | AE11: AUTORIZA | AF11: NO | AH11: PENDIENTE ENVÍO NOTIFICACIÓN ELECTRÓNICA | AI11: SI | AJ11: 46038 | AL11: 46045 | AO11: NOTIFICAR POR CITACION | AY11: PENDIENTE GESTIONAR CITACIÓN | BD11: NO APLICA | BM11: PENDIENTE HACER AVISO | BN11: EN TRÁMITE NOTIF. POR AVISO | BT11: #N/A | BU11: EN PROCESO NOTIFICACION / COMUNICACION | BZ11: PENDIENTE EJECUTORIA
A12: SIN GESTIÓN | B12: Zabdy Jiménez | E12: PENDIENTE DE NOTIFICACIÓN | H12: VENCIDO | J12: 20252300108417CS | L12: 46035 | V12: 1068/2024/SAN | AF12: NO | AH12: PENDIENTE NOTIFICACIÓN ELECTRÓNICA | AO12: NO APLICA | AY12: NO APLICA | BD12: NO APLICA | BM12: PENDIENTE HACER AVISO | BN12: EN TRÁMITE NOTIF. POR AVISO | BT12: #N/A | BU12: EN PROCESO NOTIFICACION / COMUNICACION | BZ12: PENDIENTE EJECUTORIA
A13: SIN GESTIÓN | B13: Zabdy Jiménez | E13: PENDIENTE DE NOTIFICACIÓN | H13: VENCIDO | J13: 20252300108407CS | L13: 46035 | V13: 1049/2024/SAN | AF13: NO | AH13: PENDIENTE NOTIFICACIÓN ELECTRÓNICA | AO13: NO APLICA | AY13: NO APLICA | BD13: NO APLICA | BM13: PENDIENTE HACER AVISO | BN13: EN TRÁMITE NOTIF. POR AVISO | BT13: #N/A | BU13: EN PROCESO NOTIFICACION / COMUNICACION | BZ13: PENDIENTE EJECUTORIA
A14: SIN GESTIÓN | B14: Zabdy Jiménez | E14: PENDIENTE DE NOTIFICACIÓN | H14: VENCIDO | J14: 20252300108397CS | L14: 46035 | V14: 1038/2024/SAN | AF14: NO | AH14: PENDIENTE NOTIFICACIÓN ELECTRÓNICA | AO14: NO APLICA | AY14: NO APLICA | BD14: NO APLICA | BM14: PENDIENTE HACER AVISO | BN14: EN TRÁMITE NOTIF. POR AVISO | BT14: #N/A | BU14: EN PROCESO NOTIFICACION / COMUNICACION | BZ14: PENDIENTE EJECUTORIA
A15: SIN GESTIÓN | B15: Zabdy Jiménez | E15: PENDIENTE DE NOTIFICACIÓN | H15: VENCIDO | J15: 20252300108387CS | L15: 46035 | V15: 1027/2024/SAN | AF15: NO | AH15: PENDIENTE NOTIFICACIÓN ELECTRÓNICA | AO15: NO APLICA | AY15: NO APLICA | BD15: NO APLICA | BM15: PENDIENTE HACER AVISO | BN15: EN TRÁMITE NOTIF. POR AVISO | BT15: #N/A | BU15: EN PROCESO NOTIFICACION / COMUNICACION | BZ15: PENDIENTE EJECUTORIA
A16: SIN GESTIÓN | B16: Zabdy Jiménez | E16: PENDIENTE DE NOTIFICACIÓN | H16: VENCIDO | J16: 20252300108377CS | L16: 46035 | V16: 989/2024/SAN | AF16: NO | AH16: PENDIENTE NOTIFICACIÓN ELECTRÓNICA | AO16: NO APLICA | AY16: NO APLICA | BD16: NO APLICA | BM16: PENDIENTE HACER AVISO | BN16: EN TRÁMITE NOTIF. POR AVISO | BT16: #N/A | BU16: EN PROCESO NOTIFICACION / COMUNICACION | BZ16: PENDIENTE EJECUTORIA
A17: SIN GESTIÓN | B17: Zabdy Jiménez | E17: PENDIENTE DE NOTIFICACIÓN | H17: VENCIDO | I17: P.DTE PRUEBA DE ENTREGA FISICA | J17: 20252300108357CS | L17: 46035 | V17: 968/2024/SAN | AF17: NO | AH17: PENDIENTE NOTIFICACIÓN ELECTRÓNICA | AO17: NO APLICA | AY17: NO APLICA | BD17: NO APLICA | BM17: PENDIENTE HACER AVISO | BN17: EN TRÁMITE NOTIF. POR AVISO | BT17: #N/A | BU17: EN PROCESO NOTIFICACION / COMUNICACION | BZ17: PENDIENTE EJECUTORIA
A18: SIN GESTIÓN | B18: Zabdy Jiménez | E18: PENDIENTE DE NOTIFICACIÓN | H18: VENCIDO | I18: P.DTE PRUEBA DE ENTREGA FISICA | J18: 20252300108347CS | L18: 46035 | V18: 848/2024/SAN | AF18: NO | AH18: PENDIENTE NOTIFICACIÓN ELECTRÓNICA | AO18: NO APLICA | AY18: NO APLICA | BD18: NO APLICA | BM18: PENDIENTE HACER AVISO | BN18: EN TRÁMITE NOTIF. POR AVISO | BT18: #N/A | BU18: EN PROCESO NOTIFICACION / COMUNICACION | BZ18: PENDIENTE EJECUTORIA
A19: SIN GESTIÓN | B19: Zabdy Jiménez | E19: PENDIENTE DE NOTIFICACIÓN | H19: VENCIDO | I19: P.DTE PRUEBA DE ENTREGA FISICA | J19: 20252300108337CS | K19: 46009 | L19: 46035 | M19: 46038 | V19: 693/2024/SAN | AF19: NO | AH19: PENDIENTE NOTIFICACIÓN ELECTRÓNICA | AO19: NO APLICA | AY19: NO APLICA | BD19: NO APLICA | BM19: PENDIENTE HACER AVISO | BN19: EN TRÁMITE NOTIF. POR AVISO | BT19: #N/A | BU19: EN PROCESO NOTIFICACION / COMUNICACION | BZ19: PENDIENTE EJECUTORIA

Sheet BASE
A1: ESTADO ACTUAL | B1: RESPONSABLE FINAL | C1: FECHA INICIO DE GESTION | D1: MEDICION DE INICIO DE GESTIÓN | E1: TIPO DE NOTIFICACIÓN | F1: FECHA REAL DE NOTIFICACIÓN | G1: DÍAS DE GESTIÓN | H1: ALERTA | I1: OBSERVACIONES | J1: ACTO ADMINISTRATIVO | K1: FECHA DEL ACTO ADMINISTRATIVO | L1: FECHA DE ASIGNACIÓN | M1: FECHA DE GESTION | N1: NOMBRE USUARIO A QUIEN SE REASIGNA GESTION DE NOTIFICACION | O1: FECHA DE REASIGNACIÓN | P1: FECHA DE GESTION REASIGNACION | Q1: PRODUCTO CONFORME | R1: MOTIVO | S1: SE REALIZA SUBSANACIÓN | T1: FECHA DE SUBSANACIÓN | U1: DEPENDENCIA QUE REMITE EL ACTO ADMINISTRATIVO | V1: RADICADO DE ENTRADA | W1: FECHA RADICADO DE ENTRADA | X1: REP. LEGAL | Y1: CEDULA/NIT | Z1: NOMBRE PERSONA JURIDICA o NATURAL | AA1: DIRECCIÓN FÍSICA | AB1: CIUDAD | AC1: CORREO ELECTRÓNICO | AD1: TRÁMITE | AE1: DETALLE DEL TRAMITE (PLACAS, TIPO DE CREDENCIAL) | AF1: DECISIÓN | AG1: ¿APLICA CARGUE AL RUNT? | AH1: FECHA DEL CARGUE AL RUNT | AI1: ESTADO NOTIFICACION ELECTRONICA | AJ1: PROCEDE NOTIFICACIÓN ELECTRONICA | AK1: FECHA ENTREGA A 472 PARA NOTIFICACIÓN ELECTRONICA | AL1: ¿SE NOTIFICO ELECTRONICAMENTE? | AM1: FECHA MAXIMA PARA SEGUIMIENTO ENTREGA | AN1: FUE EFECTIVA? | AO1: FECHA EFECTIVA DE LA NOTIFICACIÓN ELECTRONICA | AP1: FORMULA CITACIÓN / AVISO | AQ1: TIPO DE ENVIO | AR1: FECHA DE REVISIÓN | AS1: FECHA DE FIRMA | AT1: NUMERO DE RADICADO DE SALIDA | AU1: FECHA DE ENVÍO | AV1: NUMERO DE GUIA (ENVIO FISICO) | AW1: SE ENTREGO EFECTIVAMENTE | AX1: FECHA EFECTIVA DE LA ENTREGA CITACIÓN | AY1: FECHA MAXIMA PARA SEGUIMIENTO ENTREGA - CITACIÓN Y/O COMUNICACIÓN | AZ1: ESTADO PROCESO CITACIÓN | BA1: FECHA MAXIMA DE PRESENTACIÓN DEL USUARIO | BB1: SE PRESENTÓ? | BC1: NOTIFICADOR PRESENCIAL | BD1: FECHA DE LA NOTIFICACION PERSONAL | BE1: FORMULA AVISO | BF1: FECHA ELABORACIÓN AVISO | BG1: FECHA REVISION AVISO | BH1: FECHA DE FIRMA DE AVISO | BI1: NUMERO DE RADICADO DEL AVISO | BJ1: FECHA ENVÍO AVISO | BK1: No GUIA DEL AVISO | BL1: SE ENTREGO AVISO EFECTIVAMENTE | BM1: FECHA MAXIMA PARA SEGUIMIENTO ENTREGA | BN1: ESTADO AVISO | BO1: ESTADO PUBLICACIÓN | BP1: FECHA DE PUBLICACIÓN EN PAGINA WEB | BQ1: FECHA EFECTIVA DE NOTIFICACION POR AVISO | BR1: FUE EFECTIVA LA PUBLICACIÓN | BS1: PROCEDE RECURSO | BT1: TIPO DE RECURSO QUE LE PROCEDE | BU1: TÉRMINO RECURSOS | BV1: FECHA ESTIMADA PARA REALIZAR DE EJECUTORIA | BW1: PROCEDE EJECUTORIA | BX1: FECHA TRÁMITE EJECUTORIA | BY1: FECHA DE REVISIÓN EJECUTORIA | BZ1: FECHA FIRMA EJECUTORIA | CA1: ESTADO EJECUTORIA | CB1: ESTADO TRASLADOS | CC1: PROCEDEN MEMORANDOS | CD1: DEPENDENCIA DEL MEMORANDO | CE1: FECHA DE REVISION MEMORANDO | CF1: FECHA FIRMA MEMORANDO | CG1: RADICADO | CH1: FECHA DE ENVIÓ MEMORANDO | CI1: PROCEDEN OFICIOS | CJ1: FECHA DE REVISION OFICIO | CK1: FECHA DE FIRMA OFICIO EXTERNO | CL1: RADICADO DEL OFICIO EXTERNO | CM1: FECHA DEL RADICADO OFICIO EXTERNO | CN1: FECHA ENVIO DEL OFICIO
A2: =IF( AND(Q2="NO",S2<>"SI"), "TERMINADO PRODUCTO NO CONFORME", IF( AND( COUNTBLANK(AJ2:AO2)=COLUMNS(AJ2:AO2), COUNTBLANK(AQ2:AY2)=COLUMNS(AQ2:AY2), COUNTBLANK(BC2:BD2)=COLUMNS(BC2:BD2), COUNTBLANK(BF2:BM2)=COLUMNS(BF2:BM2), COUNTBLANK(BP2:BR2)=COLUMNS(BP2:BR2) ), "SIN GESTIÓN", IF( AND(BC2<>"",BD2<>"",AO2="",AX2="",BQ2=""), "NOTIFICADO POR CONDUCTA CONCLUYENTE", IF( AI2="NOTIFICACIÓN ELECTRÓNICA EFECTIVA", CA2, IF( OR( AI2="NO PROCEDE NOTIFICACIÓN ELECTRÓNICA", AI2="REALIZAR CITACIÓN", AI2="NOTIFICACIÓN ELECTRÓNICA NO EFECTIVA" ), IF( AZ2="HACER AVISO", IF( OR( BN2="NOTIFICACIÓN POR AVISO TERMINADA", BN2="NOTIFICACIÓN PERSONAL COMPLETA" ), CA2, BN2 ), AZ2 ), AI2 ) ) ) )) -> PENDIENTE HACER EJECUTORIA | B2: Rafael Bonilla | E2: =IF(AN2="SI", "NOTIFICACIÓN ELECTRÓNICA", IF(AND(BC2<>"",BD2<>""), "NOTIFICACIÓN PERSONAL", IF(BL2="SI", "NOTIFICACIÓN POR AVISO", "PENDIENTE NOTIFICACIÓN" ))) -> NOTIFICACIÓN ELECTRÓNICA | F2: =IF( AND(AN2<>"SI",AW2<>"SI",BL2<>"SI",BC2="",BD2=""), "PENDIENTE NOTIFICACIÓN", IF(AN2="SI", AO2, IF(AW2="SI", AX2, IF(AND(BC2<>"",BD2<>""), BD2, IF(BL2="SI", BQ2, "PENDIENTE NOTIFICACIÓN" ))))) -> 46028 | G2: =IF( OR( C2="", F2="PENDIENTE NOTIFICACIÓN", NOT(ISNUMBER(C2)), NOT(ISNUMBER(F2)), F2<C2 ), "", F2-C2 ) | H2: =IF( L2="", "", IF( NETWORKDAYS(L2,IF(M2<>"",M2,TODAY()),FESTIVOS_CO!A:A)>2, "VENCIDO", IF( NETWORKDAYS(L2,IF(M2<>"",M2,TODAY()),FESTIVOS_CO!A:A)=2, "ALERTA", "A TIEMPO" ))) -> A TIEMPO | J2: 20262300000027CS | K2: 46028 | L2: 46028 | M2: 46028 | Q2: SI | U2: 230 GRUPO DE SANCIONES | V2: 136-204-SAN | W2: 45852 | X2: JULIAN ALBENIZ GUTIERREZ ARTETA | Y2: 901626828 | Z2: BLINK SEGURIDAD PRIVADA LTDA | AA2: CRA 49 B # 74 - 153 | AB2: BARRANQUILLA | AC2: gerenciacomercial@blinkseguridad.com | AD2: RESUELVE RECURSO DE REPOSICIÓN | AE2: NO APLICA | AF2: CONFIRMA | AG2: NO | AI2: =IF(AL2="NO", "REALIZAR CITACIÓN", IF(AND(AJ2="SI",AL2<>"SI",AL2<>"NO"), "PENDIENTE ENTREGA NOTIFICACIÓN ELECTRÓNICA", IF(AND(AJ2="SI",AL2="SI",AN2="SI"), "NOTIFICACIÓN ELECTRÓNICA EFECTIVA", IF(AND(AJ2="",AK2="",AL2="",AM2="",AN2="",AO2=""), "PENDIENTE NOTIFICACIÓN ELECTRÓNICA", IF(AJ2="NO", "NO PROCEDE NOTIFICACIÓN ELECTRÓNICA", IF(AND(AJ2="SI",F2=""), "PENDIENTE ENVÍO NOTIFICACIÓN ELECTRÓNICA", IF(AND(AJ2="SI",TODAY()-F2<=5), "EN ESPERA DE NOTIFICACIÓN ELECTRÓNICA (5 DÍAS)", "NOTIFICACIÓN ELECTRÓNICA NO EFECTIVA" ))))))) -> NOTIFICACIÓN ELECTRÓNICA EFECTIVA | AJ2: SI | AK2: 46028 | AL2: SI | AM2: =IF(AK2="","",WORKDAY(AK2,5,FESTIVOS_CO!A:A)) -> 46036 | AN2: SI | AO2: 46028 | AP2: =IF( ISNUMBER(SEARCH("PENDIENTE",UPPER(AI2))), "NO APLICA", IF( COUNTBLANK(AJ2:AL2)=COUNTA(AJ2:AL2), "NO APLICA", IF( UPPER(AN2)="SI", "NO PROCEDE CITACION", "NOTIFICAR POR CITACION" ) ) ) -> NO PROCEDE CITACION | AY2: =IF(AU2="","",WORKDAY(AU2,5,FESTIVOS_CO!A:A)) | AZ2: =IF( AND(AO2="",AX2="",BQ2="",BC2<>"",BD2<>""), "NOTIFICADO POR CONDUCTA CONCLUYENTE", IF(AP2="NO PROCEDE CITACION", "NO PROCEDE", IF(AP2="NO APLICA", "NO APLICA", IF(AW2="NO", "HACER AVISO", IF(AQ2="", "PENDIENTE GESTIONAR CITACIÓN", IF(AS2="", "PENDIENTE FIRMA", IF(AR2="", "PENDIENTE REVISIÓN", IF(AT2="", "PENDIENTE RADICAR", "CITACIÓN COMPLETA EN ESPERA PRESENTACION PERSONAL" )))))))) -> NO PROCEDE | BA2: =IF(AX2="","",WORKDAY(AX2,5,FESTIVOS_CO!A:A)) | BE2: =IF(AZ2="NO PROCEDE", "NO PROCEDE",IF(OR(AZ2="HACER AVISO",BB2="NO"), "HACER AVISO", "NO APLICA")) -> NO PROCEDE | BM2: =IF(BJ2="","",WORKDAY(BJ2,5,FESTIVOS_CO!A:A)) | BN2: =IF( AND(AZ2="CITACIÓN COMPLETA EN ESPERA DE NOTIFICACION PERSONAL",BB2="NO"), "PENDIENTE HACER AVISO", IF(AND(BC2<>"",BD2<>""), "NOTIFICACIÓN PERSONAL COMPLETA", IF(BR2="SI", "NOTIFICACIÓN POR AVISO TERMINADA", IF(BE2="NO PROCEDE", "NO PROCEDE", IF(BF2="", "PENDIENTE HACER AVISO", IF(BG2="", "PENDIENTE REVISIÓN AVISO", IF(BH2="", "PENDIENTE FIRMA AVISO", IF(BI2="", "PENDIENTE RADICAR AVISO", IF(BL2="", "EN TRÁMITE DE ENTREGA AVISO", IF(BL2="NO", "PUBLICAR AVISO CARTELERA", IF(BL2="SI", "VERIFICAR SI PROCEDE RECURSO", IF(BE2="HACER AVISO", "HACER AVISO", "NO APLICA" )))))))))))) -> NO PROCEDE | BO2: =IF(BN2="NOTIFICACIÓN PERSONAL COMPLETA", "NO PROCEDE AVISO", IF(BR2="SI", "NOTIFICACION POR AVISO TERMINADA", IF(BE2="NO PROCEDE", "NO PROCEDE AVISO", IF(BN2="VERIFICAR SI PROCEDE RECURSO", "NOTIFICACIÓN POR AVISO COMPLETA", "EN TRÁMITE NOTIF. POR AVISO" )))) -> NO PROCEDE AVISO | BQ2: =IF(BP2="","",WORKDAY(BP2,5,FESTIVOS_CO!A:A)) | BS2: SI | BT2: RECURSO DE REPOSICION EN SUBSIDIO APELACION | BU2: =VLOOKUP(BT2,Hoja2!$C:$D,2,0) -> 10 | BV2: =IF( AND(AO2="",BD2="",BQ2=""), "EN PROCESO NOTIFICACION / COMUNICACION", IF( BT2="", "NO APLICA", IF( BU2=60, IF(AO2<>"",AO2,IF(BD2<>"",BD2,BQ2))+60, WORKDAY( IF(AO2<>"",AO2,IF(BD2<>"",BD2,BQ2)), BU2, FESTIVOS_CO!A:A ) ) )) -> 46043 | BW2: SI | CA2: =IF(BW2<>"SI", "PENDIENTE EJECUTORIA", IF(AND(BX2="",BY2="",BZ2=""), "PENDIENTE HACER EJECUTORIA", IF(AND(BX2<>"",BY2="",BZ2=""), "PENDIENTE REVISION EJECUTORIA", IF(AND(BX2<>"",BY2<>"",BZ2=""), "PENDIENTE FIRMA EJECUTORIA", "PROCESO EJECUTORIA TERMINADO" )))) -> PENDIENTE HACER EJECUTORIA | CB2: =IF(CC2="NO", "NO APLICA", IF(CC2="SI", IF(COUNTBLANK(CC2:CH2)>0, "PENDIENTE MEMORANDO", "MEMORANDOS ENVIADOS" ), IF(CI2="NO", "NO APLICA", IF(CI2="SI", IF(COUNTBLANK(CJ2:CN2)>0, "PENDIENTES OFICIOS", "OFICIOS ENVIADOS" ), "" ) ) ))
A3: =IF( AND(Q3="NO",S3<>"SI"), "TERMINADO PRODUCTO NO CONFORME", IF( AND( COUNTBLANK(AJ3:AO3)=COLUMNS(AJ3:AO3), COUNTBLANK(AQ3:AY3)=COLUMNS(AQ3:AY3), COUNTBLANK(BC3:BD3)=COLUMNS(BC3:BD3), COUNTBLANK(BF3:BM3)=COLUMNS(BF3:BM3), COUNTBLANK(BP3:BR3)=COLUMNS(BP3:BR3) ), "SIN GESTIÓN", IF( AND(BC3<>"",BD3<>"",AO3="",AX3="",BQ3=""), "NOTIFICADO POR CONDUCTA CONCLUYENTE", IF( AI3="NOTIFICACIÓN ELECTRÓNICA EFECTIVA", CA3, IF( OR( AI3="NO PROCEDE NOTIFICACIÓN ELECTRÓNICA", AI3="REALIZAR CITACIÓN", AI3="NOTIFICACIÓN ELECTRÓNICA NO EFECTIVA" ), IF( AZ3="HACER AVISO", IF( OR( BN3="NOTIFICACIÓN POR AVISO TERMINADA", BN3="NOTIFICACIÓN PERSONAL COMPLETA" ), CA3, BN3 ), AZ3 ), AI3 ) ) ) )) -> NOTIFICADO POR CONDUCTA CONCLUYENTE | B3: Catalina Rodriguez | C3: 46028 | D3: 46028 | E3: =IF(AN3="SI", "NOTIFICACIÓN ELECTRÓNICA", IF(AND(BC3<>"",BD3<>""), "NOTIFICACIÓN PERSONAL", IF(BL3="SI", "NOTIFICACIÓN POR AVISO", "PENDIENTE NOTIFICACIÓN" ))) -> NOTIFICACIÓN PERSONAL | F3: =IF( AND(AN3<>"SI",AW3<>"SI",BL3<>"SI",BC3="",BD3=""), "PENDIENTE NOTIFICACIÓN", IF(AN3="SI", AO3, IF(AW3="SI", AX3, IF(AND(BC3<>"",BD3<>""), BD3, IF(BL3="SI", BQ3, "PENDIENTE NOTIFICACIÓN" ))))) -> 46028 | G3: =IF( OR( C3="", F3="PENDIENTE NOTIFICACIÓN", NOT(ISNUMBER(C3)), NOT(ISNUMBER(F3)), F3<C3 ), "", F3-C3 ) -> 0 | H3: =IF( L3="", "", IF( NETWORKDAYS(L3,IF(M3<>"",M3,TODAY()),FESTIVOS_CO!A:A)>2, "VENCIDO", IF( NETWORKDAYS(L3,IF(M3<>"",M3,TODAY()),FESTIVOS_CO!A:A)=2, "ALERTA", "A TIEMPO" ))) -> A TIEMPO | J3: 20264100000057CS | K3: 46028 | L3: 46028 | M3: 46028 | Q3: SI | U3: 410 GRUPO DE PERMISOS DE ESTADO EMPRESARIALES | V3: 202501031CE | W3: 45987 | Y3: 802.013.698-6 | Z3: FULL PROTECTION LTDA | AC3: NO APLICA | AD3: APERTURA DE SUCURSALES Y AGENCIAS PARA SERVICIOS DE VIGILANCIA Y SEGURIDAD PRIVADA | AE3: NO APLICA | AF3: AUTORIZA | AG3: NO | AI3: =IF(AL3="NO", "REALIZAR CITACIÓN", IF(AND(AJ3="SI",AL3<>"SI",AL3<>"NO"), "PENDIENTE ENTREGA NOTIFICACIÓN ELECTRÓNICA", IF(AND(AJ3="SI",AL3="SI",AN3="SI"), "NOTIFICACIÓN ELECTRÓNICA EFECTIVA", IF(AND(AJ3="",AK3="",AL3="",AM3="",AN3="",AO3=""), "PENDIENTE NOTIFICACIÓN ELECTRÓNICA", IF(AJ3="NO", "NO PROCEDE NOTIFICACIÓN ELECTRÓNICA", IF(AND(AJ3="SI",F3=""), "PENDIENTE ENVÍO NOTIFICACIÓN ELECTRÓNICA", IF(AND(AJ3="SI",TODAY()-F3<=5), "EN ESPERA DE NOTIFICACIÓN ELECTRÓNICA (5 DÍAS)", "NOTIFICACIÓN ELECTRÓNICA NO EFECTIVA" ))))))) -> NO PROCEDE NOTIFICACIÓN ELECTRÓNICA | AJ3: NO | AM3: =IF(AK3="","",WORKDAY(AK3,5,FESTIVOS_CO!A:A)) | AP3: =IF( ISNUMBER(SEARCH("PENDIENTE",UPPER(AI3))), "NO APLICA", IF( COUNTBLANK(AJ3:AL3)=COUNTA(AJ3:AL3), "NO APLICA", IF( UPPER(AN3)="SI", "NO PROCEDE CITACION", "NOTIFICAR POR CITACION" ) ) ) -> NOTIFICAR POR CITACION | AY3: =IF(AU3="","",WORKDAY(AU3,5,FESTIVOS_CO!A:A)) | AZ3: =IF( AND(AO3="",AX3="",BQ3="",BC3<>"",BD3<>""), "NOTIFICADO POR CONDUCTA CONCLUYENTE", IF(AP3="NO PROCEDE CITACION", "NO PROCEDE", IF(AP3="NO APLICA", "NO APLICA", IF(AW3="NO", "HACER AVISO", IF(AQ3="", "PENDIENTE GESTIONAR CITACIÓN", IF(AS3="", "PENDIENTE FIRMA", IF(AR3="", "PENDIENTE REVISIÓN", IF(AT3="", "PENDIENTE RADICAR", "CITACIÓN COMPLETA EN ESPERA PRESENTACION PERSONAL" )))))))) -> NOTIFICADO POR CONDUCTA CONCLUYENTE | BA3: =IF(AX3="","",WORKDAY(AX3,5,FESTIVOS_CO!A:A)) | BC3: CATALINA RODRIGUEZ | BD3: 46028 | BE3: =IF(AZ3="NO PROCEDE", "NO PROCEDE",IF(OR(AZ3="HACER AVISO",BB3="NO"), "HACER AVISO", "NO APLICA")) -> NO APLICA | BM3: =IF(BJ3="","",WORKDAY(BJ3,5,FESTIVOS_CO!A:A)) | BN3: =IF( AND(AZ3="CITACIÓN COMPLETA EN ESPERA DE NOTIFICACION PERSONAL",BB3="NO"), "PENDIENTE HACER AVISO", IF(AND(BC3<>"",BD3<>""), "NOTIFICACIÓN PERSONAL COMPLETA", IF(BR3="SI", "NOTIFICACIÓN POR AVISO TERMINADA", IF(BE3="NO PROCEDE", "NO PROCEDE", IF(BF3="", "PENDIENTE HACER AVISO", IF(BG3="", "PENDIENTE REVISIÓN AVISO", IF(BH3="", "PENDIENTE FIRMA AVISO", IF(BI3="", "PENDIENTE RADICAR AVISO", IF(BL3="", "EN TRÁMITE DE ENTREGA AVISO", IF(BL3="NO", "PUBLICAR AVISO CARTELERA", IF(BL3="SI", "VERIFICAR SI PROCEDE RECURSO", IF(BE3="HACER AVISO", "HACER AVISO", "NO APLICA" )))))))))))) -> NOTIFICACIÓN PERSONAL COMPLETA | BO3: =IF(BN3="NOTIFICACIÓN PERSONAL COMPLETA", "NO PROCEDE AVISO", IF(BR3="SI", "NOTIFICACION POR AVISO TERMINADA", IF(BE3="NO PROCEDE", "NO PROCEDE AVISO", IF(BN3="VERIFICAR SI PROCEDE RECURSO", "NOTIFICACIÓN POR AVISO COMPLETA", "EN TRÁMITE NOTIF. POR AVISO" )))) -> NO PROCEDE AVISO | BQ3: =IF(BP3="","",WORKDAY(BP3,5,FESTIVOS_CO!A:A)) | BU3: =VLOOKUP(BT3,Hoja2!$C:$D,2,0) -> #N/A | BV3: =IF( AND(AO3="",BD3="",BQ3=""), "EN PROCESO NOTIFICACION / COMUNICACION", IF( BT3="", "NO APLICA", IF( BU3=60, IF(AO3<>"",AO3,IF(BD3<>"",BD3,BQ3))+60, WORKDAY( IF(AO3<>"",AO3,IF(BD3<>"",BD3,BQ3)), BU3, FESTIVOS_CO!A:A ) ) )) -> NO APLICA | BW3: SI | BX3: 46044 | BY3: 46044 | BZ3: 46045 | CA3: =IF(BW3<>"SI", "PENDIENTE EJECUTORIA", IF(AND(BX3="",BY3="",BZ3=""), "PENDIENTE HACER EJECUTORIA", IF(AND(BX3<>"",BY3="",BZ3=""), "PENDIENTE REVISION EJECUTORIA", IF(AND(BX3<>"",BY3<>"",BZ3=""), "PENDIENTE FIRMA EJECUTORIA", "PROCESO EJECUTORIA TERMINADO" )))) -> PROCESO EJECUTORIA TERMINADO | CB3: =IF(CC3="NO", "NO APLICA", IF(CC3="SI", IF(COUNTBLANK(CC3:CH3)>0, "PENDIENTE MEMORANDO", "MEMORANDOS ENVIADOS" ), IF(CI3="NO", "NO APLICA", IF(CI3="SI", IF(COUNTBLANK(CJ3:CN3)>0, "PENDIENTES OFICIOS", "OFICIOS ENVIADOS" ), "" ) ) ))
A4: =IF( AND(Q4="NO",S4<>"SI"), "TERMINADO PRODUCTO NO CONFORME", IF( AND( COUNTBLANK(AJ4:AO4)=COLUMNS(AJ4:AO4), COUNTBLANK(AQ4:AY4)=COLUMNS(AQ4:AY4), COUNTBLANK(BC4:BD4)=COLUMNS(BC4:BD4), COUNTBLANK(BF4:BM4)=COLUMNS(BF4:BM4), COUNTBLANK(BP4:BR4)=COLUMNS(BP4:BR4) ), "SIN GESTIÓN", IF( AND(BC4<>"",BD4<>"",AO4="",AX4="",BQ4=""), "NOTIFICADO POR CONDUCTA CONCLUYENTE", IF( AI4="NOTIFICACIÓN ELECTRÓNICA EFECTIVA", CA4, IF( OR( AI4="NO PROCEDE NOTIFICACIÓN ELECTRÓNICA", AI4="REALIZAR CITACIÓN", AI4="NOTIFICACIÓN ELECTRÓNICA NO EFECTIVA" ), IF( AZ4="HACER AVISO", IF( OR( BN4="NOTIFICACIÓN POR AVISO TERMINADA", BN4="NOTIFICACIÓN PERSONAL COMPLETA" ), CA4, BN4 ), AZ4 ), AI4 ) ) ) )) -> NOTIFICADO POR CONDUCTA CONCLUYENTE | B4: Catalina Rodriguez | C4: 46028 | D4: 46028 | E4: =IF(AN4="SI", "NOTIFICACIÓN ELECTRÓNICA", IF(AND(BC4<>"",BD4<>""), "NOTIFICACIÓN PERSONAL", IF(BL4="SI", "NOTIFICACIÓN POR AVISO", "PENDIENTE NOTIFICACIÓN" ))) -> NOTIFICACIÓN PERSONAL | F4: =IF( AND(AN4<>"SI",AW4<>"SI",BL4<>"SI",BC4="",BD4=""), "PENDIENTE NOTIFICACIÓN", IF(AN4="SI", AO4, IF(AW4="SI", AX4, IF(AND(BC4<>"",BD4<>""), BD4, IF(BL4="SI", BQ4, "PENDIENTE NOTIFICACIÓN" ))))) -> 46028 | G4: =IF( OR( C4="", F4="PENDIENTE NOTIFICACIÓN", NOT(ISNUMBER(C4)), NOT(ISNUMBER(F4)), F4<C4 ), "", F4-C4 ) -> 0 | H4: =IF( L4="", "", IF( NETWORKDAYS(L4,IF(M4<>"",M4,TODAY()),FESTIVOS_CO!A:A)>2, "VENCIDO", IF( NETWORKDAYS(L4,IF(M4<>"",M4,TODAY()),FESTIVOS_CO!A:A)=2, "ALERTA", "A TIEMPO" ))) -> A TIEMPO | J4: 20264100000047CS | K4: 46028 | L4: 46028 | M4: 46028 | Q4: SI | U4: 410 GRUPO DE PERMISOS DE ESTADO EMPRESARIALES | V4: 2025014750CE | W4: 45925 | Y4: 802.013.698-6 | Z4: FULL PROTECTION LTDA | AC4: NO APLICA | AD4: APERTURA DE SUCURSALES Y AGENCIAS PARA SERVICIOS DE VIGILANCIA Y SEGURIDAD PRIVADA | AE4: NO APLICA | AF4: AUTORIZA | AG4: NO | AI4: =IF(AL4="NO", "REALIZAR CITACIÓN", IF(AND(AJ4="SI",AL4<>"SI",AL4<>"NO"), "PENDIENTE ENTREGA NOTIFICACIÓN ELECTRÓNICA", IF(AND(AJ4="SI",AL4="SI",AN4="SI"), "NOTIFICACIÓN ELECTRÓNICA EFECTIVA", IF(AND(AJ4="",AK4="",AL4="",AM4="",AN4="",AO4=""), "PENDIENTE NOTIFICACIÓN ELECTRÓNICA", IF(AJ4="NO", "NO PROCEDE NOTIFICACIÓN ELECTRÓNICA", IF(AND(AJ4="SI",F4=""), "PENDIENTE ENVÍO NOTIFICACIÓN ELECTRÓNICA", IF(AND(AJ4="SI",TODAY()-F4<=5), "EN ESPERA DE NOTIFICACIÓN ELECTRÓNICA (5 DÍAS)", "NOTIFICACIÓN ELECTRÓNICA NO EFECTIVA" ))))))) -> NO PROCEDE NOTIFICACIÓN ELECTRÓNICA | AJ4: NO | AM4: =IF(AK4="","",WORKDAY(AK4,5,FESTIVOS_CO!A:A)) | AP4: =IF( ISNUMBER(SEARCH("PENDIENTE",UPPER(AI4))), "NO APLICA", IF( COUNTBLANK(AJ4:AL4)=COUNTA(AJ4:AL4), "NO APLICA", IF( UPPER(AN4)="SI", "NO PROCEDE CITACION", "NOTIFICAR POR CITACION" ) ) ) -> NOTIFICAR POR CITACION | AY4: =IF(AU4="","",WORKDAY(AU4,5,FESTIVOS_CO!A:A)) | AZ4: =IF( AND(AO4="",AX4="",BQ4="",BC4<>"",BD4<>""), "NOTIFICADO POR CONDUCTA CONCLUYENTE", IF(AP4="NO PROCEDE CITACION", "NO PROCEDE", IF(AP4="NO APLICA", "NO APLICA", IF(AW4="NO", "HACER AVISO", IF(AQ4="", "PENDIENTE GESTIONAR CITACIÓN", IF(AS4="", "PENDIENTE FIRMA", IF(AR4="", "PENDIENTE REVISIÓN", IF(AT4="", "PENDIENTE RADICAR", "CITACIÓN COMPLETA EN ESPERA PRESENTACION PERSONAL" )))))))) -> NOTIFICADO POR CONDUCTA CONCLUYENTE | BA4: =IF(AX4="","",WORKDAY(AX4,5,FESTIVOS_CO!A:A)) | BC4: CATALINA RODRIGUEZ | BD4: 46028 | BE4: =IF(AZ4="NO PROCEDE", "NO PROCEDE",IF(OR(AZ4="HACER AVISO",BB4="NO"), "HACER AVISO", "NO APLICA")) -> NO APLICA | BM4: =IF(BJ4="","",WORKDAY(BJ4,5,FESTIVOS_CO!A:A)) | BN4: =IF( AND(AZ4="CITACIÓN COMPLETA EN ESPERA DE NOTIFICACION PERSONAL",BB4="NO"), "PENDIENTE HACER AVISO", IF(AND(BC4<>"",BD4<>""), "NOTIFICACIÓN PERSONAL COMPLETA", IF(BR4="SI", "NOTIFICACIÓN POR AVISO TERMINADA", IF(BE4="NO PROCEDE", "NO PROCEDE", IF(BF4="", "PENDIENTE HACER AVISO", IF(BG4="", "PENDIENTE REVISIÓN AVISO", IF(BH4="", "PENDIENTE FIRMA AVISO", IF(BI4="", "PENDIENTE RADICAR AVISO", IF(BL4="", "EN TRÁMITE DE ENTREGA AVISO", IF(BL4="NO", "PUBLICAR AVISO CARTELERA", IF(BL4="SI", "VERIFICAR SI PROCEDE RECURSO", IF(BE4="HACER AVISO", "HACER AVISO", "NO APLICA" )))))))))))) -> NOTIFICACIÓN PERSONAL COMPLETA | BO4: =IF(BN4="NOTIFICACIÓN PERSONAL COMPLETA", "NO PROCEDE AVISO", IF(BR4="SI", "NOTIFICACION POR AVISO TERMINADA", IF(BE4="NO PROCEDE", "NO PROCEDE AVISO", IF(BN4="VERIFICAR SI PROCEDE RECURSO", "NOTIFICACIÓN POR AVISO COMPLETA", "EN TRÁMITE NOTIF. POR AVISO" )))) -> NO PROCEDE AVISO | BQ4: =IF(BP4="","",WORKDAY(BP4,5,FESTIVOS_CO!A:A)) | BU4: =VLOOKUP(BT4,Hoja2!$C:$D,2,0) -> #N/A | BV4: =IF( AND(AO4="",BD4="",BQ4=""), "EN PROCESO NOTIFICACION / COMUNICACION", IF( BT4="", "NO APLICA", IF( BU4=60, IF(AO4<>"",AO4,IF(BD4<>"",BD4,BQ4))+60, WORKDAY( IF(AO4<>"",AO4,IF(BD4<>"",BD4,BQ4)), BU4, FESTIVOS_CO!A:A ) ) )) -> NO APLICA | BW4: SI | BX4: 46075 | BY4: 46044 | BZ4: 46045 | CA4: =IF(BW4<>"SI", "PENDIENTE EJECUTORIA", IF(AND(BX4="",BY4="",BZ4=""), "PENDIENTE HACER EJECUTORIA", IF(AND(BX4<>"",BY4="",BZ4=""), "PENDIENTE REVISION EJECUTORIA", IF(AND(BX4<>"",BY4<>"",BZ4=""), "PENDIENTE FIRMA EJECUTORIA", "PROCESO EJECUTORIA TERMINADO" )))) -> PROCESO EJECUTORIA TERMINADO | CB4: =IF(CC4="NO", "NO APLICA", IF(CC4="SI", IF(COUNTBLANK(CC4:CH4)>0, "PENDIENTE MEMORANDO", "MEMORANDOS ENVIADOS" ), IF(CI4="NO", "NO APLICA", IF(CI4="SI", IF(COUNTBLANK(CJ4:CN4)>0, "PENDIENTES OFICIOS", "OFICIOS ENVIADOS" ), "" ) ) ))
A5: =IF( AND(Q5="NO",S5<>"SI"), "TERMINADO PRODUCTO NO CONFORME", IF( AND( COUNTBLANK(AJ5:AO5)=COLUMNS(AJ5:AO5), COUNTBLANK(AQ5:AY5)=COLUMNS(AQ5:AY5), COUNTBLANK(BC5:BD5)=COLUMNS(BC5:BD5), COUNTBLANK(BF5:BM5)=COLUMNS(BF5:BM5), COUNTBLANK(BP5:BR5)=COLUMNS(BP5:BR5) ), "SIN GESTIÓN", IF( AND(BC5<>"",BD5<>"",AO5="",AX5="",BQ5=""), "NOTIFICADO POR CONDUCTA CONCLUYENTE", IF( AI5="NOTIFICACIÓN ELECTRÓNICA EFECTIVA", CA5, IF( OR( AI5="NO PROCEDE NOTIFICACIÓN ELECTRÓNICA", AI5="REALIZAR CITACIÓN", AI5="NOTIFICACIÓN ELECTRÓNICA NO EFECTIVA" ), IF( AZ5="HACER AVISO", IF( OR( BN5="NOTIFICACIÓN POR AVISO TERMINADA", BN5="NOTIFICACIÓN PERSONAL COMPLETA" ), CA5, BN5 ), AZ5 ), AI5 ) ) ) )) -> NOTIFICADO POR CONDUCTA CONCLUYENTE | B5: Catalina Rodriguez | C5: 46028 | D5: 46028 | E5: =IF(AN5="SI", "NOTIFICACIÓN ELECTRÓNICA", IF(AND(BC5<>"",BD5<>""), "NOTIFICACIÓN PERSONAL", IF(BL5="SI", "NOTIFICACIÓN POR AVISO", "PENDIENTE NOTIFICACIÓN" ))) -> NOTIFICACIÓN PERSONAL | F5: =IF( AND(AN5<>"SI",AW5<>"SI",BL5<>"SI",BC5="",BD5=""), "PENDIENTE NOTIFICACIÓN", IF(AN5="SI", AO5, IF(AW5="SI", AX5, IF(AND(BC5<>"",BD5<>""), BD5, IF(BL5="SI", BQ5, "PENDIENTE NOTIFICACIÓN" ))))) -> 46028 | G5: =IF( OR( C5="", F5="PENDIENTE NOTIFICACIÓN", NOT(ISNUMBER(C5)), NOT(ISNUMBER(F5)), F5<C5 ), "", F5-C5 ) -> 0 | H5: =IF( L5="", "", IF( NETWORKDAYS(L5,IF(M5<>"",M5,TODAY()),FESTIVOS_CO!A:A)>2, "VENCIDO", IF( NETWORKDAYS(L5,IF(M5<>"",M5,TODAY()),FESTIVOS_CO!A:A)=2, "ALERTA", "A TIEMPO" ))) -> A TIEMPO | J5: 20264100000037CS | K5: 46028 | L5: 46028 | M5: 46028 | Q5: SI | U5: 410 GRUPO DE PERMISOS DE ESTADO EMPRESARIALES | V5: 2025006443CE | W5: 45817 | Y5: 802.013.698-6 | Z5: FULL PROTECTION LTDA | AC5: NO APLICA | AD5: CAMBIO REPRESENTANTE LEGAL, ADMINISTRADOR Y/O GERENTES DE SUCURSALES O AGENCIAS. | AE5: NO APLICA | AF5: AUTORIZA | AG5: NO | AI5: =IF(AL5="NO", "REALIZAR CITACIÓN", IF(AND(AJ5="SI",AL5<>"SI",AL5<>"NO"), "PENDIENTE ENTREGA NOTIFICACIÓN ELECTRÓNICA", IF(AND(AJ5="SI",AL5="SI",AN5="SI"), "NOTIFICACIÓN ELECTRÓNICA EFECTIVA", IF(AND(AJ5="",AK5="",AL5="",AM5="",AN5="",AO5=""), "PENDIENTE NOTIFICACIÓN ELECTRÓNICA", IF(AJ5="NO", "NO PROCEDE NOTIFICACIÓN ELECTRÓNICA", IF(AND(AJ5="SI",F5=""), "PENDIENTE ENVÍO NOTIFICACIÓN ELECTRÓNICA", IF(AND(AJ5="SI",TODAY()-F5<=5), "EN ESPERA DE NOTIFICACIÓN ELECTRÓNICA (5 DÍAS)", "NOTIFICACIÓN ELECTRÓNICA NO EFECTIVA" ))))))) -> NO PROCEDE NOTIFICACIÓN ELECTRÓNICA | AJ5: NO | AM5: =IF(AK5="","",WORKDAY(AK5,5,FESTIVOS_CO!A:A)) | AP5: =IF( ISNUMBER(SEARCH("PENDIENTE",UPPER(AI5))), "NO APLICA", IF( COUNTBLANK(AJ5:AL5)=COUNTA(AJ5:AL5), "NO APLICA", IF( UPPER(AN5)="SI", "NO PROCEDE CITACION", "NOTIFICAR POR CITACION" ) ) ) -> NOTIFICAR POR CITACION | AY5: =IF(AU5="","",WORKDAY(AU5,5,FESTIVOS_CO!A:A)) | AZ5: =IF( AND(AO5="",AX5="",BQ5="",BC5<>"",BD5<>""), "NOTIFICADO POR CONDUCTA CONCLUYENTE", IF(AP5="NO PROCEDE CITACION", "NO PROCEDE", IF(AP5="NO APLICA", "NO APLICA", IF(AW5="NO", "HACER AVISO", IF(AQ5="", "PENDIENTE GESTIONAR CITACIÓN", IF(AS5="", "PENDIENTE FIRMA", IF(AR5="", "PENDIENTE REVISIÓN", IF(AT5="", "PENDIENTE RADICAR", "CITACIÓN COMPLETA EN ESPERA PRESENTACION PERSONAL" )))))))) -> NOTIFICADO POR CONDUCTA CONCLUYENTE | BA5: =IF(AX5="","",WORKDAY(AX5,5,FESTIVOS_CO!A:A)) | BC5: CATALINA RODRIGUEZ | BD5: 46028 | BE5: =IF(AZ5="NO PROCEDE", "NO PROCEDE",IF(OR(AZ5="HACER AVISO",BB5="NO"), "HACER AVISO", "NO APLICA")) -> NO APLICA | BM5: =IF(BJ5="","",WORKDAY(BJ5,5,FESTIVOS_CO!A:A)) | BN5: =IF( AND(AZ5="CITACIÓN COMPLETA EN ESPERA DE NOTIFICACION PERSONAL",BB5="NO"), "PENDIENTE HACER AVISO", IF(AND(BC5<>"",BD5<>""), "NOTIFICACIÓN PERSONAL COMPLETA", IF(BR5="SI", "NOTIFICACIÓN POR AVISO TERMINADA", IF(BE5="NO PROCEDE", "NO PROCEDE", IF(BF5="", "PENDIENTE HACER AVISO", IF(BG5="", "PENDIENTE REVISIÓN AVISO", IF(BH5="", "PENDIENTE FIRMA AVISO", IF(BI5="", "PENDIENTE RADICAR AVISO", IF(BL5="", "EN TRÁMITE DE ENTREGA AVISO", IF(BL5="NO", "PUBLICAR AVISO CARTELERA", IF(BL5="SI", "VERIFICAR SI PROCEDE RECURSO", IF(BE5="HACER AVISO", "HACER AVISO", "NO APLICA" )))))))))))) -> NOTIFICACIÓN PERSONAL COMPLETA | BO5: =IF(BN5="NOTIFICACIÓN PERSONAL COMPLETA", "NO PROCEDE AVISO", IF(BR5="SI", "NOTIFICACION POR AVISO TERMINADA", IF(BE5="NO PROCEDE", "NO PROCEDE AVISO", IF(BN5="VERIFICAR SI PROCEDE RECURSO", "NOTIFICACIÓN POR AVISO COMPLETA", "EN TRÁMITE NOTIF. POR AVISO" )))) -> NO PROCEDE AVISO | BQ5: =IF(BP5="","",WORKDAY(BP5,5,FESTIVOS_CO!A:A)) | BU5: =VLOOKUP(BT5,Hoja2!$C:$D,2,0) -> #N/A | BV5: =IF( AND(AO5="",BD5="",BQ5=""), "EN PROCESO NOTIFICACION / COMUNICACION", IF( BT5="", "NO APLICA", IF( BU5=60, IF(AO5<>"",AO5,IF(BD5<>"",BD5,BQ5))+60, WORKDAY( IF(AO5<>"",AO5,IF(BD5<>"",BD5,BQ5)), BU5, FESTIVOS_CO!A:A ) ) )) -> NO APLICA | BW5: SI | BX5: 46044 | BY5: 46044 | BZ5: 46045 | CA5: =IF(BW5<>"SI", "PENDIENTE EJECUTORIA", IF(AND(BX5="",BY5="",BZ5=""), "PENDIENTE HACER EJECUTORIA", IF(AND(BX5<>"",BY5="",BZ5=""), "PENDIENTE REVISION EJECUTORIA", IF(AND(BX5<>"",BY5<>"",BZ5=""), "PENDIENTE FIRMA EJECUTORIA", "PROCESO EJECUTORIA TERMINADO" )))) -> PROCESO EJECUTORIA TERMINADO | CB5: =IF(CC5="NO", "NO APLICA", IF(CC5="SI", IF(COUNTBLANK(CC5:CH5)>0, "PENDIENTE MEMORANDO", "MEMORANDOS ENVIADOS" ), IF(CI5="NO", "NO APLICA", IF(CI5="SI", IF(COUNTBLANK(CJ5:CN5)>0, "PENDIENTES OFICIOS", "OFICIOS ENVIADOS" ), "" ) ) ))
A6: =IF( AND(Q6="NO",S6<>"SI"), "TERMINADO PRODUCTO NO CONFORME", IF( AND( COUNTBLANK(AJ6:AO6)=COLUMNS(AJ6:AO6), COUNTBLANK(AQ6:AY6)=COLUMNS(AQ6:AY6), COUNTBLANK(BC6:BD6)=COLUMNS(BC6:BD6), COUNTBLANK(BF6:BM6)=COLUMNS(BF6:BM6), COUNTBLANK(BP6:BR6)=COLUMNS(BP6:BR6) ), "SIN GESTIÓN", IF( AND(BC6<>"",BD6<>"",AO6="",AX6="",BQ6=""), "NOTIFICADO POR CONDUCTA CONCLUYENTE", IF( AI6="NOTIFICACIÓN ELECTRÓNICA EFECTIVA", CA6, IF( OR( AI6="NO PROCEDE NOTIFICACIÓN ELECTRÓNICA", AI6="REALIZAR CITACIÓN", AI6="NOTIFICACIÓN ELECTRÓNICA NO EFECTIVA" ), IF( AZ6="HACER AVISO", IF( OR( BN6="NOTIFICACIÓN POR AVISO TERMINADA", BN6="NOTIFICACIÓN PERSONAL COMPLETA" ), CA6, BN6 ), AZ6 ), AI6 ) ) ) )) -> PROCESO EJECUTORIA TERMINADO | B6: Karen Aguilar | C6: 46029 | D6: 46029 | E6: =IF(AN6="SI", "NOTIFICACIÓN ELECTRÓNICA", IF(AND(BC6<>"",BD6<>""), "NOTIFICACIÓN PERSONAL", IF(BL6="SI", "NOTIFICACIÓN POR AVISO", "PENDIENTE NOTIFICACIÓN" ))) -> NOTIFICACIÓN ELECTRÓNICA | F6: =IF( AND(AN6<>"SI",AW6<>"SI",BL6<>"SI",BC6="",BD6=""), "PENDIENTE NOTIFICACIÓN", IF(AN6="SI", AO6, IF(AW6="SI", AX6, IF(AND(BC6<>"",BD6<>""), BD6, IF(BL6="SI", BQ6, "PENDIENTE NOTIFICACIÓN" ))))) -> 46029 | G6: =IF( OR( C6="", F6="PENDIENTE NOTIFICACIÓN", NOT(ISNUMBER(C6)), NOT(ISNUMBER(F6)), F6<C6 ), "", F6-C6 ) -> 0 | H6: =IF( L6="", "", IF( NETWORKDAYS(L6,IF(M6<>"",M6,TODAY()),FESTIVOS_CO!A:A)>2, "VENCIDO", IF( NETWORKDAYS(L6,IF(M6<>"",M6,TODAY()),FESTIVOS_CO!A:A)=2, "ALERTA", "A TIEMPO" ))) -> A TIEMPO | J6: 20264200000067CS | K6: 46028 | L6: 46029 | M6: 46029 | Q6: SI | U6: 420 GRUPO DE ESQUEMAS AUTORPROTECCIÓN | V6: 2025014552CE | W6: 45923 | Y6: 900284434-6 | Z6: VEBLINCO LIMITADA | AC6: principal@veblinco.com | AD6: DESBLINDAJE | AE6: HBM109 | AF6: AUTORIZA | AG6: SI | AI6: =IF(AL6="NO", "REALIZAR CITACIÓN", IF(AND(AJ6="SI",AL6<>"SI",AL6<>"NO"), "PENDIENTE ENTREGA NOTIFICACIÓN ELECTRÓNICA", IF(AND(AJ6="SI",AL6="SI",AN6="SI"), "NOTIFICACIÓN ELECTRÓNICA EFECTIVA", IF(AND(AJ6="",AK6="",AL6="",AM6="",AN6="",AO6=""), "PENDIENTE NOTIFICACIÓN ELECTRÓNICA", IF(AJ6="NO", "NO PROCEDE NOTIFICACIÓN ELECTRÓNICA", IF(AND(AJ6="SI",F6=""), "PENDIENTE ENVÍO NOTIFICACIÓN ELECTRÓNICA", IF(AND(AJ6="SI",TODAY()-F6<=5), "EN ESPERA DE NOTIFICACIÓN ELECTRÓNICA (5 DÍAS)", "NOTIFICACIÓN ELECTRÓNICA NO EFECTIVA" ))))))) -> NOTIFICACIÓN ELECTRÓNICA EFECTIVA | AJ6: SI | AK6: 46029 | AL6: SI | AM6: =IF(AK6="","",WORKDAY(AK6,5,FESTIVOS_CO!A:A)) -> 46037 | AN6: SI | AO6: 46029 | AP6: =IF( ISNUMBER(SEARCH("PENDIENTE",UPPER(AI6))), "NO APLICA", IF( COUNTBLANK(AJ6:AL6)=COUNTA(AJ6:AL6), "NO APLICA", IF( UPPER(AN6)="SI", "NO PROCEDE CITACION", "NOTIFICAR POR CITACION" ) ) ) -> NO PROCEDE CITACION | AY6: =IF(AU6="","",WORKDAY(AU6,5,FESTIVOS_CO!A:A)) | AZ6: =IF( AND(AO6="",AX6="",BQ6="",BC6<>"",BD6<>""), "NOTIFICADO POR CONDUCTA CONCLUYENTE", IF(AP6="NO PROCEDE CITACION", "NO PROCEDE", IF(AP6="NO APLICA", "NO APLICA", IF(AW6="NO", "HACER AVISO", IF(AQ6="", "PENDIENTE GESTIONAR CITACIÓN", IF(AS6="", "PENDIENTE FIRMA", IF(AR6="", "PENDIENTE REVISIÓN", IF(AT6="", "PENDIENTE RADICAR", "CITACIÓN COMPLETA EN ESPERA PRESENTACION PERSONAL" )))))))) -> NO PROCEDE | BA6: =IF(AX6="","",WORKDAY(AX6,5,FESTIVOS_CO!A:A)) | BE6: =IF(AZ6="NO PROCEDE", "NO PROCEDE",IF(OR(AZ6="HACER AVISO",BB6="NO"), "HACER AVISO", "NO APLICA")) -> NO PROCEDE | BM6: =IF(BJ6="","",WORKDAY(BJ6,5,FESTIVOS_CO!A:A)) | BN6: =IF( AND(AZ6="CITACIÓN COMPLETA EN ESPERA DE NOTIFICACION PERSONAL",BB6="NO"), "PENDIENTE HACER AVISO", IF(AND(BC6<>"",BD6<>""), "NOTIFICACIÓN PERSONAL COMPLETA", IF(BR6="SI", "NOTIFICACIÓN POR AVISO TERMINADA", IF(BE6="NO PROCEDE", "NO PROCEDE", IF(BF6="", "PENDIENTE HACER AVISO", IF(BG6="", "PENDIENTE REVISIÓN AVISO", IF(BH6="", "PENDIENTE FIRMA AVISO", IF(BI6="", "PENDIENTE RADICAR AVISO", IF(BL6="", "EN TRÁMITE DE ENTREGA AVISO", IF(BL6="NO", "PUBLICAR AVISO CARTELERA", IF(BL6="SI", "VERIFICAR SI PROCEDE RECURSO", IF(BE6="HACER AVISO", "HACER AVISO", "NO APLICA" )))))))))))) -> NO PROCEDE | BO6: =IF(BN6="NOTIFICACIÓN PERSONAL COMPLETA", "NO PROCEDE AVISO", IF(BR6="SI", "NOTIFICACION POR AVISO TERMINADA", IF(BE6="NO PROCEDE", "NO PROCEDE AVISO", IF(BN6="VERIFICAR SI PROCEDE RECURSO", "NOTIFICACIÓN POR AVISO COMPLETA", "EN TRÁMITE NOTIF. POR AVISO" )))) -> NO PROCEDE AVISO | BQ6: =IF(BP6="","",WORKDAY(BP6,5,FESTIVOS_CO!A:A)) | BS6: SI | BT6: RECURSO DE REPOSICION | BU6: =VLOOKUP(BT6,Hoja2!$C:$D,2,0) -> 10 | BV6: =IF( AND(AO6="",BD6="",BQ6=""), "EN PROCESO NOTIFICACION / COMUNICACION", IF( BT6="", "NO APLICA", IF( BU6=60, IF(AO6<>"",AO6,IF(BD6<>"",BD6,BQ6))+60, WORKDAY( IF(AO6<>"",AO6,IF(BD6<>"",BD6,BQ6)), BU6, FESTIVOS_CO!A:A ) ) )) -> 46044 | BW6: SI | BY6: 46052 | CA6: =IF(BW6<>"SI", "PENDIENTE EJECUTORIA", IF(AND(BX6="",BY6="",BZ6=""), "PENDIENTE HACER EJECUTORIA", IF(AND(BX6<>"",BY6="",BZ6=""), "PENDIENTE REVISION EJECUTORIA", IF(AND(BX6<>"",BY6<>"",BZ6=""), "PENDIENTE FIRMA EJECUTORIA", "PROCESO EJECUTORIA TERMINADO" )))) -> PROCESO EJECUTORIA TERMINADO | CB6: =IF(CC6="NO", "NO APLICA", IF(CC6="SI", IF(COUNTBLANK(CC6:CH6)>0, "PENDIENTE MEMORANDO", "MEMORANDOS ENVIADOS" ), IF(CI6="NO", "NO APLICA", IF(CI6="SI", IF(COUNTBLANK(CJ6:CN6)>0, "PENDIENTES OFICIOS", "OFICIOS ENVIADOS" ), "" ) ) ))
A7: =IF( AND(Q7="NO",S7<>"SI"), "TERMINADO PRODUCTO NO CONFORME", IF( AND( COUNTBLANK(AJ7:AO7)=COLUMNS(AJ7:AO7), COUNTBLANK(AQ7:AY7)=COLUMNS(AQ7:AY7), COUNTBLANK(BC7:BD7)=COLUMNS(BC7:BD7), COUNTBLANK(BF7:BM7)=COLUMNS(BF7:BM7), COUNTBLANK(BP7:BR7)=COLUMNS(BP7:BR7) ), "SIN GESTIÓN", IF( AND(BC7<>"",BD7<>"",AO7="",AX7="",BQ7=""), "NOTIFICADO POR CONDUCTA CONCLUYENTE", IF( AI7="NOTIFICACIÓN ELECTRÓNICA EFECTIVA", CA7, IF( OR( AI7="NO PROCEDE NOTIFICACIÓN ELECTRÓNICA", AI7="REALIZAR CITACIÓN", AI7="NOTIFICACIÓN ELECTRÓNICA NO EFECTIVA" ), IF( AZ7="HACER AVISO", IF( OR( BN7="NOTIFICACIÓN POR AVISO TERMINADA", BN7="NOTIFICACIÓN PERSONAL COMPLETA" ), CA7, BN7 ), AZ7 ), AI7 ) ) ) )) -> PROCESO EJECUTORIA TERMINADO | B7: Karen Aguilar | C7: 46029 | D7: 46029 | E7: =IF(AN7="SI", "NOTIFICACIÓN ELECTRÓNICA", IF(AND(BC7<>"",BD7<>""), "NOTIFICACIÓN PERSONAL", IF(BL7="SI", "NOTIFICACIÓN POR AVISO", "PENDIENTE NOTIFICACIÓN" ))) -> NOTIFICACIÓN ELECTRÓNICA | F7: =IF( AND(AN7<>"SI",AW7<>"SI",BL7<>"SI",BC7="",BD7=""), "PENDIENTE NOTIFICACIÓN", IF(AN7="SI", AO7, IF(AW7="SI", AX7, IF(AND(BC7<>"",BD7<>""), BD7, IF(BL7="SI", BQ7, "PENDIENTE NOTIFICACIÓN" ))))) -> 46029 | G7: =IF( OR( C7="", F7="PENDIENTE NOTIFICACIÓN", NOT(ISNUMBER(C7)), NOT(ISNUMBER(F7)), F7<C7 ), "", F7-C7 ) -> 0 | H7: =IF( L7="", "", IF( NETWORKDAYS(L7,IF(M7<>"",M7,TODAY()),FESTIVOS_CO!A:A)>2, "VENCIDO", IF( NETWORKDAYS(L7,IF(M7<>"",M7,TODAY()),FESTIVOS_CO!A:A)=2, "ALERTA", "A TIEMPO" ))) -> A TIEMPO | J7: 20264200000097CS | K7: 46029 | L7: 46029 | M7: 46029 | Q7: SI | U7: 420 GRUPO DE ESQUEMAS AUTORPROTECCIÓN | V7: 2025018608CE | W7: 45974 | Y7: 805003895-9 | Z7: PERSONERÍA SANTIAGO DE CALI | AC7: despacho@personeriacali.gov.co | AD7: BLINDAJE Y USO DE VEHÍCULO. | AE7: OJZ781 | AF7: AUTORIZA | AG7: SI | AI7: =IF(AL7="NO", "REALIZAR CITACIÓN", IF(AND(AJ7="SI",AL7<>"SI",AL7<>"NO"), "PENDIENTE ENTREGA NOTIFICACIÓN ELECTRÓNICA", IF(AND(AJ7="SI",AL7="SI",AN7="SI"), "NOTIFICACIÓN ELECTRÓNICA EFECTIVA", IF(AND(AJ7="",AK7="",AL7="",AM7="",AN7="",AO7=""), "PENDIENTE NOTIFICACIÓN ELECTRÓNICA", IF(AJ7="NO", "NO PROCEDE NOTIFICACIÓN ELECTRÓNICA", IF(AND(AJ7="SI",F7=""), "PENDIENTE ENVÍO NOTIFICACIÓN ELECTRÓNICA", IF(AND(AJ7="SI",TODAY()-F7<=5), "EN ESPERA DE NOTIFICACIÓN ELECTRÓNICA (5 DÍAS)", "NOTIFICACIÓN ELECTRÓNICA NO EFECTIVA" ))))))) -> NOTIFICACIÓN ELECTRÓNICA EFECTIVA | AJ7: SI | AK7: 46029 | AL7: SI | AM7: =IF(AK7="","",WORKDAY(AK7,5,FESTIVOS_CO!A:A)) -> 46037 | AN7: SI | AO7: 46029 | AP7: =IF( ISNUMBER(SEARCH("PENDIENTE",UPPER(AI7))), "NO APLICA", IF( COUNTBLANK(AJ7:AL7)=COUNTA(AJ7:AL7), "NO APLICA", IF( UPPER(AN7)="SI", "NO PROCEDE CITACION", "NOTIFICAR POR CITACION" ) ) ) -> NO PROCEDE CITACION | AY7: =IF(AU7="","",WORKDAY(AU7,5,FESTIVOS_CO!A:A)) | AZ7: =IF( AND(AO7="",AX7="",BQ7="",BC7<>"",BD7<>""), "NOTIFICADO POR CONDUCTA CONCLUYENTE", IF(AP7="NO PROCEDE CITACION", "NO PROCEDE", IF(AP7="NO APLICA", "NO APLICA", IF(AW7="NO", "HACER AVISO", IF(AQ7="", "PENDIENTE GESTIONAR CITACIÓN", IF(AS7="", "PENDIENTE FIRMA", IF(AR7="", "PENDIENTE REVISIÓN", IF(AT7="", "PENDIENTE RADICAR", "CITACIÓN COMPLETA EN ESPERA PRESENTACION PERSONAL" )))))))) -> NO PROCEDE | BA7: =IF(AX7="","",WORKDAY(AX7,5,FESTIVOS_CO!A:A)) | BE7: =IF(AZ7="NO PROCEDE", "NO PROCEDE",IF(OR(AZ7="HACER AVISO",BB7="NO"), "HACER AVISO", "NO APLICA")) -> NO PROCEDE | BM7: =IF(BJ7="","",WORKDAY(BJ7,5,FESTIVOS_CO!A:A)) | BN7: =IF( AND(AZ7="CITACIÓN COMPLETA EN ESPERA DE NOTIFICACION PERSONAL",BB7="NO"), "PENDIENTE HACER AVISO", IF(AND(BC7<>"",BD7<>""), "NOTIFICACIÓN PERSONAL COMPLETA", IF(BR7="SI", "NOTIFICACIÓN POR AVISO TERMINADA", IF(BE7="NO PROCEDE", "NO PROCEDE", IF(BF7="", "PENDIENTE HACER AVISO", IF(BG7="", "PENDIENTE REVISIÓN AVISO", IF(BH7="", "PENDIENTE FIRMA AVISO", IF(BI7="", "PENDIENTE RADICAR AVISO", IF(BL7="", "EN TRÁMITE DE ENTREGA AVISO", IF(BL7="NO", "PUBLICAR AVISO CARTELERA", IF(BL7="SI", "VERIFICAR SI PROCEDE RECURSO", IF(BE7="HACER AVISO", "HACER AVISO", "NO APLICA" )))))))))))) -> NO PROCEDE | BO7: =IF(BN7="NOTIFICACIÓN PERSONAL COMPLETA", "NO PROCEDE AVISO", IF(BR7="SI", "NOTIFICACION POR AVISO TERMINADA", IF(BE7="NO PROCEDE", "NO PROCEDE AVISO", IF(BN7="VERIFICAR SI PROCEDE RECURSO", "NOTIFICACIÓN POR AVISO COMPLETA", "EN TRÁMITE NOTIF. POR AVISO" )))) -> NO PROCEDE AVISO | BQ7: =IF(BP7="","",WORKDAY(BP7,5,FESTIVOS_CO!A:A)) | BS7: SI | BT7: RECURSO DE REPOSICION | BU7: =VLOOKUP(BT7,Hoja2!$C:$D,2,0) -> 10 | BV7: =IF( AND(AO7="",BD7="",BQ7=""), "EN PROCESO NOTIFICACION / COMUNICACION", IF( BT7="", "NO APLICA", IF( BU7=60, IF(AO7<>"",AO7,IF(BD7<>"",BD7,BQ7))+60, WORKDAY( IF(AO7<>"",AO7,IF(BD7<>"",BD7,BQ7)), BU7, FESTIVOS_CO!A:A ) ) )) -> 46044 | BW7: SI | BY7: 46052 | CA7: =IF(BW7<>"SI", "PENDIENTE EJECUTORIA", IF(AND(BX7="",BY7="",BZ7=""), "PENDIENTE HACER EJECUTORIA", IF(AND(BX7<>"",BY7="",BZ7=""), "PENDIENTE REVISION EJECUTORIA", IF(AND(BX7<>"",BY7<>"",BZ7=""), "PENDIENTE FIRMA EJECUTORIA", "PROCESO EJECUTORIA TERMINADO" )))) -> PROCESO EJECUTORIA TERMINADO | CB7: =IF(CC7="NO", "NO APLICA", IF(CC7="SI", IF(COUNTBLANK(CC7:CH7)>0, "PENDIENTE MEMORANDO", "MEMORANDOS ENVIADOS" ), IF(CI7="NO", "NO APLICA", IF(CI7="SI", IF(COUNTBLANK(CJ7:CN7)>0, "PENDIENTES OFICIOS", "OFICIOS ENVIADOS" ), "" ) ) ))
A8: =IF( AND(Q8="NO",S8<>"SI"), "TERMINADO PRODUCTO NO CONFORME", IF( AND( COUNTBLANK(AJ8:AO8)=COLUMNS(AJ8:AO8), COUNTBLANK(AQ8:AY8)=COLUMNS(AQ8:AY8), COUNTBLANK(BC8:BD8)=COLUMNS(BC8:BD8), COUNTBLANK(BF8:BM8)=COLUMNS(BF8:BM8), COUNTBLANK(BP8:BR8)=COLUMNS(BP8:BR8) ), "SIN GESTIÓN", IF( AND(BC8<>"",BD8<>"",AO8="",AX8="",BQ8=""), "NOTIFICADO POR CONDUCTA CONCLUYENTE", IF( AI8="NOTIFICACIÓN ELECTRÓNICA EFECTIVA", CA8, IF( OR( AI8="NO PROCEDE NOTIFICACIÓN ELECTRÓNICA", AI8="REALIZAR CITACIÓN", AI8="NOTIFICACIÓN ELECTRÓNICA NO EFECTIVA" ), IF( AZ8="HACER AVISO", IF( OR( BN8="NOTIFICACIÓN POR AVISO TERMINADA", BN8="NOTIFICACIÓN PERSONAL COMPLETA" ), CA8, BN8 ), AZ8 ), AI8 ) ) ) )) -> CITACIÓN COMPLETA EN ESPERA PRESENTACION PERSONAL | B8: Samuel Flórez | C8: 46031 | D8: 46031 | E8: =IF(AN8="SI", "NOTIFICACIÓN ELECTRÓNICA", IF(AND(BC8<>"",BD8<>""), "NOTIFICACIÓN PERSONAL", IF(BL8="SI", "NOTIFICACIÓN POR AVISO", "PENDIENTE NOTIFICACIÓN" ))) -> PENDIENTE NOTIFICACIÓN | F8: =IF( AND(AN8<>"SI",AW8<>"SI",BL8<>"SI",BC8="",BD8=""), "PENDIENTE NOTIFICACIÓN", IF(AN8="SI", AO8, IF(AW8="SI", AX8, IF(AND(BC8<>"",BD8<>""), BD8, IF(BL8="SI", BQ8, "PENDIENTE NOTIFICACIÓN" ))))) -> 46041 | G8: =IF( OR( C8="", F8="PENDIENTE NOTIFICACIÓN", NOT(ISNUMBER(C8)), NOT(ISNUMBER(F8)), F8<C8 ), "", F8-C8 ) -> 10 | H8: =IF( L8="", "", IF( NETWORKDAYS(L8,IF(M8<>"",M8,TODAY()),FESTIVOS_CO!A:A)>2, "VENCIDO", IF( NETWORKDAYS(L8,IF(M8<>"",M8,TODAY()),FESTIVOS_CO!A:A)=2, "ALERTA", "A TIEMPO" ))) -> ALERTA | I8: P.TE HACER AVISO | J8: 20252300108347CS | K8: 46009 | L8: 46030 | M8: 46031 | Q8: SI | U8: 230 GRUPO DE SANCIONES | V8: 848/2024/SAN | W8: NO APLICA | Y8: 900023731 | Z8: AVALLTECH S.A. - MARTHA LUCY ARBOLEDA LOPEZ | AA8: CLL 25 N # 5 N 57 OFICINA 323 | AB8: CALI | AC8: asistente3@herreraasociados.co | AD8: APERTURA SANCIONATORIA / FORMULACIÓN DE CARGOS | AE8: NO APLICA | AF8: APERTURA | AG8: NO | AI8: =IF(AL8="NO", "REALIZAR CITACIÓN", IF(AND(AJ8="SI",AL8<>"SI",AL8<>"NO"), "PENDIENTE ENTREGA NOTIFICACIÓN ELECTRÓNICA", IF(AND(AJ8="SI",AL8="SI",AN8="SI"), "NOTIFICACIÓN ELECTRÓNICA EFECTIVA", IF(AND(AJ8="",AK8="",AL8="",AM8="",AN8="",AO8=""), "PENDIENTE NOTIFICACIÓN ELECTRÓNICA", IF(AJ8="NO", "NO PROCEDE NOTIFICACIÓN ELECTRÓNICA", IF(AND(AJ8="SI",F8=""), "PENDIENTE ENVÍO NOTIFICACIÓN ELECTRÓNICA", IF(AND(AJ8="SI",TODAY()-F8<=5), "EN ESPERA DE NOTIFICACIÓN ELECTRÓNICA (5 DÍAS)", "NOTIFICACIÓN ELECTRÓNICA NO EFECTIVA" ))))))) -> NO PROCEDE NOTIFICACIÓN ELECTRÓNICA | AJ8: NO | AM8: =IF(AK8="","",WORKDAY(AK8,5,FESTIVOS_CO!A:A)) | AP8: =IF( ISNUMBER(SEARCH("PENDIENTE",UPPER(AI8))), "NO APLICA", IF( COUNTBLANK(AJ8:AL8)=COUNTA(AJ8:AL8), "NO APLICA", IF( UPPER(AN8)="SI", "NO PROCEDE CITACION", "NOTIFICAR POR CITACION" ) ) ) -> NOTIFICAR POR CITACION | AQ8: FÍSICO | AR8: 46031 | AS8: 46036 | AT8: 20263700001521CS | AU8: 46036 | AV8: RA551729653CO | AW8: SI | AX8: 46041 | AY8: =IF(AU8="","",WORKDAY(AU8,5,FESTIVOS_CO!A:A)) -> 46043 | AZ8: =IF( AND(AO8="",AX8="",BQ8="",BC8<>"",BD8<>""), "NOTIFICADO POR CONDUCTA CONCLUYENTE", IF(AP8="NO PROCEDE CITACION", "NO PROCEDE", IF(AP8="NO APLICA", "NO APLICA", IF(AW8="NO", "HACER AVISO", IF(AQ8="", "PENDIENTE GESTIONAR CITACIÓN", IF(AS8="", "PENDIENTE FIRMA", IF(AR8="", "PENDIENTE REVISIÓN", IF(AT8="", "PENDIENTE RADICAR", "CITACIÓN COMPLETA EN ESPERA PRESENTACION PERSONAL" )))))))) -> CITACIÓN COMPLETA EN ESPERA PRESENTACION PERSONAL | BA8: =IF(AX8="","",WORKDAY(AX8,5,FESTIVOS_CO!A:A)) -> 46048 | BE8: =IF(AZ8="NO PROCEDE", "NO PROCEDE",IF(OR(AZ8="HACER AVISO",BB8="NO"), "HACER AVISO", "NO APLICA")) -> NO APLICA | BM8: =IF(BJ8="","",WORKDAY(BJ8,5,FESTIVOS_CO!A:A)) | BN8: =IF( AND(AZ8="CITACIÓN COMPLETA EN ESPERA DE NOTIFICACION PERSONAL",BB8="NO"), "PENDIENTE HACER AVISO", IF(AND(BC8<>"",BD8<>""), "NOTIFICACIÓN PERSONAL COMPLETA", IF(BR8="SI", "NOTIFICACIÓN POR AVISO TERMINADA", IF(BE8="NO PROCEDE", "NO PROCEDE", IF(BF8="", "PENDIENTE HACER AVISO", IF(BG8="", "PENDIENTE REVISIÓN AVISO", IF(BH8="", "PENDIENTE FIRMA AVISO", IF(BI8="", "PENDIENTE RADICAR AVISO", IF(BL8="", "EN TRÁMITE DE ENTREGA AVISO", IF(BL8="NO", "PUBLICAR AVISO CARTELERA", IF(BL8="SI", "VERIFICAR SI PROCEDE RECURSO", IF(BE8="HACER AVISO", "HACER AVISO", "NO APLICA" )))))))))))) -> PENDIENTE HACER AVISO | BO8: =IF(BN8="NOTIFICACIÓN PERSONAL COMPLETA", "NO PROCEDE AVISO", IF(BR8="SI", "NOTIFICACION POR AVISO TERMINADA", IF(BE8="NO PROCEDE", "NO PROCEDE AVISO", IF(BN8="VERIFICAR SI PROCEDE RECURSO", "NOTIFICACIÓN POR AVISO COMPLETA", "EN TRÁMITE NOTIF. POR AVISO" )))) -> EN TRÁMITE NOTIF. POR AVISO | BQ8: =IF(BP8="","",WORKDAY(BP8,5,FESTIVOS_CO!A:A)) | BU8: =VLOOKUP(BT8,Hoja2!$C:$D,2,0) -> #N/A | BV8: =IF( AND(AO8="",BD8="",BQ8=""), "EN PROCESO NOTIFICACION / COMUNICACION", IF( BT8="", "NO APLICA", IF( BU8=60, IF(AO8<>"",AO8,IF(BD8<>"",BD8,BQ8))+60, WORKDAY( IF(AO8<>"",AO8,IF(BD8<>"",BD8,BQ8)), BU8, FESTIVOS_CO!A:A ) ) )) -> EN PROCESO NOTIFICACION / COMUNICACION | CA8: =IF(BW8<>"SI", "PENDIENTE EJECUTORIA", IF(AND(BX8="",BY8="",BZ8=""), "PENDIENTE HACER EJECUTORIA", IF(AND(BX8<>"",BY8="",BZ8=""), "PENDIENTE REVISION EJECUTORIA", IF(AND(BX8<>"",BY8<>"",BZ8=""), "PENDIENTE FIRMA EJECUTORIA", "PROCESO EJECUTORIA TERMINADO" )))) -> PENDIENTE EJECUTORIA | CB8: =IF(CC8="NO", "NO APLICA", IF(CC8="SI", IF(COUNTBLANK(CC8:CH8)>0, "PENDIENTE MEMORANDO", "MEMORANDOS ENVIADOS" ), IF(CI8="NO", "NO APLICA", IF(CI8="SI", IF(COUNTBLANK(CJ8:CN8)>0, "PENDIENTES OFICIOS", "OFICIOS ENVIADOS" ), "" ) ) ))
